Workbook

Sheet 1
H2: Հավելված N1
H3: ՀՀ կառավարության 2026թվականի
H4: ___________ ___-ի N _______ որոշման
A5: «ՀԱՅԱՍՏԱՆԻ ՀԱՆՐԱՊԵՏՈՒԹՅԱՆ 2026 ԹՎԱԿԱՆԻ ՊԵՏԱԿԱՆ ԲՅՈՒՋԵԻ ՄԱՍԻՆ» ՀՀ ՕՐԵՆՔԻ N 1 ՀԱՎԵԼՎԱԾԻ N 2 ԱՂՅՈՒՍԱԿՈՒՄ ՎԵՐԱԲԱՇԽՈՒՄԸ ԵՎ ՀԱՅԱՍՏԱՆԻ ՀԱՆՐԱՊԵՏՈՒԹՅԱՆ ԿԱՌԱՎԱՐՈՒԹՅԱՆ 2025 ԹՎԱԿԱՆԻ ԴԵԿՏԵՄԲԵՐԻ 25-Ի N 1910-Ն ՈՐՈՇՄԱՆ N 5 ՀԱՎԵԼՎԱԾԻ N1 ԱՂՅՈՒՍԱԿՈՒՄ ԿԱՏԱՐՎՈՂ ՓՈՓՈԽՈՒԹՅՈՒՆՆԵՐԸ
G7: հազար դրամներով
A8: ԲԳԿ | B8: Ծրագրային դասիչը | D8: ԲԳԿ/Ծրագրի /միջոցառման անվանումը | E8: Ծրագրի նպատակը/Միջոցառման նկարագրությունը | F8: Վերջնական արդյունքի նկարագրությունը/Միջոցառման տեսակը | G8: Ցուցանիշների փոփոխությունը (ավելացումները նշված են դրական նշանով,իսկ նվազեցումները՝ փակագծերում )
B9: Ծրագիր | C9: Միջոցառում | G9: Ինն ամիս | H9: Տարի
A10: ԸՆԴԱՄԵՆԸ | G10: =+G11+G14 -> 0 | H10: =+H11+H14 -> 0
A11: ՀՀ արդարադատության նախարարություն | G11: =+G12 -> 18080 | H11: =+H12 -> 72320
B12: 1057 | D12: Արդարադատության ոլորտում քաղաքականության մշակում, ծրագրերի համակարգում, խորհրդատվության և մոնիտորինգի իրականացում | E12: Արդարադատության ոլորտում քաղաքականության, խորհրդատվության, մոնիտորինգի, գնման և աջակցության իրականացում | F12: Արդարադատության քաղաքականության իրագործմանն ուղղված ծրագրերի արդյունավետության բարելավում | G12: =+G13 -> 18080 | H12: =+H13 -> 72320
C13: 1057 - 11001 | D13: Արդարադատության ոլորտում քաղաքականության, խորհրդատվության, մոնիտորինգի, գնման և աջակցության իրականացում | E13: Ոլորտի քաղաքականության, խորհրդատվության, մոնիտորինգի, արդարադատության ծրագրերի համակարգման ծառայություններ | F13: Ծառայությունների մատուցում | G13: =+'3'!G22 -> 18080 | H13: =+'3'!H22 -> 72320
A14: ՀՀ բարձր տեխնոլոգիական արդյունաբերության նախարարություն | G14: =+G15 -> -18080 | H14: =+H15 -> -72320
B15: 1235 | D15: Թվային փոխակերպման գործընթացի իրականացում | E15: Պետական մարմինների կողմից իրականացվող թվային փոխակերպման միջոցառումների ֆինանսավորում | F15: Թվային ծառայությունների և համակարգերի ներդրում | G15: =+G16 -> -18080 | H15: =+H16 -> -72320
C16: 1235 - 31001 | D16: Միասնական թվային միջավայրի ձևավորում | E16: Թվային փոխակերպման գործընթացի շրջանակներում թվայնացման համակարգերի ներդրում և կայքերի արդիականացում | F16: Պետական մարմինների կողմից օգտագործվող ոչ ֆինանսական ակտիվների հետ գործառնություններ | G16: =+'3'!G39 -> -18080 | H16: =+'3'!H39 -> -72320

Sheet 2
H1: Հավելված № 2
H2: ՀՀ կառավարության 2026 թվականի ----------
H3: № ---------- որոշման
A6: ՀԱՅԱՍՏԱՆԻ ՀԱՆՐԱՊԵՏՈՒԹՅԱՆ 2026 ԹՎԱԿԱՆԻ ՊԵՏԱԿԱՆ ԲՅՈՒՋԵԻ ՄԱՍԻՆ ՕՐԵՆՔԻ N 1 ՀԱՎԵԼՎԱԾԻ N 3 ԱՂՅՈՒՍԱԿՈՒՄ ԿԱՏԱՐՎՈՂ ՓՈՓՈԽՈՒԹՅՈՒՆԸ
G7: հազար դրամ
A8: Ծրագրային դասիչը | C8: Բյուջետային գլխավոր կարգադրիչների, ծրագրերի և միջոցառումների և ուղղությունների անվանումները | D8: Ընդամենը | E8: Ցուցանիշների փոփոխությունը (նվազեցումները նշված են փակագծերում )
A10: Ծրագիր | B10: Միջոցառում | E10: Կառուցման աշխատանքներ | F10: Վերակառուցման, վերանորոգման և վերականգնման աշխատանքներ | G10: Նախագծահե- տազոտական, գեոդեզիա- քարտեզագրա- կան աշխա- տանքներ | H10: Ոչ ֆինանսական այլ ակտիվների ձեռքբերում
C11: Ընդամենը | D11: =+D13 -> -72320 | E11: =+E13 -> 0 | F11: =+F13 -> 0 | G11: =+G13 -> 0 | H11: =+H13 -> -72320
C12: այդ թվում`
C13: ՀՀ բարձր տեխնոլոգիական արդյունաբերության նախարարություն | D13: =+D15 -> -72320 | E13: =+E15 -> 0 | F13: =+F15 -> 0 | G13: =+G15 -> 0 | H13: =+H15 -> -72320
C14: այդ թվում՝
A15: 1235 | B15: 31001 | C15: Միասնական թվային միջավայրի ձևավորում | D15: =SUM(F15:H15) -> -72320 | F15: 0 | H15: =+'3'!H39 -> -72320

Sheet 3
H1: Հավելված N 3
H2: ՀՀ կառավարության 2026թվականի
H3: ___________ ___-ի N _______ որոշման
A6: ՀԱՅԱՍՏԱՆԻ ՀԱՆՐԱՊԵՏՈՒԹՅԱՆ ԿԱՌԱՎԱՐՈՒԹՅԱՆ 2025 ԹՎԱԿԱՆԻ ԴԵԿՏԵՄԲԵՐԻ 25-Ի N 1910-Ն ՈՐՈՇՄԱՆ N 3 և N 4 ՀԱՎԵԼՎԱԾՆԵՐՈՒՄ ԿԱՏԱՐՎՈՂ ՓՈՓՈԽՈՒԹՅՈՒՆՆԵՐԸ
H7: հազար դրամներով
A8: Գործառական դասիչը | D8: Ծրագրային դասիչը | F8: Բյուջետային ծախսերի գործառական դասակարգման բաժինների, խմբերի և դասերի, բյուջետային ծրագրերի, միջոցառումների բյուջետային հատկացումների գլխավոր կարգադրիչների անվանումները | G8: Ցուցանիշների փոփոխությունը (ավելացումները նշված են դրական նշանով,իսկ նվազեցումները՝ փակագծերում)
A9: Բաժին | B9: Խումբ | C9: Դաս | D9: Ծրագիր | E9: Միջոցառում | G9: Ինն ամիս | H9: Տարի
F10: ԸՆԴԱՄԵՆԸ | G10: =G12 -> 0 | H10: =H12 -> 0
F11: այդ թվում`
A12: 01 | F12: ԸՆԴՀԱՆՈՒՐ ԲՆՈՒՅԹԻ ՀԱՆՐԱՅԻՆ ԾԱՌԱՅՈՒԹՅՈՒՆՆԵՐ | G12: =G14+G31 -> 0 | H12: =H14+H31 -> 0
F13: այդ թվում`
B14: 01 | F14: Օրենսդիր և գործադիր մարմիններ, պետական կառավարում, ֆինանսական և հարկաբյուջետային հարաբերություններ, արտաքին հարաբերություններ | G14: =G16 -> 18080 | H14: =H16 -> 72320
F15: այդ թվում`
C16: 01 | F16: Օրենսդիր և գործադիր մարմիններ, պետական կառավարում | G16: =G20 -> 18080 | H16: =H20 -> 72320
F17: այդ թվում`
F18: ՀՀ արդարադատության նախարարություն | G18: =G20 -> 18080 | H18: =H20 -> 72320
F19: այդ թվում`
D20: 1057 | F20: Արդարադատության ոլորտում քաղաքականության մշակում, ծրագրերի համակարգում, խորհրդատվության և մոնիտորինգի իրականացում | G20: =G22 -> 18080 | H20: =H22 -> 72320
F21: այդ թվում`
E22: 11001 | F22: Արդարադատության ոլորտում քաղաքականության, խորհրդատվության, մոնիտորինգի, գնման և աջակցության իրականացում | G22: =G24 -> 18080 | H22: =H24 -> 72320
F23: այդ թվում` ըստ կատարողների
F24: ՀՀ արդարադատության նախարարություն | G24: =G26 -> 18080 | H24: =H26 -> 72320
F25: այդ թվում` բյուջետային ծախսերի տնտեսագիտական դասակարգման հոդվածներ
F26: ԸՆԴԱՄԵՆԸ ԾԱԽՍԵՐ | G26: =G27 -> 18080 | H26: =H27 -> 72320
F27: ԸՆԹԱՑԻԿ ԾԱԽՍԵՐ | G27: =G28 -> 18080 | H27: =H28 -> 72320
F28: ԾԱՌԱՅՈՒԹՅՈՒՆՆԵՐԻ ԵՎ ԱՊՐԱՆՔՆԵՐԻ ՁԵՌՔԲԵՐՈՒՄ | G28: =+G29 -> 18080 | H28: =+H29 -> 72320
F29: Պայմանագրային այլ ծառայությունների ձեռքբերում | G29: =+G30 -> 18080 | H29: =+H30 -> 72320
F30: - Համակարգչային ծառայություններ | G30: 18080 | H30: 72320
B31: 03 | F31: Ընդհանուր բնույթի ծառայություններ | G31: =G33 -> -18080 | H31: =H33 -> -72320
F32: այդ թվում`
C33: 02 | F33: Ծրագրման և վիճակագրական ընդհանուր ծառայություններ | G33: =G37 -> -18080 | H33: =H37 -> -72320
F34: այդ թվում`
F35: ՀՀ բարձր տեխնոլոգիական արդյունաբերության նախարարություն | G35: =G37 -> -18080 | H35: =H37 -> -72320
F36: այդ թվում`
D37: 1235 | F37: Թվային փոխակերպման գործընթացի իրականացում | G37: =G39 -> -18080 | H37: =H39 -> -72320
F38: այդ թվում`
E39: 31001 | F39: Միասնական թվային միջավայրի ձևավորում | G39: =G41 -> -18080 | H39: =H41 -> -72320
F40: այդ թվում` ըստ կատարողների
F41: ՀՀ կառավարություն | G41: =G43 -> -18080 | H41: =H43 -> -72320
F42: այդ թվում` բյուջետային ծախսերի տնտեսագիտական դասակարգման հոդվածներ
...

Sheet 4
E1: Հավելված № 4
C2: ՀՀ կառավարության 2026թվականի
C3: ______________ ի ___Ն որոշման
A5: ՀԱՅԱՍՏԱՆԻ ՀԱՆՐԱՊԵՏՈՒԹՅԱՆ ԿԱՌԱՎԱՐՈՒԹՅԱՆ 2025 ԹՎԱԿԱՆԻ ԴԵԿՏԵՄԲԵՐԻ 25-Ի N 1910-Ն ՈՐՈՇՄԱՆ N5 ՀԱՎԵԼՎԱԾԻ N2 ԱՂՅՈՒՍԱԿՈՒՄ ԿԱՏԱՐՎՈՂ ՓՈՓՈԽՈՒԹՅՈՒՆԸ
E7: հազար դրամներով
A8: Ծրագրային դասիչ | C8: Բյուջետային գլխավոր կարգադրիչների, ծրագրերի, միջոցառումների, միջոցառումները կատարող պետական մարմինների և ուղղությունների անվանումները | D8: Ցուցանիշների փոփոխությունը (նվազեցումները նշված են փակագծերում)
A9: Ծրագիր | B9: Միջոց առում | D9: Ինն ամիս | E9: Տարի
C10: ԸՆԴԱՄԵՆԸ | D10: =+D12 -> -18080 | E10: =+E12 -> -72320
C11: այդ թվում՝
C12: ՀՀ բարձր տեխնոլոգիական արդյունաբերության նախարարություն | D12: =+D14 -> -18080 | E12: =+E14 -> -72320
C13: այդ թվում՝
A14: 1235 | B14: 31001 | C14: Միասնական թվային միջավայրի ձևավորում | D14: =+D16 -> -18080 | E14: =+E16 -> -72320
C15: այդ թվում՝ ըստ կատարողների
C16: ՀՀ կառավարություն | D16: =+'3'!G37 -> -18080 | E16: =+'3'!H37 -> -72320

Sheet 5
K1: Հավելված N 5
K2: ՀՀ կառավարության 2026թվականի
K3: ___________ ___-ի N _______ որոշման
A5: ՀԱՅԱՍՏԱՆԻ ՀԱՆՐԱՊԵՏՈՒԹՅԱՆ ԿԱՌԱՎԱՐՈՒԹՅԱՆ 2025 ԹՎԱԿԱՆԻ ԴԵԿՏԵՄԲԵՐԻ 25-Ի ԹԻՎ 1910-Ն ՈՐՈՇՄԱՆ N 9 ՀԱՎԵԼՎԱԾՈՒՄ ԿԱՏԱՐՎՈՂ ՓՈՓՈԽՈՒԹՅՈՒՆՆԵՐԸ
K7: հազար դրամներով
A8: ԲԳԿ | B8: Ծրագիր | D8: Միջոցառում | H8: Իրականացնողը/ ակտիվն օգտագործողը/ շահառուի ընտրության չափորոշիչը | I8: Արդյունքային չափորոշիչը | J8: Ցուցանիշների փոփոխությունը (ավելացումները նշված են դրական նշանով,իսկ նվազեցումները՝ փակագծերում)
B9: Դասիչը | C9: Անվա-նումը | D9: Դասիչը | E9: Անվա-նումը | F9: Նկարագրու-թյունը | G9: Տեսակը | J9: Ինն ամիս | K9: Տարի
A10: ԸՆԴԱՄԵՆԸ | J10: =+J11+J17 -> 0 | K10: =+K11+K17 -> 0
A11: ՀՀ արդարադատության նախարարություն | J11: =+J12 -> 18080 | K11: =+K12 -> 72320
B12: 1057 | C12: Արդարադատության ոլորտում քաղաքականության մշակում, ծրագրերի համակարգում, խորհրդատվության և մոնիտորինգի իրականացում | J12: =+J13 -> 18080 | K12: =+K13 -> 72320
D13: 1057 - 11001 | E13: Արդարադատության ոլորտում քաղաքականության, խորհրդատվության, մոնիտորինգի, գնման և աջակցության իրականացում | J13: =+'3'!G22 -> 18080 | K13: =+'3'!H22 -> 72320
F14: Ոլորտի քաղաքականության, խորհրդատվության, մոնիտորինգի, արդարադատության ծրագրերի համակարգման ծառայություններ
G15: Ծառայությունների մատուցում
H16: Ծառայությունը մատուցողի անվանումը` ՀՀ արդարադատության նախարարություն
A17: ՀՀ բարձր տեխնոլոգիական արդյունաբերության նախարարություն | J17: =+J18 -> -18080 | K17: =+K18 -> -72320
B18: 1235 | C18: Թվային փոխակերպման գործընթացի իրականացում | J18: =+J19 -> -18080 | K18: =+K19 -> -72320
D19: 1235-31001 | E19: Միասնական թվային միջավայրի ձևավորում | J19: =+'3'!G39 -> -18080 | K19: =+'3'!H39 -> -72320
F20: Թվային փոխակերպման գործընթացի շրջանակներում թվայնացման համակարգերի ներդրում և կայքերի արդիականացում
G21: Պետական մարմինների կողմից օգտագործվող ոչ ֆինանսական ակտիվների հետ գործառնություններ
H22: Ակտիվն օգտագործող կազմակերպության անվանումը` Հանրային իշխանության մարմիններ

Sheet 6
K1: Հավելված N 6
K2: ՀՀ կառավարության 2026թվականի
K3: ___________ ___-ի N _______ որոշման
A5: ՀԱՅԱՍՏԱՆԻ ՀԱՆՐԱՊԵՏՈՒԹՅԱՆ ԿԱՌԱՎԱՐՈՒԹՅԱՆ 2025 ԹՎԱԿԱՆԻ ԴԵԿՏԵՄԲԵՐԻ 25-Ի ԹԻՎ 1910-Ն ՈՐՈՇՄԱՆ N 9․1 ՀԱՎԵԼՎԱԾՈՒՄ ԿԱՏԱՐՎՈՂ ՓՈՓՈԽՈՒԹՅՈՒՆՆԵՐԸ
K7: հազար դրամներով
A8: ԲՍԿ | B8: Ծրագիր | D8: Միջոցառում | H8: Իրականացնողը/ ակտիվն օգտագործողը/ շահառուի ընտրության չափորոշիչը | I8: Արդյունքային չափորոշիչը | J8: Ցուցանիշների փոփոխությունը (ավելացումները նշված են դրական նշանով,իսկ նվազեցումները՝ փակագծերում)
B9: Դասիչը | C9: Անվանումը | D9: Դասիչը | E9: Անվանումը | F9: Նկարագրությունը | G9: Տեսակը | J9: Ինն ամիս | K9: Տարի
A10: ԸՆԴԱՄԵՆԸ
A11: ՀՀ արդարադատության նախարարություն | J11: =+J12 -> 18080 | K11: =+K12 -> 72320
B12: 1057 | C12: Արդարադատության ոլորտում քաղաքականության մշակում, ծրագրերի համակարգում, խորհրդատվության և մոնիտորինգի իրականացում | J12: =+J13 -> 18080 | K12: =+K13 -> 72320
D13: 1057 - 11001 | E13: Արդարադատության ոլորտում քաղաքականության, խորհրդատվության, մոնիտորինգի, գնման և աջակցության իրականացում | J13: =+'3'!G22 -> 18080 | K13: =+'3'!H22 -> 72320
F14: Ոլորտի քաղաքականության, խորհրդատվության, մոնիտորինգի, արդարադատության ծրագրերի համակարգման ծառայություններ
G15: Ծառայությունների մատուցում
H16: Ծառայությունը մատուցողի անվանումը` ՀՀ արդարադատության նախարարություն
A17: ՀՀ կառավարություն | J17: =+J18 -> -18080 | K17: =+K18 -> -72320
B18: 1235 | C18: Թվային փոխակերպման գործընթացի իրականացում | J18: =+J19 -> -18080 | K18: =+K19 -> -72320
D19: 1235-31001 | E19: Միասնական թվային միջավայրի ձևավորում | J19: =+'3'!G39 -> -18080 | K19: =+'3'!H39 -> -72320
F20: Թվային փոխակերպման գործընթացի շրջանակներում թվայնացման համակարգերի ներդրում և կայքերի արդիականացում
G21: Պետական մարմինների կողմից օգտագործվող ոչ ֆինանսական ակտիվների հետ գործառնություններ
H22: Ակտիվն օգտագործող կազմակերպության անվանումը` Հանրային իշխանության մարմիններ

Sheet 7
E1: Հավելված N 7
E2: ՀՀ կառավարության 2026 թվականի
E3: ———————— N -Ն որոշման
A5: ՀԱՅԱՍՏԱՆԻ ՀԱՆՐԱՊԵՏՈՒԹՅԱՆ ԿԱՌԱՎԱՐՈՒԹՅԱՆ 2025ԹՎԱԿԱՆԻ ԴԵԿՏԵՄԲԵՐԻ 25-Ի N 1910-Ն ՈՐՈՇՄԱՆ N 10 ՀԱՎԵԼՎԱԾԻ ՑՈՒՑԱՆԻՇՆԵՐՈՒՄ ԿԱՏԱՐՎՈՂ ԼՐԱՑՈՒՄԸ
A7: Կոդը | B7: Անվանումը | C7: Գնման ձևը | D7: Չափի միավորը | E7: միավորի գինը | F7: Ցուցանիշների փոփոխությունը (ավելացումները նշված են դրական նշանով)
F8: քանակը | G8: գումարը (հազար դրամով)
A9: 1 | B9: 2 | C9: 3 | D9: 4 | E9: 5 | F9: 6 | G9: 7
A10: ՀՀ արդարադատության նախարարություն | G10: =+G11 -> 72320
A11: Բաժին N 01 | B11: Խումբ N 01 | C11: Դաս N 01 | D11: Օրենսդիր և գործադիր մարմիններ, պետական կառավարում | G11: =+G12 -> 72320
A12: 1057 11001 | B12: Արդարադատության ոլորտում քաղաքականության, խորհրդատվության, մոնիտորինգի, գնման և աջակցության իրականացում | G12: =G13 -> 72320
B13: ՄԱՍ III. ԾԱՌԱՅՈՒԹՅՈՒՆՆԵՐ | G13: =SUM(G14:G14) -> 72320
A14: 72541300/503 | B14: ամպային ծառայություններ | C14: ԷԱՃ | D14: դրամ | E14: 72320000 | F14: 1 | G14: 72320
