Workbook
Name _tab10: #REF!
Name _tab10: #REF!
Name _tab11: #REF!
Name _tab11: #REF!
Name _tab12: #REF!
Name _tab12: #REF!
Name _tab13: #REF!
Name _tab13: #REF!
Name _tab14: #REF!
Name _tab14: #REF!
Name _tab15: #REF!
Name _tab15: #REF!
Name _tab16: #REF!
Name _tab16: #REF!
Name _tab17: #REF!
Name _tab17: #REF!
Name _tab18: #REF!
Name _tab18: #REF!
Name _tab19: #REF!
Name _tab19: #REF!
Name _tab20: #REF!
Name _tab20: #REF!
Name _tab21: #REF!
Name _tab21: #REF!
Name _tab22: #REF!
Name _tab22: #REF!
Name _tab23: #REF!
Name _tab23: #REF!
Name _tab24: #REF!
Name _tab24: #REF!
Name _tab5: #REF!
Name _tab5: #REF!
Name _tab6: #REF!
Name _tab6: #REF!
Name _tab7: #REF!
Name _tab7: #REF!
Name _tab8: #REF!
Name _tab8: #REF!
Name _tab9: #REF!
Name _tab9: #REF!
Name AgencyCode: #REF!
Name AgencyName: #REF!
Name åû: #REF!
Name davit: #REF!
Name Functional1: #REF!
Name ggg: #REF!
Name mas: #REF!
Name mass: #REF!
Name PANature: #REF!
Name par_count: #REF!,#REF!,#REF!,#REF!,#REF!,#REF!,#REF!,#REF!,#REF!,#REF!,#REF!,#REF!,#REF!,#REF!,#REF!
Name par_count: #REF!,#REF!,#REF!,#REF!,#REF!,#REF!,#REF!,#REF!,#REF!,#REF!,#REF!,#REF!,#REF!,#REF!,#REF!
Name par_qual: #REF!,#REF!,#REF!,#REF!,#REF!
Name par_qual: #REF!,#REF!,#REF!,#REF!,#REF!
Name par_time: #REF!,#REF!,#REF!,#REF!
Name par_time: #REF!,#REF!,#REF!,#REF!
Name par2.12s: #REF!
Name par2.12s: #REF!
Name par2.4s: #REF!,#REF!,#REF!,#REF!,#REF!,#REF!,#REF!,#REF!,#REF!,#REF!,#REF!,#REF!,#REF!,#REF!,#REF!,#REF!
Name par2.4s: #REF!,#REF!,#REF!,#REF!,#REF!,#REF!,#REF!,#REF!,#REF!,#REF!,#REF!,#REF!,#REF!,#REF!,#REF!,#REF!
Name par2.5s: #REF!,#REF!

Sheet 1
D1: Հավելված N 1
B2: ՀՀ կառավարության 2026 թվականի
D3: N ------------ -Ն որոշման
B5: ՀԱՅԱՍՏԱՆԻ ՀԱՆՐԱՊԵՏՈՒԹՅԱՆ ԿԱՌԱՎԱՐՈՒԹՅԱՆ 2025 ԹՎԱԿԱՆԻ ԴԵԿՏԵՄԲԵՐԻ 25-Ի N 1910-Ն ՈՐՈՇՄԱՆ N 1 ՀԱՎԵԼՎԱԾԻ N 1 ԱՂՅՈՒՍԱԿՈՒՄ ԿԱՏԱՐՎՈՂ ՓՈՓՈԽՈՒԹՅՈՒՆՆԵՐԸ
C7: հազար դրամներով
B8: Պետական բյուջեի դեֆիցիտի ֆինանսավորման աղբյուրներն ու դրանց տարրերի անվանումները | C8: Ցուցանիշների փոփոխությունը (ավելացումները նշված են դրական նշանով)
C9: Ինն ամիս | D9: Տարի
B10: ԸՆԴԱՄԵՆԸ | C10: =C12 -> 287140.6 | D10: 2.910383e-11
B11: այդ թվում՝
B12: Ա.Ներքին աղբյուրներ-ընդամենը | C12: =C14 -> 287140.6 | D12: 2.910383e-11
B13: այդ թվում՝
B14: 2. Ֆինանսական զուտ ակտիվներ | C14: =C16 -> 287140.6 | D14: 2.910383e-11
B15: այդ թվում՝
B16: 2.6. Այլ | C16: =C17 -> 287140.6 | D16: 2.910383e-11
B17: ժամանակավորապես ազատ միջոցներ | C17: ='2'!H12 -> 287140.6 | D17: 2.910383e-11
B21: ՀԱՅԱՍՏԱՆԻ ՀԱՆՐԱՊԵՏՈՒԹՅԱՆ
B22: ՎԱՐՉԱՊԵՏԻ ԱՇԽԱՏԱԿԱԶՄԻ ՂԵԿԱՎԱՐ | D22: Լ.ՄԱԿՈՒՆՑ

Sheet 2
I1: Հավելված N2
E2: ՀՀ կառավարության 2026 թվականի
I3: N ------------ -Ն որոշման
C4: «ՀԱՅԱՍՏԱՆԻ ՀԱՆՐԱՊԵՏՈՒԹՅԱՆ 2026 ԹՎԱԿԱՆԻ ՊԵՏԱԿԱՆ ԲՅՈՒՋԵԻ ՄԱՍԻՆ» ՕՐԵՆՔԻ N 1 ՀԱՎԵԼՎԱԾԻ N 2 ԱՂՅՈՒՍԱԿՈՒՄ ԿԱՏԱՐՎՈՂ ՎԵՐԱԲԱՇԽՈՒՄԸ ԵՎ ՀԱՅԱՍՏԱՆԻ ՀԱՆՐԱՊԵՏՈՒԹՅԱՆ ԿԱՌԱՎԱՐՈՒԹՅԱՆ 2025 ԹՎԱԿԱՆԻ ԴԵԿՏԵՄԲԵՐԻ 25-Ի N 1910-Ն ՈՐՈՇՄԱՆ N 5 ՀԱՎԵԼՎԱԾԻ N 1 ԱՂՅՈՒՍԱԿՈՒՄ ԿԱՏԱՐՎՈՂ ՓՈՓՈԽՈՒԹՅՈՒՆՆԵՐԸ ԵՎ ԼՐԱՑՈՒՄՆԵՐԸ
H8: հազար դրամներով
B9: ԲԳԿ | C9: Ծրագրային դասիչը | E9: ԲԳԿ/Ծրագրի /միջոցառման անվանումը | F9: Ծրագրի նպատակը/Միջոցառման նկարագրությունը | G9: Վերջնական արդյունքի նկարագրությունը/Միջոցառման տեսակը | H9: Ցուցանիշների փոփոխությունը (ավելացումները նշված են դրական նշանով, իսկ նվազեցումները` փակագծերում)
C10: Ծրագիր | D10: Միջոցառում | H10: Ինն ամիս | I10: Տարի
B11: ԸՆԴԱՄԵՆԸ | H11: =H12 -> 287140.6 | I11: 0
B12: ՀՀ տարածքային կառավարման և ենթակառուցվածքների նախարարություն | H12: 287140.6 | I12: =I13 -> 0
C13: 1212 | E13: Տարածքային զարգացում | F13: Տարածքային համաչափ զարգացման խթանում | G13: ՀՀ համայնքների կառավարման արդյունավետության բարձրացում և տնտեսական գործունեության խթանում | H13: =H14+H15 -> 287140.6 | I13: =I14+I15 -> 0
D14: 1212-12025 | E14: Մարզերում առաջնահերթ լուծում պահանջող հիմնախնդիրների լուծում | F14: Մարզերում առաջնահերթ լուծում պահանջող ծրագրերի իրականացում, որի արդյունքում լուծում կտրվի բնակչության և համայնքների սոցիալական նշանակություն ունեցող հիմնախնդիրներին | G14: Տրանսֆերտների տրամադրում | H14: ='3'!G23 -> 69667.9 | I14: ='3'!H23 -> 69667.9
D15: 1212 - 32001 | E15: ՀՀ մարզերում առաջնահերթ լուծում պահանջող անհետաձգելի ծրագրերի իրականացում | F15: ՀՀ մարզերում առաջնահերթ լուծում պահանջող անհետաձգելի ծրագրերի իրականացում, որի արդյունքում լուծում կտրվի մարզային ենթակայության կազմակերպությունների և համայնքային նշանակություն ունեցող հիմնախնդիրներին | G15: Այլ պետական կազմակերպությունների կողմից օգտագործվող ոչ ֆինանսական ակտիվների հետ գործառնություններ | H15: ='3'!G32 -> 217472.7 | I15: ='3'!H32 -> -69667.9
C19: ՀԱՅԱՍՏԱՆԻ ՀԱՆՐԱՊԵՏՈՒԹՅԱՆ
C20: ՎԱՐՉԱՊԵՏԻ ԱՇԽԱՏԱԿԱԶՄԻ
D21: ՂԵԿԱՎԱՐ ՝ Լ.ՄԱԿՈՒՆՑ

Sheet 3
H1: Հավելված N 3
F2: ՀՀ կառավարության 2026 թվականի
H3: N ------------ -Ն որոշման
A5: ՀԱՅԱՍՏԱՆԻ ՀԱՆՐԱՊԵՏՈՒԹՅԱՆ ԿԱՌԱՎԱՐՈՒԹՅԱՆ 2025 ԹՎԱԿԱՆԻ ԴԵԿՏԵՄԲԵՐԻ 25-Ի N 1910-Ն ՈՐՈՇՄԱՆ NN 3 ԵՎ 4 ՀԱՎԵԼՎԱԾՆԵՐՈՒՄ ԿԱՏԱՐՎՈՂ ՓՈՓՈԽՈՒԹՅՈՒՆՆԵՐԸ ԵՎ ԼՐԱՑՈՒՄՆԵՐԸ
H6: հազար դրամներով
A7: Գործառական դասիչը | D7: Ծրագրային դասիչը | F7: Բյուջետային ծախսերի գործառական դասակարգման բաժինների, խմբերի և դասերի, բյուջետային ծրագրերի միջոցառումների, բյուջետային հատկացումների գլխավոր կարգադրիչների անվանումները | G7: Ցուցանիշների փոփոխությունը (ավելացումները նշված են դրական նշանով, իսկ նվազեցումները` փակագծերում)
A8: Բաժին | B8: Խումբ | C8: Դաս | D8: Ծրագիր | E8: Միջոցառում | G8: Ինն ամիս | H8: Տարի
F9: ԸՆԴԱՄԵՆԸ ԾԱԽՍԵՐ | G9: =G11 -> 287140.6 | H9: =H11 -> 0
F10: այդ թվում`
F11: ՀՀ տարածքային կառավարման և ենթակառուցվածքների նախարարություն | G11: =G13 -> 287140.6 | H11: =H13 -> 0
F12: այդ թվում`
A13: 01 | F13: ԸՆԴՀԱՆՈՒՐ ԲՆՈՒՅԹԻ ՀԱՆՐԱՅԻՆ ԾԱՌԱՅՈՒԹՅՈՒՆՆԵՐ | G13: =G15 -> 287140.6 | H13: =H15 -> 0
F14: այդ թվում`
B15: 08 | F15: Կառավարության տարբեր մակարդակների միջև իրականացվող ընդհանուր բնույթի տրանսֆերտներ | G15: 287140.6 | H15: 0
F16: այդ թվում`
C17: 01 | F17: Կառավարության տարբեր մակարդակների միջև իրականացվող ընդհանուր բնույթի տրանսֆերտներ | G17: 287140.6 | H17: 0
F18: այդ թվում`
F19: ՀՀ տարածքային կառավարման և ենթակառուցվածքների նախարարություն | G19: 287140.6 | H19: 0
F20: այդ թվում`
D21: 1212 | F21: Տարածքային զարգացում | G21: 287140.6 | H21: 0
F22: այդ թվում`
E23: 12025 | F23: Մարզերում առաջնահերթ լուծում պահանջող հիմնախնդիրների լուծում | G23: 69667.9 | H23: 69667.9
F24: այդ թվում` ըստ կատարողների
F25: ՀՀ Շիրակի մարզպետի աշխատակազմ | G25: 69667.9 | H25: 69667.9
F26: այդ թվում` բյուջետային ծախսերի տնտեսագիտական դասակարգման հոդվածներ
F27: ԸՆԴԱՄԵՆԸ ԾԱԽՍԵՐ | G27: 69667.9 | H27: 69667.9
F28: ԸՆԹԱՑԻԿ ԾԱԽՍԵՐ | G28: 69667.9 | H28: 69667.9
F29: ԴՐԱՄԱՇՆՈՐՀՆԵՐ | G29: 69667.9 | H29: 69667.9
F30: Կապիտալ դրամաշնորհներ պետական հատվածի այլ մակարդակներին | G30: 69667.9 | H30: 69667.9
F31: - Կապիտալ սուբվենցիաներ համայնքներին | G31: 69667.9 | H31: 69667.9
E32: 32001 | F32: ՀՀ մարզերում առաջնահերթ լուծում պահանջող անհետաձգելի ծրագրերի իրականացում | G32: 217472.7 | H32: -69667.9
F33: այդ թվում` ըստ կատարողների
F34: ՀՀ կառավարություն | G34: 0 | H34: -287140.6
F35: այդ թվում` բյուջետային ծախսերի տնտեսագիտական դասակարգման հոդվածներ
F36: ԸՆԴԱՄԵՆԸ ԾԱԽՍԵՐ | G36: 0 | H36: -287140.6
F37: ՈՉ ՖԻՆԱՆՍԱԿԱՆ ԱԿՏԻՎՆԵՐԻ ԳԾՈՎ ԾԱԽՍԵՐ | G37: 0 | H37: -287140.6
F38: ՀԻՄՆԱԿԱՆ ՄԻՋՈՑՆԵՐ | G38: 0 | H38: -287140.6
F39: ՇԵՆՔԵՐ ԵՎ ՇԻՆՈՒԹՅՈՒՆՆԵՐ | G39: 0 | H39: -287140.6
F40: - Շենքերի և շինությունների կապիտալ վերանորոգում | G40: 0 | H40: -287140.6
F41: ՀՀ Լոռու մարզպետի աշխատակազմ | G41: 15142.5 | H41: 15142.5
F42: այդ թվում` բյուջետային ծախսերի տնտեսագիտական դասակարգման հոդվածներ
F43: ԸՆԴԱՄԵՆԸ ԾԱԽՍԵՐ | G43: 15142.5 | H43: 15142.5
F44: ՈՉ ՖԻՆԱՆՍԱԿԱՆ ԱԿՏԻՎՆԵՐԻ ԳԾՈՎ ԾԱԽՍԵՐ | G44: 15142.5 | H44: 15142.5
F45: ՀԻՄՆԱԿԱՆ ՄԻՋՈՑՆԵՐ | G45: 15142.5 | H45: 15142.5
F46: ՇԵՆՔԵՐ ԵՎ ՇԻՆՈՒԹՅՈՒՆՆԵՐ | G46: 15142.5 | H46: 15142.5
F47: - Շենքերի և շինությունների շինարարություն | G47: 7604 | H47: 7604
F48: - Շենքերի և շինությունների կապիտալ վերանորոգում | G48: 7538.5 | H48: 7538.5
F49: ՀՀ Սյունիքի մարզպետի աշխատակազմ | G49: 31985 | H49: 31985
F50: այդ թվում` բյուջետային ծախսերի տնտեսագիտական դասակարգման հոդվածներ
F51: ԸՆԴԱՄԵՆԸ ԾԱԽՍԵՐ | G51: 31985 | H51: 31985
F52: ՈՉ ՖԻՆԱՆՍԱԿԱՆ ԱԿՏԻՎՆԵՐԻ ԳԾՈՎ ԾԱԽՍԵՐ | G52: 31985 | H52: 31985
F53: ՀԻՄՆԱԿԱՆ ՄԻՋՈՑՆԵՐ | G53: 31985 | H53: 31985
F54: ՇԵՆՔԵՐ ԵՎ ՇԻՆՈՒԹՅՈՒՆՆԵՐ | G54: 31985 | H54: 31985
F55: - Շենքերի և շինությունների շինարարություն | G55: 31985 | H55: 31985
F56: ՀՀ Վայոց ձորի մարզպետի աշխատակազմ | G56: 437 | H56: 437
F57: այդ թվում` բյուջետային ծախսերի տնտեսագիտական դասակարգման հոդվածներ
F58: ԸՆԴԱՄԵՆԸ ԾԱԽՍԵՐ | G58: 437 | H58: 437
F59: ՈՉ ՖԻՆԱՆՍԱԿԱՆ ԱԿՏԻՎՆԵՐԻ ԳԾՈՎ ԾԱԽՍԵՐ | G59: 437 | H59: 437
F60: ՀԻՄՆԱԿԱՆ ՄԻՋՈՑՆԵՐ | G60: 437 | H60: 437
F61: ԱՅԼ ՀԻՄՆԱԿԱՆ ՄԻՋՈՑՆԵՐ | G61: 437 | H61: 437
F62: - Նախագծահետազոտական ծախսեր | G62: 437 | H62: 437
F63: ՀՀ Տավուշի մարզպետի աշխատակազմ | G63: 169908.2 | H63: 169908.2
F64: այդ թվում` բյուջետային ծախսերի տնտեսագիտական դասակարգման հոդվածներ
F65: ԸՆԴԱՄԵՆԸ ԾԱԽՍԵՐ | G65: 169908.2 | H65: 169908.2
F66: ՈՉ ՖԻՆԱՆՍԱԿԱՆ ԱԿՏԻՎՆԵՐԻ ԳԾՈՎ ԾԱԽՍԵՐ | G66: 169908.2 | H66: 169908.2
F67: ՀԻՄՆԱԿԱՆ ՄԻՋՈՑՆԵՐ | G67: 169908.2 | H67: 169908.2
F68: ՇԵՆՔԵՐ ԵՎ ՇԻՆՈՒԹՅՈՒՆՆԵՐ | G68: 169908.2 | H68: 169908.2
F69: - Շենքերի և շինությունների կապիտալ վերանորոգում | G69: 169908.2 | H69: 169908.2
B71: ՀԱՅԱՍՏԱՆԻ ՀԱՆՐԱՊԵՏՈՒԹՅԱՆ
B72: ՎԱՐՉԱՊԵՏԻ ԱՇԽԱՏԱԿԱԶՄԻ
C73: ՂԵԿԱՎԱՐ ՝ Ա. ՀԱՐՈՒԹՅՈՒՆՅԱՆ | F73: Լ.ՄԱԿՈՒՆՑ

Sheet 4
I1: Հավելված N 4
I2: ՀՀ կառավարության 2026 թվականի
I3: ______________ ի ___Ն որոշման
B5: «ՀԱՅԱՍՏԱՆԻ ՀԱՆՐԱՊԵՏՈՒԹՅԱՆ 2026 ԹՎԱԿԱՆԻ ՊԵՏԱԿԱՆ ԲՅՈՒՋԵԻ ՄԱՍԻՆ» ՕՐԵՆՔԻ N 1 ՀԱՎԵԼՎԱԾԻ N 3 ԱՂՅՈՒՍԱԿՈՒՄ ԿԱՏԱՐՎՈՂ ՓՈՓՈԽՈՒԹՅՈՒՆԸ ԵՎ ԼՐԱՑՈՒՄՆԵՐԸ
H6: հազար դրամներով
B7: Ծրագրային դասիչ | D7: Բյուջետային գլխավոր կարգադրիչների, ծրագրերի, միջոցառումների և ուղղությունների անվանումները | E7: Ցուցանիշների փոփոխությունը (ավելացումները նշված են դրական նշանով, իսկ նվազեցումները` փակագծերում)
E8: Ընդամենը, | F8: այդ թվում՝
B9: Ծրագիր | C9: Միջոցառում | F9: Կառուցման աշխատանքներ | G9: Վերակառուցման, վերանորոգման և վերականգնման աշխատանքներ | H9: Նախագծահե- տազոտական, գեոդեզիա- քարտեզագրա- կան աշխա- տանքներ | I9: Ոչ ֆինանսական այլ ակտիվների ձեռքբերում
D10: ԸՆԴԱՄԵՆԸ | E10: =F10+G10+H10 -> -69667.9 | F10: 39589 | G10: =G12 -> -109693.9 | H10: 437 | I10: 0
D11: այդ թվում՝
D12: ՀՀ ՏԱՐԱԾՔԱՅԻՆ ԿԱՌԱՎԱՐՄԱՆ ԵՎ ԵՆԹԱԿԱՌՈՒՑՎԱԾՔՆԵՐԻ ՆԱԽԱՐԱՐՈՒԹՅՈՒՆ | E12: =F12+G12+H12 -> -69667.9 | F12: 39589 | G12: =G14 -> -109693.9 | H12: 437 | I12: 0
D13: այդ թվում`
B14: 1212 | C14: 32001 | D14: ՀՀ մարզերում առաջնահերթ լուծում պահանջող անհետաձգելի ծրագրերի իրականացում | E14: =F14+G14+H14 -> -69667.9 | F14: =F17+F20+F22+F24 -> 39589 | G14: =G16+G17+G22+G24 -> -109693.9 | H14: =H16+H17+H22+H24 -> 437 | I14: =I16+I17+I22+I24 -> 0
D15: այդ թվում`
D16: ՀՀ կառավարություն | E16: =G16 -> -287140.6 | F16: 0 | G16: ='3'!H34 -> -287140.6 | H16: 0 | I16: 0
D17: ՀՀ Լոռու մարզ | E17: 15142.5 | F17: 7604 | G17: 7538.5 | H17: 0 | I17: 0
D18: Վանաձորի Շառլ Ազնավուրի անվան մշակույթի պալատի գլխավոր մուտքի վրա թեքահարթակների կառուցման աշխատանքներ | E18: 7604 | F18: 7604 | G18: 0 | H18: 0 | I18: 0
D19: Ալավերդի քաղաքի Սանահին թաղամասի ջրամատակարարման արտաքին ջրատար համակարգի վերակառուցման աշխատանքներ | E19: 7538.5 | F19: 0 | G19: 7538.5 | H19: 0 | I19: 0
D20: ՀՀ Սյունիքի մարզ | E20: 31985 | F20: 31985 | G20: 0 | H20: 0 | I20: 0
D21: ՀՀ Սյունիքի մարզի Կապան համայնքի Ներքին Հանդ բնակավայրում խաղահրապարակի կառուցման աշխատանքներ | E21: 31985 | F21: 31985 | G21: 0 | H21: 0 | I21: 0
D22: ՀՀ Վայոց ձորի մարզ | E22: 437 | F22: 0 | G22: 0 | H22: 437 | I22: 0
D23: Տ-9-23/Տ-9-21/-Արտաբույնք–Հորբատեղ մարզային (տեղական) նշանակության ավտոճանապարհի 3.1 կմ հատվածի փլուզված հողային պաստառի վերականգնման նախագծանախահաշվային փաստաթղթերի ձեռքբերում | E23: 437 | F23: 0 | G23: 0 | H23: 437 | I23: 0
D24: ՀՀ Տավուշի մարզ | E24: 169908.2 | F24: 0 | G24: 169908.2 | H24: 0 | I24: 0
D25: ՀՀ Տավուշի մարզի Բերդ համայնքի Տ-10-50 /Հ-82/- Վերին Ծաղկավանի ճանապարհի հիմնանորոգման աշխատանքներ | E25: 169908.2 | F25: 0 | G25: 169908.2 | H25: 0 | I25: 0
D31: ՀԱՅԱՍՏԱՆԻ ՀԱՆՐԱՊԵՏՈՒԹՅԱՆ
D32: ՎԱՐՉԱՊԵՏԻ ԱՇԽԱՏԱԿԱԶՄԻ ՂԵԿԱՎԱՐ ՝ Լ.ՄԱԿՈՒՆՑ

Sheet 5
F1: Հավելված 5
F2: ՀՀ կառավարության 2026 թվականի
F3: ______________ ի ___Ն որոշման
B5: ՀԱՅԱՍՏԱՆԻ ՀԱՆՐԱՊԵՏՈՒԹՅԱՆ ԿԱՌԱՎԱՐՈՒԹՅԱՆ 2025 ԹՎԱԿԱՆԻ ԴԵԿՏԵՄԲԵՐԻ 25-Ի N 1910-Ն ՈՐՈՇՄԱՆ N 5 ՀԱՎԵԼՎԱԾԻ N 2 ԱՂՅՈՒՍԱԿՈՒՄ ԿԱՏԱՐՎՈՂ ՓՈՓՈԽՈՒԹՅՈՒՆԸ ԵՎ ԼՐԱՑՈՒՄՆԵՐԸ
E7: հազար դրամներով
B8: Ծրագրային դասիչը | D8: Բյուջետային գլխավոր կարգադրիչների, ծրագրերի, միջոցառումների և ուղղությունների անվանումները | E8: Ցուցանիշների փոփոխությունը (ավելացումները նշված են դրական նշանով, իսկ նվազեցումները` փակագծերում)
B9: Ծրագիր | C9: Միջոցառում | E9: Ինն ամիս | F9: Տարի
D10: ԸՆԴԱՄԵՆԸ | E10: =E12 -> 217472.7 | F10: =F12 -> -69667.9
D11: այդ թվում՝
D12: ՀՀ ՏԱՐԱԾՔԱՅԻՆ ԿԱՌԱՎԱՐՄԱՆ ԵՎ ԵՆԹԱԿԱՌՈՒՑՎԱԾՔՆԵՐԻ ՆԱԽԱՐԱՐՈՒԹՅՈՒՆ | E12: =E14 -> 217472.7 | F12: =F14 -> -69667.9
D13: այդ թվում`
B14: 1212 | C14: 32001 | D14: ՀՀ մարզերում առաջնահերթ լուծում պահանջող անհետաձգելի ծրագրերի իրականացում | E14: =E17+E21+E24+E27 -> 217472.7 | F14: =F17+F21+F24+F27+F16 -> -69667.9
D15: այդ թվում` ըստ կատարողների
D16: ՀՀ կառավարություն | E16: 0 | F16: ='4'!G16 -> -287140.6
D17: ՀՀ Լոռու մարզպետի աշխատակազմ | E17: 15142.5 | F17: 15142.5
D18: այդ թվում` ըստ ուղղությունների
D19: ='4'!D18 -> Վանաձորի Շառլ Ազնավուրի անվան մշակույթի պալատի գլխավոր մուտքի վրա թեքահարթակների կառուցման աշխատանքներ | E19: 7604 | F19: 7604
D20: Ալավերդի քաղաքի Սանահին թաղամասի ջրամատակարարման արտաքին ջրատար համակարգի վերակառուցման աշխատանքներ | E20: 7538.5 | F20: 7538.5
D21: ՀՀ Սյունիքի մարզպետի աշխատակազմ | E21: 31985 | F21: 31985
D22: այդ թվում` ըստ ուղղությունների
D23: ՀՀ Սյունիքի մարզի Կապան համայնքի Ներքին Հանդ բնակավայրում խաղահրապարակի կառուցման աշխատանքներ | E23: 31985 | F23: 31985
D24: ՀՀ Վայոց ձորի մարզպետի աշխատակազմ | E24: 437 | F24: 437
D25: այդ թվում` ըստ ուղղությունների
D26: Տ-9-23/Տ-9-21/-Արտաբույնք–Հորբատեղ մարզային (տեղական) նշանակության ավտոճանապարհի 3.1 կմ հատվածի փլուզված հողային պաստառի վերականգնման նախագծանախահաշվային փաստաթղթերի ձեռքբերում | E26: 437 | F26: 437
D27: ՀՀ Տավուշի մարզպետի աշխատակազմ | E27: 169908.2 | F27: 169908.2
D28: այդ թվում` ըստ ուղղությունների
D29: ='4'!D25 -> ՀՀ Տավուշի մարզի Բերդ համայնքի Տ-10-50 /Հ-82/- Վերին Ծաղկավանի ճանապարհի հիմնանորոգման աշխատանքներ | E29: 169908.2 | F29: 169908.2
C32: ՀԱՅԱՍՏԱՆԻ ՀԱՆՐԱՊԵՏՈՒԹՅԱՆ
C33: ՎԱՐՉԱՊԵՏԻ ԱՇԽԱՏԱԿԱԶՄԻ
D34: ՂԵԿԱՎԱՐ՝ Լ.ՄԱԿՈՒՆՑ

Sheet 6
F1: Հավելված N 6
D2: ՀՀ կառավարության 2026 թվականի
F3: N ------------ -Ն որոշման
B5: «ՀԱՅԱՍՏԱՆԻ ՀԱՆՐԱՊԵՏՈՒԹՅԱՆ 2026 ԹՎԱԿԱՆԻ ՊԵՏԱԿԱՆ ԲՅՈՒՋԵԻ ՄԱՍԻՆ» ՕՐԵՆՔԻ N 1 ՀԱՎԵԼՎԱԾԻ N 7 ԱՂՅՈՒՍԱԿՈՒՄ ԿԱՏԱՐՎՈՂ ԼՐԱՑՈՒՄԸ ԵՎ ՀԱՅԱՍՏԱՆԻ ՀԱՆՐԱՊԵՏՈՒԹՅԱՆ ԿԱՌԱՎԱՐՈՒԹՅԱՆ 2025 ԹՎԱԿԱՆԻ ԴԵԿՏԵՄԲԵՐԻ 25-Ի N 1910-Ն ՈՐՈՇՄԱՆ N 5 ՀԱՎԵԼՎԱԾԻ N 6 ԱՂՅՈՒՍԱԿՈՒՄ ԿԱՏԱՐՎՈՂ ԼՐԱՑՈՒՄԸ
E10: հազար դրամներով
B11: Ծրագրային դասիչը | D11: Հատկացումների տրամադրման նպատակները և բյուջետային գլխավոր կարգադրիչների, ծրագրերի, միջոցառումների և կատարող պետական մարմնի անվանումները | E11: Ցուցանիշների փոփոխությունը (ավելացումները նշված են դրական նշանով)
B12: Ծրագիր | C12: Միջոցառում | E12: Ինն ամիս | F12: Տարի
D13: Ընդամենը | E13: 69667.9 | F13: 69667.9
D14: այդ թվում`
D15: Կապիտալ սուբվենցիաներ համայնքներին | E15: 69667.9 | F15: 69667.9
D16: այդ թվում`
D17: ՀՀ տարածքային կառավարման և ենթակառուցվածքների նախարարություն | E17: 69667.9 | F17: 69667.9
B18: 1212 | D18: Տարածքային զարգացում | E18: 69667.9 | F18: 69667.9
D19: այդ թվում`
C20: 12025 | D20: Մարզերում առաջնահերթ լուծում պահանջող հիմնախնդիրների լուծում | E20: 69667.9 | F20: 69667.9
D21: այդ թվում` ըստ կատարողների
D22: ՀՀ Շիրակի մարզպետի աշխատակազմ | E22: 69667.9 | F22: 69667.9
D23: այդ թվում` ըստ ուղղությունների
D24: ՀՀ Շիրակի մարզի Անի համայնքի Անիպեմզա բնակավայր մտնող Տ-7-67 /Հ-65/ - Անիպեմզա մարզային նշանակության ավտոմոբիլային ճանապարհի 335 մետր երկարությամբ հատվածի վերանորոգում | E24: 41947.9 | F24: 41947.9
D25: ՀՀ Շիրակի մարզի Ախուրյան համայնքի Ախուրիկ բնակավայրում ժամանցի կենտրոնի կառուցում | E25: 27720 | F25: 27720
C29: ՀԱՅԱՍՏԱՆԻ ՀԱՆՐԱՊԵՏՈՒԹՅԱՆ
C30: ՎԱՐՉԱՊԵՏԻ ԱՇԽԱՏԱԿԱԶՄԻ
D31: ՂԵԿԱՎԱՐ ՝ Լ.ՄԱԿՈՒՆՑ

Sheet 7
L1: Հավելված N 7
J2: ՀՀ կառավարության 2026 թվականի
L3: N ------------ -Ն որոշման
B5: ՀԱՅԱՍՏԱՆԻ ՀԱՆՐԱՊԵՏՈՒԹՅԱՆ ԿԱՌԱՎԱՐՈՒԹՅԱՆ 2025 ԹՎԱԿԱՆԻ ԴԵԿՏԵՄԲԵՐԻ 25-Ի № 1910-Ն ՈՐՈՇՄԱՆ № 9 ՀԱՎԵԼՎԱԾՈՒՄ ԿԱՏԱՐՎՈՂ ՓՈՓՈԽՈՒԹՅՈՒՆՆԵՐԸ ԵՎ ԼՐԱՑՈՒՄՆԵՐԸ
L7: հազար դրամներով
B8: ԲԳԿ | C8: Ծրագիր | E8: Միջոցառում | I8: Իրականացնողը/ ակտիվն օգտագործողը/ շահառուի ընտրության չափորոշիչը | J8: Արդյունքային չափորոշիչը | K8: Ցուցանիշների փոփոխությունը (ավելացումները նշված են դրական նշանով, իսկ նվազեցումները` փակագծերում)
C9: Դասիչը | D9: Անվանումը | E9: Դասիչը | F9: Անվանումը | G9: Նկարագրությունը | H9: Տեսակը | K9: Ինն ամիս | L9: Տարի
B10: ԸՆԴԱՄԵՆԸ | K10: =K11 -> 287140.6 | L10: =L11 -> 0
B11: ՀՀ տարածքային կառավարման և ենթակառուցվածքների նախարարություն | K11: =K12 -> 287140.6 | L11: =L12 -> 0
C12: 1212 | D12: Տարածքային զարգացում | K12: =K13+K19 -> 287140.6 | L12: =L13+L19 -> 0
E13: 1212-12025 | F13: Մարզերում առաջնահերթ լուծում պահանջող հիմնախնդիրների լուծում | K13: ='3'!G23 -> 69667.9 | L13: ='3'!H23 -> 69667.9
G14: Մարզերում առաջնահերթ լուծում պահանջող ծրագրերի իրականացում, որի արդյունքում լուծում կտրվի բնակչության և համայնքների սոցիալական նշանակություն ունեցող հիմնախնդիրներին:
H15: Տրանսֆերտների տրամադրում
I16: Համայնքներ
J17: Համայնքների թիվ, հատ | L17: 2
J18: Մարզային նշանակության ավտոճանապարհներ, կմ | L18: 0.335
E19: 1212-32001 | F19: ՀՀ մարզերում առաջնահերթ լուծում պահանջող անհետաձգելի ծրագրերի իրականացում | K19: ='3'!G32 -> 217472.7 | L19: ='3'!H32 -> -69667.9
G20: ՀՀ մարզերում առաջնահերթ լուծում պահանջող անհետաձգելի ծրագրերի իրականացում, որի արդյունքում լուծում կտրվի մարզային ենթակայության կազմակերպությունների և համայնքային նշանակություն ունեցող հիմնախնդիրներին
H21: Այլ պետական կազմակերպությունների կողմից օգտագործվող ոչ ֆինանսական ակտիվների հետ գործառնություններ
I22: Ակտիվն օգտագործող կազմակերպության անվանումը` ՀՀ համայնքներ
J23: Համայնքների թիվ, հատ | L23: ='8'!K32+'8'!K17 -> 2
J24: Մարզային նշանակության ավտոճանապարհներ, կմ | L24: 1.37
J25: Պայմանագրերի քանակ, հատ | L25: 1
D29: ՀԱՅԱՍՏԱՆԻ ՀԱՆՐԱՊԵՏՈՒԹՅԱՆ
D30: ՎԱՐՉԱՊԵՏԻ ԱՇԽԱՏԱԿԱԶՄԻ
E31: ՂԵԿԱՎԱՐ ՝ Լ.ՄԱԿՈՒՆՑ

Sheet 8
K1: Հավելված N 8
I2: ՀՀ կառավարության 2026 թվականի
K3: N ------------ -Ն որոշման
A5: ՀԱՅԱՍՏԱՆԻ ՀԱՆՐԱՊԵՏՈՒԹՅԱՆ ԿԱՌԱՎԱՐՈՒԹՅԱՆ 2025 ԹՎԱԿԱՆԻ ԴԵԿՏԵՄԲԵՐԻ 25-Ի № 1910-Ն ՈՐՈՇՄԱՆ № 9.1 ՀԱՎԵԼՎԱԾԻ ԱՂՅՈՒՍԱԿՈՒՄ ԿԱՏԱՐՎՈՂ ՓՈՓՈԽՈՒԹՅՈՒՆՆԵՐԸ ԵՎ ԼՐԱՑՈՒՄՆԵՐԸ
K7: հազար դրամներով
A8: ԲՍԿ | B8: Ծրագիր | D8: Միջոցառում | H8: Իրականացնողը/ ակտիվն օգտագործողը/ շահառուի ընտրության չափորոշիչը | I8: Արդյունքային չափորոշիչը | J8: Ցուցանիշների փոփոխությունը (ավելացումները նշված են դրական նշանով, իսկ նվազեցումները` փակագծերում)
B9: Դասիչը | C9: Անվանումը | D9: Դասիչը | E9: Անվանումը | F9: Նկարագրությունը | G9: Տեսակը | J9: Ինն ամիս | K9: Տարի
A10: ԸՆԴԱՄԵՆԸ | J10: =J11+J18+J26+J33+J40+J47 -> 287140.6 | K10: =K11+K18+K26+K33+K40+K47 -> 0
A11: ՀՀ Լոռու մարզպետի աշխատակազմ | J11: 15142.5 | K11: 15142.5
B12: 1212 | C12: Տարածքային զարգացում | J12: 15142.5 | K12: 15142.5
D13: 1212 - 32001 | E13: ՀՀ մարզերում առաջնահերթ լուծում պահանջող անհետաձգելի ծրագրերի իրականացում | J13: 15142.5 | K13: 15142.5
F14: ՀՀ մարզերում առաջնահերթ լուծում պահանջող անհետաձգելի ծրագրերի իրականացում, որի արդյունքում լուծում կտրվի մարզային ենթակայության կազմակերպությունների և համայնքային նշանակություն ունեցող հիմնախնդիրներին
G15: Այլ պետական կազմակերպությունների կողմից օգտագործվող ոչ ֆինանսական ակտիվների հետ գործառնություններ
H16: Ակտիվն օգտագործող կազմակերպության անվանումը` ՀՀ համայնքներ
I17: Համայնքների թիվ, հատ | K17: 1
A18: ՀՀ Շիրակի մարզպետի աշխատակազմ | J18: 69667.9 | K18: 69667.9
B19: 1212 | C19: Տարածքային զարգացում | J19: 69667.9 | K19: 69667.9
D20: 1212-12025 | E20: Մարզերում առաջնահերթ լուծում պահանջող հիմնախնդիրների լուծում | J20: 69667.9 | K20: 69667.9
F21: Մարզերում առաջնահերթ լուծում պահանջող ծրագրերի իրականացում, որի արդյունքում լուծում կտրվի բնակչության և համայնքների սոցիալական նշանակություն ունեցող հիմնախնդիրներին:
G22: Տրանսֆերտների տրամադրում
H23: Համայնքներ
I24: Համայնքների թիվ, հատ | K24: 2
I25: Մարզային նշանակության ավտոճանապարհներ, կմ | K25: 0.335
A26: ՀՀ Սյունիքի մարզպետի աշխատակազմ | J26: 31985 | K26: 31985
B27: 1212 | C27: Տարածքային զարգացում | J27: 31985 | K27: 31985
D28: 1212 - 32001 | E28: ՀՀ մարզերում առաջնահերթ լուծում պահանջող անհետաձգելի ծրագրերի իրականացում | J28: 31985 | K28: 31985
F29: ՀՀ մարզերում առաջնահերթ լուծում պահանջող անհետաձգելի ծրագրերի իրականացում, որի արդյունքում լուծում կտրվի մարզային ենթակայության կազմակերպությունների և համայնքային նշանակություն ունեցող հիմնախնդիրներին
G30: Այլ պետական կազմակերպությունների կողմից օգտագործվող ոչ ֆինանսական ակտիվների հետ գործառնություններ
H31: Ակտիվն օգտագործող կազմակերպության անվանումը` ՀՀ համայնքներ
I32: Համայնքների թիվ, հատ | K32: 1
A33: ՀՀ Վայոց ձորի մարզպետի աշխատակազմ | J33: 437 | K33: 437
B34: 1212 | C34: Տարածքային զարգացում | J34: 437 | K34: 437
D35: 1212 - 32001 | E35: ՀՀ մարզերում առաջնահերթ լուծում պահանջող անհետաձգելի ծրագրերի իրականացում | J35: 437 | K35: 437
F36: ՀՀ մարզերում առաջնահերթ լուծում պահանջող անհետաձգելի ծրագրերի իրականացում, որի արդյունքում լուծում կտրվի մարզային ենթակայության կազմակերպությունների և համայնքային նշանակություն ունեցող հիմնախնդիրներին
G37: Այլ պետական կազմակերպությունների կողմից օգտագործվող ոչ ֆինանսական ակտիվների հետ գործառնություններ
H38: Ակտիվն օգտագործող կազմակերպության անվանումը` ՀՀ համայնքներ
I39: Պայմանագրերի քանակ, հատ | K39: 1
A40: ՀՀ Տավուշի մարզպետի աշխատակազմ | J40: 169908.2 | K40: 169908.2
B41: 1212 | C41: Տարածքային զարգացում | J41: 169908.2 | K41: 169908.2
D42: 1212 - 32001 | E42: ՀՀ մարզերում առաջնահերթ լուծում պահանջող անհետաձգելի ծրագրերի իրականացում | J42: 169908.2 | K42: 169908.2
F43: ՀՀ մարզերում առաջնահերթ լուծում պահանջող անհետաձգելի ծրագրերի իրականացում, որի արդյունքում լուծում կտրվի մարզային ենթակայության կազմակերպությունների և համայնքային նշանակություն ունեցող հիմնախնդիրներին
G44: Այլ պետական կազմակերպությունների կողմից օգտագործվող ոչ ֆինանսական ակտիվների հետ գործառնություններ
H45: Ակտիվն օգտագործող կազմակերպության անվանումը` ՀՀ համայնքներ
I46: Մարզային նշանակության ավտոճանապարհներ, կմ | K46: 1.37
A47: ՀՀ կառավարություն | J47: 0 | K47: =K48 -> -287140.6
B48: 1212 | C48: Տարածքային զարգացում | J48: 0 | K48: =K49 -> -287140.6
D49: 1212 - 32001 | E49: ՀՀ մարզերում առաջնահերթ լուծում պահանջող անհետաձգելի ծրագրերի իրականացում | J49: 0 | K49: ='3'!H34 -> -287140.6
F50: ՀՀ մարզերում առաջնահերթ լուծում պահանջող անհետաձգելի ծրագրերի իրականացում, որի արդյունքում լուծում կտրվի մարզային ենթակայության կազմակերպությունների և համայնքային նշանակություն ունեցող հիմնախնդիրներին
G51: Այլ պետական կազմակերպությունների կողմից օգտագործվող ոչ ֆինանսական ակտիվների հետ գործառնություններ
H52: Ակտիվն օգտագործող կազմակերպության անվանումը` ՀՀ համայնքներ
C56: ՀԱՅԱՍՏԱՆԻ ՀԱՆՐԱՊԵՏՈՒԹՅԱՆ
C57: ՎԱՐՉԱՊԵՏԻ ԱՇԽԱՏԱԿԱԶՄԻ
D58: ՂԵԿԱՎԱՐ ՝ Լ.ՄԱԿՈՒՆՑ

Sheet 9
E1: Հավելված N 9
B2: ՀՀ կառավարության 2026 թվականի
B3: ______________ ի ___Ն որոշման
B5: ՀԱՅԱՍՏԱՆԻ ՀԱՆՐԱՊԵՏՈՒԹՅԱՆ ԿԱՌԱՎԱՐՈՒԹՅԱՆ 2025 ԹՎԱԿԱՆԻ ԴԵԿՏԵՄԲԵՐԻ 25-Ի N 1910-Ն ՈՐՈՇՄԱՆ N 10 ՀԱՎԵԼՎԱԾՈՒՄ ԿԱՏԱՐՎՈՂ ԼՐԱՑՈՒՄՆԵՐԸ
B7: Կոդը | C7: Անվանումը | F7: Գնման ձևը | G7: Չափման միավորը | H7: Միավորի գինը | I7: Ցուցանիշների փոփոխությունը (ավելացումները նշված են դրական նշանով)
I8: Քանակը | J8: Գումարը (հազար դրամով)
B9: 1 | C9: 2 | F9: 3 | G9: 4 | H9: 5 | I9: 6 | J9: 7
B10: ԸՆԴԱՄԵՆԸ | J10: 217472.7
B11: ՀՀ Լոռու մարզպետի աշխատակազմ | J11: 15142.5
B12: Բաժին N 01 | C12: Խումբ N 08 | D12: Դաս N 01 | E12: Կառավարության տարբեր մակարդակների միջեւ իրականացվող ընդհանուր բնույթի տրանսֆերտներ | J12: 15142.5
B13: 1212 32001 | C13: ՀՀ մարզերում առաջնահերթ լուծում պահանջող անհետաձգելի ծրագրերի իրականացում | J13: 15142.5
C14: ՄԱՍ II. ԱՇԽԱՏԱՆՔՆԵՐ | J14: 15098.5
B15: 45221142/502 | C15: Ընդհանուր շինարարական աշխատանքներ | F15: ԳՀ | G15: դրամ | H15: =J15*1000 -> 7560000 | I15: 1 | J15: 7560
B16: 45241170/502 | C16: ջրամատակարարման համակարգերի կառուցում | F16: ԲՄ | G16: դրամ | H16: =J16*1000 -> 7538500 | I16: 1 | J16: 7538.5
C17: ՄԱՍ III. ԾԱՌԱՅՈՒԹՅՈՒՆՆԵՐ | J17: 44
B18: 71351540/513 | C18: տեխնիկական հսկողության ծառայություններ | F18: ԳՀ | G18: դրամ | H18: =J18*1000 -> 44000 | I18: 1 | J18: 44
B19: ՀՀ Սյունիքի մարզպետի աշխատակազմ | J19: 31985
B20: Բաժին N 01 | C20: Խումբ N 08 | D20: Դաս N 01 | E20: Կառավարության տարբեր մակարդակների միջեւ իրականացվող ընդհանուր բնույթի տրանսֆերտներ | J20: 31985
B21: 1212 32001 | C21: ՀՀ մարզերում առաջնահերթ լուծում պահանջող անհետաձգելի ծրագրերի իրականացում | J21: 31985
C22: ՄԱՍ II. ԱՇԽԱՏԱՆՔՆԵՐ | J22: 31500
B23: 45211137/501 | C23: Մարզական հրապարակների հետ կապված կառույցների կառուցման աշխատանքներ | F23: ԳՀ | G23: դրամ | H23: =J23*1000 -> 31500000 | I23: 1 | J23: 31500
C24: ՄԱՍ III. ԾԱՌԱՅՈՒԹՅՈՒՆՆԵՐ | J24: 485
B25: 71351540/504 | C25: տեխնիկական հսկողության ծառայություններ | F25: ԳՀ | G25: դրամ | H25: =J25*1000 -> 290000 | I25: 1 | J25: 290
B26: 98111140/506 | C26: հեղինակային հսկողության ծառայություններ | F26: ՄԱ | G26: դրամ | H26: =J26*1000 -> 195000 | I26: 1 | J26: 195
B27: ՀՀ Վայոց ձորի մարզպետի աշխատակազմ | J27: 437
B28: Բաժին N 01 | C28: Խումբ N 08 | D28: Դաս N 01 | E28: Կառավարության տարբեր մակարդակների միջեւ իրականացվող ընդհանուր բնույթի տրանսֆերտներ | J28: 437
B29: 1212 32001 | C29: ՀՀ մարզերում առաջնահերթ լուծում պահանջող անհետաձգելի ծրագրերի իրականացում | J29: 437
C30: ՄԱՍ III. ԾԱՌԱՅՈՒԹՅՈՒՆՆԵՐ | J30: 437
B31: 71241200/502 | C31: նախագծերի պատրաստում, ծախսերի գնահատում | F31: ԳՀ | G31: դրամ | H31: =J31*1000 -> 360000 | I31: 1 | J31: 360
B32: 50531140/1 | C32: փորձաքննության ծառայություններ | F32: ՄԱ | G32: դրամ | H32: =J32*1000 -> 77000 | I32: 1 | J32: 77
B33: ՀՀ Տավուշի մարզպետի աշխատակազմ | J33: 169908.2
B34: Բաժին N 01 | C34: Խումբ N 08 | D34: Դաս N 01 | E34: Կառավարության տարբեր մակարդակների միջեւ իրականացվող ընդհանուր բնույթի տրանսֆերտներ | J34: 169908.2
B35: 1212 32001 | C35: ՀՀ մարզերում առաջնահերթ լուծում պահանջող անհետաձգելի ծրագրերի իրականացում | J35: 169908.2
C36: ՄԱՍ II. ԱՇԽԱՏԱՆՔՆԵՐ | J36: 168000
B37: 45231177/507 | C37: Ճանապարհների վերանորգման աշխատանքներ | F37: ՀԲՄ | G37: դրամ | H37: =J37*1000 -> 168000000 | I37: 1 | J37: 168000
C38: ՄԱՍ III. ԾԱՌԱՅՈՒԹՅՈՒՆՆԵՐ | J38: 1908.2
B39: 71351540/511 | C39: տեխնիկական հսկողության ծառայություններ | F39: ՀԲՄ | G39: դրամ | H39: =J39*1000 -> 899000 | I39: 1 | J39: 899
B40: 98111140/ | C40: հեղինակային հսկողության ծառայություններ | F40: ՄԱ | G40: դրամ | H40: =J40*1000 -> 1009200 | I40: 1 | J40: 1009.2
C42: ՀԱՅԱՍՏԱՆԻ ՀԱՆՐԱՊԵՏՈՒԹՅԱՆ ՎԱՐՉԱՊԵՏԻ ԱՇԽԱՏԱԿԱԶՄԻ ՂԵԿԱՎԱՐ | H42: Լ.ՄԱԿՈՒՆՑ
