Workbook

Sheet 1
H1: Հավելված N 1
H2: ՀՀ կառավարության 2026 թվականի
H3: ______________ ի ___Ն որոշման
A5: «ՀԱՅԱUՏԱՆԻ ՀԱՆՐԱՊԵՏՈՒԹՅԱՆ 2026 ԹՎԱԿԱՆԻ ՊԵՏԱԿԱՆ ԲՅՈՒՋԵԻ ՄԱUԻՆ» ՀԱՅԱՍՏԱՆԻ ՀԱՆՐԱՊԵՏՈՒԹՅԱՆ OՐԵՆՔԻ N 1 ՀԱՎԵԼՎԱԾԻ N 2 ԱՂՅՈՒՍԱԿՈՒՄ ԿԱՏԱՐՎՈՂ ՎԵՐԱԲԱՇԽՈՒՄԸ ԵՎ ՀԱՅԱՍՏԱՆԻ ՀԱՆՐԱՊԵՏՈՒԹՅԱՆ ԿԱՌԱՎԱՐՈՒԹՅԱՆ 2025 ԹՎԱԿԱՆԻ ԴԵԿՏԵՄԲԵՐԻ 25-Ի N 1910-Ն ՈՐՈՇՄԱՆ N 5 ՀԱՎԵԼՎԱԾԻ N 1 ԱՂՅՈՒՍԱԿՈՒՄ ԿԱՏԱՐՎՈՂ ՓՈՓՈԽՈՒԹՅՈՒՆՆԵՐԸ
G7: Հազար դրամներով
A8: ԲԳԿ | B8: Ծրագրային դասիչը | D8: ԲԳԿ/Ծրագրի /միջոցառման անվանումը | E8: Ծրագրի նպատակը/Միջոցառման նկարագրությունը | F8: Վերջնական արդյունքի նկարագրությունը/Միջոցառման տեսակը | G8: Ցուցանիշների փոփոխությունը (ավելացումները նշված են դրական նշանով, իսկ նվազեցումները` փակագծերում)
B9: Ծրագիր | C9: Միջոցառում | G9: Ինն ամիս | H9: Տարի
A10: ԸՆԴԱՄԵՆԸ | G10: =G14+G18+G11 -> 0 | H10: =H14+H18+H11 -> 0
A11: ՀՀ վարչապետի աշխատակազմ | G11: =+G20 -> 231246.8 | H11: =+H20 -> 231246.8
B12: 1223 | D12: Միջազգային դատարաններում, միջազգային արբիտրաժներում և այլ միջազգային ատյաններում ՀՀ շահերի ներկայացում և պաշտպանություն , դրանց կողմից ընդունված վճիռների և որոշումների կատարման ապահովում | E12: Միջազգային դատարաններում, միջազգային արբիտրաժներում և այլ միջազգային ատյաններում ՀՀ վերաբերյալ գործընթացներում մասնակցություն, դրանց կողմից ընդունված վճիռների և որոշումների կատարման ապահովում | F12: ՀՀ շահերի ներկայացում և պաշտպանություն , ՀՀ վերաբերյալ վճռի կամ որոշման կատարման գործընթացի ապահովում | G12: =G13 -> 231246.8 | H12: =H13 -> 231246.8
C13: 1223 - 11001 | D13: Հայաստանի Հանրապետության շահերի ներկայացմանն ու պաշտպանությանն ուղղված փաստաբանական, իրավաբանական ծառայություններ | E13: Արբիտրաժային և այլ վեճերի շրջանակներում ՀՀ շահերը ներկայացնելու և պաշտպանելու համար փաստաբանական, իրավաբանական, փորձագիտական ծառայությունների, վեճը լուծող հաշտարարի ծառայությունների, ՀՀ շահերից բխող խորհրդատվական բնույթի ծառայությունների ձեռքբերում | F13: Ծառայությունների մատուցում | G13: ='2'!G32 -> 231246.8 | H13: ='2'!H32 -> 231246.8
A14: ՀՀ տարածքային կառավարման և ենթակառուցվածքների նախարարություն | G14: =G15 -> -231246.8 | H14: =H15 -> -231246.8
B15: 1049 | D15: Ճանապարհային ցանցի բարելավում | E15: Ճանապարհային ցանցի բարելավում և անվտանգ երթևեկության ապահովում | F15: Ճանապարհների ծածկի որակի և փոխադրումների արդյունավետության բարելավում, ճանապարհների վիճակով պայմանավորված պատահարների նվազում | G15: =G17+G16 -> -231246.8 | H15: =H17+H16 -> -231246.8
C16: 1049 - 21026 | D16: Ասիական Զարգացման Բանկի աջակցությամբ իրականացվող «Դիմակայուն և ներառական ճանապարհային հատվածի բարելավման ծրագիր», Սիսիան-Քաջարան Հյուսիսային հատվածի կառուցում | E16: Սիսիան-Քաջարան ճանապարհահատվածի հյուսիսային շուրջ 27.1 կմ հատվածի կառուցման աշխատանքներ | F16: Հանրության կողմից անմիջականորեն օգտագործվող ակտիվների հետ կապված միջոցառումներ | G16: ='3'!F27 -> -154164.5 | H16: ='3'!G27 -> -154164.5
C17: 1049 -21027 | D17: Եվրոպական ներդրումային Բանկի աջակցությամբ իրականացվող «Հայաստան. Սիսիան-Քաջարան ճանապարհահատվածի ծրագիր», Հյուսիսային հատվածի կառուցում և հիմնանորոգում | E17: Սիսիան-Քաջարան ճանապարհահատվածի հյուսիսային շուրջ 27.1 կմ հատվածի կառուցման աշխատանքներ | F17: Հանրության կողմից անմիջականորեն օգտագործվող ակտիվների հետ կապված միջոցառումներ | G17: ='3'!F36 -> -77082.3 | H17: ='3'!G36 -> -77082.3
A18: ՀՀ կառավարություն | G18: =+G19 -> 0 | H18: =+H19 -> 0
B19: 1139 | D19: ՀՀ կառավարության պահուստային ֆոնդ | E19: Պետական բյուջեում չկանխատեսված, ինչպես նաեւ բյուջետային երաշխիքների ապահովման ծախսերի ֆինանսավորման ապահովում | F19: Պահուստային ֆոնդի կառավարման արդյունավետության և թափանցիկության ապահովում | G19: =G20+G21 -> 0 | H19: =H20+H21 -> 0
C20: 1139 - 11001 | D20: ՀՀ կառավարության պահուստային ֆոնդ | E20: ՀՀ պետական բյուջեում նախատեսված ելքերի լրացուցիչ ֆինանսավորման, պետական բյուջեում չկանխատեսված ելքերի, ինչպես նաև բյուջետային երաշխիքների ապահովման ելքերի ֆինանսավորման ապահովում | F20: Ծառայությունների մատուցում | G20: ='2'!G82 -> 231246.8 | H20: ='2'!H82 -> 231246.8
C21: 1139 - 11001 | D21: ՀՀ կառավարության պահուստային ֆոնդ | E21: ՀՀ պետական բյուջեում նախատեսված ելքերի լրացուցիչ ֆինանսավորման, պետական բյուջեում չկանխատեսված ելքերի, ինչպես նաև բյուջետային երաշխիքների ապահովման ելքերի ֆինանսավորման ապահովում | F21: Ծառայությունների մատուցում | G21: ='2'!G90 -> -231246.8 | H21: ='2'!H90 -> -231246.8

Sheet 2
H2: Հավելված N 2
H3: ՀՀ կառավարության 2026 թվականի
H4: ______________ ի ___Ն որոշման
A6: ՀԱՅԱՍՏԱՆԻ ՀԱՆՐԱՊԵՏՈՒԹՅԱՆ ԿԱՌԱՎԱՐՈՒԹՅԱՆ 2025 ԹՎԱԿԱՆԻ ԴԵԿՏԵՄԲԵՐԻ 25-Ի N 1910-Ն ՈՐՈՇՄԱՆ NN 3 ԵՎ 4 ՀԱՎԵԼՎԱԾՆԵՐՈՒՄ ԿԱՏԱՐՎՈՂ ՓՈՓՈԽՈՒԹՅՈՒՆՆԵՐԸ
G7: ='1'!G7:H7 -> Հազար դրամներով
A8: Գործառնական դասիչը | D8: Ծրագրային դասիչը | F8: Բյուջետային ծախսերի գործառական դասակարգման բաժինների, խմբերի և դասերի, բյուջետային ծրագերի միջոցառումների, բյուջետային հատկացումների գլխավոր կարգադրիչների և բյուջետային ծախսերի տնտեսագիտական դասակարգման հոդվածների անվանումները | G8: Ցուցանիշների փոփոխությունը (ավելացումները նշված են դրական նշանով, իսկ նվազեցումները` փակագծերում)
A9: Բաժին | B9: Խումբ | C9: Դաս | D9: Ծրագիր | E9: Միջոցառում
G10: Ինն ամիս | H10: Տարի
F11: ԸՆԴԱՄԵՆԸ ԾԱԽՍԵՐ | G11: =G13+G33+G63 -> 0 | H11: =H13+H33+H63 -> 0
F12: այդ թվում`
F13: ՀՀ վարչապետի աշխատակազմ | G13: =G15 -> 231246.8 | H13: =H15 -> 231246.8
F14: այդ թվում`
A15: 03 | F15: ՀԱՍԱՐԱԿԱԿԱՆ ԿԱՐԳ, ԱՆՎՏԱՆԳՈՒԹՅՈՒՆ ԵՎ ԴԱՏԱԿԱՆ ԳՈՐԾՈՒՆԵՈՒԹՅՈՒՆ | G15: =G17 -> 231246.8 | H15: =H17 -> 231246.8
F16: այդ թվում`
B17: 03 | F17: Դատական գործունեություն և իրավական պաշտպանություն | G17: =G19 -> 231246.8 | H17: =H19 -> 231246.8
F18: այդ թվում`
C19: 02 | F19: Իրավական պաշտպանություն | G19: =G21 -> 231246.8 | H19: =H23 -> 231246.8
F20: այդ թվում`
F21: ՀՀ վարչապետի աշխատակազմ | G21: =G23 -> 231246.8 | H21: =H23 -> 231246.8
F22: այդ թվում`
D23: ='[1]1'!B12 -> 1223 | F23: ='[1]1'!D12 -> Միջազգային դատարաններում, միջազգային արբիտրաժներում և այլ միջազգային ատյաններում ՀՀ շահերի ներկայացում և պաշտպանություն , դրանց կողմից ընդունված վճիռների և որոշումների կատարման ապահովում | G23: =G25 -> 231246.8 | H23: =H25 -> 231246.8
F24: այդ թվում`
E25: 11001 | F25: ='[1]1'!D13 -> Հայաստանի Հանրապետության շահերի ներկայացմանն ու պաշտպանությանն ուղղված փաստաբանական, իրավաբանական ծառայություններ | G25: =G27 -> 231246.8 | H25: =H27 -> 231246.8
F26: այդ թվում` ըստ կատարողների
F27: ՀՀ վարչապետի աշխատակազմ | G27: =G29 -> 231246.8 | H27: =H29 -> 231246.8
F28: այդ թվում` բյուջետային ծախսերի տնտեսագիտական դասակարգման հոդվածներ
F29: ԸՆԴԱՄԵՆԸ ԾԱԽՍԵՐ | G29: =G30 -> 231246.8 | H29: =H30 -> 231246.8
F30: ԸՆԹԱՑԻԿ ԾԱԽՍԵՐ | G30: =G31 -> 231246.8 | H30: =H31 -> 231246.8
F31: ԱՅԼ ԾԱԽՍԵՐ | G31: =G32 -> 231246.8 | H31: =H32 -> 231246.8
F32: Այլ ծախսեր | G32: 231246.8 | H32: 231246.8
F33: ՀՀ տարածքային կառավարման և ենթակառուցվածքների նախարարություն | G33: =G35 -> -231246.8 | H33: =H35 -> -231246.8
F34: այդ թվում`
A35: 04 | F35: ՏՆՏԵՍԱԿԱՆ ՀԱՐԱԲԵՐՈՒԹՅՈՒՆՆԵՐ | G35: =G37 -> -231246.8 | H35: =H37 -> -231246.8
F36: այդ թվում`
B37: 05 | F37: Տրանսպորտ | G37: =G39 -> -231246.8 | H37: =H39 -> -231246.8
F38: այդ թվում`
C39: 01 | F39: Ճանապարհային տրանսպորտ | G39: =G41 -> -231246.8 | H39: =H43 -> -231246.8
F40: այդ թվում`
F41: ՀՀ տարածքային կառավարման և ենթակառուցվածքների նախարարություն | G41: =G43 -> -231246.8 | H41: =H43 -> -231246.8
F42: այդ թվում`
...

Sheet 3
I2: Հավելված N 3
I3: ՀՀ կառավարության 2026 թվականի
I4: ______________ ի ___Ն որոշման
A6: «ՀԱՅԱՍՏԱՆԻ ՀԱՆՐԱՊԵՏՈՒԹՅԱՆ 2026 ԹՎԱԿԱՆԻ ՊԵՏԱԿԱՆ ԲՅՈՒՋԵԻ ՄԱՍԻՆ» ՀԱՅԱՍՏԱՆԻ ՀԱՆՐԱՊԵՏՈՒԹՅԱՆ ՕՐԵՆՔԻ N 1 ՀԱՎԵԼՎԱԾԻ N 4 ԱՂՅՈՒՍԱԿՈՒՄ ԵՎ ՀԱՅԱՍՏԱՆԻ ՀԱՆՐԱՊԵՏՈՒԹՅԱՆ ԿԱՌԱՎԱՐՈՒԹՅԱՆ 2025 ԹՎԱԿԱՆԻ ԴԵԿՏԵՄԲԵՐԻ 25-Ի N 1910-Ն ՈՐՈՇՄԱՆ N 5 ՀԱՎԵԼՎԱԾԻ N 3 ԱՂՅՈՒՍԱԿՈՒՄ ԿԱՏԱՐՎՈՂ ՓՈՓՈԽՈՒԹՅՈՒՆՆԵՐԸ
H8: Հազար դրամներով
A9: Ծրագրային դասիչը | C9: Բյուջետային հատկացումների գլխավոր կարգադրիչների, ծրագրերի, միջոցառումների և միջոցառումները կատարող պետական մարմինների անվանումները | D9: Ցուցանիշների փոփոխությունը (ավելացումները նշված են դրական նշանով, իսկ նվազեցումները` փակագծերում)
D11: Ինն ամիս | G11: Տարի
A12: ծրագիրը | B12: միջոցառումը | D12: ընդամենը | E12: այդ թվում՝ | G12: ընդամենը | H12: այդ թվում՝
E13: վարկային միջոցներ | F13: համաֆինան_x000D_ սավորում | H13: վարկային միջոցներ | I13: համաֆինան_x000D_ սավորում
C14: ԸՆԴԱՄԵՆԸ այդ թվում` | D14: =E14+F14 -> -231246.8 | E14: =E17 -> 0 | F14: =F17 -> -231246.8 | G14: =H14+I14 -> -231246.8 | H14: =H17 -> 0 | I14: =I17 -> -231246.8
C15: - ՈՉ ՖԻՆԱՆՍԱԿԱՆ ԱԿՏԻՎՆԵՐԻ ԳԾՈՎ ԾԱԽՍԵՐ | D15: =E15+F15 -> -231246.8 | E15: =E28 -> 0 | F15: =F28+F19 -> -231246.8 | G15: =H15+I15 -> -231246.8 | H15: =H28 -> 0 | I15: =I28+I19 -> -231246.8
C16: ՀՀ տարածքային կառավարման և ենթակառուցվածքների նախարարություն այդ թվում` | D16: =D17 -> -231246.8 | E16: =E17 -> 0 | F16: =F17 -> -231246.8 | G16: =G17 -> -231246.8 | H16: =H17 -> 0 | I16: =I17 -> -231246.8
A17: 1049 | C17: Ճանապարհային ցանցի բարելավում | D17: =+E17+F17 -> -231246.8 | E17: =+E19+E28 -> 0 | F17: =+F19+F28 -> -231246.8 | G17: =+H17+I17 -> -231246.8 | H17: =+H19+H28 -> 0 | I17: =+I19+I28 -> -231246.8
C18: այդ թվում՝
B19: 21026 | C19: Ասիական Զարգացման Բանկի աջակցությամբ իրականացվող «Դիմակայուն և ներառական ճանապարհային հատվածի բարելավման ծրագիր», Սիսիան-Քաջարան Հյուսիսային հատվածի կառուցում | D19: =+E19+F19 -> -154164.5 | E19: =E23 -> 0 | F19: =F23 -> -154164.5 | G19: =+H19+I19 -> -154164.5 | H19: =H23 -> 0 | I19: =I23 -> -154164.5
C20: այդ թվում` ըստ կատարողների
C21: ՀՀ տարածքային կառավարման և ենթակառուցվածքների նախարարություն | D21: =E21+F21 -> -154164.5 | E21: =E19 -> 0 | F21: =F19 -> -154164.5 | G21: =H21+I21 -> -154164.5 | H21: =H19 -> 0 | I21: =I19 -> -154164.5
C22: այդ թվում` բյուջետային ծախսերի տնտեսագիտական դասակարգման հոդվածներ
C23: ԸՆԴԱՄԵՆԸ ԾԱԽՍԵՐ | D23: =E23+F23 -> -154164.5 | E23: =E24 -> 0 | F23: =F24 -> -154164.5 | G23: =H23+I23 -> -154164.5 | H23: =H24 -> 0 | I23: =I24 -> -154164.5
C24: ՈՉ ՖԻՆԱՆՍԱԿԱՆ ԱԿՏԻՎՆԵՐԻ ԳԾՈՎ ԾԱԽՍԵՐ | D24: =E24+F24 -> -154164.5 | E24: =E26 -> 0 | F24: =F26 -> -154164.5 | G24: =H24+I24 -> -154164.5 | H24: =H26 -> 0 | I24: =I26 -> -154164.5
C25: ՀԻՄՆԱԿԱՆ ՄԻՋՈՑՆԵՐ | D25: =E25+F25 -> -154164.5 | E25: =E26 -> 0 | F25: =F26 -> -154164.5 | G25: =H25+I25 -> -154164.5 | H25: =H26 -> 0 | I25: =I26 -> -154164.5
C26: ՇԵՆՔԵՐ ԵՎ ՇԻՆՈՒԹՅՈՒՆՆԵՐ | D26: =E26+F26 -> -154164.5 | E26: =E27 -> 0 | F26: =F27 -> -154164.5 | G26: =H26+I26 -> -154164.5 | H26: =H27 -> 0 | I26: =I27 -> -154164.5
C27: - Շենքերի և շինությունների շինարարություն | D27: =E27+F27 -> -154164.5 | F27: -154164.5 | G27: =H27+I27 -> -154164.5 | I27: -154164.5
B28: 21027 | C28: Եվրոպական ներդրումային Բանկի աջակցությամբ իրականացվող «Հայաստան. Սիսիան-Քաջարան ճանապարհահատվածի ծրագիր», Հյուսիսային հատվածի կառուցում և հիմնանորոգում | D28: =+E28+F28 -> -77082.3 | E28: =E32 -> 0 | F28: =F32 -> -77082.3 | G28: =+H28+I28 -> -77082.3 | H28: =H32 -> 0 | I28: =I32 -> -77082.3
C29: այդ թվում` ըստ կատարողների
C30: ՀՀ տարածքային կառավարման և ենթակառուցվածքների նախարարություն | D30: =E30+F30 -> -77082.3 | E30: =E28 -> 0 | F30: =F28 -> -77082.3 | G30: =H30+I30 -> -77082.3 | H30: =H28 -> 0 | I30: =I28 -> -77082.3
C31: այդ թվում` բյուջետային ծախսերի տնտեսագիտական դասակարգման հոդվածներ
C32: ԸՆԴԱՄԵՆԸ ԾԱԽՍԵՐ | D32: =E32+F32 -> -77082.3 | E32: =E33 -> 0 | F32: =F33 -> -77082.3 | G32: =H32+I32 -> -77082.3 | H32: =H33 -> 0 | I32: =I33 -> -77082.3
C33: ՈՉ ՖԻՆԱՆՍԱԿԱՆ ԱԿՏԻՎՆԵՐԻ ԳԾՈՎ ԾԱԽՍԵՐ | D33: =E33+F33 -> -77082.3 | E33: =E34 -> 0 | F33: =F34 -> -77082.3 | G33: =H33+I33 -> -77082.3 | H33: =H34 -> 0 | I33: =I34 -> -77082.3
C34: ՀԻՄՆԱԿԱՆ ՄԻՋՈՑՆԵՐ | D34: =E34+F34 -> -77082.3 | E34: =E36 -> 0 | F34: =F36 -> -77082.3 | G34: =H34+I34 -> -77082.3 | H34: =H36 -> 0 | I34: =I36 -> -77082.3
C35: ՇԵՆՔԵՐ ԵՎ ՇԻՆՈՒԹՅՈՒՆՆԵՐ | D35: =E35+F35 -> -77082.3 | E35: =E36 -> 0 | F35: =F36 -> -77082.3 | G35: =H35+I35 -> -77082.3 | H35: =H36 -> 0 | I35: =I36 -> -77082.3
C36: - Շենքերի և շինությունների շինարարություն | D36: =E36+F36 -> -77082.3 | F36: -77082.3 | G36: =H36+I36 -> -77082.3 | I36: -77082.3

Sheet 4
K2: Հավելված N 4
K3: ՀՀ կառավարության 2026 թվականի
K4: ______________ ի ___Ն որոշման
A6: ՀԱՅԱՍՏԱՆԻ ՀԱՆՐԱՊԵՏՈՒԹՅԱՆ ԿԱՌԱՎԱՐՈՒԹՅԱՆ 2026 ԹՎԱԿԱՆԻ ԴԵԿՏԵՄԲԵՐԻ 25-Ի N 1910-Ն ՈՐՈՇՄԱՆ N 9 ՀԱՎԵԼՎԱԾՈՒՄ ԿԱՏԱՐՎՈՂ ՓՈՓՈԽՈՒԹՅՈՒՆՆԵՐԸ
J8: Հազար դրամներով
A9: ԲԳԿ | B9: Ծրագիր | D9: Միջոցառում | H9: Իրականացնողը/ ակտիվն օգտագործողը/ շահառուի ընտրության չափորոշիչը | I9: Արդյունքային չափորոշիչը | J9: Ցուցանիշների փոփոխությունը (ավելացումները նշված են դրական նշանով, իսկ նվազեցումները` փակագծերում)
B10: Դասիչը | C10: Անվա-նումը | D10: Դասիչը | E10: Անվա-նումը | F10: Նկարագրու-թյունը | G10: Տեսակը | J10: Ինն ամիս | K10: Տարի
A11: ԸՆԴԱՄԵՆԸ | J11: =J12+J18+J28 -> 0 | K11: =K12+K18+K28 -> 0
A12: ='[1]1'!A11:F11 -> ՀՀ վարչապետի աշխատակազմ | J12: =J13 -> 231246.8 | K12: =K13 -> 231246.8
B13: ='[1]1'!B12 -> 1223 | C13: ='[1]1'!D12 -> Միջազգային դատարաններում, միջազգային արբիտրաժներում և այլ միջազգային ատյաններում ՀՀ շահերի ներկայացում և պաշտպանություն , դրանց կողմից ընդունված վճիռների և որոշումների կատարման ապահովում | J13: =J14 -> 231246.8 | K13: =K14 -> 231246.8
D14: ='[1]1'!C13 -> 1223 - 11001 | E14: ='[1]1'!D13 -> Հայաստանի Հանրապետության շահերի ներկայացմանն ու պաշտպանությանն ուղղված փաստաբանական, իրավաբանական ծառայություններ | J14: ='2'!G32 -> 231246.8 | K14: ='2'!H32 -> 231246.8
F15: ='[1]1'!E13 -> Արբիտրաժային և այլ վեճերի շրջանակներում ՀՀ շահերը ներկայացնելու և պաշտպանելու համար փաստաբանական, իրավաբանական, փորձագիտական ծառայությունների, վեճը լուծող հաշտարարի ծառայությունների, ՀՀ շահերից բխող խորհրդատվական բնույթի ծառայությունների ձեռքբերում
G16: ='[1]1'!F13 -> Ծառայությունների մատուցում
H17: Ծառայությունը մատուցողի անվանումը` Հանրային շահերը պաշտպանող կազմակերպություն
A18: ='2'!F33 -> ՀՀ տարածքային կառավարման և ենթակառուցվածքների նախարարություն | J18: =J19 -> -231246.8 | K18: =K19 -> -231246.8
B19: ='1'!B15 -> 1049 | C19: ='1'!D15 -> Ճանապարհային ցանցի բարելավում | J19: =J20+J24 -> -231246.8 | K19: =K20+K24 -> -231246.8
D20: 21026 | E20: ='1'!D16 -> Ասիական Զարգացման Բանկի աջակցությամբ իրականացվող «Դիմակայուն և ներառական ճանապարհային հատվածի բարելավման ծրագիր», Սիսիան-Քաջարան Հյուսիսային հատվածի կառուցում | J20: ='1'!G16 -> -154164.5 | K20: ='1'!H16 -> -154164.5
F21: ='1'!E16 -> Սիսիան-Քաջարան ճանապարհահատվածի հյուսիսային շուրջ 27.1 կմ հատվածի կառուցման աշխատանքներ
G22: ='1'!F16 -> Հանրության կողմից անմիջականորեն օգտագործվող ակտիվների հետ կապված միջոցառումներ
H23: Մասնագիտացված միավոր
D24: 21027 | E24: ='1'!D17 -> Եվրոպական ներդրումային Բանկի աջակցությամբ իրականացվող «Հայաստան. Սիսիան-Քաջարան ճանապարհահատվածի ծրագիր», Հյուսիսային հատվածի կառուցում և հիմնանորոգում | J24: ='1'!G17 -> -77082.3 | K24: ='1'!H17 -> -77082.3
F25: ='1'!E17 -> Սիսիան-Քաջարան ճանապարհահատվածի հյուսիսային շուրջ 27.1 կմ հատվածի կառուցման աշխատանքներ
G26: ='1'!F17 -> Հանրության կողմից անմիջականորեն օգտագործվող ակտիվների հետ կապված միջոցառումներ
H27: Մասնագիտացված միավոր
A28: ='[1]1'!A14:F14 -> ՀՀ կառավարություն | J28: =J29 -> 0 | K28: =K29 -> 0
B29: ='[1]1'!B15 -> 1139 | C29: ='[1]1'!D15 -> ՀՀ կառավարության պահուստային ֆոնդ | J29: =J30+J34 -> 0 | K29: =K30+K34 -> 0
D30: ='[1]1'!C16 -> 1139 - 11001 | E30: ='[1]1'!D16 -> ՀՀ կառավարության պահուստային ֆոնդ | J30: ='2'!G82 -> 231246.8 | K30: ='2'!H82 -> 231246.8
F31: ='[1]1'!E16 -> ՀՀ պետական բյուջեում նախատեսված ելքերի լրացուցիչ ֆինանսավորման, պետական բյուջեում չկանխատեսված ելքերի, ինչպես նաև բյուջետային երաշխիքների ապահովման ելքերի ֆինանսավորման ապահովում
G32: ='[1]1'!F16 -> Ծառայությունների մատուցում
H33: Ծառայությունը մատուցողի անվանումը` ՀՀ կառավարություն
D34: =D30 -> 1139 - 11001 | E34: =E30 -> ՀՀ կառավարության պահուստային ֆոնդ | J34: ='2'!G90 -> -231246.8 | K34: ='2'!H90 -> -231246.8
F35: =F31 -> ՀՀ պետական բյուջեում նախատեսված ելքերի լրացուցիչ ֆինանսավորման, պետական բյուջեում չկանխատեսված ելքերի, ինչպես նաև բյուջետային երաշխիքների ապահովման ելքերի ֆինանսավորման ապահովում
G36: =G32 -> Ծառայությունների մատուցում
H37: =H33 -> Ծառայությունը մատուցողի անվանումը` ՀՀ կառավարություն

Sheet 5
K2: Հավելված N 5
K3: ՀՀ կառավարության 2026 թվականի
K4: ______________ ի ___Ն որոշման
A6: ՀԱՅԱՍՏԱՆԻ ՀԱՆՐԱՊԵՏՈՒԹՅԱՆ ԿԱՌԱՎԱՐՈՒԹՅԱՆ 2026 ԹՎԱԿԱՆԻ ԴԵԿՏԵՄԲԵՐԻ 25-Ի N 1910-Ն ՈՐՈՇՄԱՆ N 9.1 ՀԱՎԵԼՎԱԾՈՒՄ ԿԱՏԱՐՎՈՂ ՓՈՓՈԽՈՒԹՅՈՒՆՆԵՐԸ
J8: Հազար դրամներով
A9: ԲՍԿ | B9: Ծրագիր | D9: Միջոցառում | H9: Իրականացնողը/ ակտիվն օգտագործողը/ շահառուի ընտրության չափորոշիչը | I9: Արդյունքային չափորոշիչը | J9: Ցուցանիշների փոփոխությունը (ավելացումները նշված են դրական նշանով, իսկ նվազեցումները` փակագծերում)
B10: Դասիչը | C10: Անվա-նումը | D10: Դասիչը | E10: Անվա-նումը | F10: Նկարագրու-թյունը | G10: Տեսակը | J10: Ինն ամիս | K10: Տարի
A11: ԸՆԴԱՄԵՆԸ | J11: =J12+J18+J28 -> 0 | K11: =K12+K18+K28 -> 0
A12: ='[1]1'!A11:F11 -> ՀՀ վարչապետի աշխատակազմ | J12: =J13 -> 231246.8 | K12: =K13 -> 231246.8
B13: ='[1]1'!B12 -> 1223 | C13: ='[1]1'!D12 -> Միջազգային դատարաններում, միջազգային արբիտրաժներում և այլ միջազգային ատյաններում ՀՀ շահերի ներկայացում և պաշտպանություն , դրանց կողմից ընդունված վճիռների և որոշումների կատարման ապահովում | J13: =J14 -> 231246.8 | K13: =K14 -> 231246.8
D14: ='[1]1'!C13 -> 1223 - 11001 | E14: ='[1]1'!D13 -> Հայաստանի Հանրապետության շահերի ներկայացմանն ու պաշտպանությանն ուղղված փաստաբանական, իրավաբանական ծառայություններ | J14: ='2'!G32 -> 231246.8 | K14: ='2'!H32 -> 231246.8
F15: ='[1]1'!E13 -> Արբիտրաժային և այլ վեճերի շրջանակներում ՀՀ շահերը ներկայացնելու և պաշտպանելու համար փաստաբանական, իրավաբանական, փորձագիտական ծառայությունների, վեճը լուծող հաշտարարի ծառայությունների, ՀՀ շահերից բխող խորհրդատվական բնույթի ծառայությունների ձեռքբերում
G16: ='[1]1'!F13 -> Ծառայությունների մատուցում
H17: Ծառայությունը մատուցողի անվանումը` Հանրային շահերը պաշտպանող կազմակերպություն
A18: ='2'!F33 -> ՀՀ տարածքային կառավարման և ենթակառուցվածքների նախարարություն | J18: =J19 -> -231246.8 | K18: =K19 -> -231246.8
B19: ='1'!B15 -> 1049 | C19: ='1'!D15 -> Ճանապարհային ցանցի բարելավում | J19: =J20+J24 -> -231246.8 | K19: =K20+K24 -> -231246.8
D20: 21026 | E20: ='1'!D16 -> Ասիական Զարգացման Բանկի աջակցությամբ իրականացվող «Դիմակայուն և ներառական ճանապարհային հատվածի բարելավման ծրագիր», Սիսիան-Քաջարան Հյուսիսային հատվածի կառուցում | J20: ='1'!G16 -> -154164.5 | K20: ='1'!H16 -> -154164.5
F21: ='1'!E16 -> Սիսիան-Քաջարան ճանապարհահատվածի հյուսիսային շուրջ 27.1 կմ հատվածի կառուցման աշխատանքներ
G22: ='1'!F16 -> Հանրության կողմից անմիջականորեն օգտագործվող ակտիվների հետ կապված միջոցառումներ
H23: Մասնագիտացված միավոր
D24: 21027 | E24: ='1'!D17 -> Եվրոպական ներդրումային Բանկի աջակցությամբ իրականացվող «Հայաստան. Սիսիան-Քաջարան ճանապարհահատվածի ծրագիր», Հյուսիսային հատվածի կառուցում և հիմնանորոգում | J24: ='1'!G17 -> -77082.3 | K24: ='1'!H17 -> -77082.3
F25: ='1'!E17 -> Սիսիան-Քաջարան ճանապարհահատվածի հյուսիսային շուրջ 27.1 կմ հատվածի կառուցման աշխատանքներ
G26: ='1'!F17 -> Հանրության կողմից անմիջականորեն օգտագործվող ակտիվների հետ կապված միջոցառումներ
H27: Մասնագիտացված միավոր
A28: ='[1]1'!A14:F14 -> ՀՀ կառավարություն | J28: =J29 -> 0 | K28: =K29 -> 0
B29: ='[1]1'!B15 -> 1139 | C29: ='[1]1'!D15 -> ՀՀ կառավարության պահուստային ֆոնդ | J29: =J30+J34 -> 0 | K29: =K30+K34 -> 0
D30: ='[1]1'!C16 -> 1139 - 11001 | E30: ='[1]1'!D16 -> ՀՀ կառավարության պահուստային ֆոնդ | J30: ='2'!G82 -> 231246.8 | K30: ='2'!H82 -> 231246.8
F31: ='[1]1'!E16 -> ՀՀ պետական բյուջեում նախատեսված ելքերի լրացուցիչ ֆինանսավորման, պետական բյուջեում չկանխատեսված ելքերի, ինչպես նաև բյուջետային երաշխիքների ապահովման ելքերի ֆինանսավորման ապահովում
G32: ='[1]1'!F16 -> Ծառայությունների մատուցում
H33: Ծառայությունը մատուցողի անվանումը` ՀՀ կառավարություն
D34: =D30 -> 1139 - 11001 | E34: =E30 -> ՀՀ կառավարության պահուստային ֆոնդ | J34: ='2'!G90 -> -231246.8 | K34: ='2'!H90 -> -231246.8
F35: =F31 -> ՀՀ պետական բյուջեում նախատեսված ելքերի լրացուցիչ ֆինանսավորման, պետական բյուջեում չկանխատեսված ելքերի, ինչպես նաև բյուջետային երաշխիքների ապահովման ելքերի ֆինանսավորման ապահովում
G36: =G32 -> Ծառայությունների մատուցում
H37: =H33 -> Ծառայությունը մատուցողի անվանումը` ՀՀ կառավարություն
