Workbook
Name AgencyCode: #REF!
Name AgencyCode: #REF!
Name AgencyName: #REF!
Name AgencyName: #REF!
Name åû: #REF!
Name davit: #REF!
Name Functional1: #REF!
Name Functional1: #REF!
Name ggg: #REF!
Name mas: #REF!
Name mass: #REF!
Name PANature: #REF!
Name PANature: #REF!
Name PAType: #REF!
Name PAType: #REF!
Name Performance2: #REF!
Name Performance2: #REF!
Name PerformanceType: #REF!
Name PerformanceType: #REF!
Name x: #REF!
Name Հավելված: #REF!
Name Մաս: #REF!
Name շախմատիստ: #REF!

Sheet H1
G1: Հավելված N 1
G2: ՀՀ կառավարության 2026 թվականի
G3: ______________ ի ___Ն որոշման
A4: ՀԱՅԱՍՏԱՆԻ ՀԱՆՐԱՊԵՏՈՒԹՅԱՆ 2026 ԹՎԱԿԱՆԻ ՊԵՏԱԿԱՆ ԲՅՈՒՋԵԻ ՄԱՍԻՆ» ՕՐԵՆՔԻ N 1 ՀԱՎԵԼՎԱԾԻ N 2 ԱՂՅՈՒՍԱԿՈՒՄ ԿԱՏԱՐՎՈՂ ՎԵՐԱԲԱՇԽՈՒՄԸ ԵՎ ՀԱՅԱՍՏԱՆԻ ՀԱՆՐԱՊԵՏՈՒԹՅԱՆ ԿԱՌԱՎԱՐՈՒԹՅԱՆ 2025 ԹՎԱԿԱՆԻ ԴԵԿՏԵՄԲԵՐԻ 25-Ի N 1910-Ն ՈՐՈՇՄԱՆ N 5 ՀԱՎԵԼՎԱԾԻ N 1 ԱՂՅՈՒՍԱԿՈՒՄ ԿԱՏԱՐՎՈՂ ՓՈՓՈԽՈՒԹՅՈՒՆՆԵՐԸ ԵՎ ԼՐԱՑՈՒՄՆԵՐԸ
H7: հազար դրամ
B8: ԲԳԿ | C8: Ծրագրային դասիչը | E8: ԲԳԿ/Ծրագրի /միջոցառման անվանումը | F8: Ծրագրի նպատակը/Միջոցառման նկարագրությունը | G8: Վերջնական արդյունքի նկարագրությունը/Միջոցառման տեսակը | H8: Ցուցանիշների փոփոխությունը (ավելացումները նշված են դրական նշանով, իսկ նվազեցումները` փակագծերում)
C9: Ծրագիր | D9: Միջոցառում | H9: Ինն ամիս | I9: Տարի
B10: ԸՆԴԱՄԵՆԸ | H10: =+H11 -> 0 | I10: =+I11 -> 0
B11: ՀՀ Արագածոտնի մարզպետի աշխատակազմ | H11: =H12 -> 0 | I11: =I12 -> 0
C12: 1002 | E12: ՀՀ Արագածոտնի մարզում տարածքային պետական կառավարում | F12: ՀՀ Արագածոտնի մարզում պետական քաղաքականության իրականացման ապահովում | G12: ՀՀ Արագածոտնի մարզում իրականացվող պետական ծրագրերի արդյունավետության և հասցեականության բարելավում, հետադարձ կապի ապահովում | H12: =H13+H14 -> 0 | I12: =I13+I14 -> 0
D13: 1002 - 11001 | E13: ՀՀ Արագածոտնի մարզպետի աշխատակազմի կողմից տարածքային պետական կառավարման ապահովում | F13: Մարզպետի աշխատակազմի ենթակայության հիմնարկների կառավարում, կրթության, ճանապարհաշինության, քաղաքաշինության և այլ ոլորտներում հասարակական պատվերի տեղաբաշխում, տնտեսության և սոցիալական տարբեր ոլորտներում մարզային միջոցառումների համակարգում | G13: Ծառայությունների մատուցում | H13: ='H3'!G24 -> -973.8 | I13: ='H3'!H24 -> -973.8
D14: 1002 - 31001 | E14: ՀՀ Արագածոտնի մարզպետի աշխատակազմի տեխնիկական հագեցվածության բարելավում | F14: ՀՀ Արագածոտնի մարզպետի աշխատակազմի աշխատանքային պայմանների բարելավման համար վարչական սարքավորումների ձեռքբերում | G14: Պետական մարմինների կողմից օգտագործվող ոչ ֆինանսական ակտիվների հետ գործառնություններ | H14: ='H3'!G32 -> 973.8 | I14: ='H3'!H32 -> 973.8
B15: ՀՀ կառավարություն | H15: =H16 -> 0 | I15: =I16 -> 0
C16: 1139 | E16: ՀՀ կառավարության պահուստային ֆոնդ | F16: Պետական բյուջեում չկանխատեսված, ինչպես նաև բյուջետային երաշխիքների ապահովման ծախսերի ֆինանսավորման ապահովում | G16: Պահուստային ֆոնդի կառավարման արդյունավետության և թափանցիկության ապահովում | H16: =H17+H18 -> 0 | I16: =I17+I18 -> 0
D17: 1139-11001 | E17: ՀՀ կառավարության պահուստային ֆոնդ | F17: ՀՀ պետական բյուջեում նախատեսված ելքերի լրացուցիչ ֆինանսավորման, պետական բյուջեում չկանխատեսված ելքերի, ինչպես նաև բյուջետային երաշխիքների ապահովման ելքերի ֆինանսավորման ապահովում | G17: Ծառայությունների մատուցում | H17: ='H3'!G60 -> -973.8 | I17: ='H3'!H60 -> -973.8
D18: 1139-11001 | E18: ՀՀ կառավարության պահուստային ֆոնդ | F18: ՀՀ պետական բյուջեում նախատեսված ելքերի լրացուցիչ ֆինանսավորման, պետական բյուջեում չկանխատեսված ելքերի, ինչպես նաև բյուջետային երաշխիքների ապահովման ելքերի ֆինանսավորման ապահովում | G18: Ծառայությունների մատուցում | H18: 973.8 | I18: 973.8
D20: ՀԱՅԱՍՏԱՆԻ ՀԱՆՐԱՊԵՏՈՒԹՅԱՆ ՎԱՐՉԱՊԵՏԻ ԱՇԽԱՏԱԿԱԶՄԻ ՂԵԿԱՎԱՐ՝ | G20: Լ. ՄԱԿՈՒՆՑ

Sheet H2
I1: Հավելված N 2
I2: ՀՀ կառավարության 2026 թվականի
I3: N ------------ -Ն որոշման
B4: «ՀԱՅԱՍՏԱՆԻ ՀԱՆՐԱՊԵՏՈՒԹՅԱՆ 2026 ԹՎԱԿԱՆԻ ՊԵՏԱԿԱՆ ԲՅՈՒՋԵԻ ՄԱՍԻՆ» ՕՐԵՆՔԻ N 1 ՀԱՎԵԼՎԱԾԻ N 3 ԱՂՅՈՒՍԱԿՈՒՄ ԿԱՏԱՐՎՈՂ ԼՐԱՑՈՒՄԸ
H5: հազար դրամ
B6: Ծրագրային դասիչ | D6: Բյուջետային գլխավոր կարգադրիչների ծրագրերի միջոցառումների և ուղղությունների անվանումները | E6: Ընդամենը | F6: Ցուցանիշների փոփոխությունը (ավելացումները նշված են դրական նշանով)
F7: այդ թվում
B8: Ծրագիր | C8: Միջոցառում | F8: Կառուցման աշխատանքներ | G8: Վերակառուցման, վերանորոգման և վերականգնման աշխատանքներ | H8: Նախագծահե- տազոտական, գեոդեզիա- քարտեզագրա- կան աշխա- տանքներ | I8: Ոչ ֆինանսական այլ ակտիվների ձեռքբերում
D9: ԸՆԴԱՄԵՆԸ | E9: =F9+G9+H9+I9 -> 973.8 | F9: =F11 -> 0 | G9: =G11 -> 0 | H9: =H11 -> 0 | I9: =I11 -> 973.8
D10: այդ թվում՝
D11: ՀՀ Արագածոտնի մարզպետի աշխատակազմ | E11: =F11+G11+H11+I11 -> 973.8 | G11: =G13 -> 0 | H11: =+H13 -> 0 | I11: =I13 -> 973.8
D12: այդ թվում՛
B13: 1002 | C13: 31001 | D13: ՀՀ Արագածոտնի մարզպետի աշխատակազմի տեխնիկական հագեցվածության բարելավում | E13: =F13+G13+H13+I13 -> 973.8 | I13: ='H3'!G32 -> 973.8
D16: ՀԱՅԱՍՏԱՆԻ ՀԱՆՐԱՊԵՏՈՒԹՅԱՆ
D17: ՎԱՐՉԱՊԵՏԻ ԱՇԽԱՏԱԿԱԶՄԻ
D18: ՂԵԿԱՎԱՐ ՝ Լ. ՄԱԿՈՒՆՑ

Sheet H3
A1: Հավելված N 3
A2: ՀՀ կառավարության 2026 թվականի
A3: ______________ ի ___Ն որոշման
A5: ՀԱՅԱՍՏԱՆԻ ՀԱՆՐԱՊԵՏՈՒԹՅԱՆ ԿԱՌԱՎԱՐՈՒԹՅԱՆ 2025 ԹՎԱԿԱՆԻ ԴԵԿՏԵՄԲԵՐԻ 25-Ի ԹԻՎ 1910-Ն ՈՐՈՇՄԱՆ N 3 ԵՎ N 4 ՀԱՎԵԼՎԱԾՆԵՐՈՒՄ ԿԱՏԱՐՎՈՂ ՓՈՓՈԽՈՒԹՅՈՒՆՆԵՐԸ ԵՎ ԼՐԱՑՈՒՄՆԵՐԸ
H7: հազար դրամով
A8: Գործառական դասիչը | D8: Ծրագրային դասիչը | F8: Բյուջետային հատկացումների գլխավոր կարգադրիչների, ծրագրերի, միջոցառումների և միջոցառումները կատարող պետական մարմինների անվանումները | G8: Ցուցանիշների փոփոխությունը (ավելացումները նշված են դրական նշանով, իսկ նվազեցումները` փակագծերում)
A9: Բաժին | B9: Խումբ | C9: Դաս | D9: Ծրագիր | E9: Միջոցառում | G9: Ինն ամիս | H9: Տարի
F10: ԸՆԴԱՄԵՆԸ | G10: =G12 -> 0 | H10: =H12 -> 0
F11: այդ թվում
F12: ՀՀ Արագածոտնի մարզպետի աշխատակազմ | G12: =G14 -> 0 | H12: =H14 -> 0
F13: այդ թվում`
A14: 01 | F14: ԸՆԴՀԱՆՈՒՐ ԲՆՈՒՅԹԻ ՀԱՆՐԱՅԻՆ ԾԱՌԱՅՈՒԹՅՈՒՆՆԵՐ | G14: =G16 -> 0 | H14: =H16 -> 0
F15: այդ թվում`
B16: 01 | F16: Օրենսդիր և գործադիր մարմիններ, պետական կառավարում, ֆինանսական և հարկաբյուջետային հարաբերություններ, արտաքին հարաբերություններ | G16: =G18 -> 0 | H16: =H18 -> 0
F17: այդ թվում`
C18: 01 | F18: Օրենսդիր և գործադիր մարմիններ, պետական կառավարում | G18: =G20 -> 0 | H18: =H20 -> 0
F19: այդ թվում`
F20: ՀՀ Արագածոտնի մարզպետի աշխատակազմ | G20: =G22 -> 0 | H20: =H22 -> 0
F21: այդ թվում`
D22: 1002 | F22: ՀՀ Արագածոտնի մարզում տարածքային պետական կառավարում | G22: =+G24+G32 -> 0 | H22: =+H24+H32 -> 0
F23: այդ թվում`
E24: 11001 | F24: ՀՀ Արագածոտնի մարզպետի աշխատակազմի կողմից տարածքային պետական կառավարման ապահովում | G24: =G26 -> -973.8 | H24: =H26 -> -973.8
F25: այդ թվում` ըստ կատարողների
F26: ՀՀ Արագածոտնի մարզպետի աշխատակազմ | G26: =G28 -> -973.8 | H26: =H28 -> -973.8
F27: այդ թվում` բյուջետային ծախսերի տնտեսագիտական դասակարգման հոդվածներ
F28: ԸՆԴԱՄԵՆԸ ԾԱԽՍԵՐ | G28: =G29 -> -973.8 | H28: =H29 -> -973.8
F29: ԸՆԹԱՑԻԿ ԾԱԽՍԵՐ | G29: =G30 -> -973.8 | H29: =+H30 -> -973.8
F30: Հիմնական միջոցների ընթացիկ նորոգում և պահպանում | G30: =G31 -> -973.8 | H30: =H31 -> -973.8
F31: - Շենքերի և կառույցների ընթացիկ նորոգում և պահպանում | G31: -973.8 | H31: -973.8
E32: 31001 | F32: ՀՀ Արագածոտնի մարզպետի աշխատակազմի տեխնիկական հագեցվածության բարելավում | G32: =+G34 -> 973.8 | H32: =H34 -> 973.8
F33: այդ թվում` ըստ կատարողների
F34: ՀՀ Արագածոտնի մարզպետի աշխատակազմ | G34: =G36 -> 973.8 | H34: =H36 -> 973.8
F35: այդ թվում` բյուջետային ծախսերի տնտեսագիտական դասակարգման հոդվածներ
F36: ԸՆԴԱՄԵՆԸ ԾԱԽՍԵՐ | G36: =G37 -> 973.8 | H36: =H37 -> 973.8
F37: ՈՉ ՖԻՆԱՆՍԱԿԱՆ ԱԿՏԻՎՆԵՐԻ ԳԾՈՎ ԾԱԽՍԵՐ | G37: =G38 -> 973.8 | H37: =H38 -> 973.8
F38: ՀԻՄՆԱԿԱՆ ՄԻՋՈՑՆԵՐ | G38: =G39 -> 973.8 | H38: =H39 -> 973.8
F39: ՄԵՔԵՆԱՆԵՐ ԵՎ ՍԱՐՔԱՎՈՐՈՒՄՆԵՐ | G39: =G40 -> 973.8 | H39: =H40 -> 973.8
F40: Այլ մեքենաներ և սարքավորումներ | G40: 973.8 | H40: 973.8
F41: ՀՀ Կառավարություն | G41: =G43 -> 0 | H41: =H43 -> 0
F42: այդ թվում`
A43: 11 | F43: ՀԻՄՆԱԿԱՆ ԲԱԺԻՆՆԵՐԻՆ ՉԴԱՍՎՈՂ ՊԱՀՈՒՍՏԱՅԻՆ ՖՈՆԴԵՐ | G43: =G45 -> 0 | H43: =H45 -> 0
F44: այդ թվում`
B45: 01 | F45: ՀՀ կառավարության և համայնքների պահուստային ֆոնդ | G45: =G47 -> 0 | H45: =H47 -> 0
F46: այդ թվում`
C47: 01 | F47: ՀՀ կառավարության պահուստային ֆոնդ | G47: =G49 -> 0 | H47: =H49 -> 0
F48: այդ թվում`
F49: ՀՀ Կառավարություն | G49: =G51 -> 0 | H49: =H51 -> 0
F50: այդ թվում`
D51: 1139 | F51: ՀՀ կառավարության պահուստային ֆոնդ | G51: =G53+G61 -> 0 | H51: =H53+H61 -> 0
F52: այդ թվում`
E53: 11001 | F53: ՀՀ կառավարության պահուստային ֆոնդ | G53: =G55 -> -973.8 | H53: =H55 -> -973.8
F54: այդ թվում` ըստ կատարողների
F55: ՀՀ կառավարություն | G55: =G57 -> -973.8 | H55: =H57 -> -973.8
F56: այդ թվում` բյուջետային ծախսերի տնտեսագիտական դասակարգման հոդվածներ
F57: ԸՆԴԱՄԵՆԸ ԾԱԽՍԵՐ | G57: =G58 -> -973.8 | H57: =H58 -> -973.8
F58: ԸՆԹԱՑԻԿ ԾԱԽՍԵՐ | G58: =G59 -> -973.8 | H58: =H59 -> -973.8
F59: ԱՅԼ ԾԱԽՍԵՐ | G59: =G60 -> -973.8 | H59: =H60 -> -973.8
F60: Պահուստային միջոցներ | G60: -973.8 | H60: -973.8
E61: 11001 | F61: ՀՀ կառավարության պահուստային ֆոնդ | G61: =G63 -> 973.8 | H61: =H63 -> 973.8
F62: այդ թվում` ըստ կատարողների
F63: ՀՀ կառավարություն | G63: =G65 -> 973.8 | H63: =H65 -> 973.8
F64: այդ թվում` բյուջետային ծախսերի տնտեսագիտական դասակարգման հոդվածներ
F65: ԸՆԴԱՄԵՆԸ ԾԱԽՍԵՐ | G65: =G66 -> 973.8 | H65: =H66 -> 973.8
F66: ԸՆԹԱՑԻԿ ԾԱԽՍԵՐ | G66: =G67 -> 973.8 | H66: =H67 -> 973.8
F67: ԱՅԼ ԾԱԽՍԵՐ | G67: =G68 -> 973.8 | H67: =H68 -> 973.8
F68: Պահուստային միջոցներ | G68: 973.8 | H68: 973.8
A71: ՀԱՅԱՍՏԱՆԻ ՀԱՆՐԱՊԵՏՈՒԹՅԱՆ ՎԱՐՉԱՊԵՏԻ ԱՇԽԱՏԱԿԱԶՄԻ ՂԵԿԱՎԱՐ՝ | F71: Լ. ՄԱԿՈՒՆՑ

Sheet H4
F1: Հավելված N 4
F2: ՀՀ կառավարության 2026 թվականի
F3: № ------------ -Ն որոշման
B5: ՀԱՅԱՍՏԱՆԻ ՀԱՆՐԱՊԵՏՈՒԹՅԱՆ ԿԱՌԱՎԱՐՈՒԹՅԱՆ 2025 ԹՎԱԿԱՆԻ ԴԵԿՏԵՄԲԵՐԻ 25-Ի N 1910-Ն ՈՐՈՇՄԱՆ N 5 ՀԱՎԵԼՎԱԾԻ N 2 ԱՂՅՈՒՍԱԿՈՒՄ ԿԱՏԱՐՎՈՂ ԼՐԱՑՈՒՄԸ
F6: հազար դրամ
B7: Ծրագրային դասիչը | D7: Բյուջետային հատկացումների գլխավոր կարգադրիչների, ծրագրերի, միջոցառումների և միջոցառումները կատարող պետական մարմինների անվանումները | E7: Ցուցանիշների փոփոխությունը (ավելացումները նշված են դրական նշանով)
B8: Ծրագիր | C8: Միջոցառում | E8: Ինն ամիս | F8: Տարի
D9: ԸՆԴԱՄԵՆԸ | E9: =E10 -> 973.8 | F9: =F10 -> 973.8
D10: ՀՀ Արագածոտնի մարզպետի աշխատակազմ | E10: =+E12 -> 973.8 | F10: =+F12 -> 973.8
D11: այդ թվում`
B12: 1002 | C12: 31001 | D12: ՀՀ Արագածոտնի մարզպետի աշխատակազմի տեխնիկական հագեցվածության բարելավում | E12: =+E14 -> 973.8 | F12: =+F14 -> 973.8
D13: այդ թվում` ըստ կատարողների
D14: ՀՀ Արագածոտնի մարզպետի աշխատակազմ | E14: ='H3'!G32 -> 973.8 | F14: ='H3'!H32 -> 973.8
C17: ՀԱՅԱՍՏԱՆԻ ՀԱՆՐԱՊԵՏՈՒԹՅԱՆ
C18: ՎԱՐՉԱՊԵՏԻ ԱՇԽԱՏԱԿԱԶՄԻ
C19: ՂԵԿԱՎԱՐ ՝ Լ. ՄԱԿՈՒՆՑ

Sheet H5
K1: Հավելված N 5
J2: ՀՀ կառավարության 2026 թվականի
K3: N ------------ -Ն որոշման
C5: ՀԱՅԱՍՏԱՆԻ ՀԱՆՐԱՊԵՏՈՒԹՅԱՆ ԿԱՌԱՎԱՐՈՒԹՅԱՆ 2025 ԹՎԱԿԱՆԻ ԴԵԿՏԵՄԲԵՐԻ 25-Ի N 1910-Ն ՈՐՈՇՄԱՆ N 9 ԵՎ 9.1 ՀԱՎԵԼՎԱԾՆԵՐՈՒՄ ԿԱՏԱՐՎՈՂ ՓՈՓՈԽՈՒԹՅՈՒՆԸ ԵՎ ԼՐԱՑՈՒՄԸ
L6: հազ․ դրամ
B7: ԲԳԿ/ԲՍԿ | C7: Ծրագիր | E7: Միջոցառում | I7: Իրականացնողը/ ակտիվն օգտագործողը/ շահառուի ընտրության չափորոշիչը | J7: Արդյունքային չափորոշիչը | K7: Ցուցանիշների փոփոխությունը (ավելացումները նշված են դրական նշանով, իսկ նվազեցումները` փակագծերում)
C8: Դասիչը | D8: Անվանումը | E8: Դասիչը | F8: Անվանումը | G8: Նկարագրությունը | H8: Տեսակը | K8: Ինն ամիս | L8: Տարի
B9: ԸՆԴԱՄԵՆԸ | K9: =+K10 -> 0 | L9: =+L10 -> 0
B10: ՀՀ Արագածոտնի մարզպետի աշխատակազմ | K10: =K11 -> 0 | L10: =L11 -> 0
C11: 1002 | D11: ՀՀ Արագածոտնի մարզում տարածքային պետական կառավարում | K11: =+K12+K16 -> 0 | L11: =+L12+L16 -> 0
E12: 1002 - 11001 | F12: ՀՀ Արագածոտնի մարզպետի աշխատակազմի կողմից տարածքային պետական կառավարման ապահովում | K12: ='H3'!G24 -> -973.8 | L12: ='H3'!H24 -> -973.8
G13: Մարզպետի աշխատակազմի ենթակայության հիմնարկների կառավարում, կրթության, ճանապարհաշինության, քաղաքաշինության և այլ ոլորտներում հասարակական պատվերի տեղաբաշխում, տնտեսության և սոցիալական տարբեր ոլորտներում մարզային միջոցառումների համակարգում
H14: Ծառայությունների մատուցում
I15: Ծառայությունը մատուցողի անվանումը` ՀՀ Արագածոտնի մարզպետի աշխատակազմ
E16: 1002 - 31001 | F16: ՀՀ Արագածոտնի մարզպետի աշխատակազմի տեխնիկական հագեցվածության բարելավում | K16: ='H3'!G32 -> 973.8 | L16: ='H3'!H32 -> 973.8
G17: ՀՀ Արագածոտնի մարզպետի աշխատակազմի աշխատանքային պայմանների բարելավման համար վարչական սարքավորումների ձեռքբերում
H18: Պետական մարմինների կողմից օգտագործվող ոչ ֆինանսական ակտիվների հետ գործառնություններ
I19: Ակտիվն օգտագործող կազմակերպության անվանումը` ՀՀ Արագածոտնի մարզպետի աշխատակազմ
J20: էլեկտրական մեքենաների վերալիցքավորման կայաններ, հատ | L20: 1
B21: ՀՀ կառավարություն | K21: =K22+K27 -> 0 | L21: =L22+L27 -> 0
C22: 1139 | D22: ՀՀ կառավարության պահուստային ֆոնդ | K22: =+K23+K32 -> 973.8 | L22: =+L23+L32 -> 973.8
E23: 1139-11001 | F23: ՀՀ կառավարության պահուստային ֆոնդ | K23: ='H3'!G61 -> 973.8 | L23: ='H3'!H61 -> 973.8
G24: ՀՀ պետական բյուջեում նախատեսված ելքերի լրացուցիչ ֆինանսավորման, պետական բյուջեում չկանխատեսված ելքերի, ինչպես նաև բյուջետային երաշխիքների ապահովման ելքերի ֆինանսավորման ապահովում
H25: Ծառայությունների մատուցում
I26: Ծառայությունը մատուցողի անվանումը` ՀՀ կառավարություն
C27: 1139 | D27: ՀՀ կառավարության պահուստային ֆոնդ | K27: =+K28+K37 -> -973.8 | L27: =+L28+L37 -> -973.8
E28: 1139-11001 | F28: ՀՀ կառավարության պահուստային ֆոնդ | K28: ='H3'!G60 -> -973.8 | L28: ='H3'!H60 -> -973.8
G29: ՀՀ պետական բյուջեում նախատեսված ելքերի լրացուցիչ ֆինանսավորման, պետական բյուջեում չկանխատեսված ելքերի, ինչպես նաև բյուջետային երաշխիքների ապահովման ելքերի ֆինանսավորման ապահովում
H30: Ծառայությունների մատուցում
I31: Ծառայությունը մատուցողի անվանումը` ՀՀ կառավարություն
B33: ՀԱՅԱՍՏԱՆԻ ՀԱՆՐԱՊԵՏՈՒԹՅԱՆ ՎԱՐՉԱՊԵՏԻ ԱՇԽԱՏԱԿԱԶՄԻ ՂԵԿԱՎԱՐ՝ | E33: Լ. ՄԱԿՈՒՆՑ

Sheet H6
G1: Հավելված N 6
G2: ՀՀ կառավարության 2026 թվականի
G3: N ------------ -Ն որոշման
A5: ՀԱՅԱՍՏԱՆԻ ՀԱՆՐԱՊԵՏՈՒԹՅԱՆ ԿԱՌԱՎԱՐՈՒԹՅԱՆ 2025 ԹՎԱԿԱՆԻ ԴԵԿՏԵՄԲԵՐԻ 25-Ի N 1910-Ն ՈՐՈՇՄԱՆ N 10 ՀԱՎԵԼՎԱԾՈՒՄ ԿԱՏԱՐՎՈՂ ՓՈՓՈԽՈՒԹՅՈՒՆԸ ԵՎ ԼՐԱՑՈՒՄԸ
A8: Կոդը | B8: Անվանումը | C8: Գնման ձևը | D8: Չափի միավորը | E8: Միավորի գինը | F8: Քանակը | G8: Ցուցանիշների փոփոխությունը (ավելացումները նշված են դրական նշանով, իսկ նվազեցումները` փակագծերում)
G9: գումարը (հազար դրամ)
B10: ԸՆԴԱՄԵՆԸ | G10: =G11 -> 0
B11: ՀՀ Արագածոտնի մարզպետի աշխատակազմ | G11: =+G13+G16 -> 0
A12: Բաժին N 01 | B12: Խումբ N 01 | C12: Դաս N 01 | D12: Օրենսդիր և գործադիր մարմիններ, պետական կառավարում
A13: 1002 -11001 | B13: ՀՀ Արագածոտնի մարզպետի աշխատակազմի կողմից տարածքային պետական կառավարման ապահովում | G13: =G14 -> -973.8
B14: ՄԱՍ I. Ա Շ Խ Ա Տ Ա Ն Ք Ն Ե Ր | G14: =G15 -> -973.8
A15: 45461100/1 | B15: Շենքերի, շինությունների ընթացիկ նորոգման աշխատանքներ | C15: ԳՀ | D15: դրամ | G15: ='H3'!G24 -> -973.8
A16: 1002-31001 | B16: ՀՀ Արագածոտնի մարզպետի աշխատակազմի տեխնիկական հագեցվածության բարելավում | G16: =G17 -> 973.8
B17: ՄԱՍ I. Ա Պ Ր Ա Ն Ք Ն Ե Ր | G17: =G18 -> 973.8
A18: 31681161/501 | B18: էլեկտրական մեքենաների վերալիցքավորման կայաններ | C18: ՄԱ | D18: հատ | E18: =G18*1000 -> 973800 | F18: 1 | G18: ='H3'!G32 -> 973.8
B23: ՀԱՅԱՍՏԱՆԻ ՀԱՆՐԱՊԵՏՈՒԹՅԱՆ
B24: ՎԱՐՉԱՊԵՏԻ ԱՇԽԱՏԱԿԱԶՄԻ
B25: ՂԵԿԱՎԱՐ ՝ Լ. ՄԱԿՈՒՆՑ
