Workbook
Name _1__հայտարարվել_է_նախ_մրցույթ: #REF!
Name _1__հայտարարվել_է_նախ_մրցույթ: #REF!
Name _tab10: #REF!
Name _tab10: #REF!
Name _tab11: #REF!
Name _tab11: #REF!
Name _tab12: #REF!
Name _tab12: #REF!
Name _tab13: #REF!
Name _tab13: #REF!
Name _tab14: #REF!
Name _tab14: #REF!
Name _tab15: #REF!
Name _tab15: #REF!
Name _tab16: #REF!
Name _tab16: #REF!
Name _tab17: #REF!
Name _tab17: #REF!
Name _tab18: #REF!
Name _tab18: #REF!
Name _tab19: #REF!
Name _tab19: #REF!
Name _tab20: #REF!
Name _tab20: #REF!
Name _tab21: #REF!
Name _tab21: #REF!
Name _tab22: #REF!
Name _tab22: #REF!
Name _tab23: #REF!
Name _tab23: #REF!
Name _tab24: #REF!
Name _tab24: #REF!
Name _tab5: #REF!
Name _tab5: #REF!
Name _tab6: #REF!
Name _tab6: #REF!
Name _tab7: #REF!
Name _tab7: #REF!
Name _tab8: #REF!
Name _tab8: #REF!
Name _tab9: #REF!
Name _tab9: #REF!
Name AgencyCode: #REF!
Name AgencyCode: #REF!
Name AgencyName: #REF!
Name AgencyName: #REF!
Name åû: #REF!
Name åû: #REF!
Name davit: #REF!
Name davit: #REF!
Name Functional1: #REF!
Name Functional1: #REF!
Name ggg: #REF!
Name ggg: #REF!
Name hav: #REF!
Name hav: #REF!
Name havelvac: #REF!
Name havelvac: #REF!
Name mas: #REF!
Name mas: #REF!

Sheet 1
H1: Հավելված N 1
E2: ՀՀ կառավարության 2026 թվականի
E3: -----------------ի N -----------Ն որոշման
A5: «ՀԱՅԱՍՏԱՆԻ ՀԱՆՐԱՊԵՏՈՒԹՅԱՆ 2026 ԹՎԱԿԱՆԻ ՊԵՏԱԿԱՆ ԲՅՈՒՋԵԻ ՄԱՍԻՆ» ՕՐԵՆՔԻ N 1 ՀԱՎԵԼՎԱԾԻ N 2 ԱՂՅՈՒՍԱԿՈՒՄ ԿԱՏԱՐՎՈՂ ՎԵՐԱԲԱՇԽՈՒՄԸ, ՀԱՅԱՍՏԱՆԻ ՀԱՆՐԱՊԵՏՈՒԹՅԱՆ ԿԱՌԱՎԱՐՈՒԹՅԱՆ 2025 ԹՎԱԿԱՆԻ ԴԵԿՏԵՄԲԵՐԻ 25-Ի N 1910-Ն ՈՐՈՇՄԱՆ N 5 ՀԱՎԵԼՎԱԾԻ N 1 ԱՂՅՈՒՍԱԿՈՒՄ ԿԱՏԱՐՎՈՂ ՓՈՓՈԽՈՒԹՅՈՒՆՆԵՐԸ
H6: հազար դրամներով
A7: ԲԳԿ | B7: Ծրագրային դասիչը | D7: ԲԳԿ/Ծրագրի /միջոցառման անվանումը | E7: Ծրագրի նպատակը/Միջոցառման նկարագրույունը | F7: Վերջնական արդյունքի նկարագրությունը/Միջոցառման տեսակը | G7: Ցուցանիշների փոփոխությունները ավելացումները նշված են դրական նշանով, իսկ նվազեցումները՝ փակագծերում
B8: Ծրագիր | C8: Միջոցառում | G8: Ինն ամիս | H8: Տարի
A9: ԸՆԴԱՄԵՆԸ | G9: =G10+G24 -> 0 | H9: =H10+H24 -> 0
A10: ՀՀ աշխատանքի և սոցիալական հարցերի նախարարություն | G10: =G11+G15+G18+G21 -> 14807580 | H10: =H11+H15+H18+H21 -> 14807580
B11: 1102 | D11: Կենսաթոշակային ապահովություն | E11: Կենսաթոշակի իրավունքի իրացում | F11: Կենսաթոշակների նշանակման և վճարման գործընթացի ապահովում | G11: =G12+G13+G14 -> 12430200 | H11: =H12+H13+H14 -> 12430200
C12: 1102 - 12001 | D12: Սպայական անձնակազմի և նրանց ընտանիքների անդամների կենսաթոշակներ | E12: Սպայական անձնակազմի զինծառայողներին երկարամյա ծառայության, հաշմանդամության և զինծառայողի մահվան դեպքում նրա ընտանիքի անդամներին կերակրողին կորցնելու դեպքում զինվորական կենսաթոշակների տրամադրում | F12: Տրանսֆերտների տրամադրում | G12: 286700 | H12: 286700
C13: 1102 - 12002 | D13: Շարքային զինծառայողների և նրանց ընտանիքների անդամների զինվորական կենսաթոշակներ | E13: ԽՍՀՄ զինված ուժերի շարքային կազմի զինծառայողներին հաշմանդամության, նրանց մահվան դեպքում ընտանիքների անդամներին կերակրողին կորցնելու դեպքում զինվորական կենսաթոշակների տրամադրում | F13: Տրանսֆերտների տրամադրում | G13: 38500 | H13: 38500
C14: 1102 - 12003 | D14: Աշխատանքային կենսաթոշակներ | E14: Աշխատանքային կենսաթոշակների (տարիքային, հաշմանդամության, արտոնյալ պայմաններով, երկարամյա ծառայության, մասնակի, կերակրողին կորցնելու դեպքում կենսաթոշակների) տրամադրում | F14: Տրանսֆերտների տրամադրում | G14: 12105000 | H14: 12105000
B15: 1068 | D15: Ժողովրդագրական վիճակի բարելավում | E15: Խթանել ժողովրդագրական վիճակի բարելավումը | F15: Ժողովրդագրական վիճակի բարելավում և բազմազավակության աճ | G15: =G16+G17 -> -2627770 | H15: =H16+H17 -> 0
C16: 1068 - 12002 | D16: Երեխայի ծննդյան միանվագ նպաստ | E16: Երեխայի ծննդյան կապակցությամբ միանվագ նպաստի տրամադրում | F16: Տրանսֆերտների տրամադրում | G16: -1340760 | H16: 0
C17: 1068 - 12004 | D17: Դրամական աջակցություն ընտանիքում 3 և ավելի երեխա ունեցող ընտանիքներին | E17: Ընտանիքում 3-րդ և յուրաքանչյուր հաջորդ երեխայի ծնվելու կապակցությամբ նոր ծնված երեխային նշանակել և վճարել դրամական աջակցություն՛ ամսական 50000 դրամի չափով, մինչև երեխայի 6 տարեկանը լրանալը | F17: Տրանսֆերտների տրամադրում | G17: -1287010 | H17: 0
B18: 1082 | D18: Սոցիալական աջակցություն անաշխատունակության դեպքում | E18: Կորցրած եկամուտների մասնակի փոխհատուցում | F18: Անաշխատունակության հետևանքով եկամտի կորստի մասնակի փոխհատուցման ապահովում | G18: =G19+G20 -> 2627770 | H18: =H19+H20 -> 0
C19: 1082 - 12001 | D19: Ժամանակավոր անաշխատունակության դեպքում նպաստ | E19: ժամանակավոր անաշխատունակության դեպքում (հիվանդության, ընտանիքի հիվանդ անդամի խնամքի և օրենքով սահմանված այլ պատճ. առաջացած) վարձու աշխատողներին, նոտարներին և անհատ ձեռնարկատերերին ժամանակավոր անաշխատունակության նպաստի վճարում | F19: Տրանսֆերտների տրամադրում | G19: 613700 | H19: 0
C20: 1082 - 12002 | D20: Մայրության նպաստ | E20: Մայրության նպաստի տրամադրում աշխատող և չաշխատող անձանց | F20: Տրանսֆերտների տրամադրում | G20: 2014070 | H20: 0
B21: 1205 | D21: Սոցիալական ապահովություն | E21: Սոցիալական ապահովության իրավունքի իրականացման ապահովում | F21: Սոցիալական ապահովության իրավունքի իրականացում | G21: =G22+G23 -> 2377380 | H21: =H22+H23 -> 2377380
C22: 1205 - 12001 | D22: Ծերության, հաշմանդամության, կերակրողին կորցնելու դեպքում նպաստներ | E22: Ծերության, հաշմանդամության, կերակրողին կորցնելու դեպքում սոցիալական նպաստների տրամադրում | F22: Տրանսֆերտների տրամադրում | G22: 1658600 | H22: 1658600
C23: 1205 - 12029 | D23: Անկանխիկ եղանակով վճարումներից կենսաթոշակառուներին հետվճարի տրամադրում | E23: Անկանխիկ եղանակով վճարումներից կենսաթոշակառուներին հետվճարի տրամադրում՛ պետություն-մասնավոր սոցիալական փոխգործակցության միջոցառման շրջանակում | F23: Տրանսֆերտների տրամադրում | G23: 718780 | H23: 718780
A24: ՀՀ կառավարություն | G24: =G25 -> -14807580 | H24: =H25 -> -14807580
B25: 1139 | D25: ՀՀ կառավարության պահուստային ֆոնդ | E25: Պետական բյուջեում չկանխատեսված, ինչպես նաեւ բյուջետային երաշխիքների ապահովման ծախսերի ֆինանսավորման ապահովում | F25: Պահուստային ֆոնդի կառավարման արդյունավետության և թափանցիկության ապահովում | G25: =G26+G27+G28 -> -14807580 | H25: =H26+H27+H28 -> -14807580
C26: 1139 - 11003 | D26: Հարկաբյուջետային ռիսկերի կառավարման պահուստ | E26: Հարկաբյուջետային ռիսկերի կառավարման նպատակով նախատեսված միջոցներ | F26: Ծառայությունների մատուցում | G26: -14807580 | H26: -14807580
C27: 1139 - 11001 | D27: ՀՀ կառավարության պահուստային ֆոնդ | E27: ՀՀ պետական բյուջեում նախատեսված ելքերի լրացուցիչ ֆինանսավորման, պետական բյուջեում չկանխատեսված ելքերի, ինչպես նաև բյուջետային երաշխիքների ապահովման ելքերի ֆինանսավորման ապահովում | F27: Ծառայությունների մատուցում | G27: 14807580 | H27: 14807580
C28: 1139 - 11001 | D28: ՀՀ կառավարության պահուստային ֆոնդ | E28: ՀՀ պետական բյուջեում նախատեսված ելքերի լրացուցիչ ֆինանսավորման, պետական բյուջեում չկանխատեսված ելքերի, ինչպես նաև բյուջետային երաշխիքների ապահովման ելքերի ֆինանսավորման ապահովում | F28: Ծառայությունների մատուցում | G28: =G10*-1 -> -14807580 | H28: =H10*-1 -> -14807580

Sheet 2
H1: Հավելված N 2
F2: ՀՀ կառավարության 2026 թվականի
F3: -----------------ի N -----------Ն որոշման
A5: ՀԱՅԱՍՏԱՆԻ ՀԱՆՐԱՊԵՏՈՒԹՅԱՆ ԿԱՌԱՎԱՐՈՒԹՅԱՆ 2025 ԹՎԱԿԱՆԻ ԴԵԿՏԵՄԲԵՐԻ 25-Ի N 1910-Ն ՈՐՈՇՄԱՆ N N 3 ԵՎ 4 ՀԱՎԵԼՎԱԾՆԵՐՈՒՄ ԿԱՏԱՐՎՈՂ ՓՈՓՈԽՈՒԹՅՈՒՆՆԵՐԸ
G6: հազար դրամներով
A7: Գործառական դասիչը | D7: Ծրագրային դասիչը | F7: Բյուջետային ծախսերի գործառական դասակարգման բաժինների, խմբերի և դասերի, բյուջետային ծրագրերի միջոցառումների, բյուջետային հատկացումների գլխավոր կարգադրիչների անվանումները | G7: Ցուցանիշների փոփոխությունները ավելացումները նշված են դրական նշանով, իսկ նվազեցումները՝ փակագծերում
A8: Բաժինը | B8: Խումբը | C8: Դասը | D8: Ծրագիր | E8: Միջոցառում | G8: Ինն ամիս | H8: Տարի
F9: ԸՆԴԱՄԵՆԸ ԾԱԽՍԵՐ | G9: =G11+G124 -> 0 | H9: =H11+H124 -> 0
F10: այդ թվում`
F11: ՀՀ աշխատանքի և սոցիալական հարցերի նախարարություն | G11: =G13 -> 14807580 | H11: =H13 -> 14807580
F12: այդ թվում՝
A13: 10 | F13: ՍՈՑԻԱԼԱԿԱՆ ՊԱՇՏՊԱՆՈՒԹՅՈՒՆ | G13: =G15+G70+G107 -> 14807580 | H13: =H15+H70+H107 -> 14807580
F14: այդ թվում՝
B15: 02 | F15: Ծերություն | G15: =G17 -> 14807580 | H15: =H17 -> 14807580
F16: այդ թվում՝
C17: 01 | F17: Ծերություն | G17: =G19 -> 14807580 | H17: =H19 -> 14807580
F18: այդ թվում՝
F19: ՀՀ աշխատանքի և սոցիալական հարցերի նախարարություն | G19: =G21+G50 -> 14807580 | H19: =H21+H50 -> 14807580
F20: այդ թվում՝
D21: ='1'!B11 -> 1102 | F21: ='1'!D11 -> Կենսաթոշակային ապահովություն | G21: =G23+G32+G41 -> 12430200 | H21: =H23+H32+H41 -> 12430200
F22: այդ թվում`
E23: 12001 | F23: Սպայական անձնակազմի և նրանց ընտանիքների անդամների կենսաթոշակներ | G23: =G25 -> 286700 | H23: =H25 -> 286700
F24: այդ թվում` ըստ կատարողների
F25: ՀՀ աշխատանքի և սոցիալական հարցերի նախարարության միասնական սոցիալական ծառայություն | G25: =G27 -> 286700 | H25: =H27 -> 286700
F26: այդ թվում` բյուջետային ծախսերի տնտեսագիտական դասակարգման հոդվածներ
F27: ԸՆԴԱՄԵՆԸ ԾԱԽՍԵՐ | G27: =G28 -> 286700 | H27: =H28 -> 286700
F28: ԸՆԹԱՑԻԿ ԾԱԽՍԵՐ | G28: =G29 -> 286700 | H28: =H29 -> 286700
F29: ՍՈՑԻԱԼԱԿԱՆ ՆՊԱՍՏՆԵՐ ԵՎ ԿԵՆՍԱԹՈՇԱԿՆԵՐ | G29: =G30 -> 286700 | H29: =H30 -> 286700
F30: Կենսաթոշակներ | G30: ='1'!G12 -> 286700 | H30: ='1'!H12 -> 286700
F31: - Կենսաթոշակներ | G31: ='1'!G12 -> 286700 | H31: ='1'!H12 -> 286700
E32: 12002 | F32: Շարքային զինծառայողների և նրանց ընտանիքների անդամների զինվորական կենսաթոշակներ | G32: =G34 -> 38500 | H32: =H34 -> 38500
F33: այդ թվում` ըստ կատարողների
F34: ՀՀ աշխատանքի և սոցիալական հարցերի նախարարության միասնական սոցիալական ծառայություն | G34: =G36 -> 38500 | H34: =H36 -> 38500
F35: այդ թվում` բյուջետային ծախսերի տնտեսագիտական դասակարգման հոդվածներ
F36: ԸՆԴԱՄԵՆԸ ԾԱԽՍԵՐ | G36: =G37 -> 38500 | H36: =H37 -> 38500
F37: ԸՆԹԱՑԻԿ ԾԱԽՍԵՐ | G37: =G38 -> 38500 | H37: =H38 -> 38500
F38: ՍՈՑԻԱԼԱԿԱՆ ՆՊԱՍՏՆԵՐ ԵՎ ԿԵՆՍԱԹՈՇԱԿՆԵՐ | G38: =G39 -> 38500 | H38: =H39 -> 38500
F39: Կենսաթոշակներ | G39: =G40 -> 38500 | H39: =H40 -> 38500
F40: - Կենսաթոշակներ | G40: ='1'!G13 -> 38500 | H40: ='1'!H13 -> 38500
E41: 12003 | F41: Աշխատանքային կենսաթոշակներ | G41: =G43 -> 12105000 | H41: =H43 -> 12105000
...

Sheet 3
K1: Հավելված N 3
K2: ՀՀ կառավարության 2026 թվականի
K3: -----------------ի N -----------Ն որոշման
A6: ՀԱՅԱՍՏԱՆԻ ՀԱՆՐԱՊԵՏՈՒԹՅԱՆ ԿԱՌԱՎԱՐՈՒԹՅԱՆ 2025 ԹՎԱԿԱՆԻ ԴԵԿՏԵՄԲԵՐԻ 25-Ի N 1910-Ն ՈՐՈՇՄԱՆ N 9 ՀԱՎԵԼՎԱԾՈՒՄ ԿԱՏԱՐՎՈՂ ՓՈՓՈԽՈՒԹՅՈՒՆՆԵՐԸ
J7: հազար դրամներով
A8: ԲԳԿ | B8: Ծրագիր | D8: Միջոցառում | H8: Իրականացնողը/ ակտիվն օգտագործողը/ շահառուի ընտրության չափորոշիչը | I8: Արդյունքային չափորոշիչը | J8: Ցուցանիշների փոփոխությունները ավելացումները նշված են դրական նշանով, իսկ նվազեցումները՝ փակագծերում
B9: Դասիչը | C9: Անվանումը | D9: Դասիչը | E9: Անվանումը | F9: Նկարագրությունը | G9: Տեսակը | J9: Ինն ամիս | K9: Տարի
A10: ԸՆԴԱՄԵՆԸ | J10: =J11+J62 -> 0 | K10: =K11+K62 -> 0
A11: ՀՀ աշխատանքի և սոցիալական հարցերի նախարարություն | J11: =J12+J28 -> 14807580 | K11: =K12+K28 -> 14807580
B12: ='1'!B11 -> 1102 | C12: ='1'!D11 -> Կենսաթոշակային ապահովություն | J12: =J13+J18+J23 -> 12430200 | K12: =K13+K18+K23 -> 12430200
D13: ='1'!C12 -> 1102 - 12001 | E13: ='1'!D12 -> Սպայական անձնակազմի և նրանց ընտանիքների անդամների կենսաթոշակներ | J13: ='1'!G12 -> 286700 | K13: ='1'!H12 -> 286700
F14: ='1'!E12 -> Սպայական անձնակազմի զինծառայողներին երկարամյա ծառայության, հաշմանդամության և զինծառայողի մահվան դեպքում նրա ընտանիքի անդամներին կերակրողին կորցնելու դեպքում զինվորական կենսաթոշակների տրամադրում
G15: Տրանսֆերտների տրամադրում
H16: Շահառուների ընտրության չափորոշիչները` Սպայական անձնակազմին և նրանց ընտանիքների անդամներին երկարամյա ծառայության, հաշմանդամության և կերակրողին կորցնելու դեպքում կենսաթոշակների տրամադրում 22.12.2010թ.ՀՕ-243-Ն օրենքի 18-րդ, 20-րդ, 22-րդ հոդվածներով
D18: ='1'!C13 -> 1102 - 12002 | E18: ='1'!D13 -> Շարքային զինծառայողների և նրանց ընտանիքների անդամների զինվորական կենսաթոշակներ | J18: ='1'!G13 -> 38500 | K18: ='1'!H13 -> 38500
F19: ='1'!E13 -> ԽՍՀՄ զինված ուժերի շարքային կազմի զինծառայողներին հաշմանդամության, նրանց մահվան դեպքում ընտանիքների անդամներին կերակրողին կորցնելու դեպքում զինվորական կենսաթոշակների տրամադրում
G20: ='1'!F13 -> Տրանսֆերտների տրամադրում
H21: Շահառուների ընտրության չափորոշիչները` 22.12.2010թ. ՀՕ-243-Ն օրենքով սահմանված կարգով հաշմանդամ ճանաչված շարքային զինծառայողներ, ծառայության ընթացքում զոհված (մահացած) շարքային զինծառայողների ընտանիքների անդամներ
D23: ='1'!C14 -> 1102 - 12003 | E23: ='1'!D14 -> Աշխատանքային կենսաթոշակներ | J23: ='1'!G14 -> 12105000 | K23: ='1'!H14 -> 12105000
F24: ='1'!E14 -> Աշխատանքային կենսաթոշակների (տարիքային, հաշմանդամության, արտոնյալ պայմաններով, երկարամյա ծառայության, մասնակի, կերակրողին կորցնելու դեպքում կենսաթոշակների) տրամադրում
G25: ='1'!F14 -> Տրանսֆերտների տրամադրում
H26: Շահառուների ընտրության չափորոշիչները` Տարիքային աշխատանքային` առնվազն 10 տարվա աշխատանքային ստաժ, հաշմանդամության աշխատանքային` ըստ սանդղակի աշխատանքային ստաժ, արտոնյալ, մասնակի երկարամյա ծառայության` պահանջվող մասնագիտությամբ աշխատանքային ստաժ
B28: ='1'!B21 -> 1205 | C28: ='1'!D21 -> Սոցիալական ապահովություն | J28: =J29+J34 -> 2377380 | K28: =K29+K34 -> 2377380
D29: ='1'!C22 -> 1205 - 12001 | E29: ='1'!D22 -> Ծերության, հաշմանդամության, կերակրողին կորցնելու դեպքում նպաստներ | J29: ='1'!G22 -> 1658600 | K29: ='1'!H22 -> 1658600
F30: ='1'!E22 -> Ծերության, հաշմանդամության, կերակրողին կորցնելու դեպքում սոցիալական նպաստների տրամադրում
G31: ='1'!F22 -> Տրանսֆերտների տրամադրում
H32: Շահառուների ընտրության չափորոշիչները` Կենսաթոշակի իրավունք չունեցող հաշմանդամներ, կերակրողին կորցրած անձիք և օրենքով սահմանված տարիքը լրացած և պահանջվող ստաժ չունեցող անձիք
D34: ='1'!C23 -> 1205 - 12029 | E34: ='1'!D23 -> Անկանխիկ եղանակով վճարումներից կենսաթոշակառուներին հետվճարի տրամադրում | J34: ='1'!G23 -> 718780 | K34: ='1'!H23 -> 718780
F35: ='1'!E23 -> Անկանխիկ եղանակով վճարումներից կենսաթոշակառուներին հետվճարի տրամադրում՛ պետություն-մասնավոր սոցիալական փոխգործակցության միջոցառման շրջանակում
G36: ='1'!F23 -> Տրանսֆերտների տրամադրում
H37: Շահառուների ընտրության չափորոշիչները` ՀՀ աշխատանքի և սոցիալական հարցերի նախարարության միասնական սոցիալական ծառայություն
I38: Անկանխիկ եղանակով վճարումներ իրականացնող շահառուների թիվ, այդ թվում | K38: 4450
B40: ='1'!B15 -> 1068 | C40: ='1'!D15 -> Ժողովրդագրական վիճակի բարելավում | J40: =J41+J46 -> -2627770 | K40: =K41+K46 -> 0
D41: ='1'!C16 -> 1068 - 12002 | E41: ='1'!D16 -> Երեխայի ծննդյան միանվագ նպաստ | J41: ='1'!G16 -> -1340760 | K41: ='1'!H16 -> 0
F42: ='1'!E16 -> Երեխայի ծննդյան կապակցությամբ միանվագ նպաստի տրամադրում
G43: ='1'!F16 -> Տրանսֆերտների տրամադրում
H44: Շահառուների ընտրության չափորոշիչները` ՀՀ-ում հաշվառված նոր ծնված երեխայի ծնող (օրինական ներկայացուցիչ)
D46: ='1'!C17 -> 1068 - 12004 | E46: ='1'!D17 -> Դրամական աջակցություն ընտանիքում 3 և ավելի երեխա ունեցող ընտանիքներին | J46: ='1'!G17 -> -1287010 | K46: ='1'!H17 -> 0
F47: ='1'!E17 -> Ընտանիքում 3-րդ և յուրաքանչյուր հաջորդ երեխայի ծնվելու կապակցությամբ նոր ծնված երեխային նշանակել և վճարել դրամական աջակցություն՛ ամսական 50000 դրամի չափով, մինչև երեխայի 6 տարեկանը լրանալը
G48: ='1'!F17 -> Տրանսֆերտների տրամադրում
...

Sheet 4
K1: Հավելված N 4
K2: ՀՀ կառավարության 2026 թվականի
K3: -----------------ի N -----------Ն որոշման
A6: ՀԱՅԱՍՏԱՆԻ ՀԱՆՐԱՊԵՏՈՒԹՅԱՆ ԿԱՌԱՎԱՐՈՒԹՅԱՆ 2025 ԹՎԱԿԱՆԻ ԴԵԿՏԵՄԲԵՐԻ 25-Ի N 1910-Ն ՈՐՈՇՄԱՆ N 9.1 ՀԱՎԵԼՎԱԾՈՒՄ ԿԱՏԱՐՎՈՂ ՓՈՓՈԽՈՒԹՅՈՒՆՆԵՐԸ
J7: հազար դրամներով
A8: ԲՍԿ | B8: Ծրագիր | D8: Միջոցառում | H8: Իրականացնողը/ ակտիվն օգտագործողը/ շահառուի ընտրության չափորոշիչը | I8: Արդյունքային չափորոշիչը | J8: Ցուցանիշների փոփոխությունները ավելացումները նշված են դրական նշանով, իսկ նվազեցումները՝ փակագծերում
B9: Դասիչը | C9: Անվանումը | D9: Դասիչը | E9: Անվանումը | F9: Նկարագրությունը | G9: Տեսակը | J9: Ինն ամիս | K9: Տարի
A10: ԸՆԴԱՄԵՆԸ | J10: =J11+J62 -> 0 | K10: =K11+K62 -> 0
A11: ՀՀ աշխատանքի և սոցիալական հարցերի նախարարության միասնական սոցիալական ծառայություն | J11: =J12+J28 -> 14807580 | K11: =K12+K28 -> 14807580
B12: ='1'!B11 -> 1102 | C12: ='1'!D11 -> Կենսաթոշակային ապահովություն | J12: =J13+J18+J23 -> 12430200 | K12: =K13+K18+K23 -> 12430200
D13: ='1'!C12 -> 1102 - 12001 | E13: ='1'!D12 -> Սպայական անձնակազմի և նրանց ընտանիքների անդամների կենսաթոշակներ | J13: ='1'!G12 -> 286700 | K13: ='1'!H12 -> 286700
F14: ='1'!E12 -> Սպայական անձնակազմի զինծառայողներին երկարամյա ծառայության, հաշմանդամության և զինծառայողի մահվան դեպքում նրա ընտանիքի անդամներին կերակրողին կորցնելու դեպքում զինվորական կենսաթոշակների տրամադրում
G15: Տրանսֆերտների տրամադրում
H16: Շահառուների ընտրության չափորոշիչները` Սպայական անձնակազմին և նրանց ընտանիքների անդամներին երկարամյա ծառայության, հաշմանդամության և կերակրողին կորցնելու դեպքում կենսաթոշակների տրամադրում 22.12.2010թ.ՀՕ-243-Ն օրենքի 18-րդ, 20-րդ, 22-րդ հոդվածներով
D18: ='1'!C13 -> 1102 - 12002 | E18: ='1'!D13 -> Շարքային զինծառայողների և նրանց ընտանիքների անդամների զինվորական կենսաթոշակներ | J18: ='1'!G13 -> 38500 | K18: ='1'!H13 -> 38500
F19: ='1'!E13 -> ԽՍՀՄ զինված ուժերի շարքային կազմի զինծառայողներին հաշմանդամության, նրանց մահվան դեպքում ընտանիքների անդամներին կերակրողին կորցնելու դեպքում զինվորական կենսաթոշակների տրամադրում
G20: ='1'!F13 -> Տրանսֆերտների տրամադրում
H21: Շահառուների ընտրության չափորոշիչները` 22.12.2010թ. ՀՕ-243-Ն օրենքով սահմանված կարգով հաշմանդամ ճանաչված շարքային զինծառայողներ, ծառայության ընթացքում զոհված (մահացած) շարքային զինծառայողների ընտանիքների անդամներ
D23: ='1'!C14 -> 1102 - 12003 | E23: ='1'!D14 -> Աշխատանքային կենսաթոշակներ | J23: ='1'!G14 -> 12105000 | K23: ='1'!H14 -> 12105000
F24: ='1'!E14 -> Աշխատանքային կենսաթոշակների (տարիքային, հաշմանդամության, արտոնյալ պայմաններով, երկարամյա ծառայության, մասնակի, կերակրողին կորցնելու դեպքում կենսաթոշակների) տրամադրում
G25: ='1'!F14 -> Տրանսֆերտների տրամադրում
H26: Շահառուների ընտրության չափորոշիչները` Տարիքային աշխատանքային` առնվազն 10 տարվա աշխատանքային ստաժ, հաշմանդամության աշխատանքային` ըստ սանդղակի աշխատանքային ստաժ, արտոնյալ, մասնակի երկարամյա ծառայության` պահանջվող մասնագիտությամբ աշխատանքային ստաժ
B28: ='1'!B21 -> 1205 | C28: ='1'!D21 -> Սոցիալական ապահովություն | J28: =J29+J34 -> 2377380 | K28: =K29+K34 -> 2377380
D29: ='1'!C22 -> 1205 - 12001 | E29: ='1'!D22 -> Ծերության, հաշմանդամության, կերակրողին կորցնելու դեպքում նպաստներ | J29: ='1'!G22 -> 1658600 | K29: ='1'!H22 -> 1658600
F30: ='1'!E22 -> Ծերության, հաշմանդամության, կերակրողին կորցնելու դեպքում սոցիալական նպաստների տրամադրում
G31: ='1'!F22 -> Տրանսֆերտների տրամադրում
H32: Շահառուների ընտրության չափորոշիչները` Կենսաթոշակի իրավունք չունեցող հաշմանդամներ, կերակրողին կորցրած անձիք և օրենքով սահմանված տարիքը լրացած և պահանջվող ստաժ չունեցող անձիք
D34: ='1'!C23 -> 1205 - 12029 | E34: ='1'!D23 -> Անկանխիկ եղանակով վճարումներից կենսաթոշակառուներին հետվճարի տրամադրում | J34: ='1'!G23 -> 718780 | K34: ='1'!H23 -> 718780
F35: ='1'!E23 -> Անկանխիկ եղանակով վճարումներից կենսաթոշակառուներին հետվճարի տրամադրում՛ պետություն-մասնավոր սոցիալական փոխգործակցության միջոցառման շրջանակում
G36: ='1'!F23 -> Տրանսֆերտների տրամադրում
H37: Շահառուների ընտրության չափորոշիչները` ՀՀ աշխատանքի և սոցիալական հարցերի նախարարության միասնական սոցիալական ծառայություն
I38: ='3'!I38 -> Անկանխիկ եղանակով վճարումներ իրականացնող շահառուների թիվ, այդ թվում | K38: ='3'!K38 -> 4450
B40: ='1'!B15 -> 1068 | C40: ='1'!D15 -> Ժողովրդագրական վիճակի բարելավում | J40: =J41+J46 -> -2627770 | K40: =K41+K46 -> 0
D41: ='1'!C16 -> 1068 - 12002 | E41: ='1'!D16 -> Երեխայի ծննդյան միանվագ նպաստ | J41: ='1'!G16 -> -1340760 | K41: ='1'!H16 -> 0
F42: ='1'!E16 -> Երեխայի ծննդյան կապակցությամբ միանվագ նպաստի տրամադրում
G43: ='1'!F16 -> Տրանսֆերտների տրամադրում
H44: Շահառուների ընտրության չափորոշիչները` ՀՀ-ում հաշվառված նոր ծնված երեխայի ծնող (օրինական ներկայացուցիչ)
D46: ='1'!C17 -> 1068 - 12004 | E46: ='1'!D17 -> Դրամական աջակցություն ընտանիքում 3 և ավելի երեխա ունեցող ընտանիքներին | J46: ='1'!G17 -> -1287010 | K46: ='1'!H17 -> 0
F47: ='1'!E17 -> Ընտանիքում 3-րդ և յուրաքանչյուր հաջորդ երեխայի ծնվելու կապակցությամբ նոր ծնված երեխային նշանակել և վճարել դրամական աջակցություն՛ ամսական 50000 դրամի չափով, մինչև երեխայի 6 տարեկանը լրանալը
G48: ='1'!F17 -> Տրանսֆերտների տրամադրում
...

Sheet 5
H1: Հավելված N 5
H2: ՀՀ կառավարության 2026 թվականի
G3: -----------------ի N -----------Ն որոշման
B5: ՀԱՅԱՍՏԱՆԻ ՀԱՆՐԱՊԵՏՈՒԹՅԱՆ 2026 ԹՎԱԿԱՆԻ ՊԵՏԱԿԱՆ ԲՅՈՒՋԵՈՎ ՆԱԽԱՏԵՍՎԱԾ՝ ՀԱՅԱՍՏԱՆԻ ՀԱՆՐԱՊԵՏՈՒԹՅԱՆ ԿԱՌԱՎԱՐՈՒԹՅԱՆ ՊԱՀՈՒՍՏԱՅԻՆ ՖՈՆԴԻՑ ՀԱՏԿԱՑՈՒՄՆԵՐ ԿԱՏԱՐԵԼՈՒ ՎԵՐԱԲԵՐՅԱԼ
G6: հազար դրամներով
A7: Գործառական դասիչը | D7: Ծրագրային դասիչը | F7: Բյուջետային ծախսերի գործառական դասակարգման բաժինների, խմբերի և դասերի, բյուջետային ծրագրերի միջոցառումների, բյուջետային հատկացումների գլխավոր կարգադրիչների անվանումները | G7: Ցուցանիշների փոփոխությունները ավելացումները նշված են դրական նշանով, իսկ նվազեցումները՝ փակագծերում
A8: Բաժին | B8: Խումբ | C8: Դաս | D8: Ծրագիր | E8: Միջոցառում | G8: Ինն ամիս | H8: Տարի
F9: ԸՆԴԱՄԵՆԸ ԾԱԽՍԵՐ | G9: =G11+G29 -> 0 | H9: =H11+H29 -> 0
F10: այդ թվում`
A11: 11 | F11: ՀԻՄՆԱԿԱՆ ԲԱԺԻՆՆԵՐԻՆ ՉԴԱՍՎՈՂ ՊԱՀՈՒՍՏԱՅԻՆ ՖՈՆԴԵՐ | G11: =G13 -> -14807580 | H11: =H13 -> -14807580
F12: այդ թվում՝
B13: 01 | F13: ՀՀ կառավարության և համայնքների պահուստային ֆոնդ | G13: =G15 -> -14807580 | H13: =H15 -> -14807580
F14: այդ թվում՝
C15: 01 | F15: ՀՀ կառավարության պահուստային ֆոնդ | G15: =G17 -> -14807580 | H15: =H17 -> -14807580
F16: այդ թվում՝
F17: ՀՀ կառավարություն | G17: =G19 -> -14807580 | H17: =H19 -> -14807580
F18: այդ թվում՝
D19: 1139 | F19: ՀՀ կառավարության պահուստային ֆոնդ | G19: =G21 -> -14807580 | H19: =H21 -> -14807580
F20: այդ թվում՝
E21: 11001 | F21: ՀՀ կառավարության պահուստային ֆոնդ | G21: =G23 -> -14807580 | H21: =H23 -> -14807580
F22: այդ թվում՝ ըստ կատարողների
F23: ՀՀ կառավարություն | G23: =G25 -> -14807580 | H23: =H25 -> -14807580
F24: այդ թվում՝ բյուջետային ծախսերի տնտեսագիտական դասակարգման հոդվածներ
F25: ԸՆԴԱՄԵՆԸ ԾԱԽՍԵՐ | G25: =G26 -> -14807580 | H25: =H26 -> -14807580
F26: ԸՆԹԱՑԻԿ ԾԱԽՍԵՐ | G26: =G27 -> -14807580 | H26: =H27 -> -14807580
F27: ԱՅԼ ԾԱԽՍԵՐ | G27: =G28 -> -14807580 | H27: =H28 -> -14807580
F28: - Պահուստային միջոցներ | G28: ='1'!G28 -> -14807580 | H28: ='1'!H28 -> -14807580
A29: ='2'!A13 -> 10 | F29: ='2'!F13 -> ՍՈՑԻԱԼԱԿԱՆ ՊԱՇՏՊԱՆՈՒԹՅՈՒՆ | G29: ='2'!G13 -> 14807580 | H29: ='2'!H13 -> 14807580
F30: ='2'!F14 -> այդ թվում՝
B31: ='2'!B15 -> 02 | F31: ='2'!F15 -> Ծերություն | G31: ='2'!G15 -> 14807580 | H31: ='2'!H15 -> 14807580
F32: ='2'!F16 -> այդ թվում՝
C33: ='2'!C17 -> 01 | F33: ='2'!F17 -> Ծերություն | G33: ='2'!G17 -> 14807580 | H33: ='2'!H17 -> 14807580
F34: ='2'!F18 -> այդ թվում՝
F35: ='2'!F19 -> ՀՀ աշխատանքի և սոցիալական հարցերի նախարարություն | G35: ='2'!G19 -> 14807580 | H35: ='2'!H19 -> 14807580
F36: ='2'!F20 -> այդ թվում՝
D37: ='2'!D21 -> 1102 | F37: ='2'!F21 -> Կենսաթոշակային ապահովություն | G37: ='2'!G21 -> 12430200 | H37: ='2'!H21 -> 12430200
F38: ='2'!F22 -> այդ թվում`
E39: ='2'!E23 -> 12001 | F39: ='2'!F23 -> Սպայական անձնակազմի և նրանց ընտանիքների անդամների կենսաթոշակներ | G39: ='2'!G23 -> 286700 | H39: ='2'!H23 -> 286700
F40: ='2'!F24 -> այդ թվում` ըստ կատարողների
F41: ='2'!F25 -> ՀՀ աշխատանքի և սոցիալական հարցերի նախարարության միասնական սոցիալական ծառայություն | G41: ='2'!G25 -> 286700 | H41: ='2'!H25 -> 286700
...
