Workbook
Name \A: #REF!
Name _tab10: #REF!
Name _tab11: #REF!
Name _tab12: #REF!
Name _tab13: #REF!
Name _tab14: #REF!
Name _tab15: #REF!
Name _tab16: #REF!
Name _tab17: #REF!
Name _tab18: #REF!
Name _tab19: #REF!
Name _tab20: #REF!
Name _tab21: #REF!
Name _tab22: #REF!
Name _tab23: #REF!
Name _tab24: #REF!
Name _tab5: #REF!
Name _tab6: #REF!
Name _tab7: #REF!
Name _tab8: #REF!
Name _tab9: #REF!
Name aaa: #REF!
Name aaaa: #REF!
Name aaaaa: #REF!
Name AgencyCode: #REF!
Name AgencyName: #REF!
Name alis: #REF!
Name alisa: #REF!
Name als: #REF!
Name ampop_krchat: #REF!
Name Armata: #REF!
Name asd: #REF!
Name åû: #REF!
Name BOP: #REF!
Name BOPfoot: #REF!
Name davit: #REF!
Name DebtCG: '[1]Fis-Debt'!#REF!
Name DebtGG: #REF!
Name fff: #REF!
Name Functional1: #REF!
Name ggg: #REF!
Name h: #REF!
Name Hav: #REF!,#REF!
Name havelvac: #REF!
Name mas: #REF!
Name mass: #REF!
Name MonExo: #REF!
Name MonGrow: [2]BM!#REF!
Name PANature: #REF!
Name par_count: #REF!,#REF!,#REF!,#REF!,#REF!,#REF!,#REF!,#REF!,#REF!,#REF!,#REF!,#REF!,#REF!,#REF!,#REF!
Name par_qual: #REF!,#REF!,#REF!,#REF!,#REF!
Name par_time: #REF!,#REF!,#REF!,#REF!
Name par2.12s: #REF!
Name par2.4s: #REF!,#REF!,#REF!,#REF!,#REF!,#REF!,#REF!,#REF!,#REF!,#REF!,#REF!,#REF!,#REF!,#REF!,#REF!,#REF!
Name par2.5s: #REF!,#REF!
Name par2.6s: #REF!,#REF!,#REF!,#REF!
Name par2.7s: #REF!,#REF!
Name par2.9s: #REF!,#REF!,#REF!,#REF!,#REF!,#REF!,#REF!,#REF!,#REF!,#REF!,#REF!,#REF!,#REF!,#REF!,#REF!,#REF!
Name par4.10s: #REF!,#REF!
Name par4.11d: #REF!,#REF!,#REF!,#REF!,#REF!

Sheet Հավելված 1
A1: Հավելված N 1 ՀՀ կառավարության 2026 թվականի ____________ի N _____-Ն որոշման
A3: «ՀԱՅԱՍՏԱՆԻ ՀԱՆՐԱՊԵՏՈՒԹՅԱՆ 2026 ԹՎԱԿԱՆԻ ՊԵՏԱԿԱՆ ԲՅՈՒՋԵԻ ՄԱՍԻՆ» ՕՐԵՆՔԻ N 1 ՀԱՎԵԼՎԱԾԻ N 2 ԱՂՅՈՒՍԱԿՈՒՄ ԿԱՏԱՐՎՈՂ ՎԵՐԱԲԱՇԽՈՒՄԸ, ՀԱՅԱՍՏԱՆԻ ՀԱՆՐԱՊԵՏՈՒԹՅԱՆ ԿԱՌԱՎԱՐՈՒԹՅԱՆ 2025 ԹՎԱԿԱՆԻ ԴԵԿՏԵՄԲԵՐԻ 25-Ի N 1910-Ն ՈՐՈՇՄԱՆ N 5 ՀԱՎԵԼՎԱԾԻ N 1 ԱՂՅՈՒՍԱԿՈՒՄ ԿԱՏԱՐՎՈՂ ՓՈՓՈԽՈՒԹՅՈՒՆՆԵՐԸ
G4: հազար դրամներով
A5: ԲԳԿ | B5: Ծրագրային դասիչը | D5: ԲԳԿ/Ծրագրի /միջոցառման անվանումը | E5: Ծրագրի նպատակը/Միջոցառման նկարագրությունը | F5: Վերջնական արդյունքի նկարագրությունը/Միջոցառման տեսակը | G5: Ցուցանիշների փոփոխությունները (ավելացումները նշված են դրական նշանով, նվազեցումները՝ փակագծերում)
B6: Ծրագիր | C6: Միջոցառում | G6: Ինն ամիս | H6: Տարի
A7: ԸՆԴԱՄԵՆԸ | G7: =+G8+G12 -> 0 | H7: =+H8+H12 -> 0
A8: ՀՀ էկոնոմիկայի նախարարություն | G8: =+G9 -> 5365640 | H8: =+H9 -> 5365640
B9: 1165 | D9: Ներդրումների և արտահանման խթանման ծրագիր | E9: Ներդրումների ներգրավման և արտահանման խթանում | F9: Նախորդ տարվա համեմատ ներդրումների և արտահանման ծավալների աճ | G9: =+G10+G11 -> 5365640 | H9: =+H10+H11 -> 5365640
C10: 1165 - 12014 | D10: Հայաստանի Հանրապետության տարածքից ջերմատնային արտադրության առանձին ապրանքների արտահանման աջակցություն | E10: Հայաստանի Հանրապետության տարածքից արտահանվող ջերմատնային արտադրության առանձին ապրանքների մրցունակության բարձրացման նպատակով արտահանված արտադրանքի համար փոխհատուցման տրամադրում | F10: Տրանսֆերտների տրամադրում | G10: 1714250 | H10: =+G10 -> 1714250
C11: 1165 - 12015 | D11: Հայաստանի Հանրապետության տարածքից թարմ պտղի և սննդամթերքի ու խմիչքի առանձին տեսակների արտահանման աջակցություն | E11: Հայաստանի Հանրապետության տարածքից արտահանվող թարմ պտղի և սննդամթերքի ու խմիչքի առանձին տեսակների մրցունակության բարձրացման նպատակով արտահանված արտադրանքի համար փոխհատուցման տրամադրում | F11: Տրանսֆերտների տրամադրում | G11: 3651390 | H11: =+G11 -> 3651390
A12: ՀՀ կառավարություն | G12: =+G13 -> -5365640 | H12: =+H13 -> -5365640
B13: 1139 | D13: ՀՀ կառավարության պահուստային ֆոնդ | E13: Պետական բյուջեում չկանխատեսված, ինչպես նաեւ բյուջետային երաշխիքների ապահովման ծախսերի ֆինանսավորման ապահովում | F13: Պահուստային ֆոնդի կառավարման արդյունավետության և թափանցիկության ապահովում | G13: =+G14 -> -5365640 | H13: =+H14 -> -5365640
C14: 1139 - 11001 | D14: ՀՀ կառավարության պահուստային ֆոնդ | E14: ՀՀ պետական բյուջեում նախատեսված ելքերի լրացուցիչ ֆինանսավորման, պետական բյուջեում չկանխատեսված ելքերի, ինչպես նաև բյուջետային երաշխիքների ապահովման ելքերի ֆինանսավորման ապահովում | F14: Ծառայությունների մատուցում | G14: =+G8*-1 -> -5365640 | H14: =+H8*-1 -> -5365640

Sheet Հավելված 2
F1: Հավելված 2 ՀՀ կառավարության 2026 թվականի ____________ի N _____-Ն որոշման
A3: ՀԱՅԱՍՏԱՆԻ ՀԱՆՐԱՊԵՏՈՒԹՅԱՆ ԿԱՌԱՎԱՐՈՒԹՅԱՆ 2025 ԹՎԱԿԱՆԻ ԴԵԿՏԵՄԲԵՐԻ 25-Ի N 1910-Ն ՈՐՈՇՄԱՆ NN 3 ԵՎ 4 ՀԱՎԵԼՎԱԾՆԵՐՈՒՄ ԿԱՏԱՐՎՈՂ ՓՈՓՈԽՈՒԹՅՈՒՆՆԵՐԸ
H4: հազար դրամներով
A5: Գործառնական դասիչ | D5: Ծրագրային դասիչը | F5: Բյուջետային ծախսերի գործառական դասակարգման բաժինների, խմբերի և դասերի, բյուջետային ծրագրերի միջոցառումների, բյուջետային հատկացումների գլխավոր կարգադրիչների անվանումները | G5: Ցուցանիշների փոփոխությունները (ավելացումներ նշված են դրական նշանով, նվազեցումները՝ փակագծերում)
A6: Բաժին | B6: Խումբ | C6: Դաս | D6: Ծրագիր | E6: Միջոցառում | G6: Ինն ամիս | H6: Տարի
F7: ԸՆԴԱՄԵՆԸ ԾԱԽՍԵՐ | G7: =+G9+G39 -> 0 | H7: =+H9+H39 -> 0
F8: այդ թվում`
F9: ՀՀ էկոնոմիկայի նախարարություն | G9: =+G11 -> 5365640 | H9: =+H11 -> 5365640
F10: այդ թվում`
A11: 04 | F11: ՏՆՏԵՍԱԿԱՆ ՀԱՐԱԲԵՐՈՒԹՅՈՒՆՆԵՐ | G11: =+G13 -> 5365640 | H11: =+H13 -> 5365640
F12: այդ թվում`
B13: 01 | F13: Ընդհանուր բնույթի տնտեսական, առևտրային և աշխատանքի գծով հարաբերություններ | G13: =+G15 -> 5365640 | H13: =+H15 -> 5365640
F14: այդ թվում`
C15: 01 | F15: Ընդհանուր բնույթի տնտեսական և առևտրային հարաբերություններ | G15: =+G17 -> 5365640 | H15: =+H17 -> 5365640
F16: այդ թվում`
F17: ՀՀ էկոնոմիկայի նախարարություն | G17: =+G19 -> 5365640 | H17: =+H19 -> 5365640
F18: այդ թվում`
D19: 1165 | F19: Ներդրումների և արտահանման խթանման ծրագիր | G19: =+G21+G30 -> 5365640 | H19: =+H21+H30 -> 5365640
F20: այդ թվում`
E21: 12014 | F21: =+'Հավելված 1'!D10 -> Հայաստանի Հանրապետության տարածքից ջերմատնային արտադրության առանձին ապրանքների արտահանման աջակցություն | G21: =+G23 -> 1714250 | H21: =+H23 -> 1714250
F22: այդ թվում` ըստ կատարողների
F23: ՀՀ էկոնոմիկայի նախարարություն | G23: =+G25 -> 1714250 | H23: =+H25 -> 1714250
F24: այդ թվում` բյուջետային ծախսերի տնտեսագիտական դասակարգման հոդվածներ
F25: ԸՆԴԱՄԵՆԸ ԾԱԽՍԵՐ | G25: =+G26 -> 1714250 | H25: =+H26 -> 1714250
F26: ԸՆԹԱՑԻԿ ԾԱԽՍԵՐ | G26: =+G27 -> 1714250 | H26: =+H27 -> 1714250
F27: ՍՈՒԲՍԻԴԻԱՆԵՐ | G27: =+G28 -> 1714250 | H27: =+H28 -> 1714250
F28: Սուբսիդիաներ ոչ պետական կազմակերպություններին | G28: =+G29 -> 1714250 | H28: =+H29 -> 1714250
F29: - Սուբսիդիաներ ոչ պետական ոչ ֆինանսական կազմակերպություններին | G29: =+'Հավելված 1'!G10 -> 1714250 | H29: =+'Հավելված 1'!H10 -> 1714250
E30: 12015 | F30: =+'Հավելված 1'!D11 -> Հայաստանի Հանրապետության տարածքից թարմ պտղի և սննդամթերքի ու խմիչքի առանձին տեսակների արտահանման աջակցություն | G30: =+G32 -> 3651390 | H30: =+H32 -> 3651390
F31: այդ թվում` ըստ կատարողների
F32: ՀՀ էկոնոմիկայի նախարարություն | G32: =+G35 -> 3651390 | H32: =+H35 -> 3651390
F33: այդ թվում` բյուջետային ծախսերի տնտեսագիտական դասակարգման հոդվածներ
F34: ԸՆԴԱՄԵՆԸ ԾԱԽՍԵՐ
F35: ԸՆԹԱՑԻԿ ԾԱԽՍԵՐ | G35: =+G36 -> 3651390 | H35: =+H36 -> 3651390
F36: ՍՈՒԲՍԻԴԻԱՆԵՐ | G36: =+G37 -> 3651390 | H36: =+H37 -> 3651390
F37: Սուբսիդիաներ ոչ պետական կազմակերպություններին | G37: =+G38 -> 3651390 | H37: =+H38 -> 3651390
F38: - Սուբսիդիաներ ոչ պետական ոչ ֆինանսական կազմակերպություններին | G38: =+'Հավելված 1'!G11 -> 3651390 | H38: =+G38 -> 3651390
F39: ՀՀ կառավարություն | G39: =+G41 -> -5365640 | H39: =+H41 -> -5365640
F40: այդ թվում`
A41: 11 | F41: ՀԻՄՆԱԿԱՆ ԲԱԺԻՆՆԵՐԻՆ ՉԴԱՍՎՈՂ ՊԱՀՈՒՍՏԱՅԻՆ ՖՈՆԴԵՐ | G41: =G43 -> -5365640 | H41: =H43 -> -5365640
F42: այդ թվում`
B43: 01 | F43: ՀՀ կառավարության և համայնքների պահուստային ֆոնդ | G43: =G45 -> -5365640 | H43: =H45 -> -5365640
F44: այդ թվում`
C45: 01 | F45: ՀՀ կառավարության պահուստային ֆոնդ | G45: =G47 -> -5365640 | H45: =H47 -> -5365640
F46: այդ թվում`
D47: 1139 | F47: ՀՀ կառավարություն | G47: =+G49 -> -5365640 | H47: =+H49 -> -5365640
F48: այդ թվում`
E49: 11001 | F49: ՀՀ կառավարության պահուստային ֆոնդ | G49: =G51 -> -5365640 | H49: =H51 -> -5365640
F50: այդ թվում` ըստ կատարողների
F51: ՀՀ կառավարություն | G51: =G53 -> -5365640 | H51: =H53 -> -5365640
F52: այդ թվում` բյուջետային ծախսերի տնտեսագիտական դասակարգման հոդվածներ
F53: ԸՆԴԱՄԵՆԸ ԾԱԽՍԵՐ | G53: =G54 -> -5365640 | H53: =H54 -> -5365640
F54: ԸՆԹԱՑԻԿ ԾԱԽՍԵՐ | G54: =G55 -> -5365640 | H54: =H55 -> -5365640
F55: ԱՅԼ ԾԱԽՍԵՐ | G55: =G56 -> -5365640 | H55: =H56 -> -5365640
F56: Պահուստային միջոցներ | G56: =+'Հավելված 1'!G14 -> -5365640 | H56: =+'Հավելված 1'!H14 -> -5365640

Sheet Հավելված 3
A1: Հավելված 3 ՀՀ կառավարության 2026 թվականի ____________ի N _____-Ն որոշման
A2: ՀԱՅԱՍՏԱՆԻ ՀԱՆՐԱՊԵՏՈՒԹՅԱՆ ԿԱՌԱՎԱՐՈՒԹՅԱՆ 2025 ԹՎԱԿԱՆԻ ԴԵԿՏԵՄԲԵՐԻ 25-Ի N 1910-Ն ՈՐՈՇՄԱՆ N N 9 ԵՎ 9.1 ՀԱՎԵԼՎԱԾՆԵՐՈՒՄ ԿԱՏԱՐՎՈՂ ՓՈՓՈԽՈՒԹՅՈՒՆՆԵՐԸ ԵՎ ԼՐԱՑՈՒՄՆԵՐԸ
K3: հազար դրամներով
A4: ԲԳԿ/ԲՍԿ | B4: Ծրագիր | D4: Միջոցառում | H4: Իրականացնողը/ ակտիվն օգտագործողը/ շահառուի ընտրության չափորոշիչը | I4: Արդյունքային չափորոշիչը | J4: Ցուցանիշների փոփոխությունը (ավելացումները նշված են դրական նշանով, իսկ նվազեցումները՝ փակագծերում)
B5: Դասիչը | C5: Անվա-նումը | D5: Դասիչը | E5: Անվա-նումը | F5: Նկարագրու-թյունը | G5: Տեսակը | J5: Ինն ամիս | K5: Տարի
A6: ԸՆԴԱՄԵՆԸ | J6: =+J7+J34 -> 0 | K6: =+K7+K34 -> 0
A7: ՀՀ էկոնոմիկայի նախարարություն | J7: =+J8 -> 5365640 | K7: =+K8 -> 5365640
B8: 1165 | C8: Ներդրումների և արտահանման խթանման ծրագիր | J8: =+J9+J19 -> 5365640 | K8: =+K9+K19 -> 5365640
D9: 1165 - 12014 | E9: =+'Հավելված 1'!D10 -> Հայաստանի Հանրապետության տարածքից ջերմատնային արտադրության առանձին ապրանքների արտահանման աջակցություն | J9: =+'Հավելված 1'!G10 -> 1714250 | K9: =+'Հավելված 1'!H10 -> 1714250
F10: =+'Հավելված 1'!E10 -> Հայաստանի Հանրապետության տարածքից արտահանվող ջերմատնային արտադրության առանձին ապրանքների մրցունակության բարձրացման նպատակով արտահանված արտադրանքի համար փոխհատուցման տրամադրում
G11: Տրանսֆերտների տրամադրում
H12: Շահառուների ընտրության չափորոշիչները` ՀՀ կառավարության 2026 թվականի հունիսի 4-ի N-800-Լ որոշմամբ հաստատված ծրագրի չափանիշները բավարարող տնտեսավարող սուբյեկտներ
I13: լոլիկի արտահանված ծավալ, տոննա | K13: 1250
I14: պղպեղի արտահանված ծավալ, տոննա | K14: 2325
I15: ելակի արտահանված ծավալ, տոննա | K15: 200
I16: չերրի տեսակի լոլիկի արտահանված ծավալ, տոննա | K16: 367
I17: ծաղիկի արտահանված ծավալ, մլն. հատ | K17: 3.1
I18: ծաղիկի արտահանված ծավալ ԵՄ անդամ երկրներ, մլն հատ | K18: 0.5
D19: 1165 - 12015 | E19: =+'Հավելված 1'!D11 -> Հայաստանի Հանրապետության տարածքից թարմ պտղի և սննդամթերքի ու խմիչքի առանձին տեսակների արտահանման աջակցություն | J19: =+'Հավելված 1'!G11 -> 3651390 | K19: =+'Հավելված 1'!H11 -> 3651390
F20: =+'Հավելված 1'!E11 -> Հայաստանի Հանրապետության տարածքից արտահանվող թարմ պտղի և սննդամթերքի ու խմիչքի առանձին տեսակների մրցունակության բարձրացման նպատակով արտահանված արտադրանքի համար փոխհատուցման տրամադրում
G21: Տրանսֆերտների տրամադրում
H22: Շահառուների ընտրության չափորոշիչները` ՀՀ կառավարության 2026 թվականի հունիսի 11-ի N-839-Լ որոշմամբ հաստատված ծրագրի չափանիշները բավարարող տնտեսավարող սուբյեկտներ
I23: ծիրանի արտահանված ծավալ, տոննա | K23: 7000
I24: սալորի արտահանված ծավալ, տոննա | K24: 430
I25: կեռասի արտահանված ծավալ, տոննա | K25: 1715
I26: դեղձի կամ ներկատարինի արտահանված ծավալ, տոննա | K26: 1645
I27: շշալցված բնական հանքային ջրի արտահանված ծավալ, հազ. լիտր | K27: 200
I28: շշալցված խաղողի գինու արտահանված ծավալ, հազ. լիտր | K28: 370
I29: շշալցված պտղահատապտղային գինու արտահանված ծավալ,, հազ. լիտր | K29: 290
I30: շշալցված հայկական բրենդիի կամ հայկական կոնյակի արտահանված ծավալ, հազ. լիտր (100 % սպիրտի հաշվարկով) | K30: 800
I31: չորացրած միրգ կամ բանջարեղեն, տոննա | K31: 6
I32: իշխան տեսակի ձկան արտահնաված ծավալ, տոննա | K32: 2
I33: թառափ տեսակի ձկան արտահանված ծավալ, տոննա | K33: 120
A34: ՀՀ կառավարություն | J34: =+J35 -> -5365640 | K34: =+K35 -> -5365640
B35: 1139 | C35: ՀՀ կառավարության պահուստային ֆոնդ | J35: =+J36 -> -5365640 | K35: =+K36 -> -5365640
D36: 1139 - 11001 | E36: ՀՀ կառավարության պահուստային ֆոնդ | J36: =+'Հավելված 2'!G47 -> -5365640 | K36: =+'Հավելված 2'!H47 -> -5365640
F37: ՀՀ պետական բյուջեում նախատեսված ելքերի լրացուցիչ ֆինանսավորման, պետական բյուջեում չկանխատեսված ելքերի, ինչպես նաև բյուջետային երաշխիքների ապահովման ելքերի ֆինանսավորման ապահովում
G38: Ծառայությունների մատուցում
H39: Ծառայությունը մատուցողի անվանումը` ՀՀ կառավարություն
