Workbook
Name a: #REF!
Name a: #REF!
Name a: #REF!
Name a: #REF!
Name AgencyCode: #REF!
Name AgencyCode: #REF!
Name AgencyCode: #REF!
Name AgencyCode: #REF!
Name AgencyCode: #REF!
Name AgencyCode: #REF!
Name AgencyName: #REF!
Name AgencyName: #REF!
Name AgencyName: #REF!
Name AgencyName: #REF!
Name åû: #REF!
Name åû: #REF!
Name BOP: #REF!
Name BOP: #REF!
Name BOP: #REF!
Name BOP: #REF!
Name BOP: #REF!
Name BOPfoot: #REF!
Name BOPfoot: #REF!
Name BOPfoot: #REF!
Name BOPfoot: #REF!
Name BOPfoot: #REF!
Name davit: #REF!
Name davit: #REF!
Name davit: #REF!
Name DebtCG: #REF!
Name DebtCG: #REF!
Name DebtCG: #REF!
Name DebtCG: #REF!
Name DebtCG: #REF!
Name DebtGG: #REF!
Name DebtGG: #REF!
Name DebtGG: #REF!
Name DebtGG: #REF!
Name DebtGG: #REF!
Name Functional1: #REF!
Name Functional1: #REF!
Name Functional1: #REF!
Name Functional1: #REF!
Name ggg: #REF!
Name ggg: #REF!
Name ggg: #REF!
Name hav: #REF!
Name hav: #REF!
Name hav: #REF!
Name hav: #REF!
Name hav: #REF!
Name mas: #REF!
Name mas: #REF!
Name mass: #REF!
Name mass: #REF!
Name MonExo: #REF!
Name MonExo: #REF!
Name MonExo: #REF!
Name MonExo: #REF!
Name MonExo: #REF!

Sheet Հավելված N 1 
C1: Հավելված N 1
C2: ՀՀ կառավարության 2026 թվականի
C3: ______________ ի ___Ն որոշման
A5: «ՀԱՅԱՍՏԱՆԻ ՀԱՆՐԱՊԵՏՈՒԹՅԱՆ 2026 ԹՎԱԿԱՆԻ ՊԵՏԱԿԱՆ ԲՅՈՒՋԵԻ ՄԱՍԻՆ» ՕՐԵՆՔԻ 3-ՐԴ ՀՈԴՎԱԾԻ, N 3 ՀԱՎԵԼՎԱԾԻ N 1 ԱՂՅՈՒՍԱԿՈՒՄ ԵՎ ՀԱՅԱՍՏԱՆԻ ՀԱՆՐԱՊԵՏՈՒԹՅԱՆ ԿԱՌԱՎԱՐՈՒԹՅԱՆ 2025 ԹՎԱԿԱՆԻ ԴԵԿՏԵՄԲԵՐԻ 25-Ի N 1910-Ն ՈՐՈՇՄԱՆ N 1 ՀԱՎԵԼՎԱԾԻ N 1 ԱՂՅՈՒՍԱԿՈՒՄ ԿԱՏԱՐՎՈՂ ՓՈՓՈԽՈՒԹՅՈՒՆԸ
C7: հազ. դրամ
A8: Պետական բյուջեի դեֆիցիտի ֆինանսավորման աղբյուրներն ու դրանց տարրերի անվանումները | B8: Ցուցանիշների փոփոխությունը (ավելացումները նշված են դրական նշանով)
B9: Ինն ամիս | C9: Տարի
A10: ԸՆԴԱՄԵՆԸ | B10: =+B12 -> 107677.5 | C10: =+C12 -> 0
A11: այդ թվում՝
A12: Ա.Ներքին աղբյուրներ-ընդամենը | B12: =+B14 -> 107677.5 | C12: =+C14 -> 0
A13: այդ թվում՝
A14: 2. Ֆինանսական զուտ ակտիվներ | B14: =+B16 -> 107677.5 | C14: =+C16 -> 0
A15: այդ թվում՝
A16: 2.6.Այլ | B16: =+B18 -> 107677.5 | C16: =+C18 -> 0
A17: որից՝
A18: Ժամանակավորապես ազատ միջոցներ | B18: =+'Հավելված N 2 '!G13 -> 107677.5 | C18: =+'Հավելված N 2 '!H13 -> 0

Sheet Հավելված N 2 
F1: Հավելված N 2
F2: ՀՀ կառավարության 2026 թվականի
F3: ______________ ի ___Ն որոշման
A6: «ՀԱՅԱUՏԱՆԻ ՀԱՆՐԱՊԵՏՈՒԹՅԱՆ 2026 ԹՎԱԿԱՆԻ ՊԵՏԱԿԱՆ ԲՅՈՒՋԵԻ ՄԱUԻՆ» ՀԱՅԱUՏԱՆԻ ՀԱՆՐԱՊԵՏՈՒԹՅԱՆ OՐԵՆՔԻ N 1 ՀԱՎԵԼՎԱԾԻ N 2 ԱՂՅՈՒՍԱԿՈՒՄ ԿԱՏԱՐՎՈՂ ՎԵՐԱԲԱՇԽՈՒՄԸ ԵՎ ՀԱՅԱՍՏԱՆԻ ՀԱՆՐԱՊԵՏՈՒԹՅԱՆ ԿԱՌԱՎԱՐՈՒԹՅԱՆ 2025 ԹՎԱԿԱՆԻ ԴԵԿՏԵՄԲԵՐԻ 25-Ի N 1910-Ն ՈՐՈՇՄԱՆ N 5 ՀԱՎԵԼՎԱԾԻ N 1 ԱՂՅՈՒՍԱԿՈՒՄ ԿԱՏԱՐՎՈՂ ՓՈՓՈԽՈՒԹՅՈՒՆԸ ԵՎ ԼՐԱՑՈՒՄՆԸ
H9: հազ. դրամներով
A10: ԲԳԿ | B10: Ծրագրային դասիչը | D10: ԲԳԿ/Ծրագրի /միջոցառման անվանումը | E10: Ծրագրի նպատակը/Միջոցառման նկարագրությունը | F10: Վերջնական արդյունքի նկարագրությունը/Միջոցառման տեսակը | G10: Ցուցանիշների փոփոխությունը (ավելացումները նշված են դրական նշանով, իսկ նվազեցումները փակագծերում)
G11: Ինն ամիս | H11: Տարի
B12: Ծրագիր | C12: Միջոցառում
A13: ԸՆԴԱՄԵՆԸ | G13: =+G15 -> 107677.5 | H13: =+H15 -> 0
A14: այդ թվում՝
A15: ՀՀ ԿՐԹՈՒԹՅԱՆ, ԳԻՏՈՒԹՅԱՆ, ՄՇԱԿՈՒՅԹԻ ԵՎ ՍՊՈՐՏԻ ՆԱԽԱՐԱՐՈՒԹՅՈՒՆ | G15: =+G16 -> 107677.5 | H15: =+H16 -> 0
B16: 1236 | D16: Հանրակրթական և նախադպրոցական հաստատությունների հիմնում, կառուցում, բարելավում | E16: Առնվազն 300 դպրոցի և 500 մանկապարտեզի կառուցման, վերակառուցման, հիմնանորոգման ծրագրերի իրականացում ՀՀ պետական բյուջեի միջոցների շրջանակներում | F16: Կրթական միջավայրի բարելավում | G16: =SUM(G17:G18) -> 107677.5 | H16: =SUM(H17:H18) -> 0
C17: 1236 - 32004 | D17: Հանրակրթական դպրոցների շենքերի վերակառուցում, հիմնանորոգում | E17: Դպրոցական պարտադիր կրթության հասանելիության ապահովման նպատակով՛ հանրակրթական դպրոցների շենքերի (մասնաշենքերի), վերակառուցում, հիմնանորոգում և նախագծում | F17: Այլ պետական կազմակերպությունների կողմից օգտագործվող ոչ ֆինանսական ակտիվների հետ գործառնություններ | G17: =+'Հավելված N 3'!G23 -> -217322.5 | H17: =+'Հավելված N 3'!H23 -> -325000
C18: 1236 - 32006 | D18: Հանրակրթական դպրոցների, մանկապարտեզների և կրթահամալիրների գույքով և տեխնիկայով ապահովում | E18: Կրթական ժամանակակից նորմերին և կրթական չափորոշիչներին համապատասխան ուսուցման ծրագրերն իրականացնելու նպատակով հանրակրթական և նախադպրոցական հաստատությունների համար գույքի և տեխնիկայի ձեռքբերում | F18: Այլ պետական կազմակերպությունների կողմից օգտագործվող ոչ ֆինանսական ակտիվների հետ գործառնություններ | G18: =+'Հավելված N 3'!G32 -> 325000 | H18: =+'Հավելված N 3'!H32 -> 325000

Sheet Հավելված N 3
F1: Հավելված N 3
F2: ՀՀ կառավարության 2026 թվականի
F3: ______________ ի ___Ն որոշման
A5: ՀԱՅԱՍՏԱՆԻ ՀԱՆՐԱՊԵՏՈՒԹՅԱՆ ԿԱՌԱՎԱՐՈՒԹՅԱՆ 2025 ԹՎԱԿԱՆԻ ԴԵԿՏԵՄԲԵՐԻ 29-Ի N1910-Ն ՈՐՈՇՄԱՆ N 3 ԵՎ N 4 ՀԱՎԵԼՎԱԾՆԵՐՈՒՄ ԿԱՏԱՐՎՈՂ ՓՈՓՈԽՈՒԹՅՈՒՆԸ ԵՎ ԼՐԱՑՈՒՄԸ
H7: հազ. դրամներով
A8: Գործառական դասիչը | D8: Ծրագրային դասիչը | F8: Բյուջետային հատկացումների գլխավոր կարգադրիչների, ծրագրերի, միջոցառումների և միջոցառումները կատարող պետական մարմինների անվանումները | G8: Ցուցանիշների փոփոխությունը (ավելացումները նշված են դրական նշանով, իսկ նվազեցումները փակագծերում)
A9: Բաժին | B9: Խումբ | C9: Դաս | D9: Ծրագիր | E9: Միջոցառում | G9: Ինն ամիս | H9: Տարի
F10: ԸՆԴԱՄԵՆԸ | G10: =+G12 -> 107677.5 | H10: =+H12 -> 0
F11: այդ թվում
F12: ՀՀ ԿՐԹՈՒԹՅԱՆ, ԳԻՏՈՒԹՅԱՆ, ՄՇԱԿՈՒՅԹԻ ԵՎ ՍՊՈՐՏԻ ՆԱԽԱՐԱՐՈՒԹՅՈՒՆ | G12: =+G13 -> 107677.5 | H12: =+H13 -> 0
A13: 09 | F13: ԿՐԹՈՒԹՅՈՒՆ | G13: =+G15 -> 107677.5 | H13: =+H15 -> 0
F14: այդ թվում`
B15: 02 | F15: Միջնակարգ ընդհանուր կրթություն | G15: =+G17 -> 107677.5 | H15: =+H17 -> 0
F16: այդ թվում`
C17: 01 | F17: Հիմնական ընդհանուր կրթություն | G17: =+G19 -> 107677.5 | H17: =+H19 -> 0
F18: այդ թվում`
F19: ՀՀ կրթության, գիտության, մշակույթի և սպորտի նախարարություն | G19: =+G21 -> 107677.5 | H19: =+H21 -> 0
F20: այդ թվում`
D21: 1236 | E21: Հանրակրթական և նախադպրոցական հաստատությունների հիմնում, կառուցում, բարելավում | G21: =+G23+G32 -> 107677.5 | H21: =+H23+H32 -> 0
F22: այդ թվում`
E23: 32004 | F23: Հանրակրթական դպրոցների շենքերի վերակառուցում, հիմնանորոգում | G23: =+G25 -> -217322.5 | H23: =+H25 -> -325000
F24: այդ թվում` ըստ կատարողների
F25: ՀՀ քաղաքաշինության կոմիտե | G25: =+G27 -> -217322.5 | H25: =+H27 -> -325000
F26: այդ թվում` բյուջետային ծախսերի տնտեսագիտական դասակարգման հոդվածներ
F27: ԸՆԴԱՄԵՆԸ ԾԱԽՍԵՐ | G27: =G28 -> -217322.5 | H27: =H28 -> -325000
F28: ՈՉ ՖԻՆԱՆՍԱԿԱՆ ԱԿՏԻՎՆԵՐԻ ԳԾՈՎ ԾԱԽՍԵՐ | G28: =+G29 -> -217322.5 | H28: =+H29 -> -325000
F29: ՀԻՄՆԱԿԱՆ ՄԻՋՈՑՆԵՐ | G29: =+G30 -> -217322.5 | H29: =+H30 -> -325000
F30: ՇԵՆՔԵՐ ԵՎ ՇԻՆՈՒԹՅՈՒՆՆԵՐ | G30: =+G31 -> -217322.5 | H30: =+H31 -> -325000
F31: - Շենքերի և շինությունների կապիտալ վերանորոգում | G31: =+'Հավելված N 5'!E14 -> -217322.5 | H31: =+'Հավելված N 5'!F14 -> -325000
E32: 32006 | F32: Հանրակրթական դպրոցների, մանկապարտեզների և կրթահամալիրների գույքով և տեխնիկայով ապահովում | G32: =+G34 -> 325000 | H32: =+H34 -> 325000
F33: այդ թվում` ըստ կատարողների
F34: ՀՀ կրթության, գիտության, մշակույթի և սպորտի նախարարություն | G34: =+G36 -> 325000 | H34: =+H36 -> 325000
F35: այդ թվում` բյուջետային ծախսերի տնտեսագիտական դասակարգման հոդվածներ
F36: ԸՆԴԱՄԵՆԸ ԾԱԽՍԵՐ | G36: =G37 -> 325000 | H36: =H37 -> 325000
F37: ՈՉ ՖԻՆԱՆՍԱԿԱՆ ԱԿՏԻՎՆԵՐԻ ԳԾՈՎ ԾԱԽՍԵՐ | G37: =+G38 -> 325000 | H37: =+H38 -> 325000
F38: ՀԻՄՆԱԿԱՆ ՄԻՋՈՑՆԵՐ | G38: =+G39 -> 325000 | H38: =+H39 -> 325000
F39: ՄԵՔԵՆԱՆԵՐ ԵՎ ՍԱՐՔԱՎՈՐՈՒՄՆԵՐ | G39: =+G40 -> 325000 | H39: =+H40 -> 325000
F40: - Այլ մեքենաներ և սարքավորումներ | G40: =+'Հավելված N 5'!E19 -> 325000 | H40: =+'Հավելված N 5'!F19 -> 325000

Sheet Հավելված N 4
F1: Հավելված N 4
F2: ՀՀ կառավարության 2026 թվականի
F3: ______________ ի ___Ն որոշման
A5: «ՀԱՅԱUՏԱՆԻ ՀԱՆՐԱՊԵՏՈՒԹՅԱՆ 2026 ԹՎԱԿԱՆԻ ՊԵՏԱԿԱՆ ԲՅՈՒՋԵԻ ՄԱUԻՆ» ՀԱՅԱUՏԱՆԻ ՀԱՆՐԱՊԵՏՈՒԹՅԱՆ OՐԵՆՔԻ N 1 ՀԱՎԵԼՎԱԾԻ N 3 ԱՂՅՈՒՍԱԿՈՒՄ ԿԱՏԱՐՎՈՂ ՓՈՓՈԽՈՒԹՅՈՒՆԸ ԵՎ ԼՐԱՑՈՒՄԸ
G8: հազ. դրամներով
A9: Ծրագրային դասիչ | C9: Բյուջետային գլխավոր կարգադրիչների, ծրագրերի, միջոցառումների, միջոցառումները կատարող պետական մարմինների և ուղղությունների անվանումները | D9: Ընդամենը | E9: Ցուցանիշների փոփոխությունը (ավելացումները նշված են դրական նշանով, իսկ նվազեցումները՝ փակագծերում)
A10: Ծրագիր | B10: Միջոցառում | E10: Կառուցման աշխատանքներ | F10: Վերակառուցման, վերանորոգման և վերականգնման աշխատանքներ | G10: Նախագծահե- տազոտական, գեոդեզիա- քարտեզագրա- կան աշխա- տանքներ | H10: Ոչ ֆինանսական այլ ակտիվների ձեռքբերում
C11: ԸՆԴԱՄԵՆԸ | D11: =SUM(E11:H11) -> 0 | E11: =+E13 -> 0 | F11: =+F13 -> -325000 | G11: =+G13 -> 0 | H11: =+H13 -> 325000
C12: այդ թվում՝
C13: ՀՀ ԿՐԹՈՒԹՅԱՆ, ԳԻՏՈՒԹՅԱՆ, ՄՇԱԿՈՒՅԹԻ ԵՎ ՍՊՈՐՏԻ ՆԱԽԱՐԱՐՈՒԹՅՈՒՆ | D13: =SUM(E13:H13) -> 0 | E13: =+E15+E18 -> 0 | F13: =+F15+F18 -> -325000 | G13: =+G15+G18 -> 0 | H13: =+H15+H18 -> 325000
C14: այդ թվում`
A15: 1236 | B15: 32004 | C15: Հանրակրթական դպրոցների շենքերի վերակառուցում, հիմնանորոգում | D15: =SUM(E15:H15) -> -325000 | E15: =+E17 -> 0 | F15: =+F17 -> -325000 | G15: =+G17 -> 0 | H15: =+H17 -> 0
C16: այդ թվում`
C17: Հանրակրթական դպրոցների շենքերի վերակառուցում, հիմնանորոգում | D17: =SUM(E17:H17) -> -325000 | E17: 0 | F17: =-D18 -> -325000 | G17: 0 | H17: 0
A18: 1236 | B18: 32006 | C18: Հանրակրթական դպրոցների, մանկապարտեզների և կրթահամալիրների գույքով և տեխնիկայով ապահովում | D18: =SUM(E18:H18) -> 325000 | E18: =+E20 -> 0 | F18: =+F20 -> 0 | G18: =+G20 -> 0 | H18: =+H20 -> 325000
C19: այդ թվում`
C20: Դպրոցական կլաստերների աշակերտների տեղափոխման նպատակով ավտոբուսների ձեռքբերում և հարմարեցում դպրոցական ավտոբուսների չափանիշներին | D20: =SUM(E20:H20) -> 325000 | E20: 0 | F20: 0 | G20: 0 | H20: =+'Հավելված N 8'!I16 -> 325000

Sheet Հավելված N 5
D1: Հավելված N 5
D2: ՀՀ կառավարության 2026 թվականի
D3: ______________ ի ___Ն որոշման
B5: ՀԱՅԱՍՏԱՆԻ ՀԱՆՐԱՊԵՏՈՒԹՅԱՆ ԿԱՌԱՎԱՐՈՒԹՅԱՆ 2025 ԹՎԱԿԱՆԻ ԴԵԿՏԵՄԲԵՐԻ 25-Ի N 1910-Ն ՈՐՈՇՄԱՆ N 5 ՀԱՎԵԼՎԱԾԻ N 2 ԱՂՅՈՒՍԱԿՈՒՄ ԿԱՏԱՐՎՈՂ ՓՈՓՈԽՈՒԹՅՈՒՆԸ ԵՎ ԼՐԱՑՈՒՄԸ
F7: հազ. դրամներով
B8: Ծրագրային դասիչ | D8: Բյուջետային գլխավոր կարգադրիչների, ծրագրերի, միջոցառումների, միջոցառումները կատարող պետական մարմինների և ուղղությունների անվանումները | E8: Ցուցանիշների փոփոխությունը (ավելացումները նշված են դրական նշանով, իսկ նվազեցումները՝ փակագծերում)
B9: Ծրագիր | C9: Միջոցառում | E9: Ինն ամիս | F9: Տարի
D10: ՀՀ ԿՐԹՈՒԹՅԱՆ, ԳԻՏՈՒԹՅԱՆ, ՄՇԱԿՈՒՅԹԻ ԵՎ ՍՊՈՐՏԻ ՆԱԽԱՐԱՐՈՒԹՅՈՒՆ | E10: =+E12+E17 -> 107677.5 | F10: =+F12+F17 -> 0
D11: այդ թվում՝
B12: 1236 | C12: 32004 | D12: Հանրակրթական դպրոցների շենքերի վերակառուցում, հիմնանորոգում | E12: =+E14 -> -217322.5 | F12: =+F14 -> -325000
D13: այդ թվում` ըստ կատարողների
D14: ՀՀ քաղաքաշինության կոմիտե | E14: =+E16 -> -217322.5 | F14: =+F16 -> -325000
D15: այդ թվում՝ ըստ ուղղությունների
D16: Հանրակրթական դպրոցների շենքերի վերակառուցում, հիմնանորոգում | E16: -217322.5 | F16: =+'Հավելված N 4'!D17 -> -325000
B17: 1236 | C17: 32006 | D17: Հանրակրթական դպրոցների, մանկապարտեզների և կրթահամալիրների գույքով և տեխնիկայով ապահովում | E17: =+E19 -> 325000 | F17: =+F19 -> 325000
D18: այդ թվում` ըստ կատարողների
D19: ՀՀ կրթության, գիտության, մշակույթի և սպորտի նախարարություն | E19: =+E21 -> 325000 | F19: =+F21 -> 325000
D20: այդ թվում՝ ըստ ուղղությունների
D21: =+'Հավելված N 4'!C20 -> Դպրոցական կլաստերների աշակերտների տեղափոխման նպատակով ավտոբուսների ձեռքբերում և հարմարեցում դպրոցական ավտոբուսների չափանիշներին | E21: =+F21 -> 325000 | F21: =+'Հավելված N 4'!D20 -> 325000

Sheet Հավելված N 6
I1: Հավելված N 6
I2: ՀՀ կառավարության 2026 թվականի
I3: ______________ ի ___Ն որոշման
A6: ՀԱՅԱՍՏԱՆԻ ՀԱՆՐԱՊԵՏՈՒԹՅԱՆ ԿԱՌԱՎԱՐՈՒԹՅԱՆ 2025 ԹՎԱԿԱՆԻ ԴԵԿՏԵՄԲԵՐԻ 25-Ի N 1910-Ն ՈՐՈՇՄԱՆ N 9 ՀԱՎԵԼՎԱԾՆՈՒՄ ԿԱՏԱՐՎՈՂ ՓՈՓՈԽՈՒԹՅՈՒՆԸ ԵՎ ԼՐԱՑՈՒՄԸ
J8: հազար դրամներոով
A9: ԲԳԿ | B9: Ծրագիր | D9: Միջոցառում | H9: Իրականացնողը/ ակտիվն օգտագործողը/ շահառուի ընտրության չափորոշիչը | I9: Արդյունքային չափորոշիչը | J9: Ցուցանիշների փոփոխությունը (ավելացումները նշված են դրական նշանով, իսկ նվազեցումները՝ փակագծերում)
B10: Դասիչը | C10: Անվանումը | D10: Դասիչը | E10: Անվանումը | F10: Նկարագրությունը | G10: Տեսակը | J10: Ինն ամիս | K10: Տարի
A11: ԸՆԴԱՄԵՆԸ | J11: =+J13 -> 107677.5 | K11: =+K13 -> 0
A12: այդ թվում՝
A13: ՀՀ ԿՐԹՈՒԹՅԱՆ, ԳԻՏՈՒԹՅԱՆ, ՄՇԱԿՈԻՅԹԻ ԵՎ ՍՊՈՐՏԻ ՆԱԽԱՐԱՐՈՒԹՅՈՒՆ | J13: =+J14 -> 107677.5 | K13: =+K14 -> 0
B14: 1236 | C14: Հանրակրթական և նախադպրոցական հաստատությունների հիմնում, կառուցում, բարելավում | J14: =+J15+J19 -> 107677.5 | K14: =+K15+K19 -> 0
D15: 1236 - 32004 | E15: Հանրակրթական դպրոցների շենքերի վերակառուցում, հիմնանորոգում | J15: =+'Հավելված N 2 '!G17 -> -217322.5 | K15: =+'Հավելված N 2 '!H17 -> -325000
F16: Դպրոցական պարտադիր կրթության հասանելիության ապահովման նպատակով՛ հանրակրթական դպրոցների շենքերի (մասնաշենքերի), վերակառուցում, հիմնանորոգում և նախագծում
G17: Այլ պետական կազմակերպությունների կողմից օգտագործվող ոչ ֆինանսական ակտիվների հետ գործառնություններ
H18: Ակտիվն օգտագործող կազմակերպության անվանումը` Հանրակրթական դպրոցներ
D19: 1236 - 32006 | E19: Հանրակրթական դպրոցների, մանկապարտեզների և կրթահամալիրների գույքով և տեխնիկայով ապահովում | J19: =+'Հավելված N 2 '!G18 -> 325000 | K19: =+'Հավելված N 2 '!H18 -> 325000
F20: Կրթական ժամանակակից նորմերին և կրթական չափորոշիչներին համապատասխան ուսուցման ծրագրերն իրականացնելու նպատակով հանրակրթական և նախադպրոցական հաստատությունների համար գույքի և տեխնիկայի ձեռքբերում
G21: Այլ պետական կազմակերպությունների կողմից օգտագործվող ոչ ֆինանսական ակտիվների հետ գործառնություններ
H22: Ակտիվն օգտագործող կազմակերպությունների անվանումները` Հանրակրթական դպրոցներ, մանկապարտեզներ և կրթահամալիրներ
I23: Ձեռքբերվող ավտոբուսների քանակ, հատ | K23: 5
I24: Ձեռքբերվող ավտոբուսների շահառուների թիվ, մարդ | K24: 145

Sheet Հավելված N 7
I1: Հավելված N 7
I2: ՀՀ կառավարության 2026 թվականի
I3: ______________ ի ___Ն որոշման
A6: ՀԱՅԱՍՏԱՆԻ ՀԱՆՐԱՊԵՏՈՒԹՅԱՆ ԿԱՌԱՎԱՐՈՒԹՅԱՆ 2025 ԹՎԱԿԱՆԻ ԴԵԿՏԵՄԲԵՐԻ 25-Ի N 1910-Ն ՈՐՈՇՄԱՆ N 9.1 ՀԱՎԵԼՎԱԾՆՈՒՄ ԿԱՏԱՐՎՈՂ ՓՈՓՈԽՈՒԹՅՈՒՆԸ ԵՎ ԼՐԱՑՈՒՄԸ
J8: հազար դրամներոով
A9: ԲՍԿ | B9: Ծրագիր | D9: Միջոցառում | H9: Իրականացնողը/ ակտիվն օգտագործողը/ շահառուի ընտրության չափորոշիչը | I9: Արդյունքային չափորոշիչը | J9: Ցուցանիշների փոփոխությունը (ավելացումները նշված են դրական նշանով, իսկ նվազեցումները՝ փակագծերում)
B10: Դասիչը | C10: Անվանումը | D10: Դասիչը | E10: Անվանումը | F10: Նկարագրությունը | G10: Տեսակը | J10: Ինն ամիս | K10: Տարի
A11: ԸՆԴԱՄԵՆԸ | J11: =+J13+J22 -> 107677.5 | K11: =+K13+K22 -> 0
A12: այդ թվում՝
A13: ՀՀ ԿՐԹՈՒԹՅԱՆ, ԳԻՏՈՒԹՅԱՆ, ՄՇԱԿՈԻՅԹԻ ԵՎ ՍՊՈՐՏԻ ՆԱԽԱՐԱՐՈՒԹՅՈՒՆ | J13: =+J14 -> 325000 | K13: =+K14 -> 325000
B14: 1236 | C14: Հանրակրթական և նախադպրոցական հաստատությունների հիմնում, կառուցում, բարելավում | J14: =+J15 -> 325000 | K14: =+K15 -> 325000
D15: 1236 - 32006 | E15: Հանրակրթական դպրոցների, մանկապարտեզների և կրթահամալիրների գույքով և տեխնիկայով ապահովում | J15: =+'Հավելված N 3'!G34 -> 325000 | K15: =+'Հավելված N 3'!H34 -> 325000
F16: Կրթական ժամանակակից նորմերին և կրթական չափորոշիչներին համապատասխան ուսուցման ծրագրերն իրականացնելու նպատակով հանրակրթական և նախադպրոցական հաստատությունների համար գույքի և տեխնիկայի ձեռքբերում
G17: Այլ պետական կազմակերպությունների կողմից օգտագործվող ոչ ֆինանսական ակտիվների հետ գործառնություններ
H18: Ակտիվն օգտագործող կազմակերպությունների անվանումները` Հանրակրթական դպրոցներ, մանկապարտեզներ և կրթահամալիրներ
I19: Ձեռքբերվող ավտոբուսների քանակ, հատ | K19: 5
I20: Ձեռքբերվող ավտոբուսների շահառուների թիվ, մարդ | K20: 145
A22: ՀՀ ՔԱՂԱՔԱՇԻՆՈՒԹՅԱՆ ԿՈՄԻՏԵ | J22: =+J23 -> -217322.5 | K22: =+K23 -> -325000
B23: 1236 | C23: Հանրակրթական և նախադպրոցական հաստատությունների հիմնում, կառուցում, բարելավում | J23: =+J24 -> -217322.5 | K23: =+K24 -> -325000
D24: 1236 - 32004 | E24: Հանրակրթական դպրոցների շենքերի վերակառուցում, հիմնանորոգում | J24: =+'Հավելված N 3'!G25 -> -217322.5 | K24: =+'Հավելված N 3'!H25 -> -325000
F25: Դպրոցական պարտադիր կրթության հասանելիության ապահովման նպատակով՛ հանրակրթական դպրոցների շենքերի (մասնաշենքերի), վերակառուցում, հիմնանորոգում և նախագծում
G26: Այլ պետական կազմակերպությունների կողմից օգտագործվող ոչ ֆինանսական ակտիվների հետ գործառնություններ
H27: Ակտիվն օգտագործող կազմակերպության անվանումը` Հանրակրթական դպրոցներ

Sheet Հավելված N 8
H1: Հավելված N 8
H2: ՀՀ կառավարության 2026 թվականի
H3: ______________ ի ___Ն որոշման
A6: ՀԱՅԱՍՏԱՆԻ ՀԱՆՐԱՊԵՏՈՒԹՅԱՆ ԿԱՌԱՎԱՐՈՒԹՅԱՆ 2025 ԹՎԱԿԱՆԻ ԴԵԿՏԵՄԲԵՐԻ 25-Ի N 1910-Ն N 10 ՀԱՎԵԼՎԱԾՈՒՄ ԿԱՏԱՐՎՈՂ ԼՐԱՑՈՒՄԸ
A10: Կոդը | B10: Անվանումը | E10: Գնման ձևը | F10: Չափման միավորը | G10: Միավորի գինը | H10: Ցուցանիշների փոփոխությունը (ավելացումները նշված են դրական նշանով, իսկ նվազեցումները՝ փակագծերում)
H11: Քանակը | I11: Գումարը (հազար դրամ)
A12: 1 | B12: 2 | E12: 3 | F12: 4 | G12: 5 | H12: 6 | I12: 7
A13: ՀՀ կրթության, գիտության, մշակույթի և սպորտի նախարարություն | I13: =+I14 -> 325000
A14: Բաժին N 09 | B14: Խումբ N 02 | C14: Դաս N 01 | D14: Հիմնական ընդհանուր կրթություն | I14: =+I15 -> 325000
A15: 1236-32006 | B15: Հանրակրթական դպրոցների, մանկապարտեզների և կրթահամալիրների գույքով և տեխնիկայով ապահովում | I15: =+I16 -> 325000
B16: ՄԱՍ I. ԱՊՐԱՆՔՆԵՐ | I16: =SUM(I17:I17) -> 325000
A17: 34121100 | B17: ավտոբուսներ և միջքաղաքային ավտոբուսներ | E17: ՀՄԱ | F17: հատ | G17: 65000000 | H17: 5 | I17: =+ROUNDDOWN(H17*G17/1000,1) -> 325000
