Workbook
Name _tab10: #REF!
Name _tab10: #REF!
Name _tab10: #REF!
Name _tab10: #REF!
Name _tab11: #REF!
Name _tab11: #REF!
Name _tab11: #REF!
Name _tab11: #REF!
Name _tab12: #REF!
Name _tab12: #REF!
Name _tab12: #REF!
Name _tab12: #REF!
Name _tab13: #REF!
Name _tab13: #REF!
Name _tab13: #REF!
Name _tab13: #REF!
Name _tab14: #REF!
Name _tab14: #REF!
Name _tab14: #REF!
Name _tab14: #REF!
Name _tab15: #REF!
Name _tab15: #REF!
Name _tab15: #REF!
Name _tab15: #REF!
Name _tab16: #REF!
Name _tab16: #REF!
Name _tab16: #REF!
Name _tab16: #REF!
Name _tab17: #REF!
Name _tab17: #REF!
Name _tab17: #REF!
Name _tab17: #REF!
Name _tab18: #REF!
Name _tab18: #REF!
Name _tab18: #REF!
Name _tab18: #REF!
Name _tab19: #REF!
Name _tab19: #REF!
Name _tab19: #REF!
Name _tab19: #REF!
Name _tab20: #REF!
Name _tab20: #REF!
Name _tab20: #REF!
Name _tab20: #REF!
Name _tab21: #REF!
Name _tab21: #REF!
Name _tab21: #REF!
Name _tab21: #REF!
Name _tab22: #REF!
Name _tab22: #REF!
Name _tab22: #REF!
Name _tab22: #REF!
Name _tab23: #REF!
Name _tab23: #REF!
Name _tab23: #REF!
Name _tab23: #REF!
Name _tab24: #REF!
Name _tab24: #REF!
Name _tab24: #REF!
Name _tab24: #REF!

Sheet 1
H2: Հավելված N 1
E3: ՀՀ կառավարության 2026 թվականի
E4: -----------------ի N -----------Ն որոշման
A6: «ՀԱՅԱՍՏԱՆԻ ՀԱՆՐԱՊԵՏՈՒԹՅԱՆ 2026 ԹՎԱԿԱՆԻ ՊԵՏԱԿԱՆ ԲՅՈՒՋԵԻ ՄԱՍԻՆ» ՕՐԵՆՔԻ N 1 ՀԱՎԵԼՎԱԾԻ N 2 ԱՂՅՈՒՍԱԿՈՒՄ ԿԱՏԱՐՎՈՂ ՎԵՐԱԲԱՇԽՈՒՄԸ ԵՎ ԼՐԱՑՈՒՄԸ, ՀԱՅԱՍՏԱՆԻ ՀԱՆՐԱՊԵՏՈՒԹՅԱՆ ԿԱՌԱՎԱՐՈՒԹՅԱՆ 2025 ԹՎԱԿԱՆԻ ԴԵԿՏԵՄԲԵՐԻ 25-Ի N 1910-Ն ՈՐՈՇՄԱՆ N 5 ՀԱՎԵԼՎԱԾԻ N 1 ԱՂՅՈՒՍԱԿՈՒՄ ԿԱՏԱՐՎՈՂ ՓՈՓՈԽՈՒԹՅՈՒՆԸ ԵՎ ԼՐԱՑՈՒՄԸ
H7: հազար դրամներով
A8: ԲԳԿ | B8: Ծրագրային դասիչը | D8: ԲԳԿ/Ծրագրի /միջոցառման անվանումը | E8: Ծրագրի նպատակը/Միջոցառման նկարագրույունը | F8: Վերջնական արդյունքի նկարագրությունը/Միջոցառման տեսակը | G8: Ցուցանիշների փոփոխությունները ավելացումները նշված են դրական նշանով, իսկ նվազեցումները՝ փակագծերում
B9: Ծրագիր | C9: Միջոցառում | G9: Ինն ամիս | H9: Տարի
A10: ԸՆԴԱՄԵՆԸ | G10: =G11+G16 -> 0 | H10: =H11+H16 -> 0
A11: ՀՀ աշխատանքի և սոցիալական հարցերի նախարարություն | G11: =G12+G14 -> 0 | H11: =H12+H14 -> 0
B12: 1117 | D12: Սոցիալական պաշտպանության բնագավառում պետական քաղաքականության մշակում, ծրագրերի համակարգում և մոնիթորինգ | E12: Աղքատության մեղմման և անհավասարության նվազեցման, աշխատաշուկայի պահանջարկի և գործազրկության անհմպ. կրճատման, զբաղվածության աճի, ժողովրդագրական իրավիճակի բարելավման և քաղաքացիների սոց.իրավունքի իրացմանն ուղղված քաղաքականության մշակմ. և իրականացմ. ապահովում | F12: Սոցիալական պաշտպանության ոլորտում իրականացվող ծրագրերի ազդեցության և արդյունավետության բարելավում | G12: =G13 -> 14629.8 | H12: =H13 -> 14629.8
C13: 1117-11014 | D13: Երեխաների ամառային հանգստի և մշակութային-ճանաչողական ճամբար 2026 | E13: Երեխաների ամառային հանգստի և մշակութային-ճանաչողական ճամբար 2026 | F13: Ծառայությունների մատուցում | G13: 14629.8 | H13: 14629.8
B14: 1160 | D14: Հաշմանդամություն ունեցող անձանց սոցիալական ներառում | E14: Հաշմանդամություն ունեցող անձանց հիմնական պահանջմունքների և սոցիալական կարիքների բավարարում և սոցիալական ներառում հասարակություն | F14: Հաշմանդամություն ունեցող անձանց մատուցվող սոցիալական ծառայությունների հասցեականության և արդյունավետության բարձրացում | G14: =G15 -> -14629.8 | H14: =H15 -> -14629.8
C15: 1160 - 11013 | D15: Հաշմանդամություն ունեցող անձանց շուրջօրյա խնամքի ծառայություներ համայնքահենք փոքր խմբային տներում | E15: Հաշմանդամություն ունեցող անձանց շուրջօրյա խնամքի ծառայություներ համայնքահենք փոքր խմբային տներում | F15: Ծառայությունների մատուցում | G15: -14629.8 | H15: -14629.8
A16: ՀՀ կառավարություն | G16: =G17 -> 0 | H16: =H17 -> 0
B17: 1139 | D17: ՀՀ կառավարության պահուստային ֆոնդ | E17: Պետական բյուջեում չկանխատեսված, ինչպես նաեւ բյուջետային երաշխիքների ապահովման ծախսերի ֆինանսավորման ապահովում | F17: Պահուստային ֆոնդի կառավարման արդյունավետության և թափանցիկության ապահովում | G17: =G18+G19 -> 0 | H17: =H18+H19 -> 0
C18: 1139 - 11001 | D18: ՀՀ կառավարության պահուստային ֆոնդ | E18: ՀՀ պետական բյուջեում նախատեսված ելքերի լրացուցիչ ֆինանսավորման, պետական բյուջեում չկանխատեսված ելքերի, ինչպես նաև բյուջետային երաշխիքների ապահովման ելքերի ֆինանսավորման ապահովում | F18: Ծառայությունների մատուցում | G18: 14629.8 | H18: 14629.8
C19: 1139 - 11001 | D19: ՀՀ կառավարության պահուստային ֆոնդ | E19: ՀՀ պետական բյուջեում նախատեսված ելքերի լրացուցիչ ֆինանսավորման, պետական բյուջեում չկանխատեսված ելքերի, ինչպես նաև բյուջետային երաշխիքների ապահովման ելքերի ֆինանսավորման ապահովում | F19: Ծառայությունների մատուցում | G19: -14629.8 | H19: -14629.8

Sheet 2
H2: Հավելված N 2
F3: ՀՀ կառավարության 2026 թվականի
F4: -----------------ի N -----------Ն որոշման
A6: ՀԱՅԱՍՏԱՆԻ ՀԱՆՐԱՊԵՏՈՒԹՅԱՆ ԿԱՌԱՎԱՐՈՒԹՅԱՆ 2025 ԹՎԱԿԱՆԻ ԴԵԿՏԵՄԲԵՐԻ 25-Ի N 1910-Ն ՈՐՈՇՄԱՆ NN 3 ԵՎ 4 ՀԱՎԵԼՎԱԾՆԵՐՈՒՄ ԿԱՏԱՐՎՈՂ ՓՈՓՈԽՈՒԹՅՈՒՆՆԵՐԸ ԵՎ ԼՐԱՑՈՒՄՆԵՐԸ
G7: հազար դրամներով
A8: Գործառական դասիչը | D8: Ծրագրային դասիչը | F8: Բյուջետային ծախսերի գործառական դասակարգման բաժինների, խմբերի և դասերի, բյուջետային ծրագրերի միջոցառումների, բյուջետային հատկացումների գլխավոր կարգադրիչների անվանումները | G8: Ցուցանիշների փոփոխությունները ավելացումները նշված են դրական նշանով, իսկ նվազեցումները՝ փակագծերում
A9: Բաժինը | B9: Խումբը | C9: Դասը | D9: Ծրագիր | E9: Միջոցառում | G9: Ինն ամիս | H9: Տարի
F10: ԸՆԴԱՄԵՆԸ ԾԱԽՍԵՐ | G10: =G12+G50 -> 0 | H10: =H12+H50 -> 0
F11: այդ թվում`
F12: ՀՀ աշխատանքի և սոցիալական հարցերի նախարարություն | G12: =G14 -> 0 | H12: =H14 -> 0
F13: այդ թվում՝
A14: 10 | F14: ՍՈՑԻԱԼԱԿԱՆ ՊԱՇՏՊԱՆՈՒԹՅՈՒՆ | G14: =G16+G33 -> 0 | H14: =H16+H33 -> 0
F15: այդ թվում՝
B16: 01 | F16: Վատառողջություն և անաշխատունակություն | G16: =G18 -> -14629.8 | H16: =H18 -> -14629.8
F17: այդ թվում՝
C18: 02 | F18: Վատառողջություն | G18: =G20 -> -14629.8 | H18: =H20 -> -14629.8
F19: այդ թվում՝
F20: ՀՀ աշխատանքի և սոցիալական հարցերի նախարարություն | G20: =G22 -> -14629.8 | H20: =H22 -> -14629.8
F21: այդ թվում՝
D22: ='1'!B14 -> 1160 | F22: ='1'!D14 -> Հաշմանդամություն ունեցող անձանց սոցիալական ներառում | G22: =G24 -> -14629.8 | H22: =H24 -> -14629.8
F23: այդ թվում`
E24: 11013 | F24: ='1'!D15 -> Հաշմանդամություն ունեցող անձանց շուրջօրյա խնամքի ծառայություներ համայնքահենք փոքր խմբային տներում | G24: =G26 -> -14629.8 | H24: =H26 -> -14629.8
F25: այդ թվում` ըստ կատարողների
F26: ՀՀ աշխատանքի և սոցիալական հարցերի նախարարություն | G26: =G28 -> -14629.8 | H26: =H28 -> -14629.8
F27: այդ թվում` բյուջետային ծախսերի տնտեսագիտական դասակարգման հոդվածներ
F28: ԸՆԴԱՄԵՆԸ ԾԱԽՍԵՐ | G28: =G29 -> -14629.8 | H28: =H29 -> -14629.8
F29: ԸՆԹԱՑԻԿ ԾԱԽՍԵՐ | G29: =G30 -> -14629.8 | H29: =H30 -> -14629.8
F30: ԴՐԱՄԱՇՆՈՐՀՆԵՐ | G30: =G31 -> -14629.8 | H30: =H31 -> -14629.8
F31: Ընթացիկ դրամաշնորհներ պետական հատվածի այլ մակարդակներին | G31: =G32 -> -14629.8 | H31: =H32 -> -14629.8
F32: - Այլ ընթացիկ դրամաշնորհներ | G32: ='1'!G15 -> -14629.8 | H32: ='1'!H15 -> -14629.8
B33: 09 | F33: Սոցիալական պաշտպանություն (այլ դասերին չպատկանող) | G33: =G35 -> 14629.8 | H33: =H35 -> 14629.8
F34: այդ թվում՝
C35: 01 | F35: Սոցիալական պաշտպանություն (այլ դասերին չպատկանող) | G35: =G37 -> 14629.8 | H35: =H37 -> 14629.8
F36: այդ թվում՝
F37: ՀՀ աշխատանքի և սոցիալական հարցերի նախարարություն | G37: =G39 -> 14629.8 | H37: =H39 -> 14629.8
F38: այդ թվում՝
D39: 1117 | F39: Սոցիալական պաշտպանության բնագավառում պետական քաղաքականության մշակում, ծրագրերի համակարգում և մոնիթորինգ | G39: =G41 -> 14629.8 | H39: =H41 -> 14629.8
F40: այդ թվում`
E41: 11014 | F41: ='1'!D13 -> Երեխաների ամառային հանգստի և մշակութային-ճանաչողական ճամբար 2026 | G41: =G43 -> 14629.8 | H41: =H43 -> 14629.8
F42: այդ թվում` ըստ կատարողների
F43: ՀՀ աշխատանքի և սոցիալական հարցերի նախարարություն | G43: =G45 -> 14629.8 | H43: =H45 -> 14629.8
F44: այդ թվում` բյուջետային ծախսերի տնտեսագիտական դասակարգման հոդվածներ
F45: ԸՆԴԱՄԵՆԸ ԾԱԽՍԵՐ | G45: =G46 -> 14629.8 | H45: =H46 -> 14629.8
F46: ԸՆԹԱՑԻԿ ԾԱԽՍԵՐ | G46: =G47 -> 14629.8 | H46: =H47 -> 14629.8
F47: ԾԱՌԱՅՈՒԹՅՈՒՆՆԵՐԻ ԵՎ ԱՊՐԱՆՔՆԵՐԻ ՁԵՌՔԲԵՐՈՒՄ | G47: =G48 -> 14629.8 | H47: =H48 -> 14629.8
F48: Պայմանագրային այլ ծառայությունների ձեռքբերում | G48: =G49 -> 14629.8 | H48: =H49 -> 14629.8
F49: - Ընդհանուր բնույթի այլ ծառայություններ | G49: ='1'!G13 -> 14629.8 | H49: ='1'!H13 -> 14629.8
F50: ՀՀ կառավարություն | G50: =G52 -> 0 | H50: =H52 -> 0
F51: այդ թվում՝
A52: 11 | F52: ՀԻՄՆԱԿԱՆ ԲԱԺԻՆՆԵՐԻՆ ՉԴԱՍՎՈՂ ՊԱՀՈՒՍՏԱՅԻՆ ՖՈՆԴԵՐ | G52: =G54 -> 0 | H52: =H54 -> 0
F53: այդ թվում՝
B54: 01 | F54: ՀՀ կառավարության և համայնքների պահուստային ֆոնդ | G54: =G56 -> 0 | H54: =H56 -> 0
F55: այդ թվում՝
C56: 01 | F56: ՀՀ կառավարության պահուստային ֆոնդ | G56: =G58 -> 0 | H56: =H58 -> 0
F57: այդ թվում՝
F58: ՀՀ կառավարություն | G58: =G60 -> 0 | H58: =H60 -> 0
F59: այդ թվում՝
D60: 1139 | F60: ՀՀ կառավարության պահուստային ֆոնդ | G60: =G62+G70 -> 0 | H60: =H62+H70 -> 0
F61: այդ թվում՝
E62: 11001 | F62: ՀՀ կառավարության պահուստային ֆոնդ | G62: =G64 -> 14629.8 | H62: =H64 -> 14629.8
F63: այդ թվում՝ ըստ կատարողների
F64: ՀՀ կառավարություն | G64: =G66 -> 14629.8 | H64: =H66 -> 14629.8
F65: այդ թվում՝ բյուջետային ծախսերի տնտեսագիտական դասակարգման հոդվածներ
F66: ԸՆԴԱՄԵՆԸ ԾԱԽՍԵՐ | G66: =G67 -> 14629.8 | H66: =H67 -> 14629.8
F67: ԸՆԹԱՑԻԿ ԾԱԽՍԵՐ | G67: =G68 -> 14629.8 | H67: =H68 -> 14629.8
F68: ԱՅԼ ԾԱԽՍԵՐ | G68: =G69 -> 14629.8 | H68: =H69 -> 14629.8
F69: - Պահուստային միջոցներ | G69: ='1'!G18 -> 14629.8 | H69: ='1'!H18 -> 14629.8
E70: 11001 | F70: ՀՀ կառավարության պահուստային ֆոնդ | G70: =G72 -> -14629.8 | H70: =H72 -> -14629.8
F71: այդ թվում՝ ըստ կատարողների
F72: ՀՀ կառավարություն | G72: =G74 -> -14629.8 | H72: =H74 -> -14629.8
F73: այդ թվում՝ բյուջետային ծախսերի տնտեսագիտական դասակարգման հոդվածներ
F74: ԸՆԴԱՄԵՆԸ ԾԱԽՍԵՐ | G74: =G75 -> -14629.8 | H74: =H75 -> -14629.8
F75: ԸՆԹԱՑԻԿ ԾԱԽՍԵՐ | G75: =G76 -> -14629.8 | H75: =H76 -> -14629.8
F76: ԱՅԼ ԾԱԽՍԵՐ | G76: =G77 -> -14629.8 | H76: =H77 -> -14629.8
F77: - Պահուստային միջոցներ | G77: ='1'!G19 -> -14629.8 | H77: ='1'!H19 -> -14629.8

Sheet 3
G2: Հավելված N 3
G3: ՀՀ կառավարության 2026 թվականի
G4: -----------------ի N -----------Ն որոշման
A6: ՀԱՅԱՍՏԱՆԻ ՀԱՆՐԱՊԵՏՈՒԹՅԱՆ ԿԱՌԱՎԱՐՈՒԹՅԱՆ 2021 ԹՎԱԿԱՆԻ ԴԵԿՏԵՄԲԵՐԻ 23-Ի N 2121-Ն ՈՐՈՇՄԱՆ N 10 ՀԱՎԵԼՎԱԾՈՒՄ ԿԱՏԱՐՎՈՂ ՓՈՓՈԽՈՒԹՅՈՒՆՆԵՐԸ
A7: ՀԱՅԱՍՏԱՆԻ ՀԱՆՐԱՊԵՏՈՒԹՅԱՆ ԿԱՌԱՎԱՐՈՒԹՅԱՆ 2025 ԹՎԱԿԱՆԻ ԴԵԿՏԵՄԲԵՐԻ 25-Ի N 1910-Ն ՈՐՈՇՄԱՆ N 5 ՀԱՎԵԼՎԱԾԻ N 7 ԱՂՅՈՒՍԱԿՈՒՄ ԿԱՏԱՐՎՈՂ ՓՈՓՈԽՈՒԹՅՈՒՆԸ
A9: Ծրագրային դասիչ | C9: Բյուջետային հատկացումների գլխավոր կարգադրիչների, ծրագրերի, միջոցառումների, ծախսային ուղղությունների անվանումները | F9: Միջոցառումները կատարող պետական մարմինների և դրամաշնորհ ստացող տնտեսվարող սուբյեկտների անվանումները | G9: Ցուցանիշների փոփոխությունները նվազեցումները նշված են փակագծերում
A10: Ծրագիր | B10: Միջոցառում | G10: Տարի
A11: 1 | B11: 2 | C11: 3 | F11: 4 | G11: 5
A12: ՀՀ աշխատանքի և սոցիալական հարցերի նախարարություն | G12: =G13 -> -14629.8
A13: 1160 | B13: ='1'!D14 -> Հաշմանդամություն ունեցող անձանց սոցիալական ներառում | G13: =G14 -> -14629.8
B14: ='1'!C15 -> 1160 - 11013 | C14: ='1'!D15 -> Հաշմանդամություն ունեցող անձանց շուրջօրյա խնամքի ծառայություներ համայնքահենք փոքր խմբային տներում | F14: ՀՀ աշխատանքի և սոցիալական հարցերի նախարարություն | G14: =G15 -> -14629.8
F15: Մրցույթով ընտրված կազմակերպություն | G15: ='1'!G15 -> -14629.8

Sheet 4
K2: Հավելված N 4
K3: ՀՀ կառավարության 2026 թվականի
K4: -----------------ի N -----------Ն որոշման
A7: ՀԱՅԱՍՏԱՆԻ ՀԱՆՐԱՊԵՏՈՒԹՅԱՆ ԿԱՌԱՎԱՐՈՒԹՅԱՆ 2025 ԹՎԱԿԱՆԻ ԴԵԿՏԵՄԲԵՐԻ 25-Ի N 1910-Ն ՈՐՈՇՄԱՆ N 9 ՀԱՎԵԼՎԱԾՈՒՄ ԿԱՏԱՐՎՈՂ ՓՈՓՈԽՈՒԹՅՈՒՆՆԵՐԸ ԵՎ ԼՐԱՑՈՒՄՆԵՐԸ
J8: հազար դրամներով
A9: ԲԳԿ | B9: Ծրագիր | D9: Միջոցառում | H9: Իրականացնողը/ ակտիվն օգտագործողը/ շահառուի ընտրության չափորոշիչը | I9: Արդյունքային չափորոշիչը | J9: Ցուցանիշների փոփոխությունները ավելացումները նշված են դրական նշանով, իսկ նվազեցումները՝ փակագծերում
B10: Դասիչը | C10: Անվանումը | D10: Դասիչը | E10: Անվանումը | F10: Նկարագրությունը | G10: Տեսակը | J10: Ինն ամիս | K10: Տարի
A11: ԸՆԴԱՄԵՆԸ | J11: =J12+J24 -> 0 | K11: =K12+K24 -> 0
A12: ՀՀ աշխատանքի և սոցիալական հարցերի նախարարություն | J12: =J13+J18 -> 0 | K12: =K13+K18 -> 0
B13: ='1'!B12 -> 1117 | C13: ='1'!D12 -> Սոցիալական պաշտպանության բնագավառում պետական քաղաքականության մշակում, ծրագրերի համակարգում և մոնիթորինգ | J13: =J14 -> 14629.8 | K13: =K14 -> 14629.8
D14: ='1'!C13 -> 1117-11014 | E14: ='1'!D13 -> Երեխաների ամառային հանգստի և մշակութային-ճանաչողական ճամբար 2026 | J14: ='1'!G13 -> 14629.8 | K14: ='1'!H13 -> 14629.8
F15: ='1'!E13 -> Երեխաների ամառային հանգստի և մշակութային-ճանաչողական ճամբար 2026
G16: ='1'!F13 -> Ծառայությունների մատուցում
H17: Ծառայությունը մատուցողի անվանումը` ՀՀ աշխատանքի և սոցիալական հարցերի նախարարություն
B18: ='1'!B14 -> 1160 | C18: ='1'!D14 -> Հաշմանդամություն ունեցող անձանց սոցիալական ներառում | J18: =J19 -> -14629.8 | K18: =K19 -> -14629.8
D19: ='1'!C15 -> 1160 - 11013 | E19: ='1'!D15 -> Հաշմանդամություն ունեցող անձանց շուրջօրյա խնամքի ծառայություներ համայնքահենք փոքր խմբային տներում | J19: ='1'!G15 -> -14629.8 | K19: ='1'!H15 -> -14629.8
F20: ='1'!E15 -> Հաշմանդամություն ունեցող անձանց շուրջօրյա խնամքի ծառայություներ համայնքահենք փոքր խմբային տներում
G21: ='1'!F15 -> Ծառայությունների մատուցում
H22: Ծառայությունը մատուցողի անվանումը` Մասնագիտացված կազմակերպություններ
A24: ՀՀ կառավարություն | J24: =J25 -> 0 | K24: =K25 -> 0
B25: 1139 | C25: ՀՀ կառավարության պահուստային ֆոնդ | J25: =J26+J30 -> 0 | K25: =K26+K30 -> 0
D26: 1139 - 11001 | E26: ՀՀ կառավարության պահուստային ֆոնդ | J26: ='1'!G18 -> 14629.8 | K26: ='1'!H18 -> 14629.8
F27: ՀՀ պետական բյուջեում նախատեսված ելքերի լրացուցիչ ֆինանսավորման, պետական բյուջեում չկանխատեսված ելքերի, ինչպես նաև բյուջետային երաշխիքների ապահովման ելքերի ֆինանսավորման ապահովում
G28: Ծառայությունների մատուցում
H29: Ծառայությունը մատուցողի անվանումը` ՀՀ կառավարություն
D30: 1139 - 11001 | E30: ՀՀ կառավարության պահուստային ֆոնդ | J30: ='1'!G19 -> -14629.8 | K30: ='1'!H19 -> -14629.8
F31: ՀՀ պետական բյուջեում նախատեսված ելքերի լրացուցիչ ֆինանսավորման, պետական բյուջեում չկանխատեսված ելքերի, ինչպես նաև բյուջետային երաշխիքների ապահովման ելքերի ֆինանսավորման ապահովում
G32: Ծառայությունների մատուցում
H33: Ծառայությունը մատուցողի անվանումը` ՀՀ կառավարություն

Sheet 5
K2: Հավելված N 5
K3: ՀՀ կառավարության 2026 թվականի
K4: -----------------ի N -----------Ն որոշման
A7: ՀԱՅԱՍՏԱՆԻ ՀԱՆՐԱՊԵՏՈՒԹՅԱՆ ԿԱՌԱՎԱՐՈՒԹՅԱՆ 2025 ԹՎԱԿԱՆԻ ԴԵԿՏԵՄԲԵՐԻ 25-Ի N 1910-Ն ՈՐՈՇՄԱՆ N 9.1 ՀԱՎԵԼՎԱԾՈՒՄ ԿԱՏԱՐՎՈՂ ՓՈՓՈԽՈՒԹՅՈՒՆՆԵՐԸ ԵՎ ԼՐԱՑՈՒՄՆԵՐԸ
J8: հազար դրամներով
A9: ԲՍԿ | B9: Ծրագիր | D9: Միջոցառում | H9: Իրականացնողը/ ակտիվն օգտագործողը/ շահառուի ընտրության չափորոշիչը | I9: Արդյունքային չափորոշիչը | J9: Ցուցանիշների փոփոխությունները ավելացումները նշված են դրական նշանով, իսկ նվազեցումները՝ փակագծերում
B10: Դասիչը | C10: Անվանումը | D10: Դասիչը | E10: Անվանումը | F10: Նկարագրությունը | G10: Տեսակը | J10: Ինն ամիս | K10: Տարի
A11: ԸՆԴԱՄԵՆԸ | J11: =J12+J24 -> 0 | K11: =K12+K24 -> 0
A12: ՀՀ աշխատանքի և սոցիալական հարցերի նախարարություն | J12: =J13+J18 -> 0 | K12: =K13+K18 -> 0
B13: ='1'!B12 -> 1117 | C13: ='1'!D12 -> Սոցիալական պաշտպանության բնագավառում պետական քաղաքականության մշակում, ծրագրերի համակարգում և մոնիթորինգ | J13: =J14 -> 14629.8 | K13: =K14 -> 14629.8
D14: ='1'!C13 -> 1117-11014 | E14: ='1'!D13 -> Երեխաների ամառային հանգստի և մշակութային-ճանաչողական ճամբար 2026 | J14: ='1'!G13 -> 14629.8 | K14: ='1'!H13 -> 14629.8
F15: ='1'!E13 -> Երեխաների ամառային հանգստի և մշակութային-ճանաչողական ճամբար 2026
G16: ='1'!F13 -> Ծառայությունների մատուցում
H17: Ծառայությունը մատուցողի անվանումը` ՀՀ աշխատանքի և սոցիալական հարցերի նախարարություն
B18: ='1'!B14 -> 1160 | C18: ='1'!D14 -> Հաշմանդամություն ունեցող անձանց սոցիալական ներառում | J18: =J19 -> -14629.8 | K18: =K19 -> -14629.8
D19: ='1'!C15 -> 1160 - 11013 | E19: ='1'!D15 -> Հաշմանդամություն ունեցող անձանց շուրջօրյա խնամքի ծառայություներ համայնքահենք փոքր խմբային տներում | J19: ='1'!G15 -> -14629.8 | K19: ='1'!H15 -> -14629.8
F20: ='1'!E15 -> Հաշմանդամություն ունեցող անձանց շուրջօրյա խնամքի ծառայություներ համայնքահենք փոքր խմբային տներում
G21: ='1'!F15 -> Ծառայությունների մատուցում
H22: Ծառայությունը մատուցողի անվանումը` Մասնագիտացված կազմակերպություններ
A24: ՀՀ կառավարություն | J24: =J25 -> 0 | K24: =K25 -> 0
B25: 1139 | C25: ՀՀ կառավարության պահուստային ֆոնդ | J25: =J26+J30 -> 0 | K25: =K26+K30 -> 0
D26: 1139 - 11001 | E26: ՀՀ կառավարության պահուստային ֆոնդ | J26: ='1'!G18 -> 14629.8 | K26: ='1'!H18 -> 14629.8
F27: ՀՀ պետական բյուջեում նախատեսված ելքերի լրացուցիչ ֆինանսավորման, պետական բյուջեում չկանխատեսված ելքերի, ինչպես նաև բյուջետային երաշխիքների ապահովման ելքերի ֆինանսավորման ապահովում
G28: Ծառայությունների մատուցում
H29: Ծառայությունը մատուցողի անվանումը` ՀՀ կառավարություն
D30: 1139 - 11001 | E30: ՀՀ կառավարության պահուստային ֆոնդ | J30: ='1'!G19 -> -14629.8 | K30: ='1'!H19 -> -14629.8
F31: ՀՀ պետական բյուջեում նախատեսված ելքերի լրացուցիչ ֆինանսավորման, պետական բյուջեում չկանխատեսված ելքերի, ինչպես նաև բյուջետային երաշխիքների ապահովման ելքերի ֆինանսավորման ապահովում
G32: Ծառայությունների մատուցում
H33: Ծառայությունը մատուցողի անվանումը` ՀՀ կառավարություն

Sheet 8
H1: Հավելված N 8
G2: ՀՀ կառավարության 2026 թվականի
G3: -----------------ի N -----------Ն որոշման
B5: ՀԱՅԱՍՏԱՆԻ ՀԱՆՐԱՊԵՏՈՒԹՅԱՆ 2026 ԹՎԱԿԱՆԻ ՊԵՏԱԿԱՆ ԲՅՈՒՋԵՈՎ ՆԱԽԱՏԵՍՎԱԾ՝ ՀԱՅԱՍՏԱՆԻ ՀԱՆՐԱՊԵՏՈՒԹՅԱՆ ԿԱՌԱՎԱՐՈՒԹՅԱՆ ՊԱՀՈՒՍՏԱՅԻՆ ՖՈՆԴԻՑ ՀԱՏԿԱՑՈՒՄՆԵՐ ԿԱՏԱՐԵԼՈՒ ՎԵՐԱԲԵՐՅԱԼ
G6: հազար դրամներով
A7: Գործառական դասիչը | D7: Ծրագրային դասիչը | F7: Բյուջետային ծախսերի գործառական դասակարգման բաժինների, խմբերի և դասերի, բյուջետային ծրագրերի միջոցառումների, բյուջետային հատկացումների գլխավոր կարգադրիչների անվանումները | G7: Ցուցանիշների փոփոխությունները ավելացումները նշված են դրական նշանով, իսկ նվազեցումները՝ փակագծերում)
A8: Բաժին | B8: Խումբ | C8: Դաս | D8: Ծրագիր | E8: Միջոցառում | G8: Ինն ամիս | H8: Տարի
F9: ԸՆԴԱՄԵՆԸ ԾԱԽՍԵՐ | G9: =G11+G31 -> 0 | H9: =H11+H31 -> 0
F10: այդ թվում`
F11: ՀՀ կառավարություն | G11: =G13 -> -14629.8 | H11: =H13 -> -14629.8
F12: այդ թվում`
A13: ='2'!A52 -> 11 | F13: ='2'!F52 -> ՀԻՄՆԱԿԱՆ ԲԱԺԻՆՆԵՐԻՆ ՉԴԱՍՎՈՂ ՊԱՀՈՒՍՏԱՅԻՆ ՖՈՆԴԵՐ | G13: =G15 -> -14629.8 | H13: =H15 -> -14629.8
F14: ='2'!F53 -> այդ թվում՝
B15: ='2'!B54 -> 01 | F15: ='2'!F54 -> ՀՀ կառավարության և համայնքների պահուստային ֆոնդ | G15: =G17 -> -14629.8 | H15: =H17 -> -14629.8
F16: ='2'!F55 -> այդ թվում՝
C17: ='2'!C56 -> 01 | F17: ='2'!F56 -> ՀՀ կառավարության պահուստային ֆոնդ | G17: =G19 -> -14629.8 | H17: =H19 -> -14629.8
F18: ='2'!F57 -> այդ թվում՝
F19: ='2'!F58 -> ՀՀ կառավարություն | G19: =G21 -> -14629.8 | H19: =H21 -> -14629.8
F20: ='2'!F59 -> այդ թվում՝
D21: ='2'!D60 -> 1139 | F21: ='2'!F60 -> ՀՀ կառավարության պահուստային ֆոնդ | G21: =G23 -> -14629.8 | H21: =H23 -> -14629.8
F22: ='2'!F61 -> այդ թվում՝
E23: ='2'!E62 -> 11001 | F23: ='2'!F62 -> ՀՀ կառավարության պահուստային ֆոնդ | G23: =G25 -> -14629.8 | H23: =H25 -> -14629.8
F24: ='2'!F63 -> այդ թվում՝ ըստ կատարողների
F25: ='2'!F64 -> ՀՀ կառավարություն | G25: =G27 -> -14629.8 | H25: =H27 -> -14629.8
F26: ='2'!F65 -> այդ թվում՝ բյուջետային ծախսերի տնտեսագիտական դասակարգման հոդվածներ
F27: ='2'!F66 -> ԸՆԴԱՄԵՆԸ ԾԱԽՍԵՐ | G27: =G28 -> -14629.8 | H27: =H28 -> -14629.8
F28: ='2'!F67 -> ԸՆԹԱՑԻԿ ԾԱԽՍԵՐ | G28: =G29 -> -14629.8 | H28: =H29 -> -14629.8
F29: ='2'!F68 -> ԱՅԼ ԾԱԽՍԵՐ | G29: =G30 -> -14629.8 | H29: =H30 -> -14629.8
F30: ='2'!F69 -> - Պահուստային միջոցներ | G30: ='1'!G19 -> -14629.8 | H30: ='1'!H19 -> -14629.8
F31: ՀՀ աշխատանքի և սոցիալական հարցերի նախարարություն | G31: =G32 -> 14629.8 | H31: =H32 -> 14629.8
A32: ='2'!A14 -> 10 | F32: ='2'!F14 -> ՍՈՑԻԱԼԱԿԱՆ ՊԱՇՏՊԱՆՈՒԹՅՈՒՆ | G32: =G34 -> 14629.8 | H32: =H34 -> 14629.8
F33: ='2'!F15 -> այդ թվում՝
B34: ='2'!B16 -> 01 | F34: ='2'!F16 -> Վատառողջություն և անաշխատունակություն | G34: =G36 -> 14629.8 | H34: =H36 -> 14629.8
F35: ='2'!F17 -> այդ թվում՝
C36: ='2'!C18 -> 02 | F36: ='2'!F18 -> Վատառողջություն | G36: =G38 -> 14629.8 | H36: =H38 -> 14629.8
F37: ='2'!F19 -> այդ թվում՝
F38: ='2'!F20 -> ՀՀ աշխատանքի և սոցիալական հարցերի նախարարություն | G38: =G40 -> 14629.8 | H38: =H40 -> 14629.8
F39: ='2'!F21 -> այդ թվում՝
D40: ='2'!D22 -> 1160 | F40: ='2'!F22 -> Հաշմանդամություն ունեցող անձանց սոցիալական ներառում | G40: =G42 -> 14629.8 | H40: =H42 -> 14629.8
F41: ='2'!F23 -> այդ թվում`
E42: ='2'!E24 -> 11013 | F42: ='2'!F24 -> Հաշմանդամություն ունեցող անձանց շուրջօրյա խնամքի ծառայություներ համայնքահենք փոքր խմբային տներում | G42: =G44 -> 14629.8 | H42: =H44 -> 14629.8
F43: ='2'!F25 -> այդ թվում` ըստ կատարողների
F44: ='2'!F26 -> ՀՀ աշխատանքի և սոցիալական հարցերի նախարարություն | G44: =G46 -> 14629.8 | H44: =H46 -> 14629.8
F45: ='2'!F27 -> այդ թվում` բյուջետային ծախսերի տնտեսագիտական դասակարգման հոդվածներ
F46: ='2'!F28 -> ԸՆԴԱՄԵՆԸ ԾԱԽՍԵՐ | G46: =G47 -> 14629.8 | H46: =H47 -> 14629.8
F47: ='2'!F29 -> ԸՆԹԱՑԻԿ ԾԱԽՍԵՐ | G47: =G48 -> 14629.8 | H47: =H48 -> 14629.8
F48: ='2'!F30 -> ԴՐԱՄԱՇՆՈՐՀՆԵՐ | G48: =G49 -> 14629.8 | H48: =H49 -> 14629.8
F49: ='2'!F31 -> Ընթացիկ դրամաշնորհներ պետական հատվածի այլ մակարդակներին | G49: =G50 -> 14629.8 | H49: =H50 -> 14629.8
F50: ='2'!F32 -> - Այլ ընթացիկ դրամաշնորհներ | G50: ='1'!G13 -> 14629.8 | H50: ='1'!H13 -> 14629.8
