Workbook
Name a: #REF!
Name a: #REF!
Name a: #REF!
Name a: #REF!
Name a: #REF!
Name a: #REF!
Name a: #REF!
Name AgencyCode: #REF!
Name AgencyCode: #REF!
Name AgencyCode: #REF!
Name AgencyCode: #REF!
Name AgencyCode: #REF!
Name AgencyCode: #REF!
Name AgencyCode: #REF!
Name AgencyName: #REF!
Name AgencyName: #REF!
Name AgencyName: #REF!
Name AgencyName: #REF!
Name AgencyName: #REF!
Name AgencyName: #REF!
Name åû: #REF!
Name åû: #REF!
Name BOP: #REF!
Name BOPfoot: #REF!
Name davit: #REF!
Name davit: #REF!
Name davit: #REF!
Name davit: #REF!
Name davit: #REF!
Name DebtCG: #REF!
Name DebtGG: #REF!
Name Functional1: #REF!
Name Functional1: #REF!
Name Functional1: #REF!
Name Functional1: #REF!
Name Functional1: #REF!
Name Functional1: #REF!
Name ggg: #REF!
Name ggg: #REF!
Name ggg: #REF!
Name ggg: #REF!
Name ggg: #REF!
Name hav: #REF!
Name mas: #REF!
Name mas: #REF!
Name mass: #REF!
Name mass: #REF!
Name MonExo: #REF!
Name MonGrow: #REF!
Name PANature: #REF!
Name PANature: #REF!
Name PANature: #REF!
Name PANature: #REF!
Name PANature: #REF!
Name PANature: #REF!
Name PAType: #REF!
Name PAType: #REF!
Name PAType: #REF!
Name PAType: #REF!
Name PAType: #REF!

Sheet Հավելված N 1 
C1: Հավելված N 1
C2: ՀՀ կառավարության 2026 թվականի
C3: ______________ ի ___Ն որոշման
A5: «ՀԱՅԱՍՏԱՆԻ ՀԱՆՐԱՊԵՏՈՒԹՅԱՆ 2026 ԹՎԱԿԱՆԻ ՊԵՏԱԿԱՆ ԲՅՈՒՋԵԻ ՄԱՍԻՆ» ՕՐԵՆՔԻ 3-ՐԴ ՀՈԴՎԱԾԻ, N 3 ՀԱՎԵԼՎԱԾԻ N 1 ԱՂՅՈՒՍԱԿՈՒՄ ԵՎ ՀԱՅԱՍՏԱՆԻ ՀԱՆՐԱՊԵՏՈՒԹՅԱՆ ԿԱՌԱՎԱՐՈՒԹՅԱՆ 2025 ԹՎԱԿԱՆԻ ԴԵԿՏԵՄԲԵՐԻ 25-Ի N 1910-Ն ՈՐՈՇՄԱՆ N 1 ՀԱՎԵԼՎԱԾԻ N 1 ԱՂՅՈՒՍԱԿՈՒՄ ԿԱՏԱՐՎՈՂ ՓՈՓՈԽՈՒԹՅՈՒՆԸ
C7: հազ. դրամ
A8: Պետական բյուջեի դեֆիցիտի ֆինանսավորման աղբյուրներն ու դրանց տարրերի անվանումները | B8: Ցուցանիշների փոփոխությունը (ավելացումները նշված են դրական նշանով)
B9: Ինն ամիս | C9: Տարի
A10: ԸՆԴԱՄԵՆԸ | B10: =+B12 -> 8053080.1 | C10: =+C12 -> 0
A11: այդ թվում՝
A12: Ա.Ներքին աղբյուրներ-ընդամենը | B12: =+B14 -> 8053080.1 | C12: =+C14 -> 0
A13: այդ թվում՝
A14: 2. Ֆինանսական զուտ ակտիվներ | B14: =+B16 -> 8053080.1 | C14: =+C16 -> 0
A15: այդ թվում՝
A16: 2.6.Այլ | B16: =+B18 -> 8053080.1 | C16: =+C18 -> 0
A17: որից՝
A18: Ժամանակավորապես ազատ միջոցներ | B18: =+'Հավելված N 2'!G13 -> 8053080.1 | C18: =+'Հավելված N 2'!H13 -> 0

Sheet Հավելված N 2
F1: Հավելված N 2
F2: ՀՀ կառավարության 2026 թվականի
F3: ______________ ի ___Ն որոշման
A6: «ՀԱՅԱUՏԱՆԻ ՀԱՆՐԱՊԵՏՈՒԹՅԱՆ 2026 ԹՎԱԿԱՆԻ ՊԵՏԱԿԱՆ ԲՅՈՒՋԵԻ ՄԱUԻՆ» ՀԱՅԱUՏԱՆԻ ՀԱՆՐԱՊԵՏՈՒԹՅԱՆ OՐԵՆՔԻ N 1 ՀԱՎԵԼՎԱԾԻ N 2 ԱՂՅՈՒՍԱԿՈՒՄ ԿԱՏԱՐՎՈՂ ՎԵՐԱԲԱՇԽՈՒՄԸ ԵՎ ՀԱՅԱՍՏԱՆԻ ՀԱՆՐԱՊԵՏՈՒԹՅԱՆ ԿԱՌԱՎԱՐՈՒԹՅԱՆ 2025 ԹՎԱԿԱՆԻ ԴԵԿՏԵՄԲԵՐԻ 25-Ի N 1910-Ն ՈՐՈՇՄԱՆ N 5 ՀԱՎԵԼՎԱԾԻ N 1 ԱՂՅՈՒՍԱԿՈՒՄ ԿԱՏԱՐՎՈՂ ՓՈՓՈԽՈՒԹՅՈՒՆՆԵՐԸ ԵՎ ԼՐԱՑՈՒՄՆԵՐԸ
H9: հազ. դրամներով
A10: ԲԳԿ | B10: Ծրագրային դասիչը | D10: ԲԳԿ/Ծրագրի /միջոցառման անվանումը | E10: Ծրագրի նպատակը/Միջոցառման նկարագրությունը | F10: Վերջնական արդյունքի նկարագրությունը/Միջոցառման տեսակը | G10: Ցուցանիշների փոփոխությունը (ավելացումները նշված են դրական նշանով, իսկ նվազեցումները փակագծերում)
G11: Ինն ամիս | H11: Տարի
B12: Ծրագիր | C12: Միջոցառում
A13: ԸՆԴԱՄԵՆԸ | G13: =+G15+G28 -> 8053080.1 | H13: =+H15+H28 -> 0
A14: այդ թվում՝
A15: ՀՀ ԿՐԹՈՒԹՅԱՆ, ԳԻՏՈՒԹՅԱՆ, ՄՇԱԿՈՒՅԹԻ ԵՎ ՍՊՈՐՏԻ ՆԱԽԱՐԱՐՈՒԹՅՈՒՆ | G15: =+G16+G19 -> 8053080.1 | H15: =+H16+H19 -> 0
B16: 1189 | D16: Դպրոցների սեյսմիկ անվտանգության մակարդակի բարձրացման ծրագիր | E16: Նպաստել երկրի սեյսմակայունության ապահովմանը, անհատական և հասարակական անվտանգության մակարդակի բարձրացմանը | F16: Դպրոցական շենքերի սեյսմակայունության մակարդակի բարձրացում | G16: =SUM(G17:G18) -> 0 | H16: =SUM(H17:H18) -> 0
C17: 1189 - 11003 | D17: Բարգավաճ և դիմակայուն Ասիայի և Խաղաղ օվկիանոսի Ճապոնիայի հիմնադրամի աջակցությամբ դպրոցների շենքային ապահովվածության բարելավման դրամաշնորհային ծրագրի կառավարում | E17: Բարգավաճ և դիմակայուն Ասիայի և Խաղաղ օվկիանոսի Ճապոնիայի հիմնադրամի աջակցությամբ դպրոցների շենքային ապահովվածության բարելավման դրամաշնորհային ծրագրի համակարգում և ղեկավարում | F17: Ծառայությունների մատուցում | G17: =+'Հավելված N 3'!G227 -> 41967.7 | H17: =+'Հավելված N 3'!H227 -> 41967.7
C18: 1189 - 12004 | D18: Բարգավաճ և դիմակայուն Ասիայի և Խաղաղ օվկիանոսի Ճապոնիայի հիմնադրամի աջակցությամբ դպրոցների շենքային ապահովվածության բարելավում | E18: Սեյսմիկ անվտանգության բարելավման» ծրագրի շրջանակներում Բարգավաճ և դիմակայուն Ասիայի և Խաղաղ օվկիանոսի Ճապոնիայի հիմնադրամի աջակցությամբ դպրոցների նոր շենքերի կառուցում, առկա շենքերի վերակառուցում, հիմնանորոգում | F18: Տրանսֆերտների տրամադրում | G18: =+'Հավելված N 3'!G238 -> -41967.7 | H18: =+'Հավելված N 3'!H238 -> -41967.7
B19: 1236 | D19: Հանրակրթական և նախադպրոցական հաստատությունների հիմնում, կառուցում, բարելավում | E19: Առնվազն 300 դպրոցի և 500 մանկապարտեզի կառուցման, վերակառուցման, հիմնանորոգման ծրագրերի իրականացում ՀՀ պետական բյուջեի միջոցների շրջանակներում | F19: Կրթական միջավայրի բարելավում | G19: =SUM(G20:G26) -> 8053080.1 | H19: =SUM(H20:H26) -> 0
C20: 1236 - 11001 | D20: Հանրակրթական և նախադպրոցական հաստատությունների կառուցման, վերակառուցման, հիմնանորոգման ծրագրերի համակարգման և մոնիտորինգի ծառայություններ | E20: Հանրակրթական և նախադպրոցական հաստատություններիկառուցման, վերակառուցման, հիմնանորոգման ծրագրերիհամակարգման և մոնիտորինգի ծառայությունների ապահովում | F20: Ծառայությունների մատուցում | G20: =+'Հավելված N 3'!G161 -> -5854.8 | H20: =+'Հավելված N 3'!H161 -> -5854.8
C21: 1236 - 31001 | D21: Հանրակրթական և նախադպրոցական հաստատությունների կառուցման, վերակառուցման, հիմնանորոգման ծրագրերի համակարգման շրջանակներում Հայաստանի տարածքային զարգացման հիմնադրամի կարողությունների զարգացում և տեխնիկական հագեցվածության ապահովում | E21: Հայաստանի տարածքային զարգացման հիմնադրամի աշխատանքային պայմանների բարելավման համար վարչական սարքավորումների ձեռքբերում | F21: Պետական մարմինների կողմից օգտագործվող ոչ ֆինանսական ակտիվների հետ գործառնություններ | G21: =+'Հավելված N 3'!G169 -> 5854.8 | H21: =+'Հավելված N 3'!H169 -> 5854.8
C22: 1236 - 32001 | D22: Մանկապարտեզների նոր շենքերի կառուցում | E22: Նախադպրոցական կրթության հասանելիության ապահովման նպատակով՛ մանկապարտեզների հիմնում, նոր շենքերի (մասնաշենքերի), ներառյալ՛ ,Մոդուլայինե տիպի շենքերի կառուցում և նախագծում | F22: Այլ պետական կազմակերպությունների կողմից օգտագործվող ոչ ֆինանսական ակտիվների հետ գործառնություններ | G22: =+'Հավելված N 3'!G26 -> -533692.8 | H22: =+'Հավելված N 3'!H26 -> -533692.8
C23: 1236 - 32002 | D23: Մանկապարտեզների շենքերի վերակառուցում, հիմնանորոգում | E23: Նախադպրոցական կրթության հասանելիության ապահովման նպատակով՛ մանկապարտեզների շենքերի (մասնաշենքերի), վերակառուցում, հիմնանորոգում և նախագծում | F23: Այլ պետական կազմակերպությունների կողմից օգտագործվող ոչ ֆինանսական ակտիվների հետ գործառնություններ | G23: =+'Հավելված N 3'!G35 -> 4571599.2 | H23: =+'Հավելված N 3'!H35 -> 5533692.8
C24: 1236 - 32003 | D24: Հանրակրթական դպրոցների նոր շենքերի կառուցում | E24: ՀՀ մարզերում կրթական որակյալ ծառայությունների հասանելիության ապահովման ծրագրի շրջանակներում հանրակրթական և նախադպրոցական կրթության հասանելիության ապահովման նպատակով կրթական կենտրոնների կառուցում | F24: Այլ պետական կազմակերպությունների կողմից օգտագործվող ոչ ֆինանսական ակտիվների հետ գործառնություններ | G24: =+'Հավելված N 3'!G178 -> 1244059.8 | H24: =+'Հավելված N 3'!H178 -> -3500000
C25: 1236 - 32004 | D25: Հանրակրթական դպրոցների շենքերի վերակառուցում, հիմնանորոգում | E25: Դպրոցական պարտադիր կրթության հասանելիության ապահովման նպատակով՛ հանրակրթական դպրոցների շենքերի (մասնաշենքերի), վերակառուցում, հիմնանորոգում և նախագծում | F25: Այլ պետական կազմակերպությունների կողմից օգտագործվող ոչ ֆինանսական ակտիվների հետ գործառնություններ | G25: =+'Հավելված N 3'!G194 -> -1900000 | H25: =+'Հավելված N 3'!H194 -> -4500000
C26: 1236 - 32005 | D26: Կրթահամալիրների կառուցում | E26: ՀՀ մարզերում կրթական որակյալ ծառայությունների հասանելիության ապահովման ծրագրի շրջանակներում հանրակրթական և նախադպրոցական կրթության հասանելիության ապահովման նպատակով կրթական կենտրոնների կառուցում | F26: Այլ պետական կազմակերպությունների կողմից օգտագործվող ոչ ֆինանսական ակտիվների հետ գործառնություններ | G26: =+'Հավելված N 3'!G210 -> 4671113.9 | H26: =+'Հավելված N 3'!H210 -> 3000000
A28: ՀՀ ԿԱՌԱՎԱՐՈՒԹՅՈՒՆ | G28: =+G29 -> 0 | H28: =+H29 -> 0
B29: 1139 | D29: ՀՀ կառավարության պահուստային ֆոնդ | E29: Պետական բյուջեում չկանխատեսված, ինչպես նաեւ բյուջետային երաշխիքների ապահովման ծախսերի ֆինանսավորման ապահովում | F29: Պահուստային ֆոնդի կառավարման արդյունավետության և թափանցիկության ապահովում | G29: =SUM(G30:G31) -> 0 | H29: =SUM(H30:H31) -> 0
C30: 1139 - 11001 | D30: ՀՀ կառավարության պահուստային ֆոնդ | E30: ՀՀ պետական բյուջեում նախատեսված ելքերի լրացուցիչ ֆինանսավորման, պետական բյուջեում չկանխատեսված ելքերի, ինչպես նաև բյուջետային երաշխիքների ապահովման ելքերի ֆինանսավորման ապահովում | F30: Ծառայությունների մատուցում | G30: =+'Հավելված N 3'!G261 -> 10967 | H30: =+'Հավելված N 3'!H261 -> 10967
C31: 1139 - 11001 | D31: ՀՀ կառավարության պահուստային ֆոնդ | E31: ՀՀ պետական բյուջեում նախատեսված ելքերի լրացուցիչ ֆինանսավորման, պետական բյուջեում չկանխատեսված ելքերի, ինչպես նաև բյուջետային երաշխիքների ապահովման ելքերի ֆինանսավորման ապահովում | F31: Ծառայությունների մատուցում | G31: =+'Հավելված N 3'!G269 -> -10967 | H31: =+'Հավելված N 3'!H269 -> -10967

Sheet Հավելված N 3
F1: Հավելված N 3
F2: ՀՀ կառավարության 2026 թվականի
F3: ______________ ի ___Ն որոշման
A7: ՀԱՅԱՍՏԱՆԻ ՀԱՆՐԱՊԵՏՈՒԹՅԱՆ ԿԱՌԱՎԱՐՈՒԹՅԱՆ 2025 ԹՎԱԿԱՆԻ ԴԵԿՏԵՄԲԵՐԻ 25-Ի N 1910-Ն ՈՐՈՇՄԱՆ N 3 ԵՎ N 4 ՀԱՎԵԼՎԱԾՆԵՐՈՒՄ ԿԱՏԱՐՎՈՂ ՓՈՓՈԽՈՒԹՅՈՒՆՆԵՐԸ ԵՎ ԼՐԱՑՈՒՄՆԵՐԸ
H10: հազ. դրամներով
A11: Գործառական դասիչը | D11: Ծրագրային դասիչը | F11: Բյուջետային հատկացումների գլխավոր կարգադրիչների, ծրագրերի, միջոցառումների և միջոցառումները կատարող պետական մարմինների անվանումները | G11: Ցուցանիշների փոփոխությունը (ավելացումները նշված են դրական նշանով, իսկ նվազեցումները փակագծերում)
A12: Բաժին | B12: Խումբ | C12: Դաս | D12: Ծրագիր | E12: Միջոցառում | G12: Ինն ամիս | H12: Տարի
F13: ԸՆԴԱՄԵՆԸ | G13: =+G15+G250 -> 8053080.1 | H13: =+H15+H250 -> 9.3132257e-10
F14: այդ թվում՝
F15: ՀՀ ԿՐԹՈՒԹՅԱՆ, ԳԻՏՈՒԹՅԱՆ, ՄՇԱԿՈՒՅԹԻ ԵՎ ՍՊՈՐՏԻ ՆԱԽԱՐԱՐՈՒԹՅՈՒՆ | G15: =+G16 -> 8053080.1 | H15: =+H16 -> 9.3132257e-10
A16: 09 | F16: ԿՐԹՈՒԹՅՈՒՆ | G16: =+G18+G153+G219 -> 8053080.1 | H16: =+H18+H153+H219 -> 9.3132257e-10
F17: այդ թվում`
B18: 01 | F18: Նախադպրոցական և տարրական ընդհանուր կրթություն | G18: =+G20 -> 4037906.4 | H18: =+H20 -> 5000000
F19: այդ թվում`
C20: 01 | F20: Նախադպրոցական կրթություն | G20: =+G22 -> 4037906.4 | H20: =+H22 -> 5000000
F21: այդ թվում`
F22: ՀՀ կրթության, գիտության, մշակույթի և սպորտի նախարարություն | G22: =+G24 -> 4037906.4 | H22: =+H24 -> 5000000
F23: այդ թվում`
D24: 1236 | E24: Հանրակրթական և նախադպրոցական հաստատությունների հիմնում, կառուցում, բարելավում | G24: =+G26+G35 -> 4037906.4 | H24: =+H26+H35 -> 5000000
F25: այդ թվում`
E26: 32001 | F26: Մանկապարտեզների նոր շենքերի կառուցում | G26: =+G28 -> -533692.8 | H26: =+H28 -> -533692.8
F27: այդ թվում` ըստ կատարողների
F28: ՀՀ կառավարություն | G28: =+G30 -> -533692.8 | H28: =+H30 -> -533692.8
F29: այդ թվում` բյուջետային ծախսերի տնտեսագիտական դասակարգման հոդվածներ
F30: ԸՆԴԱՄԵՆԸ ԾԱԽՍԵՐ | G30: =G31 -> -533692.8 | H30: =H31 -> -533692.8
F31: ՈՉ ՖԻՆԱՆՍԱԿԱՆ ԱԿՏԻՎՆԵՐԻ ԳԾՈՎ ԾԱԽՍԵՐ | G31: =+G32 -> -533692.8 | H31: =+H32 -> -533692.8
F32: ՀԻՄՆԱԿԱՆ ՄԻՋՈՑՆԵՐ | G32: =+G33 -> -533692.8 | H32: =+H33 -> -533692.8
F33: ՇԵՆՔԵՐ ԵՎ ՇԻՆՈՒԹՅՈՒՆՆԵՐ | G33: =+G34 -> -533692.8 | H33: =+H34 -> -533692.8
F34: - Շենքերի և շինությունների շինարարություն | G34: =+'Հավելված N 5'!E18 -> -533692.8 | H34: =+'Հավելված N 5'!F18 -> -533692.8
E35: 32002 | F35: Մանկապարտեզների շենքերի վերակառուցում, հիմնանորոգում | G35: =+G37+G44+G51+G62+G73+G84+G95+G106+G117+G124+G135+G142 -> 4571599.2 | H35: =+H37+H44+H51+H62+H73+H84+H95+H106+H117+H124+H135+H142 -> 5533692.8
F36: այդ թվում` ըստ կատարողների
F37: ՀՀ կրթության, գիտության, մշակույթի և սպորտի նախարարություն | G37: =+G39 -> 55998 | H37: =+H39 -> 55998
F38: այդ թվում` բյուջետային ծախսերի տնտեսագիտական դասակարգման հոդվածներ
F39: ԸՆԴԱՄԵՆԸ ԾԱԽՍԵՐ | G39: =G40 -> 55998 | H39: =H40 -> 55998
F40: ՈՉ ՖԻՆԱՆՍԱԿԱՆ ԱԿՏԻՎՆԵՐԻ ԳԾՈՎ ԾԱԽՍԵՐ | G40: =+G41 -> 55998 | H40: =+H41 -> 55998
F41: ՀԻՄՆԱԿԱՆ ՄԻՋՈՑՆԵՐ | G41: =+G42 -> 55998 | H41: =+H42 -> 55998
F42: ՇԵՆՔԵՐ ԵՎ ՇԻՆՈՒԹՅՈՒՆՆԵՐ | G42: =+G43 -> 55998 | H42: =+H43 -> 55998
F43: - Շենքերի և շինությունների կապիտալ վերանորոգում | G43: =+'Հավելված N 5'!E21 -> 55998 | H43: =+'Հավելված N 5'!F21 -> 55998
F44: ՀՀ կառավարություն | G44: =+G46 -> 0 | H44: =+H46 -> -70578.4
F45: այդ թվում` բյուջետային ծախսերի տնտեսագիտական դասակարգման հոդվածներ
...

Sheet Հավելված N 4
F1: Հավելված N 4
F2: ՀՀ կառավարության 2026 թվականի
F3: ______________ ի ___Ն որոշման
A5: «ՀԱՅԱUՏԱՆԻ ՀԱՆՐԱՊԵՏՈՒԹՅԱՆ 2026 ԹՎԱԿԱՆԻ ՊԵՏԱԿԱՆ ԲՅՈՒՋԵԻ ՄԱUԻՆ» ՀԱՅԱUՏԱՆԻ ՀԱՆՐԱՊԵՏՈՒԹՅԱՆ OՐԵՆՔԻ N 1 ՀԱՎԵԼՎԱԾԻ N 3 ԱՂՅՈՒՍԱԿՈՒՄ ԿԱՏԱՐՎՈՂ ՓՈՓՈԽՈՒԹՅՈՒՆՆԵՐԸ ԵՎ ԼՐԱՑՈՒՄՆԵՐԸ
G8: հազ. դրամներով
A9: Ծրագրային դասիչ | C9: Բյուջետային գլխավոր կարգադրիչների, ծրագրերի, միջոցառումների, միջոցառումները կատարող պետական մարմինների և ուղղությունների անվանումները | D9: Ընդամենը | E9: Ցուցանիշների փոփոխությունը (ավելացումները նշված են դրական նշանով, իսկնվազեցումները՝ փակագծերում)
A10: Ծրագիր | B10: Միջոցառում | E10: Կառուցման աշխատանքներ | F10: Վերակառուցման, վերանորոգման և վերականգնման աշխատանքներ | G10: Նախագծահե- տազոտական, գեոդեզիա- քարտեզագրա- կան աշխա- տանքներ | H10: Ոչ ֆինանսական այլ ակտիվների ձեռքբերում
C11: ԸՆԴԱՄԵՆԸ | D11: =SUM(E11:H11) -> -52090.4 | E11: =+E13 -> -1033692.8 | F11: =+F13 -> 975747.6 | G11: =+G13 -> 0 | H11: =+H13 -> 5854.8
C12: այդ թվում՝
C13: ՀՀ ԿՐԹՈՒԹՅԱՆ, ԳԻՏՈՒԹՅԱՆ, ՄՇԱԿՈՒՅԹԻ ԵՎ ՍՊՈՐՏԻ ՆԱԽԱՐԱՐՈՒԹՅՈՒՆ | D13: =SUM(E13:H13) -> -52090.4 | E13: =+E15+E16+E19+E66+E69+E72 -> -1033692.8 | F13: =+F15+F16+F19+F66+F69+F72 -> 975747.6 | G13: =+G15+G16+G19+G66+G69+G72 -> 0 | H13: =+H15+H16+H19+H66+H69+H72 -> 5854.8
C14: այդ թվում`
A15: 1236 | B15: 31001 | C15: Հանրակրթական և նախադպրոցական հաստատությունների կառուցման, վերակառուցման, հիմնանորոգման ծրագրերի համակարգման շրջանակներում Հայաստանի տարածքային զարգացման հիմնադրամի կարողությունների զարգացում և տեխնիկական հագեցվածության ապահովում | D15: =SUM(E15:H15) -> 5854.8 | E15: 0 | F15: 0 | G15: 0 | H15: =+'Հավելված N 9'!I20 -> 5854.8
A16: 1236 | B16: 32001 | C16: Մանկապարտեզների նոր շենքերի կառուցում | D16: =SUM(E16:H16) -> -533692.8 | E16: =+E18 -> -533692.8 | F16: =+F18 -> 0 | G16: =+G18 -> 0 | H16: =+H18 -> 0
C17: այդ թվում`
C18: Մանկապարտեզների նոր շենքերի կառուցում | D18: =SUM(E18:H18) -> -533692.8 | E18: -533692.8 | F18: 0 | G18: 0 | H18: 0
A19: 1236 | B19: 32002 | C19: Մանկապարտեզների շենքերի վերակառուցում, հիմնանորոգում | D19: =SUM(E19:H19) -> 5475747.6 | E19: =+E21+E22+E26+E32+E41+E47+E50+E53+E56+E60 -> 0 | F19: =+F21+F22+F26+F32+F41+F47+F50+F53+F56+F60 -> 5475747.6 | G19: =+G21+G22+G26+G32+G41+G47+G50+G53+G56+G60 -> 0 | H19: =+H21+H22+H26+H32+H41+H47+H50+H53+H56+H60 -> 0
C20: այդ թվում`
C21: Մանկապարտեզների շենքերի վերակառուցում, հիմնանորոգում | D21: =SUM(E21:H21) -> 3297115 | E21: 0 | F21: =-70578.4+2968870.4+398823 -> 3297115 | G21: 0 | H21: 0
C22: ՀՀ Արագածոտնի մարզ | D22: =SUM(E22:H22) -> 148187.1 | E22: =SUM(E23:E25) -> 0 | F22: =SUM(F23:F25) -> 148187.1 | G22: =SUM(G23:G25) -> 0 | H22: =SUM(H23:H25) -> 0
C23: «Աշտարակի թիվ 5 Արաքս Մուրադյանի անվան մանկապարտեզ» ՀՈԱԿ | D23: =+E23+F23+G23+H23 -> 22103.5 | F23: =+'Հավելված N 9'!I30+'Հավելված N 9'!I34 -> 22103.5
C24: Աշտարակ բնակավայրի թիվ 1 «Մանուշակ մանկապարտեզ» ՀՈԱԿ | D24: =+E24+F24+G24+H24 -> 100912.5 | F24: =+'Հավելված N 9'!I31+'Հավելված N 9'!I35 -> 100912.5
C25: Ապարանի թիվ 1 մանկապարտեզ ՀՈԱԿ | D25: =+E25+F25+G25+H25 -> 25171.1 | F25: =+'Հավելված N 9'!I32+'Հավելված N 9'!I36 -> 25171.1
C26: ՀՀ Արարատի մարզ | D26: =SUM(E26:H26) -> 337472.9 | E26: =SUM(E27:E30) -> 0 | F26: =SUM(F27:F31) -> 337472.9 | G26: =SUM(G27:G30) -> 0 | H26: =SUM(H27:H30) -> 0
C27: «Վեդու թիվ 2» նախադպրոցական ուսումնական հաստատություն ՀՈԱԿ | D27: =+E27+F27+G27+H27 -> 115173 | F27: =+'Հավելված N 9'!I44+'Հավելված N 9'!I50 -> 115173
C28: Փոքր Վեդու «Զարթոնք» նախադպրոցական ուսումնական հաստատություն ՀՈԱԿ | D28: =+E28+F28+G28+H28 -> 43891.4 | F28: =+'Հավելված N 9'!I45+'Հավելված N 9'!I51 -> 43891.4
C29: «Մասիս համայնքի Մասիս քաղաքի թիվ 5 մսուր-մանկապարտեզ» ՀՈԱԿ | D29: =+E29+F29+G29+H29 -> 77604.3 | F29: =+'Հավելված N 9'!I46+'Հավելված N 9'!I52 -> 77604.3
C30: «Արտաշատ համայնքի Դալար գյուղի մանկապարտեզ» ՀՈԱԿ | D30: =+E30+F30+G30+H30 -> 27806.3 | F30: =+'Հավելված N 9'!I47+'Հավելված N 9'!I53 -> 27806.3
C31: «Արտաշատի թիվ 4 մսուր-մանկապարտեզ» | D31: =+E31+F31+G31+H31 -> 72997.9 | F31: =+'Հավելված N 9'!I48+'Հավելված N 9'!I54 -> 72997.9
C32: ՀՀ Գեղարքունիքի մարզ | D32: =SUM(E32:H32) -> 689896.6 | E32: =SUM(E33:E40) -> 0 | F32: =SUM(F33:F40) -> 689896.6 | G32: =SUM(G33:G40) -> 0 | H32: =SUM(H33:H40) -> 0
C33: «Մարտունի քաղաքի թիվ 4 մանկապարտեզ» ՀՈԱԿ | D33: =+E33+F33+G33+H33 -> 44058.6 | F33: =+'Հավելված N 9'!I69+'Հավելված N 9'!I78 -> 44058.6
C34: «Ձորագյուղի մանկապարտեզ» ՀՈԱԿ | D34: =+E34+F34+G34+H34 -> 113821.3 | F34: =+'Հավելված N 9'!I70+'Հավելված N 9'!I79 -> 113821.3
C35: «Սևան համայնքի «Հեքիաթ» մանկապարտեզ» ՀՈԱԿ | D35: =+E35+F35+G35+H35 -> 75196.7 | F35: =+'Հավելված N 9'!I71+'Հավելված N 9'!I80 -> 75196.7
C36: «Ծովագյուղի մանկապարտեզ» ՀՈԱԿ | D36: =+E36+F36+G36+H36 -> 78942.4 | F36: =+'Հավելված N 9'!I72+'Հավելված N 9'!I81 -> 78942.4
C37: «Կարմիրգյուղի մանկապարտեզ» ՀՈԱԿ | D37: =+E37+F37+G37+H37 -> 37946.7 | F37: =+'Հավելված N 9'!I73+'Հավելված N 9'!I82 -> 37946.7
C38: «Զովաբերի մանկապարտեզ» ՀՈԱԿ | D38: =+E38+F38+G38+H38 -> 274665.6 | F38: =+'Հավելված N 9'!I74+'Հավելված N 9'!I83 -> 274665.6
C39: «Գավառի թիվ 7 մանկապարտեզ» ՀՈԱԿ | D39: =+E39+F39+G39+H39 -> 51754.3 | F39: =+'Հավելված N 9'!I75+'Հավելված N 9'!I84 -> 51754.3
C40: «Ճամբարակ Քաղաքի Թիվ 3 Մսուր-Մանկապարտեզ» ՀՈԱԿ | D40: =+E40+F40+G40+H40 -> 13511 | F40: =+'Հավելված N 9'!I76+'Հավելված N 9'!I85 -> 13511
C41: ՀՀ Լոռու մարզ | D41: =SUM(E41:H41) -> 348726.8 | E41: =SUM(E42:E46) -> 0 | F41: =SUM(F42:F46) -> 348726.8 | G41: =SUM(G42:G46) -> 0 | H41: =SUM(H42:H46) -> 0
C42: «Շիրակամուտի Արևիկ մանկապարտեզ» ՀՈԱԿ | D42: =+E42+F42+G42+H42 -> 83073.4 | F42: =+'Հավելված N 9'!I92+'Հավելված N 9'!I97 -> 83073.4
C43: «Վանաձորի թիվ 32 մանկապարտեզ» ՀՈԱԿ | D43: =+E43+F43+G43+H43 -> 95708.3 | F43: =+'Հավելված N 9'!I93+'Հավելված N 9'!I98 -> 95708.3
...

Sheet Հավելված N 5
E1: Հավելված N 5
D2: ՀՀ կառավարության 2026 թվականի
E3: ______________ ի ___Ն որոշման
B6: ՀԱՅԱՍՏԱՆԻ ՀԱՆՐԱՊԵՏՈՒԹՅԱՆ ԿԱՌԱՎԱՐՈՒԹՅԱՆ 2025 ԹՎԱԿԱՆԻ ԴԵԿՏԵՄԲԵՐԻ 25-Ի N 1910-Ն ՈՐՈՇՄԱՆ N 5 ՀԱՎԵԼՎԱԾԻ N 2 ԱՂՅՈՒՍԱԿՈՒՄ ԿԱՏԱՐՎՈՂ ՓՈՓՈԽՈՒԹՅՈՒՆՆԵՐԸ ԵՎ ԼՐԱՑՈՒՄՆԵՐԸ
F8: հազ. դրամներով
B9: Ծրագրային դասիչ | D9: Բյուջետային գլխավոր կարգադրիչների, ծրագրերի, միջոցառումների, միջոցառումները կատարող պետական մարմինների և ուղղությունների անվանումները | E9: Ցուցանիշների փոփոխությունը (ավելացումները նշված են դրական նշանով, իսկ նվազեցումները՝ փակագծերում)
B10: Ծրագիր | C10: Միջոցառում | E10: Ինն ամիս | F10: Տարի
D11: ՀՀ ԿՐԹՈՒԹՅԱՆ, ԳԻՏՈՒԹՅԱՆ, ՄՇԱԿՈՒՅԹԻ ԵՎ ՍՊՈՐՏԻ ՆԱԽԱՐԱՐՈՒԹՅՈՒՆ | E11: =E13+E16+E19+E99+E107+E115 -> 8000989.7 | F11: =F13+F16+F19+F99+F107+F115 -> -52090.4
D12: այդ թվում՝
B13: 1236 | C13: 31001 | D13: Հանրակրթական և նախադպրոցական հաստատությունների կառուցման, վերակառուցման, հիմնանորոգման ծրագրերի համակարգման շրջանակներում Հայաստանի տարածքային զարգացման հիմնադրամի կարողությունների զարգացում և տեխնիկական հագեցվածության ապահովում | E13: =+E15 -> 5854.8 | F13: =+F15 -> 5854.8
D14: այդ թվում` ըստ կատարողների
D15: ՀՀ կրթության, գիտության, մշակությի և սպորտի նախարարություն | E15: =+F15 -> 5854.8 | F15: =+'Հավելված N 4'!D15 -> 5854.8
B16: 1236 | C16: 32001 | D16: Մանկապարտեզների նոր շենքերի կառուցում | E16: =+E18 -> -533692.8 | F16: =+F18 -> -533692.8
D17: այդ թվում` ըստ կատարողների
D18: ՀՀ կառավարություն | E18: =+F18 -> -533692.8 | F18: =+'Հավելված N 4'!D18 -> -533692.8
B19: 1236 | C19: 32002 | D19: Մանկապարտեզների շենքերի վերակառուցում, հիմնանորոգում | E19: =+E21+E25+E32+E41+E44+E56+E64+E70+E76+E82+E89+E98 -> 4513654 | F19: =+F21+F25+F32+F41+F44+F56+F64+F70+F76+F82+F89+F98 -> 5475747.6
D20: այդ թվում` ըստ կատարողների
D21: ՀՀ կրթության, գիտության, մշակությի և սպորտի նախարարություն | E21: =+E23 -> 55998 | F21: =+F23 -> 55998
D22: այդ թվում՝ ըստ ուղղությունների
D23: ՀՀ Լոռու մարզ | E23: =+E24 -> 55998 | F23: =+F24 -> 55998
D24: =+'Հավելված N 4'!C46 -> Վանաձորի թիվ 11 մանկապարտեզ | E24: =+F24 -> 55998 | F24: =+'Հավելված N 4'!D46 -> 55998
D25: ՀՀ Արագածոտնի մարզպետի աշխատակազմ | E25: =+E27+E28 -> 394498.8 | F25: =+F27+F28 -> 521685.1
D26: այդ թվում՝ ըստ ուղղությունների
D27: Մանկապարտեզների շենքերի վերակառուցում, հիմնանորոգում | E27: =+ROUND(F27*0.7,1) -> 261448.6 | F27: 373498
D28: ՀՀ Արագածոտնի մարզ | E28: =SUM(E29:E31) -> 133050.2 | F28: =SUM(F29:F31) -> 148187.1
D29: =+'Հավելված N 4'!C23 -> «Աշտարակի թիվ 5 Արաքս Մուրադյանի անվան մանկապարտեզ» ՀՈԱԿ | E29: =+F29 -> 22103.5 | F29: =+'Հավելված N 4'!D23 -> 22103.5
D30: =+'Հավելված N 4'!C24 -> Աշտարակ բնակավայրի թիվ 1 «Մանուշակ մանկապարտեզ» ՀՈԱԿ | E30: =+ROUND(F30*0.85,1) -> 85775.6 | F30: =+'Հավելված N 4'!D24 -> 100912.5
D31: =+'Հավելված N 4'!C25 -> Ապարանի թիվ 1 մանկապարտեզ ՀՈԱԿ | E31: =+F31 -> 25171.1 | F31: =+'Հավելված N 4'!D25 -> 25171.1
D32: ՀՀ Արարատի մարզպետի աշխատակազմ | E32: =+E34+E35 -> 794364.7 | F32: =+F34+F35 -> 1040890.1
D33: այդ թվում՝ ըստ ուղղությունների
D34: Մանկապարտեզների շենքերի վերակառուցում, հիմնանորոգում | E34: =+ROUND(F34*0.7,1) -> 492392 | F34: 703417.2
D35: ՀՀ Արարատի մարզ | E35: =SUM(E36:E40) -> 301972.7 | F35: =SUM(F36:F40) -> 337472.9
D36: =+'Հավելված N 4'!C27 -> «Վեդու թիվ 2» նախադպրոցական ուսումնական հաստատություն ՀՈԱԿ | E36: =+ROUND(F36*0.85,1) -> 97897.1 | F36: =+'Հավելված N 4'!D27 -> 115173
D37: =+'Հավելված N 4'!C28 -> Փոքր Վեդու «Զարթոնք» նախադպրոցական ուսումնական հաստատություն ՀՈԱԿ | E37: =+ROUND(F37*0.85,1) -> 37307.7 | F37: =+'Հավելված N 4'!D28 -> 43891.4
D38: =+'Հավելված N 4'!C29 -> «Մասիս համայնքի Մասիս քաղաքի թիվ 5 մսուր-մանկապարտեզ» ՀՈԱԿ | E38: =+ROUND(F38*0.85,1) -> 65963.7 | F38: =+'Հավելված N 4'!D29 -> 77604.3
D39: =+'Հավելված N 4'!C30 -> «Արտաշատ համայնքի Դալար գյուղի մանկապարտեզ» ՀՈԱԿ | E39: =+F39 -> 27806.3 | F39: =+'Հավելված N 4'!D30 -> 27806.3
D40: =+'Հավելված N 4'!C31 -> «Արտաշատի թիվ 4 մսուր-մանկապարտեզ» | E40: =+F40 -> 72997.9 | F40: =+'Հավելված N 4'!D31 -> 72997.9
D41: ՀՀ Արմավիրի մարզպետի աշխատակազմ | E41: =+E43 -> 123860.1 | F41: =+F43 -> 176943
D42: այդ թվում՝ ըստ ուղղությունների
D43: Մանկապարտեզների շենքերի վերակառուցում, հիմնանորոգում | E43: =+ROUND(F43*0.7,1) -> 123860.1 | F43: 176943
...

Sheet Հավելված N 6
G1: Հավելված N 6
G2: ՀՀ կառավարության 2026 թվականի
G3: ______________ ի ___Ն որոշման
A6: «ՀԱՅԱՍՏԱՆԻ ՀԱՆՐԱՊԵՏՈՒԹՅԱՆ 2026 ԹՎԱԿԱՆԻ ՊԵՏԱԿԱՆ ԲՅՈՒՋԵԻ ՄԱՍԻՆ» ՕՐԵՆՔԻ N 1 ՀԱՎԵԼՎԱԾԻ N 5 ԱՂՅՈՒՍԱԿՈՒՄ ԵՎ ՀԱՅԱՍՏԱՆԻ ՀԱՆՐԱՊԵՏՈՒԹՅԱՆ ԿԱՌԱՎԱՐՈՒԹՅԱՆ 2025 ԹՎԱԿԱՆԻ ԴԵԿՏԵՄԲԵՐԻ 25-Ի N 1910-Ն ՈՐՈՇՄԱՆ N 5 ՀԱՎԵԼՎԱԾԻ N 4 ԱՂՅՈՒՍԱԿՈՒՄ ԿԱՏԱՐՎՈՂ ՓՈՓՈԽՈՒԹՅՈՒՆԸ ԵՎ ԼՐԱՑՈՒՄԸ
I8: հազ. դրամներով
A9: Ծրագրային դասիչը | C9: Բյուջետային հատկացումների գլխավոր կարգադրիչների, ծրագրերի, միջոցառումների և միջոցառումները կատարող պետական մարմինների անվանումները | D9: Ցուցանիշների փոփոխությունը (ավելացումները նշված են դրական նշանով, իսկ նվազեցումները փակագծերում)
D10: Ինն ամիս | G10: Տարի
D11: Ընդամենը | E11: այդ թվում` | G11: Ընդամենը | H11: այդ թվում`
A12: Ծրագիր | B12: Միջոցառում | E12: Դրամաշնորհային միջոցներ | F12: Համաֆինան սավորում | H12: Դրամաշնորհային միջոցներ | I12: Համաֆինան սավորում
C13: ԸՆԴԱՄԵՆԸ | D13: =+E13+F13 -> 0 | E13: =+E15 -> 0 | F13: =+F15 -> 0 | G13: =+H13+I13 -> 0 | H13: =+H15 -> 0 | I13: =+I15 -> 0
C14: այդ թվում`
C15: ՈՉ ՖԻՆԱՆՍԱԿԱՆ ԱԿՏԻՎՆԵՐԻ ԳԾՈՎ ԾԱԽՍԵՐ | D15: =+E15+F15 -> 0 | E15: =+E16 -> 0 | F15: =+F16 -> 0 | G15: =+H15+I15 -> 0 | H15: =+H16 -> 0 | I15: =+I16 -> 0
C16: ՀՀ կրթության, գիտության, մշակույթի և սպորտի նախարարություն | D16: =+E16+F16 -> 0 | E16: =+E18 -> 0 | F16: =+F18 -> 0 | G16: =+H16+I16 -> 0 | H16: =+H18 -> 0 | I16: =+I18 -> 0
C17: այդ թվում`
A18: 1189 | C18: Դպրոցների սեյսմիկ անվտանգության մակարդակի բարձրացման ծրագիր | D18: =+E18+F18 -> 0 | E18: =+E20+E31 -> 0 | F18: =+F20+F31 -> 0 | G18: =+H18+I18 -> 0 | H18: =+H20+H31 -> 0 | I18: =+I20+I31 -> 0
C19: այդ թվում`
B20: 11003 | C20: Բարգավաճ և դիմակայուն Ասիայի և Խաղաղ օվկիանոսի Ճապոնիայի հիմնադրամի աջակցությամբ դպրոցների շենքային ապահովվածության բարելավման դրամաշնորհային ծրագրի կառավարում | D20: =+E20+F20 -> 41967.7 | E20: =+E22 -> 31000.7 | F20: =+F22 -> 10967 | G20: =+H20+I20 -> 41967.7 | H20: =+H22 -> 31000.7 | I20: =+I22 -> 10967
C21: այդ թվում` ըստ կատարողների
C22: ՀՀ տարածքային կառավարման և ենթակառուցվածքների նախարարություն | D22: =+E22+F22 -> 41967.7 | E22: =+E24 -> 31000.7 | F22: =+F24 -> 10967 | G22: =+H22+I22 -> 41967.7 | H22: =+H24 -> 31000.7 | I22: =+I24 -> 10967
C23: այդ թվում` բյուջետային ծախսերի տնտեսագիտական դասակարգման հոդվածներ
C24: ԸՆԴԱՄԵՆԸ ԾԱԽՍԵՐ | D24: =+E24+F24 -> 41967.7 | E24: =+E25 -> 31000.7 | F24: =+F25 -> 10967 | G24: =+H24+I24 -> 41967.7 | H24: =+H25 -> 31000.7 | I24: =+I25 -> 10967
C25: ԸՆԹԱՑԻԿ ԾԱԽՍԵՐ | D25: =+E25+F25 -> 41967.7 | E25: =+E26+E29 -> 31000.7 | F25: =+F26+F29 -> 10967 | G25: =+H25+I25 -> 41967.7 | H25: =+H26+H29 -> 31000.7 | I25: =+I26+I29 -> 10967
C26: ԾԱՌԱՅՈՒԹՅՈՒՆՆԵՐԻ ԵՎ ԱՊՐԱՆՔՆԵՐԻ ՁԵՌՔԲԵՐՈՒՄ | D26: =+E26+F26 -> 18406 | E26: =+E27 -> 15332.2 | F26: =+F27 -> 3073.8 | G26: =+H26+I26 -> 18406 | H26: =+H27 -> 15332.2 | I26: =+I27 -> 3073.8
C27: Ծառայողական գործուղումների գծով ծախսեր | D27: =+E27+F27 -> 18406 | E27: =+E28 -> 15332.2 | F27: =+F28 -> 3073.8 | G27: =+H27+I27 -> 18406 | H27: =+H28 -> 15332.2 | I27: =+I28 -> 3073.8
C28: - Արտասահմանյան գործուղումների գծով ծախսեր | D28: =SUM(E28:F28) -> 18406 | E28: =+H28 -> 15332.2 | F28: =+I28 -> 3073.8 | G28: =SUM(H28:I28) -> 18406 | H28: 15332.2 | I28: 3073.8
C29: ԱՅԼ ԾԱԽՍԵՐ | D29: =+E29+F29 -> 23561.7 | E29: =+E30 -> 15668.5 | F29: =+F30 -> 7893.2 | G29: =+H29+I29 -> 23561.7 | H29: =+H30 -> 15668.5 | I29: =+I30 -> 7893.2
C30: - Այլ ծախսեր | D30: =SUM(E30:F30) -> 23561.7 | E30: =+H30 -> 15668.5 | F30: =+I30 -> 7893.2 | G30: =SUM(H30:I30) -> 23561.7 | H30: 15668.5 | I30: 7893.2
B31: 12004 | C31: Բարգավաճ և դիմակայուն Ասիայի և Խաղաղ օվկիանոսի Ճապոնիայի հիմնադրամի աջակցությամբ դպրոցների շենքային ապահովվածության բարելավում | D31: =+E31+F31 -> -41967.7 | E31: =+E33 -> -31000.7 | F31: =+F33 -> -10967 | G31: =+H31+I31 -> -41967.7 | H31: =+H33 -> -31000.7 | I31: =+I33 -> -10967
C32: այդ թվում` ըստ կատարողների
C33: ՀՀ տարածքային կառավարման և ենթակառուցվածքների նախարարություն | D33: =+E33+F33 -> -41967.7 | E33: =+E35 -> -31000.7 | F33: =+F35 -> -10967 | G33: =+H33+I33 -> -41967.7 | H33: =+H35 -> -31000.7 | I33: =+I35 -> -10967
C34: այդ թվում` բյուջետային ծախսերի տնտեսագիտական դասակարգման հոդվածներ
C35: ԸՆԴԱՄԵՆԸ ԾԱԽՍԵՐ | D35: =+E35+F35 -> -41967.7 | E35: =+E36 -> -31000.7 | F35: =+F36 -> -10967 | G35: =+H35+I35 -> -41967.7 | H35: =+H36 -> -31000.7 | I35: =+I36 -> -10967
C36: ՈՉ ՖԻՆԱՆՍԱԿԱՆ ԱԿՏԻՎՆԵՐԻ ԳԾՈՎ ԾԱԽՍԵՐ | D36: =+E36+F36 -> -41967.7 | E36: =+E37 -> -31000.7 | F36: =+F37 -> -10967 | G36: =+H36+I36 -> -41967.7 | H36: =+H37 -> -31000.7 | I36: =+I37 -> -10967
C37: ՀԻՄՆԱԿԱՆ ՄԻՋՈՑՆԵՐ | D37: =+E37+F37 -> -41967.7 | E37: =+E38+E40 -> -31000.7 | F37: =+F38+F40 -> -10967 | G37: =+H37+I37 -> -41967.7 | H37: =+H38+H40 -> -31000.7 | I37: =+I38+I40 -> -10967
C38: ՇԵՆՔԵՐ ԵՎ ՇԻՆՈՒԹՅՈՒՆՆԵՐ | D38: =+E38+F38 -> -56265.7 | E38: =+E39 -> -31000.7 | F38: =+F39 -> -25265 | G38: =+H38+I38 -> -56265.7 | H38: =+H39 -> -31000.7 | I38: =+I39 -> -25265
C39: - Շենքերի և շինությունների շինարարություն | D39: =SUM(E39:F39) -> -56265.7 | E39: =+H39 -> -31000.7 | F39: =+I39 -> -25265 | G39: =SUM(H39:I39) -> -56265.7 | H39: -31000.7 | I39: =-10967-14298 -> -25265
C40: ԱՅԼ ՀԻՄՆԱԿԱՆ ՄԻՋՈՑՆԵՐ | D40: =+E40+F40 -> 14298 | E40: =+E41 -> 0 | F40: =+F41 -> 14298 | G40: =+H40+I40 -> 14298 | H40: =+H41 -> 0 | I40: =+I41 -> 14298
C41: - Նախագծահետազոտական ծախսեր | D41: =SUM(E41:F41) -> 14298 | E41: =+H41 -> 0 | F41: =+I41 -> 14298 | G41: =SUM(H41:I41) -> 14298 | H41: 0 | I41: 14298

Sheet Հավելված N 7
I1: Հավելված N 7
I2: ՀՀ կառավարության 2026 թվականի
I3: ______________ ի ___Ն որոշման
A6: ՀԱՅԱՍՏԱՆԻ ՀԱՆՐԱՊԵՏՈՒԹՅԱՆ ԿԱՌԱՎԱՐՈՒԹՅԱՆ 2025 ԹՎԱԿԱՆԻ ԴԵԿՏԵՄԲԵՐԻ 25-Ի N 1910-Ն ՈՐՈՇՄԱՆ N 9 ՀԱՎԵԼՎԱԾՈՒՄ ԿԱՏԱՐՎՈՂ ՓՈՓՈԽՈՒԹՅՈՒՆՆԵՐԸ ԵՎ ԼՐԱՑՈՒՄՆԵՐԸ
J8: հազար դրամներոով
A9: ԲԳԿ | B9: Ծրագիր | D9: Միջոցառում | H9: Իրականացնողը/ ակտիվն օգտագործողը/ շահառուի ընտրության չափորոշիչը | I9: Արդյունքային չափորոշիչը | J9: Ցուցանիշների փոփոխությունը (ավելացումները նշված են դրական նշանով, իսկ նվազեցումները՝ փակագծերում)
B10: Դասիչը | C10: Անվանումը | D10: Դասիչը | E10: Անվանումը | F10: Նկարագրությունը | G10: Տեսակը | J10: Ինն ամիս | K10: Տարի
A11: ԸՆԴԱՄԵՆԸ | J11: =+J13 -> 8053080.1 | K11: =+K13 -> 0
A12: այդ թվում՝
A13: ՀՀ ԿՐԹՈՒԹՅԱՆ, ԳԻՏՈՒԹՅԱՆ, ՄՇԱԿՈԻՅԹԻ ԵՎ ՍՊՈՐՏԻ ՆԱԽԱՐԱՐՈՒԹՅՈՒՆ | J13: =+J14+J27 -> 8053080.1 | K13: =+K14+K27 -> 0
B14: 1189 | C14: Դպրոցների սեյսմիկ անվտանգության մակարդակի բարձրացման ծրագիր | J14: =+J15+J21 -> 0 | K14: =+K15+K21 -> 0
D15: 1189 - 11003 | E15: Բարգավաճ և դիմակայուն Ասիայի և Խաղաղ օվկիանոսի Ճապոնիայի հիմնադրամի աջակցությամբ դպրոցների շենքային ապահովվածության բարելավման դրամաշնորհային ծրագրի կառավարում | J15: =+'Հավելված N 2'!G17 -> 41967.7 | K15: =+'Հավելված N 2'!H17 -> 41967.7
F16: Բարգավաճ և դիմակայուն Ասիայի և Խաղաղ օվկիանոսի Ճապոնիայի հիմնադրամի աջակցությամբ դպրոցների շենքային ապահովվածության բարելավման դրամաշնորհային ծրագրի համակարգում և ղեկավարում
G17: Ծառայությունների մատուցում
H18: Ծառայությունը մատուցողի անվանումը` Մասնագիտացված միավոր
I19: Խորհրդատվական պայմանագրերի քանակ, հատ | K19: 1
I20: Գործուղվող աշխատակիցների քանակ, մարդ | K20: 10
D21: 1189 - 12004 | E21: Բարգավաճ և դիմակայուն Ասիայի և Խաղաղ օվկիանոսի Ճապոնիայի հիմնադրամի աջակցությամբ դպրոցների շենքային ապահովվածության բարելավում | J21: =+'Հավելված N 2'!G18 -> -41967.7 | K21: =+'Հավելված N 2'!H18 -> -41967.7
F22: Սեյսմիկ անվտանգության բարելավման» ծրագրի շրջանակներում Բարգավաճ և դիմակայուն Ասիայի և Խաղաղ օվկիանոսի Ճապոնիայի հիմնադրամի աջակցությամբ դպրոցների նոր շենքերի կառուցում, առկա շենքերի վերակառուցում, հիմնանորոգում
G23: Տրանսֆերտների տրամադրում
H24: Շահառուների ընտրության չափորոշիչները` Մասնագիտացված կազմակերպություն
I25: Նախագծանախահաշվային փաստաթղթերի քանակ, հատ | K25: 1
B27: 1236 | C27: Հանրակրթական և նախադպրոցական հաստատությունների հիմնում, կառուցում, բարելավում | J27: =J28+J32+J37+J41+J48+J52+J56 -> 8053080.1 | K27: =K28+K32+K37+K41+K48+K52+K56 -> 0
D28: 1236 - 11001 | E28: Հանրակրթական և նախադպրոցական հաստատությունների կառուցման, վերակառուցման, հիմնանորոգման ծրագրերի համակարգման և մոնիտորինգի ծառայություններ | J28: =+'Հավելված N 2'!G20 -> -5854.8 | K28: =+'Հավելված N 2'!H20 -> -5854.8
F29: Հանրակրթական և նախադպրոցական հաստատություններիկառուցման, վերակառուցման, հիմնանորոգման ծրագրերիհամակարգման և մոնիտորինգի ծառայությունների ապահովում
G30: Ծառայությունների մատուցում
H31: Ծառայությունը մատուցողի անվանումը` Մասնագիտացված միավոր
D32: 1236 - 31001 | E32: Հանրակրթական և նախադպրոցական հաստատությունների կառուցման, վերակառուցման, հիմնանորոգման ծրագրերի համակարգման շրջանակներում Հայաստանի տարածքային զարգացման հիմնադրամի կարողությունների զարգացում և տեխնիկական հագեցվածության ապահովում | J32: =+'Հավելված N 2'!G21 -> 5854.8 | K32: =+'Հավելված N 2'!H21 -> 5854.8
F33: Հայաստանի տարածքային զարգացման հիմնադրամի աշխատանքային պայմանների բարելավման համար վարչական սարքավորումների ձեռքբերում
G34: Պետական մարմինների կողմից օգտագործվող ոչ ֆինանսական ակտիվների հետ գործառնություններ
H35: Միջոցառումն իրականացնողի անվանումը՝ Մասնագիտացված միավոր
I36: Համակարգչային սարքավորումների քանակ, հատ | K36: =+SUM('Հավելված N 9'!H21:H24) -> 49
D37: 1236 - 32001 | E37: Մանկապարտեզների նոր շենքերի կառուցում | J37: =+'Հավելված N 2'!G22 -> -533692.8 | K37: =+'Հավելված N 2'!H22 -> -533692.8
F38: Նախադպրոցական կրթության հասանելիության ապահովման նպատակով՛ մանկապարտեզների հիմնում, նոր շենքերի (մասնաշենքերի), ներառյալ՛ ,Մոդուլայինե տիպի շենքերի կառուցում և նախագծում
G39: Այլ պետական կազմակերպությունների կողմից օգտագործվող ոչ ֆինանսական ակտիվների հետ գործառնություններ
H40: Ակտիվն օգտագործող կազմակերպության անվանումը` Նախադպրոցական կրթություն իրականացնող ուսումնական հաստատություններ
D41: 1236 - 32002 | E41: Մանկապարտեզների շենքերի վերակառուցում, հիմնանորոգում | J41: =+'Հավելված N 2'!G23 -> 4571599.2 | K41: =+'Հավելված N 2'!H23 -> 5533692.8
F42: Նախադպրոցական կրթության հասանելիության ապահովման նպատակով՛ մանկապարտեզների շենքերի (մասնաշենքերի), վերակառուցում, հիմնանորոգում և նախագծում
G43: Այլ պետական կազմակերպությունների կողմից օգտագործվող ոչ ֆինանսական ակտիվների հետ գործառնություններ
H44: Ակտիվն օգտագործող կազմակերպության անվանումը` Նախադպրոցական կրթություն իրականացնող ուսումնական հաստատություններ
...

Sheet Հավելված N 8
I1: Հավելված N 8
I2: ՀՀ կառավարության 2026 թվականի
I3: ______________ ի ___Ն որոշման
A6: ՀԱՅԱՍՏԱՆԻ ՀԱՆՐԱՊԵՏՈՒԹՅԱՆ ԿԱՌԱՎԱՐՈՒԹՅԱՆ 2025 ԹՎԱԿԱՆԻ ԴԵԿՏԵՄԲԵՐԻ 25-Ի N 1910-Ն ՈՐՈՇՄԱՆ N 9 ՀԱՎԵԼՎԱԾՈՒՄ ԿԱՏԱՐՎՈՂ ՓՈՓՈԽՈՒԹՅՈՒՆՆԵՐԸ ԵՎ ԼՐԱՑՈՒՄՆԵՐԸ
J8: հազար դրամներոով
A9: ԲՍԿ | B9: Ծրագիր | D9: Միջոցառում | H9: Իրականացնողը/ ակտիվն օգտագործողը/ շահառուի ընտրության չափորոշիչը | I9: Արդյունքային չափորոշիչը | J9: Ցուցանիշների փոփոխությունը (ավելացումները նշված են դրական նշանով, իսկ նվազեցումները՝ փակագծերում)
B10: Դասիչը | C10: Անվանումը | D10: Դասիչը | E10: Անվանումը | F10: Նկարագրությունը | G10: Տեսակը | J10: Ինն ամիս | K10: Տարի
A11: ԸՆԴԱՄԵՆԸ | J11: =+J13+J42+J56+J88+J67+J97+J106+J115+J125+J132+J139+J146+J156+J163 -> 8053080.1 | K11: =+K13+K42+K56+K88+K67+K97+K106+K115+K125+K132+K139+K146+K156+K163 -> 0
A12: այդ թվում՝
A13: ՀՀ ԿՐԹՈՒԹՅԱՆ, ԳԻՏՈՒԹՅԱՆ, ՄՇԱԿՈԻՅԹԻ ԵՎ ՍՊՈՐՏԻ ՆԱԽԱՐԱՐՈՒԹՅՈՒՆ | J13: =+J14 -> 10471172 | K13: =+K14 -> 3555998
B14: 1236 | C14: Հանրակրթական և նախադպրոցական հաստատությունների հիմնում, կառուցում, բարելավում | J14: =+J15+J19+J24+J29+J33+J37 -> 10471172 | K14: =+K15+K19+K24+K29+K33+K37 -> 3555998
D15: 1236 - 11001 | E15: Հանրակրթական և նախադպրոցական հաստատությունների կառուցման, վերակառուցման, հիմնանորոգման ծրագրերի համակարգման և մոնիտորինգի ծառայություններ | J15: =+'Հավելված N 3'!G163 -> -5854.8 | K15: =+'Հավելված N 3'!H163 -> -5854.8
F16: Հանրակրթական և նախադպրոցական հաստատություններիկառուցման, վերակառուցման, հիմնանորոգման ծրագրերիհամակարգման և մոնիտորինգի ծառայությունների ապահովում
G17: Ծառայությունների մատուցում
H18: Ծառայությունը մատուցողի անվանումը` Մասնագիտացված միավոր
D19: 1236 - 31001 | E19: Հանրակրթական և նախադպրոցական հաստատությունների կառուցման, վերակառուցման, հիմնանորոգման ծրագրերի համակարգման շրջանակներում Հայաստանի տարածքային զարգացման հիմնադրամի կարողությունների զարգացում և տեխնիկական հագեցվածության ապահովում | J19: =+'Հավելված N 3'!G171 -> 5854.8 | K19: =+'Հավելված N 3'!H171 -> 5854.8
F20: Հայաստանի տարածքային զարգացման հիմնադրամի աշխատանքային պայմանների բարելավման համար վարչական սարքավորումների ձեռքբերում
G21: Պետական մարմինների կողմից օգտագործվող ոչ ֆինանսական ակտիվների հետ գործառնություններ
H22: Միջոցառումն իրականացնողի անվանումը՝ Մասնագիտացված միավոր
I23: Համակարգչային սարքավորումների քանակ, հատ | K23: =+SUM('Հավելված N 9'!H9:H12) -> 6
D24: 1236 - 32002 | E24: Մանկապարտեզների շենքերի վերակառուցում, հիմնանորոգում | J24: =+'Հավելված N 3'!G37 -> 55998 | K24: =+'Հավելված N 3'!H37 -> 55998
F25: Նախադպրոցական կրթության հասանելիության ապահովման նպատակով՛ մանկապարտեզների շենքերի (մասնաշենքերի), վերակառուցում, հիմնանորոգում և նախագծում
G26: Այլ պետական կազմակերպությունների կողմից օգտագործվող ոչ ֆինանսական ակտիվների հետ գործառնություններ
H27: Ակտիվն օգտագործող կազմակերպության անվանումը` Նախադպրոցական կրթություն իրականացնող ուսումնական հաստատություններ
I28: Շինարարությունն ավարտված մանկապարտեզների քանակ, որոնց մասով կատարվում են լրացուցիչ ներդրումներ, հատ | K28: 1
D29: 1236 - 32003 | E29: Հանրակրթական դպրոցների նոր շենքերի կառուցում | J29: =+'Հավելված N 3'!G180 -> 4244059.8 | K29: =+'Հավելված N 3'!H180 -> 500000
F30: ՀՀ մարզերում կրթական որակյալ ծառայությունների հասանելիության ապահովման ծրագրի շրջանակներում հանրակրթական և նախադպրոցական կրթության հասանելիության ապահովման նպատակով կրթական կենտրոնների կառուցում
G31: Այլ պետական կազմակերպությունների կողմից օգտագործվող ոչ ֆինանսական ակտիվների հետ գործառնություններ
H32: Ակտիվն օգտագործող կազմակերպության անվանումը` Հանրակրթական դպրոցներ
D33: 1236 - 32004 | E33: Հանրակրթական դպրոցների շենքերի վերակառուցում, հիմնանորոգում | J33: =+'Հավելված N 3'!G196 -> 1500000 | K33: =+'Հավելված N 3'!H196 -> 0
F34: Դպրոցական պարտադիր կրթության հասանելիության ապահովման նպատակով՛ հանրակրթական դպրոցների շենքերի (մասնաշենքերի), վերակառուցում, հիմնանորոգում և նախագծում
G35: Այլ պետական կազմակերպությունների կողմից օգտագործվող ոչ ֆինանսական ակտիվների հետ գործառնություններ
H36: Ակտիվն օգտագործող կազմակերպության անվանումը` Հանրակրթական դպրոցներ
D37: 1236 - 32005 | E37: Կրթահամալիրների կառուցում | J37: =+'Հավելված N 3'!G212 -> 4671113.9 | K37: =+'Հավելված N 3'!H212 -> 3000000
F38: ՀՀ մարզերում կրթական որակյալ ծառայությունների հասանելիության ապահովման ծրագրի շրջանակներում հանրակրթական և նախադպրոցական կրթության հասանելիության ապահովման նպատակով կրթական կենտրոնների կառուցում
G39: Այլ պետական կազմակերպությունների կողմից օգտագործվող ոչ ֆինանսական ակտիվների հետ գործառնություններ
H40: Ակտիվն օգտագործող կազմակերպության անվանումը` Ստեղծվող կրթահամալիրներ
A42: ՀՀ ՏԱՐԱԾՔԱՅԻՆ ԿԱՌԱՎԱՐՄԱՆ ԵՎ ԵՆԹԱԿԱՌՈՒՑՎԱԾՔՆԵՐԻ ՆԱԽԱՐԱՐՈՒԹՅՈՒՆ | J42: =+J43 -> 0 | K42: =+K43 -> 0
B43: 1189 | C43: Հանրակրթական և նախադպրոցական հաստատությունների հիմնում, կառուցում, բարելավում | J43: =+J44+J50 -> 0 | K43: =+K44+K50 -> 0
D44: 1189 - 11003 | E44: Բարգավաճ և դիմակայուն Ասիայի և Խաղաղ օվկիանոսի Ճապոնիայի հիմնադրամի աջակցությամբ դպրոցների շենքային ապահովվածության բարելավման դրամաշնորհային ծրագրի կառավարում | J44: =+'Հավելված N 3'!G229 -> 41967.7 | K44: =+'Հավելված N 3'!H229 -> 41967.7
...

Sheet Հավելված N 9
H1: Հավելված N 9
H2: ՀՀ կառավարության 2026 թվականի
H3: ______________ ի ___Ն որոշման
A6: ՀԱՅԱՍՏԱՆԻ ՀԱՆՐԱՊԵՏՈՒԹՅԱՆ ԿԱՌԱՎԱՐՈՒԹՅԱՆ 2025 ԹՎԱԿԱՆԻ ԴԵԿՏԵՄԲԵՐԻ 25-Ի N 1910-Ն N 10 ՀԱՎԵԼՎԱԾՈՒՄ ԿԱՏԱՐՎՈՂ ՓՈՓՈԽՈՒԹՅՈՒՆՆԵՐԸ ԵՎ ԼՐԱՑՈՒՄՆԵՐԸ
A10: Կոդը | B10: Անվանումը | E10: Գնման ձևը | F10: Չափման միավորը | G10: Միավորի գինը | H10: Ցուցանիշների փոփոխությունը (ավելացումները նշված են դրական նշանով, իսկ նվազեցումները՝ փակագծերում)
H11: Քանակը | I11: Գումարը (հազար դրամ)
A12: 1 | B12: 2 | E12: 3 | F12: 4 | G12: 5 | H12: 6 | I12: 7
A13: ՀՀ կրթության, գիտության, մշակույթի և սպորտի նախարարություն | I13: =+I14+I18 -> 61852.8
A14: Բաժին N 09 | B14: Խումբ N 01 | C14: Դաս N 01 | D14: Նախադպրոցական կրթություն | I14: =+I15 -> 55998
A15: 1236-32002 | B15: Մանկապարտեզների շենքերի վերակառուցում, հիմնանորոգում | I15: =+I16 -> 55998
B16: ՄԱՍ II. ԱՇԽԱՏԱՆՔՆԵՐ | I16: =SUM(I17:I17) -> 55998
A17: 45211228-501 | B17: շինարարական աշխատանքներ մանկապարտեզների համար | E17: ԳՀ | F17: դրամ | G17: 55998000 | H17: 1 | I17: =+ROUNDUP(G17*H17/1000,1) -> 55998 | J17: Վանաձորի 11
A18: Բաժին N 09 | B18: Խումբ N 02 | C18: Դաս N 01 | D18: Հիմնական ընդհանուր կրթություն | I18: =+I19 -> 5854.8
A19: 1236-31001 | B19: Հանրակրթական և նախադպրոցական հաստատությունների կառուցման, վերակառուցման, հիմնանորոգման ծրագրերի համակարգման շրջանակներում Հայաստանի տարածքային զարգացման հիմնադրամի կարողությունների զարգացում և տեխնիկական հագեցվածության ապահովում | I19: =+I20 -> 5854.8
B20: ՄԱՍ I. ԱՊՐԱՆՔՆԵՐ | I20: =SUM(I21:I24) -> 5854.8
A21: 30211220-501 | B21: սեղանի համակարգիչներ | C21: համակարգչային սարքավորումներ | D21: համակարգչային սարքավորումներ | E21: ԷԱՃ | F21: հատ | G21: 295920 | H21: 15 | I21: =+ROUNDUP(G21*H21/1000,1) -> 4438.8
A22: 30237490-501 | B22: համակարգչային մոնիտոր | C22: տպիչ սարք, բազմաֆունկցիոնալ, A4, 35 էջ/րոպե արագության | D22: տպիչ սարք, բազմաֆունկցիոնալ, A4, 35 էջ/րոպե արագության | E22: ԷԱՃ | F22: հատ | G22: 35520 | H22: 15 | I22: =+ROUNDUP(G22*H22/1000,1) -> 532.8
A23: 31151120-501 | B23: անխափան սնուցման աղբյուրներ | E23: ԷԱՃ | F23: հատ | G23: 22560 | H23: 15 | I23: =+ROUNDUP(G23*H23/1000,1) -> 338.4
A24: 30239150-501 | B24: տպիչ սարք, բազմաֆունկցիոնալ, A4, 35 էջ/րոպե արագության | E24: ԷԱՃ | F24: հատ | G24: 136200 | H24: 4 | I24: =+ROUNDUP(G24*H24/1000,1) -> 544.8
A26: ՀՀ Արագածոտնի մարզպետի աշխատակազմ | I26: =+I27 -> 156440.7
A27: Բաժին N 09 | B27: Խումբ N 01 | C27: Դաս N 01 | D27: Նախադպրոցական կրթություն | I27: =+I28 -> 156440.7
A28: 1236-32002 | B28: Մանկապարտեզների շենքերի վերակառուցում, հիմնանորոգում | I28: =+I29+I33 -> 156440.7
B29: ՄԱՍ II. ԱՇԽԱՏԱՆՔՆԵՐ | I29: =SUM(I30:I32) -> 144630
A30: 45461100-501 | B30: շենքերի, շինությունների ընթացիկ նորոգման աշխատանքներ | E30: ՀԲՄ | F30: դրամ | I30: 21564 | J30: Աշտարակի 5
A31: 45461100-502 | B31: շենքերի, շինությունների ընթացիկ նորոգման աշխատանքներ | E31: ՀԲՄ | F31: դրամ | I31: 98496 | J31: Աշտարակի 1
A32: 45461100-506 | B32: շենքերի, շինությունների ընթացիկ նորոգման աշխատանքներ | E32: ՀԲՄ | F32: դրամ | I32: 24570 | J32: Ապարանի 1
B33: ՄԱՍ III. ԾԱՌԱՅՈՒԹՅՈՒՆՆԵՐ | I33: =SUM(I34:I38) -> 11810.7
A34: 71521100-5 | B34: շինարարության ընթացքի վերահսկման ծառայություններ | E34: ՀՄԱ | F34: դրամ | I34: 539.5 | J34: Աշտարակի 5
A35: 71521100-6 | B35: շինարարության ընթացքի վերահսկման ծառայություններ | E35: ՀՄԱ | F35: դրամ | I35: 2416.5 | J35: Աշտարակի 1
A36: 71521100-7 | B36: շինարարության ընթացքի վերահսկման ծառայություններ | E36: ՀՄԱ | F36: դրամ | I36: 601.1 | J36: Ապարանի 1
A37: 71621100 | B37: տեխնիկական վերլուծության և խրհրդատվության ծառայություններ | E37: ՀԲՄ | F37: դրամ | G37: 6000000 | H37: 1 | I37: =+ROUNDUP(G37*H37/1000,1) -> 6000 | J37: 5 հատ մանկապարտեզ
A38: 71621100-501 | B38: տեխնիկական վերլուծության և խրհրդատվության ծառայություններ | E38: ՀԲՄ | F38: դրամ | G38: 2253600 | H38: 1 | I38: =+ROUNDUP(G38*H38/1000,1) -> 2253.6 | J38: Ներքին Սասնաշեն
A40: ՀՀ Արարատի մարզպետի աշխատակազմ | I40: =+I41 -> 355060.1
A41: Բաժին N 09 | B41: Խումբ N 01 | C41: Դաս N 01 | D41: Նախադպրոցական կրթություն | I41: =+I42 -> 355060.1
A42: 1236-32002 | B42: Մանկապարտեզների շենքերի վերակառուցում, հիմնանորոգում | I42: =+I43+I49 -> 355060.1
B43: ՄԱՍ II. ԱՇԽԱՏԱՆՔՆԵՐ | I43: =SUM(I44:I48) -> 328879.2
A44: 45211228-501 | B44: շինարարական աշխատանքներ մանկապարտեզների համար | E44: ՀԲՄ | F44: դրամ | I44: 112320 | J44: Վեդու 2
A45: 45211228-502 | B45: շինարարական աշխատանքներ մանկապարտեզների համար | E45: ՀԲՄ | F45: դրամ | I45: 42768 | J45: Զարթոնք
A46: 45211228-503 | B46: շինարարական աշխատանքներ մանկապարտեզների համար | E46: ՀԲՄ | F46: դրամ | I46: 75621.6 | J46: Մասիսի 5
A47: 45211228-504 | B47: շինարարական աշխատանքներ մանկապարտեզների համար | E47: ՀԲՄ | F47: դրամ | I47: 27072 | J47: Դալար
...

Sheet Հավելված N 10
F1: Հավելված N 10
H2: ՀՀ կառավարության 2026 թվականի
H3: ______________ ի ___Ն որոշման
A6: ՀԱՅԱՍՏԱՆԻ ՀԱՆՐԱՊԵՏՈՒԹՅԱՆ 2026 ԹՎԱԿԱՆԻ ՊԵՏԱԿԱՆ ԲՅՈՒՋԵՈՎ ՆԱԽԱՏԵՍՎԱԾ՝ ՀԱՅԱՍՏԱՆԻ ՀԱՆՐԱՊԵՏՈՒԹՅԱՆ ԿԱՌԱՎԱՐՈՒԹՅԱՆ ՊԱՀՈՒՍՏԱՅԻՆ ՖՈՆԴԻՑ ՀԱՏԿԱՑՈՒՄՆԵՐ ԿԱՏԱՐԵԼՈՒ ՎԵՐԱԲԵՐՅԱԼ
A9: Գործառական դասիչը | D9: Ծրագրային դասիչը | F9: Բյուջետային հատկացումների գլխավոր կարգադրիչների, ծրագրերի, միջոցառումների և միջոցառումները կատարող պետական մարմինների անվանումները | G9: Ցուցանիշների փոփոխությունը (ավելացումները նշված են դրական նշանով, իսկ նվազեցումները` փակագծերում)
A10: Բաժին | B10: Խումբ | C10: Դաս | D10: Ծրագիր | E10: Միջոցառում | G10: Ինն ամիս | H10: Տարի
F11: ԸՆԴԱՄԵՆԸ | G11: =+G13+G33 -> 0 | H11: =+H13+H33 -> 0
F12: այդ թվում
F13: ՀՀ ԿԱՌԱՎԱՐՈՒԹՅՈՒՆ | G13: =+G14 -> -10967 | H13: =+H14 -> -10967
A14: 11 | F14: ՀԻՄՆԱԿԱՆ ԲԱԺԻՆՆԵՐԻՆ ՉԴԱՍՎՈՂ ՊԱՀՈՒՍՏԱՅԻՆ ՖՈՆԴԵՐ | G14: =+G16 -> -10967 | H14: =+H16 -> -10967
F15: այդ թվում`
B16: 01 | F16: ՀՀ կառավարության և համայնքների պահուստային ֆոնդ | G16: =+G18 -> -10967 | H16: =+H18 -> -10967
F17: այդ թվում`
C18: 01 | F18: ՀՀ կառավարության պահուստային ֆոնդ | G18: =+G20 -> -10967 | H18: =+H20 -> -10967
F19: այդ թվում`
F20: ՀՀ կառավարություն | G20: =+G22 -> -10967 | H20: =+H22 -> -10967
F21: այդ թվում`
D22: 1139 | E22: ՀՀ կառավարության պահուստային ֆոնդ | F22: ՀՀ կառավարության պահուստային ֆոնդ | G22: =+G24 -> -10967 | H22: =+H24 -> -10967
F23: այդ թվում`
E24: 11001 | F24: ՀՀ կառավարության պահուստային ֆոնդ | G24: =+G26 -> -10967 | H24: =+H26 -> -10967
F25: այդ թվում` ըստ կատարողների
F26: ՀՀ կառավարություն | G26: =+G28 -> -10967 | H26: =+H28 -> -10967
F27: այդ թվում՝ բյուջետային ծախսերի տնտեսագիտական դասակարգման հոդվածներ
F28: ԸՆԴԱՄԵՆԸ ԾԱԽՍԵՐ | G28: =+G29 -> -10967 | H28: =+H29 -> -10967
F29: ԸՆԹԱՑԻԿ ԾԱԽՍԵՐ | G29: =+G30 -> -10967 | H29: =+H30 -> -10967
F30: ԱՅԼ ԾԱԽՍԵՐ | G30: =+G31 -> -10967 | H30: =+H31 -> -10967
F31: - Պահուստային միջոցներ | G31: =+'Հավելված N 3'!G276 -> -10967 | H31: =+'Հավելված N 3'!H276 -> -10967
F33: ՀՀ ԿՐԹՈՒԹՅԱՆ, ԳԻՏՈՒԹՅԱՆ, ՄՇԱԿՈՒՅԹԻ ԵՎ ՍՊՈՐՏԻ ՆԱԽԱՐԱՐՈՒԹՅՈՒՆ | G33: =+G34 -> 10967 | H33: =+H34 -> 10967
A34: 09 | F34: ԿՐԹՈՒԹՅՈՒՆ | G34: =+G36 -> 10967 | H34: =+H36 -> 10967
F35: այդ թվում`
B36: 06 | F36: Կրթությանը տրամադրվող օժանդակ ծառայություններ | G36: =+G38 -> 10967 | H36: =+H38 -> 10967
F37: այդ թվում`
C38: 01 | F38: Կրթությանը տրամադրվող օժանդակ ծառայություններ | G38: =+G40 -> 10967 | H38: =+H40 -> 10967
F39: այդ թվում`
F40: ՀՀ կրթության, գիտության, մշակույթի և սպորտի նախարարություն | G40: =+G42 -> 10967 | H40: =+H42 -> 10967
F41: այդ թվում`
D42: 1189 | E42: Դպրոցների սեյսմիկ անվտանգության մակարդակի բարձրացման ծրագիր | G42: =+G44 -> 10967 | H42: =+H44 -> 10967
F43: այդ թվում`
E44: 11003 | F44: Բարգավաճ և դիմակայուն Ասիայի և Խաղաղ օվկիանոսի Ճապոնիայի հիմնադրամի աջակցությամբ դպրոցների շենքային ապահովվածության բարելավման դրամաշնորհային ծրագրի կառավարում | G44: =+G46 -> 10967 | H44: =+H46 -> 10967
F45: այդ թվում` ըստ կատարողների
...
