Workbook
Name a: #REF!
Name a: #REF!
Name a: #REF!
Name a: #REF!
Name a: #REF!
Name a: #REF!
Name a: #REF!
Name AgencyCode: #REF!
Name AgencyCode: #REF!
Name AgencyCode: #REF!
Name AgencyCode: #REF!
Name AgencyCode: #REF!
Name AgencyCode: #REF!
Name AgencyCode: #REF!
Name AgencyName: #REF!
Name AgencyName: #REF!
Name AgencyName: #REF!
Name AgencyName: #REF!
Name AgencyName: #REF!
Name AgencyName: #REF!
Name åû: #REF!
Name åû: #REF!
Name BOP: #REF!
Name BOPfoot: #REF!
Name davit: #REF!
Name davit: #REF!
Name davit: #REF!
Name davit: #REF!
Name davit: #REF!
Name DebtCG: #REF!
Name DebtGG: #REF!
Name Functional1: #REF!
Name Functional1: #REF!
Name Functional1: #REF!
Name Functional1: #REF!
Name Functional1: #REF!
Name Functional1: #REF!
Name ggg: #REF!
Name ggg: #REF!
Name ggg: #REF!
Name ggg: #REF!
Name ggg: #REF!
Name hav: #REF!
Name mas: #REF!
Name mas: #REF!
Name mass: #REF!
Name mass: #REF!
Name MonExo: #REF!
Name MonGrow: #REF!
Name PANature: #REF!
Name PANature: #REF!
Name PANature: #REF!
Name PANature: #REF!
Name PANature: #REF!
Name PANature: #REF!
Name PAType: #REF!
Name PAType: #REF!
Name PAType: #REF!
Name PAType: #REF!
Name PAType: #REF!

Sheet Հավելված N 1 
C1: Հավելված N 1
C2: ՀՀ կառավարության 2026 թվականի
C3: ______________ ի ___Ն որոշման
A5: «ՀԱՅԱՍՏԱՆԻ ՀԱՆՐԱՊԵՏՈՒԹՅԱՆ 2026 ԹՎԱԿԱՆԻ ՊԵՏԱԿԱՆ ԲՅՈՒՋԵԻ ՄԱՍԻՆ» ՕՐԵՆՔԻ 3-ՐԴ ՀՈԴՎԱԾԻ, N 3 ՀԱՎԵԼՎԱԾԻ N 1 ԱՂՅՈՒՍԱԿՈՒՄ ԵՎ ՀԱՅԱՍՏԱՆԻ ՀԱՆՐԱՊԵՏՈՒԹՅԱՆ ԿԱՌԱՎԱՐՈՒԹՅԱՆ 2025 ԹՎԱԿԱՆԻ ԴԵԿՏԵՄԲԵՐԻ 25-Ի N 1910-Ն ՈՐՈՇՄԱՆ N 1 ՀԱՎԵԼՎԱԾԻ N 1 ԱՂՅՈՒՍԱԿՈՒՄ ԿԱՏԱՐՎՈՂ ՓՈՓՈԽՈՒԹՅՈՒՆԸ
C7: հազ. դրամ
A8: Պետական բյուջեի դեֆիցիտի ֆինանսավորման աղբյուրներն ու դրանց տարրերի անվանումները | B8: Ցուցանիշների փոփոխությունը (ավելացումները նշված են դրական նշանով)
B9: Ինն ամիս | C9: Տարի
A10: ԸՆԴԱՄԵՆԸ | B10: =+B12 -> 8053080.1 | C10: =+C12 -> 0
A11: այդ թվում՝
A12: Ա.Ներքին աղբյուրներ-ընդամենը | B12: =+B14 -> 8053080.1 | C12: =+C14 -> 0
A13: այդ թվում՝
A14: 2. Ֆինանսական զուտ ակտիվներ | B14: =+B16 -> 8053080.1 | C14: =+C16 -> 0
A15: այդ թվում՝
A16: 2.6.Այլ | B16: =+B18 -> 8053080.1 | C16: =+C18 -> 0
A17: որից՝
A18: Ժամանակավորապես ազատ միջոցներ | B18: =+'Հավելված N 2'!G13 -> 8053080.1 | C18: =+'Հավելված N 2'!H13 -> 0

Sheet Հավելված N 2
F1: Հավելված N 2
F2: ՀՀ կառավարության 2026 թվականի
F3: ______________ ի ___Ն որոշման
A6: «ՀԱՅԱUՏԱՆԻ ՀԱՆՐԱՊԵՏՈՒԹՅԱՆ 2026 ԹՎԱԿԱՆԻ ՊԵՏԱԿԱՆ ԲՅՈՒՋԵԻ ՄԱUԻՆ» ՀԱՅԱUՏԱՆԻ ՀԱՆՐԱՊԵՏՈՒԹՅԱՆ OՐԵՆՔԻ N 1 ՀԱՎԵԼՎԱԾԻ N 2 ԱՂՅՈՒՍԱԿՈՒՄ ԿԱՏԱՐՎՈՂ ՎԵՐԱԲԱՇԽՈՒՄԸ ԵՎ ՀԱՅԱՍՏԱՆԻ ՀԱՆՐԱՊԵՏՈՒԹՅԱՆ ԿԱՌԱՎԱՐՈՒԹՅԱՆ 2025 ԹՎԱԿԱՆԻ ԴԵԿՏԵՄԲԵՐԻ 25-Ի N 1910-Ն ՈՐՈՇՄԱՆ N 5 ՀԱՎԵԼՎԱԾԻ N 1 ԱՂՅՈՒՍԱԿՈՒՄ ԿԱՏԱՐՎՈՂ ՓՈՓՈԽՈՒԹՅՈՒՆՆԵՐԸ ԵՎ ԼՐԱՑՈՒՄՆԵՐԸ
H9: հազ. դրամներով
A10: ԲԳԿ | B10: Ծրագրային դասիչը | D10: ԲԳԿ/Ծրագրի /միջոցառման անվանումը | E10: Ծրագրի նպատակը/Միջոցառման նկարագրությունը | F10: Վերջնական արդյունքի նկարագրությունը/Միջոցառման տեսակը | G10: Ցուցանիշների փոփոխությունը (ավելացումները նշված են դրական նշանով, իսկ նվազեցումները փակագծերում)
G11: Ինն ամիս | H11: Տարի
B12: Ծրագիր | C12: Միջոցառում
A13: ԸՆԴԱՄԵՆԸ | G13: =+G15+G28 -> 8053080.1 | H13: =+H15+H28 -> 0
A14: այդ թվում՝
A15: ՀՀ ԿՐԹՈՒԹՅԱՆ, ԳԻՏՈՒԹՅԱՆ, ՄՇԱԿՈՒՅԹԻ ԵՎ ՍՊՈՐՏԻ ՆԱԽԱՐԱՐՈՒԹՅՈՒՆ | G15: =+G16+G19 -> 8053080.1 | H15: =+H16+H19 -> 0
B16: 1189 | D16: Դպրոցների սեյսմիկ անվտանգության մակարդակի բարձրացման ծրագիր | E16: Նպաստել երկրի սեյսմակայունության ապահովմանը, անհատական և հասարակական անվտանգության մակարդակի բարձրացմանը | F16: Դպրոցական շենքերի սեյսմակայունության մակարդակի բարձրացում | G16: =SUM(G17:G18) -> 0 | H16: =SUM(H17:H18) -> 0
C17: 1189 - 11003 | D17: Բարգավաճ և դիմակայուն Ասիայի և Խաղաղ օվկիանոսի Ճապոնիայի հիմնադրամի աջակցությամբ դպրոցների շենքային ապահովվածության բարելավման դրամաշնորհային ծրագրի կառավարում | E17: Բարգավաճ և դիմակայուն Ասիայի և Խաղաղ օվկիանոսի Ճապոնիայի հիմնադրամի աջակցությամբ դպրոցների շենքային ապահովվածության բարելավման դրամաշնորհային ծրագրի համակարգում և ղեկավարում | F17: Ծառայությունների մատուցում | G17: =+'Հավելված N 3'!G227 -> 41967.7 | H17: =+'Հավելված N 3'!H227 -> 41967.7
C18: 1189 - 12004 | D18: Բարգավաճ և դիմակայուն Ասիայի և Խաղաղ օվկիանոսի Ճապոնիայի հիմնադրամի աջակցությամբ դպրոցների շենքային ապահովվածության բարելավում | E18: Սեյսմիկ անվտանգության բարելավման» ծրագրի շրջանակներում Բարգավաճ և դիմակայուն Ասիայի և Խաղաղ օվկիանոսի Ճապոնիայի հիմնադրամի աջակցությամբ դպրոցների նոր շենքերի կառուցում, առկա շենքերի վերակառուցում, հիմնանորոգում | F18: Տրանսֆերտների տրամադրում | G18: =+'Հավելված N 3'!G238 -> -41967.7 | H18: =+'Հավելված N 3'!H238 -> -41967.7
B19: 1236 | D19: Հանրակրթական և նախադպրոցական հաստատությունների հիմնում, կառուցում, բարելավում | E19: Առնվազն 300 դպրոցի և 500 մանկապարտեզի կառուցման, վերակառուցման, հիմնանորոգման ծրագրերի իրականացում ՀՀ պետական բյուջեի միջոցների շրջանակներում | F19: Կրթական միջավայրի բարելավում | G19: =SUM(G20:G26) -> 8053080.1 | H19: =SUM(H20:H26) -> 0
C20: 1236 - 11001 | D20: Հանրակրթական և նախադպրոցական հաստատությունների կառուցման, վերակառուցման, հիմնանորոգման ծրագրերի համակարգման և մոնիտորինգի ծառայություններ | E20: Հանրակրթական և նախադպրոցական հաստատություններիկառուցման, վերակառուցման, հիմնանորոգման ծրագրերիհամակարգման և մոնիտորինգի ծառայությունների ապահովում | F20: Ծառայությունների մատուցում | G20: =+'Հավելված N 3'!G161 -> -5854.8 | H20: =+'Հավելված N 3'!H161 -> -5854.8
C21: 1236 - 31001 | D21: Հանրակրթական և նախադպրոցական հաստատությունների կառուցման, վերակառուցման, հիմնանորոգման ծրագրերի համակարգման շրջանակներում Հայաստանի տարածքային զարգացման հիմնադրամի կարողությունների զարգացում և տեխնիկական հագեցվածության ապահովում | E21: Հայաստանի տարածքային զարգացման հիմնադրամի աշխատանքային պայմանների բարելավման համար վարչական սարքավորումների ձեռքբերում | F21: Պետական մարմինների կողմից օգտագործվող ոչ ֆինանսական ակտիվների հետ գործառնություններ | G21: =+'Հավելված N 3'!G169 -> 5854.8 | H21: =+'Հավելված N 3'!H169 -> 5854.8
C22: 1236 - 32001 | D22: Մանկապարտեզների նոր շենքերի կառուցում | E22: Նախադպրոցական կրթության հասանելիության ապահովման նպատակով՛ մանկապարտեզների հիմնում, նոր շենքերի (մասնաշենքերի), ներառյալ՛ ,Մոդուլայինե տիպի շենքերի կառուցում և նախագծում | F22: Այլ պետական կազմակերպությունների կողմից օգտագործվող ոչ ֆինանսական ակտիվների հետ գործառնություններ | G22: =+'Հավելված N 3'!G26 -> -533692.8 | H22: =+'Հավելված N 3'!H26 -> -533692.8
C23: 1236 - 32002 | D23: Մանկապարտեզների շենքերի վերակառուցում, հիմնանորոգում | E23: Նախադպրոցական կրթության հասանելիության ապահովման նպատակով՛ մանկապարտեզների շենքերի (մասնաշենքերի), վերակառուցում, հիմնանորոգում և նախագծում | F23: Այլ պետական կազմակերպությունների կողմից օգտագործվող ոչ ֆինանսական ակտիվների հետ գործառնություններ | G23: =+'Հավելված N 3'!G35 -> 4571599.2 | H23: =+'Հավելված N 3'!H35 -> 5533692.8
C24: 1236 - 32003 | D24: Հանրակրթական դպրոցների նոր շենքերի կառուցում | E24: ՀՀ մարզերում կրթական որակյալ ծառայությունների հասանելիության ապահովման ծրագրի շրջանակներում հանրակրթական և նախադպրոցական կրթության հասանելիության ապահովման նպատակով կրթական կենտրոնների կառուցում | F24: Այլ պետական կազմակերպությունների կողմից օգտագործվող ոչ ֆինանսական ակտիվների հետ գործառնություններ | G24: =+'Հավելված N 3'!G178 -> 1244059.8 | H24: =+'Հավելված N 3'!H178 -> -3500000
C25: 1236 - 32004 | D25: Հանրակրթական դպրոցների շենքերի վերակառուցում, հիմնանորոգում | E25: Դպրոցական պարտադիր կրթության հասանելիության ապահովման նպատակով՛ հանրակրթական դպրոցների շենքերի (մասնաշենքերի), վերակառուցում, հիմնանորոգում և նախագծում | F25: Այլ պետական կազմակերպությունների կողմից օգտագործվող ոչ ֆինանսական ակտիվների հետ գործառնություններ | G25: =+'Հավելված N 3'!G194 -> -1900000 | H25: =+'Հավելված N 3'!H194 -> -4500000
C26: 1236 - 32005 | D26: Կրթահամալիրների կառուցում | E26: ՀՀ մարզերում կրթական որակյալ ծառայությունների հասանելիության ապահովման ծրագրի շրջանակներում հանրակրթական և նախադպրոցական կրթության հասանելիության ապահովման նպատակով կրթական կենտրոնների կառուցում | F26: Այլ պետական կազմակերպությունների կողմից օգտագործվող ոչ ֆինանսական ակտիվների հետ գործառնություններ | G26: =+'Հավելված N 3'!G210 -> 4671113.9 | H26: =+'Հավելված N 3'!H210 -> 3000000
A28: ՀՀ ԿԱՌԱՎԱՐՈՒԹՅՈՒՆ | G28: =+G29 -> 0 | H28: =+H29 -> 0
B29: 1139 | D29: ՀՀ կառավարության պահուստային ֆոնդ | E29: Պետական բյուջեում չկանխատեսված, ինչպես նաեւ բյուջետային երաշխիքների ապահովման ծախսերի ֆինանսավորման ապահովում | F29: Պահուստային ֆոնդի կառավարման արդյունավետության և թափանցիկության ապահովում | G29: =SUM(G30:G31) -> 0 | H29: =SUM(H30:H31) -> 0
C30: 1139 - 11001 | D30: ՀՀ կառավարության պահուստային ֆոնդ | E30: ՀՀ պետական բյուջեում նախատեսված ելքերի լրացուցիչ ֆինանսավորման, պետական բյուջեում չկանխատեսված ելքերի, ինչպես նաև բյուջետային երաշխիքների ապահովման ելքերի ֆինանսավորման ապահովում | F30: Ծառայությունների մատուցում | G30: =+'Հավելված N 3'!G261 -> 10967 | H30: =+'Հավելված N 3'!H261 -> 10967
C31: 1139 - 11001 | D31: ՀՀ կառավարության պահուստային ֆոնդ | E31: ՀՀ պետական բյուջեում նախատեսված ելքերի լրացուցիչ ֆինանսավորման, պետական բյուջեում չկանխատեսված ելքերի, ինչպես նաև բյուջետային երաշխիքների ապահովման ելքերի ֆինանսավորման ապահովում | F31: Ծառայությունների մատուցում | G31: =+'Հավելված N 3'!G269 -> -10967 | H31: =+'Հավելված N 3'!H269 -> -10967

Sheet Հավելված N 3
F1: Հավելված N 3
F2: ՀՀ կառավարության 2026 թվականի
F3: ______________ ի ___Ն որոշման
A7: ՀԱՅԱՍՏԱՆԻ ՀԱՆՐԱՊԵՏՈՒԹՅԱՆ ԿԱՌԱՎԱՐՈՒԹՅԱՆ 2025 ԹՎԱԿԱՆԻ ԴԵԿՏԵՄԲԵՐԻ 25-Ի N 1910-Ն ՈՐՈՇՄԱՆ N 3 ԵՎ N 4 ՀԱՎԵԼՎԱԾՆԵՐՈՒՄ ԿԱՏԱՐՎՈՂ ՓՈՓՈԽՈՒԹՅՈՒՆՆԵՐԸ ԵՎ ԼՐԱՑՈՒՄՆԵՐԸ
H10: հազ. դրամներով
A11: Գործառական դասիչը | D11: Ծրագրային դասիչը | F11: Բյուջետային հատկացումների գլխավոր կարգադրիչների, ծրագրերի, միջոցառումների և միջոցառումները կատարող պետական մարմինների անվանումները | G11: Ցուցանիշների փոփոխությունը (ավելացումները նշված են դրական նշանով, իսկ նվազեցումները փակագծերում)
A12: Բաժին | B12: Խումբ | C12: Դաս | D12: Ծրագիր | E12: Միջոցառում | G12: Ինն ամիս | H12: Տարի
F13: ԸՆԴԱՄԵՆԸ | G13: =+G15+G250 -> 8053080.1 | H13: =+H15+H250 -> 9.3132257e-10
F14: այդ թվում՝
F15: ՀՀ ԿՐԹՈՒԹՅԱՆ, ԳԻՏՈՒԹՅԱՆ, ՄՇԱԿՈՒՅԹԻ ԵՎ ՍՊՈՐՏԻ ՆԱԽԱՐԱՐՈՒԹՅՈՒՆ | G15: =+G16 -> 8053080.1 | H15: =+H16 -> 9.3132257e-10
A16: 09 | F16: ԿՐԹՈՒԹՅՈՒՆ | G16: =+G18+G153+G219 -> 8053080.1 | H16: =+H18+H153+H219 -> 9.3132257e-10
F17: այդ թվում`
B18: 01 | F18: Նախադպրոցական և տարրական ընդհանուր կրթություն | G18: =+G20 -> 4037906.4 | H18: =+H20 -> 5000000
F19: այդ թվում`
C20: 01 | F20: Նախադպրոցական կրթություն | G20: =+G22 -> 4037906.4 | H20: =+H22 -> 5000000
F21: այդ թվում`
F22: ՀՀ կրթության, գիտության, մշակույթի և սպորտի նախարարություն | G22: =+G24 -> 4037906.4 | H22: =+H24 -> 5000000
F23: այդ թվում`
D24: 1236 | E24: Հանրակրթական և նախադպրոցական հաստատությունների հիմնում, կառուցում, բարելավում | G24: =+G26+G35 -> 4037906.4 | H24: =+H26+H35 -> 5000000
F25: այդ թվում`
E26: 32001 | F26: Մանկապարտեզների նոր շենքերի կառուցում | G26: =+G28 -> -533692.8 | H26: =+H28 -> -533692.8
F27: այդ թվում` ըստ կատարողների
F28: ՀՀ կառավարություն | G28: =+G30 -> -533692.8 | H28: =+H30 -> -533692.8
F29: այդ թվում` բյուջետային ծախսերի տնտեսագիտական դասակարգման հոդվածներ
F30: ԸՆԴԱՄԵՆԸ ԾԱԽՍԵՐ | G30: =G31 -> -533692.8 | H30: =H31 -> -533692.8
F31: ՈՉ ՖԻՆԱՆՍԱԿԱՆ ԱԿՏԻՎՆԵՐԻ ԳԾՈՎ ԾԱԽՍԵՐ | G31: =+G32 -> -533692.8 | H31: =+H32 -> -533692.8
F32: ՀԻՄՆԱԿԱՆ ՄԻՋՈՑՆԵՐ | G32: =+G33 -> -533692.8 | H32: =+H33 -> -533692.8
F33: ՇԵՆՔԵՐ ԵՎ ՇԻՆՈՒԹՅՈՒՆՆԵՐ | G33: =+G34 -> -533692.8 | H33: =+H34 -> -533692.8
F34: - Շենքերի և շինությունների շինարարություն | G34: =+'Հավելված N 5'!E18 -> -533692.8 | H34: =+'Հավելված N 5'!F18 -> -533692.8
E35: 32002 | F35: Մանկապարտեզների շենքերի վերակառուցում, հիմնանորոգում | G35: =+G37+G44+G51+G62+G73+G84+G95+G106+G117+G124+G135+G142 -> 4571599.2 | H35: =+H37+H44+H51+H62+H73+H84+H95+H106+H117+H124+H135+H142 -> 5533692.8
F36: այդ թվում` ըստ կատարողների
F37: ՀՀ կրթության, գիտության, մշակույթի և սպորտի նախարարություն | G37: =+G39 -> 55998 | H37: =+H39 -> 55998
F38: այդ թվում` բյուջետային ծախսերի տնտեսագիտական դասակարգման հոդվածներ
F39: ԸՆԴԱՄԵՆԸ ԾԱԽՍԵՐ | G39: =G40 -> 55998 | H39: =H40 -> 55998
F40: ՈՉ ՖԻՆԱՆՍԱԿԱՆ ԱԿՏԻՎՆԵՐԻ ԳԾՈՎ ԾԱԽՍԵՐ | G40: =+G41 -> 55998 | H40: =+H41 -> 55998
F41: ՀԻՄՆԱԿԱՆ ՄԻՋՈՑՆԵՐ | G41: =+G42 -> 55998 | H41: =+H42 -> 55998
F42: ՇԵՆՔԵՐ ԵՎ ՇԻՆՈՒԹՅՈՒՆՆԵՐ | G42: =+G43 -> 55998 | H42: =+H43 -> 55998
F43: - Շենքերի և շինությունների կապիտալ վերանորոգում | G43: =+'Հավելված N 5'!E21 -> 55998 | H43: =+'Հավելված N 5'!F21 -> 55998
F44: ՀՀ կառավարություն | G44: =+G46 -> 0 | H44: =+H46 -> -70578.4
F45: այդ թվում` բյուջետային ծախսերի տնտեսագիտական դասակարգման հոդվածներ
F46: ԸՆԴԱՄԵՆԸ ԾԱԽՍԵՐ | G46: =G47 -> 0 | H46: =H47 -> -70578.4
F47: ՈՉ ՖԻՆԱՆՍԱԿԱՆ ԱԿՏԻՎՆԵՐԻ ԳԾՈՎ ԾԱԽՍԵՐ | G47: =+G48 -> 0 | H47: =+H48 -> -70578.4
F48: ՀԻՄՆԱԿԱՆ ՄԻՋՈՑՆԵՐ | G48: =+G49 -> 0 | H48: =+H49 -> -70578.4
F49: ՇԵՆՔԵՐ ԵՎ ՇԻՆՈՒԹՅՈՒՆՆԵՐ | G49: =+G50 -> 0 | H49: =+H50 -> -70578.4
F50: - Շենքերի և շինությունների կապիտալ վերանորոգում | G50: =+'Հավելված N 5'!E98 -> 0 | H50: =+'Հավելված N 5'!F98 -> -70578.4
F51: ՀՀ Արագածոտնի մարզպետի աշխատակազմ | G51: =+G53 -> 402752.4 | H51: =+H53 -> 529938.7
F52: այդ թվում` բյուջետային ծախսերի տնտեսագիտական դասակարգման հոդվածներ
F53: ԸՆԴԱՄԵՆԸ ԾԱԽՍԵՐ | G53: =G54+G58 -> 402752.4 | H53: =H54+H58 -> 529938.7
F54: ԸՆԹԱՑԻԿ ԾԱԽՍԵՐ | G54: =+G55 -> 8253.6 | H54: =+H55 -> 8253.6
F55: ԾԱՌԱՅՈՒԹՅՈՒՆՆԵՐԻ ԵՎ ԱՊՐԱՆՔՆԵՐԻ ՁԵՌՔԲԵՐՈՒՄ | G55: =+G56 -> 8253.6 | H55: =+H56 -> 8253.6
F56: ԱՅԼ ՄԱՍՆԱԳԻՏԱԿԱՆ ԾԱՌԱՅՈՒԹՅՈՒՆՆԵՐԻ ՁԵՌՔ ԲԵՐՈՒՄ | G56: =+G57 -> 8253.6 | H56: =+H57 -> 8253.6
F57: - Մասնագիտական ծառայություններ | G57: =+H57 -> 8253.6 | H57: =+'Հավելված N 9'!I37+'Հավելված N 9'!I38 -> 8253.6
F58: ՈՉ ՖԻՆԱՆՍԱԿԱՆ ԱԿՏԻՎՆԵՐԻ ԳԾՈՎ ԾԱԽՍԵՐ | G58: =+G59 -> 394498.8 | H58: =+H59 -> 521685.1
F59: ՀԻՄՆԱԿԱՆ ՄԻՋՈՑՆԵՐ | G59: =+G60 -> 394498.8 | H59: =+H60 -> 521685.1
F60: ՇԵՆՔԵՐ ԵՎ ՇԻՆՈՒԹՅՈՒՆՆԵՐ | G60: =+G61 -> 394498.8 | H60: =+H61 -> 521685.1
F61: - Շենքերի և շինությունների կապիտալ վերանորոգում | G61: =+'Հավելված N 5'!E25 -> 394498.8 | H61: =+'Հավելված N 5'!F25 -> 521685.1
F62: ՀՀ Արարատի մարզպետի աշխատակազմ | G62: =+G64 -> 811951.9 | H62: =+H64 -> 1058477.3
F63: այդ թվում` բյուջետային ծախսերի տնտեսագիտական դասակարգման հոդվածներ
F64: ԸՆԴԱՄԵՆԸ ԾԱԽՍԵՐ | G64: =G65+G69 -> 811951.9 | H64: =H65+H69 -> 1058477.3
F65: ԸՆԹԱՑԻԿ ԾԱԽՍԵՐ | G65: =+G66 -> 17587.2 | H65: =+H66 -> 17587.2
F66: ԾԱՌԱՅՈՒԹՅՈՒՆՆԵՐԻ ԵՎ ԱՊՐԱՆՔՆԵՐԻ ՁԵՌՔԲԵՐՈՒՄ | G66: =+G67 -> 17587.2 | H66: =+H67 -> 17587.2
F67: ԱՅԼ ՄԱՍՆԱԳԻՏԱԿԱՆ ԾԱՌԱՅՈՒԹՅՈՒՆՆԵՐԻ ՁԵՌՔ ԲԵՐՈՒՄ | G67: =+G68 -> 17587.2 | H67: =+H68 -> 17587.2
F68: - Մասնագիտական ծառայություններ | G68: =+H68 -> 17587.2 | H68: =+'Հավելված N 9'!I55+'Հավելված N 9'!I56+'Հավելված N 9'!I57 -> 17587.2
F69: ՈՉ ՖԻՆԱՆՍԱԿԱՆ ԱԿՏԻՎՆԵՐԻ ԳԾՈՎ ԾԱԽՍԵՐ | G69: =+G70 -> 794364.7 | H69: =+H70 -> 1040890.1
F70: ՀԻՄՆԱԿԱՆ ՄԻՋՈՑՆԵՐ | G70: =+G71 -> 794364.7 | H70: =+H71 -> 1040890.1
F71: ՇԵՆՔԵՐ ԵՎ ՇԻՆՈՒԹՅՈՒՆՆԵՐ | G71: =+G72 -> 794364.7 | H71: =+H72 -> 1040890.1
F72: - Շենքերի և շինությունների կապիտալ վերանորոգում | G72: =+'Հավելված N 5'!E32 -> 794364.7 | H72: =+'Հավելված N 5'!F32 -> 1040890.1
F73: ՀՀ Արմավիրի մարզպետի աշխատակազմ | G73: =+G75 -> 127148.3 | H73: =+H75 -> 180231.2
F74: այդ թվում` բյուջետային ծախսերի տնտեսագիտական դասակարգման հոդվածներ
F75: ԸՆԴԱՄԵՆԸ ԾԱԽՍԵՐ | G75: =G76+G80 -> 127148.3 | H75: =H76+H80 -> 180231.2
F76: ԸՆԹԱՑԻԿ ԾԱԽՍԵՐ | G76: =+G77 -> 3288.2 | H76: =+H77 -> 3288.2
F77: ԾԱՌԱՅՈՒԹՅՈՒՆՆԵՐԻ ԵՎ ԱՊՐԱՆՔՆԵՐԻ ՁԵՌՔԲԵՐՈՒՄ | G77: =+G78 -> 3288.2 | H77: =+H78 -> 3288.2
F78: ԱՅԼ ՄԱՍՆԱԳԻՏԱԿԱՆ ԾԱՌԱՅՈՒԹՅՈՒՆՆԵՐԻ ՁԵՌՔ ԲԵՐՈՒՄ | G78: =+G79 -> 3288.2 | H78: =+H79 -> 3288.2
F79: - Մասնագիտական ծառայություններ | G79: =+H79 -> 3288.2 | H79: =+'Հավելված N 9'!I62 -> 3288.2
F80: ՈՉ ՖԻՆԱՆՍԱԿԱՆ ԱԿՏԻՎՆԵՐԻ ԳԾՈՎ ԾԱԽՍԵՐ | G80: =+G81 -> 123860.1 | H80: =+H81 -> 176943
F81: ՀԻՄՆԱԿԱՆ ՄԻՋՈՑՆԵՐ | G81: =+G82 -> 123860.1 | H81: =+H82 -> 176943
F82: ՇԵՆՔԵՐ ԵՎ ՇԻՆՈՒԹՅՈՒՆՆԵՐ | G82: =+G83 -> 123860.1 | H82: =+H83 -> 176943
F83: - Շենքերի և շինությունների կապիտալ վերանորոգում | G83: =+'Հավելված N 5'!E41 -> 123860.1 | H83: =+'Հավելված N 5'!F41 -> 176943
F84: ՀՀ Գեղարքունիքի մարզպետի աշխատակազմ | G84: =+G86 -> 655652.1 | H84: =+H86 -> 738051.8
F85: այդ թվում` բյուջետային ծախսերի տնտեսագիտական դասակարգման հոդվածներ
F86: ԸՆԴԱՄԵՆԸ ԾԱԽՍԵՐ | G86: =G87+G91 -> 655652.1 | H86: =H87+H91 -> 738051.8
F87: ԸՆԹԱՑԻԿ ԾԱԽՍԵՐ | G87: =+G88 -> 5155.2 | H87: =+H88 -> 5155.2
F88: ԾԱՌԱՅՈՒԹՅՈՒՆՆԵՐԻ ԵՎ ԱՊՐԱՆՔՆԵՐԻ ՁԵՌՔԲԵՐՈՒՄ | G88: =+G89 -> 5155.2 | H88: =+H89 -> 5155.2
F89: ԱՅԼ ՄԱՍՆԱԳԻՏԱԿԱՆ ԾԱՌԱՅՈՒԹՅՈՒՆՆԵՐԻ ՁԵՌՔ ԲԵՐՈՒՄ | G89: =+G90 -> 5155.2 | H89: =+H90 -> 5155.2
F90: - Մասնագիտական ծառայություններ | G90: =+H90 -> 5155.2 | H90: =+'Հավելված N 9'!I86 -> 5155.2
F91: ՈՉ ՖԻՆԱՆՍԱԿԱՆ ԱԿՏԻՎՆԵՐԻ ԳԾՈՎ ԾԱԽՍԵՐ | G91: =+G92 -> 650496.9 | H91: =+H92 -> 732896.6
F92: ՀԻՄՆԱԿԱՆ ՄԻՋՈՑՆԵՐ | G92: =+G93 -> 650496.9 | H92: =+H93 -> 732896.6
F93: ՇԵՆՔԵՐ ԵՎ ՇԻՆՈՒԹՅՈՒՆՆԵՐ | G93: =+G94 -> 650496.9 | H93: =+H94 -> 732896.6
F94: - Շենքերի և շինությունների կապիտալ վերանորոգում | G94: =+'Հավելված N 5'!E44 -> 650496.9 | H94: =+'Հավելված N 5'!F44 -> 732896.6
F95: ՀՀ Լոռու մարզպետի աշխատակազմ | G95: =+G97 -> 505846.5 | H95: =+H97 -> 593330.7
F96: այդ թվում` բյուջետային ծախսերի տնտեսագիտական դասակարգման հոդվածներ
F97: ԸՆԴԱՄԵՆԸ ԾԱԽՍԵՐ | G97: =G98+G102 -> 505846.5 | H97: =H98+H102 -> 593330.7
F98: ԸՆԹԱՑԻԿ ԾԱԽՍԵՐ | G98: =+G99 -> 8988 | H98: =+H99 -> 8988
F99: ԾԱՌԱՅՈՒԹՅՈՒՆՆԵՐԻ ԵՎ ԱՊՐԱՆՔՆԵՐԻ ՁԵՌՔԲԵՐՈՒՄ | G99: =+G100 -> 8988 | H99: =+H100 -> 8988
F100: ԱՅԼ ՄԱՍՆԱԳԻՏԱԿԱՆ ԾԱՌԱՅՈՒԹՅՈՒՆՆԵՐԻ ՁԵՌՔ ԲԵՐՈՒՄ | G100: =+G101 -> 8988 | H100: =+H101 -> 8988
F101: - Մասնագիտական ծառայություններ | G101: =+H101 -> 8988 | H101: =+'Հավելված N 9'!I101 -> 8988
F102: ՈՉ ՖԻՆԱՆՍԱԿԱՆ ԱԿՏԻՎՆԵՐԻ ԳԾՈՎ ԾԱԽՍԵՐ | G102: =+G103 -> 496858.5 | H102: =+H103 -> 584342.7
F103: ՀԻՄՆԱԿԱՆ ՄԻՋՈՑՆԵՐ | G103: =+G104 -> 496858.5 | H103: =+H104 -> 584342.7
F104: ՇԵՆՔԵՐ ԵՎ ՇԻՆՈՒԹՅՈՒՆՆԵՐ | G104: =+G105 -> 496858.5 | H104: =+H105 -> 584342.7
F105: - Շենքերի և շինությունների կապիտալ վերանորոգում | G105: =+'Հավելված N 5'!E56 -> 496858.5 | H105: =+'Հավելված N 5'!F56 -> 584342.7
...

Sheet Հավելված N 4
F1: Հավելված N 4
F2: ՀՀ կառավարության 2026 թվականի
F3: ______________ ի ___Ն որոշման
A5: «ՀԱՅԱUՏԱՆԻ ՀԱՆՐԱՊԵՏՈՒԹՅԱՆ 2026 ԹՎԱԿԱՆԻ ՊԵՏԱԿԱՆ ԲՅՈՒՋԵԻ ՄԱUԻՆ» ՀԱՅԱUՏԱՆԻ ՀԱՆՐԱՊԵՏՈՒԹՅԱՆ OՐԵՆՔԻ N 1 ՀԱՎԵԼՎԱԾԻ N 3 ԱՂՅՈՒՍԱԿՈՒՄ ԿԱՏԱՐՎՈՂ ՓՈՓՈԽՈՒԹՅՈՒՆՆԵՐԸ ԵՎ ԼՐԱՑՈՒՄՆԵՐԸ
G8: հազ. դրամներով
A9: Ծրագրային դասիչ | C9: Բյուջետային գլխավոր կարգադրիչների, ծրագրերի, միջոցառումների, միջոցառումները կատարող պետական մարմինների և ուղղությունների անվանումները | D9: Ընդամենը | E9: Ցուցանիշների փոփոխությունը (ավելացումները նշված են դրական նշանով, իսկնվազեցումները՝ փակագծերում)
A10: Ծրագիր | B10: Միջոցառում | E10: Կառուցման աշխատանքներ | F10: Վերակառուցման, վերանորոգման և վերականգնման աշխատանքներ | G10: Նախագծահե- տազոտական, գեոդեզիա- քարտեզագրա- կան աշխա- տանքներ | H10: Ոչ ֆինանսական այլ ակտիվների ձեռքբերում
C11: ԸՆԴԱՄԵՆԸ | D11: =SUM(E11:H11) -> -52090.4 | E11: =+E13 -> -1033692.8 | F11: =+F13 -> 975747.6 | G11: =+G13 -> 0 | H11: =+H13 -> 5854.8
C12: այդ թվում՝
C13: ՀՀ ԿՐԹՈՒԹՅԱՆ, ԳԻՏՈՒԹՅԱՆ, ՄՇԱԿՈՒՅԹԻ ԵՎ ՍՊՈՐՏԻ ՆԱԽԱՐԱՐՈՒԹՅՈՒՆ | D13: =SUM(E13:H13) -> -52090.4 | E13: =+E15+E16+E19+E66+E69+E72 -> -1033692.8 | F13: =+F15+F16+F19+F66+F69+F72 -> 975747.6 | G13: =+G15+G16+G19+G66+G69+G72 -> 0 | H13: =+H15+H16+H19+H66+H69+H72 -> 5854.8
C14: այդ թվում`
A15: 1236 | B15: 31001 | C15: Հանրակրթական և նախադպրոցական հաստատությունների կառուցման, վերակառուցման, հիմնանորոգման ծրագրերի համակարգման շրջանակներում Հայաստանի տարածքային զարգացման հիմնադրամի կարողությունների զարգացում և տեխնիկական հագեցվածության ապահովում | D15: =SUM(E15:H15) -> 5854.8 | E15: 0 | F15: 0 | G15: 0 | H15: =+'Հավելված N 9'!I20 -> 5854.8
A16: 1236 | B16: 32001 | C16: Մանկապարտեզների նոր շենքերի կառուցում | D16: =SUM(E16:H16) -> -533692.8 | E16: =+E18 -> -533692.8 | F16: =+F18 -> 0 | G16: =+G18 -> 0 | H16: =+H18 -> 0
C17: այդ թվում`
C18: Մանկապարտեզների նոր շենքերի կառուցում | D18: =SUM(E18:H18) -> -533692.8 | E18: -533692.8 | F18: 0 | G18: 0 | H18: 0
A19: 1236 | B19: 32002 | C19: Մանկապարտեզների շենքերի վերակառուցում, հիմնանորոգում | D19: =SUM(E19:H19) -> 5475747.6 | E19: =+E21+E22+E26+E32+E41+E47+E50+E53+E56+E60 -> 0 | F19: =+F21+F22+F26+F32+F41+F47+F50+F53+F56+F60 -> 5475747.6 | G19: =+G21+G22+G26+G32+G41+G47+G50+G53+G56+G60 -> 0 | H19: =+H21+H22+H26+H32+H41+H47+H50+H53+H56+H60 -> 0
C20: այդ թվում`
C21: Մանկապարտեզների շենքերի վերակառուցում, հիմնանորոգում | D21: =SUM(E21:H21) -> 3297115 | E21: 0 | F21: =-70578.4+2968870.4+398823 -> 3297115 | G21: 0 | H21: 0
C22: ՀՀ Արագածոտնի մարզ | D22: =SUM(E22:H22) -> 148187.1 | E22: =SUM(E23:E25) -> 0 | F22: =SUM(F23:F25) -> 148187.1 | G22: =SUM(G23:G25) -> 0 | H22: =SUM(H23:H25) -> 0
C23: «Աշտարակի թիվ 5 Արաքս Մուրադյանի անվան մանկապարտեզ» ՀՈԱԿ | D23: =+E23+F23+G23+H23 -> 22103.5 | F23: =+'Հավելված N 9'!I30+'Հավելված N 9'!I34 -> 22103.5
C24: Աշտարակ բնակավայրի թիվ 1 «Մանուշակ մանկապարտեզ» ՀՈԱԿ | D24: =+E24+F24+G24+H24 -> 100912.5 | F24: =+'Հավելված N 9'!I31+'Հավելված N 9'!I35 -> 100912.5
C25: Ապարանի թիվ 1 մանկապարտեզ ՀՈԱԿ | D25: =+E25+F25+G25+H25 -> 25171.1 | F25: =+'Հավելված N 9'!I32+'Հավելված N 9'!I36 -> 25171.1
C26: ՀՀ Արարատի մարզ | D26: =SUM(E26:H26) -> 337472.9 | E26: =SUM(E27:E30) -> 0 | F26: =SUM(F27:F31) -> 337472.9 | G26: =SUM(G27:G30) -> 0 | H26: =SUM(H27:H30) -> 0
C27: «Վեդու թիվ 2» նախադպրոցական ուսումնական հաստատություն ՀՈԱԿ | D27: =+E27+F27+G27+H27 -> 115173 | F27: =+'Հավելված N 9'!I44+'Հավելված N 9'!I50 -> 115173
C28: Փոքր Վեդու «Զարթոնք» նախադպրոցական ուսումնական հաստատություն ՀՈԱԿ | D28: =+E28+F28+G28+H28 -> 43891.4 | F28: =+'Հավելված N 9'!I45+'Հավելված N 9'!I51 -> 43891.4
C29: «Մասիս համայնքի Մասիս քաղաքի թիվ 5 մսուր-մանկապարտեզ» ՀՈԱԿ | D29: =+E29+F29+G29+H29 -> 77604.3 | F29: =+'Հավելված N 9'!I46+'Հավելված N 9'!I52 -> 77604.3
C30: «Արտաշատ համայնքի Դալար գյուղի մանկապարտեզ» ՀՈԱԿ | D30: =+E30+F30+G30+H30 -> 27806.3 | F30: =+'Հավելված N 9'!I47+'Հավելված N 9'!I53 -> 27806.3
C31: «Արտաշատի թիվ 4 մսուր-մանկապարտեզ» | D31: =+E31+F31+G31+H31 -> 72997.9 | F31: =+'Հավելված N 9'!I48+'Հավելված N 9'!I54 -> 72997.9
C32: ՀՀ Գեղարքունիքի մարզ | D32: =SUM(E32:H32) -> 689896.6 | E32: =SUM(E33:E40) -> 0 | F32: =SUM(F33:F40) -> 689896.6 | G32: =SUM(G33:G40) -> 0 | H32: =SUM(H33:H40) -> 0
C33: «Մարտունի քաղաքի թիվ 4 մանկապարտեզ» ՀՈԱԿ | D33: =+E33+F33+G33+H33 -> 44058.6 | F33: =+'Հավելված N 9'!I69+'Հավելված N 9'!I78 -> 44058.6
C34: «Ձորագյուղի մանկապարտեզ» ՀՈԱԿ | D34: =+E34+F34+G34+H34 -> 113821.3 | F34: =+'Հավելված N 9'!I70+'Հավելված N 9'!I79 -> 113821.3
C35: «Սևան համայնքի «Հեքիաթ» մանկապարտեզ» ՀՈԱԿ | D35: =+E35+F35+G35+H35 -> 75196.7 | F35: =+'Հավելված N 9'!I71+'Հավելված N 9'!I80 -> 75196.7
C36: «Ծովագյուղի մանկապարտեզ» ՀՈԱԿ | D36: =+E36+F36+G36+H36 -> 78942.4 | F36: =+'Հավելված N 9'!I72+'Հավելված N 9'!I81 -> 78942.4
C37: «Կարմիրգյուղի մանկապարտեզ» ՀՈԱԿ | D37: =+E37+F37+G37+H37 -> 37946.7 | F37: =+'Հավելված N 9'!I73+'Հավելված N 9'!I82 -> 37946.7
C38: «Զովաբերի մանկապարտեզ» ՀՈԱԿ | D38: =+E38+F38+G38+H38 -> 274665.6 | F38: =+'Հավելված N 9'!I74+'Հավելված N 9'!I83 -> 274665.6
C39: «Գավառի թիվ 7 մանկապարտեզ» ՀՈԱԿ | D39: =+E39+F39+G39+H39 -> 51754.3 | F39: =+'Հավելված N 9'!I75+'Հավելված N 9'!I84 -> 51754.3
C40: «Ճամբարակ Քաղաքի Թիվ 3 Մսուր-Մանկապարտեզ» ՀՈԱԿ | D40: =+E40+F40+G40+H40 -> 13511 | F40: =+'Հավելված N 9'!I76+'Հավելված N 9'!I85 -> 13511
C41: ՀՀ Լոռու մարզ | D41: =SUM(E41:H41) -> 348726.8 | E41: =SUM(E42:E46) -> 0 | F41: =SUM(F42:F46) -> 348726.8 | G41: =SUM(G42:G46) -> 0 | H41: =SUM(H42:H46) -> 0
C42: «Շիրակամուտի Արևիկ մանկապարտեզ» ՀՈԱԿ | D42: =+E42+F42+G42+H42 -> 83073.4 | F42: =+'Հավելված N 9'!I92+'Հավելված N 9'!I97 -> 83073.4
C43: «Վանաձորի թիվ 32 մանկապարտեզ» ՀՈԱԿ | D43: =+E43+F43+G43+H43 -> 95708.3 | F43: =+'Հավելված N 9'!I93+'Հավելված N 9'!I98 -> 95708.3
C44: Ալավերդի համայնքի «Արևներ» մսուր-մանկապարտեզ (շենք 1) | D44: =+E44+F44+G44+H44 -> 82417.7 | F44: =+'Հավելված N 9'!I94+'Հավելված N 9'!I99 -> 82417.7
C45: «Վանաձորի թիվ 40 մանկապարտեզ» ՀՈԱԿ | D45: =+E45+F45+G45+H45 -> 31529.4 | F45: =+'Հավելված N 9'!I95+'Հավելված N 9'!I100 -> 31529.4
C46: Վանաձորի թիվ 11 մանկապարտեզ | D46: =+E46+F46+G46+H46 -> 55998 | F46: =+'Հավելված N 9'!I17 -> 55998
C47: ՀՀ Կոտայքի մարզ | D47: =SUM(E47:H47) -> 94268.2 | E47: =SUM(E48:E49) -> 0 | F47: =SUM(F48:F49) -> 94268.2 | G47: =SUM(G48:G49) -> 0 | H47: =SUM(H48:H49) -> 0
C48: «Մրգաշենի մանկապարտեզ» ՀՈԱԿ | D48: =+E48+F48+G48+H48 -> 23096.8 | F48: =+'Հավելված N 9'!I107+'Հավելված N 9'!I110 -> 23096.8
C49: «Հրազդանի թիվ 13 ՆՈՒՀ» ՀՈԱԿ | D49: =+E49+F49+G49+H49 -> 71171.4 | F49: =+'Հավելված N 9'!I108+'Հավելված N 9'!I111 -> 71171.4
C50: ՀՀ Շիրակի մարզ | D50: =SUM(E50:H50) -> 49152 | E50: =SUM(E51:E52) -> 0 | F50: =SUM(F51:F52) -> 49152 | G50: =SUM(G51:G52) -> 0 | H50: =SUM(H51:H52) -> 0
C51: «Լապտերիկ – մսուր մանկապարտեզ» ՀՈԱԿ | D51: =+E51+F51+G51+H51 -> 25500 | F51: =+'Հավելված N 9'!I118 -> 25500
C52: «Սառնաղբյուրի մանկապարտեզ» ՀՈԱԿ | D52: =+E52+F52+G52+H52 -> 23652 | F52: =+'Հավելված N 9'!I119 -> 23652
C53: ՀՀ Սյունիքի մարզ | D53: =SUM(E53:H53) -> 88240 | E53: =SUM(E54:E55) -> 0 | F53: =SUM(F54:F55) -> 88240 | G53: =SUM(G54:G55) -> 0 | H53: =SUM(H54:H55) -> 0
C54: «Գորիս քաղաքի թիվ 5 ՆՈՒՀ» ՀՈԱԿ | D54: =+E54+F54+G54+H54 -> 45248.1 | F54: =+'Հավելված N 9'!I125+'Հավելված N 9'!I128+'Հավելված N 9'!I129 -> 45248.1
C55: «Սիսիանի թիվ 4 ՆՈՒՀ» ՀՈԱԿ | D55: =+E55+F55+G55+H55 -> 42991.9 | F55: =+'Հավելված N 9'!I126+'Հավելված N 9'!I130 -> 42991.9
C56: ՀՀ Վայոց Ձորի մարզ | D56: =SUM(E56:H56) -> 241513.7 | E56: =SUM(E57) -> 0 | F56: =SUM(F57:F59) -> 241513.7 | G56: =SUM(G57) -> 0 | H56: =SUM(H57) -> 0
C57: «Աղավնաձորի մանկապարտեզ» ՀՈԱԿ | D57: =+E57+F57+G57+H57 -> 82627.9 | F57: =+'Հավելված N 9'!I140+'Հավելված N 9'!I144 -> 82627.9
C58: «Վայքի թիվ 1 մանկապարտեզ» ՀՈԱԿ | D58: =+E58+F58+G58+H58 -> 55397.4 | F58: =+'Հավելված N 9'!I141+'Հավելված N 9'!I145 -> 55397.4
C59: «Վայքի թիվ 3 մանկապարտեզ» ՀՈԱԿ | D59: =+E59+F59+G59+H59 -> 103488.4 | F59: =+'Հավելված N 9'!I142+'Հավելված N 9'!I146 -> 103488.4
C60: ՀՀ Տավուշի մարզ | D60: =SUM(E60:H60) -> 181175.3 | E60: =SUM(E61:E65) -> 0 | F60: =SUM(F61:F65) -> 181175.3 | G60: =SUM(G61:G65) -> 0 | H60: =SUM(H61:H65) -> 0
C61: «Դիլիջանի թիվ 1 մանկապարտեզ» ՀՈԱԿ | D61: =+E61+F61+G61+H61 -> 39583.6 | F61: =+'Հավելված N 9'!I152+'Հավելված N 9'!I158 -> 39583.6
C62: «Հաղարծինի մանկապարտեզ» ՀՈԱԿ | D62: =+E62+F62+G62+H62 -> 25049.3 | F62: =+'Հավելված N 9'!I153+'Հավելված N 9'!I159 -> 25049.3
C63: «Կոթիի մսուր-մանկապարտեզ» ՀՈԱԿ | D63: =+E63+F63+G63+H63 -> 29735.8 | F63: =+'Հավելված N 9'!I154+'Հավելված N 9'!I160 -> 29735.8
C64: «Սարիգյուղի մանկապարտեզ» ՀՈԱԿ | D64: =+E64+F64+G64+H64 -> 45143 | F64: =+'Հավելված N 9'!I155+'Հավելված N 9'!I161 -> 45143
C65: «Բերդավանի մսուր-մանկապարտեզ» ՀՈԱԿ | D65: =+E65+F65+G65+H65 -> 41663.6 | F65: =+'Հավելված N 9'!I156+'Հավելված N 9'!I162 -> 41663.6
A66: 1236 | B66: 32003 | C66: Հանրակրթական դպրոցների նոր շենքերի կառուցում | D66: =SUM(E66:H66) -> -3500000 | E66: =+E68 -> -3500000 | F66: =+F68 -> 0 | G66: =+G68 -> 0 | H66: =+H68 -> 0
C67: այդ թվում`
C68: Հանրակրթական դպրոցների նոր շենքերի կառուցում | D68: =SUM(E68:H68) -> -3500000 | E68: =-4000000+500000 -> -3500000 | F68: 0 | G68: 0 | H68: 0
A69: 1236 | B69: 32004 | C69: Հանրակրթական դպրոցների շենքերի վերակառուցում, հիմնանորոգում | D69: =SUM(E69:H69) -> -4500000 | E69: =+E71 -> 0 | F69: =+F71 -> -4500000 | G69: =+G71 -> 0 | H69: =+H71 -> 0
C70: այդ թվում`
C71: Հանրակրթական դպրոցների շենքերի վերակառուցում, հիմնանորոգում | D71: =SUM(E71:H71) -> -4500000 | E71: 0 | F71: =-4500000 -> -4500000 | G71: 0 | H71: 0
A72: 1236 | B72: 32005 | C72: Կրթահամալիրների կառուցում | D72: =SUM(E72:H72) -> 3000000 | E72: =+E74 -> 3000000 | F72: =+F74 -> 0 | G72: =+G74 -> 0 | H72: =+H74 -> 0
C73: այդ թվում`
C74: Կրթահամալիրների կառուցում | D74: =SUM(E74:H74) -> 3000000 | E74: 3000000 | F74: 0 | G74: 0 | H74: 0

Sheet Հավելված N 5
E1: Հավելված N 5
D2: ՀՀ կառավարության 2026 թվականի
E3: ______________ ի ___Ն որոշման
B6: ՀԱՅԱՍՏԱՆԻ ՀԱՆՐԱՊԵՏՈՒԹՅԱՆ ԿԱՌԱՎԱՐՈՒԹՅԱՆ 2025 ԹՎԱԿԱՆԻ ԴԵԿՏԵՄԲԵՐԻ 25-Ի N 1910-Ն ՈՐՈՇՄԱՆ N 5 ՀԱՎԵԼՎԱԾԻ N 2 ԱՂՅՈՒՍԱԿՈՒՄ ԿԱՏԱՐՎՈՂ ՓՈՓՈԽՈՒԹՅՈՒՆՆԵՐԸ ԵՎ ԼՐԱՑՈՒՄՆԵՐԸ
F8: հազ. դրամներով
B9: Ծրագրային դասիչ | D9: Բյուջետային գլխավոր կարգադրիչների, ծրագրերի, միջոցառումների, միջոցառումները կատարող պետական մարմինների և ուղղությունների անվանումները | E9: Ցուցանիշների փոփոխությունը (ավելացումները նշված են դրական նշանով, իսկ նվազեցումները՝ փակագծերում)
B10: Ծրագիր | C10: Միջոցառում | E10: Ինն ամիս | F10: Տարի
D11: ՀՀ ԿՐԹՈՒԹՅԱՆ, ԳԻՏՈՒԹՅԱՆ, ՄՇԱԿՈՒՅԹԻ ԵՎ ՍՊՈՐՏԻ ՆԱԽԱՐԱՐՈՒԹՅՈՒՆ | E11: =E13+E16+E19+E99+E107+E115 -> 8000989.7 | F11: =F13+F16+F19+F99+F107+F115 -> -52090.4
D12: այդ թվում՝
B13: 1236 | C13: 31001 | D13: Հանրակրթական և նախադպրոցական հաստատությունների կառուցման, վերակառուցման, հիմնանորոգման ծրագրերի համակարգման շրջանակներում Հայաստանի տարածքային զարգացման հիմնադրամի կարողությունների զարգացում և տեխնիկական հագեցվածության ապահովում | E13: =+E15 -> 5854.8 | F13: =+F15 -> 5854.8
D14: այդ թվում` ըստ կատարողների
D15: ՀՀ կրթության, գիտության, մշակությի և սպորտի նախարարություն | E15: =+F15 -> 5854.8 | F15: =+'Հավելված N 4'!D15 -> 5854.8
B16: 1236 | C16: 32001 | D16: Մանկապարտեզների նոր շենքերի կառուցում | E16: =+E18 -> -533692.8 | F16: =+F18 -> -533692.8
D17: այդ թվում` ըստ կատարողների
D18: ՀՀ կառավարություն | E18: =+F18 -> -533692.8 | F18: =+'Հավելված N 4'!D18 -> -533692.8
B19: 1236 | C19: 32002 | D19: Մանկապարտեզների շենքերի վերակառուցում, հիմնանորոգում | E19: =+E21+E25+E32+E41+E44+E56+E64+E70+E76+E82+E89+E98 -> 4513654 | F19: =+F21+F25+F32+F41+F44+F56+F64+F70+F76+F82+F89+F98 -> 5475747.6
D20: այդ թվում` ըստ կատարողների
D21: ՀՀ կրթության, գիտության, մշակությի և սպորտի նախարարություն | E21: =+E23 -> 55998 | F21: =+F23 -> 55998
D22: այդ թվում՝ ըստ ուղղությունների
D23: ՀՀ Լոռու մարզ | E23: =+E24 -> 55998 | F23: =+F24 -> 55998
D24: =+'Հավելված N 4'!C46 -> Վանաձորի թիվ 11 մանկապարտեզ | E24: =+F24 -> 55998 | F24: =+'Հավելված N 4'!D46 -> 55998
D25: ՀՀ Արագածոտնի մարզպետի աշխատակազմ | E25: =+E27+E28 -> 394498.8 | F25: =+F27+F28 -> 521685.1
D26: այդ թվում՝ ըստ ուղղությունների
D27: Մանկապարտեզների շենքերի վերակառուցում, հիմնանորոգում | E27: =+ROUND(F27*0.7,1) -> 261448.6 | F27: 373498
D28: ՀՀ Արագածոտնի մարզ | E28: =SUM(E29:E31) -> 133050.2 | F28: =SUM(F29:F31) -> 148187.1
D29: =+'Հավելված N 4'!C23 -> «Աշտարակի թիվ 5 Արաքս Մուրադյանի անվան մանկապարտեզ» ՀՈԱԿ | E29: =+F29 -> 22103.5 | F29: =+'Հավելված N 4'!D23 -> 22103.5
D30: =+'Հավելված N 4'!C24 -> Աշտարակ բնակավայրի թիվ 1 «Մանուշակ մանկապարտեզ» ՀՈԱԿ | E30: =+ROUND(F30*0.85,1) -> 85775.6 | F30: =+'Հավելված N 4'!D24 -> 100912.5
D31: =+'Հավելված N 4'!C25 -> Ապարանի թիվ 1 մանկապարտեզ ՀՈԱԿ | E31: =+F31 -> 25171.1 | F31: =+'Հավելված N 4'!D25 -> 25171.1
D32: ՀՀ Արարատի մարզպետի աշխատակազմ | E32: =+E34+E35 -> 794364.7 | F32: =+F34+F35 -> 1040890.1
D33: այդ թվում՝ ըստ ուղղությունների
D34: Մանկապարտեզների շենքերի վերակառուցում, հիմնանորոգում | E34: =+ROUND(F34*0.7,1) -> 492392 | F34: 703417.2
D35: ՀՀ Արարատի մարզ | E35: =SUM(E36:E40) -> 301972.7 | F35: =SUM(F36:F40) -> 337472.9
D36: =+'Հավելված N 4'!C27 -> «Վեդու թիվ 2» նախադպրոցական ուսումնական հաստատություն ՀՈԱԿ | E36: =+ROUND(F36*0.85,1) -> 97897.1 | F36: =+'Հավելված N 4'!D27 -> 115173
D37: =+'Հավելված N 4'!C28 -> Փոքր Վեդու «Զարթոնք» նախադպրոցական ուսումնական հաստատություն ՀՈԱԿ | E37: =+ROUND(F37*0.85,1) -> 37307.7 | F37: =+'Հավելված N 4'!D28 -> 43891.4
D38: =+'Հավելված N 4'!C29 -> «Մասիս համայնքի Մասիս քաղաքի թիվ 5 մսուր-մանկապարտեզ» ՀՈԱԿ | E38: =+ROUND(F38*0.85,1) -> 65963.7 | F38: =+'Հավելված N 4'!D29 -> 77604.3
D39: =+'Հավելված N 4'!C30 -> «Արտաշատ համայնքի Դալար գյուղի մանկապարտեզ» ՀՈԱԿ | E39: =+F39 -> 27806.3 | F39: =+'Հավելված N 4'!D30 -> 27806.3
D40: =+'Հավելված N 4'!C31 -> «Արտաշատի թիվ 4 մսուր-մանկապարտեզ» | E40: =+F40 -> 72997.9 | F40: =+'Հավելված N 4'!D31 -> 72997.9
D41: ՀՀ Արմավիրի մարզպետի աշխատակազմ | E41: =+E43 -> 123860.1 | F41: =+F43 -> 176943
D42: այդ թվում՝ ըստ ուղղությունների
D43: Մանկապարտեզների շենքերի վերակառուցում, հիմնանորոգում | E43: =+ROUND(F43*0.7,1) -> 123860.1 | F43: 176943
D44: ՀՀ Գեղարքունիքի մարզպետի աշխատակազմ | E44: =+E46+E47 -> 650496.9 | F44: =+F46+F47 -> 732896.6
D45: այդ թվում՝ ըստ ուղղությունների
D46: Մանկապարտեզների շենքերի վերակառուցում, հիմնանորոգում | E46: =+F46 -> 43000 | F46: 43000
D47: ՀՀ Գեղարքունիքի մարզ | E47: =SUM(E48:E55) -> 607496.9 | F47: =SUM(F48:F55) -> 689896.6
D48: =+'Հավելված N 4'!C33 -> «Մարտունի քաղաքի թիվ 4 մանկապարտեզ» ՀՈԱԿ | E48: =+F48 -> 44058.6 | F48: =+'Հավելված N 4'!D33 -> 44058.6
D49: =+'Հավելված N 4'!C34 -> «Ձորագյուղի մանկապարտեզ» ՀՈԱԿ | E49: =+F49 -> 113821.3 | F49: =+'Հավելված N 4'!D34 -> 113821.3
D50: =+'Հավելված N 4'!C35 -> «Սևան համայնքի «Հեքիաթ» մանկապարտեզ» ՀՈԱԿ | E50: =+F50 -> 75196.7 | F50: =+'Հավելված N 4'!D35 -> 75196.7
D51: =+'Հավելված N 4'!C36 -> «Ծովագյուղի մանկապարտեզ» ՀՈԱԿ | E51: =+F51 -> 78942.4 | F51: =+'Հավելված N 4'!D36 -> 78942.4
D52: =+'Հավելված N 4'!C37 -> «Կարմիրգյուղի մանկապարտեզ» ՀՈԱԿ | E52: =+F52 -> 37946.7 | F52: =+'Հավելված N 4'!D37 -> 37946.7
D53: =+'Հավելված N 4'!C38 -> «Զովաբերի մանկապարտեզ» ՀՈԱԿ | E53: =+ROUND(F53*0.7,1) -> 192265.9 | F53: =+'Հավելված N 4'!D38 -> 274665.6
D54: =+'Հավելված N 4'!C39 -> «Գավառի թիվ 7 մանկապարտեզ» ՀՈԱԿ | E54: =+F54 -> 51754.3 | F54: =+'Հավելված N 4'!D39 -> 51754.3
D55: =+'Հավելված N 4'!C40 -> «Ճամբարակ Քաղաքի Թիվ 3 Մսուր-Մանկապարտեզ» ՀՈԱԿ | E55: =+F55 -> 13511 | F55: =+'Հավելված N 4'!D40 -> 13511
D56: ՀՀ Լոռու մարզպետի աշխատակազմ | E56: =+E58+E59 -> 496858.5 | F56: =+F58+F59 -> 584342.7
D57: այդ թվում՝ ըստ ուղղությունների
D58: Մանկապարտեզների շենքերի վերակառուցում, հիմնանորոգում | E58: =+ROUND(F58*0.7,1) -> 204129.7 | F58: 291613.9
D59: ՀՀ Լոռու մարզ | E59: =SUM(E60:E63) -> 292728.8 | F59: =SUM(F60:F63) -> 292728.8
D60: =+'Հավելված N 4'!C42 -> «Շիրակամուտի Արևիկ մանկապարտեզ» ՀՈԱԿ | E60: =+F60 -> 83073.4 | F60: =+'Հավելված N 4'!D42 -> 83073.4
D61: =+'Հավելված N 4'!C43 -> «Վանաձորի թիվ 32 մանկապարտեզ» ՀՈԱԿ | E61: =+F61 -> 95708.3 | F61: =+'Հավելված N 4'!D43 -> 95708.3
D62: =+'Հավելված N 4'!C44 -> Ալավերդի համայնքի «Արևներ» մսուր-մանկապարտեզ (շենք 1) | E62: =+F62 -> 82417.7 | F62: =+'Հավելված N 4'!D44 -> 82417.7
D63: =+'Հավելված N 4'!C45 -> «Վանաձորի թիվ 40 մանկապարտեզ» ՀՈԱԿ | E63: =+F63 -> 31529.4 | F63: =+'Հավելված N 4'!D45 -> 31529.4
D64: ՀՀ Կոտայքի մարզպետի աշխատակազմ | E64: =E66+E67 -> 216818.8 | F64: =F66+F67 -> 284591.5
D65: այդ թվում՝ ըստ ուղղությունների
D66: Մանկապարտեզների շենքերի վերակառուցում, հիմնանորոգում | E66: =+ROUND(F66*0.7,1) -> 133226.3 | F66: 190323.3
D67: ՀՀ Կոտայքի մարզ | E67: =SUM(E68:E69) -> 83592.5 | F67: =SUM(F68:F69) -> 94268.2
D68: =+'Հավելված N 4'!C48 -> «Մրգաշենի մանկապարտեզ» ՀՈԱԿ | E68: =+F68 -> 23096.8 | F68: =+'Հավելված N 4'!D48 -> 23096.8
D69: =+'Հավելված N 4'!C49 -> «Հրազդանի թիվ 13 ՆՈՒՀ» ՀՈԱԿ | E69: =+ROUND(F69*0.85,1) -> 60495.7 | F69: =+'Հավելված N 4'!D49 -> 71171.4
D70: ՀՀ Շիրակի մարզպետի աշխատակազմ | E70: =E72+E73 -> 123584 | F70: =F72+F73 -> 123584
D71: այդ թվում՝ ըստ ուղղությունների
D72: Մանկապարտեզների շենքերի վերակառուցում, հիմնանորոգում | E72: =+F72 -> 74432 | F72: 74432
D73: ՀՀ Շիրակի մարզ | E73: =SUM(E74:E75) -> 49152 | F73: =SUM(F74:F75) -> 49152
D74: =+'Հավելված N 4'!C51 -> «Լապտերիկ – մսուր մանկապարտեզ» ՀՈԱԿ | E74: =+F74 -> 25500 | F74: =+'Հավելված N 4'!D51 -> 25500
D75: =+'Հավելված N 4'!C52 -> «Սառնաղբյուրի մանկապարտեզ» ՀՈԱԿ | E75: =+F75 -> 23652 | F75: =+'Հավելված N 4'!D52 -> 23652
D76: ՀՀ Սյունիքի մարզպետի աշխատակազմ | E76: =+E78+E79 -> 334968.7 | F76: =+F78+F79 -> 449922.1
D77: այդ թվում՝ ըստ ուղղությունների
D78: Մանկապարտեզների շենքերի վերակառուցում, հիմնանորոգում | E78: =+ROUND(F78*0.7,1) -> 253177.5 | F78: 361682.1
D79: ՀՀ Սյունիքի մարզ | E79: =SUM(E80:E81) -> 81791.2 | F79: =SUM(F80:F81) -> 88240
D80: =+'Հավելված N 4'!C54 -> «Գորիս քաղաքի թիվ 5 ՆՈՒՀ» ՀՈԱԿ | E80: =+F80 -> 45248.1 | F80: =+'Հավելված N 4'!D54 -> 45248.1
D81: =+'Հավելված N 4'!C55 -> «Սիսիանի թիվ 4 ՆՈՒՀ» ՀՈԱԿ | E81: =+ROUND(F81*0.85,1) -> 36543.1 | F81: =+'Հավելված N 4'!D55 -> 42991.9
D82: ՀՀ Վայոց Ձորի մարզպետի աշխատակազմ | E82: =+E84+E85 -> 382842.3 | F82: =+F84+F85 -> 311172
D83: այդ թվում՝ ըստ ուղղությունների
D84: Մանկապարտեզների շենքերի վերակառուցում, հիմնանորոգում | E84: =+F84 -> 69658.3 | F84: 69658.3
D85: ՀՀ Վայոց Ձորի մարզ | E85: =SUM(E86:E88) -> 313184 | F85: =SUM(F86:F88) -> 241513.7
D86: =+'Հավելված N 4'!C57 -> «Աղավնաձորի մանկապարտեզ» ՀՈԱԿ | E86: =+F86+25247.4 -> 107875.3 | F86: =+'Հավելված N 4'!D57 -> 82627.9
D87: =+'Հավելված N 4'!C58 -> «Վայքի թիվ 1 մանկապարտեզ» ՀՈԱԿ | E87: =+F87+17316.8 -> 72714.2 | F87: =+'Հավելված N 4'!D58 -> 55397.4
D88: =+'Հավելված N 4'!C59 -> «Վայքի թիվ 3 մանկապարտեզ» ՀՈԱԿ | E88: =+F88+29106.1 -> 132594.5 | F88: =+'Հավելված N 4'!D59 -> 103488.4
D89: ՀՀ Տավուշի մարզպետի աշխատակազմ | E89: =+E91+E92 -> 939363.2 | F89: =+F91+F92 -> 1264300.9
D90: այդ թվում՝ ըստ ուղղությունների
D91: Մանկապարտեզների շենքերի վերակառուցում, հիմնանորոգում | E91: =+ROUND(F91*0.7,1) -> 758187.9 | F91: =684302.6+398823 -> 1083125.6
D92: ՀՀ Տավուշի մարզ | E92: =SUM(E93:E97) -> 181175.3 | F92: =SUM(F93:F97) -> 181175.3
D93: =+'Հավելված N 4'!C61 -> «Դիլիջանի թիվ 1 մանկապարտեզ» ՀՈԱԿ | E93: =+F93 -> 39583.6 | F93: =+'Հավելված N 4'!D61 -> 39583.6
D94: =+'Հավելված N 4'!C62 -> «Հաղարծինի մանկապարտեզ» ՀՈԱԿ | E94: =+F94 -> 25049.3 | F94: =+'Հավելված N 4'!D62 -> 25049.3
D95: =+'Հավելված N 4'!C63 -> «Կոթիի մսուր-մանկապարտեզ» ՀՈԱԿ | E95: =+F95 -> 29735.8 | F95: =+'Հավելված N 4'!D63 -> 29735.8
D96: =+'Հավելված N 4'!C64 -> «Սարիգյուղի մանկապարտեզ» ՀՈԱԿ | E96: =+F96 -> 45143 | F96: =+'Հավելված N 4'!D64 -> 45143
D97: =+'Հավելված N 4'!C65 -> «Բերդավանի մսուր-մանկապարտեզ» ՀՈԱԿ | E97: =+F97 -> 41663.6 | F97: =+'Հավելված N 4'!D65 -> 41663.6
D98: ՀՀ կառավարություն | E98: 0 | F98: -70578.4
B99: 1236 | C99: 32003 | D99: Հանրակրթական դպրոցների նոր շենքերի կառուցում | E99: =+E101+E104 -> 1244059.8 | F99: =+F101+F104 -> -3500000
D100: այդ թվում` ըստ կատարողների
D101: ՀՀ կրթության, գիտության, մշակույթի և սպորտի նախարարություն | E101: =+E103 -> 4244059.8 | F101: =+F103 -> 500000
D102: այդ թվում՝ ըստ ուղղությունների
D103: Հանրակրթական դպրոցների նոր շենքերի կառուցում | E103: =+F103+3744059.8 -> 4244059.8 | F103: 500000
...

Sheet Հավելված N 6
G1: Հավելված N 6
G2: ՀՀ կառավարության 2026 թվականի
G3: ______________ ի ___Ն որոշման
A6: «ՀԱՅԱՍՏԱՆԻ ՀԱՆՐԱՊԵՏՈՒԹՅԱՆ 2026 ԹՎԱԿԱՆԻ ՊԵՏԱԿԱՆ ԲՅՈՒՋԵԻ ՄԱՍԻՆ» ՕՐԵՆՔԻ N 1 ՀԱՎԵԼՎԱԾԻ N 5 ԱՂՅՈՒՍԱԿՈՒՄ ԵՎ ՀԱՅԱՍՏԱՆԻ ՀԱՆՐԱՊԵՏՈՒԹՅԱՆ ԿԱՌԱՎԱՐՈՒԹՅԱՆ 2025 ԹՎԱԿԱՆԻ ԴԵԿՏԵՄԲԵՐԻ 25-Ի N 1910-Ն ՈՐՈՇՄԱՆ N 5 ՀԱՎԵԼՎԱԾԻ N 4 ԱՂՅՈՒՍԱԿՈՒՄ ԿԱՏԱՐՎՈՂ ՓՈՓՈԽՈՒԹՅՈՒՆԸ ԵՎ ԼՐԱՑՈՒՄԸ
I8: հազ. դրամներով
A9: Ծրագրային դասիչը | C9: Բյուջետային հատկացումների գլխավոր կարգադրիչների, ծրագրերի, միջոցառումների և միջոցառումները կատարող պետական մարմինների անվանումները | D9: Ցուցանիշների փոփոխությունը (ավելացումները նշված են դրական նշանով, իսկ նվազեցումները փակագծերում)
D10: Ինն ամիս | G10: Տարի
D11: Ընդամենը | E11: այդ թվում` | G11: Ընդամենը | H11: այդ թվում`
A12: Ծրագիր | B12: Միջոցառում | E12: Դրամաշնորհային միջոցներ | F12: Համաֆինան սավորում | H12: Դրամաշնորհային միջոցներ | I12: Համաֆինան սավորում
C13: ԸՆԴԱՄԵՆԸ | D13: =+E13+F13 -> 0 | E13: =+E15 -> 0 | F13: =+F15 -> 0 | G13: =+H13+I13 -> 0 | H13: =+H15 -> 0 | I13: =+I15 -> 0
C14: այդ թվում`
C15: ՈՉ ՖԻՆԱՆՍԱԿԱՆ ԱԿՏԻՎՆԵՐԻ ԳԾՈՎ ԾԱԽՍԵՐ | D15: =+E15+F15 -> 0 | E15: =+E16 -> 0 | F15: =+F16 -> 0 | G15: =+H15+I15 -> 0 | H15: =+H16 -> 0 | I15: =+I16 -> 0
C16: ՀՀ կրթության, գիտության, մշակույթի և սպորտի նախարարություն | D16: =+E16+F16 -> 0 | E16: =+E18 -> 0 | F16: =+F18 -> 0 | G16: =+H16+I16 -> 0 | H16: =+H18 -> 0 | I16: =+I18 -> 0
C17: այդ թվում`
A18: 1189 | C18: Դպրոցների սեյսմիկ անվտանգության մակարդակի բարձրացման ծրագիր | D18: =+E18+F18 -> 0 | E18: =+E20+E31 -> 0 | F18: =+F20+F31 -> 0 | G18: =+H18+I18 -> 0 | H18: =+H20+H31 -> 0 | I18: =+I20+I31 -> 0
C19: այդ թվում`
B20: 11003 | C20: Բարգավաճ և դիմակայուն Ասիայի և Խաղաղ օվկիանոսի Ճապոնիայի հիմնադրամի աջակցությամբ դպրոցների շենքային ապահովվածության բարելավման դրամաշնորհային ծրագրի կառավարում | D20: =+E20+F20 -> 41967.7 | E20: =+E22 -> 31000.7 | F20: =+F22 -> 10967 | G20: =+H20+I20 -> 41967.7 | H20: =+H22 -> 31000.7 | I20: =+I22 -> 10967
C21: այդ թվում` ըստ կատարողների
C22: ՀՀ տարածքային կառավարման և ենթակառուցվածքների նախարարություն | D22: =+E22+F22 -> 41967.7 | E22: =+E24 -> 31000.7 | F22: =+F24 -> 10967 | G22: =+H22+I22 -> 41967.7 | H22: =+H24 -> 31000.7 | I22: =+I24 -> 10967
C23: այդ թվում` բյուջետային ծախսերի տնտեսագիտական դասակարգման հոդվածներ
C24: ԸՆԴԱՄԵՆԸ ԾԱԽՍԵՐ | D24: =+E24+F24 -> 41967.7 | E24: =+E25 -> 31000.7 | F24: =+F25 -> 10967 | G24: =+H24+I24 -> 41967.7 | H24: =+H25 -> 31000.7 | I24: =+I25 -> 10967
C25: ԸՆԹԱՑԻԿ ԾԱԽՍԵՐ | D25: =+E25+F25 -> 41967.7 | E25: =+E26+E29 -> 31000.7 | F25: =+F26+F29 -> 10967 | G25: =+H25+I25 -> 41967.7 | H25: =+H26+H29 -> 31000.7 | I25: =+I26+I29 -> 10967
C26: ԾԱՌԱՅՈՒԹՅՈՒՆՆԵՐԻ ԵՎ ԱՊՐԱՆՔՆԵՐԻ ՁԵՌՔԲԵՐՈՒՄ | D26: =+E26+F26 -> 18406 | E26: =+E27 -> 15332.2 | F26: =+F27 -> 3073.8 | G26: =+H26+I26 -> 18406 | H26: =+H27 -> 15332.2 | I26: =+I27 -> 3073.8
C27: Ծառայողական գործուղումների գծով ծախսեր | D27: =+E27+F27 -> 18406 | E27: =+E28 -> 15332.2 | F27: =+F28 -> 3073.8 | G27: =+H27+I27 -> 18406 | H27: =+H28 -> 15332.2 | I27: =+I28 -> 3073.8
C28: - Արտասահմանյան գործուղումների գծով ծախսեր | D28: =SUM(E28:F28) -> 18406 | E28: =+H28 -> 15332.2 | F28: =+I28 -> 3073.8 | G28: =SUM(H28:I28) -> 18406 | H28: 15332.2 | I28: 3073.8
C29: ԱՅԼ ԾԱԽՍԵՐ | D29: =+E29+F29 -> 23561.7 | E29: =+E30 -> 15668.5 | F29: =+F30 -> 7893.2 | G29: =+H29+I29 -> 23561.7 | H29: =+H30 -> 15668.5 | I29: =+I30 -> 7893.2
C30: - Այլ ծախսեր | D30: =SUM(E30:F30) -> 23561.7 | E30: =+H30 -> 15668.5 | F30: =+I30 -> 7893.2 | G30: =SUM(H30:I30) -> 23561.7 | H30: 15668.5 | I30: 7893.2
B31: 12004 | C31: Բարգավաճ և դիմակայուն Ասիայի և Խաղաղ օվկիանոսի Ճապոնիայի հիմնադրամի աջակցությամբ դպրոցների շենքային ապահովվածության բարելավում | D31: =+E31+F31 -> -41967.7 | E31: =+E33 -> -31000.7 | F31: =+F33 -> -10967 | G31: =+H31+I31 -> -41967.7 | H31: =+H33 -> -31000.7 | I31: =+I33 -> -10967
C32: այդ թվում` ըստ կատարողների
C33: ՀՀ տարածքային կառավարման և ենթակառուցվածքների նախարարություն | D33: =+E33+F33 -> -41967.7 | E33: =+E35 -> -31000.7 | F33: =+F35 -> -10967 | G33: =+H33+I33 -> -41967.7 | H33: =+H35 -> -31000.7 | I33: =+I35 -> -10967
C34: այդ թվում` բյուջետային ծախսերի տնտեսագիտական դասակարգման հոդվածներ
C35: ԸՆԴԱՄԵՆԸ ԾԱԽՍԵՐ | D35: =+E35+F35 -> -41967.7 | E35: =+E36 -> -31000.7 | F35: =+F36 -> -10967 | G35: =+H35+I35 -> -41967.7 | H35: =+H36 -> -31000.7 | I35: =+I36 -> -10967
C36: ՈՉ ՖԻՆԱՆՍԱԿԱՆ ԱԿՏԻՎՆԵՐԻ ԳԾՈՎ ԾԱԽՍԵՐ | D36: =+E36+F36 -> -41967.7 | E36: =+E37 -> -31000.7 | F36: =+F37 -> -10967 | G36: =+H36+I36 -> -41967.7 | H36: =+H37 -> -31000.7 | I36: =+I37 -> -10967
C37: ՀԻՄՆԱԿԱՆ ՄԻՋՈՑՆԵՐ | D37: =+E37+F37 -> -41967.7 | E37: =+E38+E40 -> -31000.7 | F37: =+F38+F40 -> -10967 | G37: =+H37+I37 -> -41967.7 | H37: =+H38+H40 -> -31000.7 | I37: =+I38+I40 -> -10967
C38: ՇԵՆՔԵՐ ԵՎ ՇԻՆՈՒԹՅՈՒՆՆԵՐ | D38: =+E38+F38 -> -56265.7 | E38: =+E39 -> -31000.7 | F38: =+F39 -> -25265 | G38: =+H38+I38 -> -56265.7 | H38: =+H39 -> -31000.7 | I38: =+I39 -> -25265
C39: - Շենքերի և շինությունների շինարարություն | D39: =SUM(E39:F39) -> -56265.7 | E39: =+H39 -> -31000.7 | F39: =+I39 -> -25265 | G39: =SUM(H39:I39) -> -56265.7 | H39: -31000.7 | I39: =-10967-14298 -> -25265
C40: ԱՅԼ ՀԻՄՆԱԿԱՆ ՄԻՋՈՑՆԵՐ | D40: =+E40+F40 -> 14298 | E40: =+E41 -> 0 | F40: =+F41 -> 14298 | G40: =+H40+I40 -> 14298 | H40: =+H41 -> 0 | I40: =+I41 -> 14298
C41: - Նախագծահետազոտական ծախսեր | D41: =SUM(E41:F41) -> 14298 | E41: =+H41 -> 0 | F41: =+I41 -> 14298 | G41: =SUM(H41:I41) -> 14298 | H41: 0 | I41: 14298

Sheet Հավելված N 7
I1: Հավելված N 7
I2: ՀՀ կառավարության 2026 թվականի
I3: ______________ ի ___Ն որոշման
A6: ՀԱՅԱՍՏԱՆԻ ՀԱՆՐԱՊԵՏՈՒԹՅԱՆ ԿԱՌԱՎԱՐՈՒԹՅԱՆ 2025 ԹՎԱԿԱՆԻ ԴԵԿՏԵՄԲԵՐԻ 25-Ի N 1910-Ն ՈՐՈՇՄԱՆ N 9 ՀԱՎԵԼՎԱԾՈՒՄ ԿԱՏԱՐՎՈՂ ՓՈՓՈԽՈՒԹՅՈՒՆՆԵՐԸ ԵՎ ԼՐԱՑՈՒՄՆԵՐԸ
J8: հազար դրամներոով
A9: ԲԳԿ | B9: Ծրագիր | D9: Միջոցառում | H9: Իրականացնողը/ ակտիվն օգտագործողը/ շահառուի ընտրության չափորոշիչը | I9: Արդյունքային չափորոշիչը | J9: Ցուցանիշների փոփոխությունը (ավելացումները նշված են դրական նշանով, իսկ նվազեցումները՝ փակագծերում)
B10: Դասիչը | C10: Անվանումը | D10: Դասիչը | E10: Անվանումը | F10: Նկարագրությունը | G10: Տեսակը | J10: Ինն ամիս | K10: Տարի
A11: ԸՆԴԱՄԵՆԸ | J11: =+J13 -> 8053080.1 | K11: =+K13 -> 0
A12: այդ թվում՝
A13: ՀՀ ԿՐԹՈՒԹՅԱՆ, ԳԻՏՈՒԹՅԱՆ, ՄՇԱԿՈԻՅԹԻ ԵՎ ՍՊՈՐՏԻ ՆԱԽԱՐԱՐՈՒԹՅՈՒՆ | J13: =+J14+J27 -> 8053080.1 | K13: =+K14+K27 -> 0
B14: 1189 | C14: Դպրոցների սեյսմիկ անվտանգության մակարդակի բարձրացման ծրագիր | J14: =+J15+J21 -> 0 | K14: =+K15+K21 -> 0
D15: 1189 - 11003 | E15: Բարգավաճ և դիմակայուն Ասիայի և Խաղաղ օվկիանոսի Ճապոնիայի հիմնադրամի աջակցությամբ դպրոցների շենքային ապահովվածության բարելավման դրամաշնորհային ծրագրի կառավարում | J15: =+'Հավելված N 2'!G17 -> 41967.7 | K15: =+'Հավելված N 2'!H17 -> 41967.7
F16: Բարգավաճ և դիմակայուն Ասիայի և Խաղաղ օվկիանոսի Ճապոնիայի հիմնադրամի աջակցությամբ դպրոցների շենքային ապահովվածության բարելավման դրամաշնորհային ծրագրի համակարգում և ղեկավարում
G17: Ծառայությունների մատուցում
H18: Ծառայությունը մատուցողի անվանումը` Մասնագիտացված միավոր
I19: Խորհրդատվական պայմանագրերի քանակ, հատ | K19: 1
I20: Գործուղվող աշխատակիցների քանակ, մարդ | K20: 10
D21: 1189 - 12004 | E21: Բարգավաճ և դիմակայուն Ասիայի և Խաղաղ օվկիանոսի Ճապոնիայի հիմնադրամի աջակցությամբ դպրոցների շենքային ապահովվածության բարելավում | J21: =+'Հավելված N 2'!G18 -> -41967.7 | K21: =+'Հավելված N 2'!H18 -> -41967.7
F22: Սեյսմիկ անվտանգության բարելավման» ծրագրի շրջանակներում Բարգավաճ և դիմակայուն Ասիայի և Խաղաղ օվկիանոսի Ճապոնիայի հիմնադրամի աջակցությամբ դպրոցների նոր շենքերի կառուցում, առկա շենքերի վերակառուցում, հիմնանորոգում
G23: Տրանսֆերտների տրամադրում
H24: Շահառուների ընտրության չափորոշիչները` Մասնագիտացված կազմակերպություն
I25: Նախագծանախահաշվային փաստաթղթերի քանակ, հատ | K25: 1
B27: 1236 | C27: Հանրակրթական և նախադպրոցական հաստատությունների հիմնում, կառուցում, բարելավում | J27: =J28+J32+J37+J41+J48+J52+J56 -> 8053080.1 | K27: =K28+K32+K37+K41+K48+K52+K56 -> 0
D28: 1236 - 11001 | E28: Հանրակրթական և նախադպրոցական հաստատությունների կառուցման, վերակառուցման, հիմնանորոգման ծրագրերի համակարգման և մոնիտորինգի ծառայություններ | J28: =+'Հավելված N 2'!G20 -> -5854.8 | K28: =+'Հավելված N 2'!H20 -> -5854.8
F29: Հանրակրթական և նախադպրոցական հաստատություններիկառուցման, վերակառուցման, հիմնանորոգման ծրագրերիհամակարգման և մոնիտորինգի ծառայությունների ապահովում
G30: Ծառայությունների մատուցում
H31: Ծառայությունը մատուցողի անվանումը` Մասնագիտացված միավոր
D32: 1236 - 31001 | E32: Հանրակրթական և նախադպրոցական հաստատությունների կառուցման, վերակառուցման, հիմնանորոգման ծրագրերի համակարգման շրջանակներում Հայաստանի տարածքային զարգացման հիմնադրամի կարողությունների զարգացում և տեխնիկական հագեցվածության ապահովում | J32: =+'Հավելված N 2'!G21 -> 5854.8 | K32: =+'Հավելված N 2'!H21 -> 5854.8
F33: Հայաստանի տարածքային զարգացման հիմնադրամի աշխատանքային պայմանների բարելավման համար վարչական սարքավորումների ձեռքբերում
G34: Պետական մարմինների կողմից օգտագործվող ոչ ֆինանսական ակտիվների հետ գործառնություններ
H35: Միջոցառումն իրականացնողի անվանումը՝ Մասնագիտացված միավոր
I36: Համակարգչային սարքավորումների քանակ, հատ | K36: =+SUM('Հավելված N 9'!H21:H24) -> 49
D37: 1236 - 32001 | E37: Մանկապարտեզների նոր շենքերի կառուցում | J37: =+'Հավելված N 2'!G22 -> -533692.8 | K37: =+'Հավելված N 2'!H22 -> -533692.8
F38: Նախադպրոցական կրթության հասանելիության ապահովման նպատակով՛ մանկապարտեզների հիմնում, նոր շենքերի (մասնաշենքերի), ներառյալ՛ ,Մոդուլայինե տիպի շենքերի կառուցում և նախագծում
G39: Այլ պետական կազմակերպությունների կողմից օգտագործվող ոչ ֆինանսական ակտիվների հետ գործառնություններ
H40: Ակտիվն օգտագործող կազմակերպության անվանումը` Նախադպրոցական կրթություն իրականացնող ուսումնական հաստատություններ
D41: 1236 - 32002 | E41: Մանկապարտեզների շենքերի վերակառուցում, հիմնանորոգում | J41: =+'Հավելված N 2'!G23 -> 4571599.2 | K41: =+'Հավելված N 2'!H23 -> 5533692.8
F42: Նախադպրոցական կրթության հասանելիության ապահովման նպատակով՛ մանկապարտեզների շենքերի (մասնաշենքերի), վերակառուցում, հիմնանորոգում և նախագծում
G43: Այլ պետական կազմակերպությունների կողմից օգտագործվող ոչ ֆինանսական ակտիվների հետ գործառնություններ
H44: Ակտիվն օգտագործող կազմակերպության անվանումը` Նախադպրոցական կրթություն իրականացնող ուսումնական հաստատություններ
I45: Հիմնանորոգվող / վերանորոգվող մանկապարտեզների քանակ, հատ | K45: =+'Հավելված N 8'!K94+'Հավելված N 8'!K103+'Հավելված N 8'!K112+'Հավելված N 8'!K121+'Հավելված N 8'!K152 -> 8
I46: Շինարարությունն ավարտված մանկապարտեզների քանակ, որոնց մասով կատարվում են լրացուցիչ ներդրումներ, հատ | K46: =+'Հավելված N 8'!K28+'Հավելված N 8'!K122+'Հավելված N 8'!K153+'Հավելված N 8'!K169 -> 18
I47: Մանկապարտեզների վերանորոգման/հիմնանորոգման համար անհրաժեշտ տեխնիկական վիճակի զննության, չափագրության և նախահաշվային փաստաթղթերի քանակ, հատ | K47: =+'Հավելված N 8'!K95+'Հավելված N 8'!K104+'Հավելված N 8'!K113+'Հավելված N 8'!K123+'Հավելված N 8'!K154 -> 8
D48: 1236 - 32003 | E48: Հանրակրթական դպրոցների նոր շենքերի կառուցում | J48: =+'Հավելված N 2'!G24 -> 1244059.8 | K48: =+'Հավելված N 2'!H24 -> -3500000
F49: ՀՀ մարզերում կրթական որակյալ ծառայությունների հասանելիության ապահովման ծրագրի շրջանակներում հանրակրթական և նախադպրոցական կրթության հասանելիության ապահովման նպատակով կրթական կենտրոնների կառուցում
G50: Այլ պետական կազմակերպությունների կողմից օգտագործվող ոչ ֆինանսական ակտիվների հետ գործառնություններ
H51: Ակտիվն օգտագործող կազմակերպության անվանումը` Հանրակրթական դպրոցներ
D52: 1236 - 32004 | E52: Հանրակրթական դպրոցների շենքերի վերակառուցում, հիմնանորոգում | J52: =+'Հավելված N 2'!G25 -> -1900000 | K52: =+'Հավելված N 2'!H25 -> -4500000
F53: Դպրոցական պարտադիր կրթության հասանելիության ապահովման նպատակով՛ հանրակրթական դպրոցների շենքերի (մասնաշենքերի), վերակառուցում, հիմնանորոգում և նախագծում
G54: Այլ պետական կազմակերպությունների կողմից օգտագործվող ոչ ֆինանսական ակտիվների հետ գործառնություններ
H55: Ակտիվն օգտագործող կազմակերպության անվանումը` Հանրակրթական դպրոցներ
D56: 1236 - 32005 | E56: Կրթահամալիրների կառուցում | J56: =+'Հավելված N 2'!G26 -> 4671113.9 | K56: =+'Հավելված N 2'!H26 -> 3000000
F57: ՀՀ մարզերում կրթական որակյալ ծառայությունների հասանելիության ապահովման ծրագրի շրջանակներում հանրակրթական և նախադպրոցական կրթության հասանելիության ապահովման նպատակով կրթական կենտրոնների կառուցում
G58: Այլ պետական կազմակերպությունների կողմից օգտագործվող ոչ ֆինանսական ակտիվների հետ գործառնություններ
H59: Ակտիվն օգտագործող կազմակերպության անվանումը` Ստեղծվող կրթահամալիրներ
A61: ՀՀ ԿԱՌԱՎԱՐՈՒԹՅՈՒՆ | J61: =+J62 -> 0 | K61: =+K62 -> 0
B62: 1139 | C62: ՀՀ կառավարության պահուստային ֆոնդ | J62: =+J63+J67 -> 0 | K62: =+K63+K67 -> 0
D63: 1139 - 11001 | E63: ՀՀ կառավարության պահուստային ֆոնդ | J63: =+'Հավելված N 2'!G30 -> 10967 | K63: =+'Հավելված N 2'!H30 -> 10967
F64: ՀՀ պետական բյուջեում նախատեսված ելքերի լրացուցիչ ֆինանսավորման, պետական բյուջեում չկանխատեսված ելքերի, ինչպես նաև բյուջետային երաշխիքների ապահովման ելքերի ֆինանսավորման ապահովում
G65: Ծառայությունների մատուցում
H66: Ծառայությունը մատուցողի անվանումը` ՀՀ կառավարություն
D67: 1139 - 11001 | E67: ՀՀ կառավարության պահուստային ֆոնդ | J67: =+'Հավելված N 2'!G31 -> -10967 | K67: =+'Հավելված N 2'!H31 -> -10967
F68: ՀՀ պետական բյուջեում նախատեսված ելքերի լրացուցիչ ֆինանսավորման, պետական բյուջեում չկանխատեսված ելքերի, ինչպես նաև բյուջետային երաշխիքների ապահովման ելքերի ֆինանսավորման ապահովում
G69: Ծառայությունների մատուցում
H70: Ծառայությունը մատուցողի անվանումը` ՀՀ կառավարություն

Sheet Հավելված N 8
I1: Հավելված N 8
I2: ՀՀ կառավարության 2026 թվականի
I3: ______________ ի ___Ն որոշման
A6: ՀԱՅԱՍՏԱՆԻ ՀԱՆՐԱՊԵՏՈՒԹՅԱՆ ԿԱՌԱՎԱՐՈՒԹՅԱՆ 2025 ԹՎԱԿԱՆԻ ԴԵԿՏԵՄԲԵՐԻ 25-Ի N 1910-Ն ՈՐՈՇՄԱՆ N 9 ՀԱՎԵԼՎԱԾՈՒՄ ԿԱՏԱՐՎՈՂ ՓՈՓՈԽՈՒԹՅՈՒՆՆԵՐԸ ԵՎ ԼՐԱՑՈՒՄՆԵՐԸ
J8: հազար դրամներոով
A9: ԲՍԿ | B9: Ծրագիր | D9: Միջոցառում | H9: Իրականացնողը/ ակտիվն օգտագործողը/ շահառուի ընտրության չափորոշիչը | I9: Արդյունքային չափորոշիչը | J9: Ցուցանիշների փոփոխությունը (ավելացումները նշված են դրական նշանով, իսկ նվազեցումները՝ փակագծերում)
B10: Դասիչը | C10: Անվանումը | D10: Դասիչը | E10: Անվանումը | F10: Նկարագրությունը | G10: Տեսակը | J10: Ինն ամիս | K10: Տարի
A11: ԸՆԴԱՄԵՆԸ | J11: =+J13+J42+J56+J88+J67+J97+J106+J115+J125+J132+J139+J146+J156+J163 -> 8053080.1 | K11: =+K13+K42+K56+K88+K67+K97+K106+K115+K125+K132+K139+K146+K156+K163 -> 0
A12: այդ թվում՝
A13: ՀՀ ԿՐԹՈՒԹՅԱՆ, ԳԻՏՈՒԹՅԱՆ, ՄՇԱԿՈԻՅԹԻ ԵՎ ՍՊՈՐՏԻ ՆԱԽԱՐԱՐՈՒԹՅՈՒՆ | J13: =+J14 -> 10471172 | K13: =+K14 -> 3555998
B14: 1236 | C14: Հանրակրթական և նախադպրոցական հաստատությունների հիմնում, կառուցում, բարելավում | J14: =+J15+J19+J24+J29+J33+J37 -> 10471172 | K14: =+K15+K19+K24+K29+K33+K37 -> 3555998
D15: 1236 - 11001 | E15: Հանրակրթական և նախադպրոցական հաստատությունների կառուցման, վերակառուցման, հիմնանորոգման ծրագրերի համակարգման և մոնիտորինգի ծառայություններ | J15: =+'Հավելված N 3'!G163 -> -5854.8 | K15: =+'Հավելված N 3'!H163 -> -5854.8
F16: Հանրակրթական և նախադպրոցական հաստատություններիկառուցման, վերակառուցման, հիմնանորոգման ծրագրերիհամակարգման և մոնիտորինգի ծառայությունների ապահովում
G17: Ծառայությունների մատուցում
H18: Ծառայությունը մատուցողի անվանումը` Մասնագիտացված միավոր
D19: 1236 - 31001 | E19: Հանրակրթական և նախադպրոցական հաստատությունների կառուցման, վերակառուցման, հիմնանորոգման ծրագրերի համակարգման շրջանակներում Հայաստանի տարածքային զարգացման հիմնադրամի կարողությունների զարգացում և տեխնիկական հագեցվածության ապահովում | J19: =+'Հավելված N 3'!G171 -> 5854.8 | K19: =+'Հավելված N 3'!H171 -> 5854.8
F20: Հայաստանի տարածքային զարգացման հիմնադրամի աշխատանքային պայմանների բարելավման համար վարչական սարքավորումների ձեռքբերում
G21: Պետական մարմինների կողմից օգտագործվող ոչ ֆինանսական ակտիվների հետ գործառնություններ
H22: Միջոցառումն իրականացնողի անվանումը՝ Մասնագիտացված միավոր
I23: Համակարգչային սարքավորումների քանակ, հատ | K23: =+SUM('Հավելված N 9'!H9:H12) -> 6
D24: 1236 - 32002 | E24: Մանկապարտեզների շենքերի վերակառուցում, հիմնանորոգում | J24: =+'Հավելված N 3'!G37 -> 55998 | K24: =+'Հավելված N 3'!H37 -> 55998
F25: Նախադպրոցական կրթության հասանելիության ապահովման նպատակով՛ մանկապարտեզների շենքերի (մասնաշենքերի), վերակառուցում, հիմնանորոգում և նախագծում
G26: Այլ պետական կազմակերպությունների կողմից օգտագործվող ոչ ֆինանսական ակտիվների հետ գործառնություններ
H27: Ակտիվն օգտագործող կազմակերպության անվանումը` Նախադպրոցական կրթություն իրականացնող ուսումնական հաստատություններ
I28: Շինարարությունն ավարտված մանկապարտեզների քանակ, որոնց մասով կատարվում են լրացուցիչ ներդրումներ, հատ | K28: 1
D29: 1236 - 32003 | E29: Հանրակրթական դպրոցների նոր շենքերի կառուցում | J29: =+'Հավելված N 3'!G180 -> 4244059.8 | K29: =+'Հավելված N 3'!H180 -> 500000
F30: ՀՀ մարզերում կրթական որակյալ ծառայությունների հասանելիության ապահովման ծրագրի շրջանակներում հանրակրթական և նախադպրոցական կրթության հասանելիության ապահովման նպատակով կրթական կենտրոնների կառուցում
G31: Այլ պետական կազմակերպությունների կողմից օգտագործվող ոչ ֆինանսական ակտիվների հետ գործառնություններ
H32: Ակտիվն օգտագործող կազմակերպության անվանումը` Հանրակրթական դպրոցներ
D33: 1236 - 32004 | E33: Հանրակրթական դպրոցների շենքերի վերակառուցում, հիմնանորոգում | J33: =+'Հավելված N 3'!G196 -> 1500000 | K33: =+'Հավելված N 3'!H196 -> 0
F34: Դպրոցական պարտադիր կրթության հասանելիության ապահովման նպատակով՛ հանրակրթական դպրոցների շենքերի (մասնաշենքերի), վերակառուցում, հիմնանորոգում և նախագծում
G35: Այլ պետական կազմակերպությունների կողմից օգտագործվող ոչ ֆինանսական ակտիվների հետ գործառնություններ
H36: Ակտիվն օգտագործող կազմակերպության անվանումը` Հանրակրթական դպրոցներ
D37: 1236 - 32005 | E37: Կրթահամալիրների կառուցում | J37: =+'Հավելված N 3'!G212 -> 4671113.9 | K37: =+'Հավելված N 3'!H212 -> 3000000
F38: ՀՀ մարզերում կրթական որակյալ ծառայությունների հասանելիության ապահովման ծրագրի շրջանակներում հանրակրթական և նախադպրոցական կրթության հասանելիության ապահովման նպատակով կրթական կենտրոնների կառուցում
G39: Այլ պետական կազմակերպությունների կողմից օգտագործվող ոչ ֆինանսական ակտիվների հետ գործառնություններ
H40: Ակտիվն օգտագործող կազմակերպության անվանումը` Ստեղծվող կրթահամալիրներ
A42: ՀՀ ՏԱՐԱԾՔԱՅԻՆ ԿԱՌԱՎԱՐՄԱՆ ԵՎ ԵՆԹԱԿԱՌՈՒՑՎԱԾՔՆԵՐԻ ՆԱԽԱՐԱՐՈՒԹՅՈՒՆ | J42: =+J43 -> 0 | K42: =+K43 -> 0
B43: 1189 | C43: Հանրակրթական և նախադպրոցական հաստատությունների հիմնում, կառուցում, բարելավում | J43: =+J44+J50 -> 0 | K43: =+K44+K50 -> 0
D44: 1189 - 11003 | E44: Բարգավաճ և դիմակայուն Ասիայի և Խաղաղ օվկիանոսի Ճապոնիայի հիմնադրամի աջակցությամբ դպրոցների շենքային ապահովվածության բարելավման դրամաշնորհային ծրագրի կառավարում | J44: =+'Հավելված N 3'!G229 -> 41967.7 | K44: =+'Հավելված N 3'!H229 -> 41967.7
F45: Բարգավաճ և դիմակայուն Ասիայի և Խաղաղ օվկիանոսի Ճապոնիայի հիմնադրամի աջակցությամբ դպրոցների շենքային ապահովվածության բարելավման դրամաշնորհային ծրագրի համակարգում և ղեկավարում
G46: Ծառայությունների մատուցում
H47: Ծառայությունը մատուցողի անվանումը` Մասնագիտացված միավոր
I48: Խորհրդատվական պայմանագրերի քանակ, հատ | K48: 1
I49: Գործուղվող աշխատակիցների քանակ, մարդ | K49: 10
D50: 1189 - 12004 | E50: Բարգավաճ և դիմակայուն Ասիայի և Խաղաղ օվկիանոսի Ճապոնիայի հիմնադրամի աջակցությամբ դպրոցների շենքային ապահովվածության բարելավում | J50: =+'Հավելված N 3'!G240 -> -41967.7 | K50: =+'Հավելված N 3'!H240 -> -41967.7
F51: Սեյսմիկ անվտանգության բարելավման» ծրագրի շրջանակներում Բարգավաճ և դիմակայուն Ասիայի և Խաղաղ օվկիանոսի Ճապոնիայի հիմնադրամի աջակցությամբ դպրոցների նոր շենքերի կառուցում, առկա շենքերի վերակառուցում, հիմնանորոգում
G52: Տրանսֆերտների տրամադրում
H53: Շահառուների ընտրության չափորոշիչները` Մասնագիտացված կազմակերպություն
I54: Նախագծանախահաշվային փաստաթղթերի քանակ, հատ | K54: 1
A56: ՀՀ ՔԱՂԱՔԱՇԻՆՈՒԹՅԱՆ ԿՈՄԻՏԵ | J56: =+J57 -> -6400000 | K56: =+K57 -> -8500000
B57: 1236 | C57: Հանրակրթական և նախադպրոցական հաստատությունների հիմնում, կառուցում, բարելավում | J57: =+J58+J62 -> -6400000 | K57: =+K58+K62 -> -8500000
D58: 1236 - 32003 | E58: Հանրակրթական դպրոցների նոր շենքերի կառուցում | J58: =+'Հավելված N 3'!G187 -> -3000000 | K58: =+'Հավելված N 3'!H187 -> -4000000
F59: ՀՀ մարզերում կրթական որակյալ ծառայությունների հասանելիության ապահովման ծրագրի շրջանակներում հանրակրթական և նախադպրոցական կրթության հասանելիության ապահովման նպատակով կրթական կենտրոնների կառուցում
G60: Այլ պետական կազմակերպությունների կողմից օգտագործվող ոչ ֆինանսական ակտիվների հետ գործառնություններ
H61: Ակտիվն օգտագործող կազմակերպության անվանումը` Հանրակրթական դպրոցներ
D62: 1236 - 32004 | E62: Հանրակրթական դպրոցների շենքերի վերակառուցում, հիմնանորոգում | J62: =+'Հավելված N 3'!G203 -> -3400000 | K62: =+'Հավելված N 3'!H203 -> -4500000
F63: Դպրոցական պարտադիր կրթության հասանելիության ապահովման նպատակով՛ հանրակրթական դպրոցների շենքերի (մասնաշենքերի), վերակառուցում, հիմնանորոգում և նախագծում
G64: Այլ պետական կազմակերպությունների կողմից օգտագործվող ոչ ֆինանսական ակտիվների հետ գործառնություններ
H65: Ակտիվն օգտագործող կազմակերպության անվանումը` Հանրակրթական դպրոցներ
A67: ՀՀ ԿԱՌԱՎԱՐՈՒԹՅՈՒՆ | J67: =+J68+J78 -> -533692.8 | K67: =+K68+K78 -> -604271.2
B68: 1139 | C68: ՀՀ կառավարության պահուստային ֆոնդ | J68: =+J69+J73 -> 0 | K68: =+K69+K73 -> 0
D69: 1139 - 11001 | E69: ՀՀ կառավարության պահուստային ֆոնդ | J69: =+'Հավելված N 3'!G263 -> 10967 | K69: =+'Հավելված N 3'!H263 -> 10967
F70: ՀՀ պետական բյուջեում նախատեսված ելքերի լրացուցիչ ֆինանսավորման, պետական բյուջեում չկանխատեսված ելքերի, ինչպես նաև բյուջետային երաշխիքների ապահովման ելքերի ֆինանսավորման ապահովում
G71: Ծառայությունների մատուցում
H72: Ծառայությունը մատուցողի անվանումը` ՀՀ կառավարություն
D73: 1139 - 11001 | E73: ՀՀ կառավարության պահուստային ֆոնդ | J73: =+'Հավելված N 3'!G269 -> -10967 | K73: =+'Հավելված N 3'!H269 -> -10967
F74: ՀՀ պետական բյուջեում նախատեսված ելքերի լրացուցիչ ֆինանսավորման, պետական բյուջեում չկանխատեսված ելքերի, ինչպես նաև բյուջետային երաշխիքների ապահովման ելքերի ֆինանսավորման ապահովում
G75: Ծառայությունների մատուցում
H76: Ծառայությունը մատուցողի անվանումը` ՀՀ կառավարություն
B78: 1236 | C78: Հանրակրթական և նախադպրոցական հաստատությունների հիմնում, կառուցում, բարելավում | J78: =+J79+J83 -> -533692.8 | K78: =+K79+K83 -> -604271.2
D79: 1236 - 32001 | E79: Մանկապարտեզների նոր շենքերի կառուցում | J79: =+'Հավելված N 3'!G28 -> -533692.8 | K79: =+'Հավելված N 3'!H28 -> -533692.8
F80: Նախադպրոցական կրթության հասանելիության ապահովման նպատակով՛ մանկապարտեզների հիմնում, նոր շենքերի (մասնաշենքերի), ներառյալ՛ ,Մոդուլայինե տիպի շենքերի կառուցում և նախագծում
G81: Այլ պետական կազմակերպությունների կողմից օգտագործվող ոչ ֆինանսական ակտիվների հետ գործառնություններ
H82: Ակտիվն օգտագործող կազմակերպության անվանումը` Նախադպրոցական կրթություն իրականացնող ուսումնական հաստատություններ
D83: 1236 - 32002 | E83: Մանկապարտեզների շենքերի վերակառուցում, հիմնանորոգում | J83: =+'Հավելված N 3'!G44 -> 0 | K83: =+'Հավելված N 3'!H44 -> -70578.4
F84: Նախադպրոցական կրթության հասանելիության ապահովման նպատակով՛ մանկապարտեզների շենքերի (մասնաշենքերի), վերակառուցում, հիմնանորոգում և նախագծում
G85: Այլ պետական կազմակերպությունների կողմից օգտագործվող ոչ ֆինանսական ակտիվների հետ գործառնություններ
H86: Ակտիվն օգտագործող կազմակերպության անվանումը` Նախադպրոցական կրթություն իրականացնող ուսումնական հաստատություններ
A88: ՀՀ ԱՐԱԳԱԾՈՏՆԻ ՄԱՐԶՊԵՏԻ ԱՇԽԱՏԱԿԱԶՄ | J88: =+J89 -> 402752.4 | K88: =+K89 -> 529938.7
B89: 1236 | C89: Հանրակրթական և նախադպրոցական հաստատությունների հիմնում, կառուցում, բարելավում | J89: =+J90 -> 402752.4 | K89: =+K90 -> 529938.7
D90: 1236 - 32002 | E90: Մանկապարտեզների շենքերի վերակառուցում, հիմնանորոգում | J90: =+'Հավելված N 3'!G51 -> 402752.4 | K90: =+'Հավելված N 3'!H51 -> 529938.7
F91: Նախադպրոցական կրթության հասանելիության ապահովման նպատակով՛ մանկապարտեզների շենքերի (մասնաշենքերի), վերակառուցում, հիմնանորոգում և նախագծում
G92: Այլ պետական կազմակերպությունների կողմից օգտագործվող ոչ ֆինանսական ակտիվների հետ գործառնություններ
H93: Ակտիվն օգտագործող կազմակերպության անվանումը` Նախադպրոցական կրթություն իրականացնող ուսումնական հաստատություններ
I94: Հիմնանորոգվող / վերանորոգվող մանկապարտեզների քանակ, հատ | K94: 1
I95: Մանկապարտեզների վերանորոգման/հիմնանորոգման համար անհրաժեշտ տեխնիկական վիճակի զննության, չափագրության և նախահաշվային փաստաթղթերի քանակ, հատ | K95: 1
A97: ՀՀ ԱՐԱՐԱՏԻ ՄԱՐԶՊԵՏԻ ԱՇԽԱՏԱԿԱԶՄ | J97: =+J98 -> 811951.9 | K97: =+K98 -> 1058477.3
B98: 1236 | C98: Հանրակրթական և նախադպրոցական հաստատությունների հիմնում, կառուցում, բարելավում | J98: =+J99 -> 811951.9 | K98: =+K99 -> 1058477.3
D99: 1236 - 32002 | E99: Մանկապարտեզների շենքերի վերակառուցում, հիմնանորոգում | J99: =+'Հավելված N 3'!G62 -> 811951.9 | K99: =+'Հավելված N 3'!H62 -> 1058477.3
F100: Նախադպրոցական կրթության հասանելիության ապահովման նպատակով՛ մանկապարտեզների շենքերի (մասնաշենքերի), վերակառուցում, հիմնանորոգում և նախագծում
G101: Այլ պետական կազմակերպությունների կողմից օգտագործվող ոչ ֆինանսական ակտիվների հետ գործառնություններ
H102: Ակտիվն օգտագործող կազմակերպության անվանումը` Նախադպրոցական կրթություն իրականացնող ուսումնական հաստատություններ
I103: Հիմնանորոգվող / վերանորոգվող մանկապարտեզների քանակ, հատ | K103: 2
I104: Մանկապարտեզների վերանորոգման/հիմնանորոգման համար անհրաժեշտ տեխնիկական վիճակի զննության, չափագրության և նախահաշվային փաստաթղթերի քանակ, հատ | K104: 2
A106: ՀՀ ԱՐՄԱՎԻՐԻ ՄԱՐԶՊԵՏԻ ԱՇԽԱՏԱԿԱԶՄ | J106: =+J107 -> 127148.3 | K106: =+K107 -> 180231.2
B107: 1236 | C107: Հանրակրթական և նախադպրոցական հաստատությունների հիմնում, կառուցում, բարելավում | J107: =+J108 -> 127148.3 | K107: =+K108 -> 180231.2
D108: 1236 - 32002 | E108: Մանկապարտեզների շենքերի վերակառուցում, հիմնանորոգում | J108: =+'Հավելված N 3'!G73 -> 127148.3 | K108: =+'Հավելված N 3'!H73 -> 180231.2
F109: Նախադպրոցական կրթության հասանելիության ապահովման նպատակով՛ մանկապարտեզների շենքերի (մասնաշենքերի), վերակառուցում, հիմնանորոգում և նախագծում
G110: Այլ պետական կազմակերպությունների կողմից օգտագործվող ոչ ֆինանսական ակտիվների հետ գործառնություններ
...

Sheet Հավելված N 9
H1: Հավելված N 9
H2: ՀՀ կառավարության 2026 թվականի
H3: ______________ ի ___Ն որոշման
A6: ՀԱՅԱՍՏԱՆԻ ՀԱՆՐԱՊԵՏՈՒԹՅԱՆ ԿԱՌԱՎԱՐՈՒԹՅԱՆ 2025 ԹՎԱԿԱՆԻ ԴԵԿՏԵՄԲԵՐԻ 25-Ի N 1910-Ն N 10 ՀԱՎԵԼՎԱԾՈՒՄ ԿԱՏԱՐՎՈՂ ՓՈՓՈԽՈՒԹՅՈՒՆՆԵՐԸ ԵՎ ԼՐԱՑՈՒՄՆԵՐԸ
A10: Կոդը | B10: Անվանումը | E10: Գնման ձևը | F10: Չափման միավորը | G10: Միավորի գինը | H10: Ցուցանիշների փոփոխությունը (ավելացումները նշված են դրական նշանով, իսկ նվազեցումները՝ փակագծերում)
H11: Քանակը | I11: Գումարը (հազար դրամ)
A12: 1 | B12: 2 | E12: 3 | F12: 4 | G12: 5 | H12: 6 | I12: 7
A13: ՀՀ կրթության, գիտության, մշակույթի և սպորտի նախարարություն | I13: =+I14+I18 -> 61852.8
A14: Բաժին N 09 | B14: Խումբ N 01 | C14: Դաս N 01 | D14: Նախադպրոցական կրթություն | I14: =+I15 -> 55998
A15: 1236-32002 | B15: Մանկապարտեզների շենքերի վերակառուցում, հիմնանորոգում | I15: =+I16 -> 55998
B16: ՄԱՍ II. ԱՇԽԱՏԱՆՔՆԵՐ | I16: =SUM(I17:I17) -> 55998
A17: 45211228-501 | B17: շինարարական աշխատանքներ մանկապարտեզների համար | E17: ԳՀ | F17: դրամ | G17: 55998000 | H17: 1 | I17: =+ROUNDUP(G17*H17/1000,1) -> 55998 | J17: Վանաձորի 11
A18: Բաժին N 09 | B18: Խումբ N 02 | C18: Դաս N 01 | D18: Հիմնական ընդհանուր կրթություն | I18: =+I19 -> 5854.8
A19: 1236-31001 | B19: Հանրակրթական և նախադպրոցական հաստատությունների կառուցման, վերակառուցման, հիմնանորոգման ծրագրերի համակարգման շրջանակներում Հայաստանի տարածքային զարգացման հիմնադրամի կարողությունների զարգացում և տեխնիկական հագեցվածության ապահովում | I19: =+I20 -> 5854.8
B20: ՄԱՍ I. ԱՊՐԱՆՔՆԵՐ | I20: =SUM(I21:I24) -> 5854.8
A21: 30211220-501 | B21: սեղանի համակարգիչներ | C21: համակարգչային սարքավորումներ | D21: համակարգչային սարքավորումներ | E21: ԷԱՃ | F21: հատ | G21: 295920 | H21: 15 | I21: =+ROUNDUP(G21*H21/1000,1) -> 4438.8
A22: 30237490-501 | B22: համակարգչային մոնիտոր | C22: տպիչ սարք, բազմաֆունկցիոնալ, A4, 35 էջ/րոպե արագության | D22: տպիչ սարք, բազմաֆունկցիոնալ, A4, 35 էջ/րոպե արագության | E22: ԷԱՃ | F22: հատ | G22: 35520 | H22: 15 | I22: =+ROUNDUP(G22*H22/1000,1) -> 532.8
A23: 31151120-501 | B23: անխափան սնուցման աղբյուրներ | E23: ԷԱՃ | F23: հատ | G23: 22560 | H23: 15 | I23: =+ROUNDUP(G23*H23/1000,1) -> 338.4
A24: 30239150-501 | B24: տպիչ սարք, բազմաֆունկցիոնալ, A4, 35 էջ/րոպե արագության | E24: ԷԱՃ | F24: հատ | G24: 136200 | H24: 4 | I24: =+ROUNDUP(G24*H24/1000,1) -> 544.8
A26: ՀՀ Արագածոտնի մարզպետի աշխատակազմ | I26: =+I27 -> 156440.7
A27: Բաժին N 09 | B27: Խումբ N 01 | C27: Դաս N 01 | D27: Նախադպրոցական կրթություն | I27: =+I28 -> 156440.7
A28: 1236-32002 | B28: Մանկապարտեզների շենքերի վերակառուցում, հիմնանորոգում | I28: =+I29+I33 -> 156440.7
B29: ՄԱՍ II. ԱՇԽԱՏԱՆՔՆԵՐ | I29: =SUM(I30:I32) -> 144630
A30: 45461100-501 | B30: շենքերի, շինությունների ընթացիկ նորոգման աշխատանքներ | E30: ՀԲՄ | F30: դրամ | I30: 21564 | J30: Աշտարակի 5
A31: 45461100-502 | B31: շենքերի, շինությունների ընթացիկ նորոգման աշխատանքներ | E31: ՀԲՄ | F31: դրամ | I31: 98496 | J31: Աշտարակի 1
A32: 45461100-506 | B32: շենքերի, շինությունների ընթացիկ նորոգման աշխատանքներ | E32: ՀԲՄ | F32: դրամ | I32: 24570 | J32: Ապարանի 1
B33: ՄԱՍ III. ԾԱՌԱՅՈՒԹՅՈՒՆՆԵՐ | I33: =SUM(I34:I38) -> 11810.7
A34: 71521100-5 | B34: շինարարության ընթացքի վերահսկման ծառայություններ | E34: ՀՄԱ | F34: դրամ | I34: 539.5 | J34: Աշտարակի 5
A35: 71521100-6 | B35: շինարարության ընթացքի վերահսկման ծառայություններ | E35: ՀՄԱ | F35: դրամ | I35: 2416.5 | J35: Աշտարակի 1
A36: 71521100-7 | B36: շինարարության ընթացքի վերահսկման ծառայություններ | E36: ՀՄԱ | F36: դրամ | I36: 601.1 | J36: Ապարանի 1
A37: 71621100 | B37: տեխնիկական վերլուծության և խրհրդատվության ծառայություններ | E37: ՀԲՄ | F37: դրամ | G37: 6000000 | H37: 1 | I37: =+ROUNDUP(G37*H37/1000,1) -> 6000 | J37: 5 հատ մանկապարտեզ
A38: 71621100-501 | B38: տեխնիկական վերլուծության և խրհրդատվության ծառայություններ | E38: ՀԲՄ | F38: դրամ | G38: 2253600 | H38: 1 | I38: =+ROUNDUP(G38*H38/1000,1) -> 2253.6 | J38: Ներքին Սասնաշեն
A40: ՀՀ Արարատի մարզպետի աշխատակազմ | I40: =+I41 -> 355060.1
A41: Բաժին N 09 | B41: Խումբ N 01 | C41: Դաս N 01 | D41: Նախադպրոցական կրթություն | I41: =+I42 -> 355060.1
A42: 1236-32002 | B42: Մանկապարտեզների շենքերի վերակառուցում, հիմնանորոգում | I42: =+I43+I49 -> 355060.1
B43: ՄԱՍ II. ԱՇԽԱՏԱՆՔՆԵՐ | I43: =SUM(I44:I48) -> 328879.2
A44: 45211228-501 | B44: շինարարական աշխատանքներ մանկապարտեզների համար | E44: ՀԲՄ | F44: դրամ | I44: 112320 | J44: Վեդու 2
A45: 45211228-502 | B45: շինարարական աշխատանքներ մանկապարտեզների համար | E45: ՀԲՄ | F45: դրամ | I45: 42768 | J45: Զարթոնք
A46: 45211228-503 | B46: շինարարական աշխատանքներ մանկապարտեզների համար | E46: ՀԲՄ | F46: դրամ | I46: 75621.6 | J46: Մասիսի 5
A47: 45211228-504 | B47: շինարարական աշխատանքներ մանկապարտեզների համար | E47: ՀԲՄ | F47: դրամ | I47: 27072 | J47: Դալար
A48: 45211228-505 | B48: շինարարական աշխատանքներ մանկապարտեզների համար | E48: ՀԲՄ | F48: դրամ | I48: 71097.6 | J48: Արտաշատի 4
B49: ՄԱՍ III. ԾԱՌԱՅՈՒԹՅՈՒՆՆԵՐ | I49: =SUM(I50:I57) -> 26180.9
A50: 71521100-1 | B50: շինարարության ընթացքի վերահսկման ծառայություններ | E50: ՄԱ | F50: դրամ | I50: 2853 | J50: Վեդու 2
A51: 71521100-2 | B51: շինարարության ընթացքի վերահսկման ծառայություններ | E51: ՄԱ | F51: դրամ | I51: 1123.4 | J51: Զարթոնք
A52: 71521100-3 | B52: շինարարության ընթացքի վերահսկման ծառայություններ | E52: ՄԱ | F52: դրամ | I52: 1982.7 | J52: Մասիսի 5
A53: 71521100-4 | B53: շինարարության ընթացքի վերահսկման ծառայություններ | E53: ՄԱ | F53: դրամ | I53: 734.3 | J53: Դալար
A54: 71521100-5 | B54: շինարարության ընթացքի վերահսկման ծառայություններ | E54: ՄԱ | F54: դրամ | I54: 1900.3 | J54: Արտաշատի 4
A55: 71621100 | B55: տեխնիկական վերլուծության և խրհրդատվության ծառայություններ | E55: ՀԲՄ | F55: դրամ | G55: =2782100+5620176+300000 -> 8702276 | H55: 1 | I55: =+ROUNDUP(G55*H55/1000,1) -> 8702.3 | J55: Զարթոնք, Վեդու 2, Դալար
A56: 71621100-501 | B56: տեխնիկական վերլուծության և խրհրդատվության ծառայություններ | E56: ՀԲՄ | F56: դրամ | G56: 3636300 | H56: 1 | I56: =+ROUNDUP(G56*H56/1000,1) -> 3636.3 | J56: Վանաշեն
A57: 71621100-502 | B57: տեխնիկական վերլուծության և խրհրդատվության ծառայություններ | E57: ՀԲՄ | F57: դրամ | G57: 5248576 | H57: 1 | I57: =+ROUNDUP(G57*H57/1000,1) -> 5248.6 | J57: Սիս
A59: ՀՀ Արմավիրի մարզպետի աշխատակազմ | I59: =+I60 -> 3288.2
A60: Բաժին N 09 | B60: Խումբ N 01 | C60: Դաս N 01 | D60: Նախադպրոցական կրթություն | I60: =+I61 -> 3288.2
A61: 1236-32002 | B61: Մանկապարտեզների շենքերի վերակառուցում, հիմնանորոգում | I61: =+I62 -> 3288.2
B62: ՄԱՍ III. ԾԱՌԱՅՈՒԹՅՈՒՆՆԵՐ | I62: =+I63 -> 3288.2
A63: 71621100-508 | B63: տեխնիկական վերլուծության և խրհրդատվության ծառայություններ | E63: ՀԲՄ | F63: դրամ | G63: 3288195 | H63: 1 | I63: =+ROUNDUP(G63*H63/1000,1) -> 3288.2 | J63: Այգեկ
A65: ՀՀ Գեղարքունիքի մարզպետի աշխատակազմ | I65: =+I66 -> 631085.8
A66: Բաժին N 09 | B66: Խումբ N 01 | C66: Դաս N 01 | D66: Նախադպրոցական կրթություն | I66: =+I67 -> 631085.8
A67: 1236-32002 | B67: Մանկապարտեզների շենքերի վերակառուցում, հիմնանորոգում | I67: =+I68+I77 -> 631085.8
B68: ՄԱՍ II. ԱՇԽԱՏԱՆՔՆԵՐ | I68: =SUM(I69:I74) -> 610936.7
A69: 45211228-501 | B69: շինարարական աշխատանքներ մանկապարտեզների համար | E69: ՀԲՄ | F69: դրամ | I69: 43020 | J69: Մարտունու 4
A70: 45211228-502 | B70: շինարարական աշխատանքներ մանկապարտեզների համար | E70: ՀԲՄ | F70: դրամ | I70: 111184.7 | J70: Ձորագյուղ
A71: 45211228-503 | B71: շինարարական աշխատանքներ մանկապարտեզների համար | E71: ՀԲՄ | F71: դրամ | I71: 73332 | J71: Սևանի Հեքիաթ
A72: 45211228-504 | B72: շինարարական աշխատանքներ մանկապարտեզների համար | E72: ՀԲՄ | F72: դրամ | I72: 77058 | J72: Ծովագյուղ
A73: 45211228-505 | B73: շինարարական աշխատանքներ մանկապարտեզների համար | E73: ՀԲՄ | F73: դրամ | I73: 37062 | J73: Կարմիգհուղ
A74: 45211228-508 | B74: շինարարական աշխատանքներ մանկապարտեզների համար | E74: ՀԲՄ | F74: դրամ | G74: 269280000 | H74: 1 | I74: =+H74*G74/1000 -> 269280 | J74: Զովաբեր
A75: 45211228 | B75: շինարարական աշխատանքներ մանկապարտեզների համար | E75: ԳՀ | F75: դրամ | G75: 50724000 | H75: 1 | I75: =+H75*G75/1000 -> 50724 | J75: Գավառի 7
A76: 45111230 | B76: շինարարական հրապարակի կառուցապատման աշխատանքներ | E76: ԳՀ | F76: դրամ | G76: 13242000 | H76: 1 | I76: =+H76*G76/1000 -> 13242 | J76: Ճամբարակի 3
B77: ՄԱՍ III. ԾԱՌԱՅՈՒԹՅՈՒՆՆԵՐ | I77: =SUM(I78:I86) -> 20149.1
A78: 71521100-502 | B78: շինարարության ընթացքի վերահսկման ծառայություններ | E78: ՄԱ | F78: դրամ | I78: 1038.6 | J78: Մարտունու 4
A79: 71521100-503 | B79: շինարարության ընթացքի վերահսկման ծառայություններ | E79: ՄԱ | F79: դրամ | I79: 2636.6 | J79: Ձորագյուղ
A80: 71521100-504 | B80: շինարարության ընթացքի վերահսկման ծառայություններ | E80: ՄԱ | F80: դրամ | I80: 1864.7 | J80: Սևանի Հեքիաթ
A81: 71521100-505 | B81: շինարարության ընթացքի վերահսկման ծառայություններ | E81: ՄԱ | F81: դրամ | I81: 1884.4 | J81: Ծովագյուղ
A82: 71521100-506 | B82: շինարարության ընթացքի վերահսկման ծառայություններ | E82: ՄԱ | F82: դրամ | I82: 884.7 | J82: Կարմիրգյուղ
A83: 71521100 | B83: շինարարության ընթացքի վերահսկման ծառայություններ | E83: ՄԱ | F83: դրամ | G83: 5385600 | H83: 1 | I83: =+ROUNDUP(H83*G83/1000,1) -> 5385.6 | J83: Զովաբեր
A84: 71521100 | B84: շինարարության ընթացքի վերահսկման ծառայություններ | E84: ՄԱ | F84: դրամ | G84: 1030206 | H84: 1 | I84: =+ROUNDUP(H84*G84/1000,1) -> 1030.3 | J84: Գավառի 7
A85: 71521100 | B85: շինարարության ընթացքի վերահսկման ծառայություններ | E85: ՄԱ | F85: դրամ | G85: 268950 | H85: 1 | I85: =+ROUNDUP(H85*G85/1000,1) -> 269 | J85: Ճամբարակի 3
A86: 71621100-501 | B86: տեխնիկական վերլուծության և խրհրդատվության ծառայություններ | E86: ՀԲՄ | F86: դրամ | G86: 5155200 | H86: 1 | I86: =+ROUNDUP(G86*H86/1000,1) -> 5155.2 | J86: Զովաբեր
A88: ՀՀ Լոռու մարզպետի աշխատակազմ | I88: =+I89 -> 301716.8
A89: Բաժին N 09 | B89: Խումբ N 01 | C89: Դաս N 01 | D89: Նախադպրոցական կրթություն | I89: =+I90 -> 301716.8
A90: 1236-32002 | B90: Մանկապարտեզների շենքերի վերակառուցում, հիմնանորոգում | I90: =+I91+I96 -> 301716.8
B91: ՄԱՍ II. ԱՇԽԱՏԱՆՔՆԵՐ | I91: =SUM(I92:I95) -> 282361.4
A92: 45211228-504 | B92: շինարարական աշխատանքներ մանկապարտեզների համար | E92: ՀԲՄ | F92: դրամ | I92: 80940 | J92: Շիրակամուտ
A93: 45211228-502 | B93: շինարարական աշխատանքներ մանկապարտեզների համար | E93: ՀԲՄ | F93: դրամ | I93: 93374 | J93: Վանաձորի 32
A94: 45211228-503 | B94: շինարարական աշխատանքներ մանկապարտեզների համար | E94: ՀԲՄ | F94: դրամ | I94: 80460 | J94: Արևներ 1մ․
A95: 45211228-505 | B95: շինարարական աշխատանքներ մանկապարտեզների համար | E95: ՀԲՄ | F95: դրամ | I95: 27587.4 | J95: Վանաձորի 40
B96: ՄԱՍ III. ԾԱՌԱՅՈՒԹՅՈՒՆՆԵՐ | I96: =SUM(I97:I101) -> 19355.4
A97: 71521100-3 | B97: շինարարության ընթացքի վերահսկման ծառայություններ | E97: ՄԱ | F97: դրամ | I97: 2133.4 | J97: Շիրակամուտ
A98: 71521100-2 | B98: շինարարության ընթացքի վերահսկման ծառայություններ | E98: ՄԱ | F98: դրամ | I98: 2334.3 | J98: Վանաձորի 32
A99: 71521100-1 | B99: շինարարության ընթացքի վերահսկման ծառայություններ | E99: ՄԱ | F99: դրամ | I99: 1957.7 | J99: Արևներ 1մ․
A100: 71521100-4 | B100: շինարարության ընթացքի վերահսկման ծառայություններ | E100: ՄԱ | F100: դրամ | I100: 3942 | J100: Վանաձորի 40
A101: 71621100 | B101: տեխնիկական վերլուծության և խրհրդատվության ծառայություններ | E101: ԳՀ | F101: դրամ | G101: =1239000+2499000+2400000+2850000 -> 8988000 | H101: 1 | I101: =+ROUNDUP(G101*H101/1000,1) -> 8988 | J101: 4 մանկապարտեզ
A103: ՀՀ Կոտայքի մարզպետի աշխատակազմ | I103: =+I104 -> 99829.8
A104: Բաժին N 09 | B104: Խումբ N 01 | C104: Դաս N 01 | D104: Նախադպրոցական կրթություն | I104: =+I105 -> 99829.8
A105: 1236-32002 | B105: Մանկապարտեզների շենքերի վերակառուցում, հիմնանորոգում | I105: =+I106+I109 -> 99829.8
B106: ՄԱՍ II. ԱՇԽԱՏԱՆՔՆԵՐ | I106: =SUM(I107:I108) -> 91973.7
A107: 45211228-503 | B107: շինարարական աշխատանքներ մանկապարտեզների համար | E107: ՀԲՄ | F107: դրամ | I107: 22564.8 | J107: Մրգաշեն
A108: 45211228-504 | B108: շինարարական աշխատանքներ մանկապարտեզների համար | E108: ՀԲՄ | F108: դրամ | I108: 69408.9 | J108: Հրազդանի 13
B109: ՄԱՍ III. ԾԱՌԱՅՈՒԹՅՈՒՆՆԵՐ | I109: =SUM(I110:I112) -> 7856.1
A110: 71521100-2 | B110: շինարարության ընթացքի վերահսկման ծառայություններ | E110: ՄԱ | F110: դրամ | I110: 532 | J110: Մրգաշեն
A111: 71521100-3 | B111: շինարարության ընթացքի վերահսկման ծառայություններ | E111: ՄԱ | F111: դրամ | I111: 1762.5 | J111: Հրազդանի 13
...

Sheet Հավելված N 10
F1: Հավելված N 10
H2: ՀՀ կառավարության 2026 թվականի
H3: ______________ ի ___Ն որոշման
A6: ՀԱՅԱՍՏԱՆԻ ՀԱՆՐԱՊԵՏՈՒԹՅԱՆ 2026 ԹՎԱԿԱՆԻ ՊԵՏԱԿԱՆ ԲՅՈՒՋԵՈՎ ՆԱԽԱՏԵՍՎԱԾ՝ ՀԱՅԱՍՏԱՆԻ ՀԱՆՐԱՊԵՏՈՒԹՅԱՆ ԿԱՌԱՎԱՐՈՒԹՅԱՆ ՊԱՀՈՒՍՏԱՅԻՆ ՖՈՆԴԻՑ ՀԱՏԿԱՑՈՒՄՆԵՐ ԿԱՏԱՐԵԼՈՒ ՎԵՐԱԲԵՐՅԱԼ
A9: Գործառական դասիչը | D9: Ծրագրային դասիչը | F9: Բյուջետային հատկացումների գլխավոր կարգադրիչների, ծրագրերի, միջոցառումների և միջոցառումները կատարող պետական մարմինների անվանումները | G9: Ցուցանիշների փոփոխությունը (ավելացումները նշված են դրական նշանով, իսկ նվազեցումները` փակագծերում)
A10: Բաժին | B10: Խումբ | C10: Դաս | D10: Ծրագիր | E10: Միջոցառում | G10: Ինն ամիս | H10: Տարի
F11: ԸՆԴԱՄԵՆԸ | G11: =+G13+G33 -> 0 | H11: =+H13+H33 -> 0
F12: այդ թվում
F13: ՀՀ ԿԱՌԱՎԱՐՈՒԹՅՈՒՆ | G13: =+G14 -> -10967 | H13: =+H14 -> -10967
A14: 11 | F14: ՀԻՄՆԱԿԱՆ ԲԱԺԻՆՆԵՐԻՆ ՉԴԱՍՎՈՂ ՊԱՀՈՒՍՏԱՅԻՆ ՖՈՆԴԵՐ | G14: =+G16 -> -10967 | H14: =+H16 -> -10967
F15: այդ թվում`
B16: 01 | F16: ՀՀ կառավարության և համայնքների պահուստային ֆոնդ | G16: =+G18 -> -10967 | H16: =+H18 -> -10967
F17: այդ թվում`
C18: 01 | F18: ՀՀ կառավարության պահուստային ֆոնդ | G18: =+G20 -> -10967 | H18: =+H20 -> -10967
F19: այդ թվում`
F20: ՀՀ կառավարություն | G20: =+G22 -> -10967 | H20: =+H22 -> -10967
F21: այդ թվում`
D22: 1139 | E22: ՀՀ կառավարության պահուստային ֆոնդ | F22: ՀՀ կառավարության պահուստային ֆոնդ | G22: =+G24 -> -10967 | H22: =+H24 -> -10967
F23: այդ թվում`
E24: 11001 | F24: ՀՀ կառավարության պահուստային ֆոնդ | G24: =+G26 -> -10967 | H24: =+H26 -> -10967
F25: այդ թվում` ըստ կատարողների
F26: ՀՀ կառավարություն | G26: =+G28 -> -10967 | H26: =+H28 -> -10967
F27: այդ թվում՝ բյուջետային ծախսերի տնտեսագիտական դասակարգման հոդվածներ
F28: ԸՆԴԱՄԵՆԸ ԾԱԽՍԵՐ | G28: =+G29 -> -10967 | H28: =+H29 -> -10967
F29: ԸՆԹԱՑԻԿ ԾԱԽՍԵՐ | G29: =+G30 -> -10967 | H29: =+H30 -> -10967
F30: ԱՅԼ ԾԱԽՍԵՐ | G30: =+G31 -> -10967 | H30: =+H31 -> -10967
F31: - Պահուստային միջոցներ | G31: =+'Հավելված N 3'!G276 -> -10967 | H31: =+'Հավելված N 3'!H276 -> -10967
F33: ՀՀ ԿՐԹՈՒԹՅԱՆ, ԳԻՏՈՒԹՅԱՆ, ՄՇԱԿՈՒՅԹԻ ԵՎ ՍՊՈՐՏԻ ՆԱԽԱՐԱՐՈՒԹՅՈՒՆ | G33: =+G34 -> 10967 | H33: =+H34 -> 10967
A34: 09 | F34: ԿՐԹՈՒԹՅՈՒՆ | G34: =+G36 -> 10967 | H34: =+H36 -> 10967
F35: այդ թվում`
B36: 06 | F36: Կրթությանը տրամադրվող օժանդակ ծառայություններ | G36: =+G38 -> 10967 | H36: =+H38 -> 10967
F37: այդ թվում`
C38: 01 | F38: Կրթությանը տրամադրվող օժանդակ ծառայություններ | G38: =+G40 -> 10967 | H38: =+H40 -> 10967
F39: այդ թվում`
F40: ՀՀ կրթության, գիտության, մշակույթի և սպորտի նախարարություն | G40: =+G42 -> 10967 | H40: =+H42 -> 10967
F41: այդ թվում`
D42: 1189 | E42: Դպրոցների սեյսմիկ անվտանգության մակարդակի բարձրացման ծրագիր | G42: =+G44 -> 10967 | H42: =+H44 -> 10967
F43: այդ թվում`
E44: 11003 | F44: Բարգավաճ և դիմակայուն Ասիայի և Խաղաղ օվկիանոսի Ճապոնիայի հիմնադրամի աջակցությամբ դպրոցների շենքային ապահովվածության բարելավման դրամաշնորհային ծրագրի կառավարում | G44: =+G46 -> 10967 | H44: =+H46 -> 10967
F45: այդ թվում` ըստ կատարողների
F46: ՀՀ կրթության, գիտության, մշակույթի և սպորտի նախարարություն | G46: =+G48 -> 10967 | H46: =+H48 -> 10967
F47: այդ թվում` բյուջետային ծախսերի տնտեսագիտական դասակարգման հոդվածներ
F48: ԸՆԴԱՄԵՆԸ ԾԱԽՍԵՐ | G48: =G49 -> 10967 | H48: =H49 -> 10967
F49: ԸՆԹԱՑԻԿ ԾԱԽՍԵՐ | G49: =+G50+G53 -> 10967 | H49: =+H50+H53 -> 10967
F50: ԾԱՌԱՅՈՒԹՅՈՒՆՆԵՐԻ ԵՎ ԱՊՐԱՆՔՆԵՐԻ ՁԵՌՔԲԵՐՈՒՄ | G50: =+G51 -> 3073.8 | H50: =+H51 -> 3073.8
F51: Ծառայողական գործուղումների գծով ծախսեր | G51: =+G52 -> 3073.8 | H51: =+H52 -> 3073.8
F52: - Արտասահմանյան գործուղումների գծով ծախսեր | G52: =+'Հավելված N 6'!F28 -> 3073.8 | H52: =+'Հավելված N 6'!I28 -> 3073.8
F53: ԱՅԼ ԾԱԽՍԵՐ | G53: =+G54 -> 7893.2 | H53: =+H54 -> 7893.2
F54: - Այլ ծախսեր | G54: =+'Հավելված N 6'!F30 -> 7893.2 | H54: =+'Հավելված N 6'!I30 -> 7893.2
