Workbook
Name _tab10: #REF!
Name _tab10: #REF!
Name _tab11: #REF!
Name _tab11: #REF!
Name _tab12: #REF!
Name _tab12: #REF!
Name _tab13: #REF!
Name _tab13: #REF!
Name _tab14: #REF!
Name _tab14: #REF!
Name _tab15: #REF!
Name _tab15: #REF!
Name _tab16: #REF!
Name _tab16: #REF!
Name _tab17: #REF!
Name _tab17: #REF!
Name _tab18: #REF!
Name _tab18: #REF!
Name _tab19: #REF!
Name _tab19: #REF!
Name _tab20: #REF!
Name _tab20: #REF!
Name _tab21: #REF!
Name _tab21: #REF!
Name _tab22: #REF!
Name _tab22: #REF!
Name _tab22222: #REF!
Name _tab22222: #REF!
Name _tab23: #REF!
Name _tab23: #REF!
Name _tab24: #REF!
Name _tab24: #REF!
Name _tab5: #REF!
Name _tab5: #REF!
Name _tab6: #REF!
Name _tab6: #REF!
Name _tab7: #REF!
Name _tab7: #REF!
Name _tab8: #REF!
Name _tab8: #REF!
Name _tab9: #REF!
Name _tab9: #REF!
Name aaaaaaaaaaaa: #REF!
Name aaaaaaaaaaaa: #REF!
Name hhhh: #REF!
Name hhhh: #REF!
Name hunvar: #REF!,#REF!,#REF!,#REF!,#REF!,#REF!,#REF!,#REF!,#REF!,#REF!,#REF!,#REF!,#REF!,#REF!,#REF!
Name hunvar: #REF!,#REF!,#REF!,#REF!,#REF!,#REF!,#REF!,#REF!,#REF!,#REF!,#REF!,#REF!,#REF!,#REF!,#REF!
Name hunvar: #REF!,#REF!,#REF!,#REF!,#REF!,#REF!,#REF!,#REF!,#REF!,#REF!,#REF!,#REF!,#REF!,#REF!,#REF!
Name par_count: #REF!,#REF!,#REF!,#REF!,#REF!,#REF!,#REF!,#REF!,#REF!,#REF!,#REF!,#REF!,#REF!,#REF!,#REF!
Name par_count: #REF!,#REF!,#REF!,#REF!,#REF!,#REF!,#REF!,#REF!,#REF!,#REF!,#REF!,#REF!,#REF!,#REF!,#REF!
Name par_qual: #REF!,#REF!,#REF!,#REF!,#REF!
Name par_qual: #REF!,#REF!,#REF!,#REF!,#REF!
Name par_qual: #REF!,#REF!,#REF!,#REF!,#REF!
Name par_time: #REF!,#REF!,#REF!,#REF!
Name par_time: #REF!,#REF!,#REF!,#REF!
Name par_time: #REF!,#REF!,#REF!,#REF!
Name par2.12s: #REF!
Name par2.12s: #REF!
Name par2.12s: #REF!

Sheet 1
B1: Հավելված № 1
B2: ՀՀ կառավարության 2026 թվականի
B3: __________ «____» -ի
B4: N_____ -Ն որոշման
A5: «ՀԱՅԱՍՏԱՆԻ ՀԱՆՐԱՊԵՏՈՒԹՅԱՆ 2026 ԹՎԱԿԱՆԻ ՊԵՏԱԿԱՆ ԲՅՈՒՋԵԻ ՄԱՍԻՆ» ՀԱՅԱՍՏԱՆԻ ՀԱՆՐԱՊԵՏՈՒԹՅԱՆ ՕՐԵՆՔԻ № 1 ՀԱՎԵԼՎԱԾԻ № 1 ԱՂՅՈՒՍԱԿՈՒՄ ԿԱՏԱՐՎՈՂ ԿԱՏԱՐՎՈՂ ՓՈՓՈԽՈՒԹՅՈՒՆՆԵՐԸ
C6: (հազար դրամներով)
A7: Ծրագրային դասիչը | B7: Ծրագրի անվանումը | C7: Ցուցանիշների փոփոխությունները (ավելացումը նշված է դրական նշանով, իսկ նվազեցումը` փակագծերում)
A8: ԸՆԴԱՄԵՆԸ | C8: =SUM(C9:C15) -> 0
A9: 1099 | B9: Առողջության առաջնային պահպանում | C9: =+'2'!H11 -> 1830000
A10: 1142 | B10: Դատաբժշկական և ախտաբանաանատոմիական ծառայություններ | C10: =+'2'!H13 -> 60000
A11: 1200 | B11: Մոր և մանկան առողջության պահպանում | C11: =+'2'!H15 -> 2367000
A12: 1201 | B12: Շտապ բժշկական օգնություն | C12: =+'2'!H19 -> 97000
A13: 1202 | B13: Ոչ վարակիչ հիվանդությունների բժշկական օգնության ապահովում | C13: =+'2'!H21 -> 1825000
A14: 1207 | B14: Սոցիալապես անապահով և առանձին խմբերի անձանց բժշկական օգնություն | C14: =+'2'!H25 -> 1130000
A15: 1139 | B15: ՀՀ կառավարության պահուստային ֆոնդ | C15: =+'2'!H29 -> -7309000

Sheet 2
A1: Հավելված № 2
A2: ՀՀ կառավարության 2026 թվականի
A3: __________ «____» -ի
A4: N_____ -Ն որոշման
A5: «ՀԱՅԱՍՏԱՆԻ ՀԱՆՐԱՊԵՏՈՒԹՅԱՆ 2026 ԹՎԱԿԱՆԻ ՊԵՏԱԿԱՆ ԲՅՈՒՋԵԻ ՄԱՍԻՆ» ՀԱՅԱՍՏԱՆԻ ՀԱՆՐԱՊԵՏՈՒԹՅԱՆ ՕՐԵՆՔԻ № 1 ՀԱՎԵԼՎԱԾԻ № 2 ԱՂՅՈՒՍԱԿՈՒՄ ԿԱՏԱՐՎՈՂ ՎԵՐԱԲԱՇԽՈՒՄԸ ԵՎ ՀԱՅԱՍՏԱՆԻ ՀԱՆՐԱՊԵՏՈՒԹՅԱՆ ԿԱՌԱՎԱՐՈՒԹՅԱՆ 2025 ԹՎԱԿԱՆԻ ԴԵԿՏԵՄԲԵՐԻ 25-Ի № 1910-Ն ՈՐՈՇՄԱՆ № 5 ՀԱՎԵԼՎԱԾԻ № 1 ԱՂՅՈՒՍԱԿՈՒՄ ԿԱՏԱՐՎՈՂ ՓՈՓՈԽՈՒԹՅՈՒՆՆԵՐԸ
A6: (հազար դրամներով)
A7: ԲԳԿ | B7: Ծրագրային դասիչը | D7: ԲԳԿ/Ծրագրի /միջոցառման անվանումը | E7: Ծրագրի նպատակը/Միջոցառման նկարագրությունը | F7: Վերջնական արդյունքի նկարագրությունը/Միջոցառման տեսակը | G7: Ցուցանիշների փոփոխությունները (ավելացումները նշված են դրական նշանով, իսկ նվազեցումները` փակագծերում)
B8: Ծրագիր | C8: Միջոցառում | G8: Ինն ամիս | H8: Տարի
A9: ԸՆԴԱՄԵՆԸ | G9: =+G10+G29 -> 0 | H9: =+H10+H29 -> 0
A10: ՀՀ առողջապահության նախարարություն | G10: =+G11+G15+G19+G21+G13+G25 -> 7309000 | H10: =+H11+H15+H19+H21+H13+H25 -> 7309000
B11: 1099 | D11: Առողջության առաջնային պահպանում | E11: Բնակչությանը մատչելի և որակյալ առաջնային բժշկական օգնության և սպասարկման տրամադրում, առողջության վատթարացման ռիսկի գործոնների վերհանում և դրանց հնարավոր անբարենպաստ ազդեցության կանխարգելում | F11: Առողջության առաջնային պահպանման օղակում ցուցաբերվող բժշկական օգնության որակի, հիվանդությունների վաղ հայտնաբերման և կանխարգելման մակարդակի բարելավում, առողջապահական ծառայությունների վերաբերյալ իրազեկվածության և դրանց նկատմամբ պահանջարկի ավելացում | G11: =+G12 -> 1830000 | H11: =+H12 -> 1830000
C12: 1099 - 11001 | D12: Առողջության առաջնային պահպանման բժշկական օգնության ծառայություններ | E12: Առողջության առաջնային պահպանման օղակում հիվանդությունների կանխարգելում, ախտորոշում, բուժում, լաբորատոր-գործիքային հետազոտություններ (այդ թվում զինապարտներին, հղիներին) առանձին հիվանդություների դիսպանսեր հսկողություն | F12: Ծառայությունների մատուցում | G12: 1830000 | H12: 1830000
B13: 1142 | D13: Դատաբժշկական և ախտաբանաանատոմիական ծառայություններ | E13: Պաթանատոմիական կանխորոշումների հիման վրա ախտորոշման և բուժման արդյունավետության բարձրացում | F13: Մահերի պատճառների բացահայտում | G13: =+G14 -> 60000 | H13: =+H14 -> 60000
C14: 1142 - 11001 | D14: Դատաբժշկական և ախտաբանաանատոմիական բժշկական օգնության ծառայություններ | E14: Հանրապետության ուժային մարմինների որոշումների հիման վրա դատաբժշկական և գենետիկ փորձաքննությունների ապահովում` մահերի պատճառների վերհանման փորձաքննություններ: Մանկական մահերի պատճառների բացահայտում` մանկամահացության մակարդակը նվազեցնելու նպատակով | F14: Ծառայությունների մատուցում | G14: 60000 | H14: 60000
B15: 1200 | D15: Մոր և մանկան առողջության պահպանում | E15: Մոր և մանկան առողջության պահպանում, կանանց և երեխաներին մատուցվող բժշկական ծառայությունների մատչելիության և որակի բարելավում | F15: Մանկական և մայրական մահացության և հիվանդացության կրճատում, կանանց վերարտադրողական առողջության բարելավում | G15: =+G16+G17+G18 -> 2367000 | H15: =+H16+H17+H18 -> 2367000
C16: 1200 - 11001 | D16: Մանկաբարձական բժշկական օգնության ծառայություններ | E16: Մանկաբարձական բժշկական օգնության համալիր միջոցառումների իրականացում, հղիության ախտաբանական ընթացքի բժշկական օգնություն և ծննդօգնություն | F16: Ծառայությունների մատուցում | G16: 1060000 | H16: 1060000
C17: 1200 - 11003 | D17: Երեխաներին բժշկական օգնության ծառայություններ | E17: Երեխաների հիվանդանոցային, արտահիվանդանոցային վերականգնողական բուժօգնության իրականացում: Նորածինների հիվանդությունների վաղ հայտնաբերման սքրինգների իրականացման ծառայություններ | F17: Ծառայությունների մատուցում | G17: 932000 | H17: 932000
C18: 1200 - 11006 | D18: Անպտուղ զույգերի համար վերարտադրողական օժանդակ տեխնոլոգիաների կիրառմամբ բժշկական օգնության ծառայություններ | E18: Բնակչության առանձին և հատուկ խմբերում ընդգրկված անպտուղ զույգերին վերարտադրողական օժանդակ տեխնոլոգիաների կիրառմամբ բժշկական օգնության տրամադրում | F18: Ծառայությունների մատուցում | G18: 375000 | H18: 375000
B19: 1201 | D19: Շտապ բժշկական օգնություն | E19: Մարդու կյանքին և առողջությանը վտանգ սպառնացող վիճակներում որակյալ շտապ բժշկական օգնության ծառայությունների տրամադրում | F19: Շտապ օգնության համակարգի պատրաստվածության բարելավում, արձագանքման արագության, հասանելիության և բժշկական օգնության ծառայությունների որակի բարելավում | G19: =+G20 -> 97000 | H19: =+H20 -> 97000
C20: 1201 - 11001 | D20: Շտապ բժշկական օգնության ծառայություններ | E20: Շտապ բժշկական օգնության իրականացում | F20: Ծառայությունների մատուցում | G20: 97000 | H20: 97000
B21: 1202 | D21: Ոչ վարակիչ հիվանդությունների բժշկական օգնության ապահովում | E21: Ոչ վարակիչ հիվանդությունների (մասնավորապես՛ սիրտանոթային, շաքարային դիաբետի և չարորակ նորագոյացությունների) բուժման արդյունավետության բարձրացում | F21: Ոչ վարակիչ հիվանդություններով պայմանավորված հիվանդացության և մահացության նվազեցում | G21: =SUM(G22:G24) -> 1825000 | H21: =SUM(H22:H24) -> 1825000
C22: 1202 - 11002 | D22: Անհետաձգելի բժշկական օգնություն՛ այդ թվում սրտի վիրահատություններ | E22: Անհետաձգելի բուժօգնության իրականացում` ԱՆ կողմից հաստատված հիվանդությունների, վիճակների ցանկի համաձայն՛ այդ թվում սրտի վիրահատություններ | F22: Ծառայությունների մատուցում | G22: 960000 | H22: 960000
C23: 1202 - 11003 | D23: Հոգեկան առողջության խնդիրներ և կախվածություն (թմրաբանական) ունեցող պացիենտների բժշկական օգնության ծառայություններ | E23: Հոգեկան առողջության խնդիրներ և կախվածություն (թմրաբանական) ունեցող պացիենտների բուժում և շարունակական հսկողության համալիր միջոցառումների իրականացում | F23: Ծառայությունների մատուցում | G23: 520000 | H23: 520000
C24: 1202 - 11004 | D24: Ուռուցքաբանական և արյունաբանական հիվանդությունների բժշկական օգնության ծառայություններ | E24: Ուռուցքաբանական և արյունաբանական հիվանդների բուժում և շարունակական հսկողության համալիր միջոցառումների իրականացում | F24: Ծառայությունների մատուցում | G24: 345000 | H24: 345000
B25: 1207 | D25: Սոցիալապես անապահով և առանձին խմբերի անձանց բժշկական օգնություն | E25: Սոցիալապես անապահով և հատուկ խմբերում ընդգրկված անձանց բժշկական օգնության հասանելիության և մատչելիության մակարդակի բարձրացում, հիվանդանոցային որակյալ բժշկական օգնության ապահովում | F25: Սոցիալապես անապահով և հատուկ խմբերում ընդգրկված անձանց բժշկական օգնության հասանելիության և մատչելիության բարձրացում, ծառայությունների մատուցման հասցեականության բարելավում | G25: =SUM(G26:G28) -> 1130000 | H25: =SUM(H26:H28) -> 1130000
C26: 1207 - 11001 | D26: Սոցիալապես անապահով և հատուկ խմբերում ընդգրկվածներին բժշկական օգնության ծառայություններ | E26: Բնակչության սոցիալապես անապահով և հատուկ խմբերում ընդգրկվածների բժշկական օգնության իրականացում` ՀՀ կառավարության որոշմամբ հաստատված բնակչության խմբերի և ծառայությունների ցանկի համաձայն | F26: Ծառայությունների մատուցում | G26: 335000 | H26: 335000
C27: 1207 - 11003 | D27: Զինծառայողներին, ինչպես նաև փրկարար ծառայողներին և նրանց ընտանիքի անդամներին բժշկական օգնության ծառայություններ | E27: Զինծառայողներին, նրանց հավասարեցված անձանց, ինչպես նաև փրկարար ծառայողներին և նրանց ընտանիքի անդամներին բժշկական օգնության իրականացում (հետազոտում, ախտորոշում, բուժում) | F27: Ծառայությունների մատուցում | G27: 695000 | H27: 695000
C28: 1207 - 11007 | D28: Փոխպատվաստման ծառայություններ | E28: Մարդու օրգանների և ոսկրածուծի փոխպատվաստման ծառայությունների իրականացում | F28: Ծառայությունների մատուցում | G28: 100000 | H28: 100000
A29: ՀՀ կառավարություն | G29: =+G30 -> -7309000 | H29: =+H30 -> -7309000
B30: 1139 | D30: ՀՀ կառավարության պահուստային ֆոնդ | E30: Պետական բյուջեում չկանխատեսված, ինչպես նաեւ բյուջետային երաշխիքների ապահովման ծախսերի ֆինանսավորման ապահովում | F30: Պահուստային ֆոնդի կառավարման արդյունավետության և թափանցիկության ապահովում | G30: =+G31 -> -7309000 | H30: =+H31 -> -7309000
C31: 1139 - 11001 | D31: ՀՀ կառավարության պահուստային ֆոնդ | E31: ՀՀ պետական բյուջեում նախատեսված ելքերի լրացուցիչ ֆինանսավորման, պետական բյուջեում չկանխատեսված ելքերի, ինչպես նաև բյուջետային երաշխիքների ապահովման ելքերի ֆինանսավորման ապահովում | F31: Ծառայությունների մատուցում | G31: =-+G10 -> -7309000 | H31: =-+H10 -> -7309000

Sheet 3
A1: Հավելված № 3
A2: ՀՀ կառավարության 2026 թվականի
A3: __________ «____» -ի
A4: N_____ -Ն որոշման
A5: ՀԱՅԱՍՏԱՆԻ ՀԱՆՐԱՊԵՏՈՒԹՅԱՆ ԿԱՌԱՎԱՐՈՒԹՅԱՆ 2025 ԹՎԱԿԱՆԻ ԴԵԿՏԵՄԲԵՐԻ 25-Ի № 1910-Ն ՈՐՈՇՄԱՆ №№ 3 և 4 ՀԱՎԵԼՎԱԾՆԵՐՈՒՄ ԿԱՏԱՐՎՈՂ ՓՈՓՈԽՈՒԹՅՈՒՆՆԵՐԸ
A6: (հազար դրամներով)
A7: Գործառական դասիչը | D7: Ծրագրային դասիչը | F7: Բյուջետային հատկացումների գլխավոր կարգադրիչների, ծրագրերի, միջոցառումների և միջոցառումները կատարող պետական մարմինների անվանումները | G7: Ցուցանիշների փոփոխությունները (ավելացումները նշված են դրական նշանով, իսկ նվազեցումները` փակագծերում)
A8: բաժին | B8: խումբ | C8: դաս | D8: Ծրագիր | E8: Միջոցառում | G8: Ինն ամիս | H8: Տարի
A9: ԸՆԴԱՄԵՆԸ | G9: =+G10+G164 -> 0 | H9: =+H10+H164 -> 0
A10: 07 | F10: ԱՌՈՂՋԱՊԱՀՈՒԹՅՈՒՆ | G10: =+G12+G44+G147 -> 7309000 | H10: =+H12+H44+H147 -> 7309000
F11: այդ թվում՝
B12: 02 | F12: Արտահիվանդանոցային ծառայություններ | G12: =+G14+G29 -> 1927000 | H12: =+H14+H29 -> 1927000
F13: այդ թվում`
C14: 01 | F14: Ընդհանուր բնույթի բժշկական ծառայություններ | G14: =+G16 -> 1830000 | H14: =+H16 -> 1830000
F15: այդ թվում`
F16: ՀՀ առողջապահության նախարարություն | G16: =+G18 -> 1830000 | H16: =+H18 -> 1830000
F17: այդ թվում`
D18: 1099 | F18: Առողջության առաջնային պահպանում | G18: =+G20 -> 1830000 | H18: =+H20 -> 1830000
F19: այդ թվում`
E20: 11001 | F20: Առողջության առաջնային պահպանման բժշկական օգնության ծառայություններ | G20: =+G22 -> 1830000 | H20: =+H22 -> 1830000
F21: այդ թվում` ըստ կատարողների
F22: ՀՀ առողջապահության նախարարություն | G22: =+G24 -> 1830000 | H22: =+H24 -> 1830000
F23: այդ թվում` բյուջետային ծախսերի տնտեսագիտական դասակարգման հոդվածներ
F24: ԸՆԴԱՄԵՆԸ ԾԱԽՍԵՐ | G24: =+G25 -> 1830000 | H24: =+H25 -> 1830000
F25: ԸՆԹԱՑԻԿ ԾԱԽՍԵՐ | G25: =+G26 -> 1830000 | H25: =+H26 -> 1830000
F26: ՍՈՑԻԱԼԱԿԱՆ ՆՊԱՍՏՆԵՐ ԵՎ ԿԵՆՍԱԹՈՇԱԿՆԵՐ | G26: =+G27 -> 1830000 | H26: =+H27 -> 1830000
F27: Սոցիալական օգնության դրամական արտահայտությամբ նպաստներ (բյուջեից) | G27: =+G28 -> 1830000 | H27: =+H28 -> 1830000
F28: - Այլ նպաստներ բյուջեից | G28: =+'2'!G12 -> 1830000 | H28: =+'2'!H12 -> 1830000
C29: 04 | F29: Պարաբժշկական ծառայություններ | G29: =+G31 -> 97000 | H29: =+H31 -> 97000
F30: այդ թվում`
F31: ՀՀ առողջապահության նախարարություն | G31: =+G33 -> 97000 | H31: =+H33 -> 97000
F32: այդ թվում`
D33: 1201 | F33: Շտապ բժշկական օգնություն | G33: =+G35 -> 97000 | H33: =+H35 -> 97000
F34: այդ թվում`
E35: 11001 | F35: Շտապ բժշկական օգնության ծառայություններ | G35: =+G37 -> 97000 | H35: =+H37 -> 97000
F36: այդ թվում` ըստ կատարողների
F37: ՀՀ առողջապահության նախարարություն | G37: =+G39 -> 97000 | H37: =+H39 -> 97000
F38: այդ թվում` բյուջետային ծախսերի տնտեսագիտական դասակարգման հոդվածներ
F39: ԸՆԴԱՄԵՆԸ ԾԱԽՍԵՐ | G39: =+G40 -> 97000 | H39: =+H40 -> 97000
F40: ԸՆԹԱՑԻԿ ԾԱԽՍԵՐ | G40: =+G41 -> 97000 | H40: =+H41 -> 97000
F41: ՍՈՑԻԱԼԱԿԱՆ ՆՊԱՍՏՆԵՐ ԵՎ ԿԵՆՍԱԹՈՇԱԿՆԵՐ | G41: =+G42 -> 97000 | H41: =+H42 -> 97000
F42: Սոցիալական օգնության դրամական արտահայտությամբ նպաստներ (բյուջեից) | G42: =+G43 -> 97000 | H42: =+H43 -> 97000
F43: - Այլ նպաստներ բյուջեից | G43: =+'2'!G20 -> 97000 | H43: =+'2'!H20 -> 97000
B44: 03 | F44: Հիվանդանոցային ծառայություններ | G44: =+G46+G90+G114 -> 5322000 | H44: =+H46+H90+H114 -> 5322000
F45: այդ թվում`
C46: 01 | F46: Ընդհանուր բնույթի հիվանդանոցային ծառայություններ | G46: =+G50+G61 -> 2090000 | H46: =+H50+H61 -> 2090000
F47: այդ թվում`
F48: ՀՀ առողջապահության նախարարություն | G48: =+G50 -> 960000 | H48: =+H50 -> 960000
F49: այդ թվում`
D50: 1202 | F50: Ոչ վարակիչ հիվանդությունների բժշկական օգնության ապահովում | G50: =+G52 -> 960000 | H50: =+H52 -> 960000
F51: այդ թվում`
E52: 11002 | F52: Անհետաձգելի բժշկական օգնություն՛ այդ թվում սրտի վիրահատություններ | G52: =+G54 -> 960000 | H52: =+H54 -> 960000
F53: այդ թվում` ըստ կատարողների
F54: ՀՀ առողջապահության նախարարություն | G54: =+G56 -> 960000 | H54: =+H56 -> 960000
F55: այդ թվում` բյուջետային ծախսերի տնտեսագիտական դասակարգման հոդվածներ
F56: ԸՆԴԱՄԵՆԸ ԾԱԽՍԵՐ | G56: =+G57 -> 960000 | H56: =+H57 -> 960000
F57: ԸՆԹԱՑԻԿ ԾԱԽՍԵՐ | G57: =+G58 -> 960000 | H57: =+H58 -> 960000
F58: ՍՈՑԻԱԼԱԿԱՆ ՆՊԱՍՏՆԵՐ ԵՎ ԿԵՆՍԱԹՈՇԱԿՆԵՐ | G58: =+G59 -> 960000 | H58: =+H59 -> 960000
F59: Սոցիալական օգնության դրամական արտահայտությամբ նպաստներ (բյուջեից) | G59: =+G60 -> 960000 | H59: =+H60 -> 960000
F60: - Այլ նպաստներ բյուջեից | G60: =+'2'!G22 -> 960000 | H60: =+'2'!H22 -> 960000
D61: 1207 | F61: Սոցիալապես անապահով և առանձին խմբերի անձանց բժշկական օգնություն | G61: =+G63+G72+G81 -> 1130000 | H61: =+H63+H72+H81 -> 1130000
F62: այդ թվում`
E63: 11001 | F63: Սոցիալապես անապահով և հատուկ խմբերում ընդգրկվածներին բժշկական օգնության ծառայություններ | G63: =+G65 -> 335000 | H63: =+H65 -> 335000
F64: այդ թվում` ըստ կատարողների
F65: ՀՀ առողջապահության նախարարություն | G65: =+G67 -> 335000 | H65: =+H67 -> 335000
F66: այդ թվում` բյուջետային ծախսերի տնտեսագիտական դասակարգման հոդվածներ
F67: ԸՆԴԱՄԵՆԸ ԾԱԽՍԵՐ | G67: =+G68 -> 335000 | H67: =+H68 -> 335000
F68: ԸՆԹԱՑԻԿ ԾԱԽՍԵՐ | G68: =+G69 -> 335000 | H68: =+H69 -> 335000
F69: ՍՈՑԻԱԼԱԿԱՆ ՆՊԱՍՏՆԵՐ ԵՎ ԿԵՆՍԱԹՈՇԱԿՆԵՐ | G69: =+G70 -> 335000 | H69: =+H70 -> 335000
F70: Սոցիալական օգնության դրամական արտահայտությամբ նպաստներ (բյուջեից) | G70: =+G71 -> 335000 | H70: =+H71 -> 335000
F71: - Այլ նպաստներ բյուջեից | G71: =+'2'!G26 -> 335000 | H71: =+'2'!H26 -> 335000
E72: 11003 | F72: Զինծառայողներին, ինչպես նաև փրկարար ծառայողներին և նրանց ընտանիքի անդամներին բժշկական օգնության ծառայություններ | G72: =+G74 -> 695000 | H72: =+H74 -> 695000
F73: այդ թվում` ըստ կատարողների
F74: ՀՀ առողջապահության նախարարություն | G74: =+G76 -> 695000 | H74: =+H76 -> 695000
F75: այդ թվում` բյուջետային ծախսերի տնտեսագիտական դասակարգման հոդվածներ
F76: ԸՆԴԱՄԵՆԸ ԾԱԽՍԵՐ | G76: =+G77 -> 695000 | H76: =+H77 -> 695000
F77: ԸՆԹԱՑԻԿ ԾԱԽՍԵՐ | G77: =+G78 -> 695000 | H77: =+H78 -> 695000
F78: ՍՈՑԻԱԼԱԿԱՆ ՆՊԱՍՏՆԵՐ ԵՎ ԿԵՆՍԱԹՈՇԱԿՆԵՐ | G78: =+G79 -> 695000 | H78: =+H79 -> 695000
F79: Սոցիալական օգնության դրամական արտահայտությամբ նպաստներ (բյուջեից) | G79: =+G80 -> 695000 | H79: =+H80 -> 695000
F80: - Այլ նպաստներ բյուջեից | G80: =+'2'!G27 -> 695000 | H80: =+'2'!H27 -> 695000
E81: 11007 | F81: Փոխպատվաստման ծառայություններ | G81: =+G83 -> 100000 | H81: =+H83 -> 100000
F82: այդ թվում` ըստ կատարողների
F83: ՀՀ առողջապահության նախարարություն | G83: =+G85 -> 100000 | H83: =+H85 -> 100000
F84: այդ թվում` բյուջետային ծախսերի տնտեսագիտական դասակարգման հոդվածներ
F85: ԸՆԴԱՄԵՆԸ ԾԱԽՍԵՐ | G85: =+G86 -> 100000 | H85: =+H86 -> 100000
F86: ԸՆԹԱՑԻԿ ԾԱԽՍԵՐ | G86: =+G87 -> 100000 | H86: =+H87 -> 100000
F87: ՍՈՑԻԱԼԱԿԱՆ ՆՊԱՍՏՆԵՐ ԵՎ ԿԵՆՍԱԹՈՇԱԿՆԵՐ | G87: =+G88 -> 100000 | H87: =+H88 -> 100000
F88: Սոցիալական օգնության դրամական արտահայտությամբ նպաստներ (բյուջեից) | G88: =+G89 -> 100000 | H88: =+H89 -> 100000
F89: - Այլ նպաստներ բյուջեից | G89: =+'2'!G28 -> 100000 | H89: =+'2'!H28 -> 100000
C90: 02 | F90: Մասնագիտացված հիվանդանոցային ծառայություններ | G90: =+G94 -> 865000 | H90: =+H94 -> 865000
F91: այդ թվում`
F92: ՀՀ առողջապահության նախարարություն | G92: =+G94 -> 865000 | H92: =+H94 -> 865000
F93: այդ թվում`
D94: 1202 | F94: Ոչ վարակիչ հիվանդությունների բժշկական օգնության ապահովում | G94: =+G96+G105 -> 865000 | H94: =+H96+H105 -> 865000
F95: այդ թվում`
E96: 11003 | F96: Հոգեկան առողջության խնդիրներ և կախվածություն (թմրաբանական) ունեցող պացիենտների բժշկական օգնության ծառայություններ | G96: =+G98 -> 520000 | H96: =+H98 -> 520000
F97: այդ թվում` ըստ կատարողների
F98: ՀՀ առողջապահության նախարարություն | G98: =+G100 -> 520000 | H98: =+H100 -> 520000
F99: այդ թվում` բյուջետային ծախսերի տնտեսագիտական դասակարգման հոդվածներ
F100: ԸՆԴԱՄԵՆԸ ԾԱԽՍԵՐ | G100: =+G101 -> 520000 | H100: =+H101 -> 520000
...

Sheet 4
B1: Հավելված № 4
B2: ՀՀ կառավարության 2026 թվականի
B3: __________ «____» -ի
B4: N_____ -Ն որոշման
B5: ՀԱՅԱՍՏԱՆԻ ՀԱՆՐԱՊԵՏՈՒԹՅԱՆ ԿԱՌԱՎԱՐՈՒԹՅԱՆ 2025 ԹՎԱԿԱՆԻ ԴԵԿՏԵՄԲԵՐԻ 25-Ի № 1910-Ն ՈՐՈՇՄԱՆ № 9 ՀԱՎԵԼՎԱԾՈՒՄ ԿԱՏԱՐՎՈՂ ՓՈՓՈԽՈՒԹՅՈՒՆՆԵՐԸ
A6: (հազար դրամներով)
A7: ԲԳԿ | B7: Ծրագիր | D7: Միջոցառում | H7: Իրականացնողը/ ակտիվն օգտագործողը/ շահառուի ընտրության չափորոշիչը | I7: Արդյունքային չափորոշիչը | J7: Ցուցանիշների փոփոխությունները (ավելացումները նշված են դրական նշանով, իսկ նվազեցումները` փակագծերում)
B8: Դասիչը | C8: Անվանումը | D8: Դասիչը | E8: Անվանումը | F8: Նկարագրությունը | G8: Տեսակը | J8: Ինն ամիս | K8: Տարի
A9: ԸՆԴԱՄԵՆԸ | J9: =+J10+J104 -> 0 | K9: =+K10+K104 -> 0
A10: ՀՀ առողջապահության նախարարություն | J10: =+J11+J23+J28+J48+J53+J77 -> 7309000 | K10: =+K11+K23+K28+K48+K53+K77 -> 7309000
B11: 1099 | C11: Առողջության առաջնային պահպանում | J11: =+J12 -> 1830000 | K11: =+K12 -> 1830000
D12: 1099 - 11001 | E12: Առողջության առաջնային պահպանման բժշկական օգնության ծառայություններ | J12: =+'2'!G12 -> 1830000 | K12: =+'2'!H12 -> 1830000
F13: Առողջության առաջնային պահպանման օղակում հիվանդությունների կանխարգելում, ախտորոշում, բուժում, լաբորատոր-գործիքային հետազոտություններ (այդ թվում զինապարտներին, հղիներին) առանձին հիվանդություների դիսպանսեր հսկողություն
G14: Ծառայությունների մատուցում
H15: Ծառայությունը մատուցողի անվանումը` ՀՀ գնումների մասին օրենսդրությանը համապատասխան ընտրված կազմակերպություններ
I16: Բնակչության առողջության առաջնային պահպանման գծով կազմակերպություններում գրանցված բնակչության թիվ, մարդ | K16: 213700
I17: Հղիների նախածննդյան և հետծննդյան հսկողության ընթացքում իրականացվող լաբորատոր-գործիքային ախտորոշիչ հետազոտությունների թիվ, հատ | K17: 87000
D18: 1099 - 11004 | E18: Ախտորոշման ճշտման նպատակով լաբորատոր-գործիքային ախտորոշիչ հետազոտություններ նեղ մասնագիտացված կենտրոններում և շարունակական հսկողություն պահանջող և առանձին հիվանդությունների բուժման ծառայություններ
F19: Ախտորոշման ճշտման նպատակով լաբորատոր-գործիքային ախտորոշիչ հետազոտությունների իրականացում նեղ մասնագիտացված կենտրոններում, առանձին հիվանդությունների (քրոնիկ, դիսպանսեր հսկողություն պահանջող) բժշկական օգնության համալիր միջոցառումների իրականացում
G20: Ծառայությունների մատուցում
H21: Ծառայությունը մատուցողի անվանումը` ՀՀ գնումների մասին օրենսդրությանը համապատասխան ընտրված կազմակերպություններ
I22: Հետազոտությունների քանակ, հատ | K22: -54000
B23: 1142 | C23: Դատաբժշկական և ախտաբանաանատոմիական ծառայություններ | J23: =+J24 -> 60000 | K23: =+K24 -> 60000
D24: 1142 - 11001 | E24: Դատաբժշկական և ախտաբանաանատոմիական բժշկական օգնության ծառայություններ | J24: =+'2'!G14 -> 60000 | K24: =+'2'!H14 -> 60000
F25: Հանրապետության ուժային մարմինների որոշումների հիման վրա դատաբժշկական և գենետիկ փորձաքննությունների ապահովում` մահերի պատճառների վերհանման փորձաքննություններ: Մանկական մահերի պատճառների բացահայտում` մանկամահացության մակարդակը նվազեցնելու նպատակով
G26: Ծառայությունների մատուցում
H27: Ծառայությունը մատուցողի անվանումը` Մասնագիտացված կազմակերպություն (ներ)
B28: 1200 | C28: Մոր և մանկան առողջության պահպանում | J28: =+J29+J34+J41 -> 2367000 | K28: =+K29+K34+K41 -> 2367000
D29: 1200 - 11001 | E29: Մանկաբարձական բժշկական օգնության ծառայություններ | J29: =+'2'!G16 -> 1060000 | K29: =+'2'!H16 -> 1060000
F30: Մանկաբարձական բժշկական օգնության համալիր միջոցառումների իրականացում, հղիության ախտաբանական ընթացքի բժշկական օգնություն և ծննդօգնություն
G31: Ծառայությունների մատուցում
H32: Ծառայությունը մատուցողի անվանումը` ՀՀ գնումների մասին օրենսդրությանը համապատասխան ընտրված կազմակերպություններ
I33: Ծնունդների թիվ, հատ, որից | K33: 8400
D34: 1200 - 11003 | E34: Երեխաներին բժշկական օգնության ծառայություններ | J34: =+'2'!G17 -> 932000 | K34: =+'2'!H17 -> 932000
F35: Երեխաների հիվանդանոցային, արտահիվանդանոցային վերականգնողական բուժօգնության իրականացում: Նորածինների հիվանդությունների վաղ հայտնաբերման սքրինգների իրականացման ծառայություններ
G36: Ծառայությունների մատուցում
H37: Ծառայությունը մատուցողի անվանումը` ՀՀ գնումների մասին օրենսդրությանը համապատասխան ընտրված կազմակերպություններ
I38: Երեխաների բժշկական օգնության գծով ծառայություններից օգտվելու դեպքերի թիվ, հատ | K38: 7400
I39: Մտավոր, հոգեկան (վարքագծային), լսողական, ֆիզիկական (շարժողական) և զարգացման այլ խանգարումներով երեխաների վերականգնողական բուժման գծով ծառայություններից օգտվելու դեպքերի թիվ, հատ | K39: 63000
I40: Նորածնային սքրինինգների իրականացում (բնածին հիպոթիրեոզի, ֆենիլկետոնուրիայի, լսողության, տեսողության և կոնքազդրային հոդի) սքրինինգների թիվ, հատ | K40: 87000
D41: 1200 - 11006 | E41: Անպտուղ զույգերի համար վերարտադրողական օժանդակ տեխնոլոգիաների կիրառմամբ բժշկական օգնության ծառայություններ | J41: =+'2'!G18 -> 375000 | K41: =+'2'!H18 -> 375000
F42: Բնակչության առանձին և հատուկ խմբերում ընդգրկված անպտուղ զույգերին վերարտադրողական օժանդակ տեխնոլոգիաների կիրառմամբ բժշկական օգնության տրամադրում
G43: Ծառայությունների մատուցում
H44: Ծառայությունը մատուցողի անվանումը` ՀՀ գնումների մասին օրենսդրությանը համապատասխան ընտրված կազմակերպություններ
I45: Վերարտադրողական օժանդակ տեխնոլոգիաների կիրառմամբ բժշկական օգնության ծառայություններ ստացած զույգերի թիվ, հատ | K45: 1500
I46: Վերարտադրողական օժանդակ տեխնոլոգիաների կիրառմամբ hետազոտություններ քանակ (հատ) | K46: 30000
I47: Վերարտադրողական օժանդակ տեխնոլոգիաների կիրառմամբ բժշկական օգնության շրջանակներում արտամարմնային բեղմնավորմա փորձերի թիվ, հատ | K47: 400
B48: 1201 | C48: Շտապ բժշկական օգնություն | J48: =+J49 -> 97000 | K48: =+K49 -> 97000
D49: 1201 - 11001 | E49: Շտապ բժշկական օգնության ծառայություններ | J49: =+'2'!G20 -> 97000 | K49: =+'2'!H20 -> 97000
F50: Շտապ բժշկական օգնության իրականացում
G51: Ծառայությունների մատուցում
H52: Ծառայությունը մատուցողի անվանումը` ՀՀ գնումների մասին օրենսդրությանը համապատասխան ընտրված կազմակերպություններ
B53: 1202 | C53: Ոչ վարակիչ հիվանդությունների բժշկական օգնության ապահովում | J53: =+J59+J66+J71 -> 1825000 | K53: =+K59+K66+K71 -> 1825000
D54: 1202 - 11001 | E54: Հեմոդիալիզի և պերիտոնիալ դիալիզի անցկացման ծառայություններ
F55: Հեմոդիալիզի կարիք ունեցող հիվանդների բժշկական օգնության համալիր միջոցառումների իրականացում
G56: Ծառայությունների մատուցում
H57: Ծառայությունը մատուցողի անվանումը` ՀՀ գնումների մասին օրենսդրությանը համապատասխան ընտրված կազմակերպություններ
I58: Հեմոդիալիզի և պերիտոնիալ դիալիզի անցկացման ծառայություններ | K58: -24100
D59: 1202 - 11002 | E59: Անհետաձգելի բժշկական օգնություն՛ այդ թվում սրտի վիրահատություններ | J59: =+'2'!G22 -> 960000 | K59: =+'2'!H22 -> 960000
F60: Անհետաձգելի բուժօգնության իրականացում` ԱՆ կողմից հաստատված հիվանդությունների, վիճակների ցանկի համաձայն՛ այդ թվում սրտի վիրահատություններ
G61: Ծառայությունների մատուցում
H62: Ծառայությունը մատուցողի անվանումը` ՀՀ գնումների մասին օրենսդրությանը համապատասխան ընտրված կազմակերպություններ
I63: Անհետաձգելի բժշկական օգնություն | K63: 5000
I64: Հիվանդանոցային պայմաններում արտահիվանդանոցային բժշկական օգնություն (emergency) | K64: 12000
I65: Սրտի անհետաձգելի վիրահատություններ | K65: 850
D66: 1202 - 11003 | E66: Հոգեկան առողջության խնդիրներ և կախվածություն (թմրաբանական) ունեցող պացիենտների բժշկական օգնության ծառայություններ | J66: =+'2'!G23 -> 520000 | K66: =+'2'!H23 -> 520000
F67: Հոգեկան առողջության խնդիրներ և կախվածություն (թմրաբանական) ունեցող պացիենտների բուժում և շարունակական հսկողության համալիր միջոցառումների իրականացում
G68: Ծառայությունների մատուցում
H69: Ծառայությունը մատուցողի անվանումը` ՀՀ գնումների մասին օրենսդրությանը համապատասխան ընտրված կազմակերպություններ
I70: Հոգեկան առողջության խնդիրներ և կախվածություն (թմրաբանական) ունեցող պացիենտների բժշկական օգնության գծով ծառայություններից օգտվելու դեպքերի թիվ, հատ | K70: 3000
D71: 1202 - 11004 | E71: Ուռուցքաբանական և արյունաբանական հիվանդությունների բժշկական օգնության ծառայություններ | J71: =+'2'!G24 -> 345000 | K71: =+'2'!H24 -> 345000
F72: Ուռուցքաբանական և արյունաբանական հիվանդների բուժում և շարունակական հսկողության համալիր միջոցառումների իրականացում
G73: Ծառայությունների մատուցում
H74: Ծառայությունը մատուցողի անվանումը` ՀՀ գնումների մասին օրենսդրությանը համապատասխան ընտրված կազմակերպություններ
I75: Ուռուցքաբանական հիվանդությունների բժշկական օգնության ծառայություններ | K75: 150
I76: Ուռուցքաբանական հիվանդությունների վիրահատական բժշկական օգնության ծառայություններ | K76: 1300
B77: 1207 | C77: Սոցիալապես անապահով և առանձին խմբերի անձանց բժշկական օգնություն | J77: =+J78+J88+J99 -> 1130000 | K77: =+K78+K88+K99 -> 1130000
D78: 1207 - 11001 | E78: Սոցիալապես անապահով և հատուկ խմբերում ընդգրկվածներին բժշկական օգնության ծառայություններ | J78: =+'2'!G26 -> 335000 | K78: =+'2'!H26 -> 335000
F79: Բնակչության սոցիալապես անապահով և հատուկ խմբերում ընդգրկվածների բժշկական օգնության իրականացում` ՀՀ կառավարության որոշմամբ հաստատված բնակչության խմբերի և ծառայությունների ցանկի համաձայն
G80: Ծառայությունների մատուցում
H81: Ծառայությունը մատուցողի անվանումը` ՀՀ գնումների մասին օրենսդրությանը համապատասխան ընտրված կազմակերպություններ
I82: Սոցիալապես անապահով և հատուկ խմբերում ընդգրկվածներին բժշկական օգնության ծառայություններ | K82: 7800
I83: Զորակոչային և նախազորակոչային տարիքի անձանց հիվանդանոցային փորձաքննություն և բուժում | K83: 4900
I84: Սոցիալապես անապահով և հատուկ խմբերում ընդգրկվածների սրտի վիրահատություններ | K84: 400
I85: Արտահիվանդանոցային դժվարամատչելի ախտորոշիչ հետազոտություններ | K85: 17000
I86: Վերականգնողական բժշկական օգնություն | K86: 4100
I87: Ղարաբաղից տարհանված բնակչությանը բժշկական օգնություն և սպասարկման ծառայութններից օգտվելու դեպքերի թիվ, հատ | K87: -35000
D88: 1207 - 11003 | E88: Զինծառայողներին, ինչպես նաև փրկարար ծառայողներին և նրանց ընտանիքի անդամներին բժշկական օգնության ծառայություններ | J88: =+'2'!G27 -> 695000 | K88: =+'2'!H27 -> 695000
F89: Զինծառայողներին, նրանց հավասարեցված անձանց, ինչպես նաև փրկարար ծառայողներին և նրանց ընտանիքի անդամներին բժշկական օգնության իրականացում (հետազոտում, ախտորոշում, բուժում)
G90: Ծառայությունների մատուցում
H91: Ծառայությունը մատուցողի անվանումը` ՀՀ գնումների մասին օրենսդրությանը համապատասխան ընտրված կազմակերպություններ
I92: Բժշկական օգնության գծով ծառայություններից օգտվելու դեպքերի թիվ, հատ | K92: 11300
D93: 1207 - 11004 | E93: Պետական հիմնարկների և կազմակերպությունների աշխատողների բժշկական օգնության և սպասարկման ծառայություններ
F94: Պետական հիմնարկների և կազմակերպությունների աշխատողների բժշկական օգնության և սպասարկման ծառայություններ
G95: Ծառայությունների մատուցում
H96: Ծառայությունը մատուցողի անվանումը` ՀՀ գնումների մասին օրենսդրությանը համապատասխան ընտրված կազմակերպություններ
I97: Բժշկական օգնության գծով ծառայություններից օգտվելու դեպքերի թիվ, հատ | K97: -5000
I98: Պարտադիր կանխարգելիչ քննություններ անցած անձանց թիվ, մարդ | K98: -29200
D99: 1207 - 11007 | E99: Փոխպատվաստման ծառայություններ | J99: =+'2'!G28 -> 100000 | K99: =+'2'!H28 -> 100000
F100: Մարդու օրգանների և ոսկրածուծի փոխպատվաստման ծառայությունների իրականացում
...

Sheet 5
B1: Հավելված № 5
B2: ՀՀ կառավարության 2026 թվականի
B3: __________ «____» -ի
B4: N_____ -Ն որոշման
B5: ՀԱՅԱՍՏԱՆԻ ՀԱՆՐԱՊԵՏՈՒԹՅԱՆ ԿԱՌԱՎԱՐՈՒԹՅԱՆ 2025 ԹՎԱԿԱՆԻ ԴԵԿՏԵՄԲԵՐԻ 25-Ի № 1910-Ն ՈՐՈՇՄԱՆ № 9.1 ՀԱՎԵԼՎԱԾՈՒՄ ԿԱՏԱՐՎՈՂ ՓՈՓՈԽՈՒԹՅՈՒՆՆԵՐԸ
A6: (հազար դրամներով)
A7: ԲՍԿ | B7: Ծրագիր | D7: Միջոցառում | H7: Իրականացնողը/ ակտիվն օգտագործողը/ շահառուի ընտրության չափորոշիչը | I7: Արդյունքային չափորոշիչը | J7: Ցուցանիշների փոփոխությունները (ավելացումները նշված են դրական նշանով, իսկ նվազեցումները` փակագծերում)
B8: Դասիչը | C8: Անվանումը | D8: Դասիչը | E8: Անվանումը | F8: Նկարագրությունը | G8: Տեսակը | J8: Ինն ամիս | K8: Տարի
A9: ԸՆԴԱՄԵՆԸ | J9: =+J10+J104 -> 0 | K9: =+K10+K104 -> 0
A10: ՀՀ առողջապահության նախարարություն | J10: =+J11+J23+J28+J48+J53+J77 -> 7309000 | K10: =+K11+K23+K28+K48+K53+K77 -> 7309000
B11: 1099 | C11: Առողջության առաջնային պահպանում | J11: =+J12 -> 1830000 | K11: =+K12 -> 1830000
D12: 1099 - 11001 | E12: Առողջության առաջնային պահպանման բժշկական օգնության ծառայություններ | J12: =+'2'!G12 -> 1830000 | K12: =+'2'!H12 -> 1830000
F13: Առողջության առաջնային պահպանման օղակում հիվանդությունների կանխարգելում, ախտորոշում, բուժում, լաբորատոր-գործիքային հետազոտություններ (այդ թվում զինապարտներին, հղիներին) առանձին հիվանդություների դիսպանսեր հսկողություն
G14: Ծառայությունների մատուցում
H15: Ծառայությունը մատուցողի անվանումը` ՀՀ գնումների մասին օրենսդրությանը համապատասխան ընտրված կազմակերպություններ
I16: Բնակչության առողջության առաջնային պահպանման գծով կազմակերպություններում գրանցված բնակչության թիվ, մարդ | K16: 213700
I17: Հղիների նախածննդյան և հետծննդյան հսկողության ընթացքում իրականացվող լաբորատոր-գործիքային ախտորոշիչ հետազոտությունների թիվ, հատ | K17: 87000
D18: 1099 - 11004 | E18: Ախտորոշման ճշտման նպատակով լաբորատոր-գործիքային ախտորոշիչ հետազոտություններ նեղ մասնագիտացված կենտրոններում և շարունակական հսկողություն պահանջող և առանձին հիվանդությունների բուժման ծառայություններ
F19: Ախտորոշման ճշտման նպատակով լաբորատոր-գործիքային ախտորոշիչ հետազոտությունների իրականացում նեղ մասնագիտացված կենտրոններում, առանձին հիվանդությունների (քրոնիկ, դիսպանսեր հսկողություն պահանջող) բժշկական օգնության համալիր միջոցառումների իրականացում
G20: Ծառայությունների մատուցում
H21: Ծառայությունը մատուցողի անվանումը` ՀՀ գնումների մասին օրենսդրությանը համապատասխան ընտրված կազմակերպություններ
I22: Հետազոտությունների քանակ, հատ | K22: -54000
B23: 1142 | C23: Դատաբժշկական և ախտաբանաանատոմիական ծառայություններ | J23: =+J24 -> 60000 | K23: =+K24 -> 60000
D24: 1142 - 11001 | E24: Դատաբժշկական և ախտաբանաանատոմիական բժշկական օգնության ծառայություններ | J24: =+'2'!G14 -> 60000 | K24: =+'2'!H14 -> 60000
F25: Հանրապետության ուժային մարմինների որոշումների հիման վրա դատաբժշկական և գենետիկ փորձաքննությունների ապահովում` մահերի պատճառների վերհանման փորձաքննություններ: Մանկական մահերի պատճառների բացահայտում` մանկամահացության մակարդակը նվազեցնելու նպատակով
G26: Ծառայությունների մատուցում
H27: Ծառայությունը մատուցողի անվանումը` Մասնագիտացված կազմակերպություն (ներ)
B28: 1200 | C28: Մոր և մանկան առողջության պահպանում | J28: =+J29+J34+J41 -> 2367000 | K28: =+K29+K34+K41 -> 2367000
D29: 1200 - 11001 | E29: Մանկաբարձական բժշկական օգնության ծառայություններ | J29: =+'2'!G16 -> 1060000 | K29: =+'2'!H16 -> 1060000
F30: Մանկաբարձական բժշկական օգնության համալիր միջոցառումների իրականացում, հղիության ախտաբանական ընթացքի բժշկական օգնություն և ծննդօգնություն
G31: Ծառայությունների մատուցում
H32: Ծառայությունը մատուցողի անվանումը` ՀՀ գնումների մասին օրենսդրությանը համապատասխան ընտրված կազմակերպություններ
I33: Ծնունդների թիվ, հատ, որից | K33: 8400
D34: 1200 - 11003 | E34: Երեխաներին բժշկական օգնության ծառայություններ | J34: =+'2'!G17 -> 932000 | K34: =+'2'!H17 -> 932000
F35: Երեխաների հիվանդանոցային, արտահիվանդանոցային վերականգնողական բուժօգնության իրականացում: Նորածինների հիվանդությունների վաղ հայտնաբերման սքրինգների իրականացման ծառայություններ
G36: Ծառայությունների մատուցում
H37: Ծառայությունը մատուցողի անվանումը` ՀՀ գնումների մասին օրենսդրությանը համապատասխան ընտրված կազմակերպություններ
I38: Երեխաների բժշկական օգնության գծով ծառայություններից օգտվելու դեպքերի թիվ, հատ | K38: 7400
I39: Մտավոր, հոգեկան (վարքագծային), լսողական, ֆիզիկական (շարժողական) և զարգացման այլ խանգարումներով երեխաների վերականգնողական բուժման գծով ծառայություններից օգտվելու դեպքերի թիվ, հատ | K39: 63000
I40: Նորածնային սքրինինգների իրականացում (բնածին հիպոթիրեոզի, ֆենիլկետոնուրիայի, լսողության, տեսողության և կոնքազդրային հոդի) սքրինինգների թիվ, հատ | K40: 87000
D41: 1200 - 11006 | E41: Անպտուղ զույգերի համար վերարտադրողական օժանդակ տեխնոլոգիաների կիրառմամբ բժշկական օգնության ծառայություններ | J41: =+'2'!G18 -> 375000 | K41: =+'2'!H18 -> 375000
F42: Բնակչության առանձին և հատուկ խմբերում ընդգրկված անպտուղ զույգերին վերարտադրողական օժանդակ տեխնոլոգիաների կիրառմամբ բժշկական օգնության տրամադրում
G43: Ծառայությունների մատուցում
H44: Ծառայությունը մատուցողի անվանումը` ՀՀ գնումների մասին օրենսդրությանը համապատասխան ընտրված կազմակերպություններ
I45: Վերարտադրողական օժանդակ տեխնոլոգիաների կիրառմամբ բժշկական օգնության ծառայություններ ստացած զույգերի թիվ, հատ | K45: 1500
I46: Վերարտադրողական օժանդակ տեխնոլոգիաների կիրառմամբ hետազոտություններ քանակ (հատ) | K46: 30000
I47: Վերարտադրողական օժանդակ տեխնոլոգիաների կիրառմամբ բժշկական օգնության շրջանակներում արտամարմնային բեղմնավորմա փորձերի թիվ, հատ | K47: 400
B48: 1201 | C48: Շտապ բժշկական օգնություն | J48: =+J49 -> 97000 | K48: =+K49 -> 97000
D49: 1201 - 11001 | E49: Շտապ բժշկական օգնության ծառայություններ | J49: =+'2'!G20 -> 97000 | K49: =+'2'!H20 -> 97000
F50: Շտապ բժշկական օգնության իրականացում
G51: Ծառայությունների մատուցում
H52: Ծառայությունը մատուցողի անվանումը` ՀՀ գնումների մասին օրենսդրությանը համապատասխան ընտրված կազմակերպություններ
B53: 1202 | C53: Ոչ վարակիչ հիվանդությունների բժշկական օգնության ապահովում | J53: =+J59+J66+J71 -> 1825000 | K53: =+K59+K66+K71 -> 1825000
D54: 1202 - 11001 | E54: Հեմոդիալիզի և պերիտոնիալ դիալիզի անցկացման ծառայություններ
F55: Հեմոդիալիզի կարիք ունեցող հիվանդների բժշկական օգնության համալիր միջոցառումների իրականացում
G56: Ծառայությունների մատուցում
H57: Ծառայությունը մատուցողի անվանումը` ՀՀ գնումների մասին օրենսդրությանը համապատասխան ընտրված կազմակերպություններ
I58: Հեմոդիալիզի և պերիտոնիալ դիալիզի անցկացման ծառայություններ | K58: -24100
D59: 1202 - 11002 | E59: Անհետաձգելի բժշկական օգնություն՛ այդ թվում սրտի վիրահատություններ | J59: =+'2'!G22 -> 960000 | K59: =+'2'!H22 -> 960000
F60: Անհետաձգելի բուժօգնության իրականացում` ԱՆ կողմից հաստատված հիվանդությունների, վիճակների ցանկի համաձայն՛ այդ թվում սրտի վիրահատություններ
G61: Ծառայությունների մատուցում
H62: Ծառայությունը մատուցողի անվանումը` ՀՀ գնումների մասին օրենսդրությանը համապատասխան ընտրված կազմակերպություններ
I63: Անհետաձգելի բժշկական օգնություն | K63: 5000
I64: Հիվանդանոցային պայմաններում արտահիվանդանոցային բժշկական օգնություն (emergency) | K64: 12000
I65: Սրտի անհետաձգելի վիրահատություններ | K65: 850
D66: 1202 - 11003 | E66: Հոգեկան առողջության խնդիրներ և կախվածություն (թմրաբանական) ունեցող պացիենտների բժշկական օգնության ծառայություններ | J66: =+'2'!G23 -> 520000 | K66: =+'2'!H23 -> 520000
F67: Հոգեկան առողջության խնդիրներ և կախվածություն (թմրաբանական) ունեցող պացիենտների բուժում և շարունակական հսկողության համալիր միջոցառումների իրականացում
G68: Ծառայությունների մատուցում
H69: Ծառայությունը մատուցողի անվանումը` ՀՀ գնումների մասին օրենսդրությանը համապատասխան ընտրված կազմակերպություններ
I70: Հոգեկան առողջության խնդիրներ և կախվածություն (թմրաբանական) ունեցող պացիենտների բժշկական օգնության գծով ծառայություններից օգտվելու դեպքերի թիվ, հատ | K70: 3000
D71: 1202 - 11004 | E71: Ուռուցքաբանական և արյունաբանական հիվանդությունների բժշկական օգնության ծառայություններ | J71: =+'2'!G24 -> 345000 | K71: =+'2'!H24 -> 345000
F72: Ուռուցքաբանական և արյունաբանական հիվանդների բուժում և շարունակական հսկողության համալիր միջոցառումների իրականացում
G73: Ծառայությունների մատուցում
H74: Ծառայությունը մատուցողի անվանումը` ՀՀ գնումների մասին օրենսդրությանը համապատասխան ընտրված կազմակերպություններ
I75: Ուռուցքաբանական հիվանդությունների բժշկական օգնության ծառայություններ | K75: 150
I76: Ուռուցքաբանական հիվանդությունների վիրահատական բժշկական օգնության ծառայություններ | K76: 1300
B77: 1207 | C77: Սոցիալապես անապահով և առանձին խմբերի անձանց բժշկական օգնություն | J77: =+J78+J88+J99 -> 1130000 | K77: =+K78+K88+K99 -> 1130000
D78: 1207 - 11001 | E78: Սոցիալապես անապահով և հատուկ խմբերում ընդգրկվածներին բժշկական օգնության ծառայություններ | J78: =+'2'!G26 -> 335000 | K78: =+'2'!H26 -> 335000
F79: Բնակչության սոցիալապես անապահով և հատուկ խմբերում ընդգրկվածների բժշկական օգնության իրականացում` ՀՀ կառավարության որոշմամբ հաստատված բնակչության խմբերի և ծառայությունների ցանկի համաձայն
G80: Ծառայությունների մատուցում
H81: Ծառայությունը մատուցողի անվանումը` ՀՀ գնումների մասին օրենսդրությանը համապատասխան ընտրված կազմակերպություններ
I82: Սոցիալապես անապահով և հատուկ խմբերում ընդգրկվածներին բժշկական օգնության ծառայություններ | K82: 7800
I83: Զորակոչային և նախազորակոչային տարիքի անձանց հիվանդանոցային փորձաքննություն և բուժում | K83: 4900
I84: Սոցիալապես անապահով և հատուկ խմբերում ընդգրկվածների սրտի վիրահատություններ | K84: 400
I85: Արտահիվանդանոցային դժվարամատչելի ախտորոշիչ հետազոտություններ | K85: 17000
I86: Վերականգնողական բժշկական օգնություն | K86: 4100
I87: Ղարաբաղից տարհանված բնակչությանը բժշկական օգնություն և սպասարկման ծառայութններից օգտվելու դեպքերի թիվ, հատ | K87: -35000
D88: 1207 - 11003 | E88: Զինծառայողներին, ինչպես նաև փրկարար ծառայողներին և նրանց ընտանիքի անդամներին բժշկական օգնության ծառայություններ | J88: =+'2'!G27 -> 695000 | K88: =+'2'!H27 -> 695000
F89: Զինծառայողներին, նրանց հավասարեցված անձանց, ինչպես նաև փրկարար ծառայողներին և նրանց ընտանիքի անդամներին բժշկական օգնության իրականացում (հետազոտում, ախտորոշում, բուժում)
G90: Ծառայությունների մատուցում
H91: Ծառայությունը մատուցողի անվանումը` ՀՀ գնումների մասին օրենսդրությանը համապատասխան ընտրված կազմակերպություններ
I92: Բժշկական օգնության գծով ծառայություններից օգտվելու դեպքերի թիվ, հատ | K92: 11300
D93: 1207 - 11004 | E93: Պետական հիմնարկների և կազմակերպությունների աշխատողների բժշկական օգնության և սպասարկման ծառայություններ
F94: Պետական հիմնարկների և կազմակերպությունների աշխատողների բժշկական օգնության և սպասարկման ծառայություններ
G95: Ծառայությունների մատուցում
H96: Ծառայությունը մատուցողի անվանումը` ՀՀ գնումների մասին օրենսդրությանը համապատասխան ընտրված կազմակերպություններ
I97: Բժշկական օգնության գծով ծառայություններից օգտվելու դեպքերի թիվ, հատ | K97: -5000
I98: Պարտադիր կանխարգելիչ քննություններ անցած անձանց թիվ, մարդ | K98: -29200
D99: 1207 - 11007 | E99: Փոխպատվաստման ծառայություններ | J99: =+'2'!G28 -> 100000 | K99: =+'2'!H28 -> 100000
F100: Մարդու օրգանների և ոսկրածուծի փոխպատվաստման ծառայությունների իրականացում
...

Sheet 6
A1: Հավելված № 6
A2: ՀՀ կառավարության 2026 թվականի
A3: __________ «____» -ի
A4: N_____ -Ն որոշման
A5: ՀԱՅԱՍՏԱՆԻ ՀԱՆՐԱՊԵՏՈՒԹՅԱՆ 2026 ԹՎԱԿԱՆԻ ՊԵՏԱԿԱՆ ԲՅՈՒՋԵՈՎ ՆԱԽԱՏԵՍՎԱԾ՝ ՀԱՅԱՍՏԱՆԻ ՀԱՆՐԱՊԵՏՈՒԹՅԱՆ ԿԱՌԱՎԱՐՈՒԹՅԱՆ ՊԱՀՈՒՍՏԱՅԻՆ ՖՈՆԴԻՑ ՀԱՏԿԱՑՈՒՄՆԵՐ ԿԱՏԱՐԵԼՈՒ ՎԵՐԱԲԵՐՅԱԼ
A6: (հազար դրամներով)
A7: Գործառական դասիչը | D7: Ծրագրային դասիչը | F7: Բյուջետային հատկացումների գլխավոր կարգադրիչների, ծրագրերի, միջոցառումների և միջոցառումները կատարող պետական մարմինների անվանումները | G7: Ցուցանիշների փոփոխությունները (ավելացումները նշված են դրական նշանով, իսկ նվազեցումները` փակագծերում)
A8: բաժին | B8: խումբ | C8: դաս | D8: Ծրագիր | E8: Միջոցառում | G8: Ինն ամիս | H8: Տարի
A9: ԸՆԴԱՄԵՆԸ | G9: =+G10+G164 -> 0 | H9: =+H10+H164 -> 0
A10: 07 | F10: ԱՌՈՂՋԱՊԱՀՈՒԹՅՈՒՆ | G10: =+G12+G44+G147 -> 7309000 | H10: =+H12+H44+H147 -> 7309000
F11: այդ թվում՝
B12: 02 | F12: Արտահիվանդանոցային ծառայություններ | G12: =+G14+G29 -> 1927000 | H12: =+H14+H29 -> 1927000
F13: այդ թվում`
C14: 01 | F14: Ընդհանուր բնույթի բժշկական ծառայություններ | G14: =+G16 -> 1830000 | H14: =+H16 -> 1830000
F15: այդ թվում`
F16: ՀՀ առողջապահության նախարարություն | G16: =+G18 -> 1830000 | H16: =+H18 -> 1830000
F17: այդ թվում`
D18: 1099 | F18: Առողջության առաջնային պահպանում | G18: =+G20 -> 1830000 | H18: =+H20 -> 1830000
F19: այդ թվում`
E20: 11001 | F20: Առողջության առաջնային պահպանման բժշկական օգնության ծառայություններ | G20: =+G22 -> 1830000 | H20: =+H22 -> 1830000
F21: այդ թվում` ըստ կատարողների
F22: ՀՀ առողջապահության նախարարություն | G22: =+G24 -> 1830000 | H22: =+H24 -> 1830000
F23: այդ թվում` բյուջետային ծախսերի տնտեսագիտական դասակարգման հոդվածներ
F24: ԸՆԴԱՄԵՆԸ ԾԱԽՍԵՐ | G24: =+G25 -> 1830000 | H24: =+H25 -> 1830000
F25: ԸՆԹԱՑԻԿ ԾԱԽՍԵՐ | G25: =+G26 -> 1830000 | H25: =+H26 -> 1830000
F26: ՍՈՑԻԱԼԱԿԱՆ ՆՊԱՍՏՆԵՐ ԵՎ ԿԵՆՍԱԹՈՇԱԿՆԵՐ | G26: =+G27 -> 1830000 | H26: =+H27 -> 1830000
F27: Սոցիալական օգնության դրամական արտահայտությամբ նպաստներ (բյուջեից) | G27: =+G28 -> 1830000 | H27: =+H28 -> 1830000
F28: - Այլ նպաստներ բյուջեից | G28: =+'2'!G12 -> 1830000 | H28: =+'2'!H12 -> 1830000
C29: 04 | F29: Պարաբժշկական ծառայություններ | G29: =+G31 -> 97000 | H29: =+H31 -> 97000
F30: այդ թվում`
F31: ՀՀ առողջապահության նախարարություն | G31: =+G33 -> 97000 | H31: =+H33 -> 97000
F32: այդ թվում`
D33: 1201 | F33: Շտապ բժշկական օգնություն | G33: =+G35 -> 97000 | H33: =+H35 -> 97000
F34: այդ թվում`
E35: 11001 | F35: Շտապ բժշկական օգնության ծառայություններ | G35: =+G37 -> 97000 | H35: =+H37 -> 97000
F36: այդ թվում` ըստ կատարողների
F37: ՀՀ առողջապահության նախարարություն | G37: =+G39 -> 97000 | H37: =+H39 -> 97000
F38: այդ թվում` բյուջետային ծախսերի տնտեսագիտական դասակարգման հոդվածներ
F39: ԸՆԴԱՄԵՆԸ ԾԱԽՍԵՐ | G39: =+G40 -> 97000 | H39: =+H40 -> 97000
F40: ԸՆԹԱՑԻԿ ԾԱԽՍԵՐ | G40: =+G41 -> 97000 | H40: =+H41 -> 97000
F41: ՍՈՑԻԱԼԱԿԱՆ ՆՊԱՍՏՆԵՐ ԵՎ ԿԵՆՍԱԹՈՇԱԿՆԵՐ | G41: =+G42 -> 97000 | H41: =+H42 -> 97000
F42: Սոցիալական օգնության դրամական արտահայտությամբ նպաստներ (բյուջեից) | G42: =+G43 -> 97000 | H42: =+H43 -> 97000
F43: - Այլ նպաստներ բյուջեից | G43: =+'2'!G20 -> 97000 | H43: =+'2'!H20 -> 97000
B44: 03 | F44: Հիվանդանոցային ծառայություններ | G44: =+G46+G90+G114 -> 5322000 | H44: =+H46+H90+H114 -> 5322000
F45: այդ թվում`
C46: 01 | F46: Ընդհանուր բնույթի հիվանդանոցային ծառայություններ | G46: =+G50+G61 -> 2090000 | H46: =+H50+H61 -> 2090000
F47: այդ թվում`
F48: ՀՀ առողջապահության նախարարություն | G48: =+G50 -> 960000 | H48: =+H50 -> 960000
F49: այդ թվում`
D50: 1202 | F50: Ոչ վարակիչ հիվանդությունների բժշկական օգնության ապահովում | G50: =+G52 -> 960000 | H50: =+H52 -> 960000
F51: այդ թվում`
E52: 11002 | F52: Անհետաձգելի բժշկական օգնություն՛ այդ թվում սրտի վիրահատություններ | G52: =+G54 -> 960000 | H52: =+H54 -> 960000
F53: այդ թվում` ըստ կատարողների
F54: ՀՀ առողջապահության նախարարություն | G54: =+G56 -> 960000 | H54: =+H56 -> 960000
F55: այդ թվում` բյուջետային ծախսերի տնտեսագիտական դասակարգման հոդվածներ
F56: ԸՆԴԱՄԵՆԸ ԾԱԽՍԵՐ | G56: =+G57 -> 960000 | H56: =+H57 -> 960000
F57: ԸՆԹԱՑԻԿ ԾԱԽՍԵՐ | G57: =+G58 -> 960000 | H57: =+H58 -> 960000
F58: ՍՈՑԻԱԼԱԿԱՆ ՆՊԱՍՏՆԵՐ ԵՎ ԿԵՆՍԱԹՈՇԱԿՆԵՐ | G58: =+G59 -> 960000 | H58: =+H59 -> 960000
F59: Սոցիալական օգնության դրամական արտահայտությամբ նպաստներ (բյուջեից) | G59: =+G60 -> 960000 | H59: =+H60 -> 960000
F60: - Այլ նպաստներ բյուջեից | G60: =+'2'!G22 -> 960000 | H60: =+'2'!H22 -> 960000
D61: 1207 | F61: Սոցիալապես անապահով և առանձին խմբերի անձանց բժշկական օգնություն | G61: =+G63+G72+G81 -> 1130000 | H61: =+H63+H72+H81 -> 1130000
F62: այդ թվում`
E63: 11001 | F63: Սոցիալապես անապահով և հատուկ խմբերում ընդգրկվածներին բժշկական օգնության ծառայություններ | G63: =+G65 -> 335000 | H63: =+H65 -> 335000
F64: այդ թվում` ըստ կատարողների
F65: ՀՀ առողջապահության նախարարություն | G65: =+G67 -> 335000 | H65: =+H67 -> 335000
F66: այդ թվում` բյուջետային ծախսերի տնտեսագիտական դասակարգման հոդվածներ
F67: ԸՆԴԱՄԵՆԸ ԾԱԽՍԵՐ | G67: =+G68 -> 335000 | H67: =+H68 -> 335000
F68: ԸՆԹԱՑԻԿ ԾԱԽՍԵՐ | G68: =+G69 -> 335000 | H68: =+H69 -> 335000
F69: ՍՈՑԻԱԼԱԿԱՆ ՆՊԱՍՏՆԵՐ ԵՎ ԿԵՆՍԱԹՈՇԱԿՆԵՐ | G69: =+G70 -> 335000 | H69: =+H70 -> 335000
F70: Սոցիալական օգնության դրամական արտահայտությամբ նպաստներ (բյուջեից) | G70: =+G71 -> 335000 | H70: =+H71 -> 335000
F71: - Այլ նպաստներ բյուջեից | G71: =+'2'!G26 -> 335000 | H71: =+'2'!H26 -> 335000
E72: 11003 | F72: Զինծառայողներին, ինչպես նաև փրկարար ծառայողներին և նրանց ընտանիքի անդամներին բժշկական օգնության ծառայություններ | G72: =+G74 -> 695000 | H72: =+H74 -> 695000
F73: այդ թվում` ըստ կատարողների
F74: ՀՀ առողջապահության նախարարություն | G74: =+G76 -> 695000 | H74: =+H76 -> 695000
F75: այդ թվում` բյուջետային ծախսերի տնտեսագիտական դասակարգման հոդվածներ
F76: ԸՆԴԱՄԵՆԸ ԾԱԽՍԵՐ | G76: =+G77 -> 695000 | H76: =+H77 -> 695000
F77: ԸՆԹԱՑԻԿ ԾԱԽՍԵՐ | G77: =+G78 -> 695000 | H77: =+H78 -> 695000
F78: ՍՈՑԻԱԼԱԿԱՆ ՆՊԱՍՏՆԵՐ ԵՎ ԿԵՆՍԱԹՈՇԱԿՆԵՐ | G78: =+G79 -> 695000 | H78: =+H79 -> 695000
F79: Սոցիալական օգնության դրամական արտահայտությամբ նպաստներ (բյուջեից) | G79: =+G80 -> 695000 | H79: =+H80 -> 695000
F80: - Այլ նպաստներ բյուջեից | G80: =+'2'!G27 -> 695000 | H80: =+'2'!H27 -> 695000
E81: 11007 | F81: Փոխպատվաստման ծառայություններ | G81: =+G83 -> 100000 | H81: =+H83 -> 100000
F82: այդ թվում` ըստ կատարողների
F83: ՀՀ առողջապահության նախարարություն | G83: =+G85 -> 100000 | H83: =+H85 -> 100000
F84: այդ թվում` բյուջետային ծախսերի տնտեսագիտական դասակարգման հոդվածներ
F85: ԸՆԴԱՄԵՆԸ ԾԱԽՍԵՐ | G85: =+G86 -> 100000 | H85: =+H86 -> 100000
F86: ԸՆԹԱՑԻԿ ԾԱԽՍԵՐ | G86: =+G87 -> 100000 | H86: =+H87 -> 100000
F87: ՍՈՑԻԱԼԱԿԱՆ ՆՊԱՍՏՆԵՐ ԵՎ ԿԵՆՍԱԹՈՇԱԿՆԵՐ | G87: =+G88 -> 100000 | H87: =+H88 -> 100000
F88: Սոցիալական օգնության դրամական արտահայտությամբ նպաստներ (բյուջեից) | G88: =+G89 -> 100000 | H88: =+H89 -> 100000
F89: - Այլ նպաստներ բյուջեից | G89: =+'2'!G28 -> 100000 | H89: =+'2'!H28 -> 100000
C90: 02 | F90: Մասնագիտացված հիվանդանոցային ծառայություններ | G90: =+G94 -> 865000 | H90: =+H94 -> 865000
F91: այդ թվում`
F92: ՀՀ առողջապահության նախարարություն | G92: =+G94 -> 865000 | H92: =+H94 -> 865000
F93: այդ թվում`
D94: 1202 | F94: Ոչ վարակիչ հիվանդությունների բժշկական օգնության ապահովում | G94: =+G96+G105 -> 865000 | H94: =+H96+H105 -> 865000
F95: այդ թվում`
E96: 11003 | F96: Հոգեկան առողջության խնդիրներ և կախվածություն (թմրաբանական) ունեցող պացիենտների բժշկական օգնության ծառայություններ | G96: =+G98 -> 520000 | H96: =+H98 -> 520000
F97: այդ թվում` ըստ կատարողների
F98: ՀՀ առողջապահության նախարարություն | G98: =+G100 -> 520000 | H98: =+H100 -> 520000
F99: այդ թվում` բյուջետային ծախսերի տնտեսագիտական դասակարգման հոդվածներ
F100: ԸՆԴԱՄԵՆԸ ԾԱԽՍԵՐ | G100: =+G101 -> 520000 | H100: =+H101 -> 520000
...
