Workbook

Sheet 1
H2: Հավելված N 1
H3: ՀՀ կառավարության 2026թվականի
H4: ___________ ___-ի N _______ որոշման
A5: «ՀԱՅԱՍՏԱՆԻ ՀԱՆՐԱՊԵՏՈՒԹՅԱՆ 2026 ԹՎԱԿԱՆԻ ՊԵՏԱԿԱՆ ԲՅՈՒՋԵԻ ՄԱՍԻՆ» ՀՀ ՕՐԵՆՔԻ N 1 ՀԱՎԵԼՎԱԾԻ N 2 ԱՂՅՈՒՍԱԿՈՒՄ ԿԱՏԱՐՎՈՂ ՎԵՐԱԲԱՇԽՈՒՄԸ ԵՎ ՀԱՅԱՍՏԱՆԻ ՀԱՆՐԱՊԵՏՈՒԹՅԱՆ ԿԱՌԱՎԱՐՈՒԹՅԱՆ 2025 ԹՎԱԿԱՆԻ ԴԵԿՏԵՄԲԵՐԻ 25-Ի N 1910-Ն ՈՐՈՇՄԱՆ N 5 ՀԱՎԵԼՎԱԾԻ N1 ԱՂՅՈՒՍԱԿՈՒՄ ԿԱՏԱՐՎՈՂ ՓՈՓՈԽՈՒԹՅՈՒՆՆԵՐԸ
G6: հազար դրամներով
A7: ԲԳԿ | B7: Ծրագրային դասիչը | D7: ԲԳԿ/Ծրագրի /միջոցառման անվանումը | E7: Ծրագրի նպատակը/Միջոցառման նկարագրությունը | F7: Վերջնական արդյունքի նկարագրությունը/Միջոցառման տեսակը | G7: Ցուցանիշների փոփոխությունը (ավելացումները նշված են դրական նշանով,իսկ նվազեցումները՝ փակագծերում)
B8: Ծրագիր | C8: Միջոցառում | G8: Ինն ամիս | H8: Տարի
A9: ԸՆԴԱՄԵՆԸ | G9: =+G10 -> 0 | H9: =+H10 -> 0
A10: ՀՀ արդարադատության նախարարություն | G10: =+G11 -> 0 | H10: =+H11 -> 0
B11: 1120 | D11: Քրեակատարողական ծառայություններ | E11: Դատապարտյալների պատժի կատարման և ուղղման համար անհրաժեշտ պայմանների ապահովում | F11: Դատապարտյալների զբաղվածության և իրավունքների պաշտպանություն | G11: =+G12+G13 -> 0 | H11: =+H12+H13 -> 0
C12: 1120 - 11001 | D12: Քրեակատարողական ծառայություններ | E12: Դատապարտյալների և կալանավորված անձանց վերահսկողություն, կալանավայրերում դատապարտյալների և կալանավորված անձանց պահման պայմանների ապահովում, դատապարտյալների սոցիալ- հոգեբանական վերականգնում, ուսուցում, վերասոցիալականացում | F12: Ծառայությունների մատուցում | G12: =+'3'!G22 -> -210880 | H12: =+'3'!H22 -> -210880
C13: 1120 - 31002 | D13: ՀՀ արդարադատության նախարարության քրեակատարողական ծառայության կարողությունների զարգացում և տեխնիկական հագեցվածության ապահովում | E13: ՀՀ արդարադատության նախարարության քրեակատարողական ծառայության աշխատանքային պայմանների բարելավման համար վարչական սարքավորումների ձեռք բերում | F13: Պետական մարմինների կողմից օգտագործվող ոչ ֆինանսական ակտիվների հետ գործառնություններ | G13: =+'3'!G33 -> 210880 | H13: =+'3'!H33 -> 210880

Sheet 2
H1: Հավելված № 2
H2: ՀՀ կառավարության 2026 թվականի ----------
H3: № ---------- որոշման
A6: ՀԱՅԱՍՏԱՆԻ ՀԱՆՐԱՊԵՏՈՒԹՅԱՆ 2026 ԹՎԱԿԱՆԻ ՊԵՏԱԿԱՆ ԲՅՈՒՋԵԻ ՄԱՍԻՆ ՕՐԵՆՔԻ N 1 ՀԱՎԵԼՎԱԾԻ N 3 ԱՂՅՈՒՍԱԿՈՒՄ ԿԱՏԱՐՎՈՂ ՓՈՓՈԽՈՒԹՅՈՒՆԸ
G7: հազար դրամ
A8: Ծրագրային դասիչը | C8: Բյուջետային գլխավոր կարգադրիչների, ծրագրերի և միջոցառումների և ուղղությունների անվանումները | D8: Ընդամենը | E8: Ցուցանիշների փոփոխությունը (ավելացումները նշված են դրական նշանով)
A10: Ծրագիր | B10: Միջոցառում | E10: Կառուցման աշխատանքներ | F10: Վերակառուցման, վերանորոգման և վերականգնման աշխատանքներ | G10: Նախագծահե- տազոտական, գեոդեզիա- քարտեզագրա- կան աշխա- տանքներ | H10: Ոչ ֆինանսական այլ ակտիվների ձեռքբերում
C11: Ընդամենը | D11: =+D13 -> 210880 | E11: =+E13 -> 0 | F11: =+F13 -> 0 | G11: =+G13 -> 0 | H11: =+H13 -> 210880
C12: այդ թվում`
C13: ՀՀ արդարադատության նախարարություն | D13: =+D15 -> 210880 | E13: =+E15 -> 0 | F13: =+F15 -> 0 | G13: =+G15 -> 0 | H13: =+H15 -> 210880
C14: այդ թվում՝
A15: 1120 | B15: 31002 | C15: ՀՀ արդարադատության նախարարության քրեակատարողական ծառայության կարողությունների զարգացում և տեխնիկական հագեցվածության ապահովում | D15: =SUM(F15:H15) -> 210880 | F15: 0 | G15: 0 | H15: =+'3'!H33 -> 210880

Sheet 3
H1: Հավելված N 3
H2: ՀՀ կառավարության 2026թվականի
H3: ___________ ___-ի N _______ որոշման
A6: ՀԱՅԱՍՏԱՆԻ ՀԱՆՐԱՊԵՏՈՒԹՅԱՆ ԿԱՌԱՎԱՐՈՒԹՅԱՆ 2025 ԹՎԱԿԱՆԻ ԴԵԿՏԵՄԲԵՐԻ 25-Ի N 1910-Ն ՈՐՈՇՄԱՆ N 3 և N 4 ՀԱՎԵԼՎԱԾՆԵՐՈՒՄ ԿԱՏԱՐՎՈՂ ՓՈՓՈԽՈՒԹՅՈՒՆՆԵՐԸ
H7: (հազ. դրամ)
A8: Գործառական դասիչը | D8: Ծրագրային դասիչը | F8: Բյուջետային ծախսերի գործառական դասակարգման բաժինների, խմբերի և դասերի, բյուջետային ծրագրերի, միջոցառումների բյուջետային հատկացումների գլխավոր կարգադրիչների անվանումները | G8: Ցուցանիշների փոփոխությունը (ավելացումները նշված են դրական նշանով,իսկ նվազեցումները՝ փակագծերում)
A9: Բաժին | B9: Խումբ | C9: Դաս | D9: Ծրագիր | E9: Միջոցառում | G9: Ինն ամիս | H9: Տարի
F10: ԸՆԴԱՄԵՆԸ | G10: =G12 -> 0 | H10: =H12 -> 0
F11: այդ թվում`
A12: 03 | F12: ՀԱՍԱՐԱԿԱԿԱՆ ԿԱՐԳ, ԱՆՎՏԱՆԳՈՒԹՅՈՒՆ ԵՎ ԴԱՏԱԿԱՆ ԳՈՐԾՈՒՆԵՈՒԹՅՈՒՆ | G12: =G14 -> 0 | H12: =H14 -> 0
F13: այդ թվում`
B14: 05 | F14: Կալանավայրեր | G14: =G16 -> 0 | H14: =H16 -> 0
F15: այդ թվում`
C16: 01 | F16: Կալանավայրեր | G16: =G20 -> 0 | H16: =H20 -> 0
F17: այդ թվում`
F18: ՀՀ արդարադատության նախարարություն | G18: =G20 -> 0 | H18: =H20 -> 0
F19: այդ թվում`
D20: 1120 | F20: Քրեակատարողական ծառայություններ | G20: =G22+G33 -> 0 | H20: =H22+H33 -> 0
F21: այդ թվում`
E22: 11001 | F22: Քրեակատարողական ծառայություններ | G22: =G24 -> -210880 | H22: =H24 -> -210880
F23: այդ թվում` ըստ կատարողների
F24: ՀՀ արդարադատության նախարարության քրեակատարողական ծառայություն | G24: =G26 -> -210880 | H24: =H26 -> -210880
F25: այդ թվում` բյուջետային ծախսերի տնտեսագիտական դասակարգման հոդվածներ
F26: ԸՆԴԱՄԵՆԸ ԾԱԽՍԵՐ | G26: =G27 -> -210880 | H26: =H27 -> -210880
F27: ԸՆԹԱՑԻԿ ԾԱԽՍԵՐ | G27: =G28 -> -210880 | H27: =H28 -> -210880
F28: ԾԱՌԱՅՈՒԹՅՈՒՆՆԵՐԻ ԵՎ ԱՊՐԱՆՔՆԵՐԻ ՁԵՌՔԲԵՐՈՒՄ | G28: =G31+G29 -> -210880 | H28: =H31+H29 -> -210880
F29: Շարունակական ծախսեր | G29: =G30 -> -52149.4 | H29: =H30 -> -52149.4
F30: - Էներգետիկ ծառայություններ | G30: -52149.4 | H30: -52149.4
F31: Պայմանագրային այլ ծառայությունների ձեռքբերում | G31: =G32 -> -158730.6 | H31: =H32 -> -158730.6
F32: - Կենցաղային և հանրային սննդի ծառայություններ | G32: -158730.6 | H32: -158730.6
E33: 31002 | F33: ՀՀ արդարադատության նախարարության քրեակատարողական ծառայության կարողությունների զարգացում և տեխնիկական հագեցվածության ապահովում | G33: =G35 -> 210880 | H33: =H35 -> 210880
F34: այդ թվում` ըստ կատարողների
F35: ՀՀ արդարադատության նախարարության քրեակատարողական ծառայություն | G35: =G37 -> 210880 | H35: =H37 -> 210880
F36: այդ թվում` բյուջետային ծախսերի տնտեսագիտական դասակարգման հոդվածներ
F37: ԸՆԴԱՄԵՆԸ ԾԱԽՍԵՐ | G37: =G38 -> 210880 | H37: =H38 -> 210880
F38: ՈՉ ՖԻՆԱՆՍԱԿԱՆ ԱԿՏԻՎՆԵՐԻ ԳԾՈՎ ԾԱԽՍԵՐ | G38: =G39 -> 210880 | H38: =H39 -> 210880
F39: ՀԻՄՆԱԿԱՆ ՄԻՋՈՑՆԵՐ | G39: =G40 -> 210880 | H39: =H40 -> 210880
F40: ՄԵՔԵՆԱՆԵՐ ԵՎ ՍԱՐՔԱՎՈՐՈՒՄՆԵՐ | G40: =G41 -> 210880 | H40: =H41 -> 210880
F41: - Վարչական սարքավորումներ | G41: 210880 | H41: 210880

Sheet 4
E1: Հավելված № 4
C2: ՀՀ կառավարության 2026թվականի
C3: ______________ ի ___Ն որոշման
A5: ՀԱՅԱՍՏԱՆԻ ՀԱՆՐԱՊԵՏՈՒԹՅԱՆ ԿԱՌԱՎԱՐՈՒԹՅԱՆ 2025 ԹՎԱԿԱՆԻ ԴԵԿՏԵՄԲԵՐԻ 25-Ի N 1910-Ն ՈՐՈՇՄԱՆ N5 ՀԱՎԵԼՎԱԾԻ N2 ԱՂՅՈՒՍԱԿՈՒՄ ԿԱՏԱՐՎՈՂ ՓՈՓՈԽՈՒԹՅՈՒՆՆԵՐԸ
E7: հազար դրամներով
A8: Ծրագրային դասիչ | C8: Բյուջետային գլխավոր կարգադրիչների, ծրագրերի, միջոցառումների, միջոցառումները կատարող պետական մարմինների և ուղղությունների անվանումները | D8: Ցուցանիշների փոփոխությունը (ավելացումները նշված են դրական նշանով)
A9: Ծրագիր | B9: Միջոց առում | D9: Ինն ամիս | E9: Տարի
C10: ԸՆԴԱՄԵՆԸ | D10: =+D11 -> 210880 | E10: =+E11 -> 210880
C11: ՀՀ արդարադատության նախարարություն | D11: =+D13 -> 210880 | E11: =+E13 -> 210880
C12: այդ թվում`
A13: 1120 | B13: 31002 | C13: ՀՀ արդարադատության նախարարության քրեակատարողական ծառայության կարողությունների զարգացում և տեխնիկական հագեցվածության ապահովում | D13: =+D15 -> 210880 | E13: =+E15 -> 210880
C14: այդ թվում` ըստ կատարողների
C15: ՀՀ արդարադատության նախարարության քրեակատարողական ծառայություն | D15: =+'3'!G33 -> 210880 | E15: =+'3'!H33 -> 210880

Sheet 5
K1: Հավելված N 5
K2: ՀՀ կառավարության 2026թվականի
K3: ___________ ___-ի N _______ որոշման
A8: ՀԱՅԱՍՏԱՆԻ ՀԱՆՐԱՊԵՏՈՒԹՅԱՆ ԿԱՌԱՎԱՐՈՒԹՅԱՆ 2025 ԹՎԱԿԱՆԻ ԴԵԿՏԵՄԲԵՐԻ 25-Ի ԹԻՎ 1910-Ն ՈՐՈՇՄԱՆ N 9 ՀԱՎԵԼՎԱԾՈՒՄ ԿԱՏԱՐՎՈՂ ՓՈՓՈԽՈՒԹՅՈՒՆՆԵՐԸ
K11: հազար դրամներով
A12: ԲԳԿ | B12: Ծրագիր | D12: Միջոցառում | H12: Իրականացնողը/ ակտիվն օգտագործողը/ շահառուի ընտրության չափորոշիչը | I12: Արդյունքային չափորոշիչը | J12: Ցուցանիշների փոփոխությունը (ավելացումները նշված են դրական նշանով,իսկ նվազեցումները՝ փակագծերում)
B13: Դասիչը | C13: Անվա-նումը | D13: Դասիչը | E13: Անվա-նումը | F13: Նկարագրու-թյունը | G13: Տեսակը | J13: Ինն ամիս | K13: Տարի
A14: ԸՆԴԱՄԵՆԸ | J14: =+J15 -> 0 | K14: =+K15 -> 0
A15: ՀՀ արդարադատության նախարարություն | J15: =+J16 -> 0 | K15: =+K16 -> 0
B16: 1120 | C16: Քրեակատարողական ծառայություններ | J16: =+J17+J21 -> 0 | K16: =+K17+K21 -> 0
D17: 1120-11001 | E17: Քրեակատարողական ծառայություններ | J17: =+'3'!G22 -> -210880 | K17: =+'3'!H22 -> -210880
F18: Դատապարտյալների և կալանավորված անձանց վերահսկողություն, կալանավայրերում դատապարտյալների և կալանավորված անձանց պահման պայմանների ապահովում, դատապարտյալների սոցիալ- հոգեբանական վերականգնում, ուսուցում, վերասոցիալականացում
G19: Ծառայությունների մատուցում
H20: Ծառայությունը մատուցողի անվանումը` Քրեակատարողական ծառայություն
D21: 1120-31002 | E21: ՀՀ արդարադատության նախարարության քրեակատարողական ծառայության կարողությունների զարգացում և տեխնիկական հագեցվածության ապահովում | J21: =+'3'!G33 -> 210880 | K21: =+'3'!H33 -> 210880
F22: ՀՀ արդարադատության նախարարության քրեակատարողական ծառայության աշխատանքային պայմանների բարելավման համար վարչական սարքավորումների ձեռք բերում
G23: Պետական մարմինների կողմից օգտագործվող ոչ ֆինանսական ակտիվների հետ գործառնություններ
H24: Ակտիվն օգտագործող կազմակերպության անվանումը` Քրեակատարողական ծառայություն
I25: Էլեկտրոնային հսկողության համակարգ, հատ | K25: 1

Sheet 6
K1: Հավելված N 6
K2: ՀՀ կառավարության 2026թվականի
K3: ___________ ___-ի N _______ որոշման
A6: ՀԱՅԱՍՏԱՆԻ ՀԱՆՐԱՊԵՏՈՒԹՅԱՆ ԿԱՌԱՎԱՐՈՒԹՅԱՆ 2025 ԹՎԱԿԱՆԻ ԴԵԿՏԵՄԲԵՐԻ 25-Ի ԹԻՎ 1910-Ն ՈՐՈՇՄԱՆ N 9.1 ՀԱՎԵԼՎԱԾՈՒՄ ԿԱՏԱՐՎՈՂ ՓՈՓՈԽՈՒԹՅՈՒՆՆԵՐԸ
K9: հազար դրամներով
A10: ԲՍԿ | B10: Ծրագիր | D10: Միջոցառում | H10: Իրականացնողը/ ակտիվն օգտագործողը/ շահառուի ընտրության չափորոշիչը | I10: Արդյունքային չափորոշիչը | J10: Ցուցանիշների փոփոխությունը (ավելացումները նշված են դրական նշանով,իսկ նվազեցումները՝ փակագծերում)
B11: Դասիչը | C11: Անվանումը | D11: Դասիչը | E11: Անվանումը | F11: Նկարագրությունը | G11: Տեսակը | J11: Ինն ամիս | K11: Տարի
A12: ԸՆԴԱՄԵՆԸ | J12: =+J13 -> 0 | K12: =+K13 -> 0
A13: ՀՀ արդարադատության նախարարության քրեակատարողական ծառայություն | J13: =+J14 -> 0 | K13: =+K14 -> 0
B14: 1120 | C14: Քրեակատարողական ծառայություններ | J14: =+J15+J19 -> 0 | K14: =+K15+K19 -> 0
D15: 1120-11001 | E15: Քրեակատարողական ծառայություններ | J15: =+'3'!G22 -> -210880 | K15: =+'3'!H22 -> -210880
F16: Դատապարտյալների և կալանավորված անձանց վերահսկողություն, կալանավայրերում դատապարտյալների և կալանավորված անձանց պահման պայմանների ապահովում, դատապարտյալների սոցիալ- հոգեբանական վերականգնում, ուսուցում, վերասոցիալականացում
G17: Ծառայությունների մատուցում
H18: Ծառայությունը մատուցողի անվանումը` Քրեակատարողական ծառայություն
D19: 1120-31002 | E19: ՀՀ արդարադատության նախարարության քրեակատարողական ծառայության կարողությունների զարգացում և տեխնիկական հագեցվածության ապահովում | J19: =+'5'!J21 -> 210880 | K19: =+'5'!K21 -> 210880
F20: ՀՀ արդարադատության նախարարության քրեակատարողական ծառայության աշխատանքային պայմանների բարելավման համար վարչական սարքավորումների ձեռք բերում
G21: Պետական մարմինների կողմից օգտագործվող ոչ ֆինանսական ակտիվների հետ գործառնություններ
H22: Ակտիվն օգտագործող կազմակերպության անվանումը` Քրեակատարողական ծառայություն
I23: Էլեկտրոնային հսկողության համակարգ, հատ | K23: 1

Sheet 7
E1: Հավելված N 7
E2: ՀՀ կառավարության 2026 թվականի
E3: ———————— N -Ն որոշման
A5: ՀԱՅԱՍՏԱՆԻ ՀԱՆՐԱՊԵՏՈՒԹՅԱՆ ԿԱՌԱՎԱՐՈՒԹՅԱՆ 2025ԹՎԱԿԱՆԻ ԴԵԿՏԵՄԲԵՐԻ 25-Ի N 1910-Ն ՈՐՈՇՄԱՆ N 10 ՀԱՎԵԼՎԱԾԻ ՑՈՒՑԱՆԻՇՆԵՐՈՒՄ ԿԱՏԱՐՎՈՂ ՓՈՓՈԽՈՒԹՅՈՒՆՆԵՐԸ ԵՎ ԼՐԱՑՈՒՄՆԵՐԸ
A7: Կոդը | B7: Անվանումը | C7: Գնման ձևը | D7: Չափի միավորը | E7: միավորի գինը | F7: Ցուցանիշների փոփոխությունը (ավելացումները նշված են դրական նշանով,իսկ նվազեցումները՝ փակագծերում)
F8: քանակը | G8: գումարը (հազար դրամով)
A9: 1 | B9: 2 | C9: 3 | D9: 4 | E9: 5 | F9: 6 | G9: 7
A10: ՀՀ արդարադատության նախարարության քրեակատարողական ծառայություն | G10: =+G11 -> 0
A11: Բաժին N 03 | B11: Խումբ N 05 | C11: Դաս N 01 | D11: Կալանավայրեր | G11: =+G12+G16 -> 0
A12: 1120 11001 | B12: Քրեակատարողական ծառայություններ | G12: =+G13 -> -210880
B13: ՄԱՍ III. ԾԱՌԱՅՈՒԹՅՈՒՆՆԵՐ | G13: =SUM(G14:G15) -> -210880
A14: 55321100/1 | B14: սննդի պատրաստման ծառայություններ | C14: ԲՄ | D14: դրամ | G14: -158730.6
A15: 65311100/1 | B15: էլեկտրականության բաշխում | C15: ՄԱ | D15: դրամ | G15: -52149.4
A16: 1120 31002 | B16: ՀՀ արդարադատության նախարարության քրեակատարողական ծառայության կարողությունների զարգացում և տեխնիկական հագեցվածության ապահովում | G16: =+G17 -> 210880
B17: ՄԱՍ I. ԱՊՐԱՆՔՆԵՐ | G17: =SUM(G18:G19) -> 210880
A18: 35121280/1 | B18: հսկողության համակարգ | C18: ԷԱՃ | D18: հատ | G18: -11000
A19: 35121280/501 | B19: հսկողության համակարգ | C19: ԷԱՃ | D19: հատ | E19: 221880000 | F19: 1 | G19: 221880
