Workbook

Sheet 1.
G1: Հավելված N 1
H2: ՀՀ կառավարության 2026 թվականի
H3: ______________ ի ___Ն որոշման
A5: «ՀԱՅԱUՏԱՆԻ ՀԱՆՐԱՊԵՏՈՒԹՅԱՆ 2026 ԹՎԱԿԱՆԻ ՊԵՏԱԿԱՆ ԲՅՈՒՋԵԻ ՄԱUԻՆ» OՐԵՆՔԻ N 1 ՀԱՎԵԼՎԱԾԻ N 2 ԱՂՅՈՒՍԱԿՈՒՄ ԿԱՏԱՐՎՈՂ ՎԵՐԱԲԱՇԽՈՒՄԸ ԵՎ ՀԱՅԱՍՏԱՆԻ ՀԱՆՐԱՊԵՏՈՒԹՅԱՆ ԿԱՌԱՎԱՐՈՒԹՅԱՆ 2025 ԹՎԱԿԱՆԻ ԴԵԿՏԵՄԲԵՐԻ 25-Ի N 1910-Ն ՈՐՈՇՄԱՆ N 5 ՀԱՎԵԼՎԱԾԻ N 1 ԱՂՅՈՒՍԱԿՈՒՄ ԿԱՏԱՐՎՈՂ ՓՈՓՈԽՈՒԹՅՈՒՆՆԵՐԸ ԵՎ ԼՐԱՑՈՒՄՆԵՐԸ
G6: հազար դրամներով
A7: ԲԳԿ | B7: Ծրագրային դասիչը | D7: ԲԳԿ/Ծրագրի /միջոցառման անվանումը | E7: Ծրագրի նպատակը/Միջոցառման նկարագրությունը | F7: Վերջնական արդյունքի նկարագրությունը/Միջոցառման տեսակը | G7: Ցուցանիշների փոփոխությունը (ավելացումները նշված են դրական նշանով, իսկ նվազեցումները՝ փակագծերում)
G8: Ինն ամիս | H8: Տարի
B9: Ծրագիր | C9: Միջոցառում
A10: ԸՆԴԱՄԵՆԸ | G10: =G11 -> 0 | H10: =H11 -> 0
A11: ՀՀ տարածքային կառավարման և ենթակառուցվածքների նախարարություն | G11: =G12 -> 0 | H11: =H12 -> 0
B12: 1049 | D12: Ճանապարհային ցանցի բարելավում | E12: Ճանապարհային ցանցի բարելավում և անվտանգ երթևեկության ապահովում | F12: Ճանապարհների ծածկի որակի և փոխադրումների արդյունավետության բարելավում, ճանապարհների վիճակով պայմանավորված պատահարների նվազում | G12: =G13+G14 -> 0 | H12: =H13+H14 -> 0
C13: 1049 - 21001 | D13: Պետական նշանակության ավտոճանապարհների հիմնանորոգում | E13: Միջպետական, հանրապետական և մարզային նշանակության ավտոճոնապարհների քայքայված ծածկի վերանորոգում, մաշված ծածկի փոխարինում | F13: Հանրության կողմից անմիջականորեն օգտագործվող ակտիվների հետ կապված միջոցառումներ | G13: ='2.'!G26 -> -73198.8 | H13: ='2.'!H26 -> -103811.1
C14: 1049 - 21020 | D14: Պետական նշանակության ավտոճանապարհների միջին նորոգում | E14: Միջպետական, հանրապետական և մարզային նշանակության ավտոճանապարհների պատվածքի մաշված վերին շերտի վերականգնում և շինարարական նորմերով նախատեսված սկզբնական որակական ցուցանիշների ապահովում | F14: Հանրության կողմից անմիջականորեն օգտագործվող ակտիվների հետ կապված միջոցառումներ | G14: ='2.'!G33 -> 73198.8 | H14: ='2.'!H33 -> 103811.1
C18: ՀԱՅԱՍՏԱՆԻ ՀԱՆՐԱՊԵՏՈՒԹՅԱՆ ՎԱՐՉԱՊԵՏԻ ԱՇԽԱՏԱԿԱԶՄԻ ՂԵԿԱՎԱՐ՝ | E18: Ա.ՀԱՐՈՒԹՅՈՒՆՅԱՆ

Sheet 2.
H1: Հավելված N2
H2: ՀՀ կառավարության 2026 թվականի
H3: ______________ ի ___Ն որոշման
A5: ՀԱՅԱՍՏԱՆԻ ՀԱՆՐԱՊԵՏՈՒԹՅԱՆ ԿԱՌԱՎԱՐՈՒԹՅԱՆ 2025 ԹՎԱԿԱՆԻ ԴԵԿՏԵՄԲԵՐԻ 25-Ի N 1910-Ն ՈՐՈՇՄԱՆ NN 3 ԵՎ 4 ՀԱՎԵԼՎԱԾՆԵՐՈՒՄ ԿԱՏԱՐՎՈՂ ՓՈՓՈԽՈՒԹՅՈՒՆՆԵՐԸ ԵՎ ԼՐԱՑՈՒՄՆԵՐԸ
H7: հազար դրամներով
A8: Գործառական դասիչը | D8: Ծրագրային դասիչը | F8: Բյուջետային հատկացումների գլխավոր կարգադրիչների, ծրագրերի, միջոցառումների և միջոցառումները կատարող պետական մարմինների անվանումները | G8: Ցուցանիշների փոփոխությունը (ավելացումները նշված են դրական նշանով, իսկ նվազեցումները` փակագծերում)
A9: Բաժին | B9: Խումբ | C9: Դաս | D9: Ծրագիր | E9: Միջոցառում | G9: Ինն ամիս | H9: Տարի
F10: ԸՆԴԱՄԵՆԸ | G10: =G12 -> 0 | H10: =H12 -> 0
F11: այդ թվում`
F12: ՀՀ տարածքային կառավարման և ենթակառուցվածքների նախարարություն | G12: =G14 -> 0 | H12: =H14 -> 0
F13: այդ թվում`
A14: 04 | F14: ՏՆՏԵՍԱԿԱՆ ՀԱՐԱԲԵՐՈՒԹՅՈՒՆՆԵՐ | G14: =G16 -> 0 | H14: =H16 -> 0
F15: այդ թվում`
B16: 05 | F16: ՏՐԱՆՍՊՈՐՏ | G16: =G18 -> 0 | H16: =H18 -> 0
F17: այդ թվում`
C18: 01 | F18: Ճանապարհային տրանսպորտ | G18: =G20 -> 0 | H18: =H20 -> 0
F19: այդ թվում`
F20: ՀՀ տարածքային կառավարման և ենթակառուցվածքների նախարարություն | G20: 0 | H20: 0
F21: այդ թվում`
D22: 1049 | F22: Ճանապարհային ցանցի բարելավում | G22: 0 | H22: =H24+H33 -> 0
F23: այդ թվում`
E24: 21001 | F24: Պետական նշանակության ավտոճանապարհների հիմնանորոգում | G24: -73198.8 | H24: -103811.1
F25: այդ թվում` ըստ կատարողների
F26: ՀՀ կառավարություն | G26: -73198.8 | H26: -103811.1
F27: այդ թվում` բյուջետային ծախսերի տնտեսագիտական դասակարգման հոդվածներ
F28: ԸՆԴԱՄԵՆԸ ԾԱԽՍԵՐ | G28: -73198.8 | H28: -103811.1
F29: ՈՉ ՖԻՆԱՆՍԱԿԱՆ ԱԿՏԻՎՆԵՐԻ ԳԾՈՎ ԾԱԽՍԵՐ | G29: =G30 -> -73198.8 | H29: =H30 -> -103811.1
F30: ՀԻՄՆԱԿԱՆ ՄԻՋՈՑՆԵՐ | G30: -73198.8 | H30: -103811.1
F31: ՇԵՆՔԵՐ ԵՎ ՇԻՆՈՒԹՅՈՒՆՆԵՐ | G31: -73198.8 | H31: -103811.1
F32: - Շենքերի և շինությունների կապիտալ վերանորոգում | G32: -73198.8 | H32: -103811.1
E33: 21020 | F33: Պետական նշանակության ավտոճանապարհների միջին նորոգում | G33: 73198.8 | H33: 103811.1
F34: այդ թվում` ըստ կատարողների
F35: ՀՀ տարածքային կառավարման և ենթակառուցվածքների նախարարություն | G35: 2671804.3 | H35: 3720213
F36: այդ թվում` բյուջետային ծախսերի տնտեսագիտական դասակարգման հոդվածներ
F37: ԸՆԴԱՄԵՆԸ ԾԱԽՍԵՐ | G37: 2671804.3 | H37: 3720213
F38: ՈՉ ՖԻՆԱՆՍԱԿԱՆ ԱԿՏԻՎՆԵՐԻ ԳԾՈՎ ԾԱԽՍԵՐ | G38: 2671804.3 | H38: 3720213
F39: ՀԻՄՆԱԿԱՆ ՄԻՋՈՑՆԵՐ | G39: 2671804.3 | H39: 3720213
F40: ՇԵՆՔԵՐ ԵՎ ՇԻՆՈՒԹՅՈՒՆՆԵՐ | G40: 2671804.3 | H40: 3720213
F41: - Շենքերի և շինությունների կապիտալ վերանորոգում | G41: 2671804.3 | H41: 3720213
F42: ՀՀ կառավարություն | G42: -2598605.5 | H42: -3616401.9
...

Sheet 3.
H1: Հավելված N3
H2: ՀՀ կառավարության 2026 թվականի
H3: ______________ ի ___Ն որոշման
A5: «ՀԱՅԱՍՏԱՆԻ ՀԱՆՐԱՊԵՏՈՒԹՅԱՆ 2026 ԹՎԱԿԱՆԻ ՊԵՏԱԿԱՆ ԲՅՈՒՋԵԻ ՄԱՍԻՆ» ՕՐԵՆՔԻ N 1 ՀԱՎԵԼՎԱԾԻ N 3 ԱՂՅՈՒՍԱԿՈՒՄ ԿԱՏԱՐՎՈՂ ՓՈՓՈԽՈՒԹՅՈՒՆՆԵՐԸ ԵՎ ԼՐԱՑՈՒՄՆԵՐԸ
G6: հազար դրամներով
A7: Ծրագրային դասիչ | C7: Բյուջետային գլխավոր կարգադրիչների, ծրագրերի, միջոցառումների և ուղղությունների անվանումները | D7: Ցուցանիշների փոփոխությունը (ավելացումները նշված են դրական նշանով, իսկ նվազեցումները` փակագծերում)
D8: Ընդամենը, | E8: այդ թվում՝
A9: Ծրագիր | B9: Միջոցառում | E9: Կառուցման աշխատանքներ | F9: Վերակառուցման, վերանորոգման և վերականգնման աշխատանքներ | G9: Նախագծահե- տազոտական, գեոդեզիա- քարտեզագրական աշխատանքներ | H9: Ոչ ֆինանսական այլ ակտիվների ձեռքբերում
C10: ԸՆԴԱՄԵՆԸ | D10: 0 | E10: 0 | F10: 0 | G10: 0 | H10: 0
C11: այդ թվում՝
C12: ՀՀ ՏԱՐԱԾՔԱՅԻՆ ԿԱՌԱՎԱՐՄԱՆ ԵՎ ԵՆԹԱԿԱՌՈՒՑՎԱԾՔՆԵՐԻ ՆԱԽԱՐԱՐՈՒԹՅՈՒՆ | D12: 0 | E12: 0 | F12: 0 | G12: 0 | H12: 0
C13: այդ թվում`
A14: 1049 | B14: 21001 | C14: Պետական նշանակության ավտոճանապարհների հիմնանորոգում | D14: -103811.1 | E14: 0 | F14: -103811.1 | G14: 0 | H14: 0
C15: այդ թվում`
C16: ՀՀ կառավարություն | D16: -103811.1 | E16: 0 | F16: -103811.1 | G16: 0 | H16: 0
A17: 1049 | B17: 21020 | C17: Պետական նշանակության ավտոճանապարհների միջին նորոգում | D17: 103811.1 | E17: 0 | F17: 103811.1 | G17: 0 | H17: 0
C18: այդ թվում`
C19: Մ-4 Երևան - Սևան - Իջևան – ՀՀ սահման (ձախ գոտի) միջպետական նշանակության ավտոճանապարհի կմ24+813 ÷ կմ27+000 հատված | D19: 121998 | E19: 0 | F19: 121998 | G19: 0 | H19: 0
C20: Մ-4 Երևան - Սևան - Իջևան – ՀՀ սահման (աջ գոտի) միջպետական նշանակության ավտոճանապարհի կմ32+580 ÷ կմ36+000 հատված | D20: 184200 | E20: 0 | F20: 184200 | G20: 0 | H20: 0
C21: Մ-4 Երևան - Սևան - Իջևան – ՀՀ սահման (ձախ գոտի) միջպետական նշանակության ավտոճանապարհի կմ35+500 ÷ կմ51+100 հատված | D21: 789000 | E21: 0 | F21: 789000 | G21: 0 | H21: 0
C22: Մ-4 Երևան - Սևան - Իջևան – ՀՀ սահման (ձախ գոտի) միջպետական նշանակության ավտոճանապարհի կմ51+100 ÷ կմ68+000 հատված | D22: 856500 | E22: 0 | F22: 856500 | G22: 0 | H22: 0
C23: Մ-4 Երևան - Սևան - Իջևան – ՀՀ սահման (աջ գոտի) միջպետական նշանակության ավտոճանապարհի կմ64+174 ÷ կմ68+000 հատված | D23: 232800 | E23: 0 | F23: 232800 | G23: 0 | H23: 0
C24: Մ-2 Երևան-Երասխ-Նորավան- Տաթև-Կապան-Մեղրի-ՀՀ սահման միջպետական նշանակության ավտոճանապարհի կմ167+600-կմ180+928 հատված | D24: 705000 | E24: 0 | F24: 705000 | G24: 0 | H24: 0
C25: Մ-2 Երևան-Երասխ-Նորավան- Տաթև-Կապան-Մեղրի-ՀՀ սահման միջպետական նշանակության ավտոճանապարհի կմ190+000-կմ196+140 հատված | D25: 225000 | E25: 0 | F25: 225000 | G25: 0 | H25: 0
C26: Մ-2 Երևան-Երասխ-Նորավան- Տաթև-Կապան-Մեղրի-ՀՀ սահման միջպետական նշանակության ավտոճանապարհի կմ204+226-կմ208+652 հատված | D26: 185100 | E26: 0 | F26: 185100 | G26: 0 | H26: 0
C27: Հ- 36-/Մ-4/(Իջևան) - Նավուր - Բերդ - Այգեպար - Հ-37 հանրապետական նշանակության ավտոճանապարհի կմ56+500 (55+524) - կմ62+526 (61+550) հատված) | D27: 242910 | E27: 0 | F27: 242910 | G27: 0 | H27: 0
C28: Հ-64 /Հ-36/(Բերդ) - Արծվաբերդ - Չինարի հանրապետական նշանակության ճանապարհի կմ9+589 + կմ14+160 հատված | D28: 177705 | E28: 0 | F28: 177705 | G28: 0 | H28: 0
C29: ՀՀ կառավարություն | D29: -3616401.9 | E29: 0 | F29: -3616401.9 | G29: 0 | H29: 0
D33: ՀԱՅԱՍՏԱՆԻ ՀԱՆՐԱՊԵՏՈՒԹՅԱՆ ՎԱՐՉԱՊԵՏԻ ԱՇԽԱՏԱԿԱԶՄԻ ՂԵԿԱՎԱՐ՝ | G33: Ա.ՀԱՐՈՒԹՅՈՒՆՅԱՆ

Sheet 4
F1: Հավելված N 4
F2: ՀՀ կառավարության 2026 թվականի
F3: ______________ ի ___Ն որոշման
A5: ՀԱՅԱՍՏԱՆԻ ՀԱՆՐԱՊԵՏՈՒԹՅԱՆ ԿԱՌԱՎԱՐՈՒԹՅԱՆ 2025 ԹՎԱԿԱՆԻ ԴԵԿՏԵՄԲԵՐԻ 25-Ի N 1910-Ն ՈՐՈՇՄԱՆ N 5 ՀԱՎԵԼՎԱԾԻ N 2 ԱՂՅՈՒՍԱԿՈՒՄ ԿԱՏԱՐՎՈՂ ՓՈՓՈԽՈՒԹՅՈՒՆՆԵՐԸ ԵՎ ԼՐԱՑՈՒՄՆԵՐԸ
F7: հազար դրամներով
B8: Ծրագրային դասիչը | D8: Հատկացումների տրամադրման նպատակները և բյուջետային գլխավոր կարգադրիչների, ծրագրերի, միջոցառումների և կատարող պետական մարմնի անվանումները | E8: Ցուցանիշների փոփոխությունը (ավելացումները նշված են դրական նշանով, իսկ նվազեցումները` փակագծերում)
B9: Ծրագիր | C9: Միջոցառում | E9: Ինն ամիս | F9: Տարի
D10: ԸՆԴԱՄԵՆԸ | E10: =E12 -> 0 | F10: =F12 -> 0
D11: այդ թվում՝
D12: ՀՀ ՏԱՐԱԾՔԱՅԻՆ ԿԱՌԱՎԱՐՄԱՆ ԵՎ ԵՆԹԱԿԱՌՈՒՑՎԱԾՔՆԵՐԻ ՆԱԽԱՐԱՐՈՒԹՅՈՒՆ | E12: 0 | F12: =F14+F28 -> 0
D13: այդ թվում`
B14: 1049 | C14: 21020 | D14: Պետական նշանակության ավտոճանապարհների միջին նորոգում | E14: 73198.8 | F14: 103811.1
D15: այդ թվում` ըստ կատարողների
D16: ՀՀ կառավարություն | E16: -2598605.5 | F16: -3616401.9
D17: ՀՀ տարածքային կառավարման և ենթակառուցվածքների նախարարություն | E17: 2671804.3 | F17: 3720213
D18: Մ-4 Երևան - Սևան - Իջևան – ՀՀ սահման (ձախ գոտի) միջպետական նշանակության ավտոճանապարհի կմ24+813 ÷ կմ27+000 հատված | E18: 73198.8 | F18: 121998
D19: Մ-4 Երևան - Սևան - Իջևան – ՀՀ սահման (աջ գոտի) միջպետական նշանակության ավտոճանապարհի կմ32+580 ÷ կմ36+000 հատված | E19: 184200 | F19: 184200
D20: Մ-4 Երևան - Սևան - Իջևան – ՀՀ սահման (ձախ գոտի) միջպետական նշանակության ավտոճանապարհի կմ35+500 ÷ կմ51+100 հատված | E20: 670650 | F20: 789000
D21: Մ-4 Երևան - Սևան - Իջևան – ՀՀ սահման (ձախ գոտի) միջպետական նշանակության ավտոճանապարհի կմ51+100 ÷ կմ68+000 հատված | E21: 716188 | F21: 856500
D22: Մ-4 Երևան - Սևան - Իջևան – ՀՀ սահման (աջ գոտի) միջպետական նշանակության ավտոճանապարհի կմ64+174 ÷ կմ68+000 հատված | E22: 232800 | F22: 232800
D23: Մ-2 Երևան-Երասխ-Նորավան- Տաթև-Կապան-Մեղրի-ՀՀ սահման միջպետական նշանակության ավտոճանապարհի կմ167+600-կմ180+928 հատված | E23: 338400 | F23: 705000
D24: Մ-2 Երևան-Երասխ-Նորավան- Տաթև-Կապան-Մեղրի-ՀՀ սահման միջպետական նշանակության ավտոճանապարհի կմ190+000-կմ196+140 հատված | E24: 135000 | F24: 225000
D25: Մ-2 Երևան-Երասխ-Նորավան- Տաթև-Կապան-Մեղրի-ՀՀ սահման միջպետական նշանակության ավտոճանապարհի կմ204+226-կմ208+652 հատված | E25: 111060 | F25: 185100
D26: Հ- 36-/Մ-4/(Իջևան) - Նավուր - Բերդ - Այգեպար - Հ-37 հանրապետական նշանակության ավտոճանապարհի կմ56+500(55+524) - կմ62+526 (61+500) հատված | E26: 121455 | F26: 242910
D27: Հ-64 /Հ-36/(Բերդ) - Արծվաբերդ - Չինարի հանրապետական նշանակության ճանապարհի կմ9+589 + կմ14+160 հատված | E27: 88852.5 | F27: 177705
B28: 1049 | C28: 21001 | D28: Պետական նշանակության ավտոճանապարհների հիմնանորոգում | E28: -73198.8 | F28: -103811.1
D29: այդ թվում` ըստ կատարողների
D30: ՀՀ կառավարություն | E30: -73198.8 | F30: -103811.1
D36: ՀԱՅԱՍՏԱՆԻ ՀԱՆՐԱՊԵՏՈՒԹՅԱՆ ՎԱՐՉԱՊԵՏԻ ԱՇԽԱՏԱԿԱԶՄԻ ՂԵԿԱՎԱՐ՝ | E36: Ա.ՀԱՐՈՒԹՅՈՒՆՅԱՆ

Sheet 5
K1: Հավելված N5
K2: ՀՀ կառավարության 2026 թվականի
K3: ______________ ի ___Ն որոշման
A5: ՀԱՅԱՍՏԱՆԻ ՀԱՆՐԱՊԵՏՈՒԹՅԱՆ ԿԱՌԱՎԱՐՈՒԹՅԱՆ 2025 ԹՎԱԿԱՆԻ ԴԵԿՏԵՄԲԵՐԻ 25-Ի № 1910-Ն ՈՐՈՇՄԱՆ № 9 ՀԱՎԵԼՎԱԾՈՒՄ ԿԱՏԱՐՎՈՂ ՓՈՓՈԽՈՒԹՅՈՒՆՆԵՐԸ ԵՎ ԼՐԱՑՈՒՄՆԵՐԸ
K7: հազար դրամներով
A8: ԲԳԿ | B8: Ծրագիր | D8: Միջոցառում | H8: Իրականացնողը/ ակտիվն օգտագործողը/ շահառուի ընտրության չափորոշիչը | I8: Արդյունքային չափորոշիչը | J8: Ցուցանիշների փոփոխությունը (ավելացումները նշված են դրական նշանով, իսկ նվազեցումները՝ փակագծերում)
B9: Դասիչը | C9: Անվանումը | D9: Դասիչը | E9: Անվանումը | F9: Նկարագրությունը | G9: Տեսակը | J9: Ինն ամիս | K9: Տարի
A10: ԸՆԴԱՄԵՆԸ | J10: 0 | K10: 0
A11: ՀՀ տարածքային կառավարման և ենթակառուցվածքների նախարարություն | J11: 0 | K11: 0
B12: 1049 | C12: Ճանապարհային ցանցի բարելավում | J12: 0 | K12: 0
D13: 1049 - 21001 | E13: Պետական նշանակության ավտոճանապարհների հիմնանորոգում | J13: ='2.'!G24 -> -73198.8 | K13: ='2.'!H24 -> -103811.1
F14: Միջպետական, հանրապետական և մարզային նշանակության ավտոճոնապարհների քայքայված ծածկի վերանորոգում, մաշված ծածկի փոխարինում
G15: Հանրության կողմից անմիջականորեն օգտագործվող ակտիվների հետ կապված միջոցառումներ
H16: Միջոցառումն իրականացնողի անվանումը` Մասնագիտացված միավոր
D17: 1049 - 21020 | E17: Պետական նշանակության ավտոճանապարհների միջին նորոգում | J17: ='2.'!G33 -> 73198.8 | K17: ='2.'!H33 -> 103811.1
F18: Միջպետական, հանրապետական և մարզային նշանակության ավտոճանապարհների պատվածքի մաշված վերին շերտի վերականգնում և շինարարական նորմերով նախատեսված սկզբնական որակական ցուցանիշների ապահովում
G19: Հանրության կողմից անմիջականորեն օգտագործվող ակտիվների հետ կապված միջոցառումներ
H20: ՀՀ տարածքային կառավարման և ենթակառուցվածքների նախարարություն, մրցութային կարգով ընտրված կազմակերպություններ
C23: ՀԱՅԱՍՏԱՆԻ ՀԱՆՐԱՊԵՏՈՒԹՅԱՆ ՎԱՐՉԱՊԵՏԻ ԱՇԽԱՏԱԿԱԶՄԻ ՂԵԿԱՎԱՐ՝ Ա.ՀԱՐՈՒԹՅՈՒՆՅԱՆ

Sheet 6
K1: Հավելված N6
K2: ՀՀ կառավարության 2026 թվականի
K3: ______________ ի ___Ն որոշման
A5: ՀԱՅԱՍՏԱՆԻ ՀԱՆՐԱՊԵՏՈՒԹՅԱՆ ԿԱՌԱՎԱՐՈՒԹՅԱՆ 2025 ԹՎԱԿԱՆԻ ԴԵԿՏԵՄԲԵՐԻ 25-Ի № 1910-Ն ՈՐՈՇՄԱՆ № 9.1 ՀԱՎԵԼՎԱԾՈՒՄ ԿԱՏԱՐՎՈՂ ՓՈՓՈԽՈՒԹՅՈՒՆՆԵՐԸ ԵՎ ԼՐԱՑՈՒՄՆԵՐԸ
K6: հազար դրամներով
A7: ԲՍԿ | B7: Ծրագիր | D7: Միջոցառում | H7: Իրականացնողը/ ակտիվն օգտագործողը/ շահառուի ընտրության չափորոշիչը | I7: Արդյունքային չափորոշիչը | J7: Ցուցանիշների փոփոխությունը (ավելացումները նշված են դրական նշանով, իսկ նվազեցումները` փակագծերում)
B8: Դասիչը | C8: Անվանումը | D8: Դասիչը | E8: Անվանումը | F8: Նկարագրությունը | G8: Տեսակը | J8: Ինն ամիս | K8: Տարի
A9: ԸՆԴԱՄԵՆԸ | J9: =J10+J17 -> 0 | K9: =K10+K17 -> 0
A10: ՀՀ տարածքային կառավարման և ենթակառուցվածքների նախարարություն | J10: =J11 -> 2671804.3 | K10: =K11 -> 3720213
B11: 1049 | C11: Ճանապարհային ցանցի բարելավում | J11: =J12 -> 2671804.3 | K11: =K12 -> 3720213
D12: 1049 - 21020 | E12: Պետական նշանակության ավտոճանապարհների միջին նորոգում | J12: ='2.'!G35 -> 2671804.3 | K12: ='2.'!H35 -> 3720213
F13: Միջպետական, հանրապետական և մարզային նշանակության ավտոճանապարհների պատվածքի մաշված վերին շերտի վերականգնում և շինարարական նորմերով նախատեսված սկզբնական որակական ցուցանիշների ապահովում
G14: Հանրության կողմից անմիջականորեն օգտագործվող ակտիվների հետ կապված միջոցառումներ
H15: ՀՀ տարածքային կառավարման և ենթակառուցվածքների նախարարություն, մրցութային կարգով ընտրված կազմակերպություններ
I16: Միջին նորոգման ենթակա ճանապարհների երկարությունը, կիլոմետր | K16: =-K27 -> 76.424
A17: ՀՀ կառավարություն | J17: =J18 -> -2671804.3 | K17: =K18 -> -3720213
B18: 1049 | C18: Ճանապարհային ցանցի բարելավում | J18: =J19+J23 -> -2671804.3 | K18: =K19+K23 -> -3720213
D19: 1049 - 21001 | E19: Պետական նշանակության ավտոճանապարհների հիմնանորոգում | J19: ='2.'!G26 -> -73198.8 | K19: ='2.'!H26 -> -103811.1
F20: Միջպետական, հանրապետական և մարզային նշանակության ավտոճոնապարհների քայքայված ծածկի վերանորոգում, մաշված ծածկի փոխարինում
G21: Հանրության կողմից անմիջականորեն օգտագործվող ակտիվների հետ կապված միջոցառումներ
H22: Միջոցառումն իրականացնողի անվանումը` Մասնագիտացված միավոր
D23: 1049 - 21020 | E23: Պետական նշանակության ավտոճանապարհների միջին նորոգում | J23: ='2.'!G42 -> -2598605.5 | K23: ='2.'!H42 -> -3616401.9
F24: Միջպետական, հանրապետական և մարզային նշանակության ավտոճանապարհների պատվածքի մաշված վերին շերտի վերականգնում և շինարարական նորմերով նախատեսված սկզբնական որակական ցուցանիշների ապահովում
G25: Հանրության կողմից անմիջականորեն օգտագործվող ակտիվների հետ կապված միջոցառումներ
H26: ՀՀ տարածքային կառավարման և ենթակառուցվածքների նախարարություն, մրցութային կարգով ընտրված կազմակերպություններ
I27: Միջին նորոգման ենթակա ճանապարհների երկարությունը, կիլոմետր | K27: -76.424
C30: ՀԱՅԱՍՏԱՆԻ ՀԱՆՐԱՊԵՏՈՒԹՅԱՆ
C31: ՎԱՐՉԱՊԵՏԻ ԱՇԽԱՏԱԿԱԶՄԻ
D32: ՂԵԿԱՎԱՐ ՝ Ա. ՀԱՐՈՒԹՅՈՒՆՅԱՆ

Sheet 7.
H1: Հավելված N7
H2: ՀՀ կառավարության 2026 թվականի
H3: ______________ ի ___Ն որոշման
B5: ՀԱՅԱՍՏԱՆԻ ՀԱՆՐԱՊԵՏՈՒԹՅԱՆ ԿԱՌԱՎԱՐՈՒԹՅԱՆ 2025 ԹՎԱԿԱՆԻ ԴԵԿՏԵՄԲԵՐԻ 25-Ի N 1910-Ն ՈՐՈՇՄԱՆ N 10 ՀԱՎԵԼՎԱԾՈՒՄ ԿԱՏԱՐՎՈՂ ԼՐԱՑՈՒՄՆԵՐԸ
B7: Կոդը | C7: Անվանումը | D7: Գնման ձևը | E7: Չափման միավորը | F7: Միավորի գինը | G7: Ցուցանիշների փոփոխությունը (ավելացումները նշված են դրական նշանով)
G8: Քանակը | H8: Գումարը (հազար դրամով)
B9: ՀՀ տարածքային կառավարման և ենթակառուցվածքների նախարարություն | H9: =+H10 -> 3720213
B10: Բաժին N 04 | C10: Խումբ N 05 | D10: Դաս N 01 | E10: Ճանապարհային տրանսպորտ | H10: =H11 -> 3720213
B11: 1049 21020 | C11: Պետական նշանակության ավտոճանապարհների միջին նորոգում | H11: =SUM(H13:H22) -> 3720213
B12: ՄԱՍ II ԱՇԽԱՏԱՆՔՆԵՐ | H12: =SUM(H13:H22) -> 3720213
B13: 45231177/526 | C13: ճանապարհների վերանորոգման աշխատանքներ | D13: ՀԲՄ | E13: դրամ | F13: 121998000 | G13: 1 | H13: =+G13*F13/1000 -> 121998
B14: 45231177/533 | C14: ճանապարհների վերանորոգման աշխատանքներ | D14: ՀԲՄ | E14: դրամ | F14: 184200000 | G14: 1 | H14: =+G14*F14/1000 -> 184200
B15: 45231177/527 | C15: ճանապարհների վերանորոգման աշխատանքներ | D15: ՀԲՄ | E15: դրամ | F15: 789000000 | G15: 1 | H15: =+G15*F15/1000 -> 789000
B16: 45231177/528 | C16: ճանապարհների վերանորոգման աշխատանքներ | D16: ՀԲՄ | E16: դրամ | F16: 856500000 | G16: 1 | H16: =+G16*F16/1000 -> 856500
B17: 45231177/529 | C17: ճանապարհների վերանորոգման աշխատանքներ | D17: ՀԲՄ | E17: դրամ | F17: 232800000 | G17: 1 | H17: =+G17*F17/1000 -> 232800
B18: 45231177/540 | C18: ճանապարհների վերանորոգման աշխատանքներ | D18: ՀԲՄ | E18: դրամ | F18: 705000000 | G18: 1 | H18: =+G18*F18/1000 -> 705000
B19: 45231177/545 | C19: ճանապարհների վերանորոգման աշխատանքներ | D19: ՀԲՄ | E19: դրամ | F19: 225000000 | G19: 1 | H19: =+G19*F19/1000 -> 225000
B20: 45231177/546 | C20: ճանապարհների վերանորոգման աշխատանքներ | D20: ՀԲՄ | E20: դրամ | F20: 185100000 | G20: 1 | H20: =+G20*F20/1000 -> 185100
B21: 45231177/541 | C21: ճանապարհների վերանորոգման աշխատանքներ | D21: ՀԲՄ | E21: դրամ | F21: 242910000 | G21: 1 | H21: =+G21*F21/1000 -> 242910
B22: 45231177/542 | C22: ճանապարհների վերանորոգման աշխատանքներ | D22: ՀԲՄ | E22: դրամ | F22: 177705000 | G22: 1 | H22: =+G22*F22/1000 -> 177705
B24: ՀԱՅԱՍՏԱՆԻ ՀԱՆՐԱՊԵՏՈՒԹՅԱՆ
B25: ՎԱՐՉԱՊԵՏԻ ԱՇԽԱՏԱԿԱԶՄԻ
C26: ՂԵԿԱՎԱՐ ՝ Ա. ՀԱՐՈՒԹՅՈՒՆՅԱՆ
