Workbook

Sheet 1
I1: Հավելված N 1
I2: ՀՀ կառավարության 2026 թվականի
I3: ______________ ի ___Ն որոշման
B5: ՀԱՅԱՍՏԱՆԻ ՀԱՆՐԱՊԵՏՈՒԹՅԱՆ ԿԱՌԱՎԱՐՈՒԹՅԱՆ 2025 ԹՎԱԿԱՆԻ ԴԵԿՏԵՄԲԵՐԻ 25-Ի N 1910-Ն ՈՐՈՇՄԱՆ NN 3 ԵՎ 4 ՀԱՎԵԼՎԱԾՆԵՐՈՒՄ ԿԱՏԱՐՎՈՂ ՓՈՓՈԽՈՒԹՅՈՒՆՆԵՐԸ ԵՎ ԼՐԱՑՈՒՄՆԵՐԸ
I7: հազար դրամներով
B8: Գործառական դասիչը | E8: Ծրագրային դասիչը | G8: Բյուջետային հատկացումների գլխավոր կարգադրիչների, ծրագրերի, միջոցառումների և միջոցառումները կատարող պետական մարմինների անվանումները | H8: Ցուցանիշների փոփոխությունը (ավելացումները նշված են դրական նշանով, իսկ նվազեցումները` փակագծերում)
B9: Բաժին | C9: Խումբ | D9: Դաս | E9: Ծրագիր | F9: Միջոցառում | H9: Ինն ամիս | I9: Տարի
G10: ԸՆԴԱՄԵՆԸ | H10: =H12 -> 0 | I10: =I12 -> 0
G11: այդ թվում`
G12: ՀՀ տարածքային կառավարման և ենթակառուցվածքների նախարարություն | H12: =H14 -> 0 | I12: =I14 -> 0
G13: այդ թվում`
B14: 04 | G14: ՏՆՏԵՍԱԿԱՆ ՀԱՐԱԲԵՐՈՒԹՅՈՒՆՆԵՐ | H14: 0 | I14: 0
G15: այդ թվում`
C16: 05 | G16: ՏՐԱՆՍՊՈՐՏ | H16: 0 | I16: 0
G17: այդ թվում`
D18: 01 | G18: Ճանապարհային տրանսպորտ | H18: 0 | I18: 0
G19: այդ թվում`
G20: ՀՀ տարածքային կառավարման և ենթակառուցվածքների նախարարություն | H20: 0 | I20: 0
G21: այդ թվում`
E22: 1049 | G22: Ճանապարհային ցանցի բարելավում | H22: 0 | I22: 0
G23: այդ թվում`
F24: 21001 | G24: Պետական նշանակության ավտոճանապարհների հիմնանորոգում | H24: 0 | I24: 0
G25: այդ թվում` ըստ կատարողների
G26: ՀՀ կառավարություն | H26: -1507553 | I26: -1507553
G27: այդ թվում` բյուջետային ծախսերի տնտեսագիտական դասակարգման հոդվածներ
G28: ԸՆԴԱՄԵՆԸ ԾԱԽՍԵՐ | H28: -1507553 | I28: -1507553
G29: ՈՉ ՖԻՆԱՆՍԱԿԱՆ ԱԿՏԻՎՆԵՐԻ ԳԾՈՎ ԾԱԽՍԵՐ | H29: -1507553 | I29: -1507553
G30: ՀԻՄՆԱԿԱՆ ՄԻՋՈՑՆԵՐ | H30: -1507553 | I30: -1507553
G31: ՇԵՆՔԵՐ ԵՎ ՇԻՆՈՒԹՅՈՒՆՆԵՐ | H31: -1507553 | I31: -1507553
G32: - Շենքերի և շինությունների կապիտալ վերանորոգում | H32: -1507553 | I32: -1507553
G33: ՀՀ Արագածոտնի մարզպետի աշխատակազմ | H33: 239828.5 | I33: 239828.5
G34: այդ թվում` բյուջետային ծախսերի տնտեսագիտական դասակարգման հոդվածներ
G35: ԸՆԴԱՄԵՆԸ ԾԱԽՍԵՐ | H35: 239828.5 | I35: 239828.5
G36: ՈՉ ՖԻՆԱՆՍԱԿԱՆ ԱԿՏԻՎՆԵՐԻ ԳԾՈՎ ԾԱԽՍԵՐ | H36: 239828.5 | I36: 239828.5
G37: ՀԻՄՆԱԿԱՆ ՄԻՋՈՑՆԵՐ | H37: 239828.5 | I37: 239828.5
G38: ՇԵՆՔԵՐ ԵՎ ՇԻՆՈՒԹՅՈՒՆՆԵՐ | H38: 239828.5 | I38: 239828.5
G39: - Շենքերի և շինությունների կապիտալ վերանորոգում | H39: 239828.5 | I39: 239828.5
G40: ՀՀ Գեղարքունիքի մարզպետի աշխատակազմ | H40: 104641.7 | I40: 104641.7
G41: այդ թվում` բյուջետային ծախսերի տնտեսագիտական դասակարգման հոդվածներ
G42: ԸՆԴԱՄԵՆԸ ԾԱԽՍԵՐ | H42: 104641.7 | I42: 104641.7
G43: ՈՉ ՖԻՆԱՆՍԱԿԱՆ ԱԿՏԻՎՆԵՐԻ ԳԾՈՎ ԾԱԽՍԵՐ | H43: 104641.7 | I43: 104641.7
G44: ՀԻՄՆԱԿԱՆ ՄԻՋՈՑՆԵՐ | H44: 104641.7 | I44: 104641.7
G45: ՇԵՆՔԵՐ ԵՎ ՇԻՆՈՒԹՅՈՒՆՆԵՐ | H45: 104641.7 | I45: 104641.7
G46: - Շենքերի և շինությունների կապիտալ վերանորոգում | H46: 104641.7 | I46: 104641.7
G47: ՀՀ Լոռու մարզպետի աշխատակազմ | H47: 544177.3 | I47: 544177.3
G48: այդ թվում` բյուջետային ծախսերի տնտեսագիտական դասակարգման հոդվածներ
G49: ԸՆԴԱՄԵՆԸ ԾԱԽՍԵՐ | H49: 544177.3 | I49: 544177.3
G50: ՈՉ ՖԻՆԱՆՍԱԿԱՆ ԱԿՏԻՎՆԵՐԻ ԳԾՈՎ ԾԱԽՍԵՐ | H50: 544177.3 | I50: 544177.3
G51: ՀԻՄՆԱԿԱՆ ՄԻՋՈՑՆԵՐ | H51: 544177.3 | I51: 544177.3
G52: ՇԵՆՔԵՐ ԵՎ ՇԻՆՈՒԹՅՈՒՆՆԵՐ | H52: 544177.3 | I52: 544177.3
G53: - Շենքերի և շինությունների կապիտալ վերանորոգում | H53: 544177.3 | I53: 544177.3
G54: ՀՀ Շիրակի մարզպետի աշխատակազմ | H54: 314558.8 | I54: 314558.8
G55: այդ թվում` բյուջետային ծախսերի տնտեսագիտական դասակարգման հոդվածներ
G56: ԸՆԴԱՄԵՆԸ ԾԱԽՍԵՐ | H56: 314558.8 | I56: 314558.8
G57: ՈՉ ՖԻՆԱՆՍԱԿԱՆ ԱԿՏԻՎՆԵՐԻ ԳԾՈՎ ԾԱԽՍԵՐ | H57: 314558.8 | I57: 314558.8
G58: ՀԻՄՆԱԿԱՆ ՄԻՋՈՑՆԵՐ | H58: 314558.8 | I58: 314558.8
G59: ՇԵՆՔԵՐ ԵՎ ՇԻՆՈՒԹՅՈՒՆՆԵՐ | H59: 314558.8 | I59: 314558.8
G60: - Շենքերի և շինությունների կապիտալ վերանորոգում | H60: 314558.8 | I60: 314558.8
G61: ՀՀ Սյունիքի մարզպետի աշխատակազմ | H61: 53889.6 | I61: 53889.6
G62: այդ թվում` բյուջետային ծախսերի տնտեսագիտական դասակարգման հոդվածներ
G63: ԸՆԴԱՄԵՆԸ ԾԱԽՍԵՐ | H63: 53889.6 | I63: 53889.6
G64: ՈՉ ՖԻՆԱՆՍԱԿԱՆ ԱԿՏԻՎՆԵՐԻ ԳԾՈՎ ԾԱԽՍԵՐ | H64: 53889.6 | I64: 53889.6
G65: ՀԻՄՆԱԿԱՆ ՄԻՋՈՑՆԵՐ | H65: 53889.6 | I65: 53889.6
G66: ՇԵՆՔԵՐ ԵՎ ՇԻՆՈՒԹՅՈՒՆՆԵՐ | H66: 53889.6 | I66: 53889.6
G67: - Շենքերի և շինությունների կապիտալ վերանորոգում | H67: 53889.6 | I67: 53889.6
G68: ՀՀ Տավուշի մարզպետի աշխատակազմ | H68: 250457.1 | I68: 250457.1
G69: այդ թվում` բյուջետային ծախսերի տնտեսագիտական դասակարգման հոդվածներ
G70: ԸՆԴԱՄԵՆԸ ԾԱԽՍԵՐ | H70: 250457.1 | I70: 250457.1
G71: ՈՉ ՖԻՆԱՆՍԱԿԱՆ ԱԿՏԻՎՆԵՐԻ ԳԾՈՎ ԾԱԽՍԵՐ | H71: 250457.1 | I71: 250457.1
G72: ՀԻՄՆԱԿԱՆ ՄԻՋՈՑՆԵՐ | H72: 250457.1 | I72: 250457.1
G73: ՇԵՆՔԵՐ ԵՎ ՇԻՆՈՒԹՅՈՒՆՆԵՐ | H73: 250457.1 | I73: 250457.1
G74: - Շենքերի և շինությունների կապիտալ վերանորոգում | H74: 250457.1 | I74: 250457.1
F75: 21020 | G75: Պետական նշանակության ավտոճանապարհների միջին նորոգում | H75: 0 | I75: 0
G76: այդ թվում` ըստ կատարողների
G77: ՀՀ Տավուշի մարզպետի աշխատակազմ | H77: 107790 | I77: 107790
G78: այդ թվում` բյուջետային ծախսերի տնտեսագիտական դասակարգման հոդվածներ
G79: ԸՆԴԱՄԵՆԸ ԾԱԽՍԵՐ | H79: 107790 | I79: 107790
G80: ՈՉ ՖԻՆԱՆՍԱԿԱՆ ԱԿՏԻՎՆԵՐԻ ԳԾՈՎ ԾԱԽՍԵՐ | H80: 107790 | I80: 107790
G81: ՀԻՄՆԱԿԱՆ ՄԻՋՈՑՆԵՐ | H81: 107790 | I81: 107790
G82: ՇԵՆՔԵՐ ԵՎ ՇԻՆՈՒԹՅՈՒՆՆԵՐ | H82: 107790 | I82: 107790
G83: - Շենքերի և շինությունների կապիտալ վերանորոգում | H83: 107790 | I83: 107790
G84: ՀՀ կառավարություն | H84: -107790 | I84: -107790
G85: այդ թվում` բյուջետային ծախսերի տնտեսագիտական դասակարգման հոդվածներ
G86: ԸՆԴԱՄԵՆԸ ԾԱԽՍԵՐ | H86: -107790 | I86: -107790
G87: ՈՉ ՖԻՆԱՆՍԱԿԱՆ ԱԿՏԻՎՆԵՐԻ ԳԾՈՎ ԾԱԽՍԵՐ | H87: -107790 | I87: -107790
G88: ՀԻՄՆԱԿԱՆ ՄԻՋՈՑՆԵՐ | H88: -107790 | I88: -107790
G89: ՇԵՆՔԵՐ ԵՎ ՇԻՆՈՒԹՅՈՒՆՆԵՐ | H89: -107790 | I89: -107790
G90: - Շենքերի և շինությունների կապիտալ վերանորոգում | H90: -107790 | I90: -107790
D93: ՀԱՅԱՍՏԱՆԻ ՀԱՆՐԱՊԵՏՈՒԹՅԱՆ ՎԱՐՉԱՊԵՏԻ ԱՇԽԱՏԱԿԱԶՄԻ ՂԵԿԱՎԱՐ՝ | G93: Ա.ՀԱՐՈՒԹՅՈՒՆՅԱՆ

Sheet 2
I1: Հավելված N 2
I2: ՀՀ կառավարության 2026 թվականի
I3: ______________ ի ___Ն որոշման
B5: «ՀԱՅԱՍՏԱՆԻ ՀԱՆՐԱՊԵՏՈՒԹՅԱՆ 2026 ԹՎԱԿԱՆԻ ՊԵՏԱԿԱՆ ԲՅՈՒՋԵԻ ՄԱՍԻՆ» ՕՐԵՆՔԻ N 1 ՀԱՎԵԼՎԱԾԻ N 3 ԱՂՅՈՒՍԱԿՈՒՄ ԿԱՏԱՐՎՈՂ ՓՈՓՈԽՈՒԹՅՈՒՆԸ ԵՎ ԼՐԱՑՈՒՄՆԵՐԸ
H6: հազար դրամներով
B7: Ծրագրային դասիչ | D7: Բյուջետային գլխավոր կարգադրիչների, ծրագրերի, միջոցառումների և ուղղությունների անվանումները | E7: Ցուցանիշների փոփոխությունը (ավելացումները նշված են դրական նշանով, իսկ նվազեցումները` փակագծերում)
E8: Ընդամենը, | F8: այդ թվում՝
B9: Ծրագիր | C9: Միջոցառում | F9: Կառուցման աշխատանքներ | G9: Վերակառուցման, վերանորոգման և վերականգնման աշխատանքներ | H9: Նախագծահե- տազոտական, գեոդեզիա- քարտեզագրական աշխատանքներ | I9: Ոչ ֆինանսական այլ ակտիվների ձեռքբերում
D10: ԸՆԴԱՄԵՆԸ | E10: =F10+G10+H10+I10 -> 0 | F10: 0 | G10: =G12 -> 0 | H10: =H12 -> 0 | I10: =I12 -> 0
D11: այդ թվում՝
D12: ՀՀ ՏԱՐԱԾՔԱՅԻՆ ԿԱՌԱՎԱՐՄԱՆ ԵՎ ԵՆԹԱԿԱՌՈՒՑՎԱԾՔՆԵՐԻ ՆԱԽԱՐԱՐՈՒԹՅՈՒՆ | E12: =E14 -> 0 | F12: =F14 -> 0 | G12: =G14+G37 -> 0 | H12: =H14+H37 -> 0 | I12: =I14+I37 -> 0
D13: այդ թվում`
B14: 1049 | C14: 21001 | D14: Պետական նշանակության ավտոճանապարհների հիմնանորոգում | E14: =F14+G14+H14+I14 -> 0 | F14: =F16+F18+F20+F25+F30+F32+F36 -> 0 | G14: =G16+G18+G20+G25+G30+G32+G36 -> 0 | H14: =H16+H18+H20+H25+H30+H32+H36 -> 0 | I14: =I16+I18+I20+I25+I30+I32+I36 -> 0
D15: այդ թվում`
D16: ՀՀ Արագածոտնի մարզ | E16: 239828.5 | F16: 0 | G16: 239828.5 | H16: 0 | I16: =I17 -> 0
D17: ՀՀ Արագածոտնի մարզի Գետափի հմ/դ0.2կմ, Վերին Սասնաշենի Մ․ Մանուկյանի անվան հիմնական դպրոցից 0.1կմ և մարզային նշանակության Տ-1-41, 1.5կմ ավտոճանապարհների ասֆալտապատման աշխատանքներ | E17: 239828.5 | F17: 0 | G17: 239828.5 | H17: 0 | I17: 0
D18: ՀՀ Գեղարքունիքի մարզ | E18: 104641.7 | F18: 0 | G18: 104641.7 | H18: =H19 -> 0 | I18: =I19 -> 0
D19: Տ-4-82,/Հ-7/-Ծափաթաղ մարզային նշանակության ավտոճանապարհի կմ 0+00-կմ0+800 հատվածի հիմնանորոգման աշխատանքներ /Հ․ Աբրահամյանի անվան միջնակարգ դպրոց տանող ճանապարհ/ | E19: 104641.7 | F19: 0 | G19: 104641.7 | H19: 0 | I19: 0
D20: ՀՀ Լոռու մարզ | E20: 544177.3 | F20: 0 | G20: 544177.3 | H20: 0 | I20: 0
D21: ՀՀ Լոռու մարզի Թումանյան համայնքի Աթան բնակավայրի 4-րդ փողոցի 0.4 կմ երկարությամբ ճանապարհահատվածի ասֆալտապատման աշխատանքներ /Աթանի հիմնական դպրոց տանող ճանապարհ/ | E21: 115975.6 | F21: 0 | G21: 115975.6 | H21: 0 | I21: 0
D22: ՀՀ Լոռու մարզի Փամբակ համայնքի Բազում բնակավայրի 3-րդ փողոցից դեպի կրթահամալիր տանող ճանապարհի 0.4 կմ երկարությամբ հատվածների հիմնանորոգման աշխատանքներ | E22: 73574.7 | F22: 0 | G22: 73574.7 | H22: 0 | I22: 0
D23: ՀՀ Լոռու մարզի Թումանյան համայնքի Շամուտ բնակավայրի 1-ին փողոցի 0.7 կմ երկարությամբ ճանապարհահատվածի ասֆալտապատման աշխատանքներ/Շամուտի հիմնական դպրոց տանող ճանապարհ/ | E23: 201411 | F23: 0 | G23: 201411 | H23: 0 | I23: 0
D24: Տ-5-42, /Մ-3/ (Բազումի)-Ազնվաձոր տեղկան նշանակության ավտոճանապարհի կմ 0+000կմ 1+500 հատվածի հիմնանորոգում/Ազնվաձորի միջնակարգ դպրոց տանող ճանապարհ/ | E24: 153216 | F24: 0 | G24: 153216 | H24: 0 | I24: 0
D25: ՀՀ Շիրակի մարզ | E25: 314558.8 | F25: 0 | G25: 314558.8 | H25: =H26+H27+H28+H29 -> 0 | I25: =I26+I27+I28+I29 -> 0
D26: ՀՀ Շիրակի մարզի Ախուրյան համայնքի Ախուրյան բնակավայրի Յ․Ղամբարյան փողոցի հիմնանորոգման աշխատանքներ/Նոր Ախուրյանի հիմնական դպրոց տանող ճանապարհ/ | E26: 109281.2 | F26: 0 | G26: 109281.2 | H26: 0 | I26: 0
D27: ՀՀ Շիրակի մարզի Արթիկ համայնքի Նոր Կյանք բնակավայրի 4-րդ փողոցի հիմնանորոգման և ասֆալտապատման շինարարական աշխատանքներ/Վարդաքարի միջնակարգ դպրոց տանող ճանապարհ/ | E27: 60635.3 | F27: 0 | G27: 60635.3 | H27: 0 | I27: 0
D28: ՀՀ Շիրակի մարզի Կառնուտ բնակավայրի Կամոյի փողոցի հիմնանորգման աշխատանքներ/Նոր Ախուրյանի հիմնական դպրոց տանող ճանապարհ/ | E28: 58881.1 | F28: 0 | G28: 58881.1 | H28: 0 | I28: 0
D29: ՀՀ Շիրակի մարզի Ախուրյան համայնքի Քեթի բնակավայրի 7-րդ փողոցի հիմնանորգման աշխատանքներ/Քեթի միջնակարգ դպրոց տանող ճանապարհ/ | E29: 85761.2 | F29: 0 | G29: 85761.2 | H29: 0 | I29: 0
D30: ՀՀ Սյունիքի մարզ | E30: 53889.6 | F30: 0 | G30: 53889.6 | H30: =H31 -> 0 | I30: =I31 -> 0
D31: Սյունիքի մարզի Քաջարան համայնքի Ձագիկավան բնակավայրի /Մ-2 միջպետական ճանապարհից մինչև Ձագիկավանի միջնակարգ դպրոց/ փողոցի ասֆալտապատման աշխատանքներ | E31: 53889.6 | F31: 0 | G31: 53889.6 | H31: 0 | I31: 0
D32: ՀՀ Տավուշի մարզ | E32: 250457.1 | F32: 0 | G32: 250457.1 | H32: =H33+H34 -> 0 | I32: =I33+I34 -> 0
D33: ՀՀ Տավուշի մարզի Լուսաձորի կրթահամալիր տանող 0.31 կմ երկարությամբ համայնքային նշանակության ճանապարհի հիմնանորոգման աշխատանքներ | E33: 45968.6 | F33: 0 | G33: 45968.6 | H33: 0 | I33: 0
D34: ՀՀ Տավուշի մարզի Լուսաձորի կրթահամալիր տանող 0.45 կմ երկարությամբ համայնքային նշանակության ճանապարհի հիմնանորգման աշխատանքներ | E34: 55216.9 | F34: 0 | G34: 55216.9 | H34: 0 | I34: 0
D35: ՀՀ Տավուշի մարզի Բագրատաշենի թիվ 2 հիմնական դպրոց տանող ընդհանուր 1,002 կմ երկարությամբ համայնքային 2 փողոց տանող ճանապարհի հիմնանորգման աշխատանքներ | E35: 149271.6 | F35: 0 | G35: 149271.6 | H35: 0 | I35: 0
D36: ՀՀ կառավարություն | E36: -1507553 | F36: 0 | G36: -1507553 | H36: 0 | I36: 0
B37: 1049 | C37: 21020 | D37: Պետական նշանակության ավտոճանապարհների միջին նորոգում | E37: 0 | F37: 0 | G37: 0 | H37: 0 | I37: 0
D38: ՀՀ Տավուշի մարզ | E38: 107790 | F38: 0 | G38: 107790 | H38: =H40 -> 0 | I38: =I40 -> 0
D39: այդ թվում`
D40: ՀՀ Տավուշի մարզի լուսաձորի կրթահամալիր տանող Տ-10-25 /Մ-4/-Լուսաձոր կմ0+000-կմ1+500մարզային նշանակության ավտոճանապարհի միջին նորոգման աշխատանքներ | E40: 107790 | F40: 0 | G40: 107790 | H40: 0 | I40: 0
D41: ՀՀ կառավարություն | E41: -107790 | F41: 0 | G41: -107790 | H41: 0 | I41: 0
E44: ՀԱՅԱՍՏԱՆԻ ՀԱՆՐԱՊԵՏՈՒԹՅԱՆ ՎԱՐՉԱՊԵՏԻ ԱՇԽԱՏԱԿԱԶՄԻ ՂԵԿԱՎԱՐ՝ | H44: Ա.ՀԱՐՈՒԹՅՈՒՆՅԱՆ

Sheet 3
F1: Հավելված N 3
F2: ՀՀ կառավարության 2026 թվականի
F3: ______________ ի ___Ն որոշման
A5: ՀԱՅԱՍՏԱՆԻ ՀԱՆՐԱՊԵՏՈՒԹՅԱՆ ԿԱՌԱՎԱՐՈՒԹՅԱՆ 2025 ԹՎԱԿԱՆԻ ԴԵԿՏԵՄԲԵՐԻ 25-Ի N 1910-Ն ՈՐՈՇՄԱՆ N 5 ՀԱՎԵԼՎԱԾԻ N 2 ԱՂՅՈՒՍԱԿՈՒՄ ԿԱՏԱՐՎՈՂ ՓՈՓՈԽՈՒԹՅՈՒՆԸ ԵՎ ԼՐԱՑՈՒՄՆԵՐԸ
E7: հազար դրամներով
B8: Ծրագրային դասիչը | D8: Հատկացումների տրամադրման նպատակները և բյուջետային գլխավոր կարգադրիչների, ծրագրերի, միջոցառումների և կատարող պետական մարմնի անվանումները | E8: Ցուցանիշների փոփոխությունը (ավելացումները նշված են դրական նշանով, իսկ նվազեցումները՝ փակագծերում)
B9: Ծրագիր | C9: Միջոցառում | E9: Ինն ամիս | F9: Տարի
D10: ԸՆԴԱՄԵՆԸ | E10: =E12 -> - | F10: =F12 -> -
D11: այդ թվում՝
D12: ՀՀ ՏԱՐԱԾՔԱՅԻՆ ԿԱՌԱՎԱՐՄԱՆ ԵՎ ԵՆԹԱԿԱՌՈՒՑՎԱԾՔՆԵՐԻ ՆԱԽԱՐԱՐՈՒԹՅՈՒՆ | E12: =E14 -> - | F12: =F14 -> -
D13: այդ թվում`
B14: 1049 | C14: 21001 | D14: Պետական նշանակության ավտոճանապարհների հիմնանորոգում | E14: - | F14: -
D15: այդ թվում` ըստ կատարողների
D16: ՀՀ կառավարություն | E16: -1507553 | F16: -1507553
D17: ՀՀ Արագածոտնի մարզպետի աշխատակազմ | E17: 239828.5 | F17: 239828.5
D18: այդ թվում` ըստ ուղղությունների
D19: ='2'!D17 -> ՀՀ Արագածոտնի մարզի Գետափի հմ/դ0.2կմ, Վերին Սասնաշենի Մ․ Մանուկյանի անվան հիմնական դպրոցից 0.1կմ և մարզային նշանակության Տ-1-41, 1.5կմ ավտոճանապարհների ասֆալտապատման աշխատանքներ | E19: 239828.5 | F19: 239828.5
D20: ՀՀ Գեղարքունիքի մարզպետի աշխատակազմ | E20: 104641.7 | F20: 104641.7
D21: այդ թվում` ըստ ուղղությունների
D22: ='2'!D19 -> Տ-4-82,/Հ-7/-Ծափաթաղ մարզային նշանակության ավտոճանապարհի կմ 0+00-կմ0+800 հատվածի հիմնանորոգման աշխատանքներ /Հ․ Աբրահամյանի անվան միջնակարգ դպրոց տանող ճանապարհ/ | E22: 104641.7 | F22: 104641.7
D23: ՀՀ Լոռու մարզպետի աշխատակազմ | E23: 544177.3 | F23: 544177.3
D24: այդ թվում` ըստ ուղղությունների
D25: ՀՀ Լոռու մարզի Թումանյան համայնքի Աթան բնակավայրի 4-րդ փողոցի 0.4 կմ երկարությամբ ճանապարհահատվածի ասֆալտապատման աշխատանքներ /Աթանի հիմնական դպրոց տանող ճանապարհ/ | E25: ='2'!E21 -> 115975.6 | F25: 115975.6
D26: ՀՀ Լոռու մարզի Փամբակ համայնքի Բազում բնակավայրի 3-րդ փողոցից դեպի կրթահամալիր տանող ճանապարհի 0.4 կմ երկարությամբ հատվածների հիմնանորոգման աշխատանքներ | E26: ='2'!E22 -> 73574.7 | F26: 73574.7
D27: ՀՀ Լոռու մարզի Թումանյան համայնքի Շամուտ բնակավայրի 1-ին փողոցի 0.7 կմ երկարությամբ ճանապարհահատվածի ասֆալտապատման աշխատանքներ/Շամուտի հիմնական դպրոց տանող ճանապարհ/ | E27: ='2'!E23 -> 201411 | F27: 201411
D28: Տ-5-42, /Մ-3/ (Բազումի)-Ազնվաձոր տեղկան նշանակության ավտոճանապարհի կմ 0+000կմ 1+500 հատվածի հիմնանորոգում /Ազնվաձորի միջնակարգ դպրոց տանող ճանապարհ/ | E28: ='2'!E24 -> 153216 | F28: 153216
D29: ՀՀ Շիրակի մարզպետի աշխատակազմ | E29: 314558.8 | F29: 314558.8
D30: այդ թվում` ըստ ուղղությունների
D31: ՀՀ Շիրակի մարզի Ախուրյան համայնքի Ախուրյան բնակավայրի Յ․Ղամբարյան փողոցի հիմնանորոգման աշխատանքներ /Նոր Ախուրյանի հիմնական դպրոց տանող ճանապարհ/ | E31: ='2'!E26 -> 109281.2 | F31: 109281.2
D32: ՀՀ Շիրակի մարզի Արթիկ համայնքի Նոր Կյանք բնակավայրի 4-րդ փողոցի հիմնանորոգման և ասֆալտապատման շինարարական աշխատանքներ/Վարդաքարի միջնակարգ դպրոց տանող ճանապարհ/ | E32: ='2'!E27 -> 60635.3 | F32: 60635.3
D33: ՀՀ Շիրակի մարզի Կառնուտ բնակավայրի Կամոյի փողոցի հիմնանորգման աշխատանքներ /Նոր Ախուրյանի հիմնական դպրոց տանող ճանապարհ/ | E33: ='2'!E28 -> 58881.1 | F33: 58881.1
D34: ՀՀ Շիրակի մարզի Ախուրյան համայնքի Քեթի բնակավայրի 7-րդ փողոցի հիմնանորգման աշխատանքներ /Քեթի միջնակարգ դպրոց տանող ճանապարհ/ | E34: ='2'!E29 -> 85761.2 | F34: 85761.2
D35: ՀՀ Սյունիքի մարզպետի աշխատակազմ | E35: 53889.6 | F35: 53889.6
D36: այդ թվում` ըստ ուղղությունների
D37: Սյունիքի մարզի Քաջարան համայնքի Ձագիկավան բնակավայրի /Մ-2 միջպետական ճանապարհից մինչև Ձագիկավանի միջնակարգ դպրոց/ փողոցի ասֆալտապատման աշխատանքներ | E37: 53889.6 | F37: 53889.6
D38: ՀՀ Տավուշի մարզպետի աշխատակազմ | E38: 250457.1 | F38: 250457.1
D39: այդ թվում` ըստ ուղղությունների
D40: ՀՀ Տավուշի մարզի Լուսաձորի կրթահամալիր տանող 0.31 կմ երկարությամբ համայնքային նշանակության ճանապարհի հիմնանորոգման աշխատանքներ | E40: 45968.6 | F40: 45968.6
D41: ՀՀ Տավուշի մարզի Լուսաձորի կրթահամալիր տանող 0.45 կմ երկարությամբ համայնքային նշանակության ճանապարհի հիմնանորգման աշխատանքներ | E41: 55216.9 | F41: 55216.9
D42: ՀՀ Տավուշի մարզի Բագրատաշենի թիվ 2 հիմնական դպրոց տանող ընդհանուր 1,002 կմ երկարությամբ համայնքային 2 փողոց տանող ճանապարհի հիմնանորգման աշխատանքներ | E42: 149271.6 | F42: 149271.6
B43: 1049 | C43: 21020 | D43: Պետական նշանակության ավտոճանապարհների միջին նորոգում | E43: 0 | F43: 0
D44: այդ թվում` ըստ կատարողների
D45: ՀՀ կառավարություն | E45: -107790 | F45: -107790
D46: ՀՀ Տավուշի մարզպետի աշխատակազմ | E46: 107790 | F46: 107790
D47: ՀՀ Տավուշի մարզի լուսաձորի կրթահամալիր տանող Տ-10-25 /Մ-4/-Լուսաձոր կմ0+000-կմ1+500մարզային նշանակության ավտոճանապարհիմիջին նորոգման աշխատանքներ | E47: 107790 | F47: 107790
D53: ՀԱՅԱՍՏԱՆԻ ՀԱՆՐԱՊԵՏՈՒԹՅԱՆ ՎԱՐՉԱՊԵՏԻ ԱՇԽԱՏԱԿԱԶՄԻ ՂԵԿԱՎԱՐ՝ Ա.ՀԱՐՈՒԹՅՈՒՆՅԱՆ
D132: ՀԱՅԱՍՏԱՆԻ ՀԱՆՐԱՊԵՏՈՒԹՅԱՆ ՎԱՐՉԱՊԵՏԻ ԱՇԽԱՏԱԿԱԶՄԻ ՂԵԿԱՎԱՐ՝

Sheet 4
L1: Հավելված N4
L2: ՀՀ կառավարության 2026 թվականի
L3: ______________ ի ___Ն որոշման
B5: ՀԱՅԱՍՏԱՆԻ ՀԱՆՐԱՊԵՏՈՒԹՅԱՆ ԿԱՌԱՎԱՐՈՒԹՅԱՆ 2025 ԹՎԱԿԱՆԻ ԴԵԿՏԵՄԲԵՐԻ 25-Ի № 1910-Ն ՈՐՈՇՄԱՆ № 9 ՀԱՎԵԼՎԱԾՈՒՄ ԿԱՏԱՐՎՈՂ ՓՈՓՈԽՈՒԹՅՈՒՆՆԵՐԸ ԵՎ ԼՐԱՑՈՒՄՆԵՐԸ
L7: հազար դրամներով
B8: ԲԳԿ | C8: Ծրագիր | E8: Միջոցառում | I8: Իրականացնողը/ ակտիվն օգտագործողը/ շահառուի ընտրության չափորոշիչը | J8: Արդյունքային չափորոշիչը | K8: Ցուցանիշների փոփոխությունը (ավելացումները նշված են դրական նշանով, իսկ նվազեցումները՝ փակագծերում)
C9: Դասիչը | D9: Անվանումը | E9: Դասիչը | F9: Անվանումը | G9: Նկարագրությունը | H9: Տեսակը | K9: Ինն ամիս | L9: Տարի
B10: ԸՆԴԱՄԵՆԸ | K10: =K11 -> 0 | L10: =L11 -> 0
B11: ՀՀ տարածքային կառավարման և ենթակառուցվածքների նախարարություն | K11: =K12 -> 0 | L11: =L12 -> 0
C12: 1049 | D12: Ճանապարհային ցանցի բարելավում | K12: 0 | L12: 0
E13: 1049 - 21001 | F13: Պետական նշանակության ավտոճանապարհների հիմնանորոգում | K13: 0 | L13: 0
G14: Միջպետական, հանրապետական և մարզային նշանակության ավտոճոնապարհների քայքայված ծածկի վերանորոգում, մաշված ծածկի փոխարինում
H15: Հանրության կողմից անմիջականորեն օգտագործվող ակտիվների հետ կապված միջոցառումներ
I16: Միջոցառումն իրականացնողի անվանումը` Մասնագիտացված միավոր
J17: Պետական նշանակության ավտոճանապարհներ, կիլոմետր այդ թվում՝ | L17: =L18 -> 1
J18: Մարզային նշանակության ավտոճանապարհներ, կիլոմետր | L18: 1
D21: ՀԱՅԱՍՏԱՆԻ ՀԱՆՐԱՊԵՏՈՒԹՅԱՆ ՎԱՐՉԱՊԵՏԻ ԱՇԽԱՏԱԿԱԶՄԻ ՂԵԿԱՎԱՐ՝ Ա.ՀԱՐՈՒԹՅՈՒՆՅԱՆ
D38: ՀԱՅԱՍՏԱՆԻ ՀԱՆՐԱՊԵՏՈՒԹՅԱՆ
D39: ՎԱՐՉԱՊԵՏԻ ԱՇԽԱՏԱԿԱԶՄԻ
E40: ՂԵԿԱՎԱՐ ՝ Ա. ՀԱՐՈՒԹՅՈՒՆՅԱՆ

Sheet 5
L1: Հավելված N 5
L2: ՀՀ կառավարության 2026 թվականի
L3: ______________ ի ___Ն որոշման
B5: ՀԱՅԱՍՏԱՆԻ ՀԱՆՐԱՊԵՏՈՒԹՅԱՆ ԿԱՌԱՎԱՐՈՒԹՅԱՆ 2025 ԹՎԱԿԱՆԻ ԴԵԿՏԵՄԲԵՐԻ 25-Ի № 1910-Ն ՈՐՈՇՄԱՆ № 9.1 ՀԱՎԵԼՎԱԾՈՒՄ ԿԱՏԱՐՎՈՂ ՓՈՓՈԽՈՒԹՅՈՒՆՆԵՐԸ ԵՎ ԼՐԱՑՈՒՄՆԵՐԸ
L6: հազար դրամներով
B7: ԲՍԿ | C7: Ծրագիր | E7: Միջոցառում | I7: Իրականացնողը/ ակտիվն օգտագործողը/ շահառուի ընտրության չափորոշիչը | J7: Արդյունքային չափորոշիչը | K7: Ցուցանիշների փոփոխությունը (ավելացումները նշված են դրական նշանով, իսկ նվազեցումները` փակագծերում)
C8: Դասիչը | D8: Անվանումը | E8: Դասիչը | F8: Անվանումը | G8: Նկարագրությունը | H8: Տեսակը | K8: Ինն ամիս | L8: Տարի
B9: ԸՆԴԱՄԵՆԸ | K9: 0 | L9: 0
B10: ՀՀ Արագածոտնի մարզպետի աշխատակազմ | K10: 239828.5 | L10: 239828.5
C11: 1049 | D11: Ճանապարհային ցանցի բարելավում | K11: 239828.5 | L11: 239828.5
E12: 1049 - 21001 | F12: Պետական նշանակության ավտոճանապարհների հիմնանորոգում | K12: 239828.5 | L12: 239828.5
G13: Միջպետական, հանրապետական և մարզային նշանակության ավտոճոնապարհների քայքայված ծածկի վերանորոգում, մաշված ծածկի փոխարինում
H14: Հանրության կողմից անմիջականորեն օգտագործվող ակտիվների հետ կապված միջոցառումներ
I15: Միջոցառումն իրականացնողի անվանումը` Մասնագիտացված միավոր
J16: Պետական նշանակության ավտոճանապարհներ, կիլոմետր | L16: =L17 -> 1.8
J17: Մարզային նշանակության ավտոճանապարհներ, կիլոմետր | L17: 1.8
B18: ՀՀ Գեղարքունիքի մարզպետի աշխատակազմ | K18: =K19 -> 104641.7 | L18: =L19 -> 104641.7
C19: 1049 | D19: Ճանապարհային ցանցի բարելավում | K19: =K20 -> 104641.7 | L19: =L20 -> 104641.7
E20: 1049 - 21001 | F20: Պետական նշանակության ավտոճանապարհների հիմնանորոգում | K20: ='1'!H40 -> 104641.7 | L20: ='1'!I40 -> 104641.7
G21: Միջպետական, հանրապետական և մարզային նշանակության ավտոճոնապարհների քայքայված ծածկի վերանորոգում, մաշված ծածկի փոխարինում
H22: Հանրության կողմից անմիջականորեն օգտագործվող ակտիվների հետ կապված միջոցառումներ
I23: Միջոցառումն իրականացնողի անվանումը` Մասնագիտացված միավոր
J24: Պետական նշանակության ավտոճանապարհներ, կիլոմետր | L24: =L25 -> 0.8
J25: Մարզային նշանակության ավտոճանապարհներ, կիլոմետր | L25: 0.8
B26: ՀՀ Լոռու մարզպետի աշխատակազմ | K26: =K27 -> 544177.3 | L26: =L27 -> 544177.3
C27: 1049 | D27: Ճանապարհային ցանցի բարելավում | K27: =K28 -> 544177.3 | L27: =L28 -> 544177.3
E28: 1049 - 21001 | F28: Պետական նշանակության ավտոճանապարհների հիմնանորոգում | K28: ='1'!H47 -> 544177.3 | L28: ='1'!I47 -> 544177.3
G29: Միջպետական, հանրապետական և մարզային նշանակության ավտոճոնապարհների քայքայված ծածկի վերանորոգում, մաշված ծածկի փոխարինում
H30: Հանրության կողմից անմիջականորեն օգտագործվող ակտիվների հետ կապված միջոցառումներ
I31: Միջոցառումն իրականացնողի անվանումը` Մասնագիտացված միավոր
J32: Պետական նշանակության ավտոճանապարհներ, կիլոմետր | L32: =L33 -> 3
J33: Մարզային նշանակության ավտոճանապարհներ, կիլոմետր | L33: 3
B34: ՀՀ Շիրակի մարզպետի աշխատակազմ | K34: =K35 -> 314558.8 | L34: =L35 -> 314558.8
C35: 1049 | D35: Ճանապարհային ցանցի բարելավում | K35: =K36 -> 314558.8 | L35: =L36 -> 314558.8
E36: 1049 - 21001 | F36: Պետական նշանակության ավտոճանապարհների հիմնանորոգում | K36: ='1'!H57 -> 314558.8 | L36: ='1'!I57 -> 314558.8
G37: Միջպետական, հանրապետական և մարզային նշանակության ավտոճոնապարհների քայքայված ծածկի վերանորոգում, մաշված ծածկի փոխարինում
H38: Հանրության կողմից անմիջականորեն օգտագործվող ակտիվների հետ կապված միջոցառումներ
I39: Միջոցառումն իրականացնողի անվանումը` Մասնագիտացված միավոր
J40: Պետական նշանակության ավտոճանապարհներ, կիլոմետր | L40: =L41 -> 1.3
J41: Մարզային նշանակության ավտոճանապարհներ, կիլոմետր | L41: 1.3
B42: ՀՀ Սյունիքի մարզպետի աշխատակազմ | K42: =K43 -> 53889.6 | L42: =L43 -> 53889.6
C43: 1049 | D43: Ճանապարհային ցանցի բարելավում | K43: =K44 -> 53889.6 | L43: =L44 -> 53889.6
E44: 1049 - 21001 | F44: Պետական նշանակության ավտոճանապարհների հիմնանորոգում | K44: ='1'!H61 -> 53889.6 | L44: ='1'!I61 -> 53889.6
G45: Միջպետական, հանրապետական և մարզային նշանակության ավտոճոնապարհների քայքայված ծածկի վերանորոգում, մաշված ծածկի փոխարինում
H46: Հանրության կողմից անմիջականորեն օգտագործվող ակտիվների հետ կապված միջոցառումներ
I47: Միջոցառումն իրականացնողի անվանումը` Մասնագիտացված միավոր
J48: Պետական նշանակության ավտոճանապարհներ, կիլոմետր | L48: =L49 -> 0.285
J49: Մարզային նշանակության ավտոճանապարհներ, կիլոմետր | L49: 0.285
B50: ՀՀ Տավուշի մարզպետի աշխատակազմ | K50: =K51 -> 358247.1 | L50: =L51 -> 358247.1
C51: 1049 | D51: Ճանապարհային ցանցի բարելավում | K51: =K52+K58 -> 358247.1 | L51: =L52+L58 -> 358247.1
E52: 1049 - 21001 | F52: Պետական նշանակության ավտոճանապարհների հիմնանորոգում | K52: ='1'!H68 -> 250457.1 | L52: ='1'!I68 -> 250457.1
G53: Միջպետական, հանրապետական և մարզային նշանակության ավտոճոնապարհների քայքայված ծածկի վերանորոգում, մաշված ծածկի փոխարինում
H54: Հանրության կողմից անմիջականորեն օգտագործվող ակտիվների հետ կապված միջոցառումներ
I55: Միջոցառումն իրականացնողի անվանումը` Մասնագիտացված միավոր
J56: Պետական նշանակության ավտոճանապարհներ, կիլոմետր | L56: =L57 -> 1.91
J57: Մարզային նշանակության ավտոճանապարհներ, կիլոմետր | L57: 1.91
E58: 1049 - 21020 | F58: Պետական նշանակության ավտոճանապարհների միջին նորոգում | K58: ='1'!H77 -> 107790 | L58: ='1'!I77 -> 107790
G59: Միջպետական, հանրապետական և մարզային նշանակության ավտոճանապարհների պատվածքի մաշված վերին շերտի վերականգնում և շինարարական նորմերով նախատեսված սկզբնական որակական ցուցանիշների ապահովում
H60: Հանրության կողմից անմիջականորեն օգտագործվող ակտիվների հետ կապված միջոցառումներ
I61: ՀՀ տարածքային կառավարման և ենթակառուցվածքների նախարարություն, մրցութային կարգով ընտրված կազմակերպություններ
J62: Միջին նորոգման ենթակա ճանապարհների երկարությունը, կիլոմետր | L62: 1.5
B63: ՀՀ կառավարություն | K63: -1615343 | L63: -1615343
C64: 1049 | D64: Ճանապարհային ցանցի բարելավում | K64: -1615343 | L64: -1615343
E65: 1049 - 21001 | F65: Պետական նշանակության ավտոճանապարհների հիմնանորոգում | K65: -1507553 | L65: -1507553
G66: Միջպետական, հանրապետական և մարզային նշանակության ավտոճոնապարհների քայքայված ծածկի վերանորոգում, մաշված ծածկի փոխարինում
H67: Հանրության կողմից անմիջականորեն օգտագործվող ակտիվների հետ կապված միջոցառումներ
I68: ` Մասնագիտացված միավոր
J69: Պետական նշանակության ավտոճանապարհներ, կիլոմետր այդ թվում՝ | L69: =L70 -> -8.1
J70: Մարզային նշանակության ավտոճանապարհներ, կիլոմետր | L70: -8.1
E71: 1049 - 21020 | F71: Պետական նշանակության ավտոճանապարհների միջին նորոգում | K71: ='1'!H84 -> -107790 | L71: ='1'!I84 -> -107790
G72: Միջպետական, հանրապետական և մարզային նշանակության ավտոճանապարհների պատվածքի մաշված վերին շերտի վերականգնում և շինարարական նորմերով նախատեսված սկզբնական որակական ցուցանիշների ապահովում
H73: Հանրության կողմից անմիջականորեն օգտագործվող ակտիվների հետ կապված միջոցառումներ
I74: ՀՀ տարածքային կառավարման և ենթակառուցվածքների նախարարություն, մրցութային կարգով ընտրված կազմակերպություններ
J75: Միջին նորոգման ենթակա ճանապարհների երկարությունը, կիլոմետր | L75: =-1.5 -> -1.5
D80: ՀԱՅԱՍՏԱՆԻ ՀԱՆՐԱՊԵՏՈՒԹՅԱՆ
D81: ՎԱՐՉԱՊԵՏԻ ԱՇԽԱՏԱԿԱԶՄԻ
E82: ՂԵԿԱՎԱՐ ՝ Ա. ՀԱՐՈՒԹՅՈՒՆՅԱՆ

Sheet 6
I1: Հավելված N 6
I2: ՀՀ կառավարության 2026 թվականի
I3: ______________ ի ___Ն որոշման
C5: ՀԱՅԱՍՏԱՆԻ ՀԱՆՐԱՊԵՏՈՒԹՅԱՆ ԿԱՌԱՎԱՐՈՒԹՅԱՆ 2025 ԹՎԱԿԱՆԻ ԴԵԿՏԵՄԲԵՐԻ 25-Ի N 1910-Ն ՈՐՈՇՄԱՆ N 10 ՀԱՎԵԼՎԱԾՈՒՄ ԿԱՏԱՐՎՈՂ ԼՐԱՑՈՒՄՆԵՐԸ
C7: Կոդը | D7: Անվանումը | E7: Գնման ձևը | F7: Չափման միավորը | G7: Միավորի գինը | H7: Ցուցանիշների փոփոխությունը (ավելացումները նշված են դրական նշանով)
H8: Քանակը | I8: Գումարը (հազար դրամով)
C9: Ընդամենը | I9: 1615343
C10: ՀՀ Արագածոտնի մարզպետի աշխատակազմ | I10: 239828.5
C11: Բաժին N 04 | D11: Խումբ N 05 | E11: Դաս N 01 | F11: Ճանապարհային տրանսպորտ | I11: 239828.5
C12: 1049 21001 | D12: Պետական նշանակության ավտոճանապարհների հիմնանորոգում | I12: 239828.5
D13: ՄԱՍ II. ԱՇԽԱՏԱՆՔՆԵՐ | I13: 237158.1
C14: 45231175/501 | D14: ճանապարհային աշխատանքներ | E14: ՀԲՄ | F14: դրամ | G14: =I14*1000 -> 237158100 | H14: 1 | I14: 237158.1
C15: ՄԱՍ III. ԾԱՌԱՅՈՒԹՅՈՒՆՆԵՐ | I15: 2670.4
C16: 71351540/501 | D16: տեխնիկական հսկողության ծառայություններ | E16: ԳՀ | F16: դրամ | G16: =I16*1000 -> 1100000 | H16: 1 | I16: 1100
C17: 98111140/501 | D17: հեղինակային հսկողության ծառայություններ | E17: ՄԱ | F17: դրամ | G17: =I17*1000 -> 1570400 | H17: 1 | I17: 1570.4
C18: ՀՀ Գեղարքունիքի մարզպետի աշխատակազմ | I18: 104641.7
C19: Բաժին N 04 | D19: Խումբ N 05 | E19: Դաս N 01 | F19: Ճանապարհային տրանսպորտ | I19: 104641.7
C20: 1049 21001 | D20: Պետական նշանակության ավտոճանապարհների հիմնանորոգում | I20: 104641.7
D21: ՄԱՍ II. ԱՇԽԱՏԱՆՔՆԵՐ | I21: 103200
C22: 45231177/503 | D22: ճանապարհների վերանորոգման աշխատանքներ | E22: ՀԲՄ | F22: դրամ | G22: =I22*1000 -> 103200000 | H22: 1 | I22: 103200
C23: ՄԱՍ III. ԾԱՌԱՅՈՒԹՅՈՒՆՆԵՐ | I23: 1441.7
C24: 71351540/505 | D24: տեխնիկական հսկողության ծառայություններ | E24: ՀԲՄ | F24: դրամ | G24: =I24*1000 -> 650000 | H24: 1 | I24: 650
C25: 98111140/ | D25: հեղինակային հսկողության ծառայություններ | E25: ՄԱ | F25: դրամ | G25: =I25*1000 -> 791700 | H25: 1 | I25: 791.7
C26: ՀՀ Լոռու մարզպետի աշխատակազմ | I26: 544177.3
C27: Բաժին N 04 | D27: Խումբ N 05 | E27: Դաս N 01 | F27: Ճանապարհային տրանսպորտ | I27: 544177.3
C28: 1049 21001 | D28: Պետական նշանակության ավտոճանապարհների հիմնանորոգում | I28: 544177.3
C29: ՄԱՍ II ԱՇԽԱՏԱՆՔՆԵՐ | D29: ՄԱՍ II ԱՇԽԱՏԱՆՔՆԵՐ | I29: 537706.5
C30: 45231177/505 | D30: Ճանապարհների վերանորոգման աշխատանքներ | E30: ՀԲՄ | F30: դրամ | G30: =I30*1000 -> 199578000 | H30: 1 | I30: 199578
C31: 45231177/506 | D31: Ճանապարհների վերանորոգման աշխատանքներ | E31: ՀԲՄ | F31: դրամ | G31: =I31*1000 -> 114450000 | H31: 1 | I31: 114450
C32: 45231177/507 | D32: Ճանապարհների վերանորոգման աշխատանքներ | E32: ՀԲՄ | F32: դրամ | G32: =I32*1000 -> 72562500 | H32: 1 | I32: 72562.5
C33: 45231177/508 | D33: Ճանապարհների վերանորոգման աշխատանքներ | E33: ՀԲՄ | F33: դրամ | G33: =I33*1000 -> 151116000 | H33: 1 | I33: 151116
C34: ՄԱՍ III. ԾԱՌԱՅՈՒԹՅՈՒՆՆԵՐ | I34: 6470.8
C35: 71351540/505 | D35: տեխնիկական հսկողության ծառայություններ | E35: ԳՀ | F35: դրամ | G35: =I35*1000 -> 495000 | H35: 1 | I35: 495
C36: 71351540/506 | D36: տեխնիկական հսկողության ծառայություններ | E36: ԳՀ | F36: դրամ | G36: =I36*1000 -> 771000 | H36: 1 | I36: 771
C37: 71351540/507 | D37: տեխնիկական հսկողության ծառայություններ | E37: ԳՀ | F37: դրամ | G37: =I37*1000 -> 507000 | H37: 1 | I37: 507
C38: 71351540/508 | D38: տեխնիկական հսկողության ծառայություններ | E38: ԳՀ | F38: դրամ | G38: =I38*1000 -> 960000 | H38: 1 | I38: 960
C39: 98111140/ | D39: հեղինակային հսկողության ծառայություններ | E39: ՄԱ | F39: դրամ | G39: =I39*1000 -> 1338000 | H39: 1 | I39: 1338
C40: 98111140/ | D40: հեղինակային հսկողության ծառայություններ | E40: ՄԱ | F40: դրամ | G40: =I40*1000 -> 754600 | H40: 1 | I40: 754.6
C41: 98111140/ | D41: հեղինակային հսկողության ծառայություններ | E41: ՄԱ | F41: դրամ | G41: =I41*1000 -> 505200 | H41: 1 | I41: 505.2
C42: 98111140/ | D42: հեղինակային հսկողության ծառայություններ | E42: ՄԱ | F42: դրամ | G42: =I42*1000 -> 1140000 | H42: 1 | I42: 1140
C43: ՀՀ Շիրակի մարզպետի աշխատակազմ | I43: 314558.8
C44: Բաժին N 04 | D44: Խումբ N 05 | E44: Դաս N 01 | F44: Ճանապարհային տրանսպորտ | I44: 314558.8
C45: 1049 21001 | D45: Պետական նշանակության ավտոճանապարհների հիմնանորոգում | I45: 314558.8
C46: ՄԱՍ II ԱՇԽԱՏԱՆՔՆԵՐ | D46: ՄԱՍ II ԱՇԽԱՏԱՆՔՆԵՐ | I46: 308049.6
C47: 45231177/501 | D47: Ճանաարհների վերանորոգման աշխատանքներ | E47: ՀԲՄ | F47: դրամ | G47: =I47*1000 -> 84000000 | H47: 1 | I47: 84000
C48: 45231177/502 | D48: Ճանաարհների վերանորոգման աշխատանքներ | E48: ՀԲՄ | F48: դրամ | G48: =I48*1000 -> 57600000 | H48: 1 | I48: 57600
C49: 45231177/503 | D49: Ճանաարհների վերանորոգման աշխատանքներ | E49: ՀԲՄ | F49: դրամ | G49: =I49*1000 -> 107049600 | H49: 1 | I49: 107049.6
C50: 45231177/505 | D50: Ճանաարհների վերանորոգման աշխատանքներ | E50: ՀԲՄ | F50: դրամ | G50: =I50*1000 -> 59400000 | H50: 1 | I50: 59400
C51: ՄԱՍ III. ԾԱՌԱՅՈՒԹՅՈՒՆՆԵՐ | I51: 6509.2
C52: 71351540/501 | D52: տեխնիկական հսկողության ծառայություններ | E52: ԳՀ | F52: դրամ | G52: =I52*1000 -> 1320900 | H52: 1 | I52: 1320.9
C53: 71351540/502 | D53: տեխնիկական հսկողության ծառայություններ | E53: ԳՀ | F53: դրամ | G53: =I53*1000 -> 960800 | H53: 1 | I53: 960.8
C54: 71351540/503 | D54: տեխնիկական հսկողության ծառայություններ | E54: ԳՀ | F54: դրամ | G54: =I54*1000 -> 1594000 | H54: 1 | I54: 1594
C55: 71351540/506 | D55: տեխնիկական հսկողության ծառայություններ | E55: ԳՀ | F55: դրամ | G55: =I55*1000 -> 926500 | H55: 1 | I55: 926.5
C56: 98111140/ | D56: հեղինակային հսկողության ծառայություններ | E56: ՄԱ | F56: դրամ | G56: =I56*1000 -> 440300 | H56: 1 | I56: 440.3
C57: 98111140/ | D57: հեղինակային հսկողության ծառայություններ | E57: ՄԱ | F57: դրամ | G57: =I57*1000 -> 320300 | H57: 1 | I57: 320.3
C58: 98111140/ | D58: հեղինակային հսկողության ծառայություններ | E58: ՄԱ | F58: դրամ | G58: =I58*1000 -> 637600 | H58: 1 | I58: 637.6
C59: 98111140/ | D59: հեղինակային հսկողության ծառայություններ | E59: ՄԱ | F59: դրամ | G59: =I59*1000 -> 308800 | H59: 1 | I59: 308.8
C60: ՀՀ Սյունիքի մարզպետի աշխատակազմ | I60: 53889.6
C61: Բաժին N 04 | D61: Խումբ N 05 | E61: Դաս N 01 | F61: Ճանապարհային տրանսպորտ | I61: 53889.6
C62: 1049 21001 | D62: Պետական նշանակության ավտոճանապարհների հիմնանորոգում | I62: 53889.6
D63: ՄԱՍ II ԱՇԽԱՏԱՆՔՆԵՐ | I63: 52598.6
C64: 45231177/502 | D64: Ճանաարհների վերանորոգման աշխատանքներ | E64: ԳՀ | F64: դրամ | G64: =I64*1000 -> 52598600 | H64: 1 | I64: 52598.6
C65: ՄԱՍ III. ԾԱՌԱՅՈՒԹՅՈՒՆՆԵՐ | I65: 1291
C66: 71351540/505 | D66: տեխնիկական հսկողության ծառայություններ | E66: ԳՀ | F66: դրամ | G66: =I66*1000 -> 984000 | H66: 1 | I66: 984
C67: 98111140/506 | D67: հեղինակային հսկողության ծառայություններ | E67: ՄԱ | F67: դրամ | G67: =I67*1000 -> 307000 | H67: 1 | I67: 307
C68: ՀՀ Տավուշի մարզպետի աշխատակազմ | I68: 358247.1
C69: Բաժին N 04 | D69: Խումբ N 05 | E69: Դաս N 01 | F69: Ճանապարհային տրանսպորտ | I69: 358247.1
C70: 1049 21001 | D70: Պետական նշանակության ավտոճանապարհների հիմնանորոգում | I70: 250457.1
C71: ՄԱՍ II ԱՇԽԱՏԱՆՔՆԵՐ | D71: ՄԱՍ II ԱՇԽԱՏԱՆՔՆԵՐ | I71: 246942
C72: 45231177/502 | D72: Ճանապարհների վերանորոգման աշխատանքներ | E72: ԲՄ | F72: դրամ | G72: =I72*1000 -> 147000000 | H72: 1 | I72: 147000
C73: 45231177/504 | D73: Ճանապարհների վերանորոգման աշխատանքներ | E73: ՀԲՄ | F73: դրամ | G73: =I73*1000 -> 54492000 | H73: 1 | I73: 54492
C74: 45231177/506 | D74: Ճանապարհների վերանորոգման աշխատանքներ | E74: ՀԲՄ | F74: դրամ | G74: =I74*1000 -> 45450000 | H74: 1 | I74: 45450
C75: ՄԱՍ III. ԾԱՌԱՅՈՒԹՅՈՒՆՆԵՐ | I75: 3515.1
C76: 71351540/508 | D76: տեխնիկական հսկողության ծառայություններ | E76: ՀԲՄ | F76: դրամ | G76: =I76*1000 -> 240000 | H76: 1 | I76: 240
C77: 71351540/509 | D77: տեխնիկական հսկողության ծառայություններ | E77: ՀԲՄ | F77: դրամ | G77: =I77*1000 -> 190000 | H77: 1 | I77: 190
C78: 71351540/510 | D78: տեխնիկական հսկողության ծառայություններ | E78: ՀԲՄ | F78: դրամ | G78: =I78*1000 -> 1300000 | H78: 1 | I78: 1300
C79: 98111140/10 | D79: հեղինակային հսկողության ծառայություններ | E79: ՄԱ | F79: դրամ | G79: =I79*1000 -> 484900 | H79: 1 | I79: 484.9
C80: 98111140/11 | D80: հեղինակային հսկողության ծառայություններ | E80: ՄԱ | F80: դրամ | G80: =I80*1000 -> 328600 | H80: 1 | I80: 328.6
C81: 98111140/12 | D81: հեղինակային հսկողության ծառայություններ | E81: ՄԱ | F81: դրամ | G81: =I81*1000 -> 472900 | H81: 1 | I81: 472.9
C82: 98111140/13 | D82: հեղինակային հսկողության ծառայություններ | E82: ՄԱ | F82: դրամ | G82: =I82*1000 -> 498700 | H82: 1 | I82: 498.7
C83: 1049 21020 | D83: Պետական նշանակության ավտոճանապարհների միջին նորոգում | I83: 107790
C84: ՄԱՍ II ԱՇԽԱՏԱՆՔՆԵՐ | I84: 107790
C85: 45231177/503 | D85: ճանապարհների վերանորոգման աշխատանքներ | E85: ՀԲՄ | F85: դրամ | G85: =I85*1000 -> 107790000 | H85: 1 | I85: 107790
C88: ՀԱՅԱՍՏԱՆԻ ՀԱՆՐԱՊԵՏՈՒԹՅԱՆ
C89: ՎԱՐՉԱՊԵՏԻ ԱՇԽԱՏԱԿԱԶՄԻ
D90: ՂԵԿԱՎԱՐ ՝ Ա. ՀԱՐՈՒԹՅՈՒՆՅԱՆ
C101: զղ
