Workbook
Name _tab10: #REF!
Name _tab11: #REF!
Name _tab12: #REF!
Name _tab13: #REF!
Name _tab14: #REF!
Name _tab15: #REF!
Name _tab16: #REF!
Name _tab17: #REF!
Name _tab18: #REF!
Name _tab19: #REF!
Name _tab20: #REF!
Name _tab21: #REF!
Name _tab22: #REF!
Name _tab23: #REF!
Name _tab24: #REF!
Name _tab5: #REF!
Name _tab6: #REF!
Name _tab7: #REF!
Name _tab8: #REF!
Name _tab9: #REF!
Name AgencyCode: #REF!
Name AgencyName: #REF!
Name åû: #REF!
Name davit: #REF!
Name EUR: '[1]1. 2060-Ն 28.12.2024 արտ'!$W$2
Name fff: #REF!
Name Functional1: #REF!
Name ggg: #REF!
Name h: #REF!
Name mas: #REF!
Name mass: #REF!
Name PANature: #REF!
Name par_count: #REF!,#REF!,#REF!,#REF!,#REF!,#REF!,#REF!,#REF!,#REF!,#REF!,#REF!,#REF!,#REF!,#REF!,#REF!
Name par_qual: #REF!,#REF!,#REF!,#REF!,#REF!
Name par_time: #REF!,#REF!,#REF!,#REF!
Name par2.12s: #REF!
Name par2.4s: #REF!,#REF!,#REF!,#REF!,#REF!,#REF!,#REF!,#REF!,#REF!,#REF!,#REF!,#REF!,#REF!,#REF!,#REF!,#REF!
Name par2.5s: #REF!,#REF!
Name par2.6s: #REF!,#REF!,#REF!,#REF!
Name par2.7s: #REF!,#REF!
Name par2.9s: #REF!,#REF!,#REF!,#REF!,#REF!,#REF!,#REF!,#REF!,#REF!,#REF!,#REF!,#REF!,#REF!,#REF!,#REF!,#REF!
Name par4.10s: #REF!,#REF!
Name par4.11d: #REF!,#REF!,#REF!,#REF!,#REF!
Name par4.12d: #REF!
Name par4.13s: #REF!
Name par4.14: #REF!,#REF!,#REF!,#REF!,#REF!,#REF!
Name par4.15: #REF!,#REF!,#REF!
Name par4.16: #REF!,#REF!,#REF!
Name par4.17: #REF!,#REF!,#REF!,#REF!
Name par4.18d: #REF!,#REF!
Name par4.19s: #REF!
Name par4.20f: #REF!
Name par4.21f: #REF!
Name par4.22: #REF!
Name par4.4: #REF!
Name par4.5: #REF!
Name par4.6s: #REF!
Name par4.7s: #REF!
Name par4.8: #REF!,#REF!,#REF!,#REF!,#REF!
Name par4.9: #REF!,#REF!,#REF!,#REF!,#REF!,#REF!

Sheet ..
C1: Հավելված N 1
C2: ՀՀ կառավարության 2025 թվականի
C3: ______________ ի ___Ն որոշման
B5: «ՀԱՅԱՍՏԱՆԻ ՀԱՆՐԱՊԵՏՈՒԹՅԱՆ 2025 ԹՎԱԿԱՆԻ ՊԵՏԱԿԱՆ ԲՅՈՒՋԵԻ ՄԱՍԻՆ» ՕՐԵՆՔԻ N 2 ՀՈԴՎԱԾԻ ԱՂՅՈՒՍԱԿՈՒՄ ԿԱՏԱՐՎՈՂ ՓՈՓՈԽՈՒԹՅՈՒՆՆԵՐԸ
C8: Ցուցանիշների փոփոխությունը (նվազեցումները նշված են փակագծերում)
C9: Տարի
B10: 1. Եկամուտների գծով | C10: =+'...'!D10 -> #REF!
B11: 2. Ծախսերի գծով | C11: =+'2'!H8 -> 0
B12: 3. Դեֆիցիտը (պակասուրդը) | C12: =-C10+C11 -> #REF!

Sheet ...
D1: Հավելված N 2
D2: ՀՀ կառավարության 2025 թվականի
D3: ______________ ի ___Ն որոշման
B5: «ՀԱՅԱՍՏԱՆԻ ՀԱՆՐԱՊԵՏՈՒԹՅԱՆ 2025 ԹՎԱԿԱՆԻ ՊԵՏԱԿԱՆ ԲՅՈՒՋԵԻ ՄԱՍԻՆ» ՕՐԵՆՔԻ N 6 ՀՈԴՎԱԾԻ ԱՂՅՈՒՍԱԿՈՒՄ ԵՎ ՀԱՅԱՍՏԱՆԻ ՀԱՆՐԱՊԵՏՈՒԹՅԱՆ ԿԱՌԱՎԱՐՈՒԹՅԱՆ 2024 ԹՎԱԿԱՆԻ ԴԵԿՏԵՄԲԵՐԻ 27-Ի N 2060-Ն ՈՐՈՇՄԱՆ N 2 ՀԱՎԵԼՎԱԾՈՒՄ ԿԱՏԱՐՎՈՂ ՓՈՓՈԽՈՒԹՅՈՒՆՆԵՐԸ
D7: հազար դրամներով
B8: Եկամտատեսակ | C8: Ցուցանիշների փոփոխությունը (նվազեցումները նշված են փակագծերում)
C9: Ինն ամիս | D9: Տարի
B10: ՊԵՏԱԿԱՆ ԲՅՈՒՋԵԻ ԵԿԱՄՈՒՏՆԵՐ | C10: =+C12 -> #REF! | D10: =+D12 -> #REF!
B11: այդ թվում`
B12: Պաշտոնական դրամաշնորհներ | C12: =+#REF! -> #REF! | D12: =+#REF! -> #REF!

Sheet 1
G1: Հավելված N 1
H2: ՀՀ կառավարության 2026 թվականի
H3: ______________ ի ___Ն որոշման
A5: «ՀԱՅԱUՏԱՆԻ ՀԱՆՐԱՊԵՏՈՒԹՅԱՆ 2026 ԹՎԱԿԱՆԻ ՊԵՏԱԿԱՆ ԲՅՈՒՋԵԻ ՄԱUԻՆ» OՐԵՆՔԻ N 1 ՀԱՎԵԼՎԱԾԻ N 2 ԱՂՅՈՒՍԱԿՈՒՄ ԿԱՏԱՐՎՈՂ ՎԵՐԱԲԱՇԽՈՒՄԸ ԵՎ ՀԱՅԱՍՏԱՆԻ ՀԱՆՐԱՊԵՏՈՒԹՅԱՆ ԿԱՌԱՎԱՐՈՒԹՅԱՆ 2025 ԹՎԱԿԱՆԻ ԴԵԿՏԵՄԲԵՐԻ 25-Ի N 1910-Ն ՈՐՈՇՄԱՆ N 5 ՀԱՎԵԼՎԱԾԻ N 1 ԱՂՅՈՒՍԱԿՈՒՄ ԿԱՏԱՐՎՈՂ ՓՈՓՈԽՈՒԹՅՈՒՆՆԵՐԸ
G6: հազար դրամներով
A7: ԲԳԿ | B7: Ծրագրային դասիչը | D7: ԲԳԿ/Ծրագրի /միջոցառման անվանումը | E7: Ծրագրի նպատակը/Միջոցառման նկարագրությունը | F7: Վերջնական արդյունքի նկարագրությունը/Միջոցառման տեսակը | G7: Ցուցանիշների փոփոխությունը (ավելացումները նշված են դրական նշանով, իսկ նվազեցումները՝ փակագծերում)
G8: Ինն ամիս | H8: Տարի
B9: Ծրագիր | C9: Միջոցառում
A10: ԸՆԴԱՄԵՆԸ | G10: 0 | H10: 0
A11: ՀՀ տարածքային կառավարման և ենթակառուցվածքների նախարարություն | G11: -4470 | H11: -4470
B12: 1004 | D12: Ոռոգման համակարգի առողջացում | E12: Ոռոգման ծառայությունների հասանելիության և մատչելիության ապահովում | F12: Ոռոգման ջրի մատակարարման արդյունավետության և հասանելիության բարելավում, կորուստների կրճատում | G12: -8470 | H12: -8470
C13: 1004 - 12002 | D13: =+'3'!D18 -> Գերմանիայի զարգացման բանկի աջակցությամբ իրականացվող Ախուրյան գետի ջրային ռեսուրսների ինտեգրված կառավարման փուլ 1 ծրագրով Ջրաձոր գյուղի վերաբնակեցման համար ենթակառուցվածքների և բնակելի տների կառուցում | E13: Գերմանիայի զարգացման բանկի աջակցությամբ իրականացվող Ախուրյան գետի ջրային ռեսուրսների ինտեգրված կառավարման փուլ 1 ծրագիր | F13: Տրանսֆերտների տրամադրում | G13: -4000 | H13: -4000
C14: 1004 - 31001 | D14: ='3'!D27 -> Ֆրանսիայի Հանրապետության կառավարության աջակցությամբ իրականացվող Վեդու ջրամբարի և ոռոգման համակարգի կառուցում | E14: Ֆրանսիայի Հանրապետության կառավարության աջակցությամբ իրականացվող Վեդու ջրամբարի և ոռոգման համակարգի կառուցման ծրագիր | F14: Պետական մարմինների կողմից օգտագործվող ոչ ֆինանսական ակտիվների հետ գործառնություններ | G14: 207000 | H14: 650352
C15: 1004 - 31004 | D15: Գերմանիայի զարգացման վարկերի բանկի աջակցությամբ իրականացվող Ախուրյան գետի ջրային ռեսուրսների ինտեգրված կառավարման ծրագրի շրջանակներում ջրային տնտեսության ենթակառուցվածքների հիմնանորոգում | E15: Գերմանիայի զարգացման վարկերի բանկի աջակցությամբ իրականացվող Ախուրյան գետի ջրային ռեսուրսների ինտեգրված կառավարման ծրագիր | F15: Պետական մարմինների կողմից օգտագործվող ոչ ֆինանսական ակտիվների հետ գործառնություններ | G15: -211470 | H15: -654822
B16: 1072 | D16: Ջրամատակարարաման և ջրահեռացման բարելավում | E16: Ջրամատակարարման ծառայությունների հասանելիության և մատչելիության ապահովում | F16: Խմելու ջրի մատակարարման և ջրահեռացման համակարգի բարելավում, կորուստների կրճատում | G16: 4000 | H16: 4000
C17: 1072 - 11017 | D17: =+'3'!D47 -> "Համայնքային ենթակառուցվածքների II ծրագիր, փուլ 3 - Հայաստանի ջրամատակարարման և ջրահեռացման ենթակառուցվածք" ծրագրերի կառավարում | E17: Համայնքային ենթակառուցվածքների II ծրագիր, փուլ 3 - Հայաստանի ջրամատակարարման և ջրահեռացման ենթակառուցվածքեր ծրագրի համակարգում և ղեկավարում | F17: Ծառայությունների մատուցում | G17: 4000 | H17: 4000
A18: ՀՀ կրթության, գիտության, մշակույթի և սպորտի նախարարություն | G18: 4470 | H18: 4470
B19: 1189 | D19: Դպրոցների սեյսմիկ անվտանգության մակարդակի բարձրացման ծրագիր | E19: Նպաստել երկրի սեյսմակայունության ապահովմանը, անհատական և հասարակական անվտանգության մակարդակի բարձրացմանը | F19: Դպրոցական շենքերի սեյսմակայունության մակարդակի բարձրացում | G19: 4470 | H19: 4470
C20: 1189 - 12003 | D20: =+'2'!F79 -> Ասիական զարգացման բանկի աջակցությամբ իրականացվող դպրոցների սեյսմիկ պաշտպանության ծրագրի լրացուցիչ ֆինանսավորման շրջանակներում ՀՀ դպրոցների սեյսմիկ անվտանգության բարելավմանն ուղղված միջոցառումներ | E20: Դպրոցների սեյսմիկ պաշտպանության լրացուցիչ ֆինանսավորման ծրագիր, դպրոցների շենքերի կառուցման, ամրացման շինարարական աշխատանքներ, շինարարական ստանդարտների արդիականացում, արտակարգ իրավիճակներին արձագանքման ծրագրի մշակում | F20: ='4'!G34 -> Տրանսֆերտների տրամադրում | G20: 4470 | H20: 4470
A21: ՀՀ կառավարություն | G21: 0 | H21: 0
B22: 1139 | D22: ՀՀ կառավարության պահուստային ֆոնդ | E22: Պետական բյուջեում չկանխատեսված, ինչպես նաև բյուջետային երաշխիք ների ապահովման ծախսերի ֆինանսավորման ապահովում | F22: Պահուստային ֆոնդի կառավարման արդյունավետության և թափանցիկության ապահովում | G22: 0 | H22: 0
C23: 1139 - 11001 | D23: ՀՀ կառավարության պահուստային ֆոնդ | E23: ՀՀ պետական բյուջեում նախատեսված ելքերի լրացուցիչ ֆինանսավորման, պետական բյուջեում չկանխատեսված ելքերի, ինչպես նաև բյուջետային երաշխիքների ապահովման ելքերի ֆինանսավորման ապահովում | F23: Ծառայությունների մատուցում | G23: -46670 | H23: -174670
C24: 1139 - 11001 | D24: ՀՀ կառավարության պահուստային ֆոնդ | E24: ՀՀ պետական բյուջեում նախատեսված ելքերի լրացուցիչ ֆինանսավորման, պետական բյուջեում չկանխատեսված ելքերի, ինչպես նաև բյուջետային երաշխիքների ապահովման ելքերի ֆինանսավորման ապահովում | F24: Ծառայությունների մատուցում | G24: 46670 | H24: 174670

Sheet 2
A1: Հավելված N 2
A2: ՀՀ կառավարության 2026 թվականի
A3: -ի N -Ն որոշման
A4: ՀԱՅԱՍՏԱՆԻ ՀԱՆՐԱՊԵՏՈՒԹՅԱՆ ԿԱՌԱՎԱՐՈՒԹՅԱՆ 2025 ԹՎԱԿԱՆԻ ԴԵԿՏԵՄԲԵՐԻ 25-Ի N 1910-Ն ՈՐՈՇՄԱՆ N 3 ԵՎ N 4 ՀԱՎԵԼՎԱԾՆԵՐՈՒՄ ԿԱՏԱՐՎՈՂ ՓՈՓՈԽՈՒԹՅՈՒՆՆԵՐԸ
G5: հազար դրամներով
A6: Գործառական դասիչը | D6: Ծրագրային դասիչը | F6: Բյուջետային ծախսերի գործառական դասակարգման բաժինների, խմբերի և դասերի, բյուջետային ծրագրերի միջոցառումների, բյուջետային հատկացումների գլխավոր կարգադրիչների անվանումները | G6: Ցուցանիշների փոփոխությունը (ավելացումները նշված են դրական նշանով, իսկ նվազեցումները` փակագծերում)
A7: Բաժին | B7: Խումբ | C7: Դաս | D7: Ծրագիր | E7: Միջոցառում | G7: Ինն ամիս | H7: Տարի
F8: ԸՆԴԱՄԵՆԸ ԾԱԽՍԵՐ | G8: =+G10+G67 -> 0 | H8: =+H10+H67 -> 0
F9: այդ թվում`
F10: ՀՀ տարածքային կառավարման և ենթակառուցվածքների նախարարություն | G10: -4470 | H10: -4470
F11: այդ թվում`
A12: 04 | F12: ՏՆՏԵՍԱԿԱՆ ՀԱՐԱԲԵՐՈՒԹՅՈՒՆՆԵՐ | G12: -8470 | H12: -8470
F13: այդ թվում`
B14: 02 | F14: Գյուղատնտեսություն, անտառային տնտեսություն, ձկնորսություն և որսորդություն | G14: -8470 | H14: -8470
F15: այդ թվում`
C16: 04 | F16: Ոռոգում | G16: -8470 | H16: -8470
F17: այդ թվում`
F18: ՀՀ տարածքային կառավարման և ենթակառուցվածքների նախարարություն | G18: -8470 | H18: -8470
F19: այդ թվում`
D20: 1004 | F20: Ոռոգման համակարգի առողջացում | G20: -8470 | H20: -8470
F21: այդ թվում`
E22: 12002 | F22: ='3'!D18 -> Գերմանիայի զարգացման բանկի աջակցությամբ իրականացվող Ախուրյան գետի ջրային ռեսուրսների ինտեգրված կառավարման փուլ 1 ծրագրով Ջրաձոր գյուղի վերաբնակեցման համար ենթակառուցվածքների և բնակելի տների կառուցում | G22: -4000 | H22: -4000
F23: այդ թվում` ըստ կատարողների
F24: ՀՀ տարածքային կառավարման և ենթակառուցվածքների նախարարության ջրային կոմիտե | G24: -4000 | H24: -4000
F25: այդ թվում` բյուջետային ծախսերի տնտեսագիտական դասակարգման հոդվածներ
F26: ԸՆԴԱՄԵՆԸ ԾԱԽՍԵՐ | G26: -4000 | H26: -4000
F27: ՈՉ ՖԻՆԱՆՍԱԿԱՆ ԱԿՏԻՎՆԵՐԻ ԳԾՈՎ ԾԱԽՍԵՐ | G27: -4000 | H27: -4000
F28: ՀԻՄՆԱԿԱՆ ՄԻՋՈՑՆԵՐ | G28: -4000 | H28: -4000
F29: ՇԵՆՔԵՐ ԵՎ ՇԻՆՈՒԹՅՈՒՆՆԵՐ | G29: -4000 | H29: -4000
F30: - Շենքերի և շինությունների շինարարություն | G30: -4000 | H30: -4000
E31: 31001 | F31: ='3'!D27 -> Ֆրանսիայի Հանրապետության կառավարության աջակցությամբ իրականացվող Վեդու ջրամբարի և ոռոգման համակարգի կառուցում | G31: 207000 | H31: 650352
F32: այդ թվում` ըստ կատարողների
F33: ՀՀ տարածքային կառավարման և ենթակառուցվածքների նախարարության ջրային կոմիտե | G33: 207000 | H33: 650352
F34: այդ թվում` բյուջետային ծախսերի տնտեսագիտական դասակարգման հոդվածներ
F35: ԸՆԴԱՄԵՆԸ ԾԱԽՍԵՐ | G35: 207000 | H35: 650352
F36: ՈՉ ՖԻՆԱՆՍԱԿԱՆ ԱԿՏԻՎՆԵՐԻ ԳԾՈՎ ԾԱԽՍԵՐ | G36: 207000 | H36: 650352
F37: ՀԻՄՆԱԿԱՆ ՄԻՋՈՑՆԵՐ | G37: 207000 | H37: 650352
F38: ՇԵՆՔԵՐ ԵՎ ՇԻՆՈՒԹՅՈՒՆՆԵՐ | G38: 207000 | H38: 650352
F39: - Շենքերի և շինությունների շինարարություն | G39: 207000 | H39: 650352
E40: =+'3'!C36 -> 31004 | F40: =+'3'!D36 -> Գերմանիայի զարգացման վարկերի բանկի աջակցությամբ իրականացվող Ախուրյան գետի ջրային ռեսուրսների ինտեգրված կառավարման ծրագրի շրջանակներում ջրային տնտեսության ենթակառուցվածքների հիմնանորոգում | G40: -211470 | H40: -654822
...

Sheet 3
J1: Հավելված N 3
H2: ՀՀ կառավարության 2026 թվականի
H3: ______________ ի ___Ն որոշման
B5: «ՀԱՅԱUՏԱՆԻ ՀԱՆՐԱՊԵՏՈՒԹՅԱՆ 2026 ԹՎԱԿԱՆԻ ՊԵՏԱԿԱՆ ԲՅՈՒՋԵԻ ՄԱUԻՆ» OՐԵՆՔԻ N 1 ՀԱՎԵԼՎԱԾԻ N 4 ԱՂՅՈՒՍԱԿՈՒՄ ԵՎ ՀԱՅԱՍՏԱՆԻ ՀԱՆՐԱՊԵՏՈՒԹՅԱՆ ԿԱՌԱՎԱՐՈՒԹՅԱՆ 2025 ԹՎԱԿԱՆԻ ԴԵԿՏԵՄԲԵՐԻ 25-Ի N 1910-Ն ՈՐՈՇՄԱՆ N 5 ՀԱՎԵԼՎԱԾԻ N 3 ԱՂՅՈՒՍԱԿՈՒՄ ԿԱՏԱՐՎՈՂ ՓՈՓՈԽՈՒԹՅՈՒՆՆԵՐԸ ԵՎ ԼՐԱՑՈՒՄՆԵՐԸ
I6: հազար դրամներով
B7: Ծրագրային դասիչը | D7: Բյուջետային գլխավոր կարգադրիչների, ծրագրերի և միջոցառումների անվանումները | E7: Ցուցանիշների փոփոխությունը (ավելացումները նշված են դրական նշանով, իսկ նվազեցումները` փակագծերում)
E8: Ինն ամիս | H8: Տարի
E9: Ընդամենը | F9: այդ թվում` | H9: Ընդամենը | I9: այդ թվում`
B10: Ծրագիր | C10: Միջոցառում | F10: Վարկային միջոցներ | G10: Համաֆինան սավորում | I10: Վարկային միջոցներ | J10: Համաֆինան սավորում
D11: ԸՆԴԱՄԵՆԸ | E11: 0 | F11: 0 | G11: 0 | H11: 0 | I11: 0 | J11: 0
D12: այդ թվում`
D13: ԸՆԹԱՑԻԿ ԾԱԽՍԵՐ | E13: 4000 | F13: 0 | G13: 4000 | H13: 4000 | I13: 0 | J13: 4000
D14: ՈՉ ՖԻՆԱՆՍԱԿԱՆ ԱԿՏԻՎՆԵՐԻ ԳԾՈՎ ԾԱԽՍԵՐ | E14: -4000 | F14: 0 | G14: -4000 | H14: -4000 | I14: 0 | J14: -4000
D15: ՀՀ ՏԱՐԱԾՔԱՅԻՆ ԿԱՌԱՎԱՐՄԱՆ ԵՎ ԵՆԹԱԿԱՌՈՒՑՎԱԾՔՆԵՐԻ ՆԱԽԱՐԱՐՈՒԹՅՈՒՆ | E15: -4470 | F15: -3800 | G15: -670 | H15: -4470 | I15: -3800 | J15: -670
B16: 1004 | D16: Ոռոգման համակարգի առողջացում | E16: -8470 | F16: -3800 | G16: -4670 | H16: -8470 | I16: -3800 | J16: -4670
D17: այդ թվում`
C18: 12002 | D18: Գերմանիայի զարգացման բանկի աջակցությամբ իրականացվող Ախուրյան գետի ջրային ռեսուրսների ինտեգրված կառավարման փուլ 1 ծրագրով Ջրաձոր գյուղի վերաբնակեցման համար ենթակառուցվածքների և բնակելի տների կառուցում | E18: -4000 | F18: 0 | G18: -4000 | H18: -4000 | I18: 0 | J18: -4000
D19: այդ թվում` ըստ կատարողների
D20: ՀՀ տարածքային կառավարման և ենթակառուցվածքների նախարարության ջրային կոմիտե | E20: -4000 | F20: 0 | G20: -4000 | H20: -4000 | I20: 0 | J20: -4000
D21: այդ թվում` բյուջետային ծախսերի տնտեսագիտական դասակարգման հոդվածներ
D22: ԸՆԴԱՄԵՆԸ ԾԱԽՍԵՐ | E22: -4000 | F22: 0 | G22: -4000 | H22: -4000 | I22: 0 | J22: -4000
D23: ՈՉ ՖԻՆԱՆՍԱԿԱՆ ԱԿՏԻՎՆԵՐԻ ԳԾՈՎ ԾԱԽՍԵՐ | E23: -4000 | F23: 0 | G23: -4000 | H23: -4000 | I23: 0 | J23: -4000
D24: ՀԻՄՆԱԿԱՆ ՄԻՋՈՑՆԵՐ | E24: -4000 | F24: 0 | G24: -4000 | H24: -4000 | I24: 0 | J24: -4000
D25: ՇԵՆՔԵՐ ԵՎ ՇԻՆՈՒԹՅՈՒՆՆԵՐ | E25: -4000 | F25: 0 | G25: -4000 | H25: -4000 | I25: 0 | J25: -4000
D26: - Շենքերի և շինությունների շինարարություն | E26: -4000 | F26: 0 | G26: -4000 | H26: -4000 | I26: 0 | J26: -4000
C27: 31001 | D27: Ֆրանսիայի Հանրապետության կառավարության աջակցությամբ իրականացվող Վեդու ջրամբարի և ոռոգման համակարգի կառուցում | E27: 207000 | F27: 165000 | G27: 42000 | H27: 650352 | I27: 480352 | J27: 170000
D28: այդ թվում` ըստ կատարողների
D29: ՀՀ տարածքային կառավարման և ենթակառուցվածքների նախարարության ջրային կոմիտե | E29: 207000 | F29: 165000 | G29: 42000 | H29: 650352 | I29: 480352 | J29: 170000
D30: այդ թվում` բյուջետային ծախսերի տնտեսագիտական դասակարգման հոդվածներ
D31: ԸՆԴԱՄԵՆԸ ԾԱԽՍԵՐ | E31: 207000 | F31: 165000 | G31: 42000 | H31: 650352 | I31: 480352 | J31: 170000
D32: ՈՉ ՖԻՆԱՆՍԱԿԱՆ ԱԿՏԻՎՆԵՐԻ ԳԾՈՎ ԾԱԽՍԵՐ | E32: 207000 | F32: 165000 | G32: 42000 | H32: 650352 | I32: 480352 | J32: 170000
D33: ՀԻՄՆԱԿԱՆ ՄԻՋՈՑՆԵՐ | E33: 207000 | F33: 165000 | G33: 42000 | H33: 650352 | I33: 480352 | J33: 170000
D34: ՇԵՆՔԵՐ ԵՎ ՇԻՆՈՒԹՅՈՒՆՆԵՐ | E34: 207000 | F34: 165000 | G34: 42000 | H34: 650352 | I34: 480352 | J34: 170000
D35: - Շենքերի և շինությունների շինարարություն | E35: 207000 | F35: 165000 | G35: 42000 | H35: 650352 | I35: 480352 | J35: 170000
C36: 31004 | D36: Գերմանիայի զարգացման վարկերի բանկի աջակցությամբ իրականացվող Ախուրյան գետի ջրային ռեսուրսների ինտեգրված կառավարման ծրագրի շրջանակներում ջրային տնտեսության ենթակառուցվածքների հիմնանորոգում | E36: -211470 | F36: -168800 | G36: -42670 | H36: -654822 | I36: -484152 | J36: -170670
D37: այդ թվում` ըստ կատարողների
D38: ՀՀ տարածքային կառավարման և ենթակառուցվածքների նախարարության ջրային կոմիտե | E38: -211470 | F38: -168800 | G38: -42670 | H38: -654822 | I38: -484152 | J38: -170670
D39: այդ թվում` բյուջետային ծախսերի տնտեսագիտական դասակարգման հոդվածներ
D40: ԸՆԴԱՄԵՆԸ ԾԱԽՍԵՐ | E40: -211470 | F40: -168800 | G40: -42670 | H40: -654822 | I40: -484152 | J40: -170670
D41: ՈՉ ՖԻՆԱՆՍԱԿԱՆ ԱԿՏԻՎՆԵՐԻ ԳԾՈՎ ԾԱԽՍԵՐ | E41: -211470 | F41: -168800 | G41: -42670 | H41: -654822 | I41: -484152 | J41: -170670
...

Sheet 4
A1: Հավելված N 4
A2: ՀՀ կառավարության 2026 թվականի
A3: -ի N -Ն որոշման
A5: ՀԱՅԱՍՏԱՆԻ ՀԱՆՐԱՊԵՏՈՒԹՅԱՆ ԿԱՌԱՎԱՐՈՒԹՅԱՆ 2025 ԹՎԱԿԱՆԻ ԴԵԿՏԵՄԲԵՐԻ 25-Ի N 1910-Ն ՈՐՈՇՄԱՆ N 9 ՀԱՎԵԼՎԱԾՈՒՄ ԿԱՏԱՐՎՈՂ ՓՈՓՈԽՈՒԹՅՈՒՆՆԵՐԸ ԵՎ ԼՐԱՑՈՒՄՆԵՐԸ
K6: հազար դրամներով
A7: ԲԳԿ | B7: Ծրագիր | D7: Միջոցառում | H7: Իրականացնողը/ ակտիվն օգտագործողը/ շահառուի ընտրության չափորոշիչը | I7: Արդյունքային չափորոշիչը | J7: Ցուցանիշների փոփոխությունը (ավելացումները նշված են դրական նշանով, իսկ նվազեցումները՝ փակագծերում)
B8: Դասիչը | C8: Անվա-նումը | D8: Դասիչը | E8: Անվա-նումը | F8: Նկարագրու-թյունը | G8: Տեսակը | J8: Ինն ամիս | K8: Տարի
A9: ԸՆԴԱՄԵՆԸ | J9: =+J10+J30 -> 0 | K9: =+K10+K30 -> 0
A10: ՀՀ տարածքային կառավարման և ենթակառուցվածքների նախարարություն | J10: =+J11+J25 -> -4470 | K10: =+K11+K25 -> -4470
B11: 1004 | C11: Ոռոգման համակարգի առողջացում | J11: =+J16+J20+J12 -> -8470 | K11: =+K16+K20+K12 -> -8470
D12: 1004 - 12002 | E12: Գերմանիայի զարգացման բանկի աջակցությամբ իրականացվող Ախուրյան գետի ջրային ռեսուրսների ինտեգրված կառավարման փուլ 1 ծրագրով Ջրաձոր գյուղի վերաբնակեցման համար ենթակառուցվածքների և բնակելի տների կառուցում | J12: =+'3'!E18 -> -4000 | K12: ='3'!H23 -> -4000
F13: Գերմանիայի զարգացման բանկի աջակցությամբ իրականացվող Ախուրյան գետի ջրային ռեսուրսների ինտեգրված կառավարման փուլ 1 ծրագիր
G14: Տրանսֆերտների տրամադրում
H15: Շահառուների ընտրության չափորոշիչները` Տրանսֆերտների տրամադրում
D16: 1004 - 31001 | E16: ='3'!D27 -> Ֆրանսիայի Հանրապետության կառավարության աջակցությամբ իրականացվող Վեդու ջրամբարի և ոռոգման համակարգի կառուցում | J16: ='3'!E27 -> 207000 | K16: ='3'!H27 -> 650352
F17: Ֆրանսիայի Հանրապետության կառավարության աջակցությամբ իրականացվող Վեդու ջրամբարի և ոռոգման համակարգի կառուցման ծրագիր
G18: Պետական մարմինների կողմից օգտագործվող ոչ ֆինանսական ակտիվների հետ գործառնություններ
H19: Ակտիվն օգտագործող կազմակերպության անվանումը` Մասնագիտացված միավոր
D20: 1004 - 31004 | E20: ='3'!D36 -> Գերմանիայի զարգացման վարկերի բանկի աջակցությամբ իրականացվող Ախուրյան գետի ջրային ռեսուրսների ինտեգրված կառավարման ծրագրի շրջանակներում ջրային տնտեսության ենթակառուցվածքների հիմնանորոգում | J20: ='3'!E36 -> -211470 | K20: ='3'!H36 -> -654822
F21: =+_xlfn.SINGLE('5'!F27) -> #NAME?
G22: Պետական մարմինների կողմից օգտագործվող ոչ ֆինանսական ակտիվների հետ գործառնություններ
H23: Ակտիվն օգտագործող կազմակերպության անվանումը` Մասնագիտացված միավոր
I24: Թունելների վերակառուցում, մ | J24: 0 | K24: -120
B25: 1072 | C25: Ջրամատակարարաման և ջրահեռացման բարելավում | J25: =+J26 -> 4000 | K25: =+K26 -> 4000
D26: 1004 - 11017 | E26: =+'3'!D47 -> "Համայնքային ենթակառուցվածքների II ծրագիր, փուլ 3 - Հայաստանի ջրամատակարարման և ջրահեռացման ենթակառուցվածք" ծրագրերի կառավարում | J26: =+'3'!E47 -> 4000 | K26: =+'3'!H47 -> 4000
F27: Համայնքային ենթակառուցվածքների II ծրագիր, փուլ 3 - Հայաստանի ջրամատակարարման և ջրահեռացման ենթակառուցվածքեր ծրագրի համակարգում և ղեկավարում
G28: Ծառայությունների մատուցում
H29: Ծառայությունը մատուցողի անվանումը` Մասնագիտացված միավոր
A30: ՀՀ կրթության, գիտության, մշակույթի և սպորտի նախարարություն | J30: =+J31+J43 -> 4470 | K30: =+K31+K43 -> 4470
B31: 1189 | C31: Դպրոցների սեյսմիկ անվտանգության մակարդակի բարձրացման ծրագիր | J31: =+J32 -> 4470 | K31: =+K32 -> 4470
D32: 1189 - 12003 | E32: =+'5'!E12 -> Ասիական զարգացման բանկի աջակցությամբ իրականացվող դպրոցների սեյսմիկ պաշտպանության ծրագրի լրացուցիչ ֆինանսավորման շրջանակներում ՀՀ դպրոցների սեյսմիկ անվտանգության բարելավմանն ուղղված միջոցառումներ | J32: =+'2'!G79 -> 4470 | K32: =+'2'!H79 -> 4470
F33: =+'5'!F13 -> Դպրոցների սեյսմիկ պաշտպանության լրացուցիչ ֆինանսավորման ծրագիր, դպրոցների շենքերի կառուցման, ամրացման շինարարական աշխատանքներ, շինարարական ստանդարտների արդիականացում, արտակարգ իրավիճակներին արձագանքման ծրագրի մշակում
G34: Տրանսֆերտների տրամադրում
H35: Շահառուների ընտրության չափորոշիչները` Մասնագիտացված կազմակերպություն
A36: ՀՀ կառավարություն | J36: =+J37 -> 0 | K36: =+K37 -> 0
B37: 1139 | C37: ՀՀ կառավարության պահուստային ֆոնդ | J37: =J38+J42 -> 0 | K37: =K38+K42 -> 0
D38: 1139 - 11001 | E38: ՀՀ կառավարության պահուստային ֆոնդ | J38: =-J42 -> -46670 | K38: =-K42 -> -174670
F39: ՀՀ պետական բյուջեում նախատեսված ելքերի լրացուցիչ ֆինանսավորման, պետական բյուջեում չկանխատեսված ելքերի, ինչպես նաև բյուջետային երաշխիքների ապահովման ելքերի ֆինանսավորման ապահովում
G40: Ծառայությունների մատուցում
H41: Ծառայությունը մատուցողի անվանումը` ՀՀ կառավարություն
...

Sheet 5
A1: Հավելված N 5
A2: ՀՀ կառավարության 2026 թվականի
A3: -ի N -Ն որոշման
A5: ՀԱՅԱՍՏԱՆԻ ՀԱՆՐԱՊԵՏՈՒԹՅԱՆ ԿԱՌԱՎԱՐՈՒԹՅԱՆ 2025 ԹՎԱԿԱՆԻ ԴԵԿՏԵՄԲԵՐԻ 25-Ի N 1910-Ն ՈՐՈՇՄԱՆ N 9.1 ՀԱՎԵԼՎԱԾՈՒՄ ԿԱՏԱՐՎՈՂ ՓՈՓՈԽՈՒԹՅՈՒՆՆԵՐԸ ԵՎ ԼՐԱՑՈՒՄՆԵՐԸ
K6: հազար դրամներով
A7: ԲՍԿ | B7: Ծրագիր | D7: Միջոցառում | H7: Իրականացնողը/ ակտիվն օգտագործողը/ շահառուի ընտրության չափորոշիչը | I7: Արդյունքային չափորոշիչը | J7: Ցուցանիշների փոփոխությունը (ավելացումները նշված են դրական նշանով, իսկ նվազեցումները՝ փակագծերում)
B8: Դասիչը | C8: Անվանումը | D8: Դասիչը | E8: Անվանումը | F8: Նկարագրությունը | G8: Տեսակը | J8: Ինն ամիս | K8: Տարի
A9: ԸՆԴԱՄԵՆԸ | J9: =+J10+J16+J36 -> 0 | K9: =+K10+K16+K36 -> 0
A10: ՀՀ տարածքային կառավարման և ենթակառուցվածքների նախարարություն | J10: =+J11 -> 4470 | K10: =+K11 -> 4470
B11: 1189 | C11: Դպրոցների սեյսմիկ անվտանգության մակարդակի բարձրացման ծրագիր | J11: =+J12 -> 4470 | K11: =+K12 -> 4470
D12: 1189 - 12003 | E12: Ասիական զարգացման բանկի աջակցությամբ իրականացվող դպրոցների սեյսմիկ պաշտպանության ծրագրի լրացուցիչ ֆինանսավորման շրջանակներում ՀՀ դպրոցների սեյսմիկ անվտանգության բարելավմանն ուղղված միջոցառումներ | J12: =+'3'!E58 -> 4470 | K12: =+'3'!H58 -> 4470
F13: Դպրոցների սեյսմիկ պաշտպանության լրացուցիչ ֆինանսավորման ծրագիր, դպրոցների շենքերի կառուցման, ամրացման շինարարական աշխատանքներ, շինարարական ստանդարտների արդիականացում, արտակարգ իրավիճակներին արձագանքման ծրագրի մշակում
G14: Տրանսֆերտների տրամադրում
H15: Շահառուների ընտրության չափորոշիչները` Մասնագիտացված կազմակերպություն
A16: ՀՀ տարածքային կառավարման և ենթակառուցվածքների նախարարության ջրային կոմիտե | J16: =+J17+J31 -> -4470 | K16: =+K17+K31 -> -4470
B17: 1004 | C17: Ոռոգման համակարգի առողջացում | J17: =+J22+J26+J18 -> -8470 | K17: =+K22+K26+K18 -> -8470
D18: 1004 - 12002 | E18: Գերմանիայի զարգացման բանկի աջակցությամբ իրականացվող Ախուրյան գետի ջրային ռեսուրսների ինտեգրված կառավարման փուլ 1 ծրագրով Ջրաձոր գյուղի վերաբնակեցման համար ենթակառուցվածքների և բնակելի տների կառուցում | J18: =+'3'!E24 -> -4000 | K18: =+'4'!K12 -> -4000
F19: Գերմանիայի զարգացման բանկի աջակցությամբ իրականացվող Ախուրյան գետի ջրային ռեսուրսների ինտեգրված կառավարման փուլ 1 ծրագիր
G20: Տրանսֆերտների տրամադրում
H21: Շահառուների ընտրության չափորոշիչները` Տրանսֆերտների տրամադրում
D22: 1004 - 31001 | E22: =+'4'!E16 -> Ֆրանսիայի Հանրապետության կառավարության աջակցությամբ իրականացվող Վեդու ջրամբարի և ոռոգման համակարգի կառուցում | J22: ='3'!E33 -> 207000 | K22: ='3'!H33 -> 650352
F23: Զարգացման ֆրանսիական գործակալության աջակցությամբ իրականացվող ոռոգման ոլորտի ֆինանսական կայունության և ոռոգման կառավարման կարողությունների բարելավման ծրագրի համակարգում և ղեկավարում
G24: Պետական մարմինների կողմից օգտագործվող ոչ ֆինանսական ակտիվների հետ գործառնություններ
H25: Ակտիվն օգտագործող կազմակերպության անվանումը` Մասնագիտացված միավոր
D26: 1004 - 31004 | E26: Գերմանիայի զարգացման վարկերի բանկի աջակցությամբ իրականացվող Ախուրյան գետի ջրային ռեսուրսների ինտեգրված կառավարման ծրագրի շրջանակներում ջրային տնտեսության ենթակառուցվածքների հիմնանորոգում | J26: =+'3'!E36 -> -211470 | K26: =+'3'!H36 -> -654822
F27: Գերմանիայի զարգացման վարկերի բանկի աջակցությամբ իրականացվող Ախուրյան գետի ջրային ռեսուրսների ինտեգրված կառավարման ծրագիր
G28: Պետական մարմինների կողմից օգտագործվող ոչ ֆինանսական ակտիվների հետ գործառնություններ
H29: Ակտիվն օգտագործող կազմակերպության անվանումը` Մասնագիտացված միավոր
I30: Թունելների վերակառուցում, մ | J30: 0 | K30: -120
B31: 1072 | C31: Ջրամատակարարաման և ջրահեռացման բարելավում | J31: =+J32 -> 4000 | K31: =+K32 -> 4000
D32: 1072 - 11017 | E32: "Համայնքային ենթակառուցվածքների II ծրագիր, փուլ 3 - Հայաստանի ջրամատակարարման և ջրահեռացման ենթակառուցվածք" ծրագրերի կառավարում | J32: =+'3'!E49 -> 4000 | K32: =+'3'!H49 -> 4000
F33: Համայնքային ենթակառուցվածքների II ծրագիր, փուլ 3 - Հայաստանի ջրամատակարարման և ջրահեռացման ենթակառուցվածքեր ծրագրի համակարգում և ղեկավարում
G34: Ծառայությունների մատուցում
H35: Ծառայությունը մատուցողի անվանումը` Մասնագիտացված միավոր
A36: ՀՀ կառավարություն | J36: =+J37 -> 0 | K36: =+K37 -> 0
B37: 1139 | C37: ՀՀ կառավարության պահուստային ֆոնդ | J37: =J38+J42 -> 0 | K37: =K38+K42 -> 0
D38: 1139 - 11001 | E38: ՀՀ կառավարության պահուստային ֆոնդ | J38: ='1'!G23 -> -46670 | K38: ='1'!H23 -> -174670
F39: ՀՀ պետական բյուջեում նախատեսված ելքերի լրացուցիչ ֆինանսավորման, պետական բյուջեում չկանխատեսված ելքերի, ինչպես նաև բյուջետային երաշխիքների ապահովման ելքերի ֆինանսավորման ապահովում
G40: Ծառայությունների մատուցում
H41: Ծառայությունը մատուցողի անվանումը` ՀՀ կառավարություն
...

Sheet 6
G1: Հավելված N6
G2: ՀՀ կառավարության 2026 թվականի
G3: ______________ ի ___Ն որոշման
B5: ՀԱՅԱՍՏԱՆԻ ՀԱՆՐԱՊԵՏՈՒԹՅԱՆ 2026 ԹՎԱԿԱՆԻ ՊԵՏԱԿԱՆ ԲՅՈՒՋԵՈՎ ՆԱԽԱՏԵՍՎԱԾ՝ ՀԱՅԱՍՏԱՆԻ ՀԱՆՐԱՊԵՏՈՒԹՅԱՆ ԿԱՌԱՎԱՐՈՒԹՅԱՆ ՊԱՀՈՒՍՏԱՅԻՆ ՖՈՆԴԻՑ ՀԱՏԿԱՑՈՒՄՆԵՐ ԿԱՏԱՐԵԼՈՒ ՎԵՐԱԲԵՐՅԱԼ
I8: հազար դրամներով
B9: Գործառական դասիչը | E9: Ծրագրային դասիչը | G9: Բյուջետային հատկացումների գլխավոր կարգադրիչների, ծրագրերի, միջոցառումների և միջոցառումները կատարող պետական մարմինների անվանումները | H9: Ցուցանիշների փոփոխությունը (ավելացումները նշված են դրական նշանով, իսկ նվազեցումները փակագծերում)
B10: Բաժին | C10: Խումբ | D10: Դաս | E10: Ծրագիր | F10: Միջոցառում | H10: Ինն ամիս | I10: Տարի
G11: ԸՆԴԱՄԵՆԸ | H11: =H13+H52+H73 -> 0 | I11: =I13+I52+I73 -> 0
G12: այդ թվում՝
G13: ՀՀ տարածքային կառավարման և ենթակառուցվածքների նախարարություն | H13: =H15+H34 -> 46000 | I13: =I15+I34 -> 174000
G14: այդ թվում`
B15: 04 | G15: ՏՆՏԵՍԱԿԱՆ ՀԱՐԱԲԵՐՈՒԹՅՈՒՆՆԵՐ | H15: =H17 -> 42000 | I15: =I17 -> 170000
G16: այդ թվում`
C17: 02 | G17: Գյուղատնտեսություն, անտառային տնտեսություն, ձկնորսություն և որսորդություն | H17: =H19 -> 42000 | I17: =I19 -> 170000
G18: այդ թվում`
D19: 04 | G19: Ոռոգում | H19: =H21 -> 42000 | I19: =I21 -> 170000
G20: այդ թվում`
G21: ՀՀ տարածքային կառավարման և ենթակառուցվածքների նախարարություն | H21: =H23 -> 42000 | I21: =I23 -> 170000
G22: այդ թվում`
E23: 1004 | G23: Ոռոգման համակարգի առողջացում | H23: =H25 -> 42000 | I23: =I25 -> 170000
G24: այդ թվում`
F25: 31001 | G25: Ֆրանսիայի Հանրապետության կառավարության աջակցությամբ իրականացվող Վեդու ջրամբարի և ոռոգման համակարգի կառուցում | H25: =H27 -> 42000 | I25: =I27 -> 170000
G26: այդ թվում` ըստ կատարողների
G27: ՀՀ տարածքային կառավարման և ենթակառուցվածքների նախարարության ջրային կոմիտե | H27: =H29 -> 42000 | I27: =I29 -> 170000
G28: այդ թվում` բյուջետային ծախսերի տնտեսագիտական դասակարգման հոդվածներ
G29: ԸՆԴԱՄԵՆԸ ԾԱԽՍԵՐ | H29: ='3'!G31 -> 42000 | I29: ='3'!J31 -> 170000
G30: ՈՉ ՖԻՆԱՆՍԱԿԱՆ ԱԿՏԻՎՆԵՐԻ ԳԾՈՎ ԾԱԽՍԵՐ | H30: ='3'!G32 -> 42000 | I30: ='3'!J32 -> 170000
G31: ՀԻՄՆԱԿԱՆ ՄԻՋՈՑՆԵՐ | H31: ='3'!G33 -> 42000 | I31: ='3'!J33 -> 170000
G32: ՇԵՆՔԵՐ ԵՎ ՇԻՆՈՒԹՅՈՒՆՆԵՐ | H32: ='3'!G34 -> 42000 | I32: ='3'!J34 -> 170000
G33: - Շենքերի և շինությունների շինարարություն | H33: ='3'!G35 -> 42000 | I33: ='3'!J35 -> 170000
B34: 06 | G34: ԲՆԱԿԱՐԱՆԱՅԻՆ ՇԻՆԱՐԱՐՈՒԹՅՈՒՆ ԵՎ ԿՈՄՈՒՆԱԼ ԾԱՌԱՅՈՒԹՅՈՒՆՆԵՐ | H34: 4000 | I34: 4000
G35: այդ թվում`
C36: 03 | G36: Ջրամատակարարում | H36: 4000 | I36: 4000
G37: այդ թվում`
D38: 01 | G38: Ջրամատակարարում | H38: 4000 | I38: 4000
G39: այդ թվում`
G40: ՀՀ տարածքային կառավարման և ենթակառուցվածքների նախարարություն | H40: 4000 | I40: 4000
G41: այդ թվում`
E42: 1072 | G42: Ջրամատակարարաման և ջրահեռացման բարելավում | H42: 4000 | I42: 4000
G43: այդ թվում`
...

Sheet 8
A1: Հավելված N 8
A2: ՀՀ կառավարության 2026 թվականի
A3: -ի N -Ն որոշման
A5: ՀԱՅԱՍՏԱՆԻ ՀԱՆՐԱՊԵՏՈՒԹՅԱՆ ԿԱՌԱՎԱՐՈՒԹՅԱՆ ՊԱՀՈՒՍՏԱՅԻՆ ՖՈՆԴԻՑ ԿԱՏԱՐՎՈՂ ՀԱՏԿԱՑՈՒՄԸ
I6: հազար դրամներով
A8: Գործառական դասիչը | D8: Ծրագրային դասիչը | F8: Բյուջետային ծախսերի գործառական դասակարգման բաժինների, խմբերի և դասերի, բյուջետային ծրագրերի միջոցառումների, բյուջետային հատկացումների գլխավոր կարգադրիչների անվանումները | G8: Ցուցանիշների փոփոխությունը (ավելացումները նշված են դրական նշանով, իսկ նվազեցումները՝ փակագծերում)
G9: Առաջին եռամսյակ | H9: Առաջին կիսամյակ | I9: Ինն ամիս | J9: Տարի
A10: Բաժին | B10: Խումբ | C10: Դաս | D10: Ծրագիր | E10: Միջոցառում
F11: ԸՆԴԱՄԵՆԸ ԾԱԽՍԵՐ | G11: =G13+G33 -> #REF! | H11: =H13+H33 -> #REF! | I11: =I13+I33 -> #REF! | J11: =J13+J33 -> #REF!
F12: այդ թվում`
F13: ՀՀ կառավարություն | G13: =G15 -> #REF! | H13: =H15 -> #REF! | I13: =I15 -> #REF! | J13: =J15 -> #REF!
F14: այդ թվում`
A15: 11 | F15: ՀԻՄՆԱԿԱՆ ԲԱԺԻՆՆԵՐԻՆ ՉԴԱՍՎՈՂ ՊԱՀՈՒՍՏԱՅԻՆ ՖՈՆԴԵՐ | G15: =G17 -> #REF! | H15: =H17 -> #REF! | I15: =I17 -> #REF! | J15: =J17 -> #REF!
F16: այդ թվում`
B17: 01 | F17: ՀՀ կառավարության և համայնքների պահուստային ֆոնդ | G17: =G19 -> #REF! | H17: =H19 -> #REF! | I17: =I19 -> #REF! | J17: =J19 -> #REF!
F18: այդ թվում`
C19: 01 | F19: ՀՀ կառավարության պահուստային ֆոնդ | G19: =G21 -> #REF! | H19: =H21 -> #REF! | I19: =I21 -> #REF! | J19: =J21 -> #REF!
F20: այդ թվում`
F21: ՀՀ կառավարություն | G21: =G23 -> #REF! | H21: =H23 -> #REF! | I21: =I23 -> #REF! | J21: =J23 -> #REF!
F22: այդ թվում`
D23: 1139 | F23: ՀՀ կառավարության պահուստային ֆոնդ | G23: =G25 -> #REF! | H23: =H25 -> #REF! | I23: =I25 -> #REF! | J23: =J25 -> #REF!
F24: այդ թվում`
E25: 11001 | F25: ՀՀ կառավարության պահուստային ֆոնդ | G25: =G27 -> #REF! | H25: =H27 -> #REF! | I25: =I27 -> #REF! | J25: =J27 -> #REF!
F26: այդ թվում` ըստ կատարողների
F27: ՀՀ կառավարություն | G27: =G29 -> #REF! | H27: =H29 -> #REF! | I27: =I29 -> #REF! | J27: =J29 -> #REF!
F28: այդ թվում` բյուջետային ծախսերի տնտեսագիտական դասակարգման հոդվածներ
F29: ԸՆԴԱՄԵՆԸ ԾԱԽՍԵՐ | G29: =G30 -> #REF! | H29: =H30 -> #REF! | I29: =I30 -> #REF! | J29: =J30 -> #REF!
F30: ԸՆԹԱՑԻԿ ԾԱԽՍԵՐ | G30: =G31 -> #REF! | H30: =H31 -> #REF! | I30: =I31 -> #REF! | J30: =J31 -> #REF!
F31: ԱՅԼ ԾԱԽՍԵՐ | G31: =G32 -> #REF! | H31: =H32 -> #REF! | I31: =I32 -> #REF! | J31: =J32 -> #REF!
F32: Պահուստային միջոցներ | G32: =-G33 -> #REF! | H32: =-H33 -> #REF! | I32: =-I33 -> #REF! | J32: =-J33 -> #REF!
F33: ՀՀ տարածքային կառավարման և ենթակառուցվածքների նախարարություն | G33: =G71+G35 -> #REF! | H33: =H71+H35 -> #REF! | I33: =I71+I35 -> #REF! | J33: =J71+J35 -> #REF!
F34: այդ թվում`
A35: 04 | F35: ՏՆՏԵՍԱԿԱՆ ՀԱՐԱԲԵՐՈՒԹՅՈՒՆՆԵՐ | G35: =+G37+G54 -> #REF! | H35: =+H37+H54 -> #REF! | I35: =+I37+I54 -> #REF! | J35: =+J37+J54 -> #REF!
F36: այդ թվում`
B37: 02 | F37: Գյուղատնտեսություն, անտառային տնտեսություն, ձկնորսություն և որսորդություն | G37: =G39 -> #REF! | H37: =H39 -> #REF! | I37: =I39 -> #REF! | J37: =J39 -> #REF!
F38: այդ թվում`
C39: 04 | F39: Ոռոգում | G39: =G43+G103 -> #REF! | H39: =H43+H103 -> #REF! | I39: =I43+I103 -> #REF! | J39: =J43+J103 -> #REF!
F40: այդ թվում`
F41: ՀՀ տարածքային կառավարման և ենթակառուցվածքների նախարարություն | G41: =G43 -> #REF! | H41: =H43 -> #REF! | I41: =I43 -> #REF! | J41: =J43 -> #REF!
F42: այդ թվում`
...
