Workbook

Sheet 1
H1: Հավելված № 1
H2: ՀՀ կառավարության 2026 թվականի ----------
H3: № ---------- որոշման
A6: ՀԱՅԱՍՏԱՆԻ ՀԱՆՐԱՊԵՏՈՒԹՅԱՆ 2026 ԹՎԱԿԱՆԻ ՊԵՏԱԿԱՆ ԲՅՈՒՋԵԻ ՄԱՍԻՆ ՕՐԵՆՔԻ N 1 ՀԱՎԵԼՎԱԾԻ N 3 ԱՂՅՈՒՍԱԿՈՒՄ ԿԱՏԱՐՎՈՂ ՓՈՓՈԽՈՒԹՅՈՒՆԸ ԵՎ ԼՐԱՑՈՒՄԸ
G7: հազար դրամ
A8: Ծրագրային դասիչը | C8: Բյուջետային գլխավոր կարգադրիչների, ծրագրերի և միջոցառումների և ուղղությունների անվանումները | D8: Ընդամենը | E8: Ցուցանիշների փոփոխությունը (ավելացումները նշված են դրական նշանով,իսկ նվազեցումները՝ փակագծերում)
A10: Ծրագիր | B10: Միջոցառում | E10: Կառուցման աշխատանքներ | F10: Վերակառուցման, վերանորոգման և վերականգնման աշխատանքներ | G10: Նախագծահե- տազոտական, գեոդեզիա- քարտեզագրա- կան աշխա- տանքներ | H10: Ոչ ֆինանսական այլ ակտիվների ձեռքբերում
C11: Ընդամենը | D11: =+D13 -> 0 | E11: =+E13 -> 0 | F11: =+F13 -> -513 | G11: =+G13 -> 513 | H11: =+H13 -> 0
C12: այդ թվում`
C13: ՀՀ արդարադատության նախարարություն | D13: =+D15 -> 0 | E13: =+E15 -> 0 | F13: =+F15 -> -513 | G13: =+G15 -> 513 | H13: =+H15 -> 0
C14: այդ թվում՝
A15: 1057 | B15: 31002 | C15: Արդարադատության նախարարության շենքային պայմանների բարելավում | D15: =SUM(F15:H15) -> 0 | E15: =+E17 -> 0 | F15: =+F17 -> -513 | G15: =+G17 -> 513 | H15: =+H17 -> 0
C16: այդ թվում`
C17: Իրավաբանական անձանց պետական ռեգիստրի գործակալության Բյուզանդի 1/3 վարչական շենքի վերանորոգում | F17: =+'2'!H30 -> -513 | G17: =+'2'!H31 -> 513

Sheet 2
H1: Հավելված N 2
H2: ՀՀ կառավարության 2026թվականի
H3: ___________ ___-ի N _______ որոշման
A6: ՀԱՅԱՍՏԱՆԻ ՀԱՆՐԱՊԵՏՈՒԹՅԱՆ ԿԱՌԱՎԱՐՈՒԹՅԱՆ 2025 ԹՎԱԿԱՆԻ ԴԵԿՏԵՄԲԵՐԻ 25-Ի N 1910-Ն ՈՐՈՇՄԱՆ N 3 և N 4 ՀԱՎԵԼՎԱԾՆԵՐՈՒՄ ԿԱՏԱՐՎՈՂ ՓՈՓՈԽՈՒԹՅՈՒՆԸ ԵՎ ԼՐԱՑՈՒՄԸ
H7: հազար դրամներով
A8: Գործառական դասիչը | D8: Ծրագրային դասիչը | F8: Բյուջետային ծախսերի գործառական դասակարգման բաժինների, խմբերի և դասերի, բյուջետային ծրագրերի, միջոցառումների բյուջետային հատկացումների գլխավոր կարգադրիչների անվանումները | G8: Ցուցանիշների փոփոխությունը (ավելացումները նշված են դրական նշանով,իսկ նվազեցումները՝ փակագծերում)
A9: Բաժին | B9: Խումբ | C9: Դաս | D9: Ծրագիր | E9: Միջոցառում | G9: Ինն ամիս | H9: Տարի
F10: ԸՆԴԱՄԵՆԸ | G10: =G12 -> 0 | H10: =H12 -> 0
F11: այդ թվում`
A12: 01 | F12: ԸՆԴՀԱՆՈՒՐ ԲՆՈՒՅԹԻ ՀԱՆՐԱՅԻՆ ԾԱՌԱՅՈՒԹՅՈՒՆՆԵՐ | G12: =G14 -> 0 | H12: =H14 -> 0
F13: այդ թվում`
B14: 01 | F14: Օրենսդիր և գործադիր մարմիններ, պետական կառավարում, ֆինանսական և հարկաբյուջետային հարաբերություններ, արտաքին հարաբերություններ | G14: =G16 -> 0 | H14: =H16 -> 0
F15: այդ թվում`
C16: 01 | F16: Օրենսդիր և գործադիր մարմիններ, պետական կառավարում | G16: =G20 -> 0 | H16: =H20 -> 0
F17: այդ թվում`
F18: ՀՀ արդարադատության նախարարություն | G18: =G20 -> 0 | H18: =H20 -> 0
F19: այդ թվում`
D20: 1057 | F20: Արդարադատության ոլորտում քաղաքականության մշակում, ծրագրերի համակարգում, խորհրդատվության և մոնիտորինգի իրականացում | G20: =G22 -> 0 | H20: =H22 -> 0
F21: այդ թվում`
E22: 31002 | F22: Արդարադատության նախարարության շենքային պայմաններիբարելավում | G22: =G24 -> 0 | H22: =H24 -> 0
F23: այդ թվում` ըստ կատարողների
F24: ՀՀ արդարադատության նախարարություն | G24: =G26 -> 0 | H24: =H26 -> 0
F25: այդ թվում` բյուջետային ծախսերի տնտեսագիտական դասակարգման հոդվածներ
F26: ԸՆԴԱՄԵՆԸ ԾԱԽՍԵՐ | G26: =G27 -> 0 | H26: =H27 -> 0
F27: ՈՉ ՖԻՆԱՆՍԱԿԱՆ ԱԿՏԻՎՆԵՐԻ ԳԾՈՎ ԾԱԽՍԵՐ | G27: =G28 -> 0 | H27: =H28 -> 0
F28: ՀԻՄՆԱԿԱՆ ՄԻՋՈՑՆԵՐ | G28: =G29 -> 0 | H28: =H29 -> 0
F29: ՇԵՆՔԵՐ ԵՎ ՇԻՆՈՒԹՅՈՒՆՆԵՐ | G29: =+G30+G31 -> 0 | H29: =+H30+H31 -> 0
F30: - Շենքերի և շինությունների կապիտալ վերանորոգում | G30: -513 | H30: -513
F31: - Նախագծահետազոտական ծախսեր | G31: 513 | H31: 513

Sheet 3
K1: Հավելված N 3
K2: ՀՀ կառավարության 2026թվականի
K3: ___________ ___-ի N _______ որոշման
A6: ՀԱՅԱՍՏԱՆԻ ՀԱՆՐԱՊԵՏՈՒԹՅԱՆ ԿԱՌԱՎԱՐՈՒԹՅԱՆ 2025 ԹՎԱԿԱՆԻ ԴԵԿՏԵՄԲԵՐԻ 25-Ի ԹԻՎ 1910-Ն ՈՐՈՇՄԱՆ N 9 ՀԱՎԵԼՎԱԾՈՒՄ ԿԱՏԱՐՎՈՂ ԼՐԱՑՈՒՄՆԵՐԸ
K9: հազար դրամներով
A10: ԲԳԿ | B10: Ծրագիր | D10: Միջոցառում | H10: Իրականացնողը/ ակտիվն օգտագործողը/ շահառուի ընտրության չափորոշիչը | I10: Արդյունքային չափորոշիչը | J10: Ցուցանիշների փոփոխությունը (ավելացումները նշված են դրական նշանով)
B11: Դասիչը | C11: Անվա-նումը | D11: Դասիչը | E11: Անվա-նումը | F11: Նկարագրու-թյունը | G11: Տեսակը | J11: Ինն ամիս | K11: Տարի
A12: ԸՆԴԱՄԵՆԸ | J12: =+J13 -> 0 | K12: =+K13 -> 0
A13: ՀՀ արդարադատության նախարարություն | J13: =+J14+J19 -> 0 | K13: =+K14 -> 0
B14: 1057 | C14: Արդարադատության ոլորտում քաղաքականության մշակում, ծրագրերի համակարգում, խորհրդատվության և մոնիտորինգի իրականացում | J14: =J15 -> 0 | K14: =K15 -> 0
D15: 1057 - 31002 | E15: Արդարադատության նախարարության շենքային պայմանների բարելավում | J15: =+'2'!G22 -> 0 | K15: =+'2'!H22 -> 0
F16: Արդարադատության նախարարության շենքերի նորոգում, հիմնանորոգում, կառուցում և նախագծանախահաշվային փաստաթղթերի ձեռքբերում
G17: Պետական մարմինների կողմից օգտագործվող ոչ ֆինանսական ակտիվների հետ գործառնություններ
H18: Ակտիվն օգտագործող կազմակերպության անվանումը` Արդարադատության նախարարություն
I19: Նախագծային փաստաթղթերի փորձաքննություն | K19: 1

Sheet 4
K1: Հավելված N 4
K2: ՀՀ կառավարության 2026թվականի
K3: ___________ ___-ի N _______ որոշման
A6: ՀԱՅԱՍՏԱՆԻ ՀԱՆՐԱՊԵՏՈՒԹՅԱՆ ԿԱՌԱՎԱՐՈՒԹՅԱՆ 2025 ԹՎԱԿԱՆԻ ԴԵԿՏԵՄԲԵՐԻ 25-Ի ԹԻՎ 1910-Ն ՈՐՈՇՄԱՆ N 9․1 ՀԱՎԵԼՎԱԾՈՒՄ ԿԱՏԱՐՎՈՂ ԼՐԱՑՈՒՄՆԵՐԸ
K9: հազար դրամներով
A10: ԲՍԿ | B10: Ծրագիր | D10: Միջոցառում | H10: Իրականացնողը/ ակտիվն օգտագործողը/ շահառուի ընտրության չափորոշիչը | I10: Արդյունքային չափորոշիչը | J10: Ցուցանիշների փոփոխությունը (ավելացումները նշված են դրական նշանով)
B11: Դասիչը | C11: Անվանումը | D11: Դասիչը | E11: Անվանումը | F11: Նկարագրությունը | G11: Տեսակը | J11: Ինն ամիս | K11: Տարի
A12: ԸՆԴԱՄԵՆԸ | J12: =+J13 -> 0 | K12: =+K13 -> 0
A13: ՀՀ արդարադատության նախարարություն | J13: =+J14 -> 0 | K13: =+K14 -> 0
B14: 1057 | C14: Արդարադատության ոլորտում քաղաքականության մշակում, ծրագրերի համակարգում, խորհրդատվության և մոնիտորինգի իրականացում | J14: =J15 -> 0 | K14: =K15 -> 0
D15: 1057 - 31002 | E15: Արդարադատության նախարարության շենքային պայմանների բարելավում | J15: =+'2'!G21 -> 0 | K15: =+'2'!H21 -> 0
F16: Արդարադատության նախարարության շենքերի նորոգում, հիմնանորոգում, կառուցում և նախագծանախահաշվային փաստաթղթերի ձեռքբերում
G17: Պետական մարմինների կողմից օգտագործվող ոչ ֆինանսական ակտիվների հետ գործառնություններ
H18: Ակտիվն օգտագործող կազմակերպության անվանումը` Արդարադատության նախարարություն
I19: Նախագծային փաստաթղթերի փորձաքննություն | K19: 1

Sheet 5
E1: Հավելված N 5
E2: ՀՀ կառավարության 2026 թվականի
E3: ———————— N -Ն որոշման
A5: ՀԱՅԱՍՏԱՆԻ ՀԱՆՐԱՊԵՏՈՒԹՅԱՆ ԿԱՌԱՎԱՐՈՒԹՅԱՆ 2025ԹՎԱԿԱՆԻ ԴԵԿՏԵՄԲԵՐԻ 25-Ի N 1910-Ն ՈՐՈՇՄԱՆ N 10 ՀԱՎԵԼՎԱԾԻ ՑՈՒՑԱՆԻՇՆԵՐՈՒՄ ԿԱՏԱՐՎՈՂ ՓՈՓՈԽՈՒԹՅՈՒՆՆԵՐԸ ԵՎ ԼՐԱՑՈՒՄՆԵՐԸ
A7: Կոդը | B7: Անվանումը | C7: Գնման ձևը | D7: Չափի միավորը | E7: միավորի գինը | F7: Ցուցանիշների փոփոխությունը (ավելացումները նշված են դրական նշանով,իսկ նվազեցումները՝ փակագծերում)
F8: քանակը | G8: գումարը (հազար դրամով)
A9: 1 | B9: 2 | C9: 3 | D9: 4 | E9: 5 | F9: 6 | G9: 7
A10: ՀՀ արդարադատության նախարարություն | G10: =+G11 -> 0
A11: Բաժին N 01 | B11: Խումբ N 01 | C11: Դաս N 01 | D11: Օրենսդիր և գործադիր մարմիններ, պետական կառավարում | G11: =+G12 -> 0
A12: 1057 31002 | B12: Արդարադատության նախարարության շենքային պայմանների բարելավում | G12: =G13+G15 -> 0
B13: ՄԱՍ II. ԱՇԽԱՏԱՆՔՆԵՐ | G13: =SUM(G14:G14) -> -513
A14: 45610000 | B14: Շենքերի, շինությունների հիմնանորոգման աշխատանքներ | C14: ԲՄ | D14: դրամ | G14: -513
B15: ՄԱՍ III. ԾԱՌԱՅՈՒԹՅՈՒՆՆԵՐ | G15: =SUM(G16:G16) -> 513
A16: 50531140/501 | B16: Փորձաքննության ծառայություններ | C16: ԳՀ | D16: դրամ | E16: 513000 | F16: 1 | G16: 513
