Workbook
Name _tab10: #REF!
Name _tab10: #REF!
Name _tab10: #REF!
Name _tab10: #REF!
Name _tab10: #REF!
Name _tab11: #REF!
Name _tab11: #REF!
Name _tab11: #REF!
Name _tab11: #REF!
Name _tab11: #REF!
Name _tab12: #REF!
Name _tab12: #REF!
Name _tab12: #REF!
Name _tab12: #REF!
Name _tab12: #REF!
Name _tab13: #REF!
Name _tab13: #REF!
Name _tab13: #REF!
Name _tab13: #REF!
Name _tab13: #REF!
Name _tab14: #REF!
Name _tab14: #REF!
Name _tab14: #REF!
Name _tab14: #REF!
Name _tab14: #REF!
Name _tab15: #REF!
Name _tab15: #REF!
Name _tab15: #REF!
Name _tab15: #REF!
Name _tab15: #REF!
Name _tab16: #REF!
Name _tab16: #REF!
Name _tab16: #REF!
Name _tab16: #REF!
Name _tab16: #REF!
Name _tab17: #REF!
Name _tab17: #REF!
Name _tab17: #REF!
Name _tab17: #REF!
Name _tab17: #REF!
Name _tab18: #REF!
Name _tab18: #REF!
Name _tab18: #REF!
Name _tab18: #REF!
Name _tab18: #REF!
Name _tab19: #REF!
Name _tab19: #REF!
Name _tab19: #REF!
Name _tab19: #REF!
Name _tab19: #REF!
Name _tab20: #REF!
Name _tab20: #REF!
Name _tab20: #REF!
Name _tab20: #REF!
Name _tab20: #REF!
Name _tab21: #REF!
Name _tab21: #REF!
Name _tab21: #REF!
Name _tab21: #REF!
Name _tab21: #REF!

Sheet ՕՀ-1 Ա-2 և Հ-5 Ա-1
I1: Հավելված N 1
I2: ՀՀ կառավարության 2026 թվականի
I3: ='Հ-3 և Հ-4'!I3 -> ______________ ի N ___ -Ն որոշման
B5: «ՀԱՅԱՍՏԱՆԻ ՀԱՆՐԱՊԵՏՈՒԹՅԱՆ 2026 ԹՎԱԿԱՆԻ ՊԵՏԱԿԱՆ ԲՅՈՒՋԵԻ ՄԱՍԻՆ» ՀԱՅԱՍՏԱՆԻ ՀԱՆՐԱՊԵՏՈՒԹՅԱՆ ՕՐԵՆՔԻ N 1 ՀԱՎԵԼՎԱԾԻ N 2 ԱՂՅՈՒՍԱԿՈՒՄ
B6: ԿԱՏԱՐՎՈՂ ՎԵՐԱԲԱՇԽՈՒՄԸ ԵՎ ՀԱՅԱՍՏԱՆԻ ՀԱՆՐԱՊԵՏՈՒԹՅԱՆ ԿԱՌԱՎԱՐՈՒԹՅԱՆ 2025 ԹՎԱԿԱՆԻ ԴԵԿՏԵՄԲԵՐԻ 25-Ի N 1910-Ն ՈՐՈՇՄԱՆ
B7: N 5 ՀԱՎԵԼՎԱԾԻ N 1 ԱՂՅՈՒՍԱԿՈՒՄ ԿԱՏԱՐՎՈՂ ՓՈՓՈԽՈՒԹՅՈՒՆՆԵՐԸ
I8: հազար դրամներով
B9: ԲԳԿ | C9: Ծրագրային դասիչը | E9: ԲԳԿ/Ծրագրի /միջոցառման անվանումը | F9: Ծրագրի նպատակը/ Միջոցառման նկարագրությունը | G9: Վերջնական արդյունքի նկարագրությունը/ Միջոցառման տեսակը | H9: Ցուցանիշների փոփոխությունը (ավելացումները նշված են դրական նշանով, իսկ նվազեցումները՝ փակագծերում)
C10: Ծրագիր | D10: Միջոցառում | H10: ինն ամիս | I10: տարի
B11: ԸՆԴԱՄԵՆԸ | H11: =H12+H15 -> 0 | I11: =I12+I15 -> 0
B12: ՀՀ աշխատանքի և սոցիալական հարցերի նախարարություն | H12: =H13 -> 865718 | I12: =I13 -> 865718
C13: 1098 | E13: Բնակարանային ապահովում | F13: Հանրապետությունում մշտական բնակության վայր չունեցող անօթևան անձանց բնակարանային ապահովմանն աջակցություն | G13: Հանրապետությունում մշտական բնակության վայր չունեցող անօթևան անձանց բնակարանային ապահովվածության բարելավում | H13: =H14 -> 865718 | I13: =I14 -> 865718
D14: 1098 - 12006 | E14: ՀՀ ՊՆ համակարգի` բնակարանային պայմանների բարելավման կարիք ունեցող զինծառայողներին, նրանց հավասարեցված անձանց և նրանց ընտանիքների անդամներին բնակարան ձեռք բերելու նպատակով անհատույց պետական ֆինանսական աջակցության տրամադրում | F14: Գնահատման չափանիշների համաձայն բնակարանի բարելավման կարիք ունեցող կարիքավորների ճանաչում` հաշվառում և նրանց անհատույց ֆինանսական աջակցության տրամադրման եղանակով բնակարանային խնդիրների լուծում | G14: Տրանսֆերտների տրամադրում | H14: =+'Հ-3 և Հ-4'!H20 -> 865718 | I14: =+'Հ-3 և Հ-4'!I20 -> 865718
B15: ՀՀ պաշտպանության նախարարություն | H15: =H16 -> -865718 | I15: =I16 -> -865718
C16: 1169 | E16: ՀՀ պաշտպանության ապահովում | F16: ՀՀ ԶՈւ ռազմավարական ծավալումն ապահովող մարտական պատրաստականության պահպանում, արտաքին թշնամուց ՀՀ պետական սահմանների պաշտպանության ապահովում | G16: ՀՀ ԶՈւ ռազմավարական ծավալումն ապահովող մարտական պատրաստականության պահպանում | H16: =H17 -> -865718 | I16: =I17 -> -865718
D17: 1169 - 11001 | E17: Ռազմական կարիքների բավարարում | F17: Ընթացիկ գործունեության ապահովման գործողություններ | G17: Ծառայությունների մատուցում | H17: =-H14 -> -865718 | I17: =-I14 -> -865718

Sheet Հ-3 և Հ-4
I1: Հավելված N 2
I2: ՀՀ կառավարության 2026 թվականի
I3: ______________ ի N ___ -Ն որոշման
B5: ՀԱՅԱՍՏԱՆԻ ՀԱՆՐԱՊԵՏՈՒԹՅԱՆ ԿԱՌԱՎԱՐՈՒԹՅԱՆ 2025 ԹՎԱԿԱՆԻ ԴԵԿՏԵՄԲԵՐԻ 25-Ի N 1910-Ն ՈՐՈՇՄԱՆ
B6: N 3 և N 4 ՀԱՎԵԼՎԱԾՆԵՐՈՒՄ ԿԱՏԱՐՎՈՂ ՓՈՓՈԽՈՒԹՅՈՒՆՆԵՐԸ
I7: հազար դրամներով
B8: Գործառական դասիչը | E8: Ծրագրային դասիչը | G8: Բյուջետային ծախսերի գործառական դասակարգման բաժինների, խմբերի և դասերի, բյուջետային ծրագրերի միջոցառումների, բյուջետային հատկացումների գլխավոր կարգադրիչների անվանումները | H8: Ցուցանիշների փոփոխությունը (ավելացումները նշված են դրական նշանով, իսկ նվազեցումները՝ փակագծերում)
B9: բաժին | C9: խումբ | D9: դաս | E9: ծրագիր | F9: միջոցա-ռում | H9: ինն ամիս | I9: տարի
G10: ԸՆԴԱՄԵՆԸ ԾԱԽՍԵՐ | H10: =H12+H31 -> 0 | I10: =I12+I31 -> 0
G11: այդ թվում`
G12: ՀՀ աշխատանքի և սոցիալական հարցերի նախարարություն | H12: =H14 -> 865718 | I12: =I14 -> 865718
G13: այդ թվում`
B14: 10 | G14: ՍՈՑԻԱԼԱԿԱՆ ՊԱՇՏՊԱՆՈՒԹՅՈՒՆ | H14: =H16 -> 865718 | I14: =I16 -> 865718
G15: այդ թվում`
C16: 06 | G16: Բնակարանային ապահովում | H16: =H18 -> 865718 | I16: =I18 -> 865718
G17: այդ թվում`
D18: 01 | G18: Բնակարանային ապահովում | H18: =H20 -> 865718 | I18: =I20 -> 865718
G19: այդ թվում`
E20: 1098 | G20: Բնակարանային ապահովում | H20: =H22 -> 865718 | I20: =I22 -> 865718
G21: այդ թվում`
F22: 12006 | G22: ՀՀ ՊՆ համակարգի` բնակարանային պայմանների բարելավման կարիք ունեցող զինծառայողներին, նրանց հավասարեցված անձանց և նրանց ընտանիքների անդամներին բնակարան ձեռք բերելու նպատակով անհատույց պետական ֆինանսական աջակցության տրամադրում | H22: =H24 -> 865718 | I22: =I24 -> 865718
G23: այդ թվում` ըստ կատարողների
G24: ՀՀ պաշտպանության նախարարություն | H24: =H26 -> 865718 | I24: =I26 -> 865718
G25: այդ թվում` բյուջետային ծախսերի տնտեսագիտական դասակարգման հոդվածներ
G26: ԸՆԴԱՄԵՆԸ ԾԱԽՍԵՐ | H26: =H27 -> 865718 | I26: =I27 -> 865718
G27: ԸՆԹԱՑԻԿ ԾԱԽՍԵՐ | H27: =H28 -> 865718 | I27: =I28 -> 865718
G28: ՍՈՑԻԱԼԱԿԱՆ ՆՊԱՍՏՆԵՐ ԵՎ ԿԵՆՍԱԹՈՇԱԿՆԵՐ | H28: =H29 -> 865718 | I28: =I29 -> 865718
G29: ՍՈՑԻԱԼԱԿԱՆ ՕԳՆՈՒԹՅԱՆ ԴՐԱՄԱԿԱՆ ԱՐՏԱՀԱՅՏՈՒԹՅԱՄԲ ՆՊԱՍՏՆԵՐ (ԲՅՈՒՋԵԻՑ) | H29: =SUM(H30:H30) -> 865718 | I29: =SUM(I30:I30) -> 865718
G30: - Բնակարանային նպաստներ բյուջեից | H30: 865718 | I30: 865718
B31: 02 | G31: ՊԱՇՏՊԱՆՈՒԹՅՈՒՆ | H31: =H33 -> -865718 | I31: =I33 -> -865718
G32: այդ թվում`
C33: 01 | G33: Ռազմական պաշտպանություն | H33: =H35 -> -865718 | I33: =I35 -> -865718
G34: այդ թվում`
D35: 01 | G35: Ռազմական պաշտպանություն | H35: =H37 -> -865718 | I35: =I37 -> -865718
G36: այդ թվում`
E37: 1169 | G37: ՀՀ պաշտպանության ապահովում | H37: =H39 -> -865718 | I37: =I39 -> -865718
G38: այդ թվում`
F39: 11001 | G39: Ռազմական կարիքների բավարարում | H39: =H41 -> -865718 | I39: =I41 -> -865718
G40: այդ թվում` ըստ կատարողների
G41: ՀՀ պաշտպանության նախարարություն | H41: =H43 -> -865718 | I41: =I43 -> -865718
...

Sheet Հ-9
L1: Հավելված N 3
L2: ='Հ-3 և Հ-4'!I2 -> ՀՀ կառավարության 2026 թվականի
L3: ='Հ-3 և Հ-4'!I3 -> ______________ ի N ___ -Ն որոշման
B5: =+'Հ-3 և Հ-4'!B5:I5 -> ՀԱՅԱՍՏԱՆԻ ՀԱՆՐԱՊԵՏՈՒԹՅԱՆ ԿԱՌԱՎԱՐՈՒԹՅԱՆ 2025 ԹՎԱԿԱՆԻ ԴԵԿՏԵՄԲԵՐԻ 25-Ի N 1910-Ն ՈՐՈՇՄԱՆ
B6: N 9 ՀԱՎԵԼՎԱԾՈՒՄ ԿԱՏԱՐՎՈՂ ՓՈՓՈԽՈՒԹՅՈՒՆՆԵՐԸ
L7: հազար դրամներով
B8: ԲԳԿ | C8: Ծրագիր | E8: Միջոցառում | I8: Իրականացնողը/ ակտիվն օգտագործողը/ շահառուի ընտրության չափորոշիչը | J8: Արդյունքային չափորոշիչը | K8: Ցուցանիշների փոփոխությունը (ավելացումները նշված են դրական նշանով, իսկ նվազեցումները՝ փակագծերում)
C9: Դասիչը | D9: Անվա-նումը | E9: Դասիչը | F9: Անվա-նումը | G9: Նկարագրու-թյունը | H9: Տեսակը | K9: ինն ամիս | L9: տարի
B10: ԸՆԴԱՄԵՆԸ | K10: =K11+K25 -> 0 | L10: =L11+L25 -> 0
B11: ՀՀ աշխատանքի և սոցիալական հարցերի նախարարություն | K11: =K12 -> 865718 | L11: =L12 -> 865718
C12: 1098 | D12: Բնակարանային ապահովում | K12: =K13 -> 865718 | L12: =L13 -> 865718
E13: 1098 - 12006 | F13: ՀՀ ՊՆ համակարգի` բնակարանային պայմանների բարելավման կարիք ունեցող զինծառայողներին, նրանց հավասարեցված անձանց և նրանց ընտանիքների անդամներին բնակարան ձեռք բերելու նպատակով անհատույց պետական ֆինանսական աջակցության տրամադրում | K13: =+'Հ-3 և Հ-4'!H22 -> 865718 | L13: =+'Հ-3 և Հ-4'!I22 -> 865718
G14: Գնահատման չափանիշների համաձայն բնակարանի բարելավման կարիք ունեցող կարիքավորների ճանաչում` հաշվառում և նրանց անհատույց ֆինանսական աջակցության տրամադրման եղանակով բնակարանային խնդիրների լուծում
H15: Տրանսֆերտների տրամադրում
I16: Շահառուների ընտրության չափորոշիչները` ՊՆ համակարգի պայմանագրային զինծառայողների, քաղաքացիական ծառայողների որպես բնակարանային պայմանների բարելավման կարիքավոր հաշվառված ընտանիքներ
J17: Բնակարանային ապահովման և պայմանների բարելավման նպատակով աջակցություն ստացող շահառուների թիվ, համաձայն «Զինվորական ծառայության և զինծառայողի կարգավիճակի մասին» ՀՀ օրենք, ՀՀ կառ. 07.03.2007թ. N 384-Ն որոշում | L17: =+L18++L21 -> 28
J18: Ընտանիքների թիվ, հատ որից` | L18: =SUM(L19:L20) -> 11
J19: 1.1. ք. Երևան | L19: 9
J20: 1.2. ՀՀ մարզեր | L20: 2
J21: 2. Զինթոշակառուների ընտանիքներ, այդ թվում` | L21: =SUM(L22:L23) -> 17
J22: 2.1. ք. Երևան | L22: 13
J23: 2.2. ՀՀ մարզեր | L23: 4
J24: Աջակցություն ստացած շահառուների տեսակարար կշիռը, որպես բնակարանային պայմանների կարիքավոր հաշվառված շահառուների նկատմամբ, տոկոս | L24: 2.05
B25: ՀՀ պաշտպանության նախարարություն | K25: =+K26 -> -865718 | L25: =+L26 -> -865718
C26: 1169 | D26: ՀՀ պաշտպանության ապահովում | K26: =+K27 -> -865718 | L26: =+L27 -> -865718
E27: 1169 - 11001 | F27: Ռազմական կարիքների բավարարում | K27: =-K13 -> -865718 | L27: =-L13 -> -865718
G28: Ընթացիկ գործունեության ապահովման գործողություններ
H29: Ծառայությունների մատուցում
I30: Ծառայությունը մատուցողի անվանումը` ՀՀ պաշտպանության նախարարություն

Sheet Հ-9.1
L1: Հավելված N 4
L2: ='Հ-3 և Հ-4'!I2 -> ՀՀ կառավարության 2026 թվականի
L3: ='Հ-3 և Հ-4'!I3 -> ______________ ի N ___ -Ն որոշման
B5: =+'Հ-3 և Հ-4'!B5:I5 -> ՀԱՅԱՍՏԱՆԻ ՀԱՆՐԱՊԵՏՈՒԹՅԱՆ ԿԱՌԱՎԱՐՈՒԹՅԱՆ 2025 ԹՎԱԿԱՆԻ ԴԵԿՏԵՄԲԵՐԻ 25-Ի N 1910-Ն ՈՐՈՇՄԱՆ
B6: N 9.1 ՀԱՎԵԼՎԱԾՈՒՄ ԿԱՏԱՐՎՈՂ ՓՈՓՈԽՈՒԹՅՈՒՆՆԵՐԸ
L7: հազար դրամներով
B8: ԲՍԿ | C8: Ծրագիր | E8: Միջոցառում | I8: Իրականացնողը/ ակտիվն օգտագործողը/ շահառուի ընտրության չափորոշիչը | J8: Արդյունքային չափորոշիչը | K8: Ցուցանիշների փոփոխությունը (ավելացումները նշված են դրական նշանով, իսկ նվազեցումները՝ փակագծերում)
C9: Դասիչը | D9: Անվա-նումը | E9: Դասիչը | F9: Անվա-նումը | G9: Նկարագրու-թյունը | H9: Տեսակը | K9: ինն ամիս | L9: տարի
B10: ԸՆԴԱՄԵՆԸ | K10: =K11 -> 0 | L10: =L11 -> 0
B11: ՀՀ պաշտպանության նախարարություն | K11: =K12+K25 -> 0 | L11: =L12+L25 -> 0
C12: 1098 | D12: Բնակարանային ապահովում | K12: =K13 -> 865718 | L12: =L13 -> 865718
E13: 1098 - 12006 | F13: ՀՀ ՊՆ համակարգի` բնակարանային պայմանների բարելավման կարիք ունեցող զինծառայողներին, նրանց հավասարեցված անձանց և նրանց ընտանիքների անդամներին բնակարան ձեռք բերելու նպատակով անհատույց պետական ֆինանսական աջակցության տրամադրում | K13: =+'Հ-3 և Հ-4'!H22 -> 865718 | L13: =+'Հ-3 և Հ-4'!I22 -> 865718
G14: Գնահատման չափանիշների համաձայն բնակարանի բարելավման կարիք ունեցող կարիքավորների ճանաչում` հաշվառում և նրանց անհատույց ֆինանսական աջակցության տրամադրման եղանակով բնակարանային խնդիրների լուծում
H15: Տրանսֆերտների տրամադրում
I16: Շահառուների ընտրության չափորոշիչները` ՊՆ համակարգի պայմանագրային զինծառայողների, քաղաքացիական ծառայողների որպես բնակարանային պայմանների բարելավման կարիքավոր հաշվառված ընտանիքներ
J17: Բնակարանային ապահովման և պայմանների բարելավման նպատակով աջակցություն ստացող շահառուների թիվ, համաձայն «Զինվորական ծառայության և զինծառայողի կարգավիճակի մասին» ՀՀ օրենք, ՀՀ կառ. 07.03.2007թ. N 384-Ն որոշում | L17: =+L18++L21 -> 28
J18: Ընտանիքների թիվ, հատ որից` | L18: =SUM(L19:L20) -> 11
J19: 1.1. ք. Երևան | L19: 9
J20: 1.2. ՀՀ մարզեր | L20: 2
J21: 2. Զինթոշակառուների ընտանիքներ, այդ թվում` | L21: =SUM(L22:L23) -> 17
J22: 2.1. ք. Երևան | L22: 13
J23: 2.2. ՀՀ մարզեր | L23: 4
J24: Աջակցություն ստացած շահառուների տեսակարար կշիռը, որպես բնակարանային պայմանների կարիքավոր հաշվառված շահառուների նկատմամբ, տոկոս | L24: 2.05
C25: 1169 | D25: ՀՀ պաշտպանության ապահովում | K25: =+K26 -> -865718 | L25: =+L26 -> -865718
E26: 1169 - 11001 | F26: Ռազմական կարիքների բավարարում | K26: =-K13 -> -865718 | L26: =-L13 -> -865718
G27: Ընթացիկ գործունեության ապահովման գործողություններ
H28: Ծառայությունների մատուցում
I29: Ծառայությունը մատուցողի անվանումը` ՀՀ պաշտպանության նախարարություն

Sheet Sheet1
A1: 4239 | B1: 20939.6
A2: 4252 | B2: 4001.2
A3: 4261 | B3: 24221.5
A4: 4264 | B4: 658398.2
A5: 4267 | B5: 51113.2
A6: 4269 | B6: 58135.2
A7: 5121 | B7: 34800
A8: 5122 | B8: 30780.6
A9: 5129 | B9: 165718.2
A10: 5132 | B10: 33.2
