Workbook

Sheet ծրագիր միջոցառում
F1: Հավելված 1 ՀՀ կառավարության 2026 թվականի « » « »-ի N _____-Ն որոշման
A3: «ՀԱՅԱՍՏԱՆԻ ՀԱՆՐԱՊԵՏՈՒԹՅԱՆ 2026 ԹՎԱԿԱՆԻ ՊԵՏԱԿԱՆ ԲՅՈՒՋԵԻ ՄԱՍԻՆ» ՕՐԵՆՔԻ N 1 ՀԱՎԵԼՎԱԾԻ N 2 ԱՂՅՈՒՍԱԿՈՒՄ ԿԱՏԱՐՎՈՂ ՎԵՐԱԲԱՇԽՈՒՄԸ ԵՎ ՀԱՅԱՍՏԱՆԻ ՀԱՆՐԱՊԵՏՈՒԹՅԱՆ ԿԱՌԱՎԱՐՈՒԹՅԱՆ 2025 ԹՎԱԿԱՆԻ ԴԵԿՏԵՄԲԵՐԻ 25-Ի N 1910-Ն ՈՐՈՇՄԱՆ N 5 ՀԱՎԵԼՎԱԾԻ N 1 ԱՂՅՈՒՍԱԿՈՒՄ ԿԱՏԱՐՎՈՂ ՓՈՓՈԽՈՒԹՅՈՒՆՆԵՐԸ
H5: հազար դրամներով
A6: ԲԳԿ | B6: Ծրագրային դասիչը | D6: ԲԳԿ/Ծրագրի /միջոցառման անվանումը | E6: Ծրագրի նպատակը/Միջոցառման նկարագրությունը | F6: Վերջնական արդյունքի նկարագրությունը/Միջոցառման տեսակը | G6: Ցուցանիշների փոփոխությունը (ավելացումները նշված են դրական նշանով, իսկ նվազեցումները` փակագծերում)
B7: Ծրագիր | C7: Միջոցառում | G7: Ինն ամիս | H7: Տարի
A8: ԸՆԴԱՄԵՆԸ | G8: =G9+G12 -> 0 | H8: =H9+H12 -> 0
A9: ՀՀ շրջակա միջավայրի նախարարություն | G9: =G10 -> 3152700 | H9: =H10 -> 3503709.7
B10: 1071 | D10: Շրջակա միջավայրի ոլորտում պետական քաղաքականության մշակում, ծրագրերի համակարգում և մոնիտորինգ | E10: Շրջակա միջավայրի պահպանությանն ուղղված պետական քաղաքականության մշակում և իրականացում | F10: Շրջակա միջավայրի պահպանությանն ուղղված օրենսդրական դաշտի բարելավում, իրականացվող ծրագրերի ազդեցության և արդյունավետության աճ | G10: =G11 -> 3152700 | H10: =H11 -> 3503709.7
C11: 1071 - 11005 | D11: Կենսաբազմազանության մասին կոնվենցիայի կողմերի 17-րդ համաժողովի (COP 17) կազմակերպում և անցկացում | E11: Կենսաբազմազանության մասին կոնվենցիայի կողմերի 17-րդ համաժողովի (COP 17) կազմակերպման և անցկացման աշխատանքներ | F11: Ծառայությունների մատուցում | G11: 3152700 | H11: 3503709.7
A12: ՀՀ կառավարություն | G12: =G13 -> -3152700 | H12: =H13 -> -3503709.7
B13: 1139 | D13: ՀՀ կառավարության պահուստային ֆոնդ | E13: Պետական բյուջեում չկանխատեսված, ինչպես նաեւ բյուջետային երաշխիքների ապահովման ծախսերի ֆինանսավորման ապահովում | F13: Պահուստային ֆոնդի կառավարման արդյունավետության և թափանցիկության ապահովում | G13: =G14 -> -3152700 | H13: =H14 -> -3503709.7
C14: 1139 - 11001 | D14: ՀՀ կառավարության պահուստային ֆոնդ | E14: ՀՀ պետական բյուջեում նախատեսված ելքերի լրացուցիչ ֆինանսավորման, պետական բյուջեում չկանխատեսված ելքերի, ինչպես նաև բյուջետային երաշխիքների ապահովման ելքերի ֆինանսավորման ապահովում | F14: Ծառայությունների մատուցում | G14: =-G10 -> -3152700 | H14: =-H10 -> -3503709.7

Sheet Տնտեսագիտական ծրագիր միջոցառում
F1: Հավելված 2 ՀՀ կառավարության 2026 թվականի « » « »-ի N _____-Ն որոշման
A3: ՀԱՅԱՍՏԱՆԻ ՀԱՆՐԱՊԵՏՈՒԹՅԱՆ ԿԱՌԱՎԱՐՈՒԹՅԱՆ 2025 ԹՎԱԿԱՆԻ ԴԵԿՏԵՄԲԵՐԻ 25-Ի N 1910-Ն ՈՐՈՇՄԱՆ N 3 ԵՎ N 4 ՀԱՎԵԼՎԱԾՆԵՐՈՒՄ ԿԱՏԱՐՎՈՂ ՓՈՓՈԽՈՒԹՅՈՒՆՆԵՐԸ
H4: հազար դրամներով
A5: Գործառական դասիչը | D5: Ծրագրային դասիչը | F5: Բյուջետային հատկացումների գլխավոր կարգադրիչների, ծրագրերի, միջոցառումների և միջոցառումները կատարող պետական մարմինների անվանումները | G5: Ցուցանիշների փոփոխությունը (ավելացումները նշված են դրական նշանով, իսկ նվազեցումները` փակագծերում)
A6: Բաժին | B6: Խումբ | C6: Դաս | D6: Ծրագիր | E6: Միջոցառում | G6: Ինն ամիս | H6: Տարի
F7: ԸՆԴԱՄԵՆԸ | G7: =G9+G28 -> 0 | H7: =H9+H28 -> 0
F8: այդ թվում`
A9: 05 | F9: ՇՐՋԱԿԱ ՄԻՋԱՎԱՅՐԻ ՊԱՇՏՊԱՆՈՒԹՅՈՒՆ | G9: =G11 -> 3152700 | H9: =H11 -> 3503709.7
F10: այդ թվում`
B11: 04 | F11: Կենսաբազմազանության և բնության պաշտպանություն | G11: =G13 -> 3152700 | H11: =H13 -> 3503709.7
F12: այդ թվում`
C13: 01 | F13: Կենսաբազմազանության և բնության պաշտպանություն | G13: =G15 -> 3152700 | H13: =H15 -> 3503709.7
F14: այդ թվում`
F15: ՀՀ շրջակա միջավայրի նախարարություն | G15: =G17 -> 3152700 | H15: =H17 -> 3503709.7
F16: այդ թվում`
D17: 1071 | F17: Շրջակա միջավայրի ոլորտում պետական քաղաքականության մշակում, ծրագրերի համակարգում և մոնիտորինգ | G17: =G19 -> 3152700 | H17: =H19 -> 3503709.7
F18: այդ թվում`
E19: 11005 | F19: Կենսաբազմազանության մասին կոնվենցիայի կողմերի 17-րդ համաժողովի (COP 17) կազմակերպում և անցկացում | G19: =G21 -> 3152700 | H19: =H21 -> 3503709.7
F20: այդ թվում` ըստ կատարողների
F21: ՀՀ շրջակա միջավայրի նախարարություն | G21: =G23 -> 3152700 | H21: =H23 -> 3503709.7
F22: այդ թվում` բյուջետային ծախսերի տնտեսագիտական դասակարգման հոդվածներ
F23: ԸՆԴԱՄԵՆԸ ԾԱԽՍԵՐ | G23: =G24 -> 3152700 | H23: =H24 -> 3503709.7
F24: ԸՆԹԱՑԻԿ ԾԱԽՍԵՐ | G24: =G25 -> 3152700 | H24: =H25 -> 3503709.7
F25: ԾԱՌԱՅՈՒԹՅՈՒՆՆԵՐԻ ԵՎ ԱՊՐԱՆՔՆԵՐԻ ՁԵՌՔԲԵՐՈՒՄ | G25: =G26 -> 3152700 | H25: =H26 -> 3503709.7
F26: Պայմանագրային այլ ծառայությունների ձեռքբերում | G26: =G27 -> 3152700 | H26: =H27 -> 3503709.7
F27: - Ընդհանուր բնույթի այլ ծառայություններ | G27: ='ծրագիր միջոցառում'!G11 -> 3152700 | H27: ='ծրագիր միջոցառում'!H11 -> 3503709.7
A28: 11 | F28: ՀԻՄՆԱԿԱՆ ԲԱԺԻՆՆԵՐԻՆ ՉԴԱՍՎՈՂ ՊԱՀՈՒՍՏԱՅԻՆ ՖՈՆԴԵՐ | G28: =G30 -> -3152700 | H28: =H30 -> -3503709.7
F29: այդ թվում`
B30: 01 | F30: ՀՀ կառավարության և համայնքների պահուստային ֆոնդ | G30: =G32 -> -3152700 | H30: =H32 -> -3503709.7
F31: այդ թվում`
C32: 01 | F32: ՀՀ կառավարության պահուստային ֆոնդ | G32: =G34 -> -3152700 | H32: =H34 -> -3503709.7
F33: այդ թվում`
F34: ՀՀ կառավարություն | G34: =G36 -> -3152700 | H34: =H36 -> -3503709.7
F35: այդ թվում`
D36: 1139 | F36: ՀՀ կառավարության պահուստային ֆոնդ | G36: =G38 -> -3152700 | H36: =H38 -> -3503709.7
F37: այդ թվում`
E38: 11001 | F38: ՀՀ կառավարության պահուստային ֆոնդ | G38: =G40 -> -3152700 | H38: =H40 -> -3503709.7
F39: այդ թվում` ըստ կատարողների
F40: ՀՀ կառավարություն | G40: =G42 -> -3152700 | H40: =H42 -> -3503709.7
F41: այդ թվում` բյուջետային ծախսերի տնտեսագիտական դասակարգման հոդվածներ
F42: ԸՆԴԱՄԵՆԸ ԾԱԽՍԵՐ | G42: =G43 -> -3152700 | H42: =H43 -> -3503709.7
F43: ԸՆԹԱՑԻԿ ԾԱԽՍԵՐ | G43: =G44 -> -3152700 | H43: =H44 -> -3503709.7
F44: ԱՅԼ ԾԱԽՍԵՐ | G44: =G45 -> -3152700 | H44: =H45 -> -3503709.7
F45: Պահուստային միջոցներ | G45: =-G27 -> -3152700 | H45: =-H27 -> -3503709.7

Sheet Արդյունքային ԲՍԿ
I1: Հավելված 3 ՀՀ կառավարության 2026 թվականի « » « »-ի N _____-Ն որոշման
A3: ՀԱՅԱՍՏԱՆԻ ՀԱՆՐԱՊԵՏՈՒԹՅԱՆ ԿԱՌԱՎԱՐՈՒԹՅԱՆ 2025 ԹՎԱԿԱՆԻ ԴԵԿՏԵՄԲԵՐԻ 25-Ի N 1910-Ն ՈՐՈՇՄԱՆ NN 9 ԵՎ 9.1 ՀԱՎԵԼՎԱԾՆԵՐՈՒՄ ԿԱՏԱՐՎՈՂ ՓՈՓՈԽՈՒԹՅՈՒՆՆԵՐԸ
K4: հազար դրամներով
A5: ԲԳԿ/ԲՍԿ | B5: Ծրագիր | D5: Միջոցառում | H5: Իրականացնողը/ ակտիվն օգտագործողը/ շահառուի ընտրության չափորոշիչը | I5: Արդյունքային չափորոշիչը | J5: Ցուցանիշների փոփոխությունը (ավելացումները նշված են դրական նշանով, իսկ նվազեցումները` փակագծերում)
B6: Դասիչը | C6: Անվա-նումը | D6: Դասիչը | E6: Անվա-նումը | F6: Նկարագրու-թյունը | G6: Տեսակը | J6: Ինն ամիս | K6: Տարի
A7: ԸՆԴԱՄԵՆԸ | J7: =J8+J14 -> 0 | K7: =K8+K14 -> 0
A8: ՀՀ շրջակա միջավայրի նախարարություն | J8: =J9 -> 3152700 | K8: =K9 -> 3503709.7
B9: 1071 | C9: Շրջակա միջավայրի ոլորտում պետական քաղաքականության մշակում, ծրագրերի համակարգում և մոնիտորինգ | J9: =J10 -> 3152700 | K9: =K10 -> 3503709.7
D10: 1071 - 11005 | E10: Կենսաբազմազանության մասին կոնվենցիայի կողմերի 17-րդ համաժողովի (COP 17) կազմակերպում և անցկացում | J10: ='ծրագիր միջոցառում'!G11 -> 3152700 | K10: ='ծրագիր միջոցառում'!H11 -> 3503709.7
F11: Կենսաբազմազանության մասին կոնվենցիայի կողմերի 17-րդ համաժողովի (COP 17) կազմակերպման և անցկացման աշխատանքներ
G12: Ծառայությունների մատուցում
H13: Ծառայությունը մատուցողի անվանումը` Մասնագիտացված միավոր
A14: ՀՀ կառավարություն | J14: =J15 -> -3152700 | K14: =K15 -> -3503709.7
B15: 1139 | C15: ՀՀ կառավարության պահուստային ֆոնդ | J15: =J16 -> -3152700 | K15: =K16 -> -3503709.7
D16: 1139 - 11001 | E16: ՀՀ կառավարության պահուստային ֆոնդ | J16: =J19 -> -3152700 | K16: =K19 -> -3503709.7
F17: ՀՀ պետական բյուջեում նախատեսված ելքերի լրացուցիչ ֆինանսավորման, պետական բյուջեում չկանխատեսված ելքերի, ինչպես նաև բյուջետային երաշխիքների ապահովման ելքերի ֆինանսավորման ապահովում
G18: Ծառայությունների մատուցում
H19: Ծառայությունը մատուցողի անվանումը` ՀՀ կառավարություն | J19: =-J10 -> -3152700 | K19: =-K10 -> -3503709.7

Sheet Գնումներ
D1: Հավելված 4 ՀՀ կառավարության 2026 թվականի « » « »-ի N _____-Ն որոշման
A3: ՀԱՅԱՍՏԱՆԻ ՀԱՆՐԱՊԵՏՈՒԹՅԱՆ ԿԱՌԱՎԱՐՈՒԹՅԱՆ 2025 ԹՎԱԿԱՆԻ ԴԵԿՏԵՄԲԵՐԻ 25-Ի N 1910-Ն ՈՐՈՇՄԱՆ N10 ՀԱՎԵԼՎԱԾՈՒՄ ԿԱՏԱՐՎՈՂ ՓՈՓՈԽՈՒԹՅՈՒՆՆԵՐԸ
A5: Կոդը | B5: Անվանումը | E5: Գնման ձևը | F5: Չափման միավորը | G5: Ցուցանիշների փոփոխությունը (ավելացումները նշված են դրական նշանով)
G6: Միավորի գինը | H6: Քանակը | I6: Գումարը (հազար դրամով)
A7: ՀՀ շրջակա միջավայրի նախարարություն | I7: =I8 -> 3503709.7
A8: Բաժին N 05 | B8: Խումբ N 04 | C8: Դաս N 01 | D8: Կենսաբազմազանության և բնության պաշտպանություն | I8: =I9 -> 3503709.7
A9: 1071 11005 | B9: Կենսաբազմազանության մասին կոնվենցիայի կողմերի 17-րդ համաժողովի (COP 17) կազմակերպում և անցկացում | I9: =I10 -> 3503709.7
B10: ՄԱՍ III. ԾԱՌԱՅՈՒԹՅՈՒՆՆԵՐ | I10: =I11 -> 3503709.7
A11: 79951112-1 | B11: համաժողովների կազմակերպման ծառայություններ | E11: ՄԱ | F11: դրամ | G11: ='ծրագիր միջոցառում'!H11*1000 -> 3503709700 | H11: 1 | I11: =G11*H11/1000 -> 3503709.7
