Workbook
Name \A: #REF!
Name _tab10: #REF!
Name _tab10: #REF!
Name _tab11: #REF!
Name _tab12: #REF!
Name _tab13: #REF!
Name _tab14: #REF!
Name _tab15: #REF!
Name _tab16: #REF!
Name _tab17: #REF!
Name _tab18: #REF!
Name _tab19: #REF!
Name _tab20: #REF!
Name _tab21: #REF!
Name _tab22: #REF!
Name _tab23: #REF!
Name _tab24: #REF!
Name _tab5: #REF!
Name _tab6: #REF!
Name _tab7: #REF!
Name _tab8: #REF!
Name _tab9: #REF!
Name aaa: #REF!
Name aaaa: #REF!
Name aaaaa: #REF!
Name AgencyCode: #REF!
Name AgencyCode: #REF!
Name AgencyName: #REF!
Name alis: #REF!
Name alisa: #REF!
Name als: #REF!
Name ampop_krchat: #REF!
Name Armata: #REF!
Name asd: #REF!
Name åû: #REF!
Name BOP: #REF!
Name BOPfoot: #REF!
Name davit: #REF!
Name DebtCG: '[1]Fis-Debt'!#REF!
Name DebtGG: #REF!
Name fff: #REF!
Name Functional1: #REF!
Name ggg: #REF!
Name h: #REF!
Name Hav: #REF!,#REF!
Name havelvac: #REF!
Name mas: #REF!
Name mass: #REF!
Name MonExo: #REF!
Name MonGrow: [2]BM!#REF!
Name PANature: #REF!
Name PANature: #REF!
Name par_count: #REF!,#REF!,#REF!,#REF!,#REF!,#REF!,#REF!,#REF!,#REF!,#REF!,#REF!,#REF!,#REF!,#REF!,#REF!
Name par_count: #REF!,#REF!,#REF!,#REF!,#REF!,#REF!,#REF!,#REF!,#REF!,#REF!,#REF!,#REF!,#REF!,#REF!,#REF!
Name par_qual: #REF!,#REF!,#REF!,#REF!,#REF!
Name par_qual: #REF!,#REF!,#REF!,#REF!,#REF!
Name par_time: #REF!,#REF!,#REF!,#REF!
Name par_time: #REF!,#REF!,#REF!,#REF!
Name par2.12s: #REF!
Name par2.12s: #REF!

Sheet Հավելված 1
A1: Հավելված N 1 ՀՀ կառավարության 2026 թվականի ____________ի N _____-Ն որոշման
A3: «ՀԱՅԱՍՏԱՆԻ ՀԱՆՐԱՊԵՏՈՒԹՅԱՆ 2026 ԹՎԱԿԱՆԻ ՊԵՏԱԿԱՆ ԲՅՈՒՋԵԻ ՄԱՍԻՆ» ՕՐԵՆՔԻ N 1 ՀԱՎԵԼՎԱԾԻ N 2 ԱՂՅՈՒՍԱԿՈՒՄ ԿԱՏԱՐՎՈՂ ՎԵՐԱԲԱՇԽՈՒՄԸ, ԼՐԱՑՈՒՄԸ, ՀԱՅԱՍՏԱՆԻ ՀԱՆՐԱՊԵՏՈՒԹՅԱՆ ԿԱՌԱՎԱՐՈՒԹՅԱՆ 2025 ԹՎԱԿԱՆԻ ԴԵԿՏԵՄԲԵՐԻ 25-Ի N 1910-Ն ՈՐՈՇՄԱՆ N 5 ՀԱՎԵԼՎԱԾԻ N 1 ԱՂՅՈՒՍԱԿՈՒՄ ԿԱՏԱՐՎՈՂ ՓՈՓՈԽՈՒԹՅՈՒՆՆԵՐԸ ԵՎ ԼՐԱՑՈՒՄԸ
G4: հազար դրամներով
A5: ԲԳԿ | B5: Ծրագրային դասիչը | D5: ԲԳԿ/Ծրագրի /միջոցառման անվանումը | E5: Ծրագրի նպատակը/Միջոցառման նկարագրությունը | F5: Վերջնական արդյունքի նկարագրությունը/Միջոցառման տեսակը | G5: Ցուցանիշների փոփոխությունները (ավելացումները նշված են դրական նշանով, նվազեցումները՝ փակագծերում)
B6: Ծրագիր | C6: Միջոցառում | G6: Ինն ամիս | H6: Տարի
A7: ԸՆԴԱՄԵՆԸ | G7: =+G8+G14 -> 0 | H7: =+H8+H14 -> 0
A8: ՀՀ էկոնոմիկայի նախարարություն | G8: =+G9+G11 -> 2542634.9 | H8: =+H9+H11 -> 2542634.9
B9: 1022 | D9: Գյուղատնտեսության խթանման ծրագիր | E9: Գյուղատնտեսական մթերքի և դրանց վերամշակումից ստացվող սննդամթերքի ծավալների ավելացում | F9: Գյուղատնտեսական մթերքների ծավալների ավելացում: Օգտագործվող վարելահողերի ավելացում: Պտուղբանջարեղենի և խաղողի վերամշակումից ստացված արտադրանքի ծավալների աճ | G9: =+SUM(G10:G10) -> 729834.9 | H9: =+SUM(H10:H10) -> 729834.9
C10: 1022 - 12009 | D10: =+'Հավելված 2'!F20 -> Հայաստանի Հանրապետությունում պարարտանյութերի ձեռքբերման աջակցության ծրագիր | E10: Կենսականորեն կարևորագույն պարենամթերքի տեղական արտադրության խթանման նպատակով ազոտական, ֆոսֆորական, կալիումական և համակցված պարարտանյութերի գնի մասնակի սուբսիդավորում կամ փոխհատուցում | F10: Տրանսֆերտների տրամադրում | G10: =+'Հավելված 2'!G20 -> 729834.9 | H10: =+'Հավելված 2'!H20 -> 729834.9
B11: 1059 | D11: =+'Հավելված 2'!F29 -> Բուսաբուծության խթանում և բույսերի պաշտպանություն | E11: Հողագործությունից ստացվող արդյունքի բարելավում | F11: Մշակաբույսերի միջին բերքատվության բարձրացում:ՀՀ գյուղատնտեսական նշանակության ողջ հողատարածքի համար կազմված ագրոքիմիական քարտեզներով ապահովվածություն: Հացահատիկի և հատիկաընդեղենի արտադրության ծավալների ավելացում: | G11: =+SUM(G12:G13) -> 1812800 | H11: =+SUM(H12:H13) -> 1812800
C12: =+B11&"-"&'Հավելված 2'!E31 -> 1059-11010 | D12: =+'Հավելված 2'!F31 -> ՀՀ-ում գարնանացան, աշնանացան և կերային մշակաբույսերի ցանքատարածությունների մոնիթորինգի իրականացմանն աջակցություն | E12: Համայնքների կողմից մշակաբույսերի և բազմամյա խոտաբույսերի մոնիթորինգի իրականացում, արդյունքների ամփոփում և համապատասխան տեղեկատվության ներկայացում | F12: Ծառայությունների մատուցում | G12: =+'Հավելված 2'!G31 -> 52800 | H12: =+'Հավելված 2'!H31 -> 52800
C13: =+B11&"-"&'Հավելված 2'!E40 -> 1059-12003 | D13: =+'Հավելված 2'!F40 -> ՀՀ-ում գարնանացան, աշնանացան և կերային մշակաբույսերի մշակության հիմնական աշխատանքների համար կատարված ծախսերի մասնակի փոխհատուցման տրամադրում | E13: Մշակաբույսերի և բազմամյա խոտաբույսերի ցանքատարածությունների ընդլայնմանը նպաստելու նպատակով մշակության հիմնական աշխատանքների համար կատարված ծախսերի մասնակի փոխհատուցում | F13: Տրանսֆերտների տրամադրում | G13: =+'Հավելված 2'!G40 -> 1760000 | H13: =+'Հավելված 2'!H40 -> 1760000
A14: ՀՀ կառավարություն | G14: =+G15 -> -2542634.9 | H14: =+H15 -> -2542634.9
B15: 1139 | D15: ՀՀ կառավարության պահուստային ֆոնդ | E15: Պետական բյուջեում չկանխատեսված, ինչպես նաեւ բյուջետային երաշխիքների ապահովման ծախսերի ֆինանսավորման ապահովում | F15: Պահուստային ֆոնդի կառավարման արդյունավետության և թափանցիկության ապահովում | G15: =+G16 -> -2542634.9 | H15: =+H16 -> -2542634.9
C16: 1139 - 11001 | D16: ՀՀ կառավարության պահուստային ֆոնդ | E16: ՀՀ պետական բյուջեում նախատեսված ելքերի լրացուցիչ ֆինանսավորման, պետական բյուջեում չկանխատեսված ելքերի, ինչպես նաև բյուջետային երաշխիքների ապահովման ելքերի ֆինանսավորման ապահովում | F16: Ծառայությունների մատուցում | G16: =+'Հավելված 2'!G61 -> -2542634.9 | H16: =+'Հավելված 2'!H61 -> -2542634.9

Sheet Հավելված 2
F1: Հավելված 2 ՀՀ կառավարության 2026 թվականի ____________ի N _____-Ն որոշման
A3: ՀԱՅԱՍՏԱՆԻ ՀԱՆՐԱՊԵՏՈՒԹՅԱՆ ԿԱՌԱՎԱՐՈՒԹՅԱՆ 2025 ԹՎԱԿԱՆԻ ԴԵԿՏԵՄԲԵՐԻ 25-Ի N 1910-Ն ՈՐՈՇՄԱՆ NN 3 ԵՎ 4 ՀԱՎԵԼՎԱԾՆԵՐՈՒՄ ԿԱՏԱՐՎՈՂ ՓՈՓՈԽՈՒԹՅՈՒՆՆԵՐԸ ԵՎ ԼՐԱՑՈՒՄԸ
H4: հազար դրամներով
A5: Գործառնական դասիչ | D5: Ծրագրային դասիչը | F5: Բյուջետային ծախսերի գործառական դասակարգման բաժինների, խմբերի և դասերի, բյուջետային ծրագրերի միջոցառումների, բյուջետային հատկացումների գլխավոր կարգադրիչների անվանումները | G5: Ցուցանիշների փոփոխությունները (ավելացումները նշված են դրական նշանով, նվազեցումները՝ փակագծերում)
A6: Բաժին | B6: Խումբ | C6: Դաս | D6: Ծրագիր | E6: Միջոցառում | G6: Ինն ամիս | H6: Տարի
F7: ԸՆԴԱՄԵՆԸ ԾԱԽՍԵՐ | G7: =+G9+G49 -> 0 | H7: =+H9+H49 -> 0
F8: այդ թվում`
F9: ՀՀ էկոնոմիկայի նախարարություն | G9: =+G11 -> 2542634.9 | H9: =+H11 -> 2542634.9
F10: այդ թվում`
A11: 04 | F11: ՏՆՏԵՍԱԿԱՆ ՀԱՐԱԲԵՐՈՒԹՅՈՒՆՆԵՐ | G11: =+G12 -> 2542634.9 | H11: =+H12 -> 2542634.9
B12: 02 | F12: Գյուղատնտեսություն, անտառային տնտեսություն, ձկնորսություն և որսորդություն | G12: =+G14 -> 2542634.9 | H12: =+H14 -> 2542634.9
F13: այդ թվում`
C14: 01 | F14: Գյուղատնտեսություն | G14: =+G16 -> 2542634.9 | H14: =+H16 -> 2542634.9
F15: այդ թվում`
F16: ՀՀ էկոնոմիկայի նախարարություն | G16: =+G18+G29 -> 2542634.9 | H16: =+H18+H29 -> 2542634.9
F17: այդ թվում`
D18: 1022 | F18: =+'Հավելված 1'!D9 -> Գյուղատնտեսության խթանման ծրագիր | G18: =+G20 -> 729834.9 | H18: =+H20 -> 729834.9
F19: այդ թվում`
E20: 12009 | F20: Հայաստանի Հանրապետությունում պարարտանյութերի ձեռքբերման աջակցության ծրագիր | G20: =+G22 -> 729834.9 | H20: =+H22 -> 729834.9
F21: այդ թվում` ըստ կատարողների
F22: ՀՀ էկոնոմիկայի նախարարություն | G22: =+G24 -> 729834.9 | H22: =+H24 -> 729834.9
F23: այդ թվում` բյուջետային ծախսերի տնտեսագիտական դասակարգման հոդվածներ
F24: ԸՆԴԱՄԵՆԸ ԾԱԽՍԵՐ | G24: =+G25 -> 729834.9 | H24: =+H25 -> 729834.9
F25: ԸՆԹԱՑԻԿ ԾԱԽՍԵՐ | G25: =+G26 -> 729834.9 | H25: =+H26 -> 729834.9
F26: ՍՈՒԲՍԻԴԻԱՆԵՐ | G26: =G27 -> 729834.9 | H26: =H27 -> 729834.9
F27: Սուբսիդիաներ ոչ պետական կազմակերպություններին | G27: =G28 -> 729834.9 | H27: =H28 -> 729834.9
F28: - Սուբսիդիաներ ոչ պետական ոչ ֆինանսական կազմակերպություններին | G28: 729834.9 | H28: 729834.9
D29: 1059 | F29: Բուսաբուծության խթանում և բույսերի պաշտպանություն | G29: =+G31+G40 -> 1812800 | H29: =+H31+H40 -> 1812800
F30: այդ թվում`
E31: 11010 | F31: ՀՀ-ում գարնանացան, աշնանացան և կերային մշակաբույսերի ցանքատարածությունների մոնիթորինգի իրականացմանն աջակցություն | G31: =+G33 -> 52800 | H31: =+H33 -> 52800
F32: այդ թվում` ըստ կատարողների
F33: ՀՀ էկոնոմիկայի նախարարություն | G33: =+G35 -> 52800 | H33: =+H35 -> 52800
F34: այդ թվում` բյուջետային ծախսերի տնտեսագիտական դասակարգման հոդվածներ
F35: ԸՆԴԱՄԵՆԸ ԾԱԽՍԵՐ | G35: =+G36 -> 52800 | H35: =+H36 -> 52800
F36: ԸՆԹԱՑԻԿ ԾԱԽՍԵՐ | G36: =+G37 -> 52800 | H36: =+H37 -> 52800
F37: ԴՐԱՄԱՇՆՈՐՀՆԵՐ | G37: =+G38 -> 52800 | H37: =+H38 -> 52800
F38: Ընթացիկ դրամաշնորհներ պետական հատվածի այլ մակարդակներին | G38: =+G39 -> 52800 | H38: =+H39 -> 52800
F39: - Այլ ընթացիկ դրամաշնորհներ համայնքներին | G39: 52800 | H39: 52800
E40: 12003 | F40: ՀՀ-ում գարնանացան, աշնանացան և կերային մշակաբույսերի մշակության հիմնական աշխատանքների համար կատարված ծախսերի մասնակի փոխհատուցման տրամադրում | G40: =+G42 -> 1760000 | H40: =+H42 -> 1760000
F41: այդ թվում` ըստ կատարողների
...

Sheet Հավելված 3
D1: Հավելված 3
C2: ՀՀ կառավարության 2026 թվականի
C3: ___________ ___-ի N _______ -Ն որոշման
A6: ՀԱՅԱՍՏԱՆԻ ՀԱՆՐԱՊԵՏՈՒԹՅԱՆ ԿԱՌԱՎԱՐՈՒԹՅԱՆ 2025 ԹՎԱԿԱՆԻ ԴԵԿՏԵՄԲԵՐԻ25-Ի N 1910-Ն ՈՐՈՇՄԱՆ N 5 ՀԱՎԵԼՎԱԾԻ 7 ԱՂՅՈՒՍԱԿՈՒՄ ԿԱՏԱՐՎՈՂ ՓՈՓՈԽՈՒԹՅՈՒՆԸ
G7: հազար դրամներով
A8: Ծրագրային դասիչ | C8: Բյուջետային հատկացումների գլխավոր կարգադրիչների, ծրագրերի, միջոցառումների, ծախսային ուղղությունների անվանումները | F8: Միջոցառումները կատարող պետական մարմինների և դրամաշնորհ ստացող տնտեսվարող սուբյեկտների անվանումները | G8: Ցուցանիշների փոփոխությունները (ավելացումները նշված են դրական նշանով)
A9: Ծրագիր | B9: Միջոցառում | G9: Տարի
A10: 1 | B10: 2 | C10: 3 | F10: 4 | G10: 5
A11: Ընդամենը | G11: =+G12 -> 52800
A12: ՀՀ էկոնոմիկայի նախարարություն | G12: =+G13 -> 52800
A13: 1059 | B13: Բուսաբուծության խթանում և բույսերի պաշտպանություն | G13: =+G14 -> 52800
B14: 11010 | C14: ՀՀ-ում գարնանացան, աշնանացան և կերային մշակաբույսերի ցանքատարածությունների մոնիթորինգի իրականացմանն աջակցություն | F14: ՀՀ էկոնոմիկայի նախարարություն | G14: =G15 -> 52800
F15: ՀՀ կառավարության կողմից հաստատված համապատասխան ծրագրի չափանիշները բավարարող համայնքներ | G15: =+'Հավելված 2'!H31 -> 52800

Sheet Հավելված 4
A1: Հավելված 4 ՀՀ կառավարության 2026 թվականի ____________ի N _____-Ն որոշման
A2: ՀԱՅԱՍՏԱՆԻ ՀԱՆՐԱՊԵՏՈՒԹՅԱՆ ԿԱՌԱՎԱՐՈՒԹՅԱՆ 2025 ԹՎԱԿԱՆԻ ԴԵԿՏԵՄԲԵՐԻ 25-Ի N 1910-Ն ՈՐՈՇՄԱՆ NN 9 և 9.1 ՀԱՎԵԼՎԱԾՆԵՐՈՒՄ ԿԱՏԱՐՎՈՂ ՓՈՓՈԽՈՒԹՅՈՒՆՆԵՐԸ ԵՎ ԼՐԱՑՈՒՄՆԵՐԸ
K3: հազար դրամներով
A4: ԲԳԿ / ԲՍԿ | B4: Ծրագիր | D4: Միջոցառում | H4: Իրականացնողը/ ակտիվն օգտագործողը/ շահառուի ընտրության չափորոշիչը | I4: Արդյունքային չափորոշիչը | J4: Ցուցանիշների փոփոխությունը (ավելացումները նշված են դրական նշանով, իսկ նվազեցումները՝ փակագծերում)
B5: Դասիչը | C5: Անվա-նումը | D5: Դասիչը | E5: Անվա-նումը | F5: Նկարագրու-թյունը | G5: Տեսակը | J5: Ինն ամիս | K5: Տարի
A6: ԸՆԴԱՄԵՆԸ | J6: =+J7+J25 -> 0 | K6: =+K7+K25 -> 0
A7: ՀՀ էկոնոմիկայի նախարարություն | J7: =+J8+J14 -> 2542634.9 | K7: =+K8+K14 -> 2542634.9
B8: 1022 | C8: Գյուղատնտեսության խթանման ծրագիր | J8: =+J9 -> 729834.9 | K8: =+K9 -> 729834.9
D9: =+'Հավելված 1'!C10 -> 1022 - 12009 | E9: =+'Հավելված 1'!D10 -> Հայաստանի Հանրապետությունում պարարտանյութերի ձեռքբերման աջակցության ծրագիր | J9: =+'Հավելված 1'!G10 -> 729834.9 | K9: =+'Հավելված 1'!H10 -> 729834.9
F10: =+'Հավելված 1'!E10 -> Կենսականորեն կարևորագույն պարենամթերքի տեղական արտադրության խթանման նպատակով ազոտական, ֆոսֆորական, կալիումական և համակցված պարարտանյութերի գնի մասնակի սուբսիդավորում կամ փոխհատուցում
G11: =+'Հավելված 1'!F10 -> Տրանսֆերտների տրամադրում
H12: Շահառուների ընտրության չափորոշիչները` ՀՀ կառավարության 2026 թվականի ապրիլի 18-ի N 514-Լ որոշմամբ հաստատված ծրագրի չափանիշները բավարարող շահառուներ
I13: Սուբսիդավորվող պարարտանյութի քանակը, տոննա | K13: 12164
B14: 1059 | C14: Բուսաբուծության խթանում և բույսերի պաշտպանություն | J14: =+J15+J20 -> 1812800 | K14: =+K15+K20 -> 1812800
D15: 1059 - 11010 | E15: ՀՀ-ում գարնանացան, աշնանացան և կերային մշակաբույսերի ցանքատարածությունների մոնիթորինգի իրականացմանն աջակցություն | J15: =+'Հավելված 2'!G31 -> 52800 | K15: =+'Հավելված 2'!H31 -> 52800
F16: Համայնքների կողմից մշակաբույսերի և բազմամյա խոտաբույսերի մոնիթորինգի իրականացում, արդյունքների ամփոփում և համապատասխան տեղեկատվության ներկայացում
G17: Ծառայությունների մատուցում
H18: Ծառայությունը մատուցողի անվանումը` ՀՀ համայնքներ՛ ընտրված համաձայն՛ ՀՀ կառավարության 2025թ. մարտի 27-ի 356-Լ որոշմամբ հաստատված ծրագրի
I19: Աշնանացան ցորենի մոնիթորինգի ենթարկված ցանքատարածություններ, հա | K19: 22000
D20: 1059 - 12003 | E20: ՀՀ-ում գարնանացան, աշնանացան և կերային մշակաբույսերի մշակության հիմնական աշխատանքների համար կատարված ծախսերի մասնակի փոխհատուցման տրամադրում | J20: =+'Հավելված 1'!G13 -> 1760000 | K20: =+'Հավելված 1'!H13 -> 1760000
F21: Մշակաբույսերի և բազմամյա խոտաբույսերի ցանքատարածությունների ընդլայնմանը նպաստելու նպատակով մշակության հիմնական աշխատանքների համար կատարված ծախսերի մասնակի փոխհատուցում
G22: Տրանսֆերտների տրամադրում
H23: Շահառուների ընտրության չափորոշիչները` Գյուղատնտեսությունում տնտեսավարողներ՛ ընտրված համաձայն ՀՀ կառավարության 2025 թ. մարտի 27-ի N 356-Լ որոշմամբ հաստատված ծրագրի
I24: Աշնանացան ցորենի ցանքատարածությունների ավելացում, հա | K24: 22000
A25: ՀՀ կառավարություն | J25: =+J26 -> -2542634.9 | K25: =+K26 -> -2542634.9
B26: 1139 | C26: ՀՀ կառավարության պահուստային ֆոնդ | J26: =+J27 -> -2542634.9 | K26: =+K27 -> -2542634.9
D27: 1139 - 11001 | E27: ՀՀ կառավարության պահուստային ֆոնդ | J27: =+'Հավելված 2'!G61 -> -2542634.9 | K27: =+'Հավելված 2'!H61 -> -2542634.9
F28: ՀՀ պետական բյուջեում նախատեսված ելքերի լրացուցիչ ֆինանսավորման, պետական բյուջեում չկանխատեսված ելքերի, ինչպես նաև բյուջետային երաշխիքների ապահովման ելքերի ֆինանսավորման ապահովում
G29: Ծառայությունների մատուցում
H30: Ծառայությունը մատուցողի անվանումը` ՀՀ կառավարություն

Sheet Հավելված 5
F1: Հավելված 5 ՀՀ կառավարության 2026 թվականի ____________ի N _____-Ն որոշման
A3: ՀԱՅԱՍՏԱՆԻ ՀԱՆՐԱՊԵՏՈՒԹՅԱՆ ԿԱՌԱՎԱՐՈՒԹՅԱՆ 2026 ԹՎԱԿԱՆԻ ՊԵՏԱԿԱՆ ԲՅՈՒՋԵՈՎ ՆԱԽԱՏԵՍՎԱԾ՝ ՀԱՅԱՍՏԱՆԻ ՀԱՆՐԱՊԵՏՈՒԹՅԱՆ ԿԱՌԱՎԱՐՈՒԹՅԱՆ ՊԱՀՈՒՍՏԱՅԻՆ ՖՈՆԴԻՑ ՀԱՏԿԱՑՈՒՄՆԵՐ ԿԱՏԱՐԵԼՈՒ ՎԵՐԱԲԵՐՅԱԼ
H4: հազար դրամներով
A5: Գործառնական դասիչ | D5: Ծրագրային դասիչը | F5: Բյուջետային ծախսերի գործառական դասակարգման բաժինների, խմբերի և դասերի, բյուջետային ծրագրերի միջոցառումների, բյուջետային հատկացումների գլխավոր կարգադրիչների անվանումները | G5: Ցուցանիշների փոփոխությունները (ավելացումները նշված են դրական նշանով, նվազեցումները՝ փակագծերում)
A6: Բաժին | B6: Խումբ | C6: Դաս | D6: Ծրագիր | E6: Միջոցառում | G6: Ինն ամիս | H6: Տարի
F7: ԸՆԴԱՄԵՆԸ ԾԱԽՍԵՐ | G7: =+G9+G49 -> 0 | H7: =+H9+H49 -> 0
F8: այդ թվում`
F9: ՀՀ էկոնոմիկայի նախարարություն | G9: =+G11 -> 2542634.9 | H9: =+H11 -> 2542634.9
F10: այդ թվում`
A11: 04 | F11: ՏՆՏԵՍԱԿԱՆ ՀԱՐԱԲԵՐՈՒԹՅՈՒՆՆԵՐ | G11: =+G12 -> 2542634.9 | H11: =+H12 -> 2542634.9
B12: 02 | F12: Գյուղատնտեսություն, անտառային տնտեսություն, ձկնորսություն և որսորդություն | G12: =+G14 -> 2542634.9 | H12: =+H14 -> 2542634.9
F13: այդ թվում`
C14: 01 | F14: Գյուղատնտեսություն | G14: =+G16 -> 2542634.9 | H14: =+H16 -> 2542634.9
F15: այդ թվում`
F16: ՀՀ էկոնոմիկայի նախարարություն | G16: =+G18+G29 -> 2542634.9 | H16: =+H18+H29 -> 2542634.9
F17: այդ թվում`
D18: 1022 | F18: =+'Հավելված 1'!D9 -> Գյուղատնտեսության խթանման ծրագիր | G18: =+G20 -> 729834.9 | H18: =+H20 -> 729834.9
F19: այդ թվում`
E20: 12009 | F20: Հայաստանի Հանրապետությունում պարարտանյութերի ձեռքբերման աջակցության ծրագիր | G20: =+G22 -> 729834.9 | H20: =+H22 -> 729834.9
F21: այդ թվում` ըստ կատարողների
F22: ՀՀ էկոնոմիկայի նախարարություն | G22: =+G24 -> 729834.9 | H22: =+H24 -> 729834.9
F23: այդ թվում` բյուջետային ծախսերի տնտեսագիտական դասակարգման հոդվածներ
F24: ԸՆԴԱՄԵՆԸ ԾԱԽՍԵՐ | G24: =+G25 -> 729834.9 | H24: =+H25 -> 729834.9
F25: ԸՆԹԱՑԻԿ ԾԱԽՍԵՐ | G25: =+G26 -> 729834.9 | H25: =+H26 -> 729834.9
F26: ՍՈՒԲՍԻԴԻԱՆԵՐ | G26: =G27 -> 729834.9 | H26: =H27 -> 729834.9
F27: Սուբսիդիաներ ոչ պետական կազմակերպություններին | G27: =G28 -> 729834.9 | H27: =H28 -> 729834.9
F28: - Սուբսիդիաներ ոչ պետական ոչ ֆինանսական կազմակերպություններին | G28: 729834.9 | H28: 729834.9
D29: 1059 | F29: Բուսաբուծության խթանում և բույսերի պաշտպանություն | G29: =+G31+G40 -> 1812800 | H29: =+H31+H40 -> 1812800
F30: այդ թվում`
E31: 11010 | F31: ՀՀ-ում գարնանացան, աշնանացան և կերային մշակաբույսերի ցանքատարածությունների մոնիթորինգի իրականացմանն աջակցություն | G31: =+G33 -> 52800 | H31: =+H33 -> 52800
F32: այդ թվում` ըստ կատարողների
F33: ՀՀ էկոնոմիկայի նախարարություն | G33: =+G35 -> 52800 | H33: =+H35 -> 52800
F34: այդ թվում` բյուջետային ծախսերի տնտեսագիտական դասակարգման հոդվածներ
F35: ԸՆԴԱՄԵՆԸ ԾԱԽՍԵՐ | G35: =+G36 -> 52800 | H35: =+H36 -> 52800
F36: ԸՆԹԱՑԻԿ ԾԱԽՍԵՐ | G36: =+G37 -> 52800 | H36: =+H37 -> 52800
F37: ԴՐԱՄԱՇՆՈՐՀՆԵՐ | G37: =+G38 -> 52800 | H37: =+H38 -> 52800
F38: Ընթացիկ դրամաշնորհներ պետական հատվածի այլ մակարդակներին | G38: =+G39 -> 52800 | H38: =+H39 -> 52800
F39: - Այլ ընթացիկ դրամաշնորհներ համայնքներին | G39: 52800 | H39: 52800
E40: 12003 | F40: ՀՀ-ում գարնանացան, աշնանացան և կերային մշակաբույսերի մշակության հիմնական աշխատանքների համար կատարված ծախսերի մասնակի փոխհատուցման տրամադրում | G40: =+G42 -> 1760000 | H40: =+H42 -> 1760000
F41: այդ թվում` ըստ կատարողների
...
