Workbook
Name _tab10: #REF!
Name _tab10: #REF!
Name _tab10: #REF!
Name _tab11: #REF!
Name _tab11: #REF!
Name _tab12: #REF!
Name _tab12: #REF!
Name _tab13: #REF!
Name _tab13: #REF!
Name _tab14: #REF!
Name _tab14: #REF!
Name _tab15: #REF!
Name _tab15: #REF!
Name _tab16: #REF!
Name _tab16: #REF!
Name _tab17: #REF!
Name _tab17: #REF!
Name _tab18: #REF!
Name _tab18: #REF!
Name _tab19: #REF!
Name _tab19: #REF!
Name _tab20: #REF!
Name _tab20: #REF!
Name _tab21: #REF!
Name _tab21: #REF!
Name _tab22: #REF!
Name _tab22: #REF!
Name _tab22222: #REF!
Name _tab22222: #REF!
Name _tab23: #REF!
Name _tab23: #REF!
Name _tab24: #REF!
Name _tab24: #REF!
Name _tab5: #REF!
Name _tab5: #REF!
Name _tab6: #REF!
Name _tab6: #REF!
Name _tab7: #REF!
Name _tab7: #REF!
Name _tab8: #REF!
Name _tab8: #REF!
Name _tab9: #REF!
Name _tab9: #REF!
Name aaaaaaaaaaaa: #REF!
Name aaaaaaaaaaaa: #REF!
Name AgencyCode: #REF!
Name AgencyName: #REF!
Name åû: #REF!
Name davit: #REF!
Name Functional1: #REF!
Name ggg: #REF!
Name hav: #REF!
Name havelvac: #REF!
Name hhhh: #REF!
Name hhhh: #REF!
Name hunvar: #REF!,#REF!,#REF!,#REF!,#REF!,#REF!,#REF!,#REF!,#REF!,#REF!,#REF!,#REF!,#REF!,#REF!,#REF!
Name hunvar: #REF!,#REF!,#REF!,#REF!,#REF!,#REF!,#REF!,#REF!,#REF!,#REF!,#REF!,#REF!,#REF!,#REF!,#REF!
Name hunvar: #REF!,#REF!,#REF!,#REF!,#REF!,#REF!,#REF!,#REF!,#REF!,#REF!,#REF!,#REF!,#REF!,#REF!,#REF!
Name hunvar: #REF!,#REF!,#REF!,#REF!,#REF!,#REF!,#REF!,#REF!,#REF!,#REF!,#REF!,#REF!,#REF!,#REF!,#REF!
Name mas: #REF!

Sheet 1
B1: Հավելված № 1
B2: ՀՀ կառավարության 2026 թվականի
B3: __________ «____» -ի
B4: N_____ -Ն որոշման
A5: «ՀԱՅԱՍՏԱՆԻ ՀԱՆՐԱՊԵՏՈՒԹՅԱՆ 2026 ԹՎԱԿԱՆԻ ՊԵՏԱԿԱՆ ԲՅՈՒՋԵԻ ՄԱՍԻՆ» ՀԱՅԱՍՏԱՆԻ ՀԱՆՐԱՊԵՏՈՒԹՅԱՆ ՕՐԵՆՔԻ № 1 ՀԱՎԵԼՎԱԾԻ № 1 ԱՂՅՈՒՍԱԿՈՒՄ ԿԱՏԱՐՎՈՂ ՓՈՓՈԽՈՒԹՅՈՒՆՆԵՐԸ
C6: (հազար դրամներով)
A7: Ծրագրային դասիչը | B7: Ծրագրի անվանումը | C7: Ցուցանիշների փոփոխությունները (ավելացումը նշված է դրական նշանով, իսկ նվազեցումը` փակագծերում)
A8: ԸՆԴԱՄԵՆԸ | C8: =SUM(C9:C13) -> 0
A9: 1142 | B9: Դատաբժշկական և ախտաբանաանատոմիական ծառայություններ | C9: =+'2'!I11 -> 60000
A10: 1200 | B10: Մոր և մանկան առողջության պահպանում | C10: =+'2'!I13 -> 715000
A11: 1201 | B11: Շտապ բժշկական օգնություն | C11: =+'2'!I17 -> 250000
A12: 1202 | B12: Ոչ վարակիչ հիվանդությունների բժշկական օգնության ապահովում | C12: =+'2'!I19 -> 7145317.3
A13: 1006 | B13: Պետական պարտքի կառավարում | C13: =+'2'!I21 -> -8170317.3

Sheet 2
A1: Հավելված № 2
A2: ՀՀ կառավարության 2026 թվականի
A3: __________ «____» -ի
A4: N_____ -Ն որոշման
A5: «ՀԱՅԱՍՏԱՆԻ ՀԱՆՐԱՊԵՏՈՒԹՅԱՆ 2026 ԹՎԱԿԱՆԻ ՊԵՏԱԿԱՆ ԲՅՈՒՋԵԻ ՄԱՍԻՆ» ՀԱՅԱՍՏԱՆԻ ՀԱՆՐԱՊԵՏՈՒԹՅԱՆ ՕՐԵՆՔԻ № 1 ՀԱՎԵԼՎԱԾԻ № 2 ԱՂՅՈՒՍԱԿՈՒՄ ԿԱՏԱՐՎՈՂ ՎԵՐԱԲԱՇԽՈՒՄԸ ԵՎ ՀԱՅԱՍՏԱՆԻ ՀԱՆՐԱՊԵՏՈՒԹՅԱՆ ԿԱՌԱՎԱՐՈՒԹՅԱՆ 2025 ԹՎԱԿԱՆԻ ԴԵԿՏԵՄԲԵՐԻ 25-Ի № 1910-Ն ՈՐՈՇՄԱՆ № 5 ՀԱՎԵԼՎԱԾԻ № 1 ԱՂՅՈՒՍԱԿՈՒՄ ԿԱՏԱՐՎՈՂ ՓՈՓՈԽՈՒԹՅՈՒՆՆԵՐԸ
A6: (հազար դրամներով)
A7: ԲԳԿ | B7: Ծրագրային դասիչը | D7: ԲԳԿ/Ծրագրի /միջոցառման անվանումը | E7: Ծրագրի նպատակը/Միջոցառման նկարագրությունը | F7: Վերջնական արդյունքի նկարագրությունը/Միջոցառման տեսակը | G7: Ցուցանիշների փոփոխությունները (ավելացումները նշված են դրական նշանով, իսկ նվազեցումները` փակագծերում)
B8: Ծրագիր | C8: Միջոցառում | G8: Առաջին կիսամյակ | H8: Ինն ամիս | I8: Տարի
A9: ԸՆԴԱՄԵՆԸ | G9: =+G10+G21 -> 0 | H9: =+H10+H21 -> 0 | I9: =+I10+I21 -> 0
A10: ՀՀ առողջապահության նախարարություն | G10: =+G13+G17+G19+G11 -> 8170317.3 | H10: =+H13+H17+H19+H11 -> 8170317.3 | I10: =+I13+I17+I19+I11 -> 8170317.3
B11: 1142 | D11: Դատաբժշկական և ախտաբանաանատոմիական ծառայություններ | E11: Պաթանատոմիական կանխորոշումների հիման վրա ախտորոշման և բուժման արդյունավետության բարձրացում | F11: Մահերի պատճառների բացահայտում | G11: =+G12 -> 60000 | H11: =+H12 -> 60000 | I11: =+I12 -> 60000
C12: 1142 - 11001 | D12: Դատաբժշկական և ախտաբանաանատոմիական բժշկական օգնության ծառայություններ | E12: Հանրապետության ուժային մարմինների որոշումների հիման վրա դատաբժշկական և գենետիկ փորձաքննությունների ապահովում` մահերի պատճառների վերհանման փորձաքննություններ: Մանկական մահերի պատճառների բացահայտում` մանկամահացության մակարդակը նվազեցնելու նպատակով | F12: Ծառայությունների մատուցում | G12: 60000 | H12: 60000 | I12: 60000
B13: 1200 | D13: Մոր և մանկան առողջության պահպանում | E13: Մոր և մանկան առողջության պահպանում, կանանց և երեխաներին մատուցվող բժշկական ծառայությունների մատչելիության և որակի բարելավում | F13: Մանկական և մայրական մահացության և հիվանդացության կրճատում, կանանց վերարտադրողական առողջության բարելավում | G13: =+G14+G15+G16 -> 715000 | H13: =+H14+H15+H16 -> 715000 | I13: =+I14+I15+I16 -> 715000
C14: 1200 - 11001 | D14: Մանկաբարձական բժշկական օգնության ծառայություններ | E14: Մանկաբարձական բժշկական օգնության համալիր միջոցառումների իրականացում, հղիության ախտաբանական ընթացքի բժշկական օգնություն և ծննդօգնություն | F14: Ծառայությունների մատուցում | G14: 140000 | H14: 140000 | I14: 140000
C15: 1200 - 11003 | D15: Երեխաներին բժշկական օգնության ծառայություններ | E15: Երեխաների հիվանդանոցային, արտահիվանդանոցային վերականգնողական բուժօգնության իրականացում: Նորածինների հիվանդությունների վաղ հայտնաբերման սքրինգների իրականացման ծառայություններ | F15: Ծառայությունների մատուցում | G15: 320000 | H15: 320000 | I15: 320000
C16: 1200 - 11006 | D16: Անպտուղ զույգերի համար վերարտադրողական օժանդակ տեխնոլոգիաների կիրառմամբ բժշկական օգնության ծառայություններ | E16: Բնակչության առանձին և հատուկ խմբերում ընդգրկված անպտուղ զույգերին վերարտադրողական օժանդակ տեխնոլոգիաների կիրառմամբ բժշկական օգնության տրամադրում | F16: Ծառայությունների մատուցում | G16: 255000 | H16: 255000 | I16: 255000
B17: 1201 | D17: Շտապ բժշկական օգնություն | E17: Մարդու կյանքին և առողջությանը վտանգ սպառնացող վիճակներում որակյալ շտապ բժշկական օգնության ծառայությունների տրամադրում | F17: Շտապ օգնության համակարգի պատրաստվածության բարելավում, արձագանքման արագության, հասանելիության և բժշկական օգնության ծառայությունների որակի բարելավում | G17: =+G18 -> 250000 | H17: =+H18 -> 250000 | I17: =+I18 -> 250000
C18: 1201 - 11001 | D18: Շտապ բժշկական օգնության ծառայություններ | E18: Շտապ բժշկական օգնության իրականացում | F18: Ծառայությունների մատուցում | G18: 250000 | H18: 250000 | I18: 250000
B19: 1202 | D19: Ոչ վարակիչ հիվանդությունների բժշկական օգնության ապահովում | E19: Ոչ վարակիչ հիվանդությունների (մասնավորապես՛ սիրտանոթային, շաքարային դիաբետի և չարորակ նորագոյացությունների) բուժման արդյունավետության բարձրացում | F19: Ոչ վարակիչ հիվանդություններով պայմանավորված հիվանդացության և մահացության նվազեցում | G19: =SUM(G20:G20) -> 7145317.3 | H19: =SUM(H20:H20) -> 7145317.3 | I19: =SUM(I20:I20) -> 7145317.3
C20: 1202 - 11006 | D20: Առողջության համընդհանուր ապահովագրության ներդրմանն ուղղված լրացուցիչ միջոցառումներ | E20: Առողջության համընդհանուր ապահովագրության համակարգի ներդրում և Հիմնադրամի ընթացիկ գործունեության ապահովում | F20: Ծառայությունների մատուցում | G20: 7145317.3 | H20: 7145317.3 | I20: 7145317.3
A21: ՀՀ ֆինանսների նախարարություն | G21: =+G22 -> -8170317.3 | H21: =+H22 -> -8170317.3 | I21: =+I22 -> -8170317.3
B22: 1006 | D22: Պետական պարտքի կառավարում | E22: Կառավարության ֆինանսական կարիքների բավարարման մշտական հնարավորության ապահովումը` երկարաժամկետ հատվածում նվազեցնելով պարտքի սպասարկման մեծությունը | F22: Կառավարության պարտքի օպտիմալ կառուցվածքի ձևավորում՛ հաշվի առնելով պոտենցիալ ռիսկերը | G22: =+G23 -> -8170317.3 | H22: =+H23 -> -8170317.3 | I22: =+I23 -> -8170317.3
C23: 1006 - 13001 | D23: Կառավարության պարտքի սպասարկում | E23: Կառավարության պարտքի սպասարկում (տոկոսավճարներ) | F23: Ֆինանսավորման ծախսերի իրականացում | G23: =+-G10 -> -8170317.3 | H23: =+-H10 -> -8170317.3 | I23: =+-I10 -> -8170317.3
A24: ՀՀ կառավարություն | G24: =+G25 -> 0 | H24: =+H25 -> 0 | I24: =+I25 -> 0
B25: 1139 | D25: ՀՀ կառավարության պահուստային ֆոնդ | E25: Պետական բյուջեում չկանխատեսված, ինչպես նաեւ բյուջետային երաշխիքների ապահովման ծախսերի ֆինանսավորման ապահովում | F25: Պահուստային ֆոնդի կառավարման արդյունավետության և թափանցիկության ապահովում | G25: =+G26+G27 -> 0 | H25: =+H26+H27 -> 0 | I25: =+I26+I27 -> 0
C26: 1139 - 11001 | D26: ՀՀ կառավարության պահուստային ֆոնդ | E26: ՀՀ պետական բյուջեում նախատեսված ելքերի լրացուցիչ ֆինանսավորման, պետական բյուջեում չկանխատեսված ելքերի, ինչպես նաև բյուջետային երաշխիքների ապահովման ելքերի ֆինանսավորման ապահովում | F26: Ծառայությունների մատուցում | G26: =+G18+G16+G15+G14+G12 -> 1025000 | H26: =+H18+H16+H15+H14+H12 -> 1025000 | I26: =+I18+I16+I15+I14+I12 -> 1025000
C27: 1139 - 11001 | D27: ՀՀ կառավարության պահուստային ֆոնդ | E27: ՀՀ պետական բյուջեում նախատեսված ելքերի լրացուցիչ ֆինանսավորման, պետական բյուջեում չկանխատեսված ելքերի, ինչպես նաև բյուջետային երաշխիքների ապահովման ելքերի ֆինանսավորման ապահովում | F27: Ծառայությունների մատուցում | G27: =+-G26 -> -1025000 | H27: =+-H26 -> -1025000 | I27: =+-I26 -> -1025000

Sheet 3
A1: Հավելված № 3
A2: ՀՀ կառավարության 2026 թվականի
A3: __________ «____» -ի
A4: N_____ -Ն որոշման
A5: ՀԱՅԱՍՏԱՆԻ ՀԱՆՐԱՊԵՏՈՒԹՅԱՆ ԿԱՌԱՎԱՐՈՒԹՅԱՆ 2025 ԹՎԱԿԱՆԻ ԴԵԿՏԵՄԲԵՐԻ 25-Ի № 1910-Ն ՈՐՈՇՄԱՆ №№ 3 և 4 ՀԱՎԵԼՎԱԾՆԵՐՈՒՄ ԿԱՏԱՐՎՈՂ ՓՈՓՈԽՈՒԹՅՈՒՆՆԵՐԸ
A6: (հազար դրամներով)
A7: Գործառական դասիչը | D7: Ծրագրային դասիչը | F7: Բյուջետային հատկացումների գլխավոր կարգադրիչների, ծրագրերի, միջոցառումների և միջոցառումները կատարող պետական մարմինների անվանումները | G7: Ցուցանիշների փոփոխությունները (ավելացումները նշված են դրական նշանով, իսկ նվազեցումները` փակագծերում)
A8: բաժին | B8: խումբ | C8: դաս | D8: Ծրագիր | E8: Միջոցառում | G8: Առաջին կիսամյակ | H8: Ինն ամիս | I8: Տարի
A9: ԸՆԴԱՄԵՆԸ | G9: =+G10+G96 -> 0 | H9: =+H10+H96 -> 0 | I9: =+I10+I96 -> 0
A10: 07 | F10: ԱՌՈՂՋԱՊԱՀՈՒԹՅՈՒՆ | G10: =+G12+G29+G79 -> 8170317.3 | H10: =+H12+H29+H79 -> 8170317.3 | I10: =+I12+I29+I79 -> 8170317.3
F11: այդ թվում՝
B12: 02 | F12: Արտահիվանդանոցային ծառայություններ | G12: =+G14 -> 250000 | H12: =+H14 -> 250000 | I12: =+I14 -> 250000
F13: այդ թվում`
C14: 04 | F14: Պարաբժշկական ծառայություններ | G14: =+G16 -> 250000 | H14: =+H16 -> 250000 | I14: =+I16 -> 250000
F15: այդ թվում`
F16: ՀՀ առողջապահության նախարարություն | G16: =+G18 -> 250000 | H16: =+H18 -> 250000 | I16: =+I18 -> 250000
F17: այդ թվում`
D18: 1201 | F18: Շտապ բժշկական օգնություն | G18: =+G20 -> 250000 | H18: =+H20 -> 250000 | I18: =+I20 -> 250000
F19: այդ թվում`
E20: 11001 | F20: Շտապ բժշկական օգնության ծառայություններ | G20: =+G22 -> 250000 | H20: =+H22 -> 250000 | I20: =+I22 -> 250000
F21: այդ թվում` ըստ կատարողների
F22: ՀՀ առողջապահության նախարարություն | G22: =+G24 -> 250000 | H22: =+H24 -> 250000 | I22: =+I24 -> 250000
F23: այդ թվում` բյուջետային ծախսերի տնտեսագիտական դասակարգման հոդվածներ
F24: ԸՆԴԱՄԵՆԸ ԾԱԽՍԵՐ | G24: =+G25 -> 250000 | H24: =+H25 -> 250000 | I24: =+I25 -> 250000
F25: ԸՆԹԱՑԻԿ ԾԱԽՍԵՐ | G25: =+G26 -> 250000 | H25: =+H26 -> 250000 | I25: =+I26 -> 250000
F26: ՍՈՑԻԱԼԱԿԱՆ ՆՊԱՍՏՆԵՐ ԵՎ ԿԵՆՍԱԹՈՇԱԿՆԵՐ | G26: =+G27 -> 250000 | H26: =+H27 -> 250000 | I26: =+I27 -> 250000
F27: Սոցիալական օգնության դրամական արտահայտությամբ նպաստներ (բյուջեից) | G27: =+G28 -> 250000 | H27: =+H28 -> 250000 | I27: =+I28 -> 250000
F28: - Այլ նպաստներ բյուջեից | G28: =+'2'!G18 -> 250000 | H28: =+'2'!H18 -> 250000 | I28: =+'2'!I18 -> 250000
B29: 03 | F29: Հիվանդանոցային ծառայություններ | G29: =+G31+G46 -> 7860317.3 | H29: =+H31+H46 -> 7860317.3 | I29: =+I31+I46 -> 7860317.3
F30: այդ թվում`
C31: 01 | F31: Ընդհանուր բնույթի հիվանդանոցային ծառայություններ | G31: =+G33 -> 7145317.3 | H31: =+H33 -> 7145317.3 | I31: =+I33 -> 7145317.3
F32: այդ թվում`
F33: ՀՀ առողջապահության նախարարություն | G33: =+G35 -> 7145317.3 | H33: =+H35 -> 7145317.3 | I33: =+I35 -> 7145317.3
F34: այդ թվում`
D35: 1202 | F35: Ոչ վարակիչ հիվանդությունների բժշկական օգնության ապահովում | G35: =+G37 -> 7145317.3 | H35: =+H37 -> 7145317.3 | I35: =+I37 -> 7145317.3
F36: այդ թվում`
E37: 11006 | F37: Առողջության համընդհանուր ապահովագրության ներդրմանն ուղղված լրացուցիչ միջոցառումներ | G37: =+G39 -> 7145317.3 | H37: =+H39 -> 7145317.3 | I37: =+I39 -> 7145317.3
F38: այդ թվում` ըստ կատարողների
F39: ՀՀ առողջապահության նախարարություն | G39: =+G41 -> 7145317.3 | H39: =+H41 -> 7145317.3 | I39: =+I41 -> 7145317.3
F40: այդ թվում` բյուջետային ծախսերի տնտեսագիտական դասակարգման հոդվածներ
F41: ԸՆԴԱՄԵՆԸ ԾԱԽՍԵՐ | G41: =+G42 -> 7145317.3 | H41: =+H42 -> 7145317.3 | I41: =+I42 -> 7145317.3
F42: ԸՆԹԱՑԻԿ ԾԱԽՍԵՐ | G42: =+G43 -> 7145317.3 | H42: =+H43 -> 7145317.3 | I42: =+I43 -> 7145317.3
F43: ՍՈՑԻԱԼԱԿԱՆ ՆՊԱՍՏՆԵՐ ԵՎ ԿԵՆՍԱԹՈՇԱԿՆԵՐ | G43: =+G44 -> 7145317.3 | H43: =+H44 -> 7145317.3 | I43: =+I44 -> 7145317.3
F44: Սոցիալական օգնության դրամական արտահայտությամբ նպաստներ (բյուջեից) | G44: =+G45 -> 7145317.3 | H44: =+H45 -> 7145317.3 | I44: =+I45 -> 7145317.3
F45: - Այլ նպաստներ բյուջեից | G45: =+'2'!G20 -> 7145317.3 | H45: =+'2'!H20 -> 7145317.3 | I45: =+'2'!I20 -> 7145317.3
C46: 03 | F46: Մոր և մանկան բժշկական ծառայություններ | G46: =+G50 -> 715000 | H46: =+H50 -> 715000 | I46: =+I50 -> 715000
F47: այդ թվում`
F48: ՀՀ առողջապահության նախարարություն | G48: =+G50 -> 715000 | H48: =+H50 -> 715000 | I48: =+I50 -> 715000
F49: այդ թվում`
D50: 1200 | F50: Մոր և մանկան առողջության պահպանում | G50: =+G52+G61+G70 -> 715000 | H50: =+H52+H61+H70 -> 715000 | I50: =+I52+I61+I70 -> 715000
F51: այդ թվում`
E52: 11001 | F52: Մանկաբարձական բժշկական օգնության ծառայություններ | G52: =+G54 -> 140000 | H52: =+H54 -> 140000 | I52: =+I54 -> 140000
F53: այդ թվում` ըստ կատարողների
F54: ՀՀ առողջապահության նախարարություն | G54: =+G56 -> 140000 | H54: =+H56 -> 140000 | I54: =+I56 -> 140000
F55: այդ թվում` բյուջետային ծախսերի տնտեսագիտական դասակարգման հոդվածներ
F56: ԸՆԴԱՄԵՆԸ ԾԱԽՍԵՐ | G56: =+G57 -> 140000 | H56: =+H57 -> 140000 | I56: =+I57 -> 140000
F57: ԸՆԹԱՑԻԿ ԾԱԽՍԵՐ | G57: =+G58 -> 140000 | H57: =+H58 -> 140000 | I57: =+I58 -> 140000
F58: ՍՈՑԻԱԼԱԿԱՆ ՆՊԱՍՏՆԵՐ ԵՎ ԿԵՆՍԱԹՈՇԱԿՆԵՐ | G58: =+G59 -> 140000 | H58: =+H59 -> 140000 | I58: =+I59 -> 140000
F59: Սոցիալական օգնության դրամական արտահայտությամբ նպաստներ (բյուջեից) | G59: =+G60 -> 140000 | H59: =+H60 -> 140000 | I59: =+I60 -> 140000
F60: - Այլ նպաստներ բյուջեից | G60: =+'2'!G14 -> 140000 | H60: =+'2'!H14 -> 140000 | I60: =+'2'!I14 -> 140000
E61: 11003 | F61: Երեխաներին բժշկական օգնության ծառայություններ | G61: =+G63 -> 320000 | H61: =+H63 -> 320000 | I61: =+I63 -> 320000
F62: այդ թվում` ըստ կատարողների
F63: ՀՀ առողջապահության նախարարություն | G63: =+G65 -> 320000 | H63: =+H65 -> 320000 | I63: =+I65 -> 320000
F64: այդ թվում` բյուջետային ծախսերի տնտեսագիտական դասակարգման հոդվածներ
F65: ԸՆԴԱՄԵՆԸ ԾԱԽՍԵՐ | G65: =+G66 -> 320000 | H65: =+H66 -> 320000 | I65: =+I66 -> 320000
F66: ԸՆԹԱՑԻԿ ԾԱԽՍԵՐ | G66: =+G67 -> 320000 | H66: =+H67 -> 320000 | I66: =+I67 -> 320000
F67: ՍՈՑԻԱԼԱԿԱՆ ՆՊԱՍՏՆԵՐ ԵՎ ԿԵՆՍԱԹՈՇԱԿՆԵՐ | G67: =+G68 -> 320000 | H67: =+H68 -> 320000 | I67: =+I68 -> 320000
F68: Սոցիալական օգնության դրամական արտահայտությամբ նպաստներ (բյուջեից) | G68: =+G69 -> 320000 | H68: =+H69 -> 320000 | I68: =+I69 -> 320000
F69: - Այլ նպաստներ բյուջեից | G69: =+'2'!G15 -> 320000 | H69: =+'2'!H15 -> 320000 | I69: =+'2'!I15 -> 320000
E70: 11006 | F70: Անպտուղ զույգերի համար վերարտադրողական օժանդակ տեխնոլոգիաների կիրառմամբ բժշկական օգնության ծառայություններ | G70: =+G72 -> 255000 | H70: =+H72 -> 255000 | I70: =+I72 -> 255000
F71: այդ թվում` ըստ կատարողների
F72: ՀՀ առողջապահության նախարարություն | G72: =+G74 -> 255000 | H72: =+H74 -> 255000 | I72: =+I74 -> 255000
F73: այդ թվում` բյուջետային ծախսերի տնտեսագիտական դասակարգման հոդվածներ
F74: ԸՆԴԱՄԵՆԸ ԾԱԽՍԵՐ | G74: =+G75 -> 255000 | H74: =+H75 -> 255000 | I74: =+I75 -> 255000
F75: ԸՆԹԱՑԻԿ ԾԱԽՍԵՐ | G75: =+G76 -> 255000 | H75: =+H76 -> 255000 | I75: =+I76 -> 255000
F76: ՍՈՑԻԱԼԱԿԱՆ ՆՊԱՍՏՆԵՐ ԵՎ ԿԵՆՍԱԹՈՇԱԿՆԵՐ | G76: =+G77 -> 255000 | H76: =+H77 -> 255000 | I76: =+I77 -> 255000
F77: Սոցիալական օգնության դրամական արտահայտությամբ նպաստներ (բյուջեից) | G77: =+G78 -> 255000 | H77: =+H78 -> 255000 | I77: =+I78 -> 255000
F78: - Այլ նպաստներ բյուջեից | G78: =+'2'!G16 -> 255000 | H78: =+'2'!H16 -> 255000 | I78: =+'2'!I16 -> 255000
B79: 06 | F79: Առողջապահություն (այլ դասերին չպատկանող) | G79: =+G81 -> 60000 | H79: =+H81 -> 60000 | I79: =+I81 -> 60000
F80: այդ թվում՝
C81: 01 | F81: Առողջապահական հարակից ծառայություններ և ծրագրեր | G81: =+G83 -> 60000 | H81: =+H83 -> 60000 | I81: =+I83 -> 60000
F82: այդ թվում`
F83: ՀՀ առողջապահության նախարարություն | G83: =+G85 -> 60000 | H83: =+H85 -> 60000 | I83: =+I85 -> 60000
F84: այդ թվում`
D85: 1142 | F85: Դատաբժշկական և ախտաբանաանատոմիական ծառայություններ | G85: =+G87 -> 60000 | H85: =+H87 -> 60000 | I85: =+I87 -> 60000
F86: այդ թվում`
E87: 11001 | F87: Դատաբժշկական և ախտաբանաանատոմիական բժշկական օգնության ծառայություններ | G87: =+G89 -> 60000 | H87: =+H89 -> 60000 | I87: =+I89 -> 60000
F88: այդ թվում` ըստ կատարողների
F89: ՀՀ առողջապահության նախարարություն | G89: =+G91 -> 60000 | H89: =+H91 -> 60000 | I89: =+I91 -> 60000
F90: այդ թվում` բյուջետային ծախսերի տնտեսագիտական դասակարգման հոդվածներ
F91: ԸՆԴԱՄԵՆԸ ԾԱԽՍԵՐ | G91: =+G92 -> 60000 | H91: =+H92 -> 60000 | I91: =+I92 -> 60000
F92: ԸՆԹԱՑԻԿ ԾԱԽՍԵՐ | G92: =+G93 -> 60000 | H92: =+H93 -> 60000 | I92: =+I93 -> 60000
F93: ՍՈՑԻԱԼԱԿԱՆ ՆՊԱՍՏՆԵՐ ԵՎ ԿԵՆՍԱԹՈՇԱԿՆԵՐ | G93: =+G94 -> 60000 | H93: =+H94 -> 60000 | I93: =+I94 -> 60000
F94: Սոցիալական օգնության դրամական արտահայտությամբ նպաստներ (բյուջեից) | G94: =+G95 -> 60000 | H94: =+H95 -> 60000 | I94: =+I95 -> 60000
F95: - Այլ նպաստներ բյուջեից | G95: =+'2'!G12 -> 60000 | H95: =+'2'!H12 -> 60000 | I95: =+'2'!I12 -> 60000
F96: ՀՀ ֆինանսների նախարարություն | G96: =+G98 -> -8170317.3 | H96: =+H98 -> -8170317.3 | I96: =+I98 -> -8170317.3
F97: այդ թվում`
A98: 01 | F98: ԸՆԴՀԱՆՈՒՐ ԲՆՈՒՅԹԻ ՀԱՆՐԱՅԻՆ ԾԱՌԱՅՈՒԹՅՈՒՆՆԵՐ | G98: =+G100 -> -8170317.3 | H98: =+H100 -> -8170317.3 | I98: =+I100 -> -8170317.3
F99: այդ թվում`
B100: 07 | F100: Պետական պարտքի գծով գործառնություններ | G100: =+G102 -> -8170317.3 | H100: =+H102 -> -8170317.3 | I100: =+I102 -> -8170317.3
...

Sheet 4
B1: Հավելված № 4
B2: ՀՀ կառավարության 2026 թվականի
B3: __________ «____» -ի
B4: N_____ -Ն որոշման
B5: ՀԱՅԱՍՏԱՆԻ ՀԱՆՐԱՊԵՏՈՒԹՅԱՆ ԿԱՌԱՎԱՐՈՒԹՅԱՆ 2025 ԹՎԱԿԱՆԻ ԴԵԿՏԵՄԲԵՐԻ 25-Ի № 1910-Ն ՈՐՈՇՄԱՆ № 9 ՀԱՎԵԼՎԱԾՈՒՄ ԿԱՏԱՐՎՈՂ ՓՈՓՈԽՈՒԹՅՈՒՆՆԵՐԸ
A6: (հազար դրամներով)
A7: ԲԳԿ | B7: Ծրագիր | D7: Միջոցառում | H7: Իրականացնողը/ ակտիվն օգտագործողը/ շահառուի ընտրության չափորոշիչը | I7: Արդյունքային չափորոշիչը | J7: Ցուցանիշների փոփոխությունները (ավելացումները նշված են դրական նշանով, իսկ նվազեցումները` փակագծերում)
B8: Դասիչը | C8: Անվանումը | D8: Դասիչը | E8: Անվանումը | F8: Նկարագրությունը | G8: Տեսակը | J8: Առաջին կիսամյակ | K8: Ինն ամիս | L8: Տարի
A9: ԸՆԴԱՄԵՆԸ | J9: =+J10+J84 -> 0 | K9: =+K10+K84 -> 0 | L9: =+L10+L84 -> 0
A10: ՀՀ առողջապահության նախարարություն | J10: =+J16+J36+J41+J67+J11 -> 8170317.3 | K10: =+K16+K36+K41+K67+K11 -> 8170317.3 | L10: =+L16+L36+L41+L67+L11 -> 8170317.3
B11: 1142 | C11: Դատաբժշկական և ախտաբանաանատոմիական ծառայություններ | J11: =+J12 -> 60000 | K11: =+K12 -> 60000 | L11: =+L12 -> 60000
D12: 1142 - 11001 | E12: Դատաբժշկական և ախտաբանաանատոմիական բժշկական օգնության ծառայություններ | J12: =+'2'!G12 -> 60000 | K12: =+'2'!H12 -> 60000 | L12: =+'2'!I12 -> 60000
F13: Հանրապետության ուժային մարմինների որոշումների հիման վրա դատաբժշկական և գենետիկ փորձաքննությունների ապահովում` մահերի պատճառների վերհանման փորձաքննություններ: Մանկական մահերի պատճառների բացահայտում` մանկամահացության մակարդակը նվազեցնելու նպատակով
G14: Ծառայությունների մատուցում
H15: Ծառայությունը մատուցողի անվանումը` Մասնագիտացված կազմակերպություն (ներ)
B16: 1200 | C16: Մոր և մանկան առողջության պահպանում | J16: =+J17+J22+J29 -> 715000 | K16: =+K17+K22+K29 -> 715000 | L16: =+L17+L22+L29 -> 715000
D17: 1200 - 11001 | E17: Մանկաբարձական բժշկական օգնության ծառայություններ | J17: =+'2'!G14 -> 140000 | K17: =+'2'!H14 -> 140000 | L17: =+'2'!I14 -> 140000
F18: Մանկաբարձական բժշկական օգնության համալիր միջոցառումների իրականացում, հղիության ախտաբանական ընթացքի բժշկական օգնություն և ծննդօգնություն
G19: Ծառայությունների մատուցում
H20: Ծառայությունը մատուցողի անվանումը` ՀՀ գնումների մասին օրենսդրությանը համապատասխան ընտրված կազմակերպություններ
I21: Ծնունդների թիվ, հատ, որից | J21: 38 | L21: 38
D22: 1200 - 11003 | E22: Երեխաներին բժշկական օգնության ծառայություններ | J22: =+'2'!G15 -> 320000 | K22: =+'2'!H15 -> 320000 | L22: =+'2'!I15 -> 320000
F23: Երեխաների հիվանդանոցային, արտահիվանդանոցային վերականգնողական բուժօգնության իրականացում: Նորածինների հիվանդությունների վաղ հայտնաբերման սքրինգների իրականացման ծառայություններ
G24: Ծառայությունների մատուցում
H25: Ծառայությունը մատուցողի անվանումը` ՀՀ գնումների մասին օրենսդրությանը համապատասխան ընտրված կազմակերպություններ
I26: Երեխաների բժշկական օգնության գծով ծառայություններից օգտվելու դեպքերի թիվ, հատ | J26: -7640 | L26: -7640
I27: Մտավոր, հոգեկան (վարքագծային), լսողական, ֆիզիկական (շարժողական) և զարգացման այլ խանգարումներով երեխաների վերականգնողական բուժման գծով ծառայություններից օգտվելու դեպքերի թիվ, հատ | J27: 16900 | L27: 16900
I28: Նորածնային սքրինինգների իրականացում (բնածին հիպոթիրեոզի, ֆենիլկետոնուրիայի, լսողության, տեսողության և կոնքազդրային հոդի) սքրինինգների թիվ, հատ | J28: 41180 | L28: 41180
D29: 1200 - 11006 | E29: Անպտուղ զույգերի համար վերարտադրողական օժանդակ տեխնոլոգիաների կիրառմամբ բժշկական օգնության ծառայություններ | J29: =+'2'!G16 -> 255000 | K29: =+'2'!H16 -> 255000 | L29: =+'2'!I16 -> 255000
F30: Բնակչության առանձին և հատուկ խմբերում ընդգրկված անպտուղ զույգերին վերարտադրողական օժանդակ տեխնոլոգիաների կիրառմամբ բժշկական օգնության տրամադրում
G31: Ծառայությունների մատուցում
H32: Ծառայությունը մատուցողի անվանումը` ՀՀ գնումների մասին օրենսդրությանը համապատասխան ընտրված կազմակերպություններ
I33: Վերարտադրողական օժանդակ տեխնոլոգիաների կիրառմամբ բժշկական օգնության ծառայություններ ստացած զույգերի թիվ, հատ | J33: 1895 | L33: 1895
I34: Վերարտադրողական օժանդակ տեխնոլոգիաների կիրառմամբ hետազոտություններ քանակ (հատ) | J34: 29000 | L34: 29000
I35: Վերարտադրողական օժանդակ տեխնոլոգիաների կիրառմամբ բժշկական օգնության շրջանակներում արտամարմնային բեղմնավորմա փորձերի թիվ, հատ | J35: 440 | L35: 440
B36: 1201 | C36: Շտապ բժշկական օգնություն | J36: =+J37 -> 250000 | K36: =+K37 -> 250000 | L36: =+L37 -> 250000
D37: 1201 - 11001 | E37: Շտապ բժշկական օգնության ծառայություններ | J37: =+'2'!G18 -> 250000 | K37: =+'2'!H18 -> 250000 | L37: =+'2'!I18 -> 250000
F38: Շտապ բժշկական օգնության իրականացում
G39: Ծառայությունների մատուցում
H40: Ծառայությունը մատուցողի անվանումը` ՀՀ գնումների մասին օրենսդրությանը համապատասխան ընտրված կազմակերպություններ
B41: 1202 | C41: Ոչ վարակիչ հիվանդությունների բժշկական օգնության ապահովում | J41: =+J42+J47+J52+J57+J62 -> 7145317.3 | K41: =+K42+K47+K52+K57+K62 -> 7145317.3 | L41: =+L42+L47+L52+L57+L62 -> 7145317.3
D42: 1202 - 11001 | E42: Հեմոդիալիզի և պերիտոնիալ դիալիզի անցկացման ծառայություններ | J42: 0 | K42: 0 | L42: 0
F43: Հեմոդիալիզի կարիք ունեցող հիվանդների բժշկական օգնության համալիր միջոցառումների իրականացում
G44: Ծառայությունների մատուցում
H45: Ծառայությունը մատուցողի անվանումը` ՀՀ գնումների մասին օրենսդրությանը համապատասխան ընտրված կազմակերպություններ
I46: Հեմոդիալիզի և պերիտոնիալ դիալիզի անցկացման ծառայություններ | J46: -24720 | L46: -24720
D47: 1202 - 11002 | E47: Անհետաձգելի բժշկական օգնություն՛ այդ թվում սրտի վիրահատություններ | J47: 0 | K47: 0 | L47: 0
F48: Անհետաձգելի բուժօգնության իրականացում` ԱՆ կողմից հաստատված հիվանդությունների, վիճակների ցանկի համաձայն՛ այդ թվում սրտի վիրահատություններ
G49: Ծառայությունների մատուցում
H50: Ծառայությունը մատուցողի անվանումը` ՀՀ գնումների մասին օրենսդրությանը համապատասխան ընտրված կազմակերպություններ
I51: Հիվանդանոցային պայմաններում արտահիվանդանոցային բժշկական օգնություն (emergency) | J51: 1550 | L51: 1550
D52: 1202 - 11003 | E52: Հոգեկան առողջության խնդիրներ և կախվածություն (թմրաբանական) ունեցող պացիենտների բժշկական օգնության ծառայություններ | J52: 0 | K52: 0 | L52: 0
F53: Հոգեկան առողջության խնդիրներ և կախվածություն (թմրաբանական) ունեցող պացիենտների բուժում և շարունակական հսկողության համալիր միջոցառումների իրականացում
G54: Ծառայությունների մատուցում
H55: Ծառայությունը մատուցողի անվանումը` ՀՀ գնումների մասին օրենսդրությանը համապատասխան ընտրված կազմակերպություններ
I56: Հոգեկան առողջության խնդիրներ և կախվածություն (թմրաբանական) ունեցող պացիենտների բժշկական օգնության գծով ծառայություններից օգտվելու դեպքերի թիվ, հատ | J56: 795 | L56: 795
D57: 1202 - 11004 | E57: Ուռուցքաբանական և արյունաբանական հիվանդությունների բժշկական օգնության ծառայություններ | J57: 0 | K57: 0 | L57: 0
F58: Ուռուցքաբանական և արյունաբանական հիվանդների բուժում և շարունակական հսկողության համալիր միջոցառումների իրականացում
G59: Ծառայությունների մատուցում
H60: Ծառայությունը մատուցողի անվանումը` ՀՀ գնումների մասին օրենսդրությանը համապատասխան ընտրված կազմակերպություններ
I61: Ուռուցքաբանական հիվանդությունների բժշկական օգնության ծառայություններ | J61: -2480 | L61: -2480
D62: 1202 - 11006 | E62: Առողջության համընդհանուր ապահովագրության ներդրմանն ուղղված լրացուցիչ միջոցառումներ | J62: =+'2'!G20 -> 7145317.3 | K62: =+'2'!H20 -> 7145317.3 | L62: =+'2'!I20 -> 7145317.3
F63: Առողջության համընդհանուր ապահովագրության համակարգի ներդրում և Հիմնադրամի ընթացիկ գործունեության ապահովում
G64: Ծառայությունների մատուցում
H65: Ծառայությունը մատուցողի անվանումը` ՀՀ գնումների մասին օրենսդրությանը համապատասխան ընտրված կազմակերպություններ
B67: 1207 | C67: Սոցիալապես անապահով և առանձին խմբերի անձանց բժշկական օգնություն | J67: =+J68+J73+J79 -> 0 | K67: =+K68+K73+K79 -> 0 | L67: =+L68+L73+L79 -> 0
D68: 1207 - 11003 | E68: Զինծառայողներին, ինչպես նաև փրկարար ծառայողներին և նրանց ընտանիքի անդամներին բժշկական օգնության ծառայություններ | J68: 0 | K68: 0 | L68: 0
F69: Զինծառայողներին, նրանց հավասարեցված անձանց, ինչպես նաև փրկարար ծառայողներին և նրանց ընտանիքի անդամներին բժշկական օգնության իրականացում (հետազոտում, ախտորոշում, բուժում)
G70: Ծառայությունների մատուցում
H71: Ծառայությունը մատուցողի անվանումը` ՀՀ գնումների մասին օրենսդրությանը համապատասխան ընտրված կազմակերպություններ
I72: Բժշկական օգնության գծով ծառայություններից օգտվելու դեպքերի թիվ, հատ | J72: 5700 | L72: 5700
D73: 1207 - 11004 | E73: Պետական հիմնարկների և կազմակերպությունների աշխատողների բժշկական օգնության և սպասարկման ծառայություններ | J73: 0 | K73: 0 | L73: 0
F74: Պետական հիմնարկների և կազմակերպությունների աշխատողների բժշկական օգնության և սպասարկման ծառայություններ
G75: Ծառայությունների մատուցում
H76: Ծառայությունը մատուցողի անվանումը` ՀՀ գնումների մասին օրենսդրությանը համապատասխան ընտրված կազմակերպություններ
I77: Բժշկական օգնության գծով ծառայություններից օգտվելու դեպքերի թիվ, հատ | J77: -5260 | L77: -5260
I78: Պարտադիր կանխարգելիչ քննություններ անցած անձանց թիվ, մարդ | J78: -12930 | L78: -12930
D79: 1207 - 11007 | E79: Փոխպատվաստման ծառայություններ | J79: 0 | K79: 0 | L79: 0
F80: Մարդու օրգանների և ոսկրածուծի փոխպատվաստման ծառայությունների իրականացում
G81: Ծառայությունների մատուցում
H82: Ծառայությունը մատուցողի անվանումը` ՀՀ գնումների մասին օրենսդրությանը համապատասխան ընտրված կազմակերպություններ
I83: Փոխպատվաստման ծառայություններ | J83: 6 | L83: 6
A84: ՀՀ ֆինանսների նախարարություն | J84: =+J85 -> -8170317.3 | K84: =+K85 -> -8170317.3 | L84: =+L85 -> -8170317.3
B85: 1006 | C85: Պետական պարտքի կառավարում | J85: =+J86 -> -8170317.3 | K85: =+K86 -> -8170317.3 | L85: =+L86 -> -8170317.3
D86: 1006 - 13001 | E86: Կառավարության պարտքի սպասարկում | J86: =+'2'!G23 -> -8170317.3 | K86: =+'2'!H23 -> -8170317.3 | L86: =+'2'!I23 -> -8170317.3
F87: Կառավարության պարտքի սպասարկում (տոկոսավճարներ)
G88: Ֆինանսավորման ծախսերի իրականացում
H89: Միջոցառումն իրականացնողի անվանումը` ՀՀ ֆինանսների նախարարություն
A90: ՀՀ կառավարություն | J90: =+J91 -> 0 | K90: =+K91 -> 0 | L90: =+L91 -> 0
B91: 1139 | C91: ՀՀ կառավարության պահուստային ֆոնդ | J91: =+J92+J96 -> 0 | K91: =+K92+K96 -> 0 | L91: =+L92+L96 -> 0
D92: 1139 - 11001 | E92: ՀՀ կառավարության պահուստային ֆոնդ | J92: =+'2'!G26 -> 1025000 | K92: =+'2'!H26 -> 1025000 | L92: =+'2'!I26 -> 1025000
F93: ՀՀ պետական բյուջեում նախատեսված ելքերի լրացուցիչ ֆինանսավորման, պետական բյուջեում չկանխատեսված ելքերի, ինչպես նաև բյուջետային երաշխիքների ապահովման ելքերի ֆինանսավորման ապահովում
G94: Ծառայությունների մատուցում
H95: Ծառայությունը մատուցողի անվանումը` ՀՀ կառավարություն
D96: 1139 - 11001 | E96: ՀՀ կառավարության պահուստային ֆոնդ | J96: =+'2'!G27 -> -1025000 | K96: =+'2'!H27 -> -1025000 | L96: =+'2'!I27 -> -1025000
F97: ՀՀ պետական բյուջեում նախատեսված ելքերի լրացուցիչ ֆինանսավորման, պետական բյուջեում չկանխատեսված ելքերի, ինչպես նաև բյուջետային երաշխիքների ապահովման ելքերի ֆինանսավորման ապահովում
G98: Ծառայությունների մատուցում
H99: Ծառայությունը մատուցողի անվանումը` ՀՀ կառավարություն

Sheet 5
B1: Հավելված № 5
B2: ՀՀ կառավարության 2026 թվականի
B3: __________ «____» -ի
B4: N_____ -Ն որոշման
B5: ՀԱՅԱՍՏԱՆԻ ՀԱՆՐԱՊԵՏՈՒԹՅԱՆ ԿԱՌԱՎԱՐՈՒԹՅԱՆ 2025 ԹՎԱԿԱՆԻ ԴԵԿՏԵՄԲԵՐԻ 25-Ի № 1910-Ն ՈՐՈՇՄԱՆ № 9.1 ՀԱՎԵԼՎԱԾՈՒՄ ԿԱՏԱՐՎՈՂ ՓՈՓՈԽՈՒԹՅՈՒՆՆԵՐԸ
A6: (հազար դրամներով)
A7: ԲՍԿ | B7: Ծրագիր | D7: Միջոցառում | H7: Իրականացնողը/ ակտիվն օգտագործողը/ շահառուի ընտրության չափորոշիչը | I7: Արդյունքային չափորոշիչը | J7: Ցուցանիշների փոփոխությունները (ավելացումները նշված են դրական նշանով, իսկ նվազեցումները` փակագծերում)
B8: Դասիչը | C8: Անվանումը | D8: Դասիչը | E8: Անվանումը | F8: Նկարագրությունը | G8: Տեսակը | J8: Առաջին կիսամյակ | K8: Ինն ամիս | L8: Տարի
A9: ԸՆԴԱՄԵՆԸ | J9: =+J10+J84 -> 0 | K9: =+K10+K84 -> 0 | L9: =+L10+L84 -> 0
A10: ՀՀ առողջապահության նախարարություն | J10: =+J16+J36+J41+J67+J11 -> 8170317.3 | K10: =+K16+K36+K41+K67+K11 -> 8170317.3 | L10: =+L16+L36+L41+L67+L11 -> 8170317.3
B11: 1142 | C11: Դատաբժշկական և ախտաբանաանատոմիական ծառայություններ | J11: =+J12 -> 60000 | K11: =+K12 -> 60000 | L11: =+L12 -> 60000
D12: 1142 - 11001 | E12: Դատաբժշկական և ախտաբանաանատոմիական բժշկական օգնության ծառայություններ | J12: =+'2'!G12 -> 60000 | K12: =+'2'!H12 -> 60000 | L12: =+'2'!I12 -> 60000
F13: Հանրապետության ուժային մարմինների որոշումների հիման վրա դատաբժշկական և գենետիկ փորձաքննությունների ապահովում` մահերի պատճառների վերհանման փորձաքննություններ: Մանկական մահերի պատճառների բացահայտում` մանկամահացության մակարդակը նվազեցնելու նպատակով
G14: Ծառայությունների մատուցում
H15: Ծառայությունը մատուցողի անվանումը` Մասնագիտացված կազմակերպություն (ներ)
B16: 1200 | C16: Մոր և մանկան առողջության պահպանում | J16: =+J17+J22+J29 -> 715000 | K16: =+K17+K22+K29 -> 715000 | L16: =+L17+L22+L29 -> 715000
D17: 1200 - 11001 | E17: Մանկաբարձական բժշկական օգնության ծառայություններ | J17: =+'2'!G14 -> 140000 | K17: =+'2'!H14 -> 140000 | L17: =+'2'!I14 -> 140000
F18: Մանկաբարձական բժշկական օգնության համալիր միջոցառումների իրականացում, հղիության ախտաբանական ընթացքի բժշկական օգնություն և ծննդօգնություն
G19: Ծառայությունների մատուցում
H20: Ծառայությունը մատուցողի անվանումը` ՀՀ գնումների մասին օրենսդրությանը համապատասխան ընտրված կազմակերպություններ
I21: Ծնունդների թիվ, հատ, որից | J21: 38 | L21: 38
D22: 1200 - 11003 | E22: Երեխաներին բժշկական օգնության ծառայություններ | J22: =+'2'!G15 -> 320000 | K22: =+'2'!H15 -> 320000 | L22: =+'2'!I15 -> 320000
F23: Երեխաների հիվանդանոցային, արտահիվանդանոցային վերականգնողական բուժօգնության իրականացում: Նորածինների հիվանդությունների վաղ հայտնաբերման սքրինգների իրականացման ծառայություններ
G24: Ծառայությունների մատուցում
H25: Ծառայությունը մատուցողի անվանումը` ՀՀ գնումների մասին օրենսդրությանը համապատասխան ընտրված կազմակերպություններ
I26: Երեխաների բժշկական օգնության գծով ծառայություններից օգտվելու դեպքերի թիվ, հատ | J26: -7640 | L26: -7640
I27: Մտավոր, հոգեկան (վարքագծային), լսողական, ֆիզիկական (շարժողական) և զարգացման այլ խանգարումներով երեխաների վերականգնողական բուժման գծով ծառայություններից օգտվելու դեպքերի թիվ, հատ | J27: 16900 | L27: 16900
I28: Նորածնային սքրինինգների իրականացում (բնածին հիպոթիրեոզի, ֆենիլկետոնուրիայի, լսողության, տեսողության և կոնքազդրային հոդի) սքրինինգների թիվ, հատ | J28: 41180 | L28: 41180
D29: 1200 - 11006 | E29: Անպտուղ զույգերի համար վերարտադրողական օժանդակ տեխնոլոգիաների կիրառմամբ բժշկական օգնության ծառայություններ | J29: =+'2'!G16 -> 255000 | K29: =+'2'!H16 -> 255000 | L29: =+'2'!I16 -> 255000
F30: Բնակչության առանձին և հատուկ խմբերում ընդգրկված անպտուղ զույգերին վերարտադրողական օժանդակ տեխնոլոգիաների կիրառմամբ բժշկական օգնության տրամադրում
G31: Ծառայությունների մատուցում
H32: Ծառայությունը մատուցողի անվանումը` ՀՀ գնումների մասին օրենսդրությանը համապատասխան ընտրված կազմակերպություններ
I33: Վերարտադրողական օժանդակ տեխնոլոգիաների կիրառմամբ բժշկական օգնության ծառայություններ ստացած զույգերի թիվ, հատ | J33: 1895 | L33: 645
I34: Վերարտադրողական օժանդակ տեխնոլոգիաների կիրառմամբ hետազոտություններ քանակ (հատ) | J34: 29000 | L34: 13461
I35: Վերարտադրողական օժանդակ տեխնոլոգիաների կիրառմամբ բժշկական օգնության շրջանակներում արտամարմնային բեղմնավորմա փորձերի թիվ, հատ | J35: 440 | L35: 440
B36: 1201 | C36: Շտապ բժշկական օգնություն | J36: =+J37 -> 250000 | K36: =+K37 -> 250000 | L36: =+L37 -> 250000
D37: 1201 - 11001 | E37: Շտապ բժշկական օգնության ծառայություններ | J37: =+'2'!G18 -> 250000 | K37: =+'2'!H18 -> 250000 | L37: =+'2'!I18 -> 250000
F38: Շտապ բժշկական օգնության իրականացում
G39: Ծառայությունների մատուցում
H40: Ծառայությունը մատուցողի անվանումը` ՀՀ գնումների մասին օրենսդրությանը համապատասխան ընտրված կազմակերպություններ
B41: 1202 | C41: Ոչ վարակիչ հիվանդությունների բժշկական օգնության ապահովում | J41: =+J42+J47+J52+J57+J62 -> 7145317.3 | K41: =+K42+K47+K52+K57+K62 -> 7145317.3 | L41: =+L42+L47+L52+L57+L62 -> 7145317.3
D42: 1202 - 11001 | E42: Հեմոդիալիզի և պերիտոնիալ դիալիզի անցկացման ծառայություններ | J42: 0 | K42: 0 | L42: 0
F43: Հեմոդիալիզի կարիք ունեցող հիվանդների բժշկական օգնության համալիր միջոցառումների իրականացում
G44: Ծառայությունների մատուցում
H45: Ծառայությունը մատուցողի անվանումը` ՀՀ գնումների մասին օրենսդրությանը համապատասխան ընտրված կազմակերպություններ
I46: Հեմոդիալիզի և պերիտոնիալ դիալիզի անցկացման ծառայություններ | J46: -24720 | L46: -24720
D47: 1202 - 11002 | E47: Անհետաձգելի բժշկական օգնություն՛ այդ թվում սրտի վիրահատություններ | J47: 0 | K47: 0 | L47: 0
F48: Անհետաձգելի բուժօգնության իրականացում` ԱՆ կողմից հաստատված հիվանդությունների, վիճակների ցանկի համաձայն՛ այդ թվում սրտի վիրահատություններ
G49: Ծառայությունների մատուցում
H50: Ծառայությունը մատուցողի անվանումը` ՀՀ գնումների մասին օրենսդրությանը համապատասխան ընտրված կազմակերպություններ
I51: Հիվանդանոցային պայմաններում արտահիվանդանոցային բժշկական օգնություն (emergency) | J51: 1550 | L51: 1550
D52: 1202 - 11003 | E52: Հոգեկան առողջության խնդիրներ և կախվածություն (թմրաբանական) ունեցող պացիենտների բժշկական օգնության ծառայություններ | J52: 0 | K52: 0 | L52: 0
F53: Հոգեկան առողջության խնդիրներ և կախվածություն (թմրաբանական) ունեցող պացիենտների բուժում և շարունակական հսկողության համալիր միջոցառումների իրականացում
G54: Ծառայությունների մատուցում
H55: Ծառայությունը մատուցողի անվանումը` ՀՀ գնումների մասին օրենսդրությանը համապատասխան ընտրված կազմակերպություններ
I56: Հոգեկան առողջության խնդիրներ և կախվածություն (թմրաբանական) ունեցող պացիենտների բժշկական օգնության գծով ծառայություններից օգտվելու դեպքերի թիվ, հատ | J56: 795 | L56: 795
D57: 1202 - 11004 | E57: Ուռուցքաբանական և արյունաբանական հիվանդությունների բժշկական օգնության ծառայություններ | J57: 0 | K57: 0 | L57: 0
F58: Ուռուցքաբանական և արյունաբանական հիվանդների բուժում և շարունակական հսկողության համալիր միջոցառումների իրականացում
G59: Ծառայությունների մատուցում
H60: Ծառայությունը մատուցողի անվանումը` ՀՀ գնումների մասին օրենսդրությանը համապատասխան ընտրված կազմակերպություններ
I61: Ուռուցքաբանական հիվանդությունների բժշկական օգնության ծառայություններ | J61: -2480 | L61: -2480
D62: 1202 - 11006 | E62: Առողջության համընդհանուր ապահովագրության ներդրմանն ուղղված լրացուցիչ միջոցառումներ | J62: =+'2'!G20 -> 7145317.3 | K62: =+'2'!H20 -> 7145317.3 | L62: =+'2'!I20 -> 7145317.3
F63: Առողջության համընդհանուր ապահովագրության համակարգի ներդրում և Հիմնադրամի ընթացիկ գործունեության ապահովում
G64: Ծառայությունների մատուցում
H65: Ծառայությունը մատուցողի անվանումը` ՀՀ գնումների մասին օրենսդրությանը համապատասխան ընտրված կազմակերպություններ
B67: 1207 | C67: Սոցիալապես անապահով և առանձին խմբերի անձանց բժշկական օգնություն | J67: =+J68+J73+J79 -> 0 | K67: =+K68+K73+K79 -> 0 | L67: =+L68+L73+L79 -> 0
D68: 1207 - 11003 | E68: Զինծառայողներին, ինչպես նաև փրկարար ծառայողներին և նրանց ընտանիքի անդամներին բժշկական օգնության ծառայություններ | J68: 0 | K68: 0 | L68: 0
F69: Զինծառայողներին, նրանց հավասարեցված անձանց, ինչպես նաև փրկարար ծառայողներին և նրանց ընտանիքի անդամներին բժշկական օգնության իրականացում (հետազոտում, ախտորոշում, բուժում)
G70: Ծառայությունների մատուցում
H71: Ծառայությունը մատուցողի անվանումը` ՀՀ գնումների մասին օրենսդրությանը համապատասխան ընտրված կազմակերպություններ
I72: Բժշկական օգնության գծով ծառայություններից օգտվելու դեպքերի թիվ, հատ | J72: 5700 | L72: 5700
D73: 1207 - 11004 | E73: Պետական հիմնարկների և կազմակերպությունների աշխատողների բժշկական օգնության և սպասարկման ծառայություններ | J73: 0 | K73: 0 | L73: 0
F74: Պետական հիմնարկների և կազմակերպությունների աշխատողների բժշկական օգնության և սպասարկման ծառայություններ
G75: Ծառայությունների մատուցում
H76: Ծառայությունը մատուցողի անվանումը` ՀՀ գնումների մասին օրենսդրությանը համապատասխան ընտրված կազմակերպություններ
I77: Բժշկական օգնության գծով ծառայություններից օգտվելու դեպքերի թիվ, հատ | J77: -5260 | L77: -5260
I78: Պարտադիր կանխարգելիչ քննություններ անցած անձանց թիվ, մարդ | J78: -12930 | L78: -12930
D79: 1207 - 11007 | E79: Փոխպատվաստման ծառայություններ | J79: 0 | K79: 0 | L79: 0
F80: Մարդու օրգանների և ոսկրածուծի փոխպատվաստման ծառայությունների իրականացում
G81: Ծառայությունների մատուցում
H82: Ծառայությունը մատուցողի անվանումը` ՀՀ գնումների մասին օրենսդրությանը համապատասխան ընտրված կազմակերպություններ
I83: Փոխպատվաստման ծառայություններ | J83: 6 | L83: 6
A84: ՀՀ ֆինանսների նախարարություն | J84: =+J85 -> -8170317.3 | K84: =+K85 -> -8170317.3 | L84: =+L85 -> -8170317.3
B85: 1006 | C85: Պետական պարտքի կառավարում | J85: =+J86 -> -8170317.3 | K85: =+K86 -> -8170317.3 | L85: =+L86 -> -8170317.3
D86: 1006 - 13001 | E86: Կառավարության պարտքի սպասարկում | J86: =+'2'!G23 -> -8170317.3 | K86: =+'2'!H23 -> -8170317.3 | L86: =+'2'!I23 -> -8170317.3
F87: Կառավարության պարտքի սպասարկում (տոկոսավճարներ)
G88: Ֆինանսավորման ծախսերի իրականացում
H89: Միջոցառումն իրականացնողի անվանումը` ՀՀ ֆինանսների նախարարություն
A90: ՀՀ կառավարություն | J90: =+J91 -> 0 | K90: =+K91 -> 0 | L90: =+L91 -> 0
B91: 1139 | C91: ՀՀ կառավարության պահուստային ֆոնդ | J91: =+J92+J96 -> 0 | K91: =+K92+K96 -> 0 | L91: =+L92+L96 -> 0
D92: 1139 - 11001 | E92: ՀՀ կառավարության պահուստային ֆոնդ | J92: =+'2'!G26 -> 1025000 | K92: =+'2'!H26 -> 1025000 | L92: =+'2'!I26 -> 1025000
F93: ՀՀ պետական բյուջեում նախատեսված ելքերի լրացուցիչ ֆինանսավորման, պետական բյուջեում չկանխատեսված ելքերի, ինչպես նաև բյուջետային երաշխիքների ապահովման ելքերի ֆինանսավորման ապահովում
G94: Ծառայությունների մատուցում
H95: Ծառայությունը մատուցողի անվանումը` ՀՀ կառավարություն
D96: 1139 - 11001 | E96: ՀՀ կառավարության պահուստային ֆոնդ | J96: =+'2'!G27 -> -1025000 | K96: =+'2'!H27 -> -1025000 | L96: =+'2'!I27 -> -1025000
F97: ՀՀ պետական բյուջեում նախատեսված ելքերի լրացուցիչ ֆինանսավորման, պետական բյուջեում չկանխատեսված ելքերի, ինչպես նաև բյուջետային երաշխիքների ապահովման ելքերի ֆինանսավորման ապահովում
G98: Ծառայությունների մատուցում
H99: Ծառայությունը մատուցողի անվանումը` ՀՀ կառավարություն

Sheet 6
A1: Հավելված № 6
A2: ՀՀ կառավարության 2026 թվականի
A3: __________ «____» -ի
A4: N_____ -Ն որոշման
A5: ՀԱՅԱՍՏԱՆԻ ՀԱՆՐԱՊԵՏՈՒԹՅԱՆ 2026 ԹՎԱԿԱՆԻ ՊԵՏԱԿԱՆ ԲՅՈՒՋԵՈՎ ՆԱԽԱՏԵՍՎԱԾ՝ ՀԱՅԱՍՏԱՆԻ ՀԱՆՐԱՊԵՏՈՒԹՅԱՆ ԿԱՌԱՎԱՐՈՒԹՅԱՆ ՊԱՀՈՒՍՏԱՅԻՆ ՖՈՆԴԻՑ ՀԱՏԿԱՑՈՒՄՆԵՐ ԿԱՏԱՐԵԼՈՒ ՎԵՐԱԲԵՐՅԱԼ
A6: (հազար դրամներով)
A7: Գործառական դասիչը | D7: Ծրագրային դասիչը | F7: Բյուջետային հատկացումների գլխավոր կարգադրիչների, ծրագրերի, միջոցառումների և միջոցառումները կատարող պետական մարմինների անվանումները | G7: Ցուցանիշների փոփոխությունները (ավելացումները նշված են դրական նշանով, իսկ նվազեցումները` փակագծերում)
A8: բաժին | B8: խումբ | C8: դաս | D8: Ծրագիր | E8: Միջոցառում | G8: Առաջին կիսամյակ | H8: Ինն ամիս | I8: Տարի
A9: ԸՆԴԱՄԵՆԸ | G9: =+G10+G81 -> 0 | H9: =+H10+H81 -> 0 | I9: =+I10+I81 -> 0
A10: 07 | F10: ԱՌՈՂՋԱՊԱՀՈՒԹՅՈՒՆ | G10: =+G12+G29+G64 -> 1025000 | H10: =+H12+H29+H64 -> 1025000 | I10: =+I12+I29+I64 -> 1025000
F11: այդ թվում՝
B12: 02 | F12: Արտահիվանդանոցային ծառայություններ | G12: =+G14 -> 250000 | H12: =+H14 -> 250000 | I12: =+I14 -> 250000
F13: այդ թվում`
C14: 04 | F14: Պարաբժշկական ծառայություններ | G14: =+G16 -> 250000 | H14: =+H16 -> 250000 | I14: =+I16 -> 250000
F15: այդ թվում`
F16: ՀՀ առողջապահության նախարարություն | G16: =+G18 -> 250000 | H16: =+H18 -> 250000 | I16: =+I18 -> 250000
F17: այդ թվում`
D18: 1201 | F18: Շտապ բժշկական օգնություն | G18: =+G20 -> 250000 | H18: =+H20 -> 250000 | I18: =+I20 -> 250000
F19: այդ թվում`
E20: 11001 | F20: Շտապ բժշկական օգնության ծառայություններ | G20: =+G22 -> 250000 | H20: =+H22 -> 250000 | I20: =+I22 -> 250000
F21: այդ թվում` ըստ կատարողների
F22: ՀՀ առողջապահության նախարարություն | G22: =+G24 -> 250000 | H22: =+H24 -> 250000 | I22: =+I24 -> 250000
F23: այդ թվում` բյուջետային ծախսերի տնտեսագիտական դասակարգման հոդվածներ
F24: ԸՆԴԱՄԵՆԸ ԾԱԽՍԵՐ | G24: =+G25 -> 250000 | H24: =+H25 -> 250000 | I24: =+I25 -> 250000
F25: ԸՆԹԱՑԻԿ ԾԱԽՍԵՐ | G25: =+G26 -> 250000 | H25: =+H26 -> 250000 | I25: =+I26 -> 250000
F26: ՍՈՑԻԱԼԱԿԱՆ ՆՊԱՍՏՆԵՐ ԵՎ ԿԵՆՍԱԹՈՇԱԿՆԵՐ | G26: =+G27 -> 250000 | H26: =+H27 -> 250000 | I26: =+I27 -> 250000
F27: Սոցիալական օգնության դրամական արտահայտությամբ նպաստներ (բյուջեից) | G27: =+G28 -> 250000 | H27: =+H28 -> 250000 | I27: =+I28 -> 250000
F28: - Այլ նպաստներ բյուջեից | G28: =+'[1]2'!G20 -> 250000 | H28: =+'[1]2'!H20 -> 250000 | I28: =+'[1]2'!I20 -> 250000
B29: 03 | F29: Հիվանդանոցային ծառայություններ | G29: =+G31 -> 715000 | H29: =+H31 -> 715000 | I29: =+I31 -> 715000
F30: այդ թվում`
C31: 03 | F31: Մոր և մանկան բժշկական ծառայություններ | G31: =+G35 -> 715000 | H31: =+H35 -> 715000 | I31: =+I35 -> 715000
F32: այդ թվում`
F33: ՀՀ առողջապահության նախարարություն | G33: =+G35 -> 715000 | H33: =+H35 -> 715000 | I33: =+I35 -> 715000
F34: այդ թվում`
D35: 1200 | F35: Մոր և մանկան առողջության պահպանում | G35: =+G37+G46+G55 -> 715000 | H35: =+H37+H46+H55 -> 715000 | I35: =+I37+I46+I55 -> 715000
F36: այդ թվում`
E37: 11001 | F37: Մանկաբարձական բժշկական օգնության ծառայություններ | G37: =+G39 -> 140000 | H37: =+H39 -> 140000 | I37: =+I39 -> 140000
F38: այդ թվում` ըստ կատարողների
F39: ՀՀ առողջապահության նախարարություն | G39: =+G41 -> 140000 | H39: =+H41 -> 140000 | I39: =+I41 -> 140000
F40: այդ թվում` բյուջետային ծախսերի տնտեսագիտական դասակարգման հոդվածներ
F41: ԸՆԴԱՄԵՆԸ ԾԱԽՍԵՐ | G41: =+G42 -> 140000 | H41: =+H42 -> 140000 | I41: =+I42 -> 140000
F42: ԸՆԹԱՑԻԿ ԾԱԽՍԵՐ | G42: =+G43 -> 140000 | H42: =+H43 -> 140000 | I42: =+I43 -> 140000
F43: ՍՈՑԻԱԼԱԿԱՆ ՆՊԱՍՏՆԵՐ ԵՎ ԿԵՆՍԱԹՈՇԱԿՆԵՐ | G43: =+G44 -> 140000 | H43: =+H44 -> 140000 | I43: =+I44 -> 140000
F44: Սոցիալական օգնության դրամական արտահայտությամբ նպաստներ (բյուջեից) | G44: =+G45 -> 140000 | H44: =+H45 -> 140000 | I44: =+I45 -> 140000
F45: - Այլ նպաստներ բյուջեից | G45: =+'[1]2'!G16 -> 140000 | H45: =+'[1]2'!H16 -> 140000 | I45: =+'[1]2'!I16 -> 140000
E46: 11003 | F46: Երեխաներին բժշկական օգնության ծառայություններ | G46: =+G48 -> 320000 | H46: =+H48 -> 320000 | I46: =+I48 -> 320000
F47: այդ թվում` ըստ կատարողների
F48: ՀՀ առողջապահության նախարարություն | G48: =+G50 -> 320000 | H48: =+H50 -> 320000 | I48: =+I50 -> 320000
F49: այդ թվում` բյուջետային ծախսերի տնտեսագիտական դասակարգման հոդվածներ
F50: ԸՆԴԱՄԵՆԸ ԾԱԽՍԵՐ | G50: =+G51 -> 320000 | H50: =+H51 -> 320000 | I50: =+I51 -> 320000
F51: ԸՆԹԱՑԻԿ ԾԱԽՍԵՐ | G51: =+G52 -> 320000 | H51: =+H52 -> 320000 | I51: =+I52 -> 320000
F52: ՍՈՑԻԱԼԱԿԱՆ ՆՊԱՍՏՆԵՐ ԵՎ ԿԵՆՍԱԹՈՇԱԿՆԵՐ | G52: =+G53 -> 320000 | H52: =+H53 -> 320000 | I52: =+I53 -> 320000
F53: Սոցիալական օգնության դրամական արտահայտությամբ նպաստներ (բյուջեից) | G53: =+G54 -> 320000 | H53: =+H54 -> 320000 | I53: =+I54 -> 320000
F54: - Այլ նպաստներ բյուջեից | G54: =+'[1]2'!G17 -> 320000 | H54: =+'[1]2'!H17 -> 320000 | I54: =+'[1]2'!I17 -> 320000
E55: 11006 | F55: Անպտուղ զույգերի համար վերարտադրողական օժանդակ տեխնոլոգիաների կիրառմամբ բժշկական օգնության ծառայություններ | G55: =+G57 -> 255000 | H55: =+H57 -> 255000 | I55: =+I57 -> 255000
F56: այդ թվում` ըստ կատարողների
F57: ՀՀ առողջապահության նախարարություն | G57: =+G59 -> 255000 | H57: =+H59 -> 255000 | I57: =+I59 -> 255000
F58: այդ թվում` բյուջետային ծախսերի տնտեսագիտական դասակարգման հոդվածներ
F59: ԸՆԴԱՄԵՆԸ ԾԱԽՍԵՐ | G59: =+G60 -> 255000 | H59: =+H60 -> 255000 | I59: =+I60 -> 255000
F60: ԸՆԹԱՑԻԿ ԾԱԽՍԵՐ | G60: =+G61 -> 255000 | H60: =+H61 -> 255000 | I60: =+I61 -> 255000
F61: ՍՈՑԻԱԼԱԿԱՆ ՆՊԱՍՏՆԵՐ ԵՎ ԿԵՆՍԱԹՈՇԱԿՆԵՐ | G61: =+G62 -> 255000 | H61: =+H62 -> 255000 | I61: =+I62 -> 255000
F62: Սոցիալական օգնության դրամական արտահայտությամբ նպաստներ (բյուջեից) | G62: =+G63 -> 255000 | H62: =+H63 -> 255000 | I62: =+I63 -> 255000
F63: - Այլ նպաստներ բյուջեից | G63: =+'[1]2'!G18 -> 255000 | H63: =+'[1]2'!H18 -> 255000 | I63: =+'[1]2'!I18 -> 255000
B64: 06 | F64: Առողջապահություն (այլ դասերին չպատկանող) | G64: =+G66 -> 60000 | H64: =+H66 -> 60000 | I64: =+I66 -> 60000
F65: այդ թվում՝
C66: 01 | F66: Առողջապահական հարակից ծառայություններ և ծրագրեր | G66: =+G68 -> 60000 | H66: =+H68 -> 60000 | I66: =+I68 -> 60000
F67: այդ թվում`
F68: ՀՀ առողջապահության նախարարություն | G68: =+G70 -> 60000 | H68: =+H70 -> 60000 | I68: =+I70 -> 60000
F69: այդ թվում`
D70: 1142 | F70: Դատաբժշկական և ախտաբանաանատոմիական ծառայություններ | G70: =+G72 -> 60000 | H70: =+H72 -> 60000 | I70: =+I72 -> 60000
F71: այդ թվում`
E72: 11001 | F72: Դատաբժշկական և ախտաբանաանատոմիական բժշկական օգնության ծառայություններ | G72: =+G74 -> 60000 | H72: =+H74 -> 60000 | I72: =+I74 -> 60000
F73: այդ թվում` ըստ կատարողների
F74: ՀՀ առողջապահության նախարարություն | G74: =+G76 -> 60000 | H74: =+H76 -> 60000 | I74: =+I76 -> 60000
F75: այդ թվում` բյուջետային ծախսերի տնտեսագիտական դասակարգման հոդվածներ
F76: ԸՆԴԱՄԵՆԸ ԾԱԽՍԵՐ | G76: =+G77 -> 60000 | H76: =+H77 -> 60000 | I76: =+I77 -> 60000
F77: ԸՆԹԱՑԻԿ ԾԱԽՍԵՐ | G77: =+G78 -> 60000 | H77: =+H78 -> 60000 | I77: =+I78 -> 60000
F78: ՍՈՑԻԱԼԱԿԱՆ ՆՊԱՍՏՆԵՐ ԵՎ ԿԵՆՍԱԹՈՇԱԿՆԵՐ | G78: =+G79 -> 60000 | H78: =+H79 -> 60000 | I78: =+I79 -> 60000
F79: Սոցիալական օգնության դրամական արտահայտությամբ նպաստներ (բյուջեից) | G79: =+G80 -> 60000 | H79: =+H80 -> 60000 | I79: =+I80 -> 60000
F80: - Այլ նպաստներ բյուջեից | G80: =+'[1]2'!G14 -> 60000 | H80: =+'[1]2'!H14 -> 60000 | I80: =+'[1]2'!I14 -> 60000
A81: 11 | F81: ՀԻՄՆԱԿԱՆ ԲԱԺԻՆՆԵՐԻՆ ՉԴԱՍՎՈՂ ՊԱՀՈՒՍՏԱՅԻՆ ՖՈՆԴԵՐ | G81: =+G83 -> -1025000 | H81: =+H83 -> -1025000 | I81: =+I83 -> -1025000
F82: այդ թվում`
B83: 01 | F83: ՀՀ կառավարության և համայնքների պահուստային ֆոնդ | G83: =+G85 -> -1025000 | H83: =+H85 -> -1025000 | I83: =+I85 -> -1025000
F84: այդ թվում`
C85: 01 | F85: ՀՀ կառավարության պահուստային ֆոնդ | G85: =+G87 -> -1025000 | H85: =+H87 -> -1025000 | I85: =+I87 -> -1025000
F86: այդ թվում`
F87: ՀՀ կառավարություն | G87: =+G89 -> -1025000 | H87: =+H89 -> -1025000 | I87: =+I89 -> -1025000
F88: այդ թվում`
D89: 1139 | F89: ՀՀ կառավարության պահուստային ֆոնդ | G89: =+G91 -> -1025000 | H89: =+H91 -> -1025000 | I89: =+I91 -> -1025000
F90: այդ թվում`
E91: 11001 | F91: ՀՀ կառավարության պահուստային ֆոնդ | G91: =+G93 -> -1025000 | H91: =+H93 -> -1025000 | I91: =+I93 -> -1025000
F92: այդ թվում` ըստ կատարողների
F93: ՀՀ կառավարություն | G93: =+G94 -> -1025000 | H93: =+H94 -> -1025000 | I93: =+I94 -> -1025000
F94: այդ թվում` բյուջետային ծախսերի տնտեսագիտական դասակարգման հոդվածներ | G94: =+G95 -> -1025000 | H94: =+H95 -> -1025000 | I94: =+I95 -> -1025000
F95: ԸՆԴԱՄԵՆԸ ԾԱԽՍԵՐ | G95: =+G96 -> -1025000 | H95: =+H96 -> -1025000 | I95: =+I96 -> -1025000
F96: ԸՆԹԱՑԻԿ ԾԱԽՍԵՐ | G96: =+G97 -> -1025000 | H96: =+H97 -> -1025000 | I96: =+I97 -> -1025000
F97: ԱՅԼ ԾԱԽՍԵՐ | G97: =+G98 -> -1025000 | H97: =+H98 -> -1025000 | I97: =+I98 -> -1025000
F98: - Պահուստային միջոցներ | G98: =+'2'!G27 -> -1025000 | H98: =+'2'!H27 -> -1025000 | I98: =+'2'!I27 -> -1025000
