Workbook
Name _tab10: #REF!
Name _tab10: #REF!
Name _tab10: #REF!
Name _tab11: #REF!
Name _tab11: #REF!
Name _tab12: #REF!
Name _tab12: #REF!
Name _tab13: #REF!
Name _tab13: #REF!
Name _tab14: #REF!
Name _tab14: #REF!
Name _tab15: #REF!
Name _tab15: #REF!
Name _tab16: #REF!
Name _tab16: #REF!
Name _tab17: #REF!
Name _tab17: #REF!
Name _tab18: #REF!
Name _tab18: #REF!
Name _tab19: #REF!
Name _tab19: #REF!
Name _tab20: #REF!
Name _tab20: #REF!
Name _tab21: #REF!
Name _tab21: #REF!
Name _tab22: #REF!
Name _tab22: #REF!
Name _tab22222: #REF!
Name _tab22222: #REF!
Name _tab23: #REF!
Name _tab23: #REF!
Name _tab24: #REF!
Name _tab24: #REF!
Name _tab5: #REF!
Name _tab5: #REF!
Name _tab6: #REF!
Name _tab6: #REF!
Name _tab7: #REF!
Name _tab7: #REF!
Name _tab8: #REF!
Name _tab8: #REF!
Name _tab9: #REF!
Name _tab9: #REF!
Name aaaaaaaaaaaa: #REF!
Name aaaaaaaaaaaa: #REF!
Name AgencyCode: #REF!
Name AgencyName: #REF!
Name åû: #REF!
Name davit: #REF!
Name Functional1: #REF!
Name ggg: #REF!
Name hav: #REF!
Name havelvac: #REF!
Name hhhh: #REF!
Name hhhh: #REF!
Name hunvar: #REF!,#REF!,#REF!,#REF!,#REF!,#REF!,#REF!,#REF!,#REF!,#REF!,#REF!,#REF!,#REF!,#REF!,#REF!
Name hunvar: #REF!,#REF!,#REF!,#REF!,#REF!,#REF!,#REF!,#REF!,#REF!,#REF!,#REF!,#REF!,#REF!,#REF!,#REF!
Name hunvar: #REF!,#REF!,#REF!,#REF!,#REF!,#REF!,#REF!,#REF!,#REF!,#REF!,#REF!,#REF!,#REF!,#REF!,#REF!
Name hunvar: #REF!,#REF!,#REF!,#REF!,#REF!,#REF!,#REF!,#REF!,#REF!,#REF!,#REF!,#REF!,#REF!,#REF!,#REF!
Name mas: #REF!

Sheet 1
B1: Հավելված № 1
B2: ՀՀ կառավարության 2026 թվականի
B3: __________ «____» -ի
B4: N_____ -Ն որոշման
A5: «ՀԱՅԱՍՏԱՆԻ ՀԱՆՐԱՊԵՏՈՒԹՅԱՆ 2026 ԹՎԱԿԱՆԻ ՊԵՏԱԿԱՆ ԲՅՈՒՋԵԻ ՄԱՍԻՆ» ՀԱՅԱՍՏԱՆԻ ՀԱՆՐԱՊԵՏՈՒԹՅԱՆ ՕՐԵՆՔԻ № 1 ՀԱՎԵԼՎԱԾԻ № 1 ԱՂՅՈՒՍԱԿՈՒՄ ԿԱՏԱՐՎՈՂ ՓՈՓՈԽՈՒԹՅՈՒՆՆԵՐԸ
C6: (հազար դրամներով)
A7: Ծրագրային դասիչը | B7: Ծրագրի անվանումը | C7: Ցուցանիշների փոփոխությունները (ավելացումը նշված է դրական նշանով, իսկ նվազեցումը` փակագծերում)
A8: ԸՆԴԱՄԵՆԸ | C8: =SUM(C9:C13) -> 0
A9: 1142 | B9: Դատաբժշկական և ախտաբանաանատոմիական ծառայություններ | C9: =+'2'!I11 -> 60000
A10: 1200 | B10: Մոր և մանկան առողջության պահպանում | C10: =+'2'!I13 -> 715000
A11: 1201 | B11: Շտապ բժշկական օգնություն | C11: =+'2'!I17 -> 250000
A12: 1202 | B12: Ոչ վարակիչ հիվանդությունների բժշկական օգնության ապահովում | C12: =+'2'!I19 -> 7145317.3
A13: 1006 | B13: Պետական պարտքի կառավարում | C13: =+'2'!I21 -> -8170317.3

Sheet 2
A1: Հավելված № 2
A2: ՀՀ կառավարության 2026 թվականի
A3: __________ «____» -ի
A4: N_____ -Ն որոշման
A5: «ՀԱՅԱՍՏԱՆԻ ՀԱՆՐԱՊԵՏՈՒԹՅԱՆ 2026 ԹՎԱԿԱՆԻ ՊԵՏԱԿԱՆ ԲՅՈՒՋԵԻ ՄԱՍԻՆ» ՀԱՅԱՍՏԱՆԻ ՀԱՆՐԱՊԵՏՈՒԹՅԱՆ ՕՐԵՆՔԻ № 1 ՀԱՎԵԼՎԱԾԻ № 2 ԱՂՅՈՒՍԱԿՈՒՄ ԿԱՏԱՐՎՈՂ ՎԵՐԱԲԱՇԽՈՒՄԸ ԵՎ ՀԱՅԱՍՏԱՆԻ ՀԱՆՐԱՊԵՏՈՒԹՅԱՆ ԿԱՌԱՎԱՐՈՒԹՅԱՆ 2025 ԹՎԱԿԱՆԻ ԴԵԿՏԵՄԲԵՐԻ 25-Ի № 1910-Ն ՈՐՈՇՄԱՆ № 5 ՀԱՎԵԼՎԱԾԻ № 1 ԱՂՅՈՒՍԱԿՈՒՄ ԿԱՏԱՐՎՈՂ ՓՈՓՈԽՈՒԹՅՈՒՆՆԵՐԸ
A6: (հազար դրամներով)
A7: ԲԳԿ | B7: Ծրագրային դասիչը | D7: ԲԳԿ/Ծրագրի /միջոցառման անվանումը | E7: Ծրագրի նպատակը/Միջոցառման նկարագրությունը | F7: Վերջնական արդյունքի նկարագրությունը/Միջոցառման տեսակը | G7: Ցուցանիշների փոփոխությունները (ավելացումները նշված են դրական նշանով, իսկ նվազեցումները` փակագծերում)
B8: Ծրագիր | C8: Միջոցառում | G8: Առաջին կիսամյակ | H8: Ինն ամիս | I8: Տարի
A9: ԸՆԴԱՄԵՆԸ | G9: =+G10+G21 -> 0 | H9: =+H10+H21 -> 0 | I9: =+I10+I21 -> 0
A10: ՀՀ առողջապահության նախարարություն | G10: =+G13+G17+G19+G11 -> 8170317.3 | H10: =+H13+H17+H19+H11 -> 8170317.3 | I10: =+I13+I17+I19+I11 -> 8170317.3
B11: 1142 | D11: Դատաբժշկական և ախտաբանաանատոմիական ծառայություններ | E11: Պաթանատոմիական կանխորոշումների հիման վրա ախտորոշման և բուժման արդյունավետության բարձրացում | F11: Մահերի պատճառների բացահայտում | G11: =+G12 -> 60000 | H11: =+H12 -> 60000 | I11: =+I12 -> 60000
C12: 1142 - 11001 | D12: Դատաբժշկական և ախտաբանաանատոմիական բժշկական օգնության ծառայություններ | E12: Հանրապետության ուժային մարմինների որոշումների հիման վրա դատաբժշկական և գենետիկ փորձաքննությունների ապահովում` մահերի պատճառների վերհանման փորձաքննություններ: Մանկական մահերի պատճառների բացահայտում` մանկամահացության մակարդակը նվազեցնելու նպատակով | F12: Ծառայությունների մատուցում | G12: 60000 | H12: 60000 | I12: 60000
B13: 1200 | D13: Մոր և մանկան առողջության պահպանում | E13: Մոր և մանկան առողջության պահպանում, կանանց և երեխաներին մատուցվող բժշկական ծառայությունների մատչելիության և որակի բարելավում | F13: Մանկական և մայրական մահացության և հիվանդացության կրճատում, կանանց վերարտադրողական առողջության բարելավում | G13: =+G14+G15+G16 -> 715000 | H13: =+H14+H15+H16 -> 715000 | I13: =+I14+I15+I16 -> 715000
C14: 1200 - 11001 | D14: Մանկաբարձական բժշկական օգնության ծառայություններ | E14: Մանկաբարձական բժշկական օգնության համալիր միջոցառումների իրականացում, հղիության ախտաբանական ընթացքի բժշկական օգնություն և ծննդօգնություն | F14: Ծառայությունների մատուցում | G14: 140000 | H14: 140000 | I14: 140000
C15: 1200 - 11003 | D15: Երեխաներին բժշկական օգնության ծառայություններ | E15: Երեխաների հիվանդանոցային, արտահիվանդանոցային վերականգնողական բուժօգնության իրականացում: Նորածինների հիվանդությունների վաղ հայտնաբերման սքրինգների իրականացման ծառայություններ | F15: Ծառայությունների մատուցում | G15: 320000 | H15: 320000 | I15: 320000
C16: 1200 - 11006 | D16: Անպտուղ զույգերի համար վերարտադրողական օժանդակ տեխնոլոգիաների կիրառմամբ բժշկական օգնության ծառայություններ | E16: Բնակչության առանձին և հատուկ խմբերում ընդգրկված անպտուղ զույգերին վերարտադրողական օժանդակ տեխնոլոգիաների կիրառմամբ բժշկական օգնության տրամադրում | F16: Ծառայությունների մատուցում | G16: 255000 | H16: 255000 | I16: 255000
B17: 1201 | D17: Շտապ բժշկական օգնություն | E17: Մարդու կյանքին և առողջությանը վտանգ սպառնացող վիճակներում որակյալ շտապ բժշկական օգնության ծառայությունների տրամադրում | F17: Շտապ օգնության համակարգի պատրաստվածության բարելավում, արձագանքման արագության, հասանելիության և բժշկական օգնության ծառայությունների որակի բարելավում | G17: =+G18 -> 250000 | H17: =+H18 -> 250000 | I17: =+I18 -> 250000
C18: 1201 - 11001 | D18: Շտապ բժշկական օգնության ծառայություններ | E18: Շտապ բժշկական օգնության իրականացում | F18: Ծառայությունների մատուցում | G18: 250000 | H18: 250000 | I18: 250000
B19: 1202 | D19: Ոչ վարակիչ հիվանդությունների բժշկական օգնության ապահովում | E19: Ոչ վարակիչ հիվանդությունների (մասնավորապես՛ սիրտանոթային, շաքարային դիաբետի և չարորակ նորագոյացությունների) բուժման արդյունավետության բարձրացում | F19: Ոչ վարակիչ հիվանդություններով պայմանավորված հիվանդացության և մահացության նվազեցում | G19: =SUM(G20:G20) -> 7145317.3 | H19: =SUM(H20:H20) -> 7145317.3 | I19: =SUM(I20:I20) -> 7145317.3
C20: 1202 - 11006 | D20: Առողջության համընդհանուր ապահովագրության ներդրմանն ուղղված լրացուցիչ միջոցառումներ | E20: Առողջության համընդհանուր ապահովագրության համակարգի ներդրում և Հիմնադրամի ընթացիկ գործունեության ապահովում | F20: Ծառայությունների մատուցում | G20: 7145317.3 | H20: 7145317.3 | I20: 7145317.3
A21: ՀՀ ֆինանսների նախարարություն | G21: =+G22 -> -8170317.3 | H21: =+H22 -> -8170317.3 | I21: =+I22 -> -8170317.3
B22: 1006 | D22: Պետական պարտքի կառավարում | E22: Կառավարության ֆինանսական կարիքների բավարարման մշտական հնարավորության ապահովումը` երկարաժամկետ հատվածում նվազեցնելով պարտքի սպասարկման մեծությունը | F22: Կառավարության պարտքի օպտիմալ կառուցվածքի ձևավորում՛ հաշվի առնելով պոտենցիալ ռիսկերը | G22: =+G23 -> -8170317.3 | H22: =+H23 -> -8170317.3 | I22: =+I23 -> -8170317.3
C23: 1006 - 13001 | D23: Կառավարության պարտքի սպասարկում | E23: Կառավարության պարտքի սպասարկում (տոկոսավճարներ) | F23: Ֆինանսավորման ծախսերի իրականացում | G23: =+-G10 -> -8170317.3 | H23: =+-H10 -> -8170317.3 | I23: =+-I10 -> -8170317.3
A24: ՀՀ կառավարություն | G24: =+G25 -> 0 | H24: =+H25 -> 0 | I24: =+I25 -> 0
B25: 1139 | D25: ՀՀ կառավարության պահուստային ֆոնդ | E25: Պետական բյուջեում չկանխատեսված, ինչպես նաեւ բյուջետային երաշխիքների ապահովման ծախսերի ֆինանսավորման ապահովում | F25: Պահուստային ֆոնդի կառավարման արդյունավետության և թափանցիկության ապահովում | G25: =+G26+G27 -> 0 | H25: =+H26+H27 -> 0 | I25: =+I26+I27 -> 0
C26: 1139 - 11001 | D26: ՀՀ կառավարության պահուստային ֆոնդ | E26: ՀՀ պետական բյուջեում նախատեսված ելքերի լրացուցիչ ֆինանսավորման, պետական բյուջեում չկանխատեսված ելքերի, ինչպես նաև բյուջետային երաշխիքների ապահովման ելքերի ֆինանսավորման ապահովում | F26: Ծառայությունների մատուցում | G26: =+G18+G16+G15+G14+G12 -> 1025000 | H26: =+H18+H16+H15+H14+H12 -> 1025000 | I26: =+I18+I16+I15+I14+I12 -> 1025000
C27: 1139 - 11001 | D27: ՀՀ կառավարության պահուստային ֆոնդ | E27: ՀՀ պետական բյուջեում նախատեսված ելքերի լրացուցիչ ֆինանսավորման, պետական բյուջեում չկանխատեսված ելքերի, ինչպես նաև բյուջետային երաշխիքների ապահովման ելքերի ֆինանսավորման ապահովում | F27: Ծառայությունների մատուցում | G27: =+-G26 -> -1025000 | H27: =+-H26 -> -1025000 | I27: =+-I26 -> -1025000

Sheet 3
A1: Հավելված № 3
A2: ՀՀ կառավարության 2026 թվականի
A3: __________ «____» -ի
A4: N_____ -Ն որոշման
A5: ՀԱՅԱՍՏԱՆԻ ՀԱՆՐԱՊԵՏՈՒԹՅԱՆ ԿԱՌԱՎԱՐՈՒԹՅԱՆ 2025 ԹՎԱԿԱՆԻ ԴԵԿՏԵՄԲԵՐԻ 25-Ի № 1910-Ն ՈՐՈՇՄԱՆ №№ 3 և 4 ՀԱՎԵԼՎԱԾՆԵՐՈՒՄ ԿԱՏԱՐՎՈՂ ՓՈՓՈԽՈՒԹՅՈՒՆՆԵՐԸ
A6: (հազար դրամներով)
A7: Գործառական դասիչը | D7: Ծրագրային դասիչը | F7: Բյուջետային հատկացումների գլխավոր կարգադրիչների, ծրագրերի, միջոցառումների և միջոցառումները կատարող պետական մարմինների անվանումները | G7: Ցուցանիշների փոփոխությունները (ավելացումները նշված են դրական նշանով, իսկ նվազեցումները` փակագծերում)
A8: բաժին | B8: խումբ | C8: դաս | D8: Ծրագիր | E8: Միջոցառում | G8: Առաջին կիսամյակ | H8: Ինն ամիս | I8: Տարի
A9: ԸՆԴԱՄԵՆԸ | G9: =+G10+G96 -> 0 | H9: =+H10+H96 -> 0 | I9: =+I10+I96 -> 0
A10: 07 | F10: ԱՌՈՂՋԱՊԱՀՈՒԹՅՈՒՆ | G10: =+G12+G29+G79 -> 8170317.3 | H10: =+H12+H29+H79 -> 8170317.3 | I10: =+I12+I29+I79 -> 8170317.3
F11: այդ թվում՝
B12: 02 | F12: Արտահիվանդանոցային ծառայություններ | G12: =+G14 -> 250000 | H12: =+H14 -> 250000 | I12: =+I14 -> 250000
F13: այդ թվում`
C14: 04 | F14: Պարաբժշկական ծառայություններ | G14: =+G16 -> 250000 | H14: =+H16 -> 250000 | I14: =+I16 -> 250000
F15: այդ թվում`
F16: ՀՀ առողջապահության նախարարություն | G16: =+G18 -> 250000 | H16: =+H18 -> 250000 | I16: =+I18 -> 250000
F17: այդ թվում`
D18: 1201 | F18: Շտապ բժշկական օգնություն | G18: =+G20 -> 250000 | H18: =+H20 -> 250000 | I18: =+I20 -> 250000
F19: այդ թվում`
E20: 11001 | F20: Շտապ բժշկական օգնության ծառայություններ | G20: =+G22 -> 250000 | H20: =+H22 -> 250000 | I20: =+I22 -> 250000
F21: այդ թվում` ըստ կատարողների
F22: ՀՀ առողջապահության նախարարություն | G22: =+G24 -> 250000 | H22: =+H24 -> 250000 | I22: =+I24 -> 250000
F23: այդ թվում` բյուջետային ծախսերի տնտեսագիտական դասակարգման հոդվածներ
F24: ԸՆԴԱՄԵՆԸ ԾԱԽՍԵՐ | G24: =+G25 -> 250000 | H24: =+H25 -> 250000 | I24: =+I25 -> 250000
F25: ԸՆԹԱՑԻԿ ԾԱԽՍԵՐ | G25: =+G26 -> 250000 | H25: =+H26 -> 250000 | I25: =+I26 -> 250000
F26: ՍՈՑԻԱԼԱԿԱՆ ՆՊԱՍՏՆԵՐ ԵՎ ԿԵՆՍԱԹՈՇԱԿՆԵՐ | G26: =+G27 -> 250000 | H26: =+H27 -> 250000 | I26: =+I27 -> 250000
F27: Սոցիալական օգնության դրամական արտահայտությամբ նպաստներ (բյուջեից) | G27: =+G28 -> 250000 | H27: =+H28 -> 250000 | I27: =+I28 -> 250000
F28: - Այլ նպաստներ բյուջեից | G28: =+'2'!G18 -> 250000 | H28: =+'2'!H18 -> 250000 | I28: =+'2'!I18 -> 250000
B29: 03 | F29: Հիվանդանոցային ծառայություններ | G29: =+G31+G46 -> 7860317.3 | H29: =+H31+H46 -> 7860317.3 | I29: =+I31+I46 -> 7860317.3
F30: այդ թվում`
C31: 01 | F31: Ընդհանուր բնույթի հիվանդանոցային ծառայություններ | G31: =+G33 -> 7145317.3 | H31: =+H33 -> 7145317.3 | I31: =+I33 -> 7145317.3
F32: այդ թվում`
F33: ՀՀ առողջապահության նախարարություն | G33: =+G35 -> 7145317.3 | H33: =+H35 -> 7145317.3 | I33: =+I35 -> 7145317.3
F34: այդ թվում`
D35: 1202 | F35: Ոչ վարակիչ հիվանդությունների բժշկական օգնության ապահովում | G35: =+G37 -> 7145317.3 | H35: =+H37 -> 7145317.3 | I35: =+I37 -> 7145317.3
F36: այդ թվում`
E37: 11006 | F37: Առողջության համընդհանուր ապահովագրության ներդրմանն ուղղված լրացուցիչ միջոցառումներ | G37: =+G39 -> 7145317.3 | H37: =+H39 -> 7145317.3 | I37: =+I39 -> 7145317.3
F38: այդ թվում` ըստ կատարողների
F39: ՀՀ առողջապահության նախարարություն | G39: =+G41 -> 7145317.3 | H39: =+H41 -> 7145317.3 | I39: =+I41 -> 7145317.3
F40: այդ թվում` բյուջետային ծախսերի տնտեսագիտական դասակարգման հոդվածներ
...

Sheet 4
B1: Հավելված № 4
B2: ՀՀ կառավարության 2026 թվականի
B3: __________ «____» -ի
B4: N_____ -Ն որոշման
B5: ՀԱՅԱՍՏԱՆԻ ՀԱՆՐԱՊԵՏՈՒԹՅԱՆ ԿԱՌԱՎԱՐՈՒԹՅԱՆ 2025 ԹՎԱԿԱՆԻ ԴԵԿՏԵՄԲԵՐԻ 25-Ի № 1910-Ն ՈՐՈՇՄԱՆ № 9 ՀԱՎԵԼՎԱԾՈՒՄ ԿԱՏԱՐՎՈՂ ՓՈՓՈԽՈՒԹՅՈՒՆՆԵՐԸ
A6: (հազար դրամներով)
A7: ԲԳԿ | B7: Ծրագիր | D7: Միջոցառում | H7: Իրականացնողը/ ակտիվն օգտագործողը/ շահառուի ընտրության չափորոշիչը | I7: Արդյունքային չափորոշիչը | J7: Ցուցանիշների փոփոխությունները (ավելացումները նշված են դրական նշանով, իսկ նվազեցումները` փակագծերում)
B8: Դասիչը | C8: Անվանումը | D8: Դասիչը | E8: Անվանումը | F8: Նկարագրությունը | G8: Տեսակը | J8: Առաջին կիսամյակ | K8: Ինն ամիս | L8: Տարի
A9: ԸՆԴԱՄԵՆԸ | J9: =+J10+J84 -> 0 | K9: =+K10+K84 -> 0 | L9: =+L10+L84 -> 0
A10: ՀՀ առողջապահության նախարարություն | J10: =+J16+J36+J41+J67+J11 -> 8170317.3 | K10: =+K16+K36+K41+K67+K11 -> 8170317.3 | L10: =+L16+L36+L41+L67+L11 -> 8170317.3
B11: 1142 | C11: Դատաբժշկական և ախտաբանաանատոմիական ծառայություններ | J11: =+J12 -> 60000 | K11: =+K12 -> 60000 | L11: =+L12 -> 60000
D12: 1142 - 11001 | E12: Դատաբժշկական և ախտաբանաանատոմիական բժշկական օգնության ծառայություններ | J12: =+'2'!G12 -> 60000 | K12: =+'2'!H12 -> 60000 | L12: =+'2'!I12 -> 60000
F13: Հանրապետության ուժային մարմինների որոշումների հիման վրա դատաբժշկական և գենետիկ փորձաքննությունների ապահովում` մահերի պատճառների վերհանման փորձաքննություններ: Մանկական մահերի պատճառների բացահայտում` մանկամահացության մակարդակը նվազեցնելու նպատակով
G14: Ծառայությունների մատուցում
H15: Ծառայությունը մատուցողի անվանումը` Մասնագիտացված կազմակերպություն (ներ)
B16: 1200 | C16: Մոր և մանկան առողջության պահպանում | J16: =+J17+J22+J29 -> 715000 | K16: =+K17+K22+K29 -> 715000 | L16: =+L17+L22+L29 -> 715000
D17: 1200 - 11001 | E17: Մանկաբարձական բժշկական օգնության ծառայություններ | J17: =+'2'!G14 -> 140000 | K17: =+'2'!H14 -> 140000 | L17: =+'2'!I14 -> 140000
F18: Մանկաբարձական բժշկական օգնության համալիր միջոցառումների իրականացում, հղիության ախտաբանական ընթացքի բժշկական օգնություն և ծննդօգնություն
G19: Ծառայությունների մատուցում
H20: Ծառայությունը մատուցողի անվանումը` ՀՀ գնումների մասին օրենսդրությանը համապատասխան ընտրված կազմակերպություններ
I21: Ծնունդների թիվ, հատ, որից | J21: 38 | L21: 38
D22: 1200 - 11003 | E22: Երեխաներին բժշկական օգնության ծառայություններ | J22: =+'2'!G15 -> 320000 | K22: =+'2'!H15 -> 320000 | L22: =+'2'!I15 -> 320000
F23: Երեխաների հիվանդանոցային, արտահիվանդանոցային վերականգնողական բուժօգնության իրականացում: Նորածինների հիվանդությունների վաղ հայտնաբերման սքրինգների իրականացման ծառայություններ
G24: Ծառայությունների մատուցում
H25: Ծառայությունը մատուցողի անվանումը` ՀՀ գնումների մասին օրենսդրությանը համապատասխան ընտրված կազմակերպություններ
I26: Երեխաների բժշկական օգնության գծով ծառայություններից օգտվելու դեպքերի թիվ, հատ | J26: -7640 | L26: -7640
I27: Մտավոր, հոգեկան (վարքագծային), լսողական, ֆիզիկական (շարժողական) և զարգացման այլ խանգարումներով երեխաների վերականգնողական բուժման գծով ծառայություններից օգտվելու դեպքերի թիվ, հատ | J27: 16900 | L27: 16900
I28: Նորածնային սքրինինգների իրականացում (բնածին հիպոթիրեոզի, ֆենիլկետոնուրիայի, լսողության, տեսողության և կոնքազդրային հոդի) սքրինինգների թիվ, հատ | J28: 41180 | L28: 41180
D29: 1200 - 11006 | E29: Անպտուղ զույգերի համար վերարտադրողական օժանդակ տեխնոլոգիաների կիրառմամբ բժշկական օգնության ծառայություններ | J29: =+'2'!G16 -> 255000 | K29: =+'2'!H16 -> 255000 | L29: =+'2'!I16 -> 255000
F30: Բնակչության առանձին և հատուկ խմբերում ընդգրկված անպտուղ զույգերին վերարտադրողական օժանդակ տեխնոլոգիաների կիրառմամբ բժշկական օգնության տրամադրում
G31: Ծառայությունների մատուցում
H32: Ծառայությունը մատուցողի անվանումը` ՀՀ գնումների մասին օրենսդրությանը համապատասխան ընտրված կազմակերպություններ
I33: Վերարտադրողական օժանդակ տեխնոլոգիաների կիրառմամբ բժշկական օգնության ծառայություններ ստացած զույգերի թիվ, հատ | J33: 1895 | L33: 1895
I34: Վերարտադրողական օժանդակ տեխնոլոգիաների կիրառմամբ hետազոտություններ քանակ (հատ) | J34: 29000 | L34: 29000
I35: Վերարտադրողական օժանդակ տեխնոլոգիաների կիրառմամբ բժշկական օգնության շրջանակներում արտամարմնային բեղմնավորմա փորձերի թիվ, հատ | J35: 440 | L35: 440
B36: 1201 | C36: Շտապ բժշկական օգնություն | J36: =+J37 -> 250000 | K36: =+K37 -> 250000 | L36: =+L37 -> 250000
D37: 1201 - 11001 | E37: Շտապ բժշկական օգնության ծառայություններ | J37: =+'2'!G18 -> 250000 | K37: =+'2'!H18 -> 250000 | L37: =+'2'!I18 -> 250000
F38: Շտապ բժշկական օգնության իրականացում
G39: Ծառայությունների մատուցում
H40: Ծառայությունը մատուցողի անվանումը` ՀՀ գնումների մասին օրենսդրությանը համապատասխան ընտրված կազմակերպություններ
...

Sheet 5
B1: Հավելված № 5
B2: ՀՀ կառավարության 2026 թվականի
B3: __________ «____» -ի
B4: N_____ -Ն որոշման
B5: ՀԱՅԱՍՏԱՆԻ ՀԱՆՐԱՊԵՏՈՒԹՅԱՆ ԿԱՌԱՎԱՐՈՒԹՅԱՆ 2025 ԹՎԱԿԱՆԻ ԴԵԿՏԵՄԲԵՐԻ 25-Ի № 1910-Ն ՈՐՈՇՄԱՆ № 9.1 ՀԱՎԵԼՎԱԾՈՒՄ ԿԱՏԱՐՎՈՂ ՓՈՓՈԽՈՒԹՅՈՒՆՆԵՐԸ
A6: (հազար դրամներով)
A7: ԲՍԿ | B7: Ծրագիր | D7: Միջոցառում | H7: Իրականացնողը/ ակտիվն օգտագործողը/ շահառուի ընտրության չափորոշիչը | I7: Արդյունքային չափորոշիչը | J7: Ցուցանիշների փոփոխությունները (ավելացումները նշված են դրական նշանով, իսկ նվազեցումները` փակագծերում)
B8: Դասիչը | C8: Անվանումը | D8: Դասիչը | E8: Անվանումը | F8: Նկարագրությունը | G8: Տեսակը | J8: Առաջին կիսամյակ | K8: Ինն ամիս | L8: Տարի
A9: ԸՆԴԱՄԵՆԸ | J9: =+J10+J84 -> 0 | K9: =+K10+K84 -> 0 | L9: =+L10+L84 -> 0
A10: ՀՀ առողջապահության նախարարություն | J10: =+J16+J36+J41+J67+J11 -> 8170317.3 | K10: =+K16+K36+K41+K67+K11 -> 8170317.3 | L10: =+L16+L36+L41+L67+L11 -> 8170317.3
B11: 1142 | C11: Դատաբժշկական և ախտաբանաանատոմիական ծառայություններ | J11: =+J12 -> 60000 | K11: =+K12 -> 60000 | L11: =+L12 -> 60000
D12: 1142 - 11001 | E12: Դատաբժշկական և ախտաբանաանատոմիական բժշկական օգնության ծառայություններ | J12: =+'2'!G12 -> 60000 | K12: =+'2'!H12 -> 60000 | L12: =+'2'!I12 -> 60000
F13: Հանրապետության ուժային մարմինների որոշումների հիման վրա դատաբժշկական և գենետիկ փորձաքննությունների ապահովում` մահերի պատճառների վերհանման փորձաքննություններ: Մանկական մահերի պատճառների բացահայտում` մանկամահացության մակարդակը նվազեցնելու նպատակով
G14: Ծառայությունների մատուցում
H15: Ծառայությունը մատուցողի անվանումը` Մասնագիտացված կազմակերպություն (ներ)
B16: 1200 | C16: Մոր և մանկան առողջության պահպանում | J16: =+J17+J22+J29 -> 715000 | K16: =+K17+K22+K29 -> 715000 | L16: =+L17+L22+L29 -> 715000
D17: 1200 - 11001 | E17: Մանկաբարձական բժշկական օգնության ծառայություններ | J17: =+'2'!G14 -> 140000 | K17: =+'2'!H14 -> 140000 | L17: =+'2'!I14 -> 140000
F18: Մանկաբարձական բժշկական օգնության համալիր միջոցառումների իրականացում, հղիության ախտաբանական ընթացքի բժշկական օգնություն և ծննդօգնություն
G19: Ծառայությունների մատուցում
H20: Ծառայությունը մատուցողի անվանումը` ՀՀ գնումների մասին օրենսդրությանը համապատասխան ընտրված կազմակերպություններ
I21: Ծնունդների թիվ, հատ, որից | J21: 38 | L21: 38
D22: 1200 - 11003 | E22: Երեխաներին բժշկական օգնության ծառայություններ | J22: =+'2'!G15 -> 320000 | K22: =+'2'!H15 -> 320000 | L22: =+'2'!I15 -> 320000
F23: Երեխաների հիվանդանոցային, արտահիվանդանոցային վերականգնողական բուժօգնության իրականացում: Նորածինների հիվանդությունների վաղ հայտնաբերման սքրինգների իրականացման ծառայություններ
G24: Ծառայությունների մատուցում
H25: Ծառայությունը մատուցողի անվանումը` ՀՀ գնումների մասին օրենսդրությանը համապատասխան ընտրված կազմակերպություններ
I26: Երեխաների բժշկական օգնության գծով ծառայություններից օգտվելու դեպքերի թիվ, հատ | J26: -7640 | L26: -7640
I27: Մտավոր, հոգեկան (վարքագծային), լսողական, ֆիզիկական (շարժողական) և զարգացման այլ խանգարումներով երեխաների վերականգնողական բուժման գծով ծառայություններից օգտվելու դեպքերի թիվ, հատ | J27: 16900 | L27: 16900
I28: Նորածնային սքրինինգների իրականացում (բնածին հիպոթիրեոզի, ֆենիլկետոնուրիայի, լսողության, տեսողության և կոնքազդրային հոդի) սքրինինգների թիվ, հատ | J28: 41180 | L28: 41180
D29: 1200 - 11006 | E29: Անպտուղ զույգերի համար վերարտադրողական օժանդակ տեխնոլոգիաների կիրառմամբ բժշկական օգնության ծառայություններ | J29: =+'2'!G16 -> 255000 | K29: =+'2'!H16 -> 255000 | L29: =+'2'!I16 -> 255000
F30: Բնակչության առանձին և հատուկ խմբերում ընդգրկված անպտուղ զույգերին վերարտադրողական օժանդակ տեխնոլոգիաների կիրառմամբ բժշկական օգնության տրամադրում
G31: Ծառայությունների մատուցում
H32: Ծառայությունը մատուցողի անվանումը` ՀՀ գնումների մասին օրենսդրությանը համապատասխան ընտրված կազմակերպություններ
I33: Վերարտադրողական օժանդակ տեխնոլոգիաների կիրառմամբ բժշկական օգնության ծառայություններ ստացած զույգերի թիվ, հատ | J33: 1895 | L33: 645
I34: Վերարտադրողական օժանդակ տեխնոլոգիաների կիրառմամբ hետազոտություններ քանակ (հատ) | J34: 29000 | L34: 13461
I35: Վերարտադրողական օժանդակ տեխնոլոգիաների կիրառմամբ բժշկական օգնության շրջանակներում արտամարմնային բեղմնավորմա փորձերի թիվ, հատ | J35: 440 | L35: 440
B36: 1201 | C36: Շտապ բժշկական օգնություն | J36: =+J37 -> 250000 | K36: =+K37 -> 250000 | L36: =+L37 -> 250000
D37: 1201 - 11001 | E37: Շտապ բժշկական օգնության ծառայություններ | J37: =+'2'!G18 -> 250000 | K37: =+'2'!H18 -> 250000 | L37: =+'2'!I18 -> 250000
F38: Շտապ բժշկական օգնության իրականացում
G39: Ծառայությունների մատուցում
H40: Ծառայությունը մատուցողի անվանումը` ՀՀ գնումների մասին օրենսդրությանը համապատասխան ընտրված կազմակերպություններ
...

Sheet 6
A1: Հավելված № 6
A2: ՀՀ կառավարության 2026 թվականի
A3: __________ «____» -ի
A4: N_____ -Ն որոշման
A5: ՀԱՅԱՍՏԱՆԻ ՀԱՆՐԱՊԵՏՈՒԹՅԱՆ 2026 ԹՎԱԿԱՆԻ ՊԵՏԱԿԱՆ ԲՅՈՒՋԵՈՎ ՆԱԽԱՏԵՍՎԱԾ՝ ՀԱՅԱՍՏԱՆԻ ՀԱՆՐԱՊԵՏՈՒԹՅԱՆ ԿԱՌԱՎԱՐՈՒԹՅԱՆ ՊԱՀՈՒՍՏԱՅԻՆ ՖՈՆԴԻՑ ՀԱՏԿԱՑՈՒՄՆԵՐ ԿԱՏԱՐԵԼՈՒ ՎԵՐԱԲԵՐՅԱԼ
A6: (հազար դրամներով)
A7: Գործառական դասիչը | D7: Ծրագրային դասիչը | F7: Բյուջետային հատկացումների գլխավոր կարգադրիչների, ծրագրերի, միջոցառումների և միջոցառումները կատարող պետական մարմինների անվանումները | G7: Ցուցանիշների փոփոխությունները (ավելացումները նշված են դրական նշանով, իսկ նվազեցումները` փակագծերում)
A8: բաժին | B8: խումբ | C8: դաս | D8: Ծրագիր | E8: Միջոցառում | G8: Առաջին կիսամյակ | H8: Ինն ամիս | I8: Տարի
A9: ԸՆԴԱՄԵՆԸ | G9: =+G10+G81 -> 0 | H9: =+H10+H81 -> 0 | I9: =+I10+I81 -> 0
A10: 07 | F10: ԱՌՈՂՋԱՊԱՀՈՒԹՅՈՒՆ | G10: =+G12+G29+G64 -> 1025000 | H10: =+H12+H29+H64 -> 1025000 | I10: =+I12+I29+I64 -> 1025000
F11: այդ թվում՝
B12: 02 | F12: Արտահիվանդանոցային ծառայություններ | G12: =+G14 -> 250000 | H12: =+H14 -> 250000 | I12: =+I14 -> 250000
F13: այդ թվում`
C14: 04 | F14: Պարաբժշկական ծառայություններ | G14: =+G16 -> 250000 | H14: =+H16 -> 250000 | I14: =+I16 -> 250000
F15: այդ թվում`
F16: ՀՀ առողջապահության նախարարություն | G16: =+G18 -> 250000 | H16: =+H18 -> 250000 | I16: =+I18 -> 250000
F17: այդ թվում`
D18: 1201 | F18: Շտապ բժշկական օգնություն | G18: =+G20 -> 250000 | H18: =+H20 -> 250000 | I18: =+I20 -> 250000
F19: այդ թվում`
E20: 11001 | F20: Շտապ բժշկական օգնության ծառայություններ | G20: =+G22 -> 250000 | H20: =+H22 -> 250000 | I20: =+I22 -> 250000
F21: այդ թվում` ըստ կատարողների
F22: ՀՀ առողջապահության նախարարություն | G22: =+G24 -> 250000 | H22: =+H24 -> 250000 | I22: =+I24 -> 250000
F23: այդ թվում` բյուջետային ծախսերի տնտեսագիտական դասակարգման հոդվածներ
F24: ԸՆԴԱՄԵՆԸ ԾԱԽՍԵՐ | G24: =+G25 -> 250000 | H24: =+H25 -> 250000 | I24: =+I25 -> 250000
F25: ԸՆԹԱՑԻԿ ԾԱԽՍԵՐ | G25: =+G26 -> 250000 | H25: =+H26 -> 250000 | I25: =+I26 -> 250000
F26: ՍՈՑԻԱԼԱԿԱՆ ՆՊԱՍՏՆԵՐ ԵՎ ԿԵՆՍԱԹՈՇԱԿՆԵՐ | G26: =+G27 -> 250000 | H26: =+H27 -> 250000 | I26: =+I27 -> 250000
F27: Սոցիալական օգնության դրամական արտահայտությամբ նպաստներ (բյուջեից) | G27: =+G28 -> 250000 | H27: =+H28 -> 250000 | I27: =+I28 -> 250000
F28: - Այլ նպաստներ բյուջեից | G28: =+'[1]2'!G20 -> 250000 | H28: =+'[1]2'!H20 -> 250000 | I28: =+'[1]2'!I20 -> 250000
B29: 03 | F29: Հիվանդանոցային ծառայություններ | G29: =+G31 -> 715000 | H29: =+H31 -> 715000 | I29: =+I31 -> 715000
F30: այդ թվում`
C31: 03 | F31: Մոր և մանկան բժշկական ծառայություններ | G31: =+G35 -> 715000 | H31: =+H35 -> 715000 | I31: =+I35 -> 715000
F32: այդ թվում`
F33: ՀՀ առողջապահության նախարարություն | G33: =+G35 -> 715000 | H33: =+H35 -> 715000 | I33: =+I35 -> 715000
F34: այդ թվում`
D35: 1200 | F35: Մոր և մանկան առողջության պահպանում | G35: =+G37+G46+G55 -> 715000 | H35: =+H37+H46+H55 -> 715000 | I35: =+I37+I46+I55 -> 715000
F36: այդ թվում`
E37: 11001 | F37: Մանկաբարձական բժշկական օգնության ծառայություններ | G37: =+G39 -> 140000 | H37: =+H39 -> 140000 | I37: =+I39 -> 140000
F38: այդ թվում` ըստ կատարողների
F39: ՀՀ առողջապահության նախարարություն | G39: =+G41 -> 140000 | H39: =+H41 -> 140000 | I39: =+I41 -> 140000
F40: այդ թվում` բյուջետային ծախսերի տնտեսագիտական դասակարգման հոդվածներ
...
