Workbook
Name _1__հայտարարվել_է_նախ_մրցույթ: #REF!
Name _tab10: #REF!
Name _tab10: #REF!
Name _tab11: #REF!
Name _tab11: #REF!
Name _tab12: #REF!
Name _tab12: #REF!
Name _tab13: #REF!
Name _tab13: #REF!
Name _tab14: #REF!
Name _tab14: #REF!
Name _tab15: #REF!
Name _tab15: #REF!
Name _tab16: #REF!
Name _tab16: #REF!
Name _tab17: #REF!
Name _tab17: #REF!
Name _tab18: #REF!
Name _tab18: #REF!
Name _tab19: #REF!
Name _tab19: #REF!
Name _tab20: #REF!
Name _tab20: #REF!
Name _tab21: #REF!
Name _tab21: #REF!
Name _tab22: #REF!
Name _tab22: #REF!
Name _tab22222: #REF!
Name _tab22222: #REF!
Name _tab23: #REF!
Name _tab23: #REF!
Name _tab24: #REF!
Name _tab24: #REF!
Name _tab5: #REF!
Name _tab5: #REF!
Name _tab6: #REF!
Name _tab6: #REF!
Name _tab7: #REF!
Name _tab7: #REF!
Name _tab8: #REF!
Name _tab8: #REF!
Name _tab9: #REF!
Name _tab9: #REF!
Name aaaaaaaaaaaa: #REF!
Name aaaaaaaaaaaa: #REF!
Name AgencyCode: #REF!
Name AgencyName: #REF!
Name åû: #REF!
Name davit: #REF!
Name Functional1: #REF!
Name ggg: #REF!
Name hav: #REF!
Name hhhh: #REF!
Name hhhh: #REF!
Name hunvar: #REF!,#REF!,#REF!,#REF!,#REF!,#REF!,#REF!,#REF!,#REF!,#REF!,#REF!,#REF!,#REF!,#REF!,#REF!
Name hunvar: #REF!,#REF!,#REF!,#REF!,#REF!,#REF!,#REF!,#REF!,#REF!,#REF!,#REF!,#REF!,#REF!,#REF!,#REF!
Name hunvar: #REF!,#REF!,#REF!,#REF!,#REF!,#REF!,#REF!,#REF!,#REF!,#REF!,#REF!,#REF!,#REF!,#REF!,#REF!
Name hunvar: #REF!,#REF!,#REF!,#REF!,#REF!,#REF!,#REF!,#REF!,#REF!,#REF!,#REF!,#REF!,#REF!,#REF!,#REF!
Name mas: #REF!
Name mass: #REF!

Sheet 1
A1: Հավելված № 1
A2: ՀՀ կառավարության 2026 թվականի
A3: __________ «____» -ի
A4: N_____ -Ն որոշման
A5: «ՀԱՅԱՍՏԱՆԻ ՀԱՆՐԱՊԵՏՈՒԹՅԱՆ 2026 ԹՎԱԿԱՆԻ ՊԵՏԱԿԱՆ ԲՅՈՒՋԵԻ ՄԱՍԻՆ» ՀԱՅԱՍՏԱՆԻ ՀԱՆՐԱՊԵՏՈՒԹՅԱՆ ՕՐԵՆՔԻ 2-ՐԴ ՀՈԴՎԱԾԻ ԱՂՅՈՒՍԱԿՈՒՄ ԿԱՏԱՐՎՈՂ ՓՈՓՈԽՈՒԹՅՈՒՆՆԵՐԸ
A6: (հազար դրամներով)
B7: Ցուցանիշների փոփոխությունները ավելացումները նշված են դրական նշանով
A8: Եկամուտների գծով | B8: 0
A9: Ծախսերի գծով | B9: =+B10 -> 1230075.9
A10: Դեֆիցիտը (պակասուրդը) | B10: =+'2'!D9 -> 1230075.9

Sheet 2
A1: Հավելված № 2
A2: ՀՀ կառավարության 2026 թվականի
A3: __________ «____» -ի
A4: N_____ -Ն որոշման
A5: «ՀԱՅԱՍՏԱՆԻ ՀԱՆՐԱՊԵՏՈՒԹՅԱՆ 2026 ԹՎԱԿԱՆԻ ՊԵՏԱԿԱՆ ԲՅՈՒՋԵԻ ՄԱՍԻՆ» ՀԱՅԱՍՏԱՆԻ ՀԱՆՐԱՊԵՏՈՒԹՅԱՆ ՕՐԵՆՔԻ 3-ՐԴ ՀՈԴՎԱԾԻ ԱՂՅՈՒՍԱԿՈՒՄ, N 3 ՀԱՎԵԼՎԱԾԻ N 1 ԱՂՅՈՒՍԱԿՈՒՄ ԵՎ ՀԱՅԱՍՏԱՆԻ ՀԱՆՐԱՊԵՏՈՒԹՅԱՆ ԿԱՌԱՎԱՐՈՒԹՅԱՆ 2025 ԹՎԱԿԱՆԻ ԴԵԿՏԵՄԲԵՐԻ 25-Ի N 1910-Ն ՈՐՈՇՄԱՆ N 1 ՀԱՎԵԼՎԱԾԻ N 1 ԱՂՅՈՒՍԱԿՈՒՄ ԿԱՏԱՐՎՈՂ ՓՈՓՈԽՈՒԹՅՈՒՆՆԵՐԸ
A6: (հազար դրամներով)
A7: Պետական բյուջեի դեֆիցիտի ֆինանսավորման աղբյուրներն ու դրանց տարրերի անվանումները | B7: Ցուցանիշների փոփոխությունները ավելացումները նշված են դրական նշանով
B8: Առաջին կիսամյակ | C8: Ինն ամիս | D8: Տարի
A9: ԸՆԴԱՄԵՆԸ | B9: =+B11 -> 0 | C9: =+C11 -> 712383.4 | D9: =+D11 -> 1230075.9
A10: այդ թվում՝
A11: Ա.Ներքին աղբյուրներ-ընդամենը | B11: =+B13 -> 0 | C11: =+C13 -> 712383.4 | D11: =+D13 -> 1230075.9
A12: այդ թվում՝
A13: 2. Ֆինանսական զուտ ակտիվներ | B13: =+B15 -> 0 | C13: =+C15 -> 712383.4 | D13: =+D15 -> 1230075.9
A14: այդ թվում՝
A15: 2.3. Ելքերի ֆինանսավորմանն ուղղվող պետական բյուջեի տարեսկզբի ազատ մնացորդի միջոցներ | B15: 0 | C15: 712383.4 | D15: 1230075.9

Sheet 3
A1: Հավելված № 3
A2: ՀՀ կառավարության 2026 թվականի
A3: __________ «____» -ի
A4: N_____ -Ն որոշման
A5: «ՀԱՅԱՍՏԱՆԻ ՀԱՆՐԱՊԵՏՈՒԹՅԱՆ 2026 ԹՎԱԿԱՆԻ ՊԵՏԱԿԱՆ ԲՅՈՒՋԵԻ ՄԱՍԻՆ» ՀԱՅԱՍՏԱՆԻ ՀԱՆՐԱՊԵՏՈՒԹՅԱՆ ՕՐԵՆՔԻ № 1 ՀԱՎԵԼՎԱԾԻ № 2 ԱՂՅՈՒՍԱԿՈՒՄ ԿԱՏԱՐՎՈՂ ՎԵՐԱԲԱՇԽՈՒՄԸ ԵՎ ՀԱՅԱՍՏԱՆԻ ՀԱՆՐԱՊԵՏՈՒԹՅԱՆ ԿԱՌԱՎԱՐՈՒԹՅԱՆ 2025 ԹՎԱԿԱՆԻ ԴԵԿՏԵՄԲԵՐԻ 25-Ի № 1910-Ն ՈՐՈՇՄԱՆ № 5 ՀԱՎԵԼՎԱԾԻ № 1 ԱՂՅՈՒՍԱԿՈՒՄ ԿԱՏԱՐՎՈՂ ՓՈՓՈԽՈՒԹՅՈՒՆՆԵՐԸ
A6: (հազար դրամներով)
A7: ԲԳԿ | B7: Ծրագրային դասիչը | D7: ԲԳԿ/Ծրագրի /միջոցառման անվանումը | E7: Ծրագրի նպատակը/Միջոցառման նկարագրությունը | F7: Վերջնական արդյունքի նկարագրությունը/Միջոցառման տեսակը | G7: Ցուցանիշների փոփոխությունները (ավելացումները նշված են դրական նշանով)
B8: Ծրագիր | C8: Միջոցառում | G8: Առաջին կիսամյակ | H8: Ինն ամիս | I8: Տարի
A9: ԸՆԴԱՄԵՆԸ | G9: =+G10 -> 0 | H9: =+H10 -> 712383.4 | I9: =+I10 -> 1230075.9
A10: ՀՀ առողջապահության նախարարություն | G10: =+G11 -> 0 | H10: =+H11 -> 712383.4 | I10: =+I11 -> 1230075.9
B11: 1126 | D11: Առողջապահության ոլորտում պետական քաղաքականության մշակում, ծրագրերի համակարգում և մոնիտորինգ | E11: Մարդու և հանրության առողջության պահպանում, բնակչության առողջության բարելավում, հիվանդությունների կանխարգելում, հաշմանդամության և մահացության ցուցանիշների նվազեցում | F11: Առողջապահության ոլորտում իրականացվող ծրագրերի ազդեցության և արդյունավետության բարելավում | G11: =SUM(G12:G14) -> 0 | H11: =SUM(H12:H14) -> 712383.4 | I11: =SUM(I12:I14) -> 1230075.9
C12: 1126 - 12006 | D12: Առողջապահական համակարգի պետական առևտրային և ոչ առևտրային կազմակերպություններին ֆինանսական աջակցության հատկացում | E12: Առողջապահական համակարգի պետական առևտրային և ոչ առևտրային կազմակերպություններին ֆինանսական աջակցության տրամադրում ընթացիկ գործունեության արդյունավետության բարձրացմանն ուղղված | F12: Տրանսֆերտի տրամադրում | G12: =+'5'!G20 -> 0 | H12: =+'5'!H20 -> 33809.8 | I12: =+'5'!I20 -> 113037.9
C13: 1126 - 31002 | D13: Առողջապահական կազմակերպությունների վերազինում | E13: Բնակչությանը որակյալ բժշկական օգնության և սպասարկման ծառայություններ մատուցելու նպատակով՛ առողջապահական կազմակերպությունների անհրաժեշտ սարքավորումներով վերազինում | F13: Պետական մարմինների կողմից օգտագործվող ոչ ֆինանսական ակտիվների հետ գործառնություններ | G13: =+'6'!D11 -> 0 | H13: =+'6'!E11 -> 29940 | I13: =+'6'!F11 -> 29940
C14: 1126 - 31003 | D14: Առողջապահական կազմակերպությունների կառուցում, վերակառուցում | E14: Բնակչությանը որակյալ բժշկական օգնության և սպասարկման ծառայություններ մատուցելու նպատակով առողջապահական կազմակերպությունների կառուցում, վերակառուցում | F14: Պետական մարմինների կողմից օգտագործվող ոչ ֆինանսական ակտիվների հետ գործառնություններ | G14: =+'6'!D43+'6'!D36 -> 0 | H14: =+'6'!E23 -> 648633.6 | I14: =+'6'!F23 -> 1087098

Sheet 4
A1: Հավելված № 4
A2: ՀՀ կառավարության 2026 թվականի
A3: __________ «____» -ի
A4: N_____ -Ն որոշման
A5: «ՀԱՅԱՍՏԱՆԻ ՀԱՆՐԱՊԵՏՈՒԹՅԱՆ 2026 ԹՎԱԿԱՆԻ ՊԵՏԱԿԱՆ ԲՅՈՒՋԵԻ ՄԱՍԻՆ» ՀԱՅԱՍՏԱՆԻ ՀԱՆՐԱՊԵՏՈՒԹՅԱՆ ՕՐԵՆՔԻ № 1 ՀԱՎԵԼՎԱԾԻ № 3 ԱՂՅՈՒՍԱԿՈՒՄ ԿԱՏԱՐՎՈՂ ՓՈՓՈԽՈՒԹՅՈՒՆՆԵՐԸ
A6: (հազար դրամներով)
A7: Ծրագրային դասիչ | C7: Բյուջետային գլխավոր կարգադրիչների, ծրագրերի, միջոցառումների և ուղղությունների անվանումները | D7: Ցուցանիշների փոփոխությունները (ավելացումները նշված են դրական նշանով)
D8: Ընդամենը | E8: այդ թվում`
A9: Ծրագիր | B9: Միջոց առում | E9: Կառուցման աշխատանքներ | F9: Վերակառուցման, վերանորոգման և վերականգնման աշխատանքներ | G9: Նախագծահե- տազոտական, գեոդեզիա- քարտեզագրական աշխատանքներ | H9: Ոչ ֆինանսական այլ ակտիվների ձեռքբերում
C10: ԸՆԴԱՄԵՆԸ | D10: =+D11 -> 1117038 | E10: =+E11 -> 1020920.9 | F10: =+F11 -> 58367.1 | G10: =+G11 -> 7810 | H10: =+H11 -> 29940
C11: ՀՀ առողջապահության նախարարություն | D11: =+D13+D23 -> 1117038 | E11: =+E13+E23 -> 1020920.9 | F11: =+F13+F23 -> 58367.1 | G11: =+G13+G23 -> 7810 | H11: =+H13+H23 -> 29940
C12: այդ թվում՛
A13: 1126 | B13: 31002 | C13: Առողջապահական կազմակերպությունների վերազինում | D13: =+D15+D17+D21+D19 -> 29940 | E13: =+E15+E17+E21+E19 -> 0 | F13: =+F15+F17+F21+F19 -> 0 | G13: =+G15+G17+G21+G19 -> 0 | H13: =+H15+H17+H21+H19 -> 29940
C14: այդ թվում`
C15: Երևան քաղաք | D15: =+D16 -> 29940 | E15: =+E16 -> 0 | F15: =+F16 -> 0 | G15: =+G16 -> 0 | H15: =+H16 -> 29940
C16: Առողջապահական կազմակերպությունների համար բժշկական գույքի և սարքավորումների ձեռքբերում | D16: =+E16+F16+G16+H16 -> 29940 | E16: 0 | F16: 0 | G16: 0 | H16: =+'6'!F16 -> 29940
C17: ՀՀ Արարատի մարզ | D17: =+D18 -> 160638.2 | E17: =+E18 -> 0 | F17: =+F18 -> 0 | G17: =+G18 -> 0 | H17: =+H18 -> 160638.2
C18: ՀՀ ԱՆ «Արտաշատի բժշկական կենտրոն» ՓԲԸ | D18: =+E18+F18+G18+H18 -> 160638.2 | E18: 0 | F18: 0 | G18: 0 | H18: =+'6'!F18 -> 160638.2
C19: ՀՀ Արմավիրի մարզ | D19: =+D20 -> -20000 | E19: =+E20 -> 0 | F19: =+F20 -> 0 | G19: =+G20 -> 0 | H19: =+H20 -> -20000
C20: ՀՀ ԱՆ «ՀՎԿԱԿ» ՊՈԱԿ Արմավիրի մարզի մասնաճյուղ | D20: =SUM(E20:H20) -> -20000 | E20: 0 | F20: 0 | G20: 0 | H20: =+'6'!F20 -> -20000
C21: Մարզային ամբուլատորիաներ | D21: =+D22 -> -140638.2 | E21: =+E22 -> 0 | F21: =+F22 -> 0 | G21: =+G22 -> 0 | H21: =+H22 -> -140638.2
C22: 29 բժշկական ամբուլատորիաների վերազինում | D22: =+E22+F22+G22+H22 -> -140638.2 | E22: 0 | F22: 0 | G22: 0 | H22: =+'6'!F22 -> -140638.2
A23: 1126 | B23: 31003 | C23: Առողջապահական կազմակերպությունների կառուցում, վերակառուցում | D23: =+D25+D28+D34+D41+D43+D45+D47+D50+D54 -> 1087098 | E23: =+E25+E28+E34+E41+E43+E45+E47+E50+E54 -> 1020920.9 | F23: =+F25+F28+F34+F41+F43+F45+F47+F50+F54 -> 58367.1 | G23: =+G25+G28+G34+G41+G43+G45+G47+G50+G54 -> 7810 | H23: =+H25+H28+H34+H41+H43+H45+H47+H50+H54 -> 0
C24: այդ թվում`
C25: ՀՀ Արագածոտնի մարզ | D25: =+D26+D27 -> 84941 | E25: =+E26+E27 -> 84941 | F25: =+F26+F27 -> 0 | G25: =+G26+G27 -> 0 | H25: =+H26+H27 -> 0
C26: ՀՀ Արագածոտնի մարզ «Ոսկևազի ԱԱՊԿ» ՀՈԱԿ | D26: =+E26+F26+G26+H26 -> 10724.3 | E26: =+'6'!F28 -> 10724.3 | F26: 0 | G26: 0 | H26: 0
C27: ՀՀ Արագածոտնի մարզի «Մաստարայի ԲԱ» ՀՈԱԿ | D27: =+E27+F27+G27+H27 -> 74216.7 | E27: =+'6'!F29 -> 74216.7 | F27: 0 | G27: 0 | H27: 0
C28: ՀՀ Արարատի մարզ | D28: =SUM(D29:D33) -> 308602.2 | E28: =SUM(E29:E33) -> 250235.1 | F28: =SUM(F29:F33) -> 58367.1 | G28: =SUM(G29:G33) -> 0 | H28: =SUM(H29:H33) -> 0
C29: ՀՀ Արարատի մարզ «Դիմիտրովի ԱԱՊԿ» ՊՈԱԿ | D29: =+E29+F29+G29+H29 -> 67968 | E29: =+'6'!F31 -> 67968 | F29: 0 | G29: 0 | H29: 0
C30: ՀՀ Արարատի մարզի «Այգեստանի ԱԱՊԿ» ՊՈԱԿ | D30: =+E30+F30+G30+H30 -> 13264.9 | E30: =+'6'!F32 -> 13264.9 | F30: 0 | G30: 0 | H30: 0
C31: ՀՀ Արարատի մարզի «Այգավանի ԱԱՊԿ» ՊՈԱԿ | D31: =+E31+F31+G31+H31 -> 85256.8 | E31: =+'6'!F33 -> 85256.8 | F31: 0 | G31: 0 | H31: 0
C32: ՀՀ Արարատի մարզի «Նոր կյանքի ԱԱՊԿ» ՊՈԱԿ | D32: =+E32+F32+G32+H32 -> 83745.4 | E32: =+'6'!F34 -> 83745.4 | F32: 0 | G32: 0 | H32: 0
C33: ՀՀ ԱՆ «Արտաշատի բժշկական կենտրոն» ՓԲԸ | D33: =+E33+F33+G33+H33 -> 58367.1 | E33: 0 | F33: =+'6'!F60 -> 58367.1 | G33: 0 | H33: 0
C34: ՀՀ Արմավիրի մարզ | D34: =+D36+D37+D38+D39+D40+D35 -> 296396.3 | E34: =+E36+E37+E38+E39+E40+E35 -> 289006.3 | F34: =+F36+F37+F38+F39+F40+F35 -> 0 | G34: =+G36+G37+G38+G39+G40+G35 -> 7390 | H34: =+H36+H37+H38+H39+H40+H35 -> 0
C35: ՀՀ ԱՆ «Էջմիածնի բժշկական կենտրոն» ՓԲԸ | D35: =+E35+F35+G35+H35 -> 7390 | E35: 0 | F35: 0 | G35: =+'6'!F36 -> 7390 | H35: 0
C36: ՀՀ Արմավիրի մարզի «Գայի ԲԱ» ՀՈԱԿ | D36: =+E36+F36+G36+H36 -> 120093.3 | E36: =+'6'!F37 -> 120093.3 | F36: 0 | G36: 0 | H36: 0
C37: ՀՀ Արմավիրի մարզի «Ջրառատի ԲԱ» ՀՈԱԿ | D37: =+E37+F37+G37+H37 -> 55528.8 | E37: =+'6'!F38 -> 55528.8 | F37: 0 | G37: 0 | H37: 0
C38: ՀՀ Արմավիրի մարզի «Վարդանաշենի ԲԱ» ՀՈԱԿ | D38: =+E38+F38+G38+H38 -> 29471.5 | E38: =+'6'!F39 -> 29471.5 | F38: 0 | G38: 0 | H38: 0
C39: ՀՀ Արմավիրի մարզի «Տանձուտի ԲԱ» ՀՈԱԿ | D39: =+E39+F39+G39+H39 -> 42915.3 | E39: =+'6'!F40 -> 42915.3 | F39: 0 | G39: 0 | H39: 0
C40: ՀՀ Արմավիրի մարզի «Խանջյանի ԲԱ» ՀՈԱԿ | D40: =+E40+F40+G40+H40 -> 40997.4 | E40: =+'6'!F41 -> 40997.4 | F40: 0 | G40: 0 | H40: 0
...

Sheet 5
A1: Հավելված № 5
A2: ՀՀ կառավարության 2026 թվականի
A3: __________ «____» -ի
A4: N_____ -Ն որոշման
A5: ՀԱՅԱՍՏԱՆԻ ՀԱՆՐԱՊԵՏՈՒԹՅԱՆ ԿԱՌԱՎԱՐՈՒԹՅԱՆ 2025 ԹՎԱԿԱՆԻ ԴԵԿՏԵՄԲԵՐԻ 25-Ի № 1910-Ն ՈՐՈՇՄԱՆ №№ 3 և 4 ՀԱՎԵԼՎԱԾՆԵՐՈՒՄ ԿԱՏԱՐՎՈՂ ՓՈՓՈԽՈՒԹՅՈՒՆՆԵՐԸ
A6: (հազար դրամներով)
A7: Գործառական դասիչը | D7: Ծրագրային դասիչը | F7: Բյուջետային հատկացումների գլխավոր կարգադրիչների, ծրագրերի, միջոցառումների և միջոցառումները կատարող պետական մարմինների անվանումները | G7: Ցուցանիշների փոփոխությունները (ավելացումները նշված են դրական նշանով)
A8: բաժին | B8: խումբ | C8: դաս | D8: Ծրագիր | E8: Միջոցառում | G8: Առաջին կիսամյակ | H8: Ինն ամիս | I8: Տարի
A9: ԸՆԴԱՄԵՆԸ | G9: =+G10 -> 0 | H9: =+H10 -> 712383.4 | I9: =+I10 -> 1230075.9
A10: 07 | F10: ԱՌՈՂՋԱՊԱՀՈՒԹՅՈՒՆ | G10: =+G12 -> 0 | H10: =+H12 -> 712383.4 | I10: =+I12 -> 1230075.9
F11: այդ թվում՝
B12: 06 | F12: Առողջապահություն (այլ դասերին չպատկանող) | G12: =+G14 -> 0 | H12: =+H14 -> 712383.4 | I12: =+I14 -> 1230075.9
F13: այդ թվում՝
C14: 02 | F14: Առողջապահություն (այլ դասերին չպատկանող) | G14: =+G16 -> 0 | H14: =+H16 -> 712383.4 | I14: =+I16 -> 1230075.9
F15: այդ թվում՝
D16: 1126 | F16: Առողջապահության ոլորտում պետական քաղաքականության մշակում, ծրագրերի համակարգում և մոնիտորինգ | G16: =+G20+G30+G39 -> 0 | H16: =+H20+H30+H39 -> 712383.4 | I16: =+I20+I30+I39 -> 1230075.9
F17: այդ թվում՝
F18: ՀՀ առողջապահության նախարարություն | G18: =+G16 -> 0 | H18: =+H16 -> 712383.4 | I18: =+I16 -> 1230075.9
F19: այդ թվում`
E20: 12006 | F20: Առողջապահական համակարգի պետական առևտրային և ոչ առևտրային կազմակերպություններին ֆինանսական աջակցության հատկացում | G20: =+G22 -> 0 | H20: =+H22 -> 33809.8 | I20: =+I22 -> 113037.9
F21: այդ թվում ըստ կատարողների
F22: ՀՀ առողջապահության նախարարություն | G22: =+G24 -> 0 | H22: =+H24 -> 33809.8 | I22: =+I24 -> 113037.9
F23: այդ թվում` բյուջետային ծախսերի տնտեսագիտական դասակարգման հոդվածներ
F24: ԸՆԴԱՄԵՆԸ ԾԱԽՍԵՐ | G24: =+G25 -> 0 | H24: =+H25 -> 33809.8 | I24: =+I25 -> 113037.9
F25: ԸՆԹԱՑԻԿ ԾԱԽՍԵՐ | G25: =+G26 -> 0 | H25: =+H26 -> 33809.8 | I25: =+I26 -> 113037.9
F26: ԴՐԱՄԱՇՆՈՐՀՆԵՐ | G26: =+G27 -> 0 | H26: =+H27 -> 33809.8 | I26: =+I27 -> 113037.9
F27: Ընթացիկ դրամաշնորհներ պետական հատվածի այլ մակարդակներին | G27: =+G28 -> 0 | H27: =+H28+H29 -> 33809.8 | I27: =+I28+I29 -> 113037.9
F28: - Ընթացիկ դրամաշնորհներ պետական և համայնքների առևտրային կազմակերպություններին | G28: 0 | H28: 31081.4 | I28: =+'7'!E13 -> 110309.5
F29: - Ընթացիկ դրամաշնորհներ պետական և համայնքների ոչ առևտրային կազմակերպություններին | G29: 0 | H29: 2728.4 | I29: =+'7'!E14 -> 2728.4
E30: 31002 | F30: Առողջապահական կազմակերպությունների վերազինում | G30: =+G32 -> 0 | H30: =+H32 -> 29940 | I30: =+I32 -> 29940
F31: այդ թվում` ըստ կատարողների
F32: ՀՀ առողջապահության նախարարություն | G32: =+G34 -> 0 | H32: =+H34 -> 29940 | I32: =+I34 -> 29940
F33: այդ թվում` բյուջետային ծախսերի տնտեսագիտական դասակարգման հոդվածներ
F34: ԸՆԴԱՄԵՆԸ ԾԱԽՍԵՐ | G34: =+G35 -> 0 | H34: =+H35 -> 29940 | I34: =+I35 -> 29940
F35: ՈՉ ՖԻՆԱՆՍԱԿԱՆ ԱԿՏԻՎՆԵՐԻ ԳԾՈՎ ԾԱԽՍԵՐ | G35: =+G36 -> 0 | H35: =+H36 -> 29940 | I35: =+I36 -> 29940
F36: ՀԻՄՆԱԿԱՆ ՄԻՋՈՑՆԵՐ | G36: =+G37 -> 0 | H36: =+H37 -> 29940 | I36: =+I37 -> 29940
F37: ՄԵՔԵՆԱՆԵՐ ԵՎ ՍԱՐՔԱՎՈՐՈՒՄՆԵՐ | G37: =+G38 -> 0 | H37: =+H38 -> 29940 | I37: =+I38 -> 29940
F38: - Այլ մեքենաներ և սարքավորումներ | G38: =+'6'!D13 -> 0 | H38: =+'6'!E13 -> 29940 | I38: =+'6'!F13 -> 29940
E39: 31003 | F39: Առողջապահական կազմակերպությունների կառուցում, վերակառուցում | G39: =+G41+G50 -> 0 | H39: =+H41+H50 -> 648633.6 | I39: =+I41+I50 -> 1087098
F40: այդ թվում ըստ կատարողների
...

Sheet 6
A1: Հավելված № 6
A2: ՀՀ կառավարության 2026 թվականի
A3: __________ «____» -ի
A4: N_____ -Ն որոշման
A5: ՀԱՅԱՍՏԱՆԻ ՀԱՆՐԱՊԵՏՈՒԹՅԱՆ ԿԱՌԱՎԱՐՈՒԹՅԱՆ 2025 ԹՎԱԿԱՆԻ ԴԵԿՏԵՄԲԵՐԻ 25-Ի № 1910-Ն ՈՐՈՇՄԱՆ № 5 ՀԱՎԵԼՎԱԾԻ № 2 ԱՂՅՈՒՍԱԿՈՒՄ ԿԱՏԱՐՎՈՂ ՓՈՓՈԽՈՒԹՅՈՒՆՆԵՐԸ ԵՎ ԼՐԱՑՈՒՄՆԵՐԸ
A6: (հազար դրամներով)
A7: Ծրագրային դասիչ | C7: Բյուջետային գլխավոր կարգադրիչների, ծրագրերի, միջոցառումների և ուղղությունների անվանումները | D7: Ցուցանիշների փոփոխությունները (ավելացումները նշված են դրական նշանով, իսկ նվազեցումները` փակագծերում)
A8: Ծրագիր | B8: Միջոցառում | D8: Առաջին կիսամյակ | E8: Ինն ամիս | F8: Տարի
C9: ՀՀ ԱՌՈՂՋԱՊԱՀՈՒԹՅԱՆ ՆԱԽԱՐԱՐՈՒԹՅՈՒՆ | D9: =+D11+D23 -> 0 | E9: =+E11+E23 -> 678573.6 | F9: =+F11+F23 -> 1117038
C10: այդ թվում՝
A11: 1126 | B11: 31002 | C11: Առողջապահական կազմակերպությունների վերազինում | D11: =+D13 -> 0 | E11: =+E13 -> 29940 | F11: =+F13 -> 29940
C12: այդ թվում` ըստ կատարողների
C13: ՀՀ առողջապահության նախարարություն | D13: =+D15+D17+D19+D21 -> 0 | E13: =+E15+E17+E19+E21 -> 29940 | F13: =+F15+F17+F19+F21 -> 29940
C14: այդ թվում՝ ըստ ուղղությունների
C15: Երևան քաղաք | D15: =+D16 -> 0 | E15: =+E16 -> 29940 | F15: =+F16 -> 29940
C16: Առողջապահական կազմակերպությունների համար բժշկական գույքի և սարքավորումների ձեռքբերում | D16: 0 | E16: 29940 | F16: 29940
C17: ՀՀ Արարատի մարզ | D17: =+D18 -> 0 | E17: =+E18 -> 160638.2 | F17: =+F18 -> 160638.2
C18: ՀՀ ԱՆ «Արտաշատի բժշկական կենտրոն» ՓԲԸ | D18: 0 | E18: 160638.2 | F18: 160638.2
C19: ՀՀ Արմավիրի մարզ | D19: =+D20 -> 0 | E19: =+E20 -> -20000 | F19: =+F20 -> -20000
C20: ՀՀ ԱՆ «ՀՎԿԱԿ» ՊՈԱԿ Արմավիրի մարզի մասնաճյուղ | D20: 0 | E20: -20000 | F20: -20000
C21: Մարզային ամբուլատորիաներ | D21: =+D22 -> 0 | E21: =+E22 -> -140638.2 | F21: =+F22 -> -140638.2
C22: 29 բժշկական ամբուլատորիաների վերազինում | E22: -140638.2 | F22: -140638.2
A23: 1126 | B23: 31003 | C23: Առողջապահական կազմակերպությունների կառուցում, վերակառուցում | D23: =+D25+D57 -> 0 | E23: =+E25+E57 -> 648633.6 | F23: =+F25+F57 -> 1087098
C24: այդ թվում` ըստ կատարողների
C25: ՀՀ առողջապահության նախարարություն | D25: =+D27+D30+D35+D42+D44+D46+D48+D51+D55 -> 0 | E25: =+E27+E30+E35+E42+E44+E46+E48+E51+E55 -> 590266.5 | F25: =+F27+F30+F35+F42+F44+F46+F48+F51+F55 -> 1028730.9
C26: այդ թվում` ըստ ուղղությունների
C27: ՀՀ Արագածոտնի մարզ | D27: =SUM(D28:D29) -> 0 | E27: =SUM(E28:E29) -> 45724.3 | F27: =SUM(F28:F29) -> 84941
C28: ՀՀ Արագածոտնի մարզ «Ոսկևազի ԱԱՊԿ» ՀՈԱԿ | D28: 0 | E28: 10724.3 | F28: 10724.3
C29: ՀՀ Արագածոտնի մարզի «Մաստարայի ԲԱ» ՀՈԱԿ | D29: 0 | E29: 35000 | F29: =73888+328.7 -> 74216.7
C30: ՀՀ Արարատի մարզ | D30: =SUM(D31:D34) -> 0 | E30: =SUM(E31:E34) -> 81233.2 | F30: =SUM(F31:F34) -> 250235.1
C31: ՀՀ Արարատի մարզ «Դիմիտրովի ԱԱՊԿ» ՊՈԱԿ | D31: 0 | E31: 27968.3 | F31: 67968
C32: ՀՀ Արարատի մարզի «Այգեստանի ԱԱՊԿ» ՊՈԱԿ | D32: 0 | E32: 13264.9 | F32: 13264.9
C33: ՀՀ Արարատի մարզի «Այգավանի ԱԱՊԿ» ՊՈԱԿ | D33: 0 | E33: 20000 | F33: 85256.8
C34: ՀՀ Արարատի մարզի «Նոր կյանքի ԱԱՊԿ» ՊՈԱԿ | D34: 0 | E34: 20000 | F34: 83745.4
C35: ՀՀ Արմավիրի մարզ | D35: =SUM(D36:D41) -> 0 | E35: =SUM(E36:E41) -> 176160.6 | F35: =SUM(F36:F41) -> 296396.3
C36: ՀՀ ԱՆ «Էջմիածնի բժշկական կենտրոն» ՓԲԸ | D36: 0 | E36: 7390 | F36: 7390
C37: ՀՀ Արմավիրի մարզի «Գայի ԲԱ» ՀՈԱԿ | D37: 0 | E37: 28122.5 | F37: 120093.3
C38: ՀՀ Արմավիրի մարզի «Ջրառատի ԲԱ» ՀՈԱԿ | D38: 0 | E38: 27263.9 | F38: 55528.8
C39: ՀՀ Արմավիրի մարզի «Վարդանաշենի ԲԱ» ՀՈԱԿ | D39: 0 | E39: 29471.5 | F39: 29471.5
C40: ՀՀ Արմավիրի մարզի «Տանձուտի ԲԱ» ՀՈԱԿ | D40: 0 | E40: 42915.3 | F40: 42915.3
...

Sheet 7
A1: Հավելված № 7
A2: ՀՀ կառավարության 2026 թվականի
A3: __________ «____» -ի
A4: N_____ -Ն որոշման
A5: ՀԱՅԱՍՏԱՆԻ ՀԱՆՐԱՊԵՏՈՒԹՅԱՆ ԿԱՌԱՎԱՐՈՒԹՅԱՆ 2025 ԹՎԱԿԱՆԻ ԴԵԿՏԵՄԲԵՐԻ 25-Ի № 1910-Ն ՈՐՈՇՄԱՆ № 5 ՀԱՎԵԼՎԱԾԻ № 7 ԱՂՅՈՒՍԱԿՈՒՄ ԿԱՏԱՐՎՈՂ ՓՈՓՈԽՈՒԹՅՈՒՆՆԵՐԸ ԵՎ ԼՐԱՑՈՒՄՆԵՐԸ
A6: (հազար դրամներով)
A7: Ծրագրային դասիչ | C7: Բյուջետային հատկացումների գլխավոր կարգադրիչների, ծրագրերի, միջոցառումների, ծախսային ուղղությունների անվանումները | D7: Միջոցառումները կատարող պետական մարմինների և դրամաշնորհ ստացող տնտեսվարող սուբյեկտների անվանումները | E7: Ցուցանիշների փոփոխությունները (ավելացումները նշված են դրական նշանով)
A8: Ծրագիր | B8: Միջոցառում | E8: Տարի
A9: 1 | B9: 2 | C9: 3 | D9: 4 | E9: 5
A10: ՀՀ առողջապահության նախարարություն | E10: =+E11 -> 113037.9
A11: 1126 | B11: Առողջապահության ոլորտում պետական քաղաքականության մշակում, ծրագրերի համակարգում և մոնիտորինգ | E11: =+E12 -> 113037.9
B12: 12006 | C12: Առողջապահական համակարգի պետական առևտրային և ոչ առևտրային կազմակերպություններին ֆինանսական աջակցության հատկացում | D12: ՀՀ առողջապահության նախարարություն | E12: =SUM(E13:E14) -> 113037.9
D13: ՀՀ Շիրակի մարզի «Գյումրու Ն․Ա․ Մելիքյանի անվան թիվ 2 պոլիկլինիկա» ՓԲԸ | E13: 110309.5
D14: ՀՀ ԱՆ «Քրեակատարողական բժշկության կենտրոն» ՊՈԱԿ | E14: 2728.4

Sheet 8
B1: Հավելված № 8
B2: ՀՀ կառավարության 2025 թվականի
B3: __________ «____» -ի
B4: N_____ -Ն որոշման
B5: ՀԱՅԱՍՏԱՆԻ ՀԱՆՐԱՊԵՏՈՒԹՅԱՆ ԿԱՌԱՎԱՐՈՒԹՅԱՆ 2025 ԹՎԱԿԱՆԻ ԴԵԿՏԵՄԲԵՐԻ 25-Ի № 1910-Ն ՈՐՈՇՄԱՆ № 9 ՀԱՎԵԼՎԱԾՈՒՄ ԿԱՏԱՐՎՈՂ ՓՈՓՈԽՈՒԹՅՈՒՆՆԵՐԸ ԵՎ ԼՐԱՑՈՒՄՆԵՐԸ
A6: (հազար դրամներով)
A7: ԲԳԿ | B7: Ծրագիր | D7: Միջոցառում | H7: Իրականացնողը/ ակտիվն օգտագործողը/ շահառուի ընտրության չափորոշիչը | I7: Արդյունքային չափորոշիչը | J7: Ցուցանիշների փոփոխությունները (ավելացումները նշված են դրական նշանով)
B8: Դասիչը | C8: Անվանումը | D8: Դասիչը | E8: Անվանումը | F8: Նկարագրությունը | G8: Տեսակը | J8: Առաջին կիսամյակ | K8: Ինն ամիս | L8: Տարի
A9: ԸՆԴԱՄԵՆԸ | J9: =+J10 -> 0 | K9: =+K10 -> 712383.4 | L9: =+L10 -> 1230075.9
A10: ՀՀ առողջապահության նախարարություն | J10: =+J11 -> 0 | K10: =+K11 -> 712383.4 | L10: =+L11 -> 1230075.9
B11: 1126 | C11: Առողջապահության ոլորտում պետական քաղաքականության մշակում, ծրագրերի համակարգում և մոնիտորինգ | J11: =+J12+J17+J22 -> 0 | K11: =+K12+K17+K22 -> 712383.4 | L11: =+L12+L17+L22 -> 1230075.9
D12: 1126-12006 | E12: Առողջապահական համակարգի պետական առևտրային և ոչ առևտրային կազմակերպություններին ֆինանսական աջակցության հատկացում | J12: =+'3'!G12 -> 0 | K12: =+'3'!H12 -> 33809.8 | L12: =+'3'!I12 -> 113037.9
F13: Առողջապահական համակարգի պետական առևտրային և ոչ առևտրային կազմակերպություններին ֆինանսական աջակցության տրամադրում ընթացիկ գործունեության արդյունավետության բարձրացմանն ուղղված
G14: Տրանսֆերտի տրամադրում
H15: Առողջապահական կազմակերպություններ
I16: Ֆինանսական աջակցություն ստացող բժշկական հաստատությունների թիվ, հատ | J16: 0 | L16: 2
D17: 1126-31002 | E17: Առողջապահական կազմակերպությունների վերազինում | J17: =+'3'!G13 -> 0 | K17: =+'3'!H13 -> 29940 | L17: =+'3'!I13 -> 29940
F18: Բնակչությանը որակյալ բժշկական օգնության և սպասարկման ծառայություններ մատուցելու նպատակով՛ առողջապահական կազմակերպությունների անհրաժեշտ սարքավորումներով վերազինում
G19: Պետական մարմինների կողմից օգտագործվող ոչ ֆինանսական ակտիվների հետ գործառնություններ
H20: Ակտիվն օգտագործող կազմակերպության անվանումը` Բժշկական կազմակերպություններ
I21: Վերազինվող բուժհաստատությունների քանակ | J21: 0 | L21: 1
D22: 1126-31003 | E22: Առողջապահական կազմակերպությունների կառուցում, վերակառուցում | J22: =+'3'!G14 -> 0 | K22: =+'3'!H14 -> 648633.6 | L22: =+'3'!I14 -> 1087098
F23: Բնակչությանը որակյալ բժշկական օգնության և սպասարկման ծառայություններ մատուցելու նպատակով առողջապահական կազմակերպությունների կառուցում, վերակառուցում
G24: Պետական մարմինների կողմից օգտագործվող ոչ ֆինանսական ակտիվների հետ գործառնություններ
H25: Ակտիվն օգտագործող կազմակերպության անվանումը` Բժշկական կազմակերպություններ

Sheet 9
B1: Հավելված № 9
B2: ՀՀ կառավարության 2026 թվականի
B3: __________ «____» -ի
B4: N_____ -Ն որոշման
B5: ՀԱՅԱՍՏԱՆԻ ՀԱՆՐԱՊԵՏՈՒԹՅԱՆ ԿԱՌԱՎԱՐՈՒԹՅԱՆ 2025 ԹՎԱԿԱՆԻ ԴԵԿՏԵՄԲԵՐԻ 25-Ի № 1910-Ն ՈՐՈՇՄԱՆ № 9.1 ՀԱՎԵԼՎԱԾՈՒՄ ԿԱՏԱՐՎՈՂ ՓՈՓՈԽՈՒԹՅՈՒՆՆԵՐԸ ԵՎ ԼՐԱՑՈՒՄՆԵՐԸ
A6: (հազար դրամներով)
A7: ԲՍԿ | B7: Ծրագիր | D7: Միջոցառում | H7: Իրականացնողը/ ակտիվն օգտագործողը/ շահառուի ընտրության չափորոշիչը | I7: Արդյունքային չափորոշիչը | J7: Ցուցանիշների փոփոխությունները (ավելացումները նշված են դրական նշանով)
B8: Դասիչը | C8: Անվանումը | D8: Դասիչը | E8: Անվանումը | F8: Նկարագրությունը | G8: Տեսակը | J8: Առաջին կիսամյակ | K8: Ինն ամիս | L8: Տարի
A9: ԸՆԴԱՄԵՆԸ | J9: =+J10+J26 -> 0 | K9: =+K10+K26 -> 712383.4 | L9: =+L10+L26 -> 1230075.9
A10: ՀՀ առողջապահության նախարարություն | J10: =+J11 -> 0 | K10: =+K11 -> 654016.3 | L10: =+L11 -> 1171708.8
B11: 1126 | C11: Առողջապահության ոլորտում պետական քաղաքականության մշակում, ծրագրերի համակարգում և մոնիտորինգ | J11: =+J12+J17+J22 -> 0 | K11: =+K12+K17+K22 -> 654016.3 | L11: =+L12+L17+L22 -> 1171708.8
D12: 1126-12006 | E12: Առողջապահական համակարգի պետական առևտրային և ոչ առևտրային կազմակերպություններին ֆինանսական աջակցության հատկացում | J12: =+'8'!J12 -> 0 | K12: =+'8'!K12 -> 33809.8 | L12: =+'8'!L12 -> 113037.9
F13: Առողջապահական համակարգի պետական առևտրային և ոչ առևտրային կազմակերպություններին ֆինանսական աջակցության տրամադրում ընթացիկ գործունեության արդյունավետության բարձրացմանն ուղղված
G14: Տրանսֆերտի տրամադրում
H15: Առողջապահական կազմակերպություններ
I16: Ֆինանսական աջակցություն ստացող բժշկական հաստատությունների թիվ, հատ | J16: 0 | L16: 2
D17: 1126 - 31002 | E17: Առողջապահական կազմակերպությունների վերազինում | J17: =+'8'!J17 -> 0 | K17: =+'8'!K17 -> 29940 | L17: =+'8'!L17 -> 29940
F18: Բնակչությանը որակյալ բժշկական օգնության և սպասարկման ծառայություններ մատուցելու նպատակով՛ առողջապահական կազմակերպությունների անհրաժեշտ սարքավորումներով վերազինում
G19: Պետական մարմինների կողմից օգտագործվող ոչ ֆինանսական ակտիվների հետ գործառնություններ
H20: Ակտիվն օգտագործող կազմակերպության անվանումը` Բժշկական կազմակերպություններ
I21: Վերազինվող բուժհաստատությունների քանակ | J21: 0 | L21: 1
D22: 1126 - 31003 | E22: Առողջապահական կազմակերպությունների կառուցում, վերակառուցում | J22: =+'6'!D25 -> 0 | K22: =+'6'!E25 -> 590266.5 | L22: =+'6'!F25 -> 1028730.9
F23: Բնակչությանը որակյալ բժշկական օգնության և սպասարկման ծառայություններ մատուցելու նպատակով առողջապահական կազմակերպությունների կառուցում, վերակառուցում
G24: Պետական մարմինների կողմից օգտագործվող ոչ ֆինանսական ակտիվների հետ գործառնություններ
H25: Ակտիվն օգտագործող կազմակերպության անվանումը` Բժշկական կազմակերպություններ
A26: ՀՀ քաղաքաշինության կոմիտե | J26: =+J27 -> 0 | K26: =+K27 -> 58367.1 | L26: =+L27 -> 58367.1
D27: 1126 - 31003 | E27: Առողջապահական կազմակերպությունների կառուցում, վերակառուցում | J27: =+'6'!D57 -> 0 | K27: =+'6'!E57 -> 58367.1 | L27: =+'6'!F57 -> 58367.1
F28: Բնակչությանը որակյալ բժշկական օգնության և սպասարկման ծառայություններ մատուցելու նպատակով առողջապահական կազմակերպությունների կառուցում, վերակառուցում
G29: Պետական մարմինների կողմից օգտագործվող ոչ ֆինանսական ակտիվների հետ գործառնություններ
H30: Ակտիվն օգտագործող կազմակերպության անվանումը` Բժշկական կազմակերպություններ

Sheet 10
A1: Հավելված № 10
A2: ՀՀ կառավարության 2026 թվականի
A3: __________ «____» -ի
A4: N_____ -Ն որոշման
A5: ՀԱՅԱՍՏԱՆԻ ՀԱՆՐԱՊԵՏՈՒԹՅԱՆ ԿԱՌԱՎԱՐՈՒԹՅԱՆ 2025 ԹՎԱԿԱՆԻ ԴԵԿՏԵՄԲԵՐԻ 25-Ի № 1910-Ն ՈՐՈՇՄԱՆ № 10 ՀԱՎԵԼՎԱԾՈՒՄ ԿԱՏԱՐՎՈՂ ՓՈՓՈԽՈՒԹՅՈՒՆՆԵՐԸ ԵՎ ԼՐԱՑՈՒՄՆԵՐԸ
A6: Կոդը | B6: Անվանումը | E6: Գնման ձևը | F6: Չափման միավորը | G6: Միավորի գինը | H6: Քանակը | I6: Ցուցանիշների փոփոխությունները (ավելացումները նշված են դրական նշանով, իսկ նվազեցումները` փակագծերում)
I7: (հազար դրամներով)
A8: ԸՆԴԱՄԵՆԸ | I8: =+I9+I113 -> 1117038
A9: ՀՀ առողջապահության նախարարություն | I9: =+I10 -> 1058670.9
A10: Բաժին 07 | B10: Խումբ 06 | C10: Դաս 02 | D10: Առողջապահություն (այլ դասերին չպատկանող) | I10: =+I11+I89 -> 1058670.9
A11: 1126 31002 | B11: Առողջապահական կազմակերպությունների վերազինում | I11: =+I12+I87 -> 29939.974
B12: ՄԱՍ I. Ա Պ Ր Ա Ն Ք Ն Ե Ր | I12: =SUM(I13:I86) -> 10994.974
A13: 31151120-505 | B13: անխափան սնուցման աղբյուրներ | E13: ԷԱՃ | F13: հատ | G13: 1494000 | H13: 10 | I13: =G13*H13/1000 -> 14940
A14: 31151120 | B14: անխափան սնուցման աղբյուրներ | E14: ԷԱՃ | F14: հատ | G14: 15000000 | H14: 1 | I14: =G14*H14/1000 -> 15000
A15: 38431380/501 | B15: քիմիական վերլուծիչներ | E15: ԷԱՃ | F15: հատ | G15: 1700000 | H15: 1 | I15: =G15*H15/1000 -> 1700
A16: 38431390/501 | B16: արյունաբանական վերլուծիչներ | E16: ԷԱՃ | F16: հատ | G16: 600000 | H16: 1 | I16: =G16*H16/1000 -> 600
A17: 33121330/501 | B17: իմունային անալիզի սարքեր | E17: ԷԱՃ | F17: հատ | G17: 1700000 | H17: 1 | I17: =G17*H17/1000 -> 1700
A18: 38431340/501 | B18: արյան վերլուծիչներ | E18: ԷԱՃ | F18: հատ | G18: 696000 | H18: 1 | I18: =G18*H18/1000 -> 696
A19: 42931100/502 | B19: լաբորատորիական ցենտրիֆուգներ և պարագաներ | E19: ԷԱՃ | F19: հատ | G19: 352800 | H19: 2 | I19: =G19*H19/1000 -> 705.6
A20: 38511220/501 | B20: միակնային (մոնոկուլյար) և/կամ երկակնային (բինոկուլյար) լուսային մանրադիտակներ | E20: ԷԱՃ | F20: հատ | G20: 1200000 | H20: 2 | I20: =G20*H20/1000 -> 2400
A21: 38431240/501 | B21: վերլուծիչներ | E21: ԷԱՃ | F21: հատ | G21: 744000 | H21: 1 | I21: =G21*H21/1000 -> 744
A22: 33121240/501 | B22: ախտորոշման սարքեր | E22: ԷԱՃ | F22: հատ | G22: 1089000 | H22: 1 | I22: =G22*H22/1000 -> 1089
A23: 33121260/501 | B23: ուլտրաձայնային ախտորոշման սարքեր | E23: ԷԱՃ | F23: հատ | G23: 11352000 | H23: 1 | I23: =G23*H23/1000 -> 11352
A24: 33121260/503 | B24: ուլտրաձայնային ախտորոշման սարքեր | E24: ԷԱՃ | F24: հատ | G24: 11830500 | H24: 1 | I24: =G24*H24/1000 -> 11830.5
A25: 33121150/502 | B25: էլեկտրասրտագրիչ | E25: ԷԱՃ | F25: հատ | G25: 298000 | H25: 2 | I25: =G25*H25/1000 -> 596
A26: 33191100/502 | B26: մանրեազերծող սարք | E26: ԷԱՃ | F26: հատ | G26: 450000 | H26: 1 | I26: =G26*H26/1000 -> 450
... A74: 31151120/507 | B74: անխափան սնուցման աղբյուրներ | E74: ԷԱՃ | F74: հատ | G74: 210000 | H74: 1 | I74: =G74*H74/1000 -> 210
A75: 33111330 | B75: ռենտգեն ախտորոշման համակարգ | E75: ԷԱՃ | F75: հատ | G75: 47520000 | H75: 1 | I75: =G75*H75/1000 -> 47520
A76: 33121160 | B76: ակնաբուժական սարքեր | E76: ԷԱՃ | F76: հատ | G76: 2500000 | H76: 1 | I76: =G76*H76/1000 -> 2500
A77: 33121160 | B77: ակնաբուժական սարքեր | E77: ԷԱՃ | F77: հատ | G77: 190000 | H77: 1 | I77: =G77*H77/1000 -> 190
A78: 33121160 | B78: ակնաբուժական սարքեր | E78: ԷԱՃ | F78: հատ | G78: 190000 | H78: 1 | I78: =G78*H78/1000 -> 190
A79: 42921180 | B79: կշեռքներ | E79: ԷԱՃ | F79: հատ | G79: 80000 | H79: 8 | I79: =G79*H79/1000 -> 640
A80: 42921180 | B80: կշեռքներ | E80: ԷԱՃ | F80: հատ | G80: 130000 | H80: 7 | I80: =G80*H80/1000 -> 910
A81: 33141179 | B81: ախտորոշման բժշկական հավաքածուներ | E81: ԷԱՃ | F81: հատ | G81: 300000 | H81: 1 | I81: =G81*H81/1000 -> 300
A82: 33141179 | B82: ախտորոշման բժշկական հավաքածուներ | E82: ԷԱՃ | F82: հատ | G82: 300000 | H82: 1 | I82: =G82*H82/1000 -> 300
A83: 38431750 | B83: ջրային բաղնիք գերմակարգավորիչով | E83: ԷԱՃ | F83: հատ | G83: 200000 | H83: 1 | I83: =G83*H83/1000 -> 200
A84: 39711110 | B84: սառնարան-սառցարաններ | E84: ԷԱՃ | F84: հատ | G84: 120000 | H84: 1 | I84: =G84*H84/1000 -> 120
A85: 33141174-4 | B85: բժշկական սարքերի հավաքածուներ | E85: ԷԱՃ | F85: հատ | I85: =+'6'!F20 -> -20000
A86: 33141174/14 | B86: բժշկական սարքերի հավաքածուներ | E86: ԷԱՃ | F86: հատ | I86: =+'6'!F22 -> -140638.2
B87: ՄԱՍ II. ԱՇԽԱՏԱՆՔՆԵՐ | I87: =+I88 -> 18945
...
