Workbook
Name շախմատիստ: #REF!

Sheet havelvac N 1
I1: Հավելված N 1
H2: ՀՀ կառավարության 2026 թվականի
H3: ______________ ի ___Ն որոշման
A4: «ՀԱՅԱՍՏԱՆԻ ՀԱՆՐԱՊԵՏՈՒԹՅԱՆ 2026 ԹՎԱԿԱՆԻ ՊԵՏԱԿԱՆ ԲՅՈՒՋԵԻ ՄԱՍԻՆ» ՕՐԵՆՔԻ N 1 ՀԱՎԵԼՎԱԾԻ N 2 ԱՂՅՈՒՍԱԿՈՒՄ ԿԱՏԱՐՎՈՂ ՎԵՐԱԲԱՇԽՈՒՄԸ ԵՎ ՀԱՅԱՍՏԱՆԻ ՀԱՆՐԱՊԵՏՈՒԹՅԱՆ ԿԱՌԱՎԱՐՈՒԹՅԱՆ 2025 ԹՎԱԿԱՆԻ ԴԵԿՏԵՄԲԵՐԻ 25-Ի N 1910-Ն ՈՐՈՇՄԱՆ N 5 ՀԱՎԵԼՎԱԾԻ N 1 ԱՂՅՈՒՍԱԿՈՒՄ ԿԱՏԱՐՎՈՂ ՓՈՓՈԽՈՒԹՅՈՒՆՆԵՐԸ
I5: հազար դրամներով
A6: ԲԳԿ | B6: Ծրագրային դասիչը | D6: ԲԳԿ/Ծրագրի /միջոցառման անվանումը | E6: Ծրագրի նպատակը/Միջոցառման նկարագրությունը | F6: Վերջնական արդյունքի նկարագրությունը/Միջոցառման տեսակը | G6: Ցուցանիշների փոփոխությունը (ավելացումները նշված են դրական նշանով, իսկ նվազեցումները՝ փակագծերում)
B7: Ծրագիր | C7: Միջոցառում | G7: Առաջին կիսամյակ | H7: Ինն ամիս | I7: Տարի
A8: ԸՆԴԱՄԵՆԸ | G8: =G9 -> 0 | H8: =H9 -> 0 | I8: =I9 -> 0
A9: ՀՀ կրթության, գիտության, մշակույթի և սպորտի նախարարություն | G9: =G10+G12 -> 0 | H9: =H10+H12 -> 0 | I9: =I10+I12 -> 0
B10: 1075 | D10: Մշակութային ժառանգության ծրագիր | E10: Մշակութային ժառանգության պահպանում, օգտագործում, համալրում և հանրահռչակում | F10: Մշակութային ժառանգության շարունակական պահպանում, մշակութային զբոսաշրջության զարգացում և խթանում | G10: =+G11 -> 22680 | H10: =+H11 -> 22680 | I10: =+I11 -> 22680
C11: 1075 - 11004 | D11: Թանգարանային ծառայություններ և ցուցահանդեսներ | E11: Թանգարանային նմուշների պահպանություն, ցուցահանդեսների կազմակերպում, մասնագետների վերապատրաստում | F11: Ծառայությունների մատուցում | G11: 22680 | H11: 22680 | I11: 22680
B12: 1146 | D12: Հանրակրթության ծրագիր | E12: Ապահովել անվճար և որակյալ հանրակրթություն | F12: Մտավոր, հոգևոր, ֆիզիկական և սոցիալական ունակությունների համակողմանի ու ներդաշնակ զարգացմամբ, հայրենասիրության, պետականության և մարդասիրության ոգով դաստիրակված, պատշաճ վարքով և վարվելակերպով անձի ձևավորում | G12: =G13 -> -22680 | H12: =H13 -> -22680 | I12: =I13 -> -22680
C13: 1146-11026 | D13: Մասնակցություն սովորողների միջազգային գնահատման ծրագրին /PISA/ | E13: 2025 թվականին Հայաստանում սովորողների միջազգային գնահատման ծրագրի /PISA/ կազմակերպում և անցկացում, այդ թվում `անդամավճարի փոխանցում | F13: Ծառայությունների մատուցում | G13: -22680 | H13: -22680 | I13: -22680

Sheet havelvac N 2
F1: Հավելված N 2
F2: ՀՀ կառավարության 2026 թվականի
F3: ______________ ի ___Ն որոշման
A4: ՀԱՅԱՍՏԱՆԻ ՀԱՆՐԱՊԵՏՈՒԹՅԱՆ ԿԱՌԱՎԱՐՈՒԹՅԱՆ 2026 ԹՎԱԿԱՆԻ ԴԵԿՏԵՄԲԵՐԻ 25-Ի N 1910-Ն ՈՐՈՇՄԱՆ N 3 ԵՎ N 4 ՀԱՎԵԼՎԱԾՆԵՐՈՒՄ ԿԱՏԱՐՎՈՂ ՓՈՓՈԽՈՒԹՅՈՒՆՆԵՐԸ
I5: հազար դրամներով
A6: Գործառական դասիչը | D6: Ծրագրային դասիչը | F6: Բյուջետային ծախսերի գործառական դասակարգման բաժինների, խմբերի և դասերի, բյուջետային ծրագրերի միջոցառումների, բյուջետային հատկացումների գլխավոր կարգադրիչների անվանումները | G6: Ցուցանիշների փոփոխությունը (ավելացումները նշված են դրական նշանով, իսկ նվազեցումները՝ փակագծերում)
A7: Բաժին | B7: Խումբ | C7: Դաս | D7: Ծրագիր | E7: Միջոցառում | G7: Առաջին կիսամյակ | H7: Ինն ամիս | I7: Տարի
F8: ԸՆԴԱՄԵՆԸ | G8: =G10 -> 0 | H8: =H10 -> 0 | I8: =I10 -> 0
F9: այդ թվում`
F10: ՀՀ Կրթության, գիտության, մշակույթի և սպորտի նախարարություն | G10: =G12+G29 -> 0 | H10: =H12+H29 -> 0 | I10: =I12+I29 -> 0
F11: այդ թվում`
A12: 08 | F12: ՀԱՆԳԻՍՏ, ՄՇԱԿՈՒՅԹ ԵՎ ԿՐՈՆ | G12: =G14 -> 22680 | H12: =H14 -> 22680 | I12: =I14 -> 22680
F13: այդ թվում`
B14: 02 | F14: Մշակութային ծառայություններ | G14: =G16 -> 22680 | H14: =H16 -> 22680 | I14: =I16 -> 22680
F15: այդ թվում`
C16: 02 | F16: Թանգարաններ և ցուցասրահներ | G16: =G18 -> 22680 | H16: =H18 -> 22680 | I16: =I18 -> 22680
F17: այդ թվում`
D18: 1075 | F18: Մշակութային ժառանգության ծրագիր | G18: =+G20 -> 22680 | H18: =+H20 -> 22680 | I18: =+I20 -> 22680
F19: այդ թվում`
E20: 11004 | F20: Թանգարանային ծառայություններ և ցուցահանդեսներ | G20: =G22 -> 22680 | H20: =H22 -> 22680 | I20: =I22 -> 22680
F21: այդ թվում` ըստ կատարողների
F22: ՀՀ կրթության, գիտության, մշակույթի և սպորտի նախարարություն | G22: =G24 -> 22680 | H22: =H24 -> 22680 | I22: =I24 -> 22680
F23: այդ թվում` բյուջետային ծախսերի տնտեսագիտական դասակարգման հոդվածներ
F24: ԸՆԴԱՄԵՆԸ ԾԱԽՍԵՐ | G24: =G25 -> 22680 | H24: =H25 -> 22680 | I24: =I25 -> 22680
F25: ԸՆԹԱՑԻԿ ԾԱԽՍԵՐ | G25: =G26 -> 22680 | H25: =H26 -> 22680 | I25: =I26 -> 22680
F26: ԴՐԱՄԱՇՆՈՐՀՆԵՐ | G26: =G27 -> 22680 | H26: =H27 -> 22680 | I26: =I27 -> 22680
F27: Ընթացիկ դրամաշնորհներ պետական հատվածի այլ մակարդակներին | G27: =G28 -> 22680 | H27: =H28 -> 22680 | I27: =I28 -> 22680
F28: - Այլ ընթացիկ դրամաշնորհներ | G28: =+'havelvac N 1'!G11 -> 22680 | H28: =+'havelvac N 1'!H11 -> 22680 | I28: =+'havelvac N 1'!I11 -> 22680
A29: 09 | F29: ԿՐԹՈՒԹՅՈՒՆ | G29: =G31 -> -22680 | H29: =H31 -> -22680 | I29: =I31 -> -22680
F30: այդ թվում`
B31: 02 | F31: Միջնակարգ ընդհանուր կրթություն | G31: =G33 -> -22680 | H31: =H33 -> -22680 | I31: =I33 -> -22680
F32: այդ թվում`
C33: 01 | F33: Հիմնական ընդհանուր կրթություն | G33: =G35 -> -22680 | H33: =H35 -> -22680 | I33: =I35 -> -22680
F34: այդ թվում`
D35: 1146 | F35: Հանրակրթության ծրագիր | G35: =G37 -> -22680 | H35: =H37 -> -22680 | I35: =I37 -> -22680
F36: այդ թվում`
E37: 11026 | F37: Մասնակցություն սովորողների միջազգային գնահատման ծրագրին /PISA/ | G37: =G39 -> -22680 | H37: =H39 -> -22680 | I37: =I39 -> -22680
F38: այդ թվում` ըստ կատարողների
F39: ՀՀ կրթության, գիտության, մշակույթի և սպորտի նախարարություն | G39: =G41 -> -22680 | H39: =H41 -> -22680 | I39: =I41 -> -22680
F40: այդ թվում` բյուջետային ծախսերի տնտեսագիտական դասակարգման հոդվածներ
F41: ԸՆԴԱՄԵՆԸ ԾԱԽՍԵՐ | G41: =G42 -> -22680 | H41: =H42 -> -22680 | I41: =I42 -> -22680
F42: ԸՆԹԱՑԻԿ ԾԱԽՍԵՐ | G42: =G43 -> -22680 | H42: =H43 -> -22680 | I42: =I43 -> -22680
F43: ԴՐԱՄԱՇՆՈՐՀՆԵՐ | G43: =G44 -> -22680 | H43: =H44 -> -22680 | I43: =I44 -> -22680
F44: Ընթացիկ դրամաշնորհներ պետական հատվածի այլ մակարդակներին | G44: =G45 -> -22680 | H44: =H45 -> -22680 | I44: =I45 -> -22680
F45: - Ընթացիկ դրամաշնորհներ պետական և համայնքների ոչ առևտրային կազմակերպություններին | G45: =+'havelvac N 1'!G13 -> -22680 | H45: =+'havelvac N 1'!H13 -> -22680 | I45: =+'havelvac N 1'!I13 -> -22680

Sheet Հավելված N 3
F1: Հավելված N 3
F2: ՀՀ կառավարության 2026 թվականի
F3: ______________ ի ___Ն որոշման
A4: ՀԱՅԱՍՏԱՆԻ ՀԱՆՐԱՊԵՏՈՒԹՅԱՆ ԿԱՌԱՎԱՐՈՒԹՅԱՆ 2025 ԹՎԱԿԱՆԻ ԴԵԿՏԵՄԲԵՐԻ 25-Ի N 1910-Ն ՈՐՈՇՄԱՆ N 5 ՀԱՎԵԼՎԱԾԻ N 7 ԱՂՅՈՒՍԱԿՈՒՄ ԿԱՏԱՐՎՈՂ ՓՈՓՈԽՈՒԹՅՈՒՆՆԵՐԸ
A5: հազար դրամ
A6: Ծրագրային դասիչը | D6: Բյուջետային հատկացումների գլխավոր կարգադրիչների, ծրագրերի, միջոցառումների և միջոցառումները կատարող պետական մարմինների անվանումները | F6: Միջոցառումները կատարող պետական մարմինների և դրամաշնորհ ստացող տնտեսվարող սուբյեկտների անվանումները | G6: Ցուցանիշների փոփոխությունը (ավելացումները նշված են դրական նշանով, իսկ նվազեցումները՝ փակագծերում)
A7: Ծրագիր | B7: Միջոցառում | G7: Տարի
A8: ՀՀ կրթության, գիտության, մշակույթի և սպորտի նախարարություն | G8: =G9+G13 -> 0
A9: 1075 | B9: Մշակութային ժառանգության ծրագիր | G9: =+G10 -> 22680
B10: 11004 | C10: Թանգարանային ծառայություններ և ցուցահանդեսներ | G10: =+G11 -> 22680
F11: ՀՀ կրթության, գիտության, մշակույթի և սպորտի նախարարություն | G11: =G12 -> 22680
F12: Մշակույթի զարգացման հիմնադրամ | G12: =+'havelvac N 1'!I11 -> 22680
A13: 1146 | B13: Հանրակրթության ծրագիր | G13: =G14 -> -22680
B14: 11026 | C14: Մասնակցություն սովորողների միջազգային գնահատման ծրագրին /PISA/ | F14: ՀՀ կրթության, գիտության, մշակույթի և սպորտի նախարարություն | G14: =G15 -> -22680
F15: «Գնահատման և թեստավորման կենտրոն» ՊՈԱԿ | G15: =+'havelvac N 1'!I13 -> -22680

Sheet havelvac 4
L1: Հավելված N 4
I2: ՀՀ կառավարության 2026 թվականի -ի N -Ն որոշման
A3: ՀԱՅԱՍՏԱՆԻ ՀԱՆՐԱՊԵՏՈՒԹՅԱՆ ԿԱՌԱՎԱՐՈՒԹՅԱՆ 2025 ԹՎԱԿԱՆԻ ԴԵԿՏԵՄԲԵՐԻ 25-Ի N 1910-Ն ՈՐՈՇՄԱՆ N 9 ՀԱՎԵԼՎԱԾՈՒՄ ԿԱՏԱՐՎՈՂ ՓՈՓՈԽՈՒԹՅՈՒՆՆԵՐԸ ԵՎ ԼՐԱՑՈՒՄՆԵՐԸ
K4: հազար դրամներով
A5: ԲԳԿ | B5: Ծրագիր | D5: Միջոցառում | H5: Իրականացնողը/ ակտիվն օգտագործողը/ շահառուի ընտրության չափորոշիչը | I5: Արդյունքային չափորոշիչը | J5: Ցուցանիշների փոփոխությունը (ավելացումները նշված են դրական նշանով, իսկ նվազեցումները նշված են փակագծերում)
B6: Դասիչը | C6: Անվանումը | D6: Դասիչը | E6: Անվանումը | F6: Նկարագրությունը | G6: Տեսակը | J6: Առաջին կիսամյակ | K6: Ինն ամիս | L6: Տարի
A7: ԸՆԴԱՄԵՆԸ | J7: =J8 -> 0 | K7: =K8 -> 0 | L7: =L8 -> 0
A8: ՀՀ կրթության, գիտության, մշակույթի և սպորտի նախարարություն | J8: =J9+J15 -> 0 | K8: =K9+K15 -> 0 | L8: =L9+L15 -> 0
B9: 1075 | C9: Մշակութային ժառանգության ծրագիր | J9: =+J10 -> 22680 | K9: =+K10 -> 22680 | L9: =+'havelvac N 1'!I11 -> 22680
D10: 1075 - 11004 | E10: Թանգարանային ծառայություններ և ցուցահանդեսներ | J10: =+'havelvac N 1'!G11 -> 22680 | K10: =+'havelvac N 1'!H11 -> 22680 | L10: =+'havelvac N 1'!I11 -> 22680
F11: Թանգարանային նմուշների պահպանություն, ցուցահանդեսների կազմակերպում, մասնագետների վերապատրաստում
G12: Ծառայությունների մատուցում
G13: Ծառայությունը մատուցողի անվանումը` Մասնագիտացված կազմակերպություն
I14: Հուշանվերների քանակ, հատ | J14: 63500 | L14: 63500
B15: 1146 | C15: Հանրակրթության ծրագիր | J15: ='havelvac N 2'!G33 -> -22680 | K15: ='havelvac N 2'!H33 -> -22680 | L15: ='havelvac N 2'!I33 -> -22680
D16: 1146-11026 | E16: Մասնակցություն սովորողների միջազգային գնահատման ծրագրին /PISA/ | J16: ='havelvac N 2'!G37 -> -22680 | K16: ='havelvac N 2'!H37 -> -22680 | L16: ='havelvac N 2'!I37 -> -22680
F17: 2025 թվականին Հայաստանում սովորողների միջազգային գնահատման ծրագրի /PISA/ կազմակերպում և անցկացում, այդ թվում` անդամավճարի փոխանցում
F18: Ծառայությունների մատուցում | G18: Ծառայությունների մատուցում
H19: Ծառայությունները մատուցողի անվանումը՝ մասնագիտացված կազմակերպություն
I20: PISA-2028 միջազգային գնահատման ծրագրին անդամակցության վճար | L20: -1

Sheet havelvac 5
L1: Հավելված N 5
I2: ՀՀ կառավարության 2026 թվականի -ի N -Ն որոշման
A3: ՀԱՅԱՍՏԱՆԻ ՀԱՆՐԱՊԵՏՈՒԹՅԱՆ ԿԱՌԱՎԱՐՈՒԹՅԱՆ 2025 ԹՎԱԿԱՆԻ ԴԵԿՏԵՄԲԵՐԻ 25-Ի N 1910-Ն ՈՐՈՇՄԱՆ N 9.1 ՀԱՎԵԼՎԱԾՈՒՄ ԿԱՏԱՐՎՈՂ ՓՈՓՈԽՈՒԹՅՈՒՆՆԵՐԸ ԵՎ ԼՐԱՑՈՒՄՆԵՐԸ
K4: հազար դրամներով
A5: ԲՍԿ | B5: Ծրագիր | D5: Միջոցառում | H5: Իրականացնողը/ ակտիվն օգտագործողը/ շահառուի ընտրության չափորոշիչը | I5: Արդյունքային չափորոշիչը | J5: Ցուցանիշների փոփոխությունը (ավելացումները նշված են դրական նշանով, իսկ նվազեցումները նշված են փակագծերում)
B6: Դասիչը | C6: Անվանումը | D6: Դասիչը | E6: Անվանումը | F6: Նկարագրությունը | G6: Տեսակը | J6: Առաջին կիսամյակ | K6: Ինն ամիս | L6: Տարի
A7: ԸՆԴԱՄԵՆԸ | J7: =J8 -> 0 | K7: =K8 -> 0 | L7: =L8 -> 0
A8: ՀՀ կրթության, գիտության, մշակույթի և սպորտի նախարարություն | J8: =J9+J15 -> 0 | K8: =K9+K15 -> 0 | L8: =L9+L15 -> 0
B9: 1075 | C9: Մշակութային ժառանգության ծրագիր | J9: =+J10 -> 22680 | K9: =+K10 -> 22680 | L9: =+L10 -> 22680
D10: 1075 - 11004 | E10: Թանգարանային ծառայություններ և ցուցահանդեսներ | J10: =+'havelvac N 1'!G11 -> 22680 | K10: =+'havelvac N 1'!H11 -> 22680 | L10: =+'havelvac N 1'!I11 -> 22680
F11: Թանգարանային նմուշների պահպանություն, ցուցահանդեսների կազմակերպում, մասնագետների վերապատրաստում
G12: Ծառայությունների մատուցում
G13: Ծառայությունը մատուցողի անվանումը` Մասնագիտացված կազմակերպություն
I14: Հուշանվերների քանակ, հատ | J14: 63500 | L14: 63500
B15: 1146 | C15: Հանրակրթության ծրագիր | J15: ='havelvac N 2'!G33 -> -22680 | K15: ='havelvac N 2'!H33 -> -22680 | L15: ='havelvac N 2'!I33 -> -22680
D16: 1146-11026 | E16: Մասնակցություն սովորողների միջազգային գնահատման ծրագրին /PISA/ | J16: ='havelvac N 2'!G37 -> -22680 | K16: ='havelvac N 2'!H37 -> -22680 | L16: ='havelvac N 2'!I37 -> -22680
F17: 2025 թվականին Հայաստանում սովորողների միջազգային գնահատման ծրագրի /PISA/ կազմակերպում և անցկացում, այդ թվում` անդամավճարի փոխանցում
F18: Ծառայությունների մատուցում | G18: Ծառայությունների մատուցում
H19: Ծառայությունները մատուցողի անվանումը՝ մասնագիտացված կազմակերպություն
I20: PISA-2028 միջազգային գնահատման ծրագրին անդամակցության վճար | L20: -1
