Workbook
Name a: #REF!
Name a: #REF!
Name a: #REF!
Name AgencyCode: #REF!
Name AgencyCode: #REF!
Name AgencyCode: #REF!
Name AgencyCode: #REF!
Name AgencyName: #REF!
Name AgencyName: #REF!
Name AgencyName: #REF!
Name åû: #REF!
Name åû: #REF!
Name BOP: #REF!
Name BOPfoot: #REF!
Name davit: #REF!
Name davit: #REF!
Name DebtCG: #REF!
Name DebtGG: #REF!
Name Functional1: #REF!
Name Functional1: #REF!
Name Functional1: #REF!
Name ggg: #REF!
Name ggg: #REF!
Name hav: #REF!
Name mas: #REF!
Name mas: #REF!
Name mass: #REF!
Name mass: #REF!
Name MonExo: #REF!
Name MonGrow: #REF!
Name PANature: #REF!
Name PANature: #REF!
Name PANature: #REF!
Name PAType: #REF!
Name PAType: #REF!
Name PAType: #REF!
Name Performance2: #REF!
Name Performance2: #REF!
Name Performance2: #REF!
Name PerformanceType: #REF!
Name PerformanceType: #REF!
Name PerformanceType: #REF!
Name RealExo: #REF!
Name RealPercent: #REF!
Name Table_2._Turkey__Exogenous_assumptions: #REF!
Name vlom: #REF!
Name x: #REF!
Name x: #REF!
Name x: #REF!
Name Z_248BE2BA_E445_11D3_BFE0_00003960F508_.wvu.Cols: #REF!
Name Հավելված: #REF!
Name Հավելված: #REF!
Name Հավելված10: #REF!
Name Հավելված10: #REF!
Name Հավելված11: #REF!
Name Հավելված11: #REF!
Name Հավելված20: #REF!
Name Հավելված20: #REF!
Name Հավելված9: #REF!
Name Հավելված9: #REF!

Sheet Հավելված N 1
F1: Հավելված N 1
F2: ՀՀ կառավարության 2026 թվականի
F3: ______________ ի ___Ն որոշման
A7: ՀԱՅԱՍՏԱՆԻ ՀԱՆՐԱՊԵՏՈՒԹՅԱՆ ԿԱՌԱՎԱՐՈՒԹՅԱՆ 2025 ԹՎԱԿԱՆԻ ԴԵԿՏԵՄԲԵՐԻ 25-Ի N 1910-Ն ՈՐՈՇՄԱՆ N 3 ԵՎ N 4 ՀԱՎԵԼՎԱԾՆԵՐՈՒՄ ԿԱՏԱՐՎՈՂ ՓՈՓՈԽՈՒԹՅՈՒՆԸ ԵՎ ԼՐԱՑՈՒՄԸ
I10: հազ. դրամներով
A11: Գործառական դասիչը | D11: Ծրագրային դասիչը | F11: Բյուջետային հատկացումների գլխավոր կարգադրիչների, ծրագրերի, միջոցառումների և միջոցառումները կատարող պետական մարմինների անվանումները | G11: Ցուցանիշների փոփոխությունը (ավելացումները նշված են դրական նշանով, իսկ նվազեցումները փակագծերում)
A12: Բաժին | B12: Խումբ | C12: Դաս | D12: Ծրագիր | E12: Միջոցառում | G12: Առաջին կիսամյակ | H12: Ինն ամիս | I12: Տարի
F13: ԸՆԴԱՄԵՆԸ | G13: =+G15 -> 0 | H13: =+H15 -> 0 | I13: =+I15 -> 0
F14: այդ թվում՝
F15: ՀՀ ԿՐԹՈՒԹՅԱՆ, ԳԻՏՈՒԹՅԱՆ, ՄՇԱԿՈՒՅԹԻ ԵՎ ՍՊՈՐՏԻ ՆԱԽԱՐԱՐՈՒԹՅՈՒՆ | G15: =+G16 -> 0 | H15: =+H16 -> 0 | I15: =+I16 -> 0
A16: 08 | F16: ՀԱՆԳԻՍՏ, ՄՇԱԿՈՒՅԹ ԵՎ ԿՐՈՆ | G16: =+G18 -> 0 | H16: =+H18 -> 0 | I16: =+I18 -> 0
F17: այդ թվում`
B18: 01 | F18: Հանգստի և սպորտի ծառայություններ | G18: =+G20 -> 0 | H18: =+H20 -> 0 | I18: =+I20 -> 0
F19: այդ թվում`
C20: 01 | F20: Հանգստի և սպորտի ծառայություններ | G20: =+G22 -> 0 | H20: =+H22 -> 0 | I20: =+I22 -> 0
F21: այդ թվում`
F22: ՀՀ կրթության, գիտության, մշակույթի և սպորտի նախարարություն | G22: =+G24 -> 0 | H22: =+H24 -> 0 | I22: =+I24 -> 0
F23: այդ թվում`
D24: 1163 | E24: Մասսայական սպորտ | G24: =+G26 -> 0 | H24: =+H26 -> 0 | I24: =+I26 -> 0
F25: այդ թվում`
E26: 32006 | F26: Ֆուտբոլի ենթակառուցվածքների զարգացման նպատակով մարզադաշտերի և մարզադպրոցների կառուցում | G26: =+G28 -> 0 | H26: =+H28 -> 0 | I26: =+I28 -> 0
F27: այդ թվում` ըստ կատարողների
F28: ՀՀ քաղաքաշինության կոմիտե | G28: =+G30 -> 0 | H28: =+H30 -> 0 | I28: =+I30 -> 0
F29: այդ թվում` բյուջետային ծախսերի տնտեսագիտական դասակարգման հոդվածներ
F30: ԸՆԴԱՄԵՆԸ ԾԱԽՍԵՐ | G30: =G31 -> 0 | H30: =H31 -> 0 | I30: =I31 -> 0
F31: ՈՉ ՖԻՆԱՆՍԱԿԱՆ ԱԿՏԻՎՆԵՐԻ ԳԾՈՎ ԾԱԽՍԵՐ | G31: =+G32 -> 0 | H31: =+H32 -> 0 | I31: =+I32 -> 0
F32: ՀԻՄՆԱԿԱՆ ՄԻՋՈՑՆԵՐ | G32: =G33+G35 -> 0 | H32: =H33+H35 -> 0 | I32: =I33+I35 -> 0
F33: ՇԵՆՔԵՐ ԵՎ ՇԻՆՈՒԹՅՈՒՆՆԵՐ | G33: =+G34 -> 0 | H33: =+H34 -> -81760 | I33: =+I34 -> -177828
F34: - Շենքերի և շինությունների շինարարություն | G34: =+'Հավելված N 3'!E18 -> 0 | H34: =+'Հավելված N 3'!F18 -> -81760 | I34: =+'Հավելված N 3'!G18 -> -177828
F35: ԱՅԼ ՀԻՄՆԱԿԱՆ ՄԻՋՈՑՆԵՐ | G35: =+G36 -> 0 | H35: =+H36 -> 81760 | I35: =+I36 -> 177828
F36: - Նախագծահետազոտական ծախսեր | G36: =+'Հավելված N 3'!E20 -> 0 | H36: =+'Հավելված N 3'!F20 -> 81760 | I36: =+'Հավելված N 3'!G20 -> 177828

Sheet Հավելված N 2
F1: Հավելված N 2
F2: ՀՀ կառավարության 2026 թվականի
F3: ______________ ի ___Ն որոշման
A5: «ՀԱՅԱUՏԱՆԻ ՀԱՆՐԱՊԵՏՈՒԹՅԱՆ 2026 ԹՎԱԿԱՆԻ ՊԵՏԱԿԱՆ ԲՅՈՒՋԵԻ ՄԱUԻՆ» ՀԱՅԱUՏԱՆԻ ՀԱՆՐԱՊԵՏՈՒԹՅԱՆ OՐԵՆՔԻ N 1 ՀԱՎԵԼՎԱԾԻ N 3 ԱՂՅՈՒՍԱԿՈՒՄ ԿԱՏԱՐՎՈՂ ՓՈՓՈԽՈՒԹՅՈՒՆԸ ԵՎ ԼՐԱՑՈՒՄԸ
G8: հազ. դրամներով
A9: Ծրագրային դասիչ | C9: Բյուջետային գլխավոր կարգադրիչների, ծրագրերի, միջոցառումների, միջոցառումները կատարող պետական մարմինների և ուղղությունների անվանումները | D9: Ընդամենը | E9: Ցուցանիշների փոփոխությունը (ավելացումները նշված են փակագծերում, իսկ նվազեցումները՝ փակագծերում)
A10: Ծրագիր | B10: Միջոցառում | E10: Կառուցման աշխատանքներ | F10: Վերակառուցման, վերանորոգման և վերականգնման աշխատանքներ | G10: Նախագծահե- տազոտական, գեոդեզիա- քարտեզագրա- կան աշխա- տանքներ | H10: Ոչ ֆինանսական այլ ակտիվների ձեռքբերում
C11: ԸՆԴԱՄԵՆԸ | D11: =SUM(E11:H11) -> 0 | E11: =+E13 -> -177828 | F11: =+F13 -> 0 | G11: =+G13 -> 177828 | H11: =+H13 -> 0
C12: այդ թվում՝
C13: ՀՀ ԿՐԹՈՒԹՅԱՆ, ԳԻՏՈՒԹՅԱՆ, ՄՇԱԿՈՒՅԹԻ ԵՎ ՍՊՈՐՏԻ ՆԱԽԱՐԱՐՈՒԹՅՈՒՆ | D13: =SUM(E13:H13) -> 0 | E13: =+E15 -> -177828 | F13: =+F15 -> 0 | G13: =+G15 -> 177828 | H13: =+H15 -> 0
C14: այդ թվում`
A15: 1163 | B15: 32006 | C15: Ֆուտբոլի ենթակառուցվածքների զարգացման նպատակով մարզադաշտերի և մարզադպրոցների կառուցում | D15: =SUM(E15:H15) -> 0 | E15: =+E17+E19 -> -177828 | F15: =+F17+F19 -> 0 | G15: =+G17+G19 -> 177828 | H15: =+H17+H19 -> 0
C16: այդ թվում`
C17: ՀՀ Լոռու մարզ | D17: =SUM(E17:H17) -> -177828 | E17: =SUM(E18:E18) -> -177828 | F17: =SUM(F18:F18) -> 0 | G17: =SUM(G18:G18) -> 0 | H17: =SUM(H18:H18) -> 0
C18: Ֆուտբոլի մարզադաշտ Վանաձորում ՈՒԵՖԱ ստանդարտներով | D18: =+E18+F18+G18+H18 -> -177828 | E18: =+'Հավելված N 6'!I17 -> -177828
C19: ՀՀ Տավուշի մարզ | D19: =SUM(E19:H19) -> 177828 | E19: =SUM(E20:E20) -> 0 | F19: =SUM(F20:F20) -> 0 | G19: =SUM(G20:G20) -> 177828 | H19: =SUM(H20:H20) -> 0
C20: Ֆուտբոլի մարզադաշտ Իջևանում ՈՒԵՖԱ ստանդարտներով | D20: =+E20+F20+G20+H20 -> 177828 | G20: =+'Հավելված N 6'!I19 -> 177828

Sheet Հավելված N 3
F1: Հավելված N 3
E2: ՀՀ կառավարության 2026 թվականի
F3: ______________ ի ___Ն որոշման
B6: ՀԱՅԱՍՏԱՆԻ ՀԱՆՐԱՊԵՏՈՒԹՅԱՆ ԿԱՌԱՎԱՐՈՒԹՅԱՆ 2025 ԹՎԱԿԱՆԻ ԴԵԿՏԵՄԲԵՐԻ 25-Ի N 1910-Ն ՈՐՈՇՄԱՆ N 5 ՀԱՎԵԼՎԱԾԻ N 2 ԱՂՅՈՒՍԱԿՈՒՄ ԿԱՏԱՐՎՈՂ ՓՈՓՈԽՈՒԹՅՈՒՆԸ ԵՎ ԼՐԱՑՈՒՄԸ
G8: հազ. դրամներով
B9: Ծրագրային դասիչ | D9: Բյուջետային գլխավոր կարգադրիչների, ծրագրերի, միջոցառումների, միջոցառումները կատարող պետական մարմինների և ուղղությունների անվանումները | E9: Ցուցանիշների փոփոխությունը (ավելացումները նշված են փակագծերում, իսկ նվազեցումները՝ փակագծերում)
B10: Ծրագիր | C10: Միջոցառում | E10: Առաջին կիսամյակ | F10: Ինն ամիս | G10: Տարի
D11: ՀՀ ԿՐԹՈՒԹՅԱՆ, ԳԻՏՈՒԹՅԱՆ, ՄՇԱԿՈՒՅԹԻ ԵՎ ՍՊՈՐՏԻ ՆԱԽԱՐԱՐՈՒԹՅՈՒՆ | E11: =+E13 -> 0 | F11: =+F13 -> 0 | G11: =+G13 -> 0
D12: այդ թվում՝
B13: 1163 | C13: 32006 | D13: Ֆուտբոլի ենթակառուցվածքների զարգացման նպատակով մարզադաշտերի և մարզադպրոցների կառուցում | E13: =+E15 -> 0 | F13: =+F15 -> 0 | G13: =+G15 -> 0
D14: այդ թվում` ըստ կատարողների
D15: ՀՀ քաղաքաշինության կոմիտե | E15: =+E17+E19 -> 0 | F15: =+F17+F19 -> 0 | G15: =+G17+G19 -> 0
D16: այդ թվում՝ ըստ ուղղությունների
D17: ՀՀ Լոռու մարզ | E17: =SUM(E18:E18) -> 0 | F17: =SUM(F18:F18) -> -81760 | G17: =SUM(G18:G18) -> -177828
D18: =+'Հավելված N 2'!C18 -> Ֆուտբոլի մարզադաշտ Վանաձորում ՈՒԵՖԱ ստանդարտներով | E18: 0 | F18: -81760 | G18: =+'Հավելված N 2'!D18 -> -177828
D19: ՀՀ Տավուշի մարզ | E19: =SUM(E20:E20) -> 0 | F19: =SUM(F20:F20) -> 81760 | G19: =SUM(G20:G20) -> 177828
D20: =+'Հավելված N 2'!C20 -> Ֆուտբոլի մարզադաշտ Իջևանում ՈՒԵՖԱ ստանդարտներով | E20: 0 | F20: 81760 | G20: =+'Հավելված N 2'!D20 -> 177828

Sheet Հավելված N 4
J1: Հավելված N 4
J2: ՀՀ կառավարության 2026 թվականի
J3: ______________ ի ___Ն որոշման
A6: ՀԱՅԱՍՏԱՆԻ ՀԱՆՐԱՊԵՏՈՒԹՅԱՆ ԿԱՌԱՎԱՐՈՒԹՅԱՆ 2025 ԹՎԱԿԱՆԻ ԴԵԿՏԵՄԲԵՐԻ 25-Ի N 1910-Ն ՈՐՈՇՄԱՆ N 9 ՀԱՎԵԼՎԱԾՈՒՄ ԿԱՏԱՐՎՈՂ ԼՐԱՑՈՒՄԸ
K8: հազար դրամներոով
A9: ԲԳԿ | B9: Ծրագիր | D9: Միջոցառում | H9: Իրականացնողը/ ակտիվն օգտագործողը/ շահառուի ընտրության չափորոշիչը | I9: Արդյունքային չափորոշիչը | J9: Ցուցանիշների փոփոխությունը (ավելացումները նշված են դրական նշանով)
B10: Դասիչը | C10: Անվանումը | D10: Դասիչը | E10: Անվանումը | F10: Նկարագրությունը | G10: Տեսակը | J10: Առաջին կիսամյակ | K10: Ինն ամիս | L10: Տարի
A11: ԸՆԴԱՄԵՆԸ | J11: =+J13 -> 0 | K11: =+K13 -> 0 | L11: =+L13 -> 0
A12: այդ թվում՝
A13: ՀՀ ԿՐԹՈՒԹՅԱՆ, ԳԻՏՈՒԹՅԱՆ, ՄՇԱԿՈԻՅԹԻ ԵՎ ՍՊՈՐՏԻ ՆԱԽԱՐԱՐՈՒԹՅՈՒՆ | J13: =+J14 -> 0 | K13: =+K14 -> 0 | L13: =+L14 -> 0
B14: 1163 | C14: Մասսայական սպորտ | J14: =+J15 -> 0 | K14: =+K15 -> 0 | L14: =+L15 -> 0
D15: 1163 - 32006 | E15: Ֆուտբոլի ենթակառուցվածքների զարգացման նպատակով մարզադաշտերի և մարզադպրոցների կառուցում | J15: =+'Հավելված N 1'!G26 -> 0 | K15: =+'Հավելված N 1'!H26 -> 0 | L15: =+'Հավելված N 1'!I26 -> 0
F16: Ֆուտբոլի դպրոցների և ՈՒԵՖԱ ստանդարտներով ֆուտբոլի մարզադաշտերի նախագծում և կառուցում
G17: Այլ պետական կազմակերպությունների կողմից օգտագործվող ոչ ֆինանսական ակտիվների հետ գործառնություններ
H18: Ակտիվն օգտագործող կազմակերպության անվանումը` «Գնումների մասին» ՀՀ օրենքի համաձայն ընտրված կազմակերպություն
I19: Նախագծանախահաշվային փաստաթղթերի քանակը, հատ | L19: 1

Sheet Հավելված N 5
J1: Հավելված N 5
J2: ՀՀ կառավարության 2026 թվականի
J3: ______________ ի ___Ն որոշման
A6: ՀԱՅԱՍՏԱՆԻ ՀԱՆՐԱՊԵՏՈՒԹՅԱՆ ԿԱՌԱՎԱՐՈՒԹՅԱՆ 2025 ԹՎԱԿԱՆԻ ԴԵԿՏԵՄԲԵՐԻ 25-Ի N 1910-Ն ՈՐՈՇՄԱՆ N 9.1 ՀԱՎԵԼՎԱԾՈՒՄ ԿԱՏԱՐՎՈՂ ԼՐԱՑՈՒՄԸ
K8: հազար դրամներոով
A9: ԲՍԿ | B9: Ծրագիր | D9: Միջոցառում | H9: Իրականացնողը/ ակտիվն օգտագործողը/ շահառուի ընտրության չափորոշիչը | I9: Արդյունքային չափորոշիչը | J9: Ցուցանիշների փոփոխությունը (ավելացումները նշված են դրական նշանով)
B10: Դասիչը | C10: Անվանումը | D10: Դասիչը | E10: Անվանումը | F10: Նկարագրությունը | G10: Տեսակը | J10: Առաջին կիսամյակ | K10: Ինն ամիս | L10: Տարի
A11: ԸՆԴԱՄԵՆԸ | J11: =+J13 -> 0 | K11: =+K13 -> 0 | L11: =+L13 -> 0
A12: այդ թվում՝
A13: ՀՀ ՔԱՂԱՔԱՇԻՆՈՒԹՅԱՆ ԿՈՄԻՏԵ | J13: =+J14 -> 0 | K13: =+K14 -> 0 | L13: =+L14 -> 0
B14: 1163 | C14: Մասսայական սպորտ | J14: =+J15 -> 0 | K14: =+K15 -> 0 | L14: =+L15 -> 0
D15: 1163 - 32006 | E15: Ֆուտբոլի ենթակառուցվածքների զարգացման նպատակով մարզադաշտերի և մարզադպրոցների կառուցում | J15: =+'Հավելված N 1'!G26 -> 0 | K15: =+'Հավելված N 1'!H26 -> 0 | L15: =+'Հավելված N 1'!I26 -> 0
F16: Ֆուտբոլի դպրոցների և ՈՒԵՖԱ ստանդարտներով ֆուտբոլի մարզադաշտերի նախագծում և կառուցում
G17: Այլ պետական կազմակերպությունների կողմից օգտագործվող ոչ ֆինանսական ակտիվների հետ գործառնություններ
H18: Ակտիվն օգտագործող կազմակերպության անվանումը` «Գնումների մասին» ՀՀ օրենքի համաձայն ընտրված կազմակերպություն
I19: Նախագծանախահաշվային փաստաթղթերի քանակը, հատ | L19: 1

Sheet Հավելված N 6
H1: Հավելված N 6
H2: ՀՀ կառավարության 2026 թվականի
H3: ______________ ի ___Ն որոշման
A6: ՀԱՅԱՍՏԱՆԻ ՀԱՆՐԱՊԵՏՈՒԹՅԱՆ ԿԱՌԱՎԱՐՈՒԹՅԱՆ 2025 ԹՎԱԿԱՆԻ ԴԵԿՏԵՄԲԵՐԻ 25-Ի N 1910-Ն N 10 ՀԱՎԵԼՎԱԾՈՒՄ ԿԱՏԱՐՎՈՂ ՓՈՓՈԽՈՒԹՅՈՒՆԸ ԵՎ ԼՐԱՑՈՒՄԸ
A10: Կոդը | B10: Անվանումը | E10: Գնման ձևը | F10: Չափման միավորը | G10: Միավորի գինը | H10: Ցուցանիշների փոփոխությունը (ավելացումները նշված են փակագծերում, իսկ նվազեցումները՝ փակագծերում)
H11: Քանակը | I11: Գումարը (հազար դրամ)
A12: 1 | B12: 2 | E12: 3 | F12: 4 | G12: 5 | H12: 6 | I12: 7
A13: ՀՀ քաղաքաշինության կոմիտե | I13: =+I14 -> 0
A14: Բաժին N 08 | B14: Խումբ N 01 | C14: Դաս N 01 | D14: Հանգստի և սպորտի ծառայություններ | I14: =+I15 -> 0
A15: 1163-32006 | B15: Ֆուտբոլի ենթակառուցվածքների զարգացման նպատակով մարզադաշտերի և մարզադպրոցների կառուցում | I15: =+I16+I18 -> 0
B16: ՄԱՍ II. ԱՇԽԱՏԱՆՔՆԵՐ | I16: =SUM(I17:I17) -> -177828
A17: 45221142-1 | B17: ընդհանուր շինարարական աշխատանքներ | E17: ԲՄ | F17: դրամ | I17: -177828
B18: ՄԱՍ III. ԾԱՌԱՅՈՒԹՅՈՒՆՆԵՐ | I18: =SUM(I19:I19) -> 177828
A19: 71241200-1 | B19: նախագծերի պատրաստում, ծախսերի գնահատում | E19: ՀՄԱ | F19: դրամ | G19: 177828000 | H19: 1 | I19: =+H19*G19/1000 -> 177828
