Workbook
Name a: #REF!
Name a: #REF!
Name a: #REF!
Name a: #REF!
Name a: #REF!
Name a: #REF!
Name a: #REF!
Name AgencyCode: #REF!
Name AgencyCode: #REF!
Name AgencyCode: #REF!
Name AgencyCode: #REF!
Name AgencyCode: #REF!
Name AgencyCode: #REF!
Name AgencyName: #REF!
Name AgencyName: #REF!
Name AgencyName: #REF!
Name AgencyName: #REF!
Name AgencyName: #REF!
Name AgencyName: #REF!
Name åû: #REF!
Name åû: #REF!
Name åû: #REF!
Name BOP: #REF!
Name BOP: #REF!
Name BOP: #REF!
Name BOPfoot: #REF!
Name BOPfoot: #REF!
Name BOPfoot: #REF!
Name davit: #REF!
Name davit: #REF!
Name davit: #REF!
Name davit: #REF!
Name davit: #REF!
Name DebtCG: #REF!
Name DebtCG: #REF!
Name DebtCG: #REF!
Name DebtGG: #REF!
Name DebtGG: #REF!
Name DebtGG: #REF!
Name Functional1: #REF!
Name Functional1: #REF!
Name Functional1: #REF!
Name Functional1: #REF!
Name Functional1: #REF!
Name Functional1: #REF!
Name ggg: #REF!
Name ggg: #REF!
Name ggg: #REF!
Name ggg: #REF!
Name ggg: #REF!
Name hav: #REF!
Name hav: #REF!
Name hav: #REF!
Name mas: #REF!
Name mas: #REF!
Name mas: #REF!
Name mass: #REF!
Name mass: #REF!
Name mass: #REF!
Name MonExo: #REF!

Sheet 1
B1: Հավելված N 1
B2: ՀՀ կառավարության 2026 թվականի
B3: ______________ ի ___Ն որոշման
B6: «ՀԱՅԱՍՏԱՆԻ ՀԱՆՐԱՊԵՏՈՒԹՅԱՆ 2026 ԹՎԱԿԱՆԻ ՊԵՏԱԿԱՆ ԲՅՈՒՋԵԻ ՄԱՍԻՆ» ՕՐԵՆՔԻ 2-ՐԴ ՀՈԴՎԱԾԻ ԱՂՅՈՒՍԱԿՈՒՄ ԿԱՏԱՐՎՈՂ ՓՈՓՈԽՈՒԹՅՈՒՆՆԵՐԸ
C8: հազար դրամներով
C9: Ցուցանիշների փոփոխությունը (նվազեցումները նշված են փակագծերում)
B10: 1. Եկամուտների գծով | C10: 0
B11: 2. Ծախսերի գծով | C11: ='2'!E9 -> -93212.5
B12: 3. Դեֆիցիտը (պակասուրդը) | C12: =C11 -> -93212.5
B16: ՀԱՅԱՍՏԱՆԻ ՀԱՆՐԱՊԵՏՈՒԹՅԱՆ ՎԱՐՉԱՊԵՏԻ ԱՇԽԱՏԱԿԱԶՄԻ ՂԵԿԱՎԱՐ | C16: Ա. ՀԱՐՈՒԹՅՈՒՆՅԱՆ

Sheet 2
D1: Հավելված N 2
C2: ՀՀ կառավարության 2026 թվականի
C3: ______________ ի ___Ն որոշման
B5: «ՀԱՅԱUՏԱՆԻ ՀԱՆՐԱՊԵՏՈՒԹՅԱՆ 2026 ԹՎԱԿԱՆԻ ՊԵՏԱԿԱՆ ԲՅՈՒՋԵԻ ՄԱUԻՆ» ՕՐԵՆՔԻ 3-ՐԴ ՀՈԴՎԱԾԻ ԱՂՅՈՒՍԱԿՈՒՄ, N 3 ՀԱՎԵԼՎԱԾԻ N 1 ԱՂՅՈՒՍԱԿՈՒՄ ԵՎ ՀԱՅԱՍՏԱՆԻ ՀԱՆՐԱՊԵՏՈՒԹՅԱՆ ԿԱՌԱՎԱՐՈՒԹՅԱՆ 2025 ԹՎԱԿԱՆԻ ԴԵԿՏԵՄԲԵՐԻ 25-Ի N 1910-Ն ՈՐՈՇՄԱՆ N 1 ՀԱՎԵԼՎԱԾԻ N 1 ԱՂՅՈՒՍԱԿՈՒՄ ԿԱՏԱՐՎՈՂ ՓՈՓՈԽՈՒԹՅՈՒՆՆԵՐԸ
E6: հազար դրամներով
B7: Պետական բյուջեի դեֆիցիտի ֆինանսավորման աղբյուրներն ու դրանց տարրերի անվանումները | C7: Ցուցանիշների փոփոխությունը (նվազեցումները նշված են փակագծերում)
C8: Առաջին կիսամյակ | D8: Ինն ամիս | E8: Տարի
B9: ԸՆԴԱՄԵՆԸ | C9: 0 | D9: =D11 -> 0 | E9: =E11 -> -93212.5
B10: այդ թվում՝
B11: Բ. Արտաքին աղբյուրներ - ընդամենը | C11: 0 | D11: =D13 -> 0 | E11: =E13 -> -93212.5
B12: այդ թվում
B13: 1. Փոխառու զուտ միջոցներ | C13: 0 | D13: =D15 -> 0 | E13: =E15 -> -93212.5
B14: այդ թվում՝
B15: 1.1. Վարկերի և փոխատվությունների ստացում | C15: 0 | D15: =D17 -> 0 | E15: =E17 -> -93212.5
B16: որից`
B17: նպատակային վարկերի գծով | C17: 0 | D17: 0 | E17: -93212.5
B22: ՀԱՅԱՍՏԱՆԻ ՀԱՆՐԱՊԵՏՈՒԹՅԱՆ ՎԱՐՉԱՊԵՏԻ ԱՇԽԱՏԱԿԱԶՄԻ ՂԵԿԱՎԱՐ | C22: Ա. ՀԱՐՈՒԹՅՈՒՆՅԱՆ

Sheet 3
G1: Հավելված N 3
G2: ՀՀ կառավարության 2026 թվականի
G3: ______________ ի ___Ն որոշման
B6: «ՀԱՅԱUՏԱՆԻ ՀԱՆՐԱՊԵՏՈՒԹՅԱՆ 2026 ԹՎԱԿԱՆԻ ՊԵՏԱԿԱՆ ԲՅՈՒՋԵԻ ՄԱUԻՆ» ՀԱՅԱUՏԱՆԻ ՀԱՆՐԱՊԵՏՈՒԹՅԱՆ OՐԵՆՔԻ N 1 ՀԱՎԵԼՎԱԾԻ N 2 ԱՂՅՈՒՍԱԿՈՒՄ ՎԵՐԱԲԱՇԽՈՒՄ ԵՎ ՀԱՅԱՍՏԱՆԻ ՀԱՆՐԱՊԵՏՈՒԹՅԱՆ ԿԱՌԱՎԱՐՈՒԹՅԱՆ 2025 ԹՎԱԿԱՆԻ ԴԵԿՏԵՄԲԵՐԻ 25-Ի N 1910-Ն ՈՐՈՇՄԱՆ N 5 ՀԱՎԵԼՎԱԾԻ N 1 ԱՂՅՈՒՍԱԿՈՒՄ ԿԱՏԱՐՎՈՂ ՓՈՓՈԽՈՒԹՅՈՒՆՆԵՐԸ ԵՎ ԼՐԱՑՈՒՄՆԵՐԸ
J9: հազար դրամներով
B10: ԲԳԿ | C10: Ծրագրային դասիչը | E10: ԲԳԿ/Ծրագրի /միջոցառման անվանումը | F10: Ծրագրի նպատակը/Միջոցառման նկարագրությունը | G10: Վերջնական արդյունքի նկարագրությունը/Միջոցառման տեսակը | H10: Ցուցանիշների փոփոխությունը (ավելացումները նշված են դրական նշանով, իսկ նվազեցումները փակագծերում)
H11: Առաջին կիսամյակ | I11: Ինն ամիս | J11: Տարի
C12: Ծրագիր | D12: Միջոցառում
B13: ԸՆԴԱՄԵՆԸ | H13: =H14+H17+H20+H23 -> 0 | I13: =I14+I17+I20+I23 -> 0 | J13: =J14+J17+J20+J23 -> -93212.5
B14: ՀՀ տարածքային կառավարման և ենթակառուցվածքների նախարարություն | H14: =+H15 -> 0 | I14: =+I15 -> 230000 | J14: =+J15 -> 591838
C15: 1212 | E15: Տարածքային զարգացում | F15: Տարածքային համաչափ զարգացման խթանում | G15: ՀՀ համայնքների կառավարման արդյունավետության բարձրացում և տնտեսական գործունեության խթանում | H15: =H16 -> 0 | I15: =I16 -> 230000 | J15: =J16 -> 591838
D16: 32002 | E16: Եվրոպական ներդրումային բանկի աջակցությամբ իրականացվող «Հայաստան-Դիմակայուն Սյունիք» վարկային ծրագրի շրջանակներում կապիտալ ներդրումներ առողջապահության, կրթության և ջրային ոլորտներում | F16: Եվրոպական ներդրումային բանկի աջակցությամբ իրականացվող «Հայաստան-Դիմակայուն Սյունիք» վարկային ծրագրի շրջանակներում միջին մասնագիտական քոլեջների մասնաշենքերի կառուցում և առողջության առաջնային պահպանման կենտրոնների, բժշկական ամբուլատորիայի կառուցում և վերանորոգում, ջրամակարարման համակարգերի կառուցում և վերակառուցում | G16: Այլ պետական կազմակերպությունների կողմից օգտագործվող ոչ ֆինանսական ակտիվների հետ գործառնություններ | H16: ='4'!G25 -> 0 | I16: ='4'!H25 -> 230000 | J16: ='4'!I25 -> 591838
B17: ՀՀ կրթության , գիտության, մշակույթի և սպորտի նախարարություն | H17: =H18 -> 0 | I17: =I18 -> 0 | J17: =J18 -> -92112.5
C18: 1045 | E18: Մասնագիտական կրթության և ուսուցման ծրագիր | F18: Աշխատաշուկայի արդի պահանջներին համապատասխան արհեստագործական և միջին մասնագիտական կրթության որակավորում ունեցող մասնագետների պատրաստում, կրթության մատչելիության ապահովում: | G18: Արհեստագործական և միջին մասնագիտական կրթության գրավչության բարձրացում, մատչելի և մրցունակ արհեստագործական և միջին մասնագիտական կրթության ապահովում | H18: =H19 -> 0 | I18: =+I19 -> 0 | J18: =+J19 -> -92112.5
D19: 1045 - 32005 | E19: Մասնագիտական ուսումնական հաստատությունների շենքերի կառուցում | F19: Մասնագիտական ուսումնական հաստատությունների շենքերի (մասնաշենքերի) կառուցման և նախագծման աշխատանքների իրականացում | G19: Այլ պետական կազմակերպությունների կողմից օգտագործվող ոչ ֆինանսական ակտիվների հետ գործառնություններ | H19: ='4'!G58 -> 0 | I19: ='4'!H58 -> 0 | J19: ='4'!I58 -> -92112.5
B20: ՀՀ առողջապահության նախարարություն | H20: =H21 -> 0 | I20: =I21 -> -230000 | J20: =J21 -> -709372.9
C21: 1053 | E21: Առողջապահության համակարգի արդիականացման և արդյունավետության բարձրացման ծրագիր | F21: Առողջապահության համակարգի արդիականացում և զարգացում | G21: Առողջապահական ենթակառուցվածքների բարելավում, կարողությունների զարգացում | H21: =H22 -> 0 | I21: =I22 -> -230000 | J21: =J22 -> -709372.9
D22: 1053 - 32008 | E22: «Դիմակայուն Սյունիք» ծրագրի շրջանակներում առողջապահական կազմակերպությունների արդիականացում՛ կառուցում, վերազինում | F22: «Դիմակայուն Սյունիք» ծրագրի շրջանակներում առողջապահական կազմակերպությունների անհրաժեշտ շենքային պայմանների ապահովում, մարզային առողջապահական կազմակերպությունների անհրաժեշտ բժշկական սարքավորումներով և գույքով հագեցում | G22: Այլ պետական կազմակերպությունների կողմից օգտագործվող ոչ ֆինանսական ակտիվների հետ գործառնություններ | H22: 0 | I22: -230000 | J22: -709372.9
B23: ՀՀ կառավարություն | H23: =+H24 -> 0 | I23: =+I24 -> 0 | J23: =+J24 -> 116434.9
C24: 1139 | E24: ՀՀ կառավարության պահուստային ֆոնդ | F24: Պետական բյուջեում չկանխատեսված, ինչպես նաև բյուջետային երաշխիք ների ապահովման ծախսերի ֆինանսավորման ապահովում | G24: Պահուստային ֆոնդի կառավարման արդյունավետության և թափանցիկության ապահովում | H24: =+H25 -> 0 | I24: =I25+I26 -> 0 | J24: =J25+J26 -> 116434.9
D25: 1139 - 11001 | E25: ՀՀ կառավարության պահուստային ֆոնդ | F25: ՀՀ պետական բյուջեում նախատեսված ելքերի լրացուցիչ ֆինանսավորման, պետական բյուջեում չկանխատեսված ելքերի, ինչպես նաև բյուջետային երաշխիքների ապահովման ելքերի ֆինանսավորման ապահովում | G25: Ծառայությունների մատուցում | H25: ='4'!G98 -> 0 | I25: ='4'!H98 -> 46000 | J25: =-'6'!L41-'7'!G11 -> 233987.1
D26: 1139 - 11001 | E26: ՀՀ կառավարության պահուստային ֆոնդ | F26: ՀՀ պետական բյուջեում նախատեսված ելքերի լրացուցիչ ֆինանսավորման, պետական բյուջեում չկանխատեսված ելքերի, ինչպես նաև բյուջետային երաշխիքների ապահովման ելքերի ֆինանսավորման ապահովում | G26: Ծառայությունների մատուցում | H26: ='4'!G106 -> 0 | I26: ='4'!H106 -> -46000 | J26: =-'6'!L18 -> -117552.2
D35: ՀԱՅԱՍՏԱՆԻ ՀԱՆՐԱՊԵՏՈՒԹՅԱՆ
D36: ՎԱՐՉԱՊԵՏԻ ԱՇԽԱՏԱԿԱԶՄԻ
E37: ՂԵԿԱՎԱՐ ՝ Ա. ՀԱՐՈՒԹՅՈՒՆՅԱՆ

Sheet 4
F1: Հավելված N 4
F2: ՀՀ կառավարության 2026 թվականի
F3: ______________ ի ___Ն որոշման
A5: ՀԱՅԱՍՏԱՆԻ ՀԱՆՐԱՊԵՏՈՒԹՅԱՆ ԿԱՌԱՎԱՐՈՒԹՅԱՆ 2025 ԹՎԱԿԱՆԻ ԴԵԿՏԵՄԲԵՐԻ 25-Ի N 1910-Ն ՈՐՈՇՄԱՆ N 3 ԵՎ N 4 ՀԱՎԵԼՎԱԾՆԵՐՈՒՄ ԿԱՏԱՐՎՈՂ ՓՈՓՈԽՈՒԹՅՈՒՆՆԵՐԸ ԵՎ ԼՐԱՑՈՒՄՆԵՐԸ
I8: հազար դրամներով
A9: Գործառական դասիչը | D9: Ծրագրային դասիչը | F9: Բյուջետային հատկացումների գլխավոր կարգադրիչների, ծրագրերի, միջոցառումների և միջոցառումները կատարող պետական մարմինների անվանումները | G9: Ցուցանիշների փոփոխությունը (ավելացումները նշված են դրական նշանով, իսկ նվազեցումները փակագծերում)
A10: Բաժին | B10: Խումբ | C10: Դաս | D10: Ծրագիր | E10: Միջոցառում | G10: Առաջին կիսամյակ | H10: Ինն ամիս | I10: Տարի
F11: ԸՆԴԱՄԵՆԸ | G11: =G13+G44+G65 -> 0 | H11: =H13+H44+H65+H86 -> 0 | I11: =I13+I44+I65+I86 -> -93212.5
F12: այդ թվում՝
F13: ՀՀ ՏԱՐԱԾՔԱՅԻՆ ԿԱՌԱՎԱՐՄԱՆ ԵՎ ԵՆԹԱԿԱՌՈՒՑՎԱԾՔՆԵՐԻ ՆԱԽԱՐԱՐՈՒԹՅՈՒՆ | G13: =+G15 -> 0 | H13: =+H15 -> 230000 | I13: =+I15 -> 591838
F14: այդ թվում`
A15: 04 | F15: ՏՆՏԵՍԱԿԱՆ ՀԱՐԱԲԵՐՈՒԹՅՈՒՆՆԵՐ | G15: =+G17 -> 0 | H15: =+H17 -> 230000 | I15: =+I17 -> 591838
F16: այդ թվում`
B17: 09 | F17: Տնտեսական հարաբերություններ (այլ դասերին չպատկանող) | G17: =+G19 -> 0 | H17: =+H19 -> 230000 | I17: =+I19 -> 591838
F18: այդ թվում`
C19: 01 | F19: Տնտեսական հարաբերություններ (այլ դասերին չպատկանող) | G19: =+G21 -> 0 | H19: =+H21 -> 230000 | I19: =+I21 -> 591838
F20: այդ թվում`
F21: ՀՀ տարածքային կառավարման և ենթակառուցվածքների նախարարություն | G21: =+G23 -> 0 | H21: =+H23 -> 230000 | I21: =+I23 -> 591838
F22: այդ թվում`
D23: 1212 | F23: Տարածքային զարգացում | G23: =+G25 -> 0 | H23: =H25 -> 230000 | I23: =+I25 -> 591838
F24: այդ թվում`
E25: 32002 | F25: Եվրոպական ներդրումային բանկի աջակցությամբ իրականացվող «Հայաստան-Դիմակայուն Սյունիք» վարկային ծրագրի շրջանակներում կապիտալ ներդրումներ առողջապահության, կրթության և ջրային ոլորտներում | G25: =G27+G37 -> 0 | H25: =H27+H37 -> 230000 | I25: ='6'!J20 -> 591838
F26: այդ թվում` ըստ կատարողների
F27: ՀՀ առողջապահության նախարարություն | G27: ='6'!D22 -> 0 | H27: ='6'!G22 -> 205538 | I27: ='6'!J22 -> 567376
F28: այդ թվում` բյուջետային ծախսերի տնտեսագիտական դասակարգման հոդվածներ
F29: ԸՆԴԱՄԵՆԸ ԾԱԽՍԵՐ | G29: ='6'!D24 -> 0 | H29: ='6'!G24 -> 205538 | I29: ='6'!J24 -> 567376
F30: ՈՉ ՖԻՆԱՆՍԱԿԱՆ ԱԿՏԻՎՆԵՐԻ ԳԾՈՎ ԾԱԽՍԵՐ | G30: ='6'!D25 -> 0 | H30: ='6'!G25 -> 205538 | I30: ='6'!J25 -> 567376
F31: ՀԻՄՆԱԿԱՆ ՄԻՋՈՑՆԵՐ | G31: ='6'!D26 -> 0 | H31: ='6'!G26 -> 205538 | I31: ='6'!J26 -> 567376
F32: ՇԵՆՔԵՐ ԵՎ ՇԻՆՈՒԹՅՈՒՆՆԵՐ | G32: ='6'!D27 -> 0 | H32: ='6'!G27 -> 152210 | I32: ='6'!J27 -> 474448
F33: - Շենքերի և շինությունների շինարարություն | G33: ='6'!D28 -> 0 | H33: ='6'!G28 -> 114986 | I33: ='6'!J28 -> 400000
F34: - Շենքերի և շինությունների կապիտալ վերանորոգում | G34: ='6'!D29 -> 0 | H34: ='6'!G29 -> 37224 | I34: ='6'!J29 -> 74448
F35: ԱՅԼ ՀԻՄՆԱԿԱՆ ՄԻՋՈՑՆԵՐ | G35: ='6'!D30 -> 0 | H35: ='6'!G30 -> 53328 | I35: ='6'!J30 -> 92928
F36: - Նախագծահետազոտական ծախսեր | G36: ='6'!D31 -> 0 | H36: ='6'!G31 -> 53328 | I36: ='6'!J31 -> 92928
F37: ՀՀ կրթության, գիտության, մշակույթի և սպորտի նախարարություն | G37: ='6'!D32 -> 0 | H37: ='6'!G32 -> 24462 | I37: ='6'!J32 -> 24462
F38: այդ թվում` բյուջետային ծախսերի տնտեսագիտական դասակարգման հոդվածներ
F39: ԸՆԴԱՄԵՆԸ ԾԱԽՍԵՐ | G39: ='6'!D34 -> 0 | H39: ='6'!G34 -> 24462 | I39: ='6'!J34 -> 24462
F40: ՈՉ ՖԻՆԱՆՍԱԿԱՆ ԱԿՏԻՎՆԵՐԻ ԳԾՈՎ ԾԱԽՍԵՐ | G40: ='6'!D35 -> 0 | H40: ='6'!G35 -> 24462 | I40: ='6'!J35 -> 24462
F41: ՀԻՄՆԱԿԱՆ ՄԻՋՈՑՆԵՐ | G41: ='6'!D36 -> 0 | H41: ='6'!G36 -> 24462 | I41: ='6'!J36 -> 24462
F42: ԱՅԼ ՀԻՄՆԱԿԱՆ ՄԻՋՈՑՆԵՐ | G42: ='6'!D37 -> 0 | H42: ='6'!G37 -> 24462 | I42: ='6'!J37 -> 24462
F43: - Նախագծահետազոտական ծախսեր | G43: ='6'!D38 -> 0 | H43: ='6'!G38 -> 24462 | I43: ='6'!J38 -> 24462
...

Sheet 5
F1: Հավելված N 5
E2: ՀՀ կառավարության 2026 թվականի
F3: ______________ ի ___Ն որոշման
B6: ՀԱՅԱՍՏԱՆԻ ՀԱՆՐԱՊԵՏՈՒԹՅԱՆ ԿԱՌԱՎԱՐՈՒԹՅԱՆ 2025 ԹՎԱԿԱՆԻ ԴԵԿՏԵՄԲԵՐԻ 25-Ի N 1910-Ն ՈՐՈՇՄԱՆ N 5 ՀԱՎԵԼՎԱԾԻ N 2 ԱՂՅՈՒՍԱԿՈՒՄ ԿԱՏԱՐՎՈՂ ՓՈՓՈԽՈՒԹՅՈՒՆՆԵՐԸ
G8: հազար դրամներով
B9: Ծրագրային դասիչ | D9: Բյուջետային գլխավոր կարգադրիչների, ծրագրերի, միջոցառումների, միջոցառումները կատարող պետական մարմինների և ուղղությունների անվանումները | E9: Ցուցանիշների փոփոխությունը (նվազեցումները նշված են փակագծերում)
B10: Ծրագիր | C10: Միջոցառում | E10: Առաջին կիսամյակ | F10: Ինն ամիս | G10: Տարի
D11: ՀՀ կրթության , գիտության, մշակույթի և սպորտի նախարարություն | E11: =+E13 -> 0 | F11: =+F13 -> 0 | G11: =+G13 -> -92112.5
D12: այդ թվում՝
B13: 1045 | C13: 32005 | D13: Մասնագիտական ուսումնական հաստատությունների շենքերի կառուցում | E13: =+E15 -> 0 | F13: =+F15 -> 0 | G13: =+G15 -> -92112.5
D14: այդ թվում` ըստ կատարողների
D15: ՀՀ քաղաքաշինության կոմիտե | E15: =+E17 -> 0 | F15: =+F17 -> 0 | G15: =+G17 -> -92112.5
D16: այդ թվում՝ ըստ ուղղությունների
D17: ՀՀ Սյունիքի մարզ | E17: =SUM(E18:E19) -> 0 | F17: =SUM(F18:F19) -> 0 | G17: =SUM(G18:G19) -> -92112.5
D18: «Սիսիանի պետական քոլեջ» ՊՈԱԿ | E18: 0 | F18: 0 | G18: =+'[1]Հավելված 1.3'!D18 -> -41869.3
D19: «Սյունիքի տարածաշրջանային պետական քոլեջ» ՊՈԱԿ | E19: 0 | F19: 0 | G19: =+'[1]Հավելված 1.3'!D19 -> -50243.2
C24: ՎԱՐՉԱՊԵՏԻ ԱՇԽԱՏԱԿԱԶՄԻ
D25: ՂԵԿԱՎԱՐ ՝ Ա. ՀԱՐՈՒԹՅՈՒՆՅԱՆ

Sheet 6
J1: Հավելված N 6
J2: ՀՀ կառավարության 2026 թվականի
J3: ______________ ի ___Ն որոշման
A6: «ՀԱՅԱՍՏԱՆԻ ՀԱՆՐԱՊԵՏՈՒԹՅԱՆ 2026 ԹՎԱԿԱՆԻ ՊԵՏԱԿԱՆ ԲՅՈՒՋԵԻ ՄԱՍԻՆ» ՕՐԵՆՔԻ N 1 ՀԱՎԵԼՎԱԾԻ N 4 ԱՂՅՈՒՍԱԿՈՒՄ ԵՎ ՀԱՅԱՍՏԱՆԻ ՀԱՆՐԱՊԵՏՈՒԹՅԱՆ ԿԱՌԱՎԱՐՈՒԹՅԱՆ 2025 ԹՎԱԿԱՆԻ ԴԵԿՏԵՄԲԵՐԻ 25-Ի N 1910-Ն ՈՐՈՇՄԱՆ N 5 ՀԱՎԵԼՎԱԾԻ N 3 ԱՂՅՈՒՍԱԿՈՒՄ ԿԱՏԱՐՎՈՂ ՓՈՓՈԽՈՒԹՅՈՒՆՆԵՐԸ ԵՎ ԼՐԱՑՈՒՄՆԵՐԸ
L8: հազար դրամներով
A9: Ծրագրային դասիչը | C9: Բյուջետային հատկացումների գլխավոր կարգադրիչների, ծրագրերի, միջոցառումների և միջոցառումները կատարող պետական մարմինների անվանումները | D9: Ցուցանիշների փոփոխությունը (ավելացումները նշված են դրական նշանով ,իսկ նվազեցումները՝ փակագծերում)
D10: Առաջին կիսամյակ | G10: Ինն ամիս | J10: Տարի
D11: Ընդամենը | E11: այդ թվում` | G11: Ընդամենը | H11: այդ թվում` | J11: Ընդամենը | K11: այդ թվում`
A12: Ծրագիր | B12: Միջոցառում | E12: Վարկային միջոցներ | F12: Համաֆինան սավորում | H12: Վարկային միջոցներ | I12: Համաֆինան սավորում | K12: Վարկային միջոցներ | L12: Համաֆինան սավորում
C13: ԸՆԴԱՄԵՆԸ | D13: =D15 -> 0 | E13: =E15 -> 0 | F13: =F15 -> 0 | G13: =G15 -> 0 | H13: =H15 -> 0 | I13: =I15 -> 0 | J13: =J15 -> -117534.9 | K13: =K15 -> -93212.5 | L13: =L15 -> -24322.4
C14: այդ թվում`
C15: ՈՉ ՖԻՆԱՆՍԱԿԱՆ ԱԿՏԻՎՆԵՐԻ ԳԾՈՎ ԾԱԽՍԵՐ | D15: =+E15+F15 -> 0 | E15: =E16+E39 -> 0 | F15: =F16+F39 -> 0 | G15: =G16+G39 -> 0 | H15: =H16+H39 -> 0 | I15: =I16+I39 -> 0 | J15: =J16+J39 -> -117534.9 | K15: =K16+K39 -> -93212.5 | L15: =L16+L39 -> -24322.4
C16: ՀՀ տարածքային կառավարման և ենթակառուցվածքների նախարարություն | D16: =+E16+F16 -> 0 | E16: =+E18 -> 0 | F16: =+F18 -> 0 | G16: =+H16+I16 -> 230000 | H16: =H18 -> 184000 | I16: =I18 -> 46000 | J16: =J18 -> 591838 | K16: =K18 -> 474285.8 | L16: =L18 -> 117552.2
C17: այդ թվում` | N17: \
A18: 1212 | C18: Տարածքային զարգացում | D18: =D20 -> 0 | E18: =E20 -> 0 | F18: =F20 -> 0 | G18: =+H18+I18 -> 230000 | H18: =H20 -> 184000 | I18: =I20 -> 46000 | J18: =+K18+L18 -> 591838 | K18: =K20 -> 474285.8 | L18: =L20 -> 117552.2
C19: այդ թվում`
B20: 32002 | C20: Եվրոպական ներդրումային բանկի աջակցությամբ իրականացվող «Հայաստան-Դիմակայուն Սյունիք» վարկային ծրագրի շրջանակներում կապիտալ ներդրումներ առողջապահության, կրթության և ջրային ոլորտներում | D20: =+E20+F20 -> 0 | E20: =+E22 -> 0 | F20: =+F22 -> 0 | G20: =+H20+I20 -> 230000 | H20: =+H22+H32 -> 184000 | I20: =+I22+I32 -> 46000 | J20: =+K20+L20 -> 591838 | K20: =+K22+K32 -> 474285.8 | L20: =+L22+L32 -> 117552.2
C21: այդ թվում` ըստ կատարողների
C22: ՀՀ առողջապահության նախարարություն | D22: =+E22+F22 -> 0 | E22: =+E24 -> 0 | F22: =+F24 -> 0 | G22: =+H22+I22 -> 205538 | H22: =+H24 -> 163615 | I22: =+I24 -> 41923 | J22: =+K22+L22 -> 567376 | K22: =+K24 -> 453900.8 | L22: =+L24 -> 113475.2
C23: այդ թվում` բյուջետային ծախսերի տնտեսագիտական դասակարգման հոդվածներ
C24: ԸՆԴԱՄԵՆԸ ԾԱԽՍԵՐ | D24: =+E24+F24 -> 0 | E24: =+E25 -> 0 | F24: =+F25 -> 0 | G24: =+H24+I24 -> 205538 | H24: =+H25 -> 163615 | I24: =+I25 -> 41923 | J24: =+K24+L24 -> 567376 | K24: =+K25 -> 453900.8 | L24: =+L25 -> 113475.2
C25: ՈՉ ՖԻՆԱՆՍԱԿԱՆ ԱԿՏԻՎՆԵՐԻ ԳԾՈՎ ԾԱԽՍԵՐ | D25: =+E25+F25 -> 0 | E25: =+E26 -> 0 | F25: =+F26 -> 0 | G25: =+H25+I25 -> 205538 | H25: =+H26 -> 163615 | I25: =+I26 -> 41923 | J25: =+K25+L25 -> 567376 | K25: =+K26 -> 453900.8 | L25: =+L26 -> 113475.2
C26: ՀԻՄՆԱԿԱՆ ՄԻՋՈՑՆԵՐ | D26: =+E26+F26 -> 0 | E26: =+E27+E30 -> 0 | F26: =+F27+F30 -> 0 | G26: =+H26+I26 -> 205538 | H26: =+H27+H30 -> 163615 | I26: =+I27+I30 -> 41923 | J26: =+K26+L26 -> 567376 | K26: =+K27+K30 -> 453900.8 | L26: =+L27+L30 -> 113475.2
C27: ՇԵՆՔԵՐ ԵՎ ՇԻՆՈՒԹՅՈՒՆՆԵՐ | D27: =+E27+F27 -> 0 | E27: =SUM(E28:E29) -> 0 | F27: =SUM(F28:F29) -> 0 | G27: =+H27+I27 -> 152210 | H27: =SUM(H28:H29) -> 120952.6 | I27: =SUM(I28:I29) -> 31257.4 | J27: =+K27+L27 -> 474448 | K27: =SUM(K28:K29) -> 379558.4 | L27: =SUM(L28:L29) -> 94889.6
C28: - Շենքերի և շինությունների շինարարություն | D28: =+E28+F28 -> 0 | E28: 0 | F28: 0 | G28: =+H28+I28 -> 114986 | H28: 91173.4 | I28: 23812.6 | J28: =+K28+L28 -> 400000 | K28: 320000 | L28: 80000
C29: - Շենքերի և շինությունների կապիտալ վերանորոգում | D29: =+E29+F29 -> 0 | E29: 0 | F29: 0 | G29: =+H29+I29 -> 37224 | H29: 29779.2 | I29: 7444.8 | J29: =+K29+L29 -> 74448 | K29: 59558.4 | L29: 14889.6
C30: ԱՅԼ ՀԻՄՆԱԿԱՆ ՄԻՋՈՑՆԵՐ | D30: =+E30+F30 -> 0 | E30: =SUM(E31:E31) -> 0 | F30: =SUM(F31:F31) -> 0 | G30: =+H30+I30 -> 53328 | H30: =SUM(H31:H31) -> 42662.4 | I30: =SUM(I31:I31) -> 10665.6 | J30: =+K30+L30 -> 92928 | K30: =SUM(K31:K31) -> 74342.4 | L30: =SUM(L31:L31) -> 18585.6
C31: - Նախագծահետազոտական ծախսեր | D31: =+E31+F31 -> 0 | E31: 0 | F31: 0 | G31: =+H31+I31 -> 53328 | H31: 42662.4 | I31: 10665.6 | J31: =+K31+L31 -> 92928 | K31: 74342.4 | L31: 18585.6
C32: ՀՀ կրթության, գիտության, մշակույթի և սպորտի նախարարություն | D32: =+E32+F32 -> 0 | E32: =+E34 -> 0 | F32: =+F34 -> 0 | G32: =+H32+I32 -> 24462 | H32: =+H34 -> 20385 | I32: =+I34 -> 4077 | J32: =+K32+L32 -> 24462 | K32: =+K34 -> 20385 | L32: =+L34 -> 4077
C33: այդ թվում` բյուջետային ծախսերի տնտեսագիտական դասակարգման հոդվածներ
C34: ԸՆԴԱՄԵՆԸ ԾԱԽՍԵՐ | D34: =+E34+F34 -> 0 | E34: =+E35 -> 0 | F34: =+F35 -> 0 | G34: =+H34+I34 -> 24462 | H34: =+H35 -> 20385 | I34: =+I35 -> 4077 | J34: =+K34+L34 -> 24462 | K34: =+K35 -> 20385 | L34: =+L35 -> 4077
C35: ՈՉ ՖԻՆԱՆՍԱԿԱՆ ԱԿՏԻՎՆԵՐԻ ԳԾՈՎ ԾԱԽՍԵՐ | D35: =+E35+F35 -> 0 | E35: =+E36 -> 0 | F35: =+F36 -> 0 | G35: =+H35+I35 -> 24462 | H35: =+H36 -> 20385 | I35: =+I36 -> 4077 | J35: =+K35+L35 -> 24462 | K35: =+K36 -> 20385 | L35: =+L36 -> 4077
C36: ՀԻՄՆԱԿԱՆ ՄԻՋՈՑՆԵՐ | D36: =+E36+F36 -> 0 | E36: =+E37 -> 0 | F36: =+F37 -> 0 | G36: =+H36+I36 -> 24462 | H36: =+H37 -> 20385 | I36: =+I37 -> 4077 | J36: =+K36+L36 -> 24462 | K36: =+K37 -> 20385 | L36: =+L37 -> 4077
C37: ԱՅԼ ՀԻՄՆԱԿԱՆ ՄԻՋՈՑՆԵՐ | D37: =+E37+F37 -> 0 | E37: =SUM(E38:E38) -> 0 | F37: =SUM(F38:F38) -> 0 | G37: =+H37+I37 -> 24462 | H37: =SUM(H38:H38) -> 20385 | I37: =SUM(I38:I38) -> 4077 | J37: =+K37+L37 -> 24462 | K37: =SUM(K38:K38) -> 20385 | L37: =SUM(L38:L38) -> 4077
C38: - Նախագծահետազոտական ծախսեր | D38: =+E38+F38 -> 0 | E38: 0 | F38: 0 | G38: =+H38+I38 -> 24462 | H38: 20385 | I38: 4077 | J38: =+K38+L38 -> 24462 | K38: 20385 | L38: 4077
C39: ՀՀ առողջապահության նախարարություն | D39: 0 | E39: 0 | F39: 0 | G39: =H39+I39 -> -230000 | H39: =H41 -> -184000 | I39: =I41 -> -46000 | J39: =J41 -> -709372.9 | K39: =K41 -> -567498.3 | L39: =L41 -> -141874.6
C40: այդ թվում`
A41: 1053 | C41: Առողջապահության համակարգի արդիականացման և արդյունավետության բարձրացման ծրագիր | D41: 0 | E41: 0 | F41: 0 | G41: =H41+I41 -> -230000 | H41: =H43 -> -184000 | I41: =I43 -> -46000 | J41: =K41+L41 -> -709372.9 | K41: =K43 -> -567498.3 | L41: =L43 -> -141874.6
C42: այդ թվում`
B43: 32008 | C43: «Դիմակայուն Սյունիք» ծրագրի շրջանակներում առողջապահական կազմակերպությունների արդիականացում՛ կառուցում, վերազինում | D43: 0 | E43: 0 | F43: 0 | G43: =H43+I43 -> -230000 | H43: =H45 -> -184000 | I43: =I45 -> -46000 | J43: =K43+L43 -> -709372.9 | K43: =K45 -> -567498.3 | L43: =L45 -> -141874.6
...

Sheet 7
F1: Հավելված N 7
F2: ՀՀ կառավարության 2026 թվականի
F3: ______________ ի ___Ն որոշման
A5: «ՀԱՅԱUՏԱՆԻ ՀԱՆՐԱՊԵՏՈՒԹՅԱՆ 2026 ԹՎԱԿԱՆԻ ՊԵՏԱԿԱՆ ԲՅՈՒՋԵԻ ՄԱUԻՆ» ՀԱՅԱUՏԱՆԻ ՀԱՆՐԱՊԵՏՈՒԹՅԱՆ OՐԵՆՔԻ N 1 ՀԱՎԵԼՎԱԾԻ N 3 ԱՂՅՈՒՍԱԿՈՒՄ ԿԱՏԱՐՎՈՂ ՓՈՓՈԽՈՒԹՅՈՒՆՆԵՐԸ
G8: հազար դրամներով
A9: Ծրագրային դասիչ | C9: Բյուջետային գլխավոր կարգադրիչների, ծրագրերի, միջոցառումների, միջոցառումները կատարող պետական մարմինների և ուղղությունների անվանումները | D9: Ընդամենը | E9: Ցուցանիշների փոփոխությունը (նվազեցումները նշված են փակագծերում)
A10: Ծրագիր | B10: Միջոցառում | E10: Կառուցման աշխատանքներ | F10: Վերակառուցման, վերանորոգման և վերականգնման աշխատանքներ | G10: Նախագծահե- տազոտական, գեոդեզիա- քարտեզագրա- կան աշխա- տանքներ | H10: Ոչ ֆինանսական այլ ակտիվների ձեռքբերում
C11: ԸՆԴԱՄԵՆԸ | D11: =SUM(E11:H11) -> -92112.5 | E11: =+E13 -> 0 | F11: =+F13 -> 0 | G11: =+G13 -> -92112.5 | H11: =+H13 -> 0
C12: այդ թվում՝
C13: ՀՀ ԿՐԹՈՒԹՅԱՆ, ԳԻՏՈՒԹՅԱՆ, ՄՇԱԿՈՒՅԹԻ ԵՎ ՍՊՈՐՏԻ ՆԱԽԱՐԱՐՈՒԹՅՈՒՆ | D13: =SUM(E13:H13) -> -92112.5 | E13: =+E15 -> 0 | F13: =+F15 -> 0 | G13: =+G15 -> -92112.5 | H13: =+H15 -> 0
C14: այդ թվում`
A15: 1045 | B15: 32005 | C15: Մասնագիտական ուսումնական հաստատությունների շենքերի կառուցում | D15: =SUM(E15:H15) -> -92112.5 | E15: =+E17 -> 0 | F15: =+F17 -> 0 | G15: =+G17 -> -92112.5 | H15: =+H17 -> 0
C16: այդ թվում`
C17: ՀՀ Սյունիքի մարզ | D17: =SUM(E17:H17) -> -92112.5 | E17: =SUM(E18:E19) -> 0 | F17: =SUM(F18:F19) -> 0 | G17: =SUM(G18:G19) -> -92112.5 | H17: =SUM(H18:H19) -> 0
C18: «Սիսիանի պետական քոլեջ» ՊՈԱԿ | D18: =+E18+F18+G18+H18 -> -41869.3 | G18: =+'[1]Հավելված 10'!I17+'[1]Հավելված 10'!I19 -> -41869.3
C19: «Սյունիքի տարածաշրջանային պետական քոլեջ» ՊՈԱԿ | D19: =+E19+F19+G19+H19 -> -50243.2 | F19: 0 | G19: =+'[1]Հավելված 10'!I18+'[1]Հավելված 10'!I20 -> -50243.2 | H19: 0
B22: ՎԱՐՉԱՊԵՏԻ ԱՇԽԱՏԱԿԱԶՄԻ
C23: ՂԵԿԱՎԱՐ ՝ Ա. ՀԱՐՈՒԹՅՈՒՆՅԱՆ

Sheet 8
J1: Հավելված N 8
J2: ՀՀ կառավարության 2026 թվականի
J3: ______________ ի ___Ն որոշման
A6: ՀԱՅԱՍՏԱՆԻ ՀԱՆՐԱՊԵՏՈՒԹՅԱՆ ԿԱՌԱՎԱՐՈՒԹՅԱՆ 2025 ԹՎԱԿԱՆԻ ԴԵԿՏԵՄԲԵՐԻ 25-Ի N 1910-Ն ՈՐՈՇՄԱՆ N 9 ՀԱՎԵԼՎԱԾՈՒՄ ԿԱՏԱՐՎՈՂ ՓՈՓՈԽՈՒԹՅՈՒՆՆԵՐԸ ԵՎ ԼՐԱՑՈՒՄՆԵՐԸ
K8: հազար դրամներոով
A9: ԲԳԿ | B9: Ծրագիր | D9: Միջոցառում | H9: Իրականացնողը/ ակտիվն օգտագործողը/ շահառուի ընտրության չափորոշիչը | I9: Արդյունքային չափորոշիչը | J9: Ցուցանիշների փոփոխությունը (ավելացումները նշված են դրական նշանով, իսկ նվազեցումները՝ փակագծերում)
B10: Դասիչը | C10: Անվանումը | D10: Դասիչը | E10: Անվանումը | F10: Նկարագրությունը | G10: Տեսակը | J10: Առաջին կիսամյակ | K10: Ինն ամիս | L10: Տարի
A11: ԸՆԴԱՄԵՆԸ | J11: =J12+J23+J30+J37 -> 0 | K11: =K12+K23+K30+K37 -> 0 | L11: =L12+L23+L30+L37 -> -93212.5
A12: ՀՀ տարածքային կառավարման և ենթակառուցվածքների նախարարություն | J12: =J13 -> 0 | K12: =K13 -> 230000 | L12: =L13 -> 591838
B13: 1212 | C13: Տարածքային զարգացում | J13: =J14 -> 0 | K13: =K14 -> 230000 | L13: =L14 -> 591838
D14: 32002 | E14: Եվրոպական ներդրումային բանկի աջակցությամբ իրականացվող «Հայաստան-Դիմակայուն Սյունիք» վարկային ծրագրի շրջանակներում կապիտալ ներդրումներ առողջապահության, կրթության և ջրային ոլորտներում | J14: ='3'!H16 -> 0 | K14: ='3'!I16 -> 230000 | L14: ='3'!J16 -> 591838
F15: Եվրոպական ներդրումային բանկի աջակցությամբ իրականացվող «Հայաստան-Դիմակայուն Սյունիք» վարկային ծրագրի շրջանակներում միջին մասնագիտական քոլեջների մասնաշենքերի կառուցում և առողջության առաջնային պահպանման կենտրոնների, բժշկական ամբուլատորիայի կառուցում և վերանորոգում, ջրամակարարման համակարգերի կառուցում և վերակառուցում
G16: Այլ պետական կազմակերպությունների կողմից օգտագործվող ոչ ֆինանսական ակտիվների հետ գործառնություններ
H17: Ակտիվն օգտագործող կազմակերպության անվանումը` Մասնագիտացված միավոր
I18: Առողջության առաջնային պահպանման կենտրոնների (ԱԱՊԿ) կառուցում | L18: 3
I19: Առողջության առաջնային պահպանման կենտրոնների (ԱԱՊԿ) վերանորոգում | L19: 2
I20: Առողջության կենտրոնների (ԱԿ) կառուցում | L20: 1
I21: Բժշկական ամբուլատորիայի (ԲԱ) վերանորոգում | L21: 1
I22: Նախագծանախահաշվային փաստաթղթերի մշակում | L22: 6
A23: ՀՀ կրթության , գիտության, մշակույթի և սպորտի նախարարություն | J23: =+J24 -> 0 | K23: =+K24 -> 0 | L23: =+L24 -> -92112.5
B24: 1045 | C24: Մասնագիտական կրթության և ուսուցման ծրագիր | J24: =J25 -> 0 | K24: =+K25 -> 0 | L24: =+L25 -> -92112.5
D25: 1045 - 32005 | E25: Մասնագիտական ուսումնական հաստատությունների շենքերի կառուցում | J25: =+'[1]Հավելված 5.1'!G27 -> 0 | K25: =+'[1]Հավելված 5.1'!H27 -> 0 | L25: ='4'!I44 -> -92112.5
F26: Մասնագիտական ուսումնական հաստատությունների շենքերի (մասնաշենքերի) կառուցման և նախագծման աշխատանքների իրականացում
G27: Այլ պետական կազմակերպությունների կողմից օգտագործվող ոչ ֆինանսական ակտիվների հետ գործառնություններ
H28: Ակտիվն օգտագործող կազմակերպությունների անվանումները` Մասնագիտական ուսումնական հաստատություններ
I29: Նախագծանախահաշվային փաստաթղթերի քանակ, հատ | L29: -2
A30: ՀՀ առողջապահության նախարարություն | J30: =J31 -> 0 | K30: =K31 -> -230000 | L30: =L31 -> -709372.9
B31: 1053 | C31: Առողջապահության համակարգի արդիականացման և արդյունավետության բարձրացման ծրագիր | J31: =J32 -> 0 | K31: =K32 -> -230000 | L31: =L32 -> -709372.9
D32: 1053 - 32008 | E32: «Դիմակայուն Սյունիք» ծրագրի շրջանակներում առողջապահական կազմակերպությունների արդիականացում՛ կառուցում, վերազինում | J32: 0 | K32: -230000 | L32: -709372.9
F33: «Դիմակայուն Սյունիք» ծրագրի շրջանակներում առողջապահական կազմակերպությունների անհրաժեշտ շենքային պայմանների ապահովում, մարզային առողջապահական կազմակերպությունների անհրաժեշտ բժշկական սարքավորումներով և գույքով հագեցում
G34: Այլ պետական կազմակերպությունների կողմից օգտագործվող ոչ ֆինանսական ակտիվների հետ գործառնություններ
H35: Ակտիվն օգտագործող կազմակերպության անվանումը` Մասնագիտացված միավոր
I36: Կառուցվող առողջապահական կազմակերպությունների թիվ, հատ | L36: -12
A37: ՀՀ կառավարություն | J37: =+J38 -> 0 | K37: =+K38 -> 0 | L37: =+L38 -> 116434.9
B38: 1139 | C38: ՀՀ կառավարության պահուստային ֆոնդ | J38: =J39+J43 -> 0 | K38: =K39+K43 -> 0 | L38: =L39+L43 -> 116434.9
D39: 1139 - 11001 | E39: ՀՀ կառավարության պահուստային ֆոնդ | J39: ='3'!H26 -> 0 | K39: ='3'!I26 -> -46000 | L39: ='3'!J26 -> -117552.2
F40: ՀՀ պետական բյուջեում նախատեսված ելքերի լրացուցիչ ֆինանսավորման, պետական բյուջեում չկանխատեսված ելքերի, ինչպես նաև բյուջետային երաշխիքների ապահովման ելքերի ֆինանսավորման ապահովում
G41: Ծառայությունների մատուցում
H42: Ծառայությունը մատուցողի անվանումը` ՀՀ կառավարություն
D43: 1139 - 11001 | E43: ՀՀ կառավարության պահուստային ֆոնդ | J43: ='3'!H25 -> 0 | K43: ='3'!I25 -> 46000 | L43: ='3'!J25 -> 233987.1
...

Sheet 9
J1: Հավելված N9
J2: ՀՀ կառավարության 2026 թվականի
J3: ______________ ի ___Ն որոշման
A6: ՀԱՅԱՍՏԱՆԻ ՀԱՆՐԱՊԵՏՈՒԹՅԱՆ ԿԱՌԱՎԱՐՈՒԹՅԱՆ 2025 ԹՎԱԿԱՆԻ ԴԵԿՏԵՄԲԵՐԻ 25-Ի N 1910-Ն ՈՐՈՇՄԱՆ N 9.1 ՀԱՎԵԼՎԱԾՈՒՄ ԿԱՏԱՐՎՈՂ ՓՈՓՈԽՈՒԹՅՈՒՆՆԵՐԸ ԵՎ ԼՐԱՑՈՒՄՆԵՐԸ
K8: հազար դրամներոով
A9: ԲՍԿ | B9: Ծրագիր | D9: Միջոցառում | H9: Իրականացնողը/ ակտիվն օգտագործողը/ շահառուի ընտրության չափորոշիչը | I9: Արդյունքային չափորոշիչը | J9: Ցուցանիշների փոփոխությունը (ավելացումները նշված են դրական նշանով, իսկ նվազեցումները՝ փակագծերում)
B10: Դասիչը | C10: Անվանումը | D10: Դասիչը | E10: Անվանումը | F10: Նկարագրությունը | G10: Տեսակը | J10: Առաջին կիսամյակ | K10: Ինն ամիս | L10: Տարի
A11: ԸՆԴԱՄԵՆԸ | J11: =J12+J29+J43+J36 -> 0 | K11: =K12+K29+K43+K36 -> 0 | L11: =L12+L29+L43+L36 -> -93212.5
A12: ՀՀ առողջապահության նախարարություն | J12: =J13+J19 -> 0 | K12: =K13+K19 -> -24462 | L12: =L13+L19 -> -141996.9
B13: 1053 | C13: Առողջապահության համակարգի արդիականացման և արդյունավետության բարձրացման ծրագիր | J13: =J14 -> 0 | K13: =K14 -> -230000 | L13: =L14 -> -709372.9
D14: 1053 - 32008 | E14: «Դիմակայուն Սյունիք» ծրագրի շրջանակներում առողջապահական կազմակերպությունների արդիականացում՛ կառուցում, վերազինում | J14: 0 | K14: -230000 | L14: -709372.9
F15: «Դիմակայուն Սյունիք» ծրագրի շրջանակներում առողջապահական կազմակերպությունների անհրաժեշտ շենքային պայմանների ապահովում, մարզային առողջապահական կազմակերպությունների անհրաժեշտ բժշկական սարքավորումներով և գույքով հագեցում
G16: Այլ պետական կազմակերպությունների կողմից օգտագործվող ոչ ֆինանսական ակտիվների հետ գործառնություններ
H17: Ակտիվն օգտագործող կազմակերպության անվանումը` Մասնագիտացված միավոր
I18: Կառուցվող առողջապահական կազմակերպությունների թիվ, հատ | L18: -12
B19: 1212 | C19: Տարածքային զարգացում | J19: =J20 -> 0 | K19: =K20 -> 205538 | L19: =L20 -> 567376
D20: 32002 | E20: Եվրոպական ներդրումային բանկի աջակցությամբ իրականացվող «Հայաստան-Դիմակայուն Սյունիք» վարկային ծրագրի շրջանակներում կապիտալ ներդրումներ առողջապահության, կրթության և ջրային ոլորտներում | J20: ='4'!G27 -> 0 | K20: ='4'!H27 -> 205538 | L20: ='4'!I27 -> 567376
F21: Եվրոպական ներդրումային բանկի աջակցությամբ իրականացվող «Հայաստան-Դիմակայուն Սյունիք» վարկային ծրագրի շրջանակներում միջին մասնագիտական քոլեջների մասնաշենքերի կառուցում և առողջության առաջնային պահպանման կենտրոնների, բժշկական ամբուլատորիայի կառուցում և վերանորոգում, ջրամակարարման համակարգերի կառուցում և վերակառուցում
G22: Այլ պետական կազմակերպությունների կողմից օգտագործվող ոչ ֆինանսական ակտիվների հետ գործառնություններ
H23: Ակտիվն օգտագործող կազմակերպության անվանումը` Մասնագիտացված միավոր
I24: Առողջության առաջնային պահպանման կենտրոնների (ԱԱՊԿ) կառուցում | L24: 3
I25: Առողջության առաջնային պահպանման կենտրոնների (ԱԱՊԿ) վերանորոգում | L25: 2
I26: Առողջության կենտրոնների (ԱԿ) կառուցում | L26: 1
I27: Բժշկական ամբուլատորիայի (ԲԱ) վերանորոգում | L27: 1
I28: Նախագծանախահաշվային փաստաթղթերի մշակում | L28: 4
A29: ՀՀ կրթության, գիտության, մշակույթի և սպորտի նախարարություն | J29: =+J30 -> 0 | K29: =+K30 -> 24462 | L29: =+L30 -> 24462
B30: 1212 | C30: Տարածքային զարգացում | J30: =J31 -> 0 | K30: =K31 -> 24462 | L30: =L31 -> 24462
D31: 32002 | E31: Եվրոպական ներդրումային բանկի աջակցությամբ իրականացվող «Հայաստան-Դիմակայուն Սյունիք» վարկային ծրագրի շրջանակներում կապիտալ ներդրումներ առողջապահության, կրթության և ջրային ոլորտներում | J31: ='4'!G37 -> 0 | K31: ='4'!H37 -> 24462 | L31: ='4'!I37 -> 24462
F32: Եվրոպական ներդրումային բանկի աջակցությամբ իրականացվող «Հայաստան-Դիմակայուն Սյունիք» վարկային ծրագրի շրջանակներում միջին մասնագիտական քոլեջների մասնաշենքերի կառուցում և առողջության առաջնային պահպանման կենտրոնների, բժշկական ամբուլատորիայի կառուցում և վերանորոգում, ջրամակարարման համակարգերի կառուցում և վերակառուցում
G33: Այլ պետական կազմակերպությունների կողմից օգտագործվող ոչ ֆինանսական ակտիվների հետ գործառնություններ
H34: Ակտիվն օգտագործող կազմակերպության անվանումը` Մասնագիտացված միավոր
I35: Նախագծանախահաշվային փաստաթղթերի մշակում | L35: 2
A36: ՀՀ քաղաքաշինության կոմիտե | J36: =J37 -> 0 | K36: =K37 -> 0 | L36: =L37 -> -92112.5
B37: 1045 | C37: Մասնագիտական կրթության և ուսուցման ծրագիր | J37: =J38 -> 0 | K37: =K38 -> 0 | L37: =L38 -> -92112.5
D38: 1045 - 32005 | E38: Մասնագիտական ուսումնական հաստատությունների շենքերի կառուցում | J38: ='8'!J25 -> 0 | K38: ='8'!K25 -> 0 | L38: ='8'!L25 -> -92112.5
F39: Մասնագիտական ուսումնական հաստատությունների շենքերի (մասնաշենքերի) կառուցման և նախագծման աշխատանքների իրականացում
G40: Այլ պետական կազմակերպությունների կողմից օգտագործվող ոչ ֆինանսական ակտիվների հետ գործառնություններ
H41: Ակտիվն օգտագործող կազմակերպությունների անվանումները` Մասնագիտական ուսումնական հաստատություններ
I42: Նախագծանախահաշվային փաստաթղթերի քանակ, հատ | L42: -2
A43: ՀՀ կառավարություն | J43: =+J44 -> 0 | K43: =+K44 -> 0 | L43: =+L44 -> 116434.9
...

Sheet 10․
I1: Հավելված N 10
I2: ՀՀ կառավարության 2026 թվականի
I3: ______________ ի ___Ն որոշման
B6: ՀԱՅԱՍՏԱՆԻ ՀԱՆՐԱՊԵՏՈՒԹՅԱՆ ԿԱՌԱՎԱՐՈՒԹՅԱՆ 2025 ԹՎԱԿԱՆԻ ԴԵԿՏԵՄԲԵՐԻ 25-Ի N 1910-Ն N 10 ՀԱՎԵԼՎԱԾՈՒՄ ԿԱՏԱՐՎՈՂ ՓՈՓՈԽՈՒԹՅՈՒՆՆԵՐԸ
B10: Կոդը | C10: Անվանումը | F10: Գնման ձևը | G10: Չափման միավորը | H10: Միավորի գինը | I10: Ցուցանիշների փոփոխությունը (նվազեցումները նշված են փակագծերում)
I11: Քանակը | J11: Գումարը (հազար դրամ)
B12: 1 | C12: 2 | F12: 3 | G12: 4 | H12: 5 | I12: 6 | J12: 7
B13: ՀՀ քաղաքաշինության կոմիտե | J13: -92112.5
B14: Բաժին N 09 | C14: Խումբ N 06 | D14: Դաս N 01 | E14: Կրթությանը տրամադրվող օժանդակ ծառայություններ | J14: -92112.5
B15: 1045-32005 | C15: Մասնագիտական ուսումնական հաստատությունների շենքերի կառուցում | J15: -92112.5
B16: ՄԱՍ III. ԾԱՌԱՅՈՒԹՅՈՒՆՆԵՐ | J16: -92112.5
B17: 71241200-3 | C17: նախագծերի պատրաստում, ծախսերի գնահատում | F17: ԳՀ | G17: դրամ | H17: 39875600 | I17: -1 | J17: -39875.6
B18: 71241200-4 | C18: նախագծերի պատրաստում, ծախսերի գնահատում | F18: ԳՀ | G18: դրամ | H18: 47850700 | I18: -1 | J18: -47850.7
B19: 50531140-3 | C19: փորձաքննության ծառայություններ | F19: ԳՀ | G19: դրամ | H19: 1993700 | I19: -1 | J19: -1993.7
B20: 50531140-4 | C20: փորձաքննության ծառայություններ | F20: ԳՀ | G20: դրամ | H20: 2392500 | I20: -1 | J20: -2392.5
D24: ՀԱՅԱՍՏԱՆԻ ՀԱՆՐԱՊԵՏՈՒԹՅԱՆ
D25: ՎԱՐՉԱՊԵՏԻ ԱՇԽԱՏԱԿԱԶՄԻ
E26: ՂԵԿԱՎԱՐ ՝ Ա. ՀԱՐՈՒԹՅՈՒՆՅԱՆ

Sheet 11
G1: Հավելված N 11
G2: ՀՀ կառավարության 2026 թվականի
G3: ______________ ի ___Ն որոշման
B7: ՀԱՅԱՍՏԱՆԻ ՀԱՆՐԱՊԵՏՈՒԹՅԱՆ 2026 ԹՎԱԿԱՆԻ ՊԵՏԱԿԱՆ ԲՅՈՒՋԵՈՎ ՆԱԽԱՏԵՍՎԱԾ՝ ՀԱՅԱՍՏԱՆԻ ՀԱՆՐԱՊԵՏՈՒԹՅԱՆ ԿԱՌԱՎԱՐՈՒԹՅԱՆ ՊԱՀՈՒՍՏԱՅԻՆ ՖՈՆԴԻՑ ՀԱՏԿԱՑՈՒՄՆԵՐ ԿԱՏԱՐԵԼՈՒ ՎԵՐԱԲԵՐՅԱԼ
J10: հազար դրամներով
B11: Գործառական դասիչը | E11: Ծրագրային դասիչը | G11: Բյուջետային հատկացումների գլխավոր կարգադրիչների, ծրագրերի, միջոցառումների և միջոցառումները կատարող պետական մարմինների անվանումները | H11: Ցուցանիշների փոփոխությունը (ավելացումները նշված են դրական նշանով, իսկ նվազեցումները փակագծերում)
B12: Բաժին | C12: Խումբ | D12: Դաս | E12: Ծրագիր | F12: Միջոցառում | H12: Առաջին կիսամյակ | I12: Ինն ամիս | J12: Տարի
G13: ԸՆԴԱՄԵՆԸ | H13: =H15+H46 -> 0 | I13: =I15+I46 -> 0 | J13: =J15+J46 -> 0
G14: այդ թվում՝
G15: ՀՀ ՏԱՐԱԾՔԱՅԻՆ ԿԱՌԱՎԱՐՄԱՆ ԵՎ ԵՆԹԱԿԱՌՈՒՑՎԱԾՔՆԵՐԻ ՆԱԽԱՐԱՐՈՒԹՅՈՒՆ | H15: =+H17 -> 0 | I15: =+I17 -> 46000 | J15: =+J17 -> 117552.2
G16: այդ թվում`
B17: 04 | G17: ՏՆՏԵՍԱԿԱՆ ՀԱՐԱԲԵՐՈՒԹՅՈՒՆՆԵՐ | H17: =+H19 -> 0 | I17: =+I19 -> 46000 | J17: =+J19 -> 117552.2
G18: այդ թվում`
C19: 09 | G19: Տնտեսական հարաբերություններ (այլ դասերին չպատկանող) | H19: =+H21 -> 0 | I19: =+I21 -> 46000 | J19: =+J21 -> 117552.2
G20: այդ թվում`
D21: 01 | G21: Տնտեսական հարաբերություններ (այլ դասերին չպատկանող) | H21: =+H23 -> 0 | I21: =+I23 -> 46000 | J21: =+J23 -> 117552.2
G22: այդ թվում`
G23: ՀՀ տարածքային կառավարման և ենթակառուցվածքների նախարարություն | H23: =+H25 -> 0 | I23: =+I25 -> 46000 | J23: =+J25 -> 117552.2
G24: այդ թվում`
E25: 1212 | G25: Տարածքային զարգացում | H25: =+H27 -> 0 | I25: =+I27 -> 46000 | J25: =+J27 -> 117552.2
G26: այդ թվում`
F27: 32002 | G27: Եվրոպական ներդրումային բանկի աջակցությամբ իրականացվող «Հայաստան-Դիմակայուն Սյունիք» վարկային ծրագրի շրջանակներում կապիտալ ներդրումներ առողջապահության, կրթության և ջրային ոլորտներում | H27: ='6'!F20 -> 0 | I27: ='6'!I20 -> 46000 | J27: ='6'!L20 -> 117552.2
G28: այդ թվում` ըստ կատարողների
G29: ՀՀ առողջապահության նախարարություն | H29: ='6'!F22 -> 0 | I29: ='6'!I22 -> 41923 | J29: ='6'!L22 -> 113475.2
G30: այդ թվում` բյուջետային ծախսերի տնտեսագիտական դասակարգման հոդվածներ
G31: ԸՆԴԱՄԵՆԸ ԾԱԽՍԵՐ | H31: ='6'!F24 -> 0 | I31: ='6'!I24 -> 41923 | J31: ='6'!L24 -> 113475.2
G32: ՈՉ ՖԻՆԱՆՍԱԿԱՆ ԱԿՏԻՎՆԵՐԻ ԳԾՈՎ ԾԱԽՍԵՐ | H32: ='6'!F25 -> 0 | I32: ='6'!I25 -> 41923 | J32: ='6'!L25 -> 113475.2
G33: ՀԻՄՆԱԿԱՆ ՄԻՋՈՑՆԵՐ | H33: ='6'!F26 -> 0 | I33: ='6'!I26 -> 41923 | J33: ='6'!L26 -> 113475.2
G34: ՇԵՆՔԵՐ ԵՎ ՇԻՆՈՒԹՅՈՒՆՆԵՐ | H34: ='6'!F27 -> 0 | I34: ='6'!I27 -> 31257.4 | J34: ='6'!L27 -> 94889.6
G35: - Շենքերի և շինությունների շինարարություն | H35: ='6'!F28 -> 0 | I35: ='6'!I28 -> 23812.6 | J35: ='6'!L28 -> 80000
G36: - Շենքերի և շինությունների կապիտալ վերանորոգում | H36: ='6'!F29 -> 0 | I36: ='6'!I29 -> 7444.8 | J36: ='6'!L29 -> 14889.6
G37: ԱՅԼ ՀԻՄՆԱԿԱՆ ՄԻՋՈՑՆԵՐ | H37: ='6'!F30 -> 0 | I37: ='6'!I30 -> 10665.6 | J37: ='6'!L30 -> 18585.6
G38: - Նախագծահետազոտական ծախսեր | H38: ='6'!F31 -> 0 | I38: ='6'!I31 -> 10665.6 | J38: ='6'!L31 -> 18585.6
G39: ՀՀ կրթության, գիտության, մշակույթի և սպորտի նախարարություն | H39: ='6'!D32 -> 0 | I39: ='6'!I32 -> 4077 | J39: ='6'!L32 -> 4077
G40: այդ թվում` բյուջետային ծախսերի տնտեսագիտական դասակարգման հոդվածներ
G41: ԸՆԴԱՄԵՆԸ ԾԱԽՍԵՐ | H41: ='6'!D34 -> 0 | I41: ='6'!I34 -> 4077 | J41: ='6'!L34 -> 4077
G42: ՈՉ ՖԻՆԱՆՍԱԿԱՆ ԱԿՏԻՎՆԵՐԻ ԳԾՈՎ ԾԱԽՍԵՐ | H42: ='6'!D35 -> 0 | I42: ='6'!I35 -> 4077 | J42: ='6'!L35 -> 4077
G43: ՀԻՄՆԱԿԱՆ ՄԻՋՈՑՆԵՐ | H43: ='6'!D36 -> 0 | I43: ='6'!I36 -> 4077 | J43: ='6'!L36 -> 4077
G44: ԱՅԼ ՀԻՄՆԱԿԱՆ ՄԻՋՈՑՆԵՐ | H44: ='6'!D37 -> 0 | I44: ='6'!I37 -> 4077 | J44: ='6'!L37 -> 4077
G45: - Նախագծահետազոտական ծախսեր | H45: ='6'!D38 -> 0 | I45: ='6'!I38 -> 4077 | J45: ='6'!L38 -> 4077
...

Sheet 12
I1: Հավելված 12
G2: ՀՀ կառավարության 2026 թվականի
G3: ______________ ի ___Ն որոշման
C4: Ց Ա Ն Կ
C5: ԱՌՈՂՋԱՊԱՀԱԿԱՆ ՀԱՍՏԱՏՈՒԹՅՈՒՆՆԵՐԻ
A7: № | B7: Հաստատության անվանում | C7: Շինարարության տեսակ | D7: ՀՀ ԱՆ ԱԾԻԳ Գործառույթ/վերազինում | F7: № | G7: Հաստատության անվանում | H7: Շինարարության տեսակ | I7: ՀՀ ԱՆ ԱԾԻԳ Գործառույթ/նախագծանախահաշվային փաստաթղթերի մշակում
A8: 1 | B8: «Գորայքի ԱԱՊԿ» ՊՈԱԿ | C8: Կառուցում | D8: Վերազինում | F8: 1 | G8: «Գորայքի ԱԱՊԿ» ՊՈԱԿ | H8: Կառուցում | I8: Տիպային նախագիծը առկա է
A9: 2 | B9: «Դարբասի ԱԿ» ՊՈԱԿ | C9: Կառուցում | F9: 2 | G9: «Դարբասի ԱԿ» ՊՈԱԿ | H9: Կառուցում
A10: 3 | B10: «Տաթևի ԱԱՊԿ» ՊՈԱԿ/Շինուհայր/ | C10: Կառուցում | F10: 3 | G10: «Տաթևի ԱԱՊԿ» ՊՈԱԿ/Շինուհայր/ | H10: Կառուցում
A11: 4 | B11: «Խնձորեսկի ԱԱՊԿ» ՊՈԱԿ | C11: Կառուցում | F11: 4 | G11: «Խնձորեսկի ԱԱՊԿ» ՊՈԱԿ | H11: Կառուցում
A12: 5 | B12: «Վերիշեն ԲԱ» ՊՈԱԿ | C12: Վերանորոգում | F12: 5 | G12: Կապանի բժշկական կենտրոնի պոլիկլինիկական մասնաշենք/ 50000 բնակչության համար նախատեսված | H12: Կառուցում
A13: 6 | B13: «Նորաշենիկ ԱԱՊԿ» ՊՈԱԿ | C13: Վերանորոգում | F13: 6 | G13: Սյունիքի մարզային նյարդահոգեբուժական դիսպանսեր | H13: Կառուցում | I13: ՆՆՓ Մշակում
A14: 7 | B14: «Բռնակոթի ԱԱՊԿ» ՊՈԱԿ | C14: Վերանորոգում | F14: 7 | G14: Գորիսի դատական ​​բժշկության գիտագործնական կենտրոն | H14: Կառուցում | I14: ՆՆՓ Մշակում
A15: 8 | B15: Կապանի բժշկական կենտրոնի պոլիկլինիկական մասնաշենք/ 50000 բնակչության համար նախատեսված | C15: Կառուցում | F15: 8 | G15: Կապանի դատական ​​բժշկության գիտագործնական կենտրոն | H15: Կառուցում | I15: ՆՆՓ Մշակում
A16: 9 | B16: Սյունիքի մարզային նյարդահոգեբուժական դիսպանսեր | C16: Կառուցում
A17: 10 | B17: Գորիսի դատական ​​բժշկության գիտագործնական կենտրոն | C17: Կառուցում
A18: 11 | B18: Կապանի դատական ​​բժշկության գիտագործնական կենտրոն | C18: Կառուցում
A19: 12 | B19: Հեռաբժշկության ներդրման համար անհրաժեշտ ՏՏ սարքերի գնում | C19: -
