Workbook

Sheet 1
I1: Հավելված N 1
E2: ՀՀ կառավարության 2026 թվականի
E3: -----------------ի N -----------Ն որոշման
A5: «ՀԱՅԱՍՏԱՆԻ ՀԱՆՐԱՊԵՏՈՒԹՅԱՆ 2026 ԹՎԱԿԱՆԻ ՊԵՏԱԿԱՆ ԲՅՈՒՋԵԻ ՄԱՍԻՆ» ՕՐԵՆՔԻ N 1 ՀԱՎԵԼՎԱԾԻ N 2 ԱՂՅՈՒՍԱԿՈՒՄ ԿԱՏԱՐՎՈՂ ՎԵՐԱԲԱՇԽՈՒՄԸ ԵՎ ՀԱՅԱՍՏԱՆԻ ՀԱՆՐԱՊԵՏՈՒԹՅԱՆ ԿԱՌԱՎԱՐՈՒԹՅԱՆ 2025 ԹՎԱԿԱՆԻ ԴԵԿՏԵՄԲԵՐԻ 25-Ի N 1910-Ն ՈՐՈՇՄԱՆ N 5 ՀԱՎԵԼՎԱԾԻ N 1 ԱՂՅՈՒՍԱԿՈՒՄ ԿԱՏԱՐՎՈՂ ՓՈՓՈԽՈՒԹՅՈՒՆՆԵՐԸ
I6: հազար դրամներով
A7: ԲԳԿ | B7: Ծրագրային դասիչը | D7: ԲԳԿ/Ծրագրի /միջոցառման անվանումը | E7: Ծրագրի նպատակը/Միջոցառման նկարագրույունը | F7: Վերջնական արդյունքի նկարագրությունը/Միջոցառման տեսակը | G7: Ցուցանիշների փոփոխությունները ավելացումները նշված են դրական նշանով, իսկ նվազեցումները՝ փակագծերում
B8: Ծրագիր | C8: Միջոցառում | G8: Առաջին կիսամյակ | H8: Ինն ամիս | I8: Տարի
A9: ԸՆԴԱՄԵՆԸ | G9: =G10 -> 0.04 | H9: =H10 -> 0 | I9: =I10 -> 0
A10: ՀՀ աշխատանքի և սոցիալական հարցերի նախարարություն | G10: =+G11+G14+G16 -> 0.04 | H10: =+H11+H14+H16 -> 0 | I10: =+I11+I14+I16 -> 0
B11: 1088 | D11: Զբաղվածության ծրագիր | E11: Բնակչության կայուն և ժամանակավոր զբաղվածության ապահովմանը միտված պայմանների ստեղծում | F11: Կայուն և ժամանակավոր զբաղվածների թվաքանակի աճ | G11: =+G12+G13 -> -108774.26 | H11: =+H12+H13 -> -184444.2 | I11: =+I12+I13 -> -345072.8
C12: 1088 - 12018 | D12: Ադրբեջանի կողմից 2016, 2020 և 2022 թթ. սանձազերծված ռազմական գործողություններին մասնակցած, ինչպես նաև 2020 թ. հետո ժամկետային պարտադիր զինվորական ծառայությունից զորացրված գործազուրկ անձանց մասնագիտական ուսուցման կազմակերպման և զբաղվածության ապահովում | E12: Զբաղվածության ապահովում Ադրբեջանի կողմից 2016, 2020 և 2022 թվականներին սանձազերծված ռազմական գործողություններին մասնակցած գործազուրկ անձանց համար | F12: Տրանսֆերտների տրամադրում | G12: -34449.16 | H12: -35968.9 | I12: -65625
C13: 1088 - 12022 | D13: 2023 թ. Ղարաբաղից տեղահանված անձանց համար կարճաժամկետ ուսուցման դասընթացի կազմակերպման և աշխատանքային փորձ ձեռք բերելու համար աջակցության տրամադրում | E13: Աջակցել 2023 թ.Ղարաբաղից բռնի տեղ-ծ անձանց ձեռք բերելու գործատ-ի կողմից ներկ-ծ պահ-ն հմպտ. մասնագիտ. հմտ-ր, կարող-ր և աշխ. փորձ՛ թափուր աշխ-ը համալրելու համար: | F13: Տրանսֆերտների տրամադրում | G13: =-3205.3-71119.8 -> -74325.1 | H13: =-26869.4-121605.9 -> -148475.3 | I13: =-127550-151897.8 -> -279447.8
B14: 1141 | D14: Երեխաների հիմնահարցեր | E14: Կյանքի դժվարին իրավիճակում հայտնված երեխաների հիմնական պահանջմունքների և սոցիալական կարիքների բավարարում և ինտեգրում հասարակություն | F14: Երեխաներին մատուցվող սոցիալական ծառայությունների և դրանց հասցեականության բարելավումե կյանքի դժվարին իրավիճակում հայտնված երեխաների ինտեգրում հասարկություն | G14: =+G15 -> 1880 | H14: =+H15 -> 20944 | I14: =+I15 -> 55700
C15: 1141 - 12008 | D15: Անհայտ բացակայող կամ մահացած ճանաչված զինծառայողների ծնողներին մինչև երեք տարեկան երեխայի խնամքի կազմակերպման համար պետական աջակցության տրամադրում | E15: Անհայտ բացակայող կամ մահացած ճանաչված զինծառայողների ծնողներին մինչև երեք տարեկան երեխայի խնամքի կազմակերպման համար պետական աջակցության տրամադրում | F15: Տրանսֆերտների տրամադրում | G15: 1880 | H15: 20944 | I15: 55700
B16: 1160 | D16: Հաշմանդամություն ունեցող անձանց սոցիալական ներառում | E16: Հաշմանդամություն ունեցող անձանց հիմնական պահանջմունքների և սոցիալական կարիքների բավարարում և սոցիալական ներառում հասարակություն | F16: Հաշմանդամություն ունեցող անձանց մատուցվող սոցիալական ծառայությունների հասցեականության և արդյունավետության բարձրացում | G16: =+G17 -> 106894.3 | H16: =+H17 -> 163500.2 | I16: =+I17 -> 289372.8
C17: 1160 - 11016 | D17: Անձնական օգնականի ծառայություն | E17: Աջակցություն հաշմանդամություն ունեցող անձանց անկախ ապրելուն | F17: Ծառայությունների մատուցում | G17: 106894.3 | H17: 163500.2 | I17: 289372.8

Sheet 2
I1: Հավելված N 2
F2: ՀՀ կառավարության 2026 թվականի
F3: -----------------ի N -----------Ն որոշման
A5: ՀԱՅԱՍՏԱՆԻ ՀԱՆՐԱՊԵՏՈՒԹՅԱՆ ԿԱՌԱՎԱՐՈՒԹՅԱՆ 2025 ԹՎԱԿԱՆԻ ԴԵԿՏԵՄԲԵՐԻ 25-Ի N 1910-Ն ՈՐՈՇՄԱՆ N N 3 ԵՎ 4 ՀԱՎԵԼՎԱԾՆԵՐՈՒՄ ԿԱՏԱՐՎՈՂ ՓՈՓՈԽՈՒԹՅՈՒՆՆԵՐԸ
H6: հազար դրամներով
A7: Գործառական դասիչը | D7: Ծրագրային դասիչը | F7: Բյուջետային ծախսերի գործառական դասակարգման բաժինների, խմբերի և դասերի, բյուջետային ծրագրերի միջոցառումների, բյուջետային հատկացումների գլխավոր կարգադրիչների անվանումները | G7: Ցուցանիշների փոփոխությունները ավելացումները նշված են դրական նշանով, իսկ նվազեցումները՝ փակագծերում
A8: Բաժինը | B8: Խումբը | C8: Դասը | D8: Ծրագիր | E8: Միջոցառում | G8: Առաջին կիսամյակ | H8: Ինն ամիս | I8: Տարի
F9: ԸՆԴԱՄԵՆԸ ԾԱԽՍԵՐ | G9: =G13 -> 0 | H9: =H13 -> 0 | I9: =I13 -> 0
F10: այդ թվում`
F11: ՀՀ աշխատանքի և սոցիալական հարցերի նախարարություն | G11: =G13 -> 0 | H11: =H13 -> 0 | I11: =I13 -> 0
F12: այդ թվում՝
A13: 10 | F13: ՍՈՑԻԱԼԱԿԱՆ ՊԱՇՏՊԱՆՈՒԹՅՈՒՆ | G13: =+G15+G32+G49 -> 0 | H13: =+H15+H32+H49 -> 0 | I13: =+I15+I32+I49 -> 0
F14: այդ թվում՝
B15: 01 | F15: Վատառողջություն և անաշխատունակություն | G15: =G17 -> 106894.3 | H15: =H17 -> 163500.2 | I15: =I17 -> 289372.8
F16: այդ թվում՝
C17: 01 | F17: Վատառողջություն | G17: =G19 -> 106894.3 | H17: =H19 -> 163500.2 | I17: =I19 -> 289372.8
F18: այդ թվում՝
F19: ՀՀ աշխատանքի և սոցիալական հարցերի նախարարություն | G19: =G21 -> 106894.3 | H19: =H21 -> 163500.2 | I19: =I21 -> 289372.8
F20: այդ թվում՝
D21: 1160 | F21: =+'1'!D16 -> Հաշմանդամություն ունեցող անձանց սոցիալական ներառում | G21: =G23 -> 106894.3 | H21: =H23 -> 163500.2 | I21: =I23 -> 289372.8
F22: այդ թվում`
E23: 11016 | F23: =+'1'!D17 -> Անձնական օգնականի ծառայություն | G23: =G25 -> 106894.3 | H23: =H25 -> 163500.2 | I23: =I25 -> 289372.8
F24: այդ թվում` ըստ կատարողների
F25: ՀՀ աշխատանքի և սոցիալական հարցերի նախարարության միասնական սոցիալական ծառայություն | G25: =+G27 -> 106894.3 | H25: =+H27 -> 163500.2 | I25: =+I27 -> 289372.8
F26: այդ թվում` բյուջետային ծախսերի տնտեսագիտական դասակարգման հոդվածներ
F27: ԸՆԴԱՄԵՆԸ ԾԱԽՍԵՐ | G27: =+G28 -> 106894.3 | H27: =+H28 -> 163500.2 | I27: =+I28 -> 289372.8
F28: ԸՆԹԱՑԻԿ ԾԱԽՍԵՐ | G28: =+G29 -> 106894.3 | H28: =+H29 -> 163500.2 | I28: =+I29 -> 289372.8
F29: ՍՈՑԻԱԼԱԿԱՆ ՆՊԱՍՏՆԵՐ ԵՎ ԿԵՆՍԱԹՈՇԱԿՆԵՐ | G29: =+G30 -> 106894.3 | H29: =+H30 -> 163500.2 | I29: =+I30 -> 289372.8
F30: Սոցիալական օգնության դրամական արտահայտությամբ նպաստներ (բյուջեից) | G30: =+G31 -> 106894.3 | H30: =+H31 -> 163500.2 | I30: =+I31 -> 289372.8
F31: - Այլ նպաստներ բյուջեից | G31: 106894.3 | H31: 163500.2 | I31: 289372.8
B32: 04 | F32: Ընտանիքի անդամներ և զավակներ | G32: =+G34 -> 1880 | H32: =+H34 -> 20944 | I32: =+I34 -> 55700
F33: այդ թվում՝
C34: 01 | F34: Ընտանիքի անդամներ և զավակներ | G34: =+G36 -> 1880 | H34: =+H36 -> 20944 | I34: =+I36 -> 55700
F35: այդ թվում՝
F36: ՀՀ աշխատանքի և սոցիալական հարցերի նախարարություն | G36: =+G38 -> 1880 | H36: =+H38 -> 20944 | I36: =+I38 -> 55700
F37: այդ թվում՝
D38: 1141 | F38: =+'1'!D14 -> Երեխաների հիմնահարցեր | G38: =+G40 -> 1880 | H38: =+H40 -> 20944 | I38: =+I40 -> 55700
F39: այդ թվում`
E40: 12008 | F40: =+'1'!D15 -> Անհայտ բացակայող կամ մահացած ճանաչված զինծառայողների ծնողներին մինչև երեք տարեկան երեխայի խնամքի կազմակերպման համար պետական աջակցության տրամադրում | G40: =G42 -> 1880 | H40: =H42 -> 20944 | I40: =I42 -> 55700
F41: այդ թվում` ըստ կատարողների
...

Sheet 3
G1: Հավելված N 3
G2: ՀՀ կառավարության 2026 թվականի
G3: -----------------ի N -----------Ն որոշման
A6: ՀԱՅԱՍՏԱՆԻ ՀԱՆՐԱՊԵՏՈՒԹՅԱՆ ԿԱՌԱՎԱՐՈՒԹՅԱՆ 2025 ԹՎԱԿԱՆԻ ԴԵԿՏԵՄԲԵՐԻ 25-Ի N 1910-Ն ՈՐՈՇՄԱՆ N 5 ՀԱՎԵԼՎԱԾԻ N 7 ԱՂՅՈՒՍԱԿՈՒՄ ԿԱՏԱՐՎՈՂ ՓՈՓՈԽՈՒԹՅՈՒՆՆԵՐԸ
G8: հազար դրամներով
A9: Ծրագրային դասիչ | C9: Բյուջետային գլխավոր կարգադրիչների, ծրագրերի, միջոցառումների, միջոցառումները կատարող պետական մարմինների և ուղղությունների անվանումները | F9: Միջոցառումները կատարող պետական մարմինների և դրամաշնորհ ստացող տնտեսավարող սուբյեկտների անվանումները | G9: Ցուցանիշների փոփոխությունները ավելացումները նշված են դրական նշանով, իսկ նվազեցումները՝ փակագծերում
A10: Ծրագիր | B10: Միջոցառում | G10: Տարի
A12: 1 | B12: 2 | C12: 3 | F12: 4 | G12: 5
A13: ՀՀ աշխատանքի և սոցիալական հարցերի նախարարություն | G13: =G14 -> -258425
A14: 1088 | B14: Զբաղվածության ծրագիր | G14: =+G15+G17 -> -258425
B15: 12018 | C15: Ադրբեջանի կողմից 2016, 2020 և 2022 թթ. սանձազերծված ռազմական գործողություններին մասնակցած, ինչպես նաև 2020թ. հետո ժամկետային պարտադիր զինվորական ծառայությունից զորացրված գործազուրկ անձանց մասնագիտական ուսուցման կազմակերպման և զբաղվածության ապահովում | F15: ՀՀ աշխատանքի և սոցիալական հարցերի նախարարության միասնական սոցիալական ծառայություն | G15: =G16 -> -130875
F16: Գործազուրկներին զբաղվածությունն ապահովող կազմակերպություններ | G16: ='2'!I65 -> -130875
B17: 12022 | C17: 2023թ. Լեռնային Ղարաբաղից բռնի տեղահանված անձանց համար կարճաժամկետ ուսուցման դասընթացի կազմակերպման և աշխատանքային փորձ ձեռք բերելու համար աջակցության տրամադրում | F17: ՀՀ աշխատանքի և սոցիալական հարցերի նախարարության միասնական սոցիալական ծառայություն | G17: =+G18 -> -127550
F18: Գործազուրկներին զբաղվածությունն ապահովող կազմակերպություններ | G18: ='2'!I77 -> -127550

Sheet 4
L1: Հավելված N 4
L2: ՀՀ կառավարության 2026 թվականի
L3: -----------------ի N -----------Ն որոշման
A6: ՀԱՅԱՍՏԱՆԻ ՀԱՆՐԱՊԵՏՈՒԹՅԱՆ ԿԱՌԱՎԱՐՈՒԹՅԱՆ 2025 ԹՎԱԿԱՆԻ ԴԵԿՏԵՄԲԵՐԻ 25-Ի N 1910-Ն ՈՐՈՇՄԱՆ N 9 ՀԱՎԵԼՎԱԾՈՒՄ ԿԱՏԱՐՎՈՂ ՓՈՓՈԽՈՒԹՅՈՒՆՆԵՐԸ
K7: հազար դրամներով
A8: ԲԳԿ | B8: Ծրագիր | D8: Միջոցառում | H8: Իրականացնողը/ ակտիվն օգտագործողը/ շահառուի ընտրության չափորոշիչը | I8: Արդյունքային չափորոշիչը | J8: Ցուցանիշների փոփոխությունները ավելացումները նշված են դրական նշանով, իսկ նվազեցումները՝ փակագծերում
B9: Դասիչը | C9: Անվանումը | D9: Դասիչը | E9: Անվանումը | F9: Նկարագրությունը | G9: Տեսակը | J9: Առաջին կիսամյակ | K9: Ինն ամիս | L9: Տարի
A10: ԸՆԴԱՄԵՆԸ | J10: =J11 -> 0.04 | K10: =K11 -> 0 | L10: =L11 -> 0
A11: ՀՀ աշխատանքի և սոցիալական հարցերի նախարարություն | J11: =J12+J33+J40 -> 0.04 | K11: =K12+K33+K40 -> 0 | L11: =L12+L33+L40 -> 0
B12: 1088 | C12: =+'1'!D11 -> Զբաղվածության ծրագիր | J12: =+J13+J25 -> -108774.26 | K12: =+K13+K25 -> -184444.2 | L12: =+L13+L25 -> -345072.8
D13: =+'1'!C12 -> 1088 - 12018 | E13: =+'1'!D12 -> Ադրբեջանի կողմից 2016, 2020 և 2022 թթ. սանձազերծված ռազմական գործողություններին մասնակցած, ինչպես նաև 2020 թ. հետո ժամկետային պարտադիր զինվորական ծառայությունից զորացրված գործազուրկ անձանց մասնագիտական ուսուցման կազմակերպման և զբաղվածության ապահովում | J13: =+'1'!G12 -> -34449.16 | K13: =+'1'!H12 -> -35968.9 | L13: =+'1'!I12 -> -65625
F14: =+'1'!E12 -> Զբաղվածության ապահովում Ադրբեջանի կողմից 2016, 2020 և 2022 թվականներին սանձազերծված ռազմական գործողություններին մասնակցած գործազուրկ անձանց համար
G15: =+'1'!F12 -> Տրանսֆերտների տրամադրում
H16: Շահառուների ընտրության չափորոշիչները` Ադրբեջանի կողմից 2016 և 2020 թվականներին սանձազերծված ռազմական գործողություններին մասնակցած գործազուրկ անձ
I17: Միջոցառման մեջ ընդգրկվածների թիվը, այդ թվում | J17: =SUM(J18:J20) -> 10 | K17: =SUM(K18:K20) -> 0 | L17: =SUM(L18:L20) -> 0
I18: ա) մասնագիտական ուսուցման մեջ ընդգրկված անձինք | J18: 85 | L18: 140
I19: բ) աշխատանքային փորձի ձեռքբերման գործընթացում ընդգրկված անձինք | J19: -125 | L19: -240
I20: գ) գործատուին միանվագ փոխհատուցման տրամադրման արդյունքում` զբաղված դարձած անձինք | J20: 50 | L20: 100
I21: Նախորդ տարում միջոցառման մեջ ընդգրկված շահառուների թիվը, որոնց մասով տվյալ տարում առկա են ֆինանսական պարտավորություններ (մարդ),ընդամենը, այդ թվում` | J21: =SUM(J22:J24) -> -154 | K21: =SUM(K22:K24) -> 0 | L21: =SUM(L22:L24) -> -154
I22: ա) մասնագիտական ուսուցման մեջ ընդգրկված անձինք | J22: -143 | L22: -143
I23: բ) աշխատանքային փորձի ձեռքբերման գործընթացում ընդգրկված անձինք | J23: -16 | L23: -16
I24: գ) գործատուին միանվագ փոխհատուցման տրամադրման արդյունքում զբաղված դարձած անձինք | J24: 5 | L24: 5
D25: =+'1'!C13 -> 1088 - 12022 | E25: =+'1'!D13 -> 2023 թ. Ղարաբաղից տեղահանված անձանց համար կարճաժամկետ ուսուցման դասընթացի կազմակերպման և աշխատանքային փորձ ձեռք բերելու համար աջակցության տրամադրում | J25: =+'1'!G13 -> -74325.1 | K25: =+'1'!H13 -> -148475.3 | L25: =+'1'!I13 -> -279447.8
F26: =+'1'!E13 -> Աջակցել 2023 թ.Ղարաբաղից բռնի տեղ-ծ անձանց ձեռք բերելու գործատ-ի կողմից ներկ-ծ պահ-ն հմպտ. մասնագիտ. հմտ-ր, կարող-ր և աշխ. փորձ՛ թափուր աշխ-ը համալրելու համար:
G27: =+'1'!F13 -> Տրանսֆերտների տրամադրում
H28: Շահառուների ընտրության չափորոշիչները` Գործազուրկ անձինք
I29: Միջոցառման մեջ ընդգրկվածների թիվը, այդ թվում` | J29: =SUM(J30:J32) -> -160 | K29: =SUM(K30:K32) -> 0 | L29: =SUM(L30:L32) -> -300
I30: ա) ուսուցման մեջ ընդգրկված անձինք | J30: -85 | L30: -180
I31: բ) աշխատանքային փորձի ձեռքբերման գործընթացում ընդգրկված անձինք | J31: 80 | L31: 170
I32: գ) ուսուցման և աշխատանքային փորձի ձեռք բերման գործընթացում ընդգրկված անձինք | J32: -155 | L32: -290
B33: ='1'!B14 -> 1141 | C33: =+'1'!D14 -> Երեխաների հիմնահարցեր | J33: =J34 -> 1880 | K33: =K34 -> 20944 | L33: =L34 -> 55700
D34: =+'1'!C15 -> 1141 - 12008 | E34: =+'1'!D15 -> Անհայտ բացակայող կամ մահացած ճանաչված զինծառայողների ծնողներին մինչև երեք տարեկան երեխայի խնամքի կազմակերպման համար պետական աջակցության տրամադրում | J34: =+'1'!G15 -> 1880 | K34: =+'1'!H15 -> 20944 | L34: =+'1'!I15 -> 55700
F35: =+'1'!E15 -> Անհայտ բացակայող կամ մահացած ճանաչված զինծառայողների ծնողներին մինչև երեք տարեկան երեխայի խնամքի կազմակերպման համար պետական աջակցության տրամադրում
G36: =+'1'!F15 -> Տրանսֆերտների տրամադրում
H37: Շահառուների ընտրության չափորոշիչները` Բնակչության սոցիալական պաշտպանության հաստատությունների շրջանավարտների սոցիալական բնակարանային ֆոնդի հերթացուցակում հաշվառված ընտանիքներ
I38: Միջոցառման մեջ ընդգրկված անձանց թիվ, մարդ | J38: 25 | L38: 70
B40: 1160 | C40: =+'1'!D16 -> Հաշմանդամություն ունեցող անձանց սոցիալական ներառում | J40: =J41 -> 106894.3 | K40: =K41 -> 163500.2 | L40: =L41 -> 289372.8
D41: =+'1'!C17 -> 1160 - 11016 | E41: =+'1'!D17 -> Անձնական օգնականի ծառայություն | J41: =+'1'!G17 -> 106894.3 | K41: =+'1'!H17 -> 163500.2 | L41: =+'1'!I17 -> 289372.8
F42: =+'1'!E17 -> Աջակցություն հաշմանդամություն ունեցող անձանց անկախ ապրելուն
G43: =+'1'!F17 -> Ծառայությունների մատուցում
...

Sheet 5
L1: Հավելված N 5
L2: ՀՀ կառավարության 2026 թվականի
L3: -----------------ի N -----------Ն որոշման
A6: ՀԱՅԱՍՏԱՆԻ ՀԱՆՐԱՊԵՏՈՒԹՅԱՆ ԿԱՌԱՎԱՐՈՒԹՅԱՆ 2025 ԹՎԱԿԱՆԻ ԴԵԿՏԵՄԲԵՐԻ 25-Ի N 1910-Ն ՈՐՈՇՄԱՆ N 9.1 ՀԱՎԵԼՎԱԾՈՒՄ ԿԱՏԱՐՎՈՂ ՓՈՓՈԽՈՒԹՅՈՒՆՆԵՐԸ
K7: հազար դրամներով
A8: ԲՍԿ | B8: Ծրագիր | D8: Միջոցառում | H8: Իրականացնողը/ ակտիվն օգտագործողը/ շահառուի ընտրության չափորոշիչը | I8: Արդյունքային չափորոշիչը | J8: Ցուցանիշների փոփոխությունները ավելացումները նշված են դրական նշանով, իսկ նվազեցումները՝ փակագծերում
B9: Դասիչը | C9: Անվանումը | D9: Դասիչը | E9: Անվանումը | F9: Նկարագրությունը | G9: Տեսակը | J9: Առաջին կիսամյակ | K9: Ինն ամիս | L9: Տարի
A10: ԸՆԴԱՄԵՆԸ | J10: =+J11 -> 0.04 | K10: =+K11 -> 0 | L10: =+L11 -> 0
A11: ՀՀ աշխատանքի և սոցիալական հարցերի նախարարության միասնական սոցիալական ծառայություն | J11: =+J12+J33+J39 -> 0.04 | K11: =+K12+K33+K39 -> 0 | L11: =+L12+L33+L39 -> 0
B12: 1088 | C12: =+'1'!D11 -> Զբաղվածության ծրագիր | J12: =+J13+J25 -> -108774.26 | K12: =+K13+K25 -> -184444.2 | L12: =+L13+L25 -> -345072.8
D13: =+'1'!C12 -> 1088 - 12018 | E13: =+'1'!D12 -> Ադրբեջանի կողմից 2016, 2020 և 2022 թթ. սանձազերծված ռազմական գործողություններին մասնակցած, ինչպես նաև 2020 թ. հետո ժամկետային պարտադիր զինվորական ծառայությունից զորացրված գործազուրկ անձանց մասնագիտական ուսուցման կազմակերպման և զբաղվածության ապահովում | J13: =+'1'!G12 -> -34449.16 | K13: =+'1'!H12 -> -35968.9 | L13: =+'1'!I12 -> -65625
F14: =+'1'!E12 -> Զբաղվածության ապահովում Ադրբեջանի կողմից 2016, 2020 և 2022 թվականներին սանձազերծված ռազմական գործողություններին մասնակցած գործազուրկ անձանց համար
G15: =+'1'!F12 -> Տրանսֆերտների տրամադրում
H16: Շահառուների ընտրության չափորոշիչները` Ադրբեջանի կողմից 2016 և 2020 թվականներին սանձազերծված ռազմական գործողություններին մասնակցած գործազուրկ անձ
I17: ='4'!I17 -> Միջոցառման մեջ ընդգրկվածների թիվը, այդ թվում | J17: ='4'!J17 -> 10 | K17: ='4'!K17 -> 0 | L17: ='4'!L17 -> 0
I18: ='4'!I18 -> ա) մասնագիտական ուսուցման մեջ ընդգրկված անձինք | J18: ='4'!J18 -> 85 | K18: ='4'!K18 | L18: ='4'!L18 -> 140
I19: ='4'!I19 -> բ) աշխատանքային փորձի ձեռքբերման գործընթացում ընդգրկված անձինք | J19: ='4'!J19 -> -125 | K19: ='4'!K19 | L19: ='4'!L19 -> -240
I20: ='4'!I20 -> գ) գործատուին միանվագ փոխհատուցման տրամադրման արդյունքում` զբաղված դարձած անձինք | J20: ='4'!J20 -> 50 | K20: ='4'!K20 | L20: ='4'!L20 -> 100
I21: ='4'!I21 -> Նախորդ տարում միջոցառման մեջ ընդգրկված շահառուների թիվը, որոնց մասով տվյալ տարում առկա են ֆինանսական պարտավորություններ (մարդ),ընդամենը, այդ թվում` | J21: ='4'!J21 -> -154 | K21: ='4'!K21 -> 0 | L21: ='4'!L21 -> -154
I22: ='4'!I22 -> ա) մասնագիտական ուսուցման մեջ ընդգրկված անձինք | J22: ='4'!J22 -> -143 | K22: ='4'!K22 | L22: ='4'!L22 -> -143
I23: ='4'!I23 -> բ) աշխատանքային փորձի ձեռքբերման գործընթացում ընդգրկված անձինք | J23: ='4'!J23 -> -16 | K23: ='4'!K23 | L23: ='4'!L23 -> -16
I24: ='4'!I24 -> գ) գործատուին միանվագ փոխհատուցման տրամադրման արդյունքում զբաղված դարձած անձինք | J24: ='4'!J24 -> 5 | K24: ='4'!K24 | L24: ='4'!L24 -> 5
D25: =+'1'!C13 -> 1088 - 12022 | E25: =+'1'!D13 -> 2023 թ. Ղարաբաղից տեղահանված անձանց համար կարճաժամկետ ուսուցման դասընթացի կազմակերպման և աշխատանքային փորձ ձեռք բերելու համար աջակցության տրամադրում | J25: =+'1'!G13 -> -74325.1 | K25: =+'1'!H13 -> -148475.3 | L25: =+'1'!I13 -> -279447.8
F26: =+'1'!E13 -> Աջակցել 2023 թ.Ղարաբաղից բռնի տեղ-ծ անձանց ձեռք բերելու գործատ-ի կողմից ներկ-ծ պահ-ն հմպտ. մասնագիտ. հմտ-ր, կարող-ր և աշխ. փորձ՛ թափուր աշխ-ը համալրելու համար:
G27: =+'1'!F13 -> Տրանսֆերտների տրամադրում
H28: Շահառուների ընտրության չափորոշիչները` Գործազուրկ անձինք
I29: ='4'!I29 -> Միջոցառման մեջ ընդգրկվածների թիվը, այդ թվում` | J29: ='4'!J29 -> -160 | K29: ='4'!K29 -> 0 | L29: ='4'!L29 -> -300
I30: ='4'!I30 -> ա) ուսուցման մեջ ընդգրկված անձինք | J30: ='4'!J30 -> -85 | K30: ='4'!K30 | L30: ='4'!L30 -> -180
I31: ='4'!I31 -> բ) աշխատանքային փորձի ձեռքբերման գործընթացում ընդգրկված անձինք | J31: ='4'!J31 -> 80 | K31: ='4'!K31 | L31: ='4'!L31 -> 170
I32: ='4'!I32 -> գ) ուսուցման և աշխատանքային փորձի ձեռք բերման գործընթացում ընդգրկված անձինք | J32: ='4'!J32 -> -155 | K32: ='4'!K32 | L32: ='4'!L32 -> -290
B33: ='1'!B14 -> 1141 | C33: =+'1'!D14 -> Երեխաների հիմնահարցեր | J33: =J34 -> 1880 | K33: =K34 -> 20944 | L33: =L34 -> 55700
D34: =+'1'!C15 -> 1141 - 12008 | E34: =+'1'!D15 -> Անհայտ բացակայող կամ մահացած ճանաչված զինծառայողների ծնողներին մինչև երեք տարեկան երեխայի խնամքի կազմակերպման համար պետական աջակցության տրամադրում | J34: =+'1'!G15 -> 1880 | K34: =+'1'!H15 -> 20944 | L34: =+'1'!I15 -> 55700
F35: =+'1'!E15 -> Անհայտ բացակայող կամ մահացած ճանաչված զինծառայողների ծնողներին մինչև երեք տարեկան երեխայի խնամքի կազմակերպման համար պետական աջակցության տրամադրում
G36: =+'1'!F15 -> Տրանսֆերտների տրամադրում
H37: Շահառուների ընտրության չափորոշիչները` Բնակչության սոցիալական պաշտպանության հաստատությունների շրջանավարտների սոցիալական բնակարանային ֆոնդի հերթացուցակում հաշվառված ընտանիքներ
I38: ='4'!I38 -> Միջոցառման մեջ ընդգրկված անձանց թիվ, մարդ | J38: ='4'!J38 -> 25 | K38: ='4'!K38 | L38: ='4'!L38 -> 70
B39: 1160 | C39: =+'1'!D16 -> Հաշմանդամություն ունեցող անձանց սոցիալական ներառում | J39: =J40 -> 106894.3 | K39: =K40 -> 163500.2 | L39: =L40 -> 289372.8
D40: =+'1'!C17 -> 1160 - 11016 | E40: =+'1'!D17 -> Անձնական օգնականի ծառայություն | J40: =+'1'!G17 -> 106894.3 | K40: =+'1'!H17 -> 163500.2 | L40: =+'1'!I17 -> 289372.8
F41: =+'1'!E17 -> Աջակցություն հաշմանդամություն ունեցող անձանց անկախ ապրելուն
G42: =+'1'!F17 -> Ծառայությունների մատուցում
...
