Workbook
Name \A: #REF!
Name _tab10: #REF!
Name _tab11: #REF!
Name _tab12: #REF!
Name _tab13: #REF!
Name _tab14: #REF!
Name _tab15: #REF!
Name _tab16: #REF!
Name _tab17: #REF!
Name _tab18: #REF!
Name _tab19: #REF!
Name _tab20: #REF!
Name _tab21: #REF!
Name _tab22: #REF!
Name _tab23: #REF!
Name _tab24: #REF!
Name _tab5: #REF!
Name _tab6: #REF!
Name _tab7: #REF!
Name _tab8: #REF!
Name _tab9: #REF!
Name aaaa: #REF!
Name aaaaa: #REF!
Name AgencyCode: #REF!
Name AgencyName: #REF!
Name ampop_krchat: #REF!
Name Armata: #REF!
Name asd: #REF!
Name åû: #REF!
Name BOP: #REF!
Name BOPfoot: #REF!
Name davit: #REF!
Name DebtCG: '[1]Fis-Debt'!#REF!
Name DebtGG: #REF!
Name fff: #REF!
Name Functional1: #REF!
Name ggg: #REF!
Name h: #REF!
Name Hav: #REF!,#REF!
Name mas: #REF!
Name mass: #REF!
Name MonExo: #REF!
Name MonGrow: [2]BM!#REF!
Name PANature: #REF!
Name par_count: #REF!,#REF!,#REF!,#REF!,#REF!,#REF!,#REF!,#REF!,#REF!,#REF!,#REF!,#REF!,#REF!,#REF!,#REF!
Name par_qual: #REF!,#REF!,#REF!,#REF!,#REF!
Name par_time: #REF!,#REF!,#REF!,#REF!
Name par2.12s: #REF!
Name par2.4s: #REF!,#REF!,#REF!,#REF!,#REF!,#REF!,#REF!,#REF!,#REF!,#REF!,#REF!,#REF!,#REF!,#REF!,#REF!,#REF!
Name par2.5s: #REF!,#REF!
Name par2.6s: #REF!,#REF!,#REF!,#REF!
Name par2.7s: #REF!,#REF!
Name par2.9s: #REF!,#REF!,#REF!,#REF!,#REF!,#REF!,#REF!,#REF!,#REF!,#REF!,#REF!,#REF!,#REF!,#REF!,#REF!,#REF!
Name par4.10s: #REF!,#REF!
Name par4.11d: #REF!,#REF!,#REF!,#REF!,#REF!
Name par4.12d: #REF!
Name par4.13s: #REF!
Name par4.14: #REF!,#REF!,#REF!,#REF!,#REF!,#REF!
Name par4.15: #REF!,#REF!,#REF!
Name par4.16: #REF!,#REF!,#REF!

Sheet Հավելված 1
A1: Հավելված N 1 ՀՀ կառավարության 2026 թվականի ____________ի N _____-Ն որոշման
A3: «ՀԱՅԱՍՏԱՆԻ ՀԱՆՐԱՊԵՏՈՒԹՅԱՆ 2026 ԹՎԱԿԱՆԻ ՊԵՏԱԿԱՆ ԲՅՈՒՋԵԻ ՄԱՍԻՆ» ՕՐԵՆՔԻ N 1 ՀԱՎԵԼՎԱԾԻ N 2 ԱՂՅՈՒՍԱԿՈՒՄ ԿԱՏԱՐՎՈՂ ՎԵՐԱԲԱՇԽՈՒՄԸ, ԼՐԱՑՈՒՄԸ, ՀԱՅԱՍՏԱՆԻ ՀԱՆՐԱՊԵՏՈՒԹՅԱՆ ԿԱՌԱՎԱՐՈՒԹՅԱՆ 2025 ԹՎԱԿԱՆԻ ԴԵԿՏԵՄԲԵՐԻ 25-Ի N 1910-Ն ՈՐՈՇՄԱՆ N 5 ՀԱՎԵԼՎԱԾԻ N 1 ԱՂՅՈՒՍԱԿՈՒՄ ԿԱՏԱՐՎՈՂ ՓՈՓՈԽՈՒԹՅՈՒՆԸ ԵՎ ԼՐԱՑՈՒՄԸ
H4: հազար դրամներով
A5: ԲԳԿ | B5: Ծրագրային դասիչը | D5: ԲԳԿ/Ծրագրի /միջոցառման անվանումը | E5: Ծրագրի նպատակը/Միջոցառման նկարագրությունը | F5: Վերջնական արդյունքի նկարագրությունը/Միջոցառման տեսակը | G5: Ցուցանիշների փոփոխությունները (ավելացումներ նշված են դրական նշանով, նվազեցումները՝ փակագծերում)
B6: Ծրագիր | C6: Միջոցառում | G6: Առաջին կիսամյակ | H6: Ինն ամիս | I6: Տարի
A7: ԸՆԴԱՄԵՆԸ | G7: =+G8+G11 -> 0 | H7: =+H8+H11 -> 0 | I7: =+I8+I11 -> 0
A8: ՀՀ էկոնոմիկայի նախարարություն | G8: 60000 | H8: 60000 | I8: 60000
B9: 1230 | D9: Ռազմական դրության պայմաններում քաղաքացիների կյանքի ու անվտանգության ապահովման և արտակարգ իրավիճակների հետևանքների նվազեցման և վերացման ծրագիր | E9: Ռազմական դրության պայմաններում քաղաքացիների կյանքի ու անվտանգության ապահովում, արտակարգ իրավիճակների հակազդում և հետևանքների վերացում | F9: Ռազմական դրության պայմաններում պետական և տեղական ինքնակառավարման մարմինների բնականոն գործունեության ու մարդկանց կյանքի և անվտանգության պաշտպանության ապահովում | G9: 60000 | H9: 60000 | I9: 60000
C10: 1230-11004 | D10: Հումանիտար աջակցություն Լիբանանի Հանրապետությանը | E10: Լիբանանի տեղահանված քաղաքացիական բնակչությանը մարդասիրական օգնություն ցուցաբերելու նպատակով սննդի և տնտեսական ապրանքների ձեռքբերում | F10: Ծառայությունների մատուցում | G10: 60000 | H10: 60000 | I10: 60000
A11: ՀՀ կառավարություն | G11: -60000 | H11: -60000 | I11: -60000
B12: 1139 | D12: ՀՀ կառավարության պահուստային ֆոնդ | E12: Պետական բյուջեում չկանխատեսված, ինչպես նաեւ բյուջետային երաշխիքների ապահովման ծախսերի ֆինանսավորման ապահովում | F12: Պահուստային ֆոնդի կառավարման արդյունավետության և թափանցիկության ապահովում | G12: -60000 | H12: -60000 | I12: -60000
C13: 1139 - 11001 | D13: ՀՀ կառավարության պահուստային ֆոնդ | E13: ՀՀ պետական բյուջեում նախատեսված ելքերի լրացուցիչ ֆինանսավորման, պետական բյուջեում չկանխատեսված ելքերի, ինչպես նաև բյուջետային երաշխիքների ապահովման ելքերի ֆինանսավորման ապահովում | F13: Ծառայությունների մատուցում | G13: -60000 | H13: -60000 | I13: -60000

Sheet Հավելված 2
F1: Հավելված 2 ՀՀ կառավարության 2026 թվականի ____________ի N _____-Ն որոշման
A3: ՀԱՅԱՍՏԱՆԻ ՀԱՆՐԱՊԵՏՈՒԹՅԱՆ ԿԱՌԱՎԱՐՈՒԹՅԱՆ 2025 ԹՎԱԿԱՆԻ ԴԵԿՏԵՄԲԵՐԻ 25-Ի N 1910-Ն ՈՐՈՇՄԱՆ NN 3 ԵՎ 4 ՀԱՎԵԼՎԱԾՆԵՐՈՒՄ ԿԱՏԱՐՎՈՂ ՓՈՓՈԽՈՒԹՅՈՒՆԸ ԵՎ ԼՐԱՑՈՒՄԸ
I4: հազար դրամներով
A5: Գործառնական դասիչ | D5: Ծրագրային դասիչը | F5: Բյուջետային ծախսերի գործառական դասակարգման բաժինների, խմբերի և դասերի, բյուջետային ծրագրերի միջոցառումների, բյուջետային հատկացումների գլխավոր կարգադրիչների անվանումները | G5: Ցուցանիշների փոփոխությունը (ավելացումները նշված են դրական նշանով, իսկ նվազեցումները՝ փակագծերում)
A6: Բաժին | B6: Խումբ | C6: Դաս | D6: Ծրագիր | E6: Միջոցառում | G6: Առաջին կիսամյակ | H6: Ինն ամիս | I6: Տարի
F7: ԸՆԴԱՄԵՆԸ ԾԱԽՍԵՐ | G7: =+G9+G36 -> 0 | H7: =+H9+H36 -> 0 | I7: =+I9+I36 -> 0
F8: այդ թվում`
F9: ՀՀ էկոնոմիկայի նախարարություն | G9: 60000 | H9: 60000 | I9: 60000
F10: այդ թվում`
A11: 04 | F11: ՏՆՏԵՍԱԿԱՆ ՀԱՐԱԲԵՐՈՒԹՅՈՒՆՆԵՐ | G11: 60000 | H11: 60000 | I11: 60000
B12: 01 | F12: Ընդհանուր բնույթի տնտեսական, առևտրային և աշխատանքի գծով հարաբերություններ | G12: 60000 | H12: 60000 | I12: 60000
F13: այդ թվում`
C14: 01 | F14: Ընդհանուր բնույթի տնտեսական և առևտրային հարաբերություններ | G14: 60000 | H14: 60000 | I14: 60000
F15: այդ թվում`
F16: ՀՀ էկոնոմիկայի նախարարություն | G16: =G14 -> 60000 | H16: =H14 -> 60000 | I16: =I14 -> 60000
F17: այդ թվում`
D18: 1230 | F18: =+'Հավելված 1'!D9 -> Ռազմական դրության պայմաններում քաղաքացիների կյանքի ու անվտանգության ապահովման և արտակարգ իրավիճակների հետևանքների նվազեցման և վերացման ծրագիր | G18: =G16 -> 60000 | H18: =H16 -> 60000 | I18: =I16 -> 60000
F19: այդ թվում`
E20: 11004 | F20: =+'Հավելված 1'!D10 -> Հումանիտար աջակցություն Լիբանանի Հանրապետությանը | G20: =G18 -> 60000 | H20: =H18 -> 60000 | I20: =I18 -> 60000
F21: այդ թվում` ըստ կատարողների
F22: ՀՀ էկոնոմիկայի նախարարություն | G22: 34000 | H22: 34000 | I22: 34000
F23: այդ թվում` բյուջետային ծախսերի տնտեսագիտական դասակարգման հոդվածներ
F24: ԸՆԴԱՄԵՆԸ ԾԱԽՍԵՐ | G24: =G22 -> 34000 | H24: =H22 -> 34000 | I24: =I22 -> 34000
F25: ԸՆԹԱՑԻԿ ԾԱԽՍԵՐ | G25: =G24 -> 34000 | H25: =+H26 -> 34000 | I25: =+I26 -> 34000
F26: ԾԱՌԱՅՈՒԹՅՈՒՆՆԵՐԻ ԵՎ ԱՊՐԱՆՔՆԵՐԻ ՁԵՌՔԲԵՐՈՒՄ | G26: =G24 -> 34000 | H26: =H27 -> 34000 | I26: =I27 -> 34000
F27: Նյութեր (Ապրանքներ) | G27: =G25 -> 34000 | H27: =H28 -> 34000 | I27: =I28 -> 34000
F28: - Կենցաղային և հանրային սննդի նյութեր | G28: =G26 -> 34000 | H28: =+G28 -> 34000 | I28: =+H28 -> 34000
F29: ՀՀ առողջապահության նախարարություն | G29: =+G31 -> 26000 | H29: =+H31 -> 26000 | I29: =+I31 -> 26000
F30: այդ թվում` բյուջետային ծախսերի տնտեսագիտական դասակարգման հոդվածներ
F31: ԸՆԴԱՄԵՆԸ ԾԱԽՍԵՐ | G31: =+G32 -> 26000 | H31: =+H32 -> 26000 | I31: =+I32 -> 26000
F32: ԸՆԹԱՑԻԿ ԾԱԽՍԵՐ | G32: =+G33 -> 26000 | H32: =+H33 -> 26000 | I32: =+I33 -> 26000
F33: ԾԱՌԱՅՈՒԹՅՈՒՆՆԵՐԻ ԵՎ ԱՊՐԱՆՔՆԵՐԻ ՁԵՌՔԲԵՐՈՒՄ | G33: =G34 -> 26000 | H33: =H34 -> 26000 | I33: =I34 -> 26000
F34: Նյութեր (Ապրանքներ) | G34: =G35 -> 26000 | H34: =H35 -> 26000 | I34: =I35 -> 26000
F35: - Առողջապահակն և լաբորատոր նյութեր | G35: 26000 | H35: =+G35 -> 26000 | I35: =+H35 -> 26000
F36: ՀՀ կառավարություն | G36: -60000 | H36: -60000 | I36: -60000
F37: այդ թվում`
A38: 11 | F38: ՀԻՄՆԱԿԱՆ ԲԱԺԻՆՆԵՐԻՆ ՉԴԱՍՎՈՂ ՊԱՀՈՒՍՏԱՅԻՆ ՖՈՆԴԵՐ | G38: =G36 -> -60000 | H38: =H36 -> -60000 | I38: =I36 -> -60000
F39: այդ թվում`
B40: 01 | F40: ՀՀ կառավարության և համայնքների պահուստային ֆոնդ | G40: =G38 -> -60000 | H40: =H38 -> -60000 | I40: =I38 -> -60000
F41: այդ թվում`
C42: 01 | F42: ՀՀ կառավարության պահուստային ֆոնդ | G42: =G40 -> -60000 | H42: =H40 -> -60000 | I42: =I40 -> -60000
F43: այդ թվում`
F44: ՀՀ կառավարություն | G44: =G42 -> -60000 | H44: =H42 -> -60000 | I44: =I42 -> -60000
F45: այդ թվում`
D46: 1139 | F46: ՀՀ կառավարության պահուստային ֆոնդ | G46: =G44 -> -60000 | H46: =H44 -> -60000 | I46: =I44 -> -60000
F47: այդ թվում`
E48: 11001 | F48: ՀՀ կառավարության պահուստային ֆոնդ | G48: =G46 -> -60000 | H48: =H46 -> -60000 | I48: =I46 -> -60000
F49: այդ թվում` ըստ կատարողների
F50: ՀՀ կառավարություն | G50: =G48 -> -60000 | H50: =H48 -> -60000 | I50: =I48 -> -60000
F51: այդ թվում` բյուջետային ծախսերի տնտեսագիտական դասակարգման հոդվածներ
F52: ԸՆԴԱՄԵՆԸ ԾԱԽՍԵՐ | G52: =G50 -> -60000 | H52: =H50 -> -60000 | I52: =I50 -> -60000
F53: ԸՆԹԱՑԻԿ ԾԱԽՍԵՐ | G53: =G52 -> -60000 | H53: =H52 -> -60000 | I53: =I52 -> -60000
F54: ԱՅԼ ԾԱԽՍԵՐ | G54: =G53 -> -60000 | H54: =H53 -> -60000 | I54: =I53 -> -60000
F55: Պահուստային միջոցներ | G55: =G54 -> -60000 | H55: =H54 -> -60000 | I55: =I54 -> -60000

Sheet Հավելված 3 
A1: Հավելված 3 ՀՀ կառավարության 2026 թվականի ____________ի N _____-Ն որոշման
A2: ՀԱՅԱՍՏԱՆԻ ՀԱՆՐԱՊԵՏՈՒԹՅԱՆ ԿԱՌԱՎԱՐՈՒԹՅԱՆ 2025 ԹՎԱԿԱՆԻ ԴԵԿՏԵՄԲԵՐԻ 25-Ի N 1910-Ն ՈՐՈՇՄԱՆ N 9 ՀԱՎԵԼՎԱԾՈՒՄ ԿԱՏԱՐՎՈՂ ՓՈՓՈԽՈՒԹՅՈՒՆԸ ԵՎ ԼՐԱՑՈՒՄԸ
L3: հազար դրամներով
A4: ԲԳԿ | B4: Ծրագիր | D4: Միջոցառում | H4: Իրականացնողը/ ակտիվն օգտագործողը/ շահառուի ընտրության չափորոշիչը | I4: Արդյունքային չափորոշիչը | J4: Ցուցանիշների փոփոխությունը (ավելացումները նշված են դրական նշանով, իսկ նվազեցումները՝ փակագծերում)
B5: Դասիչը | C5: Անվա-նումը | D5: Դասիչը | E5: Անվա-նումը | F5: Նկարագրու-թյունը | G5: Տեսակը | J5: Առաջին կիսամյակ | K5: Ինն ամիս | L5: Տարի
A6: ԸՆԴԱՄԵՆԸ | J6: =+J7+J13 -> 0 | K6: =+K7+K13 -> 0 | L6: =+L7+L13 -> 0
A7: ՀՀ էկոնոմիկայի նախարարություն | J7: =+J8 -> 60000 | K7: =+K8 -> 60000 | L7: =+L8 -> 60000
B8: =+'Հավելված 1'!B9 -> 1230 | C8: =+'Հավելված 1'!D9 -> Ռազմական դրության պայմաններում քաղաքացիների կյանքի ու անվտանգության ապահովման և արտակարգ իրավիճակների հետևանքների նվազեցման և վերացման ծրագիր | J8: =+J9 -> 60000 | K8: =+K9 -> 60000 | L8: =+L9 -> 60000
D9: =+'Հավելված 1'!C10 -> 1230-11004 | E9: =+'Հավելված 1'!D10 -> Հումանիտար աջակցություն Լիբանանի Հանրապետությանը | J9: =+'Հավելված 2'!G20 -> 60000 | K9: =+'Հավելված 2'!H20 -> 60000 | L9: =+'Հավելված 2'!I20 -> 60000
F10: =+'Հավելված 1'!E10 -> Լիբանանի տեղահանված քաղաքացիական բնակչությանը մարդասիրական օգնություն ցուցաբերելու նպատակով սննդի և տնտեսական ապրանքների ձեռքբերում
G11: Ծառայությունների մատուցում
H12: Ծառայությունը մատուցողի անվանումը` Մասնագիտացված կազմակերպություններ
A13: ՀՀ կառավարություն | J13: =+J14 -> -60000 | K13: =+K14 -> -60000 | L13: =+L14 -> -60000
B14: 1139 | C14: ՀՀ կառավարության պահուստային ֆոնդ | J14: =+J15 -> -60000 | K14: =+K15 -> -60000 | L14: =+L15 -> -60000
D15: 1139 - 11001 | E15: ՀՀ կառավարության պահուստային ֆոնդ | J15: =+'Հավելված 2'!G48 -> -60000 | K15: =+'Հավելված 2'!H48 -> -60000 | L15: =+'Հավելված 2'!I48 -> -60000
F16: ՀՀ պետական բյուջեում նախատեսված ելքերի լրացուցիչ ֆինանսավորման, պետական բյուջեում չկանխատեսված ելքերի, ինչպես նաև բյուջետային երաշխիքների ապահովման ելքերի ֆինանսավորման ապահովում
G17: Ծառայությունների մատուցում
H18: Ծառայությունը մատուցողի անվանումը` ՀՀ կառավարություն

Sheet Հավելված 4
A1: Հավելված 4 ՀՀ կառավարության 2026 թվականի ____________ի N _____-Ն որոշման
A2: ՀԱՅԱՍՏԱՆԻ ՀԱՆՐԱՊԵՏՈՒԹՅԱՆ ԿԱՌԱՎԱՐՈՒԹՅԱՆ 2025 ԹՎԱԿԱՆԻ ԴԵԿՏԵՄԲԵՐԻ 25-Ի N 1910-Ն ՈՐՈՇՄԱՆ N 9.1 ՀԱՎԵԼՎԱԾՈՒՄ ԿԱՏԱՐՎՈՂ ՓՈՓՈԽՈՒԹՅՈՒՆԸ ԵՎ ԼՐԱՑՈՒՄԸ
L3: հազար դրամներով
A4: ԲՍԿ | B4: Ծրագիր | D4: Միջոցառում | H4: Իրականացնողը/ ակտիվն օգտագործողը/ շահառուի ընտրության չափորոշիչը | I4: Արդյունքային չափորոշիչը | J4: Ցուցանիշների փոփոխությունը (ավելացումները նշված են դրական նշանով, իսկ նվազեցումները՝ փակագծերում)
B5: Դասիչը | C5: Անվա-նումը | D5: Դասիչը | E5: Անվա-նումը | F5: Նկարագրու-թյունը | G5: Տեսակը | J5: Առաջին կիսամյակ | K5: Ինն ամիս | L5: Տարի
A6: ԸՆԴԱՄԵՆԸ | J6: 0 | K6: 0 | L6: 0
A7: ՀՀ էկոնոմիկայի նախարարություն | J7: 34000 | K7: 34000 | L7: 34000
B8: =+'Հավելված 1'!B9 -> 1230 | C8: =+'Հավելված 1'!D9 -> Ռազմական դրության պայմաններում քաղաքացիների կյանքի ու անվտանգության ապահովման և արտակարգ իրավիճակների հետևանքների նվազեցման և վերացման ծրագիր | J8: 34000 | K8: 34000 | L8: 34000
D9: =+'Հավելված 1'!C10 -> 1230-11004 | E9: =+'Հավելված 1'!D10 -> Հումանիտար աջակցություն Լիբանանի Հանրապետությանը | J9: 34000 | K9: 34000 | L9: 34000
F10: =+'Հավելված 1'!E10 -> Լիբանանի տեղահանված քաղաքացիական բնակչությանը մարդասիրական օգնություն ցուցաբերելու նպատակով սննդի և տնտեսական ապրանքների ձեռքբերում
G11: Ծառայությունների մատուցում
H12: Ծառայությունը մատուցողի անվանումը` Մասնագիտացված կազմակերպություններ
A13: ՀՀ առողջապահության նախարարություն | J13: =+J14 -> 26000 | K13: =+K14 -> 26000 | L13: =+L14 -> 26000
B14: 1230 | C14: Ռազմական դրության պայմաններում քաղաքացիների կյանքի ու անվտանգության ապահովման և արտակարգ իրավիճակների հետևանքների նվազեցման և վերացման ծրագիր | J14: =+J15 -> 26000 | K14: =+K15 -> 26000 | L14: =+L15 -> 26000
D15: 1230-11004 | E15: Հումանիտար աջակցություն Լիբանանի Հանրապետությանը | J15: 26000 | K15: 26000 | L15: 26000
F16: Լիբանանի տեղահանված քաղաքացիական բնակչությանը մարդասիրական օգնություն ցուցաբերելու նպատակով սննդի և տնտեսական ապրանքների ձեռքբերում
G17: Ծառայությունների մատուցում
H18: Ծառայությունը մատուցողի անվանումը` Մասնագիտացված կազմակերպություններ
A19: ՀՀ կառավարություն | J19: =+J20 -> -60000 | K19: =+K20 -> -60000 | L19: =+L20 -> -60000
B20: 1139 | C20: ՀՀ կառավարության պահուստային ֆոնդ | J20: =+J21 -> -60000 | K20: =+K21 -> -60000 | L20: =+L21 -> -60000
D21: 1139 - 11001 | E21: ՀՀ կառավարության պահուստային ֆոնդ | J21: =+'Հավելված 2'!G48 -> -60000 | K21: =+'Հավելված 2'!H48 -> -60000 | L21: =+'Հավելված 2'!I48 -> -60000
F22: ՀՀ պետական բյուջեում նախատեսված ելքերի լրացուցիչ ֆինանսավորման, պետական բյուջեում չկանխատեսված ելքերի, ինչպես նաև բյուջետային երաշխիքների ապահովման ելքերի ֆինանսավորման ապահովում
G23: Ծառայությունների մատուցում
H24: Ծառայությունը մատուցողի անվանումը` ՀՀ կառավարություն

Sheet Հավելված 5
F1: Հավելված 5 ՀՀ կառավարության 2026 թվականի ____________ի N _____-Ն որոշման
A3: ՀԱՅԱՍՏԱՆԻ ՀԱՆՐԱՊԵՏՈՒԹՅԱՆ ԿԱՌԱՎԱՐՈՒԹՅԱՆ 2025 ԹՎԱԿԱՆԻ ԴԵԿՏԵՄԲԵՐԻ 25-Ի N 1910-Ն ՈՐՈՇՄԱՆ N 10 ՀԱՎԵԼՎԱԾՈՒՄ ԿԱՏԱՐՎՈՂ ԼՐԱՑՈՒՄՆԵՐԸ
A5: Կոդը | B5: Անվանումը | E5: Գնման ձևը | F5: Չափման միավորը | G5: Միավորի գինը | H5: Քանակը | I5: Գումարը (հազար դրամով)
A6: 1 | B6: 2 | E6: 3 | F6: 4 | G6: 5 | H6: 6 | I6: 7
A7: ՀՀ էկոնոմիկայի նախարարություն | I7: =+I9 -> 9993.4496
A8: Բաժին 04 | B8: Խումբ 01 | C8: Դաս 01 | D8: Ընդհանուր բնույթի տնտեսական և առևտրային հարաբերություններ | I8: =+I9 -> 9993.4496
A9: =+'Հավելված 1'!C10 -> 1230-11004 | B9: =+'Հավելված 1'!D10 -> Հումանիտար աջակցություն Լիբանանի Հանրապետությանը | I9: =+I10 -> 9993.4496
B10: ՄԱՍ I. Ա Պ Ր Ա Ն Ք Ն Ե Ր | I10: =+SUM(I11:I53) -> 9993.4496
A11: 33141118 | B11: անձեռոցիկներ | C11: ³ÝÓ»éáóÇÏÝ»ñ | D11: ³ÝÓ»éáóÇÏÝ»ñ | E11: ՀՄԱ | F11: հատ | G11: 99 | H11: 500 | I11: =+G11*H11/1000 -> 49.5
A12: 33141118 | B12: անձեռոցիկներ | C12: ³ÝÓ»éáóÇÏÝ»ñ | D12: ³ÝÓ»éáóÇÏÝ»ñ | E12: ՀՄԱ | F12: հատ | G12: 99 | H12: 500 | I12: =+G12*H12/1000 -> 49.5
A13: 33141118 | B13: անձեռոցիկներ | C13: ³ÝÓ»éáóÇÏÝ»ñ | D13: ³ÝÓ»éáóÇÏÝ»ñ | E13: ՀՄԱ | F13: հատ | G13: 99 | H13: 500 | I13: =+G13*H13/1000 -> 49.5
A14: 33141118 | B14: անձեռոցիկներ | C14: ³ÝÓ»éáóÇÏÝ»ñ | D14: ³ÝÓ»éáóÇÏÝ»ñ | E14: ՀՄԱ | F14: հատ | G14: 382.5 | H14: 500 | I14: =+G14*H14/1000 -> 191.25
A15: 03111250 | B15: բամբակ | C15: µ³Ùµ³Ï | D15: µ³Ùµ³Ï | E15: ՀՄԱ | F15: կգ | G15: 580.5 | H15: 500 | I15: =+G15*H15/1000 -> 290.25
A16: 33771200 | B16: հիգիենիկ միջադիներ կամ վիրախծուծներ (տամպոններ) | C16: µ³Ùµ³Ï | D16: µ³Ùµ³Ï | E16: ՀՄԱ | F16: հատ | G16: 26 | H16: 21442 | I16: =+G16*H16/1000 -> 557.492
A17: 33711310 | B17: շամպուններ | E17: ՀՄԱ | F17: հատ | G17: 550 | H17: 250 | I17: =+G17*H17/1000 -> 137.5
A18: 33711310 | B18: շամպուններ | E18: ՀՄԱ | F18: հատ | G18: 550 | H18: 250 | I18: =+G18*H18/1000 -> 137.5
A19: 33711310 | B19: շամպուններ | E19: ՀՄԱ | F19: հատ | G19: 620 | H19: 250 | I19: =+G19*H19/1000 -> 155
A20: 33711270 | B20: լոգանքի գելեր | E20: ՀՄԱ | F20: հատ | G20: 550 | H20: 250 | I20: =+G20*H20/1000 -> 137.5
A21: 33711310 | B21: շամպուններ | E21: ՀՄԱ | F21: հատ | G21: 920 | H21: 250 | I21: =+G21*H21/1000 -> 230
A22: 33711310 | B22: շամպուններ | E22: ՀՄԱ | F22: հատ | G22: 390 | H22: 250 | I22: =+G22*H22/1000 -> 97.5
A23: 33711310 | B23: շամպուններ | E23: ՀՄԱ | F23: հատ | G23: 390 | H23: 250 | I23: =+G23*H23/1000 -> 97.5
A24: 33711310 | B24: շամպուններ | E24: ՀՄԱ | F24: հատ | G24: 700 | H24: 250 | I24: =+G24*H24/1000 -> 175
A25: 33711310 | B25: շամպուններ | E25: ՀՄԱ | F25: հատ | G25: 320 | H25: 250 | I25: =+G25*H25/1000 -> 80
A26: 33711480 | B26: օճառ | E26: ՀՄԱ | F26: հատ | G26: 285 | H26: 250 | I26: =+G26*H26/1000 -> 71.25
A27: 33711480 | B27: օճառ | E27: ՀՄԱ | F27: հատ | G27: 285 | H27: 250 | I27: =+G27*H27/1000 -> 71.25
A28: 33711480 | B28: օճառ | E28: ՀՄԱ | F28: հատ | G28: 410 | H28: 250 | I28: =+G28*H28/1000 -> 102.5
A29: 33711480 | B29: օճառ | E29: ՀՄԱ | F29: հատ | G29: 410 | H29: 250 | I29: =+G29*H29/1000 -> 102.5
A30: 39831244 | B30: օճառ, տնտեսական | E30: ՀՄԱ | F30: կգ | G30: 300 | H30: 250 | I30: =+G30*H30/1000 -> 75
A31: 33711480 | B31: օճառ | E31: ՀՄԱ | F31: հատ | G31: 125 | H31: 250 | I31: =+G31*H31/1000 -> 31.25
A32: 33711480 | B32: օճառ | E32: ՀՄԱ | F32: հատ | G32: 125 | H32: 250 | I32: =+G32*H32/1000 -> 31.25
A33: 33711480 | B33: օճառ | E33: ՀՄԱ | F33: հատ | G33: 160 | H33: 250 | I33: =+G33*H33/1000 -> 40
A34: 33711480 | B34: օճառ | E34: ՀՄԱ | F34: հատ | G34: 160 | H34: 250 | I34: =+G34*H34/1000 -> 40
A35: 15331178 | B35: պահածոյացված բանջարեղեն | C35: պահածոյացված բանջարեղեն | D35: պահածոյացված բանջարեղեն | E35: ՀՄԱ | F35: կգ | G35: 675 | H35: 504 | I35: =+G35*H35/1000 -> 340.2
A36: 15331178 | B36: պահածոյացված բանջարեղեն | C36: պահածոյացված բանջարեղեն | D36: պահածոյացված բանջարեղեն | E36: ՀՄԱ | F36: կգ | G36: 725 | H36: 504 | I36: =+G36*H36/1000 -> 365.4
A37: 15331178 | B37: պահածոյացված բանջարեղեն | C37: պահածոյացված բանջարեղեն | D37: պահածոյացված բանջարեղեն | E37: ՀՄԱ | F37: կգ | G37: 715 | H37: 504 | I37: =+G37*H37/1000 -> 360.36
A38: 15331178 | B38: պահածոյացված բանջարեղեն | C38: պահածոյացված բանջարեղեն | D38: պահածոյացված բանջարեղեն | E38: ՀՄԱ | F38: կգ | G38: 730 | H38: 512 | I38: =+G38*H38/1000 -> 373.76
A39: 15211110 | B39: ձկան պահածո | C39: ձկան պահածո | D39: ձկան պահածո | E39: ՀՄԱ | F39: կգ | G39: 1050 | H39: 512 | I39: =+G39*H39/1000 -> 537.6
A40: 15331178 | B40: պահածոյացված բանջարեղեն | C40: պահածոյացված բանջարեղեն | D40: պահածոյացված բանջարեղեն | E40: ՀՄԱ | F40: կգ | G40: 650 | H40: 512 | I40: =+G40*H40/1000 -> 332.8
A41: 15131631 | B41: մսի պահածո | C41: մսի պահածո | D41: մսի պահածո | E41: ՀՄԱ | F41: կգ | G41: 995 | H41: 512 | I41: =+G41*H41/1000 -> 509.44
A42: 15131631 | B42: մսի պահածո | C42: մսի պահածո | D42: մսի պահածո | E42: ՀՄԱ | F42: կգ | G42: 1410 | H42: 480 | I42: =+G42*H42/1000 -> 676.8
A43: 15331178 | B43: պահածոյացված բանջարեղեն | C43: պահածոյացված բանջարեղեն | D43: պահածոյացված բանջարեղեն | E43: ՀՄԱ | F43: կգ | G43: 827.7 | H43: 480 | I43: =+G43*H43/1000 -> 397.296
A44: 15333100 | B44: տոմատի մածուկ | C44: տոմատի մածուկ | D44: տոմատի մածուկ | E44: ՀՄԱ | F44: կգ | G44: 837 | H44: 480 | I44: =+G44*H44/1000 -> 401.76
A45: 15331178 | B45: պահածոյացված բանջարեղեն | C45: պահածոյացված բանջարեղեն | D45: պահածոյացված բանջարեղեն | E45: ՀՄԱ | F45: կգ | G45: 837 | H45: 480 | I45: =+G45*H45/1000 -> 401.76
A46: 15331178 | B46: պահածոյացված բանջարեղեն | C46: պահածոյացված բանջարեղեն | D46: պահածոյացված բանջարեղեն | E46: ՀՄԱ | F46: կգ | G46: 883.5 | H46: 264 | I46: =+G46*H46/1000 -> 233.244
A47: 15331178 | B47: պահածոյացված բանջարեղեն | C47: պահածոյացված բանջարեղեն | D47: պահածոյացված բանջարեղեն | E47: ՀՄԱ | F47: կգ | G47: 790.5 | H47: 300 | I47: =+G47*H47/1000 -> 237.15
A48: 15331178 | B48: պահածոյացված բանջարեղեն | C48: պահածոյացված բանջարեղեն | D48: պահածոյացված բանջարեղեն | E48: ՀՄԱ | F48: կգ | G48: 837 | H48: 300 | I48: =+G48*H48/1000 -> 251.1
A49: 15331178 | B49: պահածոյացված բանջարեղեն | C49: պահածոյացված բանջարեղեն | D49: պահածոյացված բանջարեղեն | E49: ՀՄԱ | F49: կգ | G49: 827.7 | H49: 300 | I49: =+G49*H49/1000 -> 248.31
A50: 15332230 | B50: մուրաբա | C50: մուրաբա | D50: մուրաբա | E50: ՀՄԱ | F50: կգ | G50: 1041.6 | H50: 276 | I50: =+G50*H50/1000 -> 287.4816
A51: 15332230 | B51: մուրաբա | C51: մուրաբ132 | D51: մուրաբ132 | E51: ՀՄԱ | F51: կգ | G51: 911.4 | H51: 300 | I51: =+G51*H51/1000 -> 273.42
A52: 15332290 | B52: ջեմեր | C52: ջեմեր | D52: ջեմեր | E52: ՀՄԱ | F52: կգ | G52: 1041.6 | H52: 360 | I52: =+G52*H52/1000 -> 374.976
A53: 15332230 | B53: մուրաբա | C53: մուրաբ132 | D53: մուրաբ132 | E53: ՀՄԱ | F53: կգ | G53: 1302 | H53: 300 | I53: =+G53*H53/1000 -> 390.6
A54: ՀՀ առողջապահության նախարարություն | I54: =+I55 -> 26000
B55: ՄԱՍ I. Ա Պ Ր Ա Ն Ք Ն Ե Ր | I55: =+SUM(I56:I98) -> 26000
A56: 33691176 | B56: այլ դեղորայք | E56: ՀՄԱ | F56: դրամ | G56: 26000000 | H56: 1 | I56: =G56*H56/1000 -> 26000
