Workbook

Sheet 1
F2: Հավելված N 1
D3: ՀՀ կառավարության 2026 թվականի -ի N -Ն որոշման
B4: «Երաժշտական կամուրջ» խորագրով համերգ Գյումրիում՝ նվիրված Հայաստանի և Ֆրանսիայի բարեկամությանը » ծրագրի իրականացման ծախսեր
A5: ՆԱԽԱՀԱՇԻՎ 1
A6: N | B6: Ծախսատեսակի անվանումը | C6: Միավոր | D6: Քանակ | E6: Միավորի արժեքը (գինը) | F6: Գումար (հազար դրամ)
A7: 1 | B7: Նվագախմբի հոնորար (ներառյալ նվագախմբի և կազմակերպչական անձնակազմի վճարներ) | C7: ծառայություն | D7: 1 | E7: 15000000 | F7: =SUM(D7*E7)/1000 -> 15000
A8: 2 | B8: Երգչախմբի հոնորար | C8: ծառայություն | D8: 1 | E8: 3000000 | F8: =SUM(D8*E8)/1000 -> 3000
A9: 3 | B9: Հրավիրված երաժիշտներ (միջին) | C9: մարդ | D9: 12 | E9: 120000 | F9: =SUM(D9*E9)/1000 -> 1440
A10: 4 | B10: Մենակատարի հոնորար (միջին) | C10: ծառայություն | D10: 1 | E10: 2000000 | F10: =SUM(D10*E10)/1000 -> 2000
A11: 5 | B11: Մենակատարի հոնորար (միջին) | C11: ծառայություն | D11: 1 | E11: 1000000 | F11: =SUM(D11*E11)/1000 -> 1000
A12: 6 | B12: Մենակատարի հոնորար (միջին) | C12: ծառայություն | D12: 1 | E12: 16500000 | F12: =SUM(D12*E12)/1000 -> 16500
A13: 7 | B13: Մենակատարի հոնորար (միջին) | C13: ծառայություն | D13: 1 | E13: 30556400 | F13: =SUM(D13*E13)/1000 -> 30556.4
A14: 8 | B14: Մենակատարի հոնորար (միջին) | C14: ծառայություն | D14: 1 | E14: 39000000 | F14: =SUM(D14*E14)/1000 -> 39000
A15: 9 | B15: Դի Ջեյի ծառայություն | C15: ծառայություն | D15: 1 | E15: 12500000 | F15: =SUM(D15*E15)/1000 -> 12500
A16: 10 | B16: Ստեղծագործությունների գործիքավորում և ադապտացում | C16: հատ | D16: 5 | E16: 330000 | F16: =SUM(D16*E16)/1000 -> 1650
A17: 11 | B17: Գործիքների վարձակալություն | C17: ծառայություն | D17: 1 | E17: 600000 | F17: =SUM(D17*E17)/1000 -> 600
A18: 12 | B18: Տրանսպորտային ծառայություն | C18: ծառայություն | D18: 1 | E18: 950000 | F18: =SUM(D18*E18)/1000 -> 950
A19: 13 | B19: Արտերկրի արտիստների և ուղեկցորդների հյուրանոց Գյումրիում (ներառյալ նախաճաշ) ` 10 մարդ 2 օր (միջին) | C19: օր | D19: 20 | E19: 72000 | F19: =SUM(D19*E19)/1000 -> 1440
B20: ԸՆԴԱՄԵՆԸ | F20: =SUM(F7:F19) -> 125636.4
B21: ԱԱՀ | F21: =F20*20% -> 25127.28
B22: ԱՄԲՈՂՋԸ | F22: =SUM(F20:F21) -> 150763.68
A25: ՆԱԽԱՀԱՇԻՎ 2
A26: N | B26: Ծախսատեսակի անվանումը | C26: Միավոր | D26: Քանակ | E26: Միավորի արժեքը (գինը) | F26: Գումար (հազար դրամ)
A27: 1 | B27: Բեմադրող ռեժիսոր | C27: ծառայություն | D27: 1 | E27: 8000000 | F27: =+E27*D27/1000 -> 8000
A28: 2 | B28: Երկրորդ ռեժիսոր | C28: ծառայություն | D28: 1 | E28: 888888.89 | F28: =+E28*D28/1000 -> 888.88889
A29: 3 | B29: Գծային պրոդյուսեր | C29: ծառայություն | D29: 1 | E29: 777777.78 | F29: =+E29*D29/1000 -> 777.77778
A30: 4 | B30: Նախագծի ղեկավար | C30: ծառայություն | D30: 1 | E30: 555555.56 | F30: =+E30*D30/1000 -> 555.55556
A31: 5 | B31: Ադմինիստրատիվ անձնակազմ | C31: ծառայություն | D31: 1 | E31: 1111111.1 | F31: =+E31*D31/1000 -> 1111.1111
A32: 6 | B32: Բեմի դիզայն ու բրենդավորում | C32: ծառայություն | D32: 1 | E32: 777777.78 | F32: =+E32*D32/1000 -> 777.77778
A33: 7 | B33: ԼԷԴ կոնտենտի ստեղծում | C33: ծառայություն | D33: 1 | E33: 1666666.7 | F33: =+E33*D33/1000 -> 1666.6667
A34: 8 | B34: Ոճաբան | C34: ծառայություն | D34: 1 | E34: 222222.22 | F34: =+E34*D34/1000 -> 222.22222
A35: 9 | B35: Դիմահարդարում և վարսահարդարում | C35: ծառայություն | D35: 1 | E35: 577777.78 | F35: =+E35*D35/1000 -> 577.77778
A36: 10 | B36: Թարգմանիչ-հաղորդավար | C36: ծառայություն | D36: 2 | E36: 300000 | F36: =+E36*D36/1000 -> 600
A37: 11 | B37: Հաղորդավար | C37: ծառայություն | D37: 2 | E37: 1111111.1 | F37: =+E37*D37/1000 -> 2222.2222
A38: 12 | B38: Սցենարի հեղինակ | C38: ծառայություն | D38: 1 | E38: 555555.56 | F38: =+E38*D38/1000 -> 555.55556
... A46: 20 | B46: Միջոցառման կոնցեպտի մշակում, իրականացում և կոորդինացիա | C46: ծառայություն | D46: 1 | E46: 20000000 | F46: =+E46*D46/1000 -> 20000
B47: ԸՆԴԱՄԵՆԸ | F47: =SUM(F27:F46) -> 201778.32
B48: ԱԱՀ | F48: =+F47*0.2 -> 40355.664
B49: ԱՄԲՈՂՋԸ | F49: =+F47+F48 -> 242133.98
B50: ԸՆԴԱՄԵՆԸ ՆԱԽԱՀԱՇԻՎ 1 + ՆԱԽԱՀԱՇԻՎ 2 | F50: =+F49+F22 -> 392897.66

Sheet 2
G1: Հավելված N 2
G2: ՀՀ կառավարության 2026 թվականի -ի N -Ն որոշման
A3: «ՀԱՅԱՍՏԱՆԻ ՀԱՆՐԱՊԵՏՈՒԹՅԱՆ 2026 ԹՎԱԿԱՆԻ ՊԵՏԱԿԱՆ ԲՅՈՒՋԵԻ ՄԱՍԻՆ» ՀԱՅԱՍՏԱՆԻ ՀԱՆՐԱՊԵՏՈՒԹՅԱՆ ՕՐԵՆՔԻ N 1 ՀԱՎԵԼՎԱԾԻ N 2 ԱՂՅՈՒՍԱԿՈՒՄ ԿԱՏԱՐՎՈՂ ՎԵՐԱԲԱՇԽՈՒՄԸ ԵՎ ՀԱՅԱՍՏԱՆԻ ՀԱՆՐԱՊԵՏՈՒԹՅԱՆ ԿԱՌԱՎԱՐՈՒԹՅԱՆ 2025 ԹՎԱԿԱՆԻ ԴԵԿՏԵՄԲԵՐԻ 25-Ի N 1910-Ն ՈՐՈՇՄԱՆ N 5 ՀԱՎԵԼՎԱԾԻ N1 ԱՂՅՈՒՍԱԿՈՒՄ ԿԱՏԱՐՎՈՂ ՓՈՓՈԽՈՒԹՅՈՒՆՆԵՐԸ
H4: հազար դրամներով
A5: ԲԳԿ | B5: Ծրագրային դասիչը | D5: ԲԳԿ/Ծրագրի /միջոցառման անվանումը | E5: Ծրագրի նպատակը/Միջոցառման նկարագրությունը | F5: Վերջնական արդյունքի նկարագրությունը/ Միջոցառման տեսակը | G5: Առաջին կիսամյակ | H5: Ինն ամիս | I5: Տարի
B6: Ծրագիր | C6: Միջոցառում
A7: ԸՆԴԱՄԵՆԸ | G7: =G8+G11 -> 0 | H7: =H8+H11 -> 0 | I7: =I8+I11 -> 0
A8: ՀՀ կրթության, գիտության, մշակույթի և սպորտի նախարարություն | G8: =G9 -> 392897.7 | H8: =H9 -> 392897.7 | I8: =I9 -> 392897.7
B9: 1168 | D9: Արվեստների ծրագիր | E9: Նպաստել ազգային հենքի վրա ժամանակակից թատերարվեստի, երաժշտարվեստի, կերպարվեստի և պարարվեստի զարգացմանը և հանրահռչակմանը | F9: Մրցունակ արվեստային արտադրանքի ստեղծում, ստեղծագործական գործընթացների խթանում, արվեստի նոր նախագծերի ներդրում և մշակութային կյանքում հասարակության ներգրավում | G9: =+G10 -> 392897.7 | H9: =+H10 -> 392897.7 | I9: =+I10 -> 392897.7
C10: 1168-11005 | D10: Մշակութային միջոցառումների իրականացում | E10: Արվեստի հանրահռչակում, տարածում, մատչելիության ապահովում | F10: Ծառայությունների մատուցում | G10: 392897.7 | H10: 392897.7 | I10: 392897.7
A11: ՀՀ կառավարություն | G11: =+G12 -> -392897.7 | H11: =+H12 -> -392897.7 | I11: =+I12 -> -392897.7
B12: 1139 | D12: ՀՀ կառավարության պահուստային ֆոնդ | E12: Պետական բյուջեում չկանխատեսված, ինչպես նաեւ բյուջետային երաշխիքների ապահովման ծախսերի ֆինանսավորման ապահովում | F12: Պահուստային ֆոնդի կառավարման արդյունավետության և թափանցիկության ապահովում | G12: =+G13 -> -392897.7 | H12: =+H13 -> -392897.7 | I12: =+I13 -> -392897.7
C13: 1139 - 11001 | D13: ՀՀ կառավարության պահուստային ֆոնդ | E13: ՀՀ պետական բյուջեում նախատեսված ելքերի լրացուցիչ ֆինանսավորման, պետական բյուջեում չկանխատեսված ելքերի, ինչպես նաև բյուջետային երաշխիքների ապահովման ելքերի ֆինանսավորման ապահովում | F13: Ծառայությունների մատուցում | G13: -392897.7 | H13: -392897.7 | I13: -392897.7

Sheet 3
G2: Հավելված N 3
G3: ՀՀ կառավարության 2026 թվականի
G4: -ի N -Ն որոշման
A6: ՀԱՅԱՍՏԱՆԻ ՀԱՆՐԱՊԵՏՈՒԹՅԱՆ ԿԱՌԱՎԱՐՈՒԹՅԱՆ 2025 ԹՎԱԿԱՆԻ ԴԵԿՏԵՄԲԵՐԻ 25-Ի N 1910-Ն ՈՐՈՇՄԱՆ NN 3 ԵՎ 4 ՀԱՎԵԼՎԱԾՆԵՐՈՒՄ ԿԱՏԱՐՎՈՂ ՓՈՓՈԽՈՒԹՅՈՒՆՆԵՐԸ
G7: հազար դրամներով
A9: Գործառական դասիչը | D9: Ծրագրային դասիչը | F9: Բյուջետային հատկացումների գլխավոր կարգադրիչների, ծրագրերի, միջոցառումների և միջոցառումները կատարող պետական մարմինների անվանումները | G9: Ցուցանիշների փոփոխությունը (ավելացումները նշված են դրական նշանով, իսկ նվազեցումները փակագծերում)
A10: Բաժին | B10: Խումբ | C10: Դաս | D10: Ծրագիր | E10: Միջոցառում | G10: Առաջին կիսամյակ | H10: Ինն ամիս | I10: Տարի
F11: ԸՆԴԱՄԵՆԸ | G11: =+G13+G34 -> 0 | H11: =H13+H34 -> 0 | I11: =I13+I34 -> 0
F12: այդ թվում
F13: ՀՀ ԿՐԹՈՒԹՅԱՆ, ԳԻՏՈՒԹՅԱՆ, ՄՇԱԿՈՒՅԹԻ ԵՎ ՍՊՈՐՏԻ ՆԱԽԱՐԱՐՈՒԹՅՈՒՆ | G13: =G14 -> 392897.7 | H13: =H14 -> 392897.7 | I13: =I14 -> 392897.7
A14: 08 | F14: ՀԱՆԳԻՍՏ, ՄՇԱԿՈՒՅԹ ԵՎ ԿՐՈՆ | G14: =G16 -> 392897.7 | H14: =H16 -> 392897.7 | I14: =I16 -> 392897.7
F15: այդ թվում`
B16: 02 | F16: Մշակութային ծառայություններ | G16: =G18 -> 392897.7 | H16: =H18 -> 392897.7 | I16: =I18 -> 392897.7
F17: այդ թվում`
C18: 05 | F18: Արվեստ | G18: =G20 -> 392897.7 | H18: =H20 -> 392897.7 | I18: =I20 -> 392897.7
F19: այդ թվում`
F20: ՀՀ կրթության, գիտության, մշակույթի և սպորտի նախարարություն | G20: =G22 -> 392897.7 | H20: =H22 -> 392897.7 | I20: =I22 -> 392897.7
F21: այդ թվում`
D22: 1168 | F22: Արվեստների ծրագիր | G22: =G24 -> 392897.7 | H22: =H24 -> 392897.7 | I22: =I24 -> 392897.7
F23: այդ թվում`
E24: 11005 | F24: Մշակութային միջոցառումների իրականացում | G24: =G26 -> 392897.7 | H24: =H26 -> 392897.7 | I24: =I26 -> 392897.7
F25: այդ թվում` ըստ կատարողների
F26: ՀՀ կրթության, գիտության, մշակույթի և սպորտի նախարարություն | G26: =G28 -> 392897.7 | H26: =H28 -> 392897.7 | I26: =I28 -> 392897.7
F27: այդ թվում` բյուջետային ծախսերի տնտեսագիտական դասակարգման հոդվածներ
F28: ԸՆԴԱՄԵՆԸ ԾԱԽՍԵՐ | G28: =G29 -> 392897.7 | H28: =H29 -> 392897.7 | I28: =I29 -> 392897.7
F29: ԸՆԹԱՑԻԿ ԾԱԽՍԵՐ | G29: =G30 -> 392897.7 | H29: =H30 -> 392897.7 | I29: =I30 -> 392897.7
F30: ԴՐԱՄԱՇՆՈՐՀՆԵՐ | G30: =G31 -> 392897.7 | H30: =H31 -> 392897.7 | I30: =I31 -> 392897.7
F31: Ընթացիկ դրամաշնորհներ պետական հատվածի այլ մակարդակներին | G31: =+G32+G33 -> 392897.7 | H31: =+H32+H33 -> 392897.7 | I31: =+I32+I33 -> 392897.7
F32: - Ընթացիկ դրամաշնորհներ պետական և համայնքների ոչ առևտրային կազմակերպություններին | G32: 150763.7 | H32: 150763.7 | I32: 150763.7
F33: -Այլ ընթացիկ դրամաշնորհներ | G33: 242134 | H33: 242134 | I33: 242134
F34: ՀՀ ԿԱՌԱՎԱՐՈՒԹՅՈՒՆ | G34: =+G35 -> -392897.7 | H34: =+H35 -> -392897.7 | I34: =+I35 -> -392897.7
A35: 11 | F35: ՀԻՄՆԱԿԱՆ ԲԱԺԻՆՆԵՐԻՆ ՉԴԱՍՎՈՂ ՊԱՀՈՒՍՏԱՅԻՆ ՖՈՆԴԵՐ | G35: =+G37 -> -392897.7 | H35: =+H37 -> -392897.7 | I35: =+I37 -> -392897.7
F36: այդ թվում`
B37: 01 | F37: ՀՀ կառավարության և համայնքների պահուստային ֆոնդ | G37: =+G39 -> -392897.7 | H37: =+H39 -> -392897.7 | I37: =+I39 -> -392897.7
F38: այդ թվում`
C39: 01 | F39: ՀՀ կառավարության պահուստային ֆոնդ | G39: =+G41 -> -392897.7 | H39: =+H41 -> -392897.7 | I39: =+I41 -> -392897.7
F40: այդ թվում`
F41: ՀՀ կառավարություն | G41: =G43 -> -392897.7 | H41: =H43 -> -392897.7 | I41: =I43 -> -392897.7
F42: այդ թվում`
D43: 1139 | E43: ՀՀ կառավարության պահուստային ֆոնդ | G43: =+G52 -> -392897.7 | H43: =+H52 -> -392897.7 | I43: =+I52 -> -392897.7
F44: այդ թվում`
E45: 11001 | F45: ՀՀ կառավարության պահուստային ֆոնդ | G45: =+G47 -> -392897.7 | H45: =+H47 -> -392897.7 | I45: =+I47 -> -392897.7
F46: այդ թվում` ըստ կատարողների
F47: ՀՀ կառավարություն | G47: =+G49 -> -392897.7 | H47: =+H49 -> -392897.7 | I47: =+I49 -> -392897.7
F48: այդ թվում` բյուջետային ծախսերի տնտեսագիտական դասակարգման հոդվածներ
F49: ԸՆԴԱՄԵՆԸ ԾԱԽՍԵՐ | G49: =+G50 -> -392897.7 | H49: =+H50 -> -392897.7 | I49: =+I50 -> -392897.7
F50: ԸՆԹԱՑԻԿ ԾԱԽՍԵՐ | G50: =+G51 -> -392897.7 | H50: =+H51 -> -392897.7 | I50: =+I51 -> -392897.7
F51: ԱՅԼ ԾԱԽՍԵՐ | G51: =+G52 -> -392897.7 | H51: =+H52 -> -392897.7 | I51: =+I52 -> -392897.7
F52: Պահուստային միջոցներ | G52: =+'2'!G13 -> -392897.7 | H52: =+'2'!H13 -> -392897.7 | I52: =+'2'!I13 -> -392897.7

Sheet 4
G1: Հավելված N 4
F2: ՀՀ կառավարության 2026 թվականի -ի N -Ն որոշման
A3: ՀԱՅԱՍՏԱՆԻ ՀԱՆՐԱՊԵՏՈՒԹՅԱՆ ԿԱՌԱՎԱՐՈՒԹՅԱՆ 2025 ԹՎԱԿԱՆԻ ԴԵԿՏԵՄԲԵՐԻ 25-Ի N 1910-Ն ՈՐՈՇՄԱՆ N 5 ՀԱՎԵԼՎԱԾԻ 7-ՐԴ ԱՂՅՈՒՍԱԿՈՒՄ ԿԱՏԱՐՎՈՂ ԼՐԱՑՈՒՄՆԵՐԸ
G4: հազար դրամներով
A5: Ծրագրային դասիչ | C5: Բյուջետային հատկացումների գլխավոր կարգադրիչների, ծրագրերի, միջոցառումների, ծախսային ուղղությունների անվանումները | F5: Միջոցառումները կատարող պետական մարմինների և դրամաշնորհ ստացող տնտեսվարող սուբյեկտների անվանումները | G5: Տարի
G6: Ցուցանիշների փոփոխությունը (ավելացումները նշված են դրական նշանով)
A7: Ծրագիր | B7: Միջոցառում
A8: 1 | B8: 2 | C8: 3 | F8: 4 | G8: 5
A9: ՀՀ կրթության, գիտության, մշակույթի և սպորտի նախարարություն | G9: =G10 -> 392897.66
A10: 1168 | B10: Արվեստների ծրագիր | G10: =G11 -> 392897.66
B11: 11005 | C11: Մշակութային միջոցառումների իրականացում | F11: ՀՀ կրթության, գիտության, մշակույթի և սպորտի նախարարություն | G11: =G13 -> 392897.66
D12: այդ թվում՝ ըստ ուղղությունների և միջոցառումների անվանումների
E13: Միջազգային մշակութային համագործակցության իրականացում, սփյուռքի հետ համագործակցություն, հայ մշակույթի պահպանում, այդ թվում՝ | G13: =G14+G15 -> 392897.66
E14: «Երաժշտական կամուրջ» խորագրով համերգ Գյումրիում՝ նվիրված Հայաստանի և Ֆրանսիայի բարեկամությանը | F14: «Գրավիթի Փրոդաքշն» ՍՊԸ | G14: =+'1'!F49 -> 242133.98
F15: «Հայաստանի պետական սիմֆոնիկ նվագախումբ» ՊՈԱԿ | G15: =+'1'!F22 -> 150763.68

Sheet 5
J1: Հավելված N 5
J2: ՀՀ կառավարության 2026 թվականի -ի N -Ն որոշման
A3: ՀԱՅԱՍՏԱՆԻ ՀԱՆՐԱՊԵՏՈՒԹՅԱՆ ԿԱՌԱՎԱՐՈՒԹՅԱՆ 2025 ԹՎԱԿԱՆԻ ԴԵԿՏԵՄԲԵՐԻ 25-Ի N 1910-Ն ՈՐՈՇՄԱՆ N 9 ՀԱՎԵԼՎԱԾՈՒՄ ԿԱՏԱՐՎՈՂ ՓՈՓՈԽՈՒԹՅՈՒՆՆԵՐԸ ԵՎ ԼՐԱՑՈՒՄՆԵՐԸ
K4: հազար դրամներով
A5: ԲԳԿ | B5: Ծրագիր | D5: Միջոցառում | H5: Իրականացնողը/ ակտիվն օգտագործողը/ շահառուի ընտրության չափորոշիչը | I5: Արդյունքային չափորոշիչը | J5: Ցուցանիշների փոփոխությունը (ավելացումները նշված են դրական նշանով, իսկ նվազեցումները փակագծերում)
B6: Դասիչը | C6: Անվանումը | D6: Դասիչը | E6: Անվանումը | F6: Նկարագրությունը | G6: Տեսակը | J6: Առաջին կիսամյակ | K6: Ինն ամիս | L6: Տարի
A7: ԸՆԴԱՄԵՆԸ | J7: =J8+J15 -> 0 | K7: =K8+K15 -> 0 | L7: =L8+L15 -> 0
A8: ՀՀ կրթության, գիտության, մշակույթի և սպորտի նախարարություն | J8: =J9 -> 392897.7 | K8: =K9 -> 392897.7 | L8: =L9 -> 392897.7
B9: 1168 | C9: Արվեստների ծրագիր | J9: =J10 -> 392897.7 | K9: =K10 -> 392897.7 | L9: =L10 -> 392897.7
D10: 1168 - 11005 | E10: Մշակութային միջոցառումների իրականացում | J10: ='3'!G26 -> 392897.7 | K10: ='3'!H26 -> 392897.7 | L10: ='3'!I26 -> 392897.7
F11: Արվեստի հանրահռչակում, տարածում, մատչելիության ապահովում
G12: Ծառայությունների մատուցում
H13: Ծառայությունները մատուցողի անվանումը՝ մասնագիտացված կազմակերպություն
I14: Միջպետական համագործակցության պայմանագրերի շրջանակներում մշակութային միջոցառումների իրականացում, միջոցառումների թիվ | J14: 1 | L14: 1
A15: ՀՀ կառավարություն | J15: =J16 -> -392897.7 | K15: =K16 -> -392897.7 | L15: =L16 -> -392897.7
B16: 1139 | C16: ՀՀ կառավարության պահուստային ֆոնդ | J16: =J17 -> -392897.7 | K16: =K17 -> -392897.7 | L16: =L17 -> -392897.7
D17: 1139 - 11001 | E17: ՀՀ կառավարության պահուստային ֆոնդ | J17: ='3'!G52 -> -392897.7 | K17: ='3'!H52 -> -392897.7 | L17: ='3'!I52 -> -392897.7
F18: ՀՀ պետական բյուջեում նախատեսված ելքերի լրացուցիչ ֆինանսավորման, պետական բյուջեում չկանխատեսված ելքերի, ինչպես նաև բյուջետային երաշխիքների ապահովման ելքերի ֆինանսավորման ապահովում
G19: Ծառայությունների մատուցում
H20: Ծառայությունը մատուցողի անվանումը` ՀՀ կառավարություն

Sheet 6
J1: Հավելված N 6
J2: ՀՀ կառավարության 2026 թվականի -ի N -Ն որոշման
A3: ՀԱՅԱՍՏԱՆԻ ՀԱՆՐԱՊԵՏՈՒԹՅԱՆ ԿԱՌԱՎԱՐՈՒԹՅԱՆ 2025 ԹՎԱԿԱՆԻ ԴԵԿՏԵՄԲԵՐԻ 25-Ի N 1910-Ն ՈՐՈՇՄԱՆ N 9.1 ՀԱՎԵԼՎԱԾՈՒՄ ԿԱՏԱՐՎՈՂ ՓՈՓՈԽՈՒԹՅՈՒՆՆԵՐԸ ԵՎ ԼՐԱՑՈՒՄՆԵՐԸ
K4: հազար դրամներով
A5: ԲՍԿ | B5: Ծրագիր | D5: Միջոցառում | H5: Իրականացնողը/ ակտիվն օգտագործողը/ շահառուի ընտրության չափորոշիչը | I5: Արդյունքային չափորոշիչը | J5: Ցուցանիշների փոփոխությունը (ավելացումները նշված են դրական նշանով, իսկ նվազեցումները փակագծերում)
B6: Դասիչը | C6: Անվանումը | D6: Դասիչը | E6: Անվանումը | F6: Նկարագրությունը | G6: Տեսակը | J6: Առաջին կիսամյակ | K6: Ինն ամիս | L6: Տարի
A7: ԸՆԴԱՄԵՆԸ | J7: =J8+J15 -> 0 | K7: =K8+K15 -> 0 | L7: =L8+L15 -> 0
A8: ՀՀ կրթության, գիտության, մշակույթի և սպորտի նախարարություն | J8: =J9 -> 392897.7 | K8: =K9 -> 392897.7 | L8: =L9 -> 392897.7
B9: 1168 | C9: Արվեստների ծրագիր | J9: =J10 -> 392897.7 | K9: =K10 -> 392897.7 | L9: =L10 -> 392897.7
D10: 1168 - 11005 | E10: Մշակութային միջոցառումների իրականացում | J10: ='3'!G26 -> 392897.7 | K10: ='3'!H26 -> 392897.7 | L10: ='3'!I26 -> 392897.7
F11: Արվեստի հանրահռչակում, տարածում, մատչելիության ապահովում
G12: Ծառայությունների մատուցում
H13: Ծառայությունները մատուցողի անվանումը՝ մասնագիտացված կազմակերպություն
I14: Միջպետական համագործակցության պայմանագրերի շրջանակներում մշակութային միջոցառումների իրականացում, միջոցառումների թիվ | J14: 1 | L14: 1
A15: ՀՀ կառավարություն | J15: =J16 -> -392897.7 | K15: =K16 -> -392897.7 | L15: =L16 -> -392897.7
B16: 1139 | C16: ՀՀ կառավարության պահուստային ֆոնդ | J16: =J17 -> -392897.7 | K16: =K17 -> -392897.7 | L16: =L17 -> -392897.7
D17: 1139 - 11001 | E17: ՀՀ կառավարության պահուստային ֆոնդ | J17: ='3'!G52 -> -392897.7 | K17: ='3'!H52 -> -392897.7 | L17: ='3'!I52 -> -392897.7
F18: ՀՀ պետական բյուջեում նախատեսված ելքերի լրացուցիչ ֆինանսավորման, պետական բյուջեում չկանխատեսված ելքերի, ինչպես նաև բյուջետային երաշխիքների ապահովման ելքերի ֆինանսավորման ապահովում
G19: Ծառայությունների մատուցում
H20: Ծառայությունը մատուցողի անվանումը` ՀՀ կառավարություն

Sheet 7
G2: Հավելված N 7
G3: ՀՀ կառավարության 2026 թվականի
G4: -ի N -Ն որոշման
A6: ՀԱՅԱՍՏԱՆԻ ՀԱՆՐԱՊԵՏՈՒԹՅԱՆ ԿԱՌԱՎԱՐՈՒԹՅԱՆ 2026 ԹՎԱԿԱՆԻ ՊԵՏԱԿԱՆ ԲՅՈՒՋԵՈՎ ՆԱԽԱՏԵՍՎԱԾ՝ ՀԱՅԱՍՏԱՆԻ ՀԱՆՐԱՊԵՏՈՒԹՅԱՆ ԿԱՌԱՎԱՐՈՒԹՅԱՆ ՊԱՀՈՒՍՏԱՅԻՆ ՖՈՆԴԻՑ ՀԱՏԿԱՑՈՒՄՆԵՐ ԿԱՏԱՐԵԼՈՒ ՎԵՐԱԲԵՐՅԱԼ
G7: հազար դրամներով
A9: Գործառական դասիչը | D9: Ծրագրային դասիչը | F9: Բյուջետային հատկացումների գլխավոր կարգադրիչների, ծրագրերի, միջոցառումների և միջոցառումները կատարող պետական մարմինների անվանումները | G9: Ցուցանիշների փոփոխությունը (ավելացումները նշված են դրական նշանով, իսկ նվազեցումները փակագծերում)
A10: Բաժին | B10: Խումբ | C10: Դաս | D10: Ծրագիր | E10: Միջոցառում | G10: Առաջին կիսամյակ | H10: Ինն ամիս | I10: Տարի
F11: ԸՆԴԱՄԵՆԸ | G11: =+G13+G34 -> 0 | H11: =H13+H34 -> 0 | I11: =I13+I34 -> 0
F12: այդ թվում
F13: ՀՀ ԿՐԹՈՒԹՅԱՆ, ԳԻՏՈՒԹՅԱՆ, ՄՇԱԿՈՒՅԹԻ ԵՎ ՍՊՈՐՏԻ ՆԱԽԱՐԱՐՈՒԹՅՈՒՆ | G13: =G14 -> 392897.7 | H13: =H14 -> 392897.7 | I13: =I14 -> 392897.7
A14: 08 | F14: ՀԱՆԳԻՍՏ, ՄՇԱԿՈՒՅԹ ԵՎ ԿՐՈՆ | G14: =G16 -> 392897.7 | H14: =H16 -> 392897.7 | I14: =I16 -> 392897.7
F15: այդ թվում`
B16: 02 | F16: Մշակութային ծառայություններ | G16: =G18 -> 392897.7 | H16: =H18 -> 392897.7 | I16: =I18 -> 392897.7
F17: այդ թվում`
C18: 05 | F18: Արվեստ | G18: =G20 -> 392897.7 | H18: =H20 -> 392897.7 | I18: =I20 -> 392897.7
F19: այդ թվում`
F20: ՀՀ կրթության, գիտության, մշակույթի և սպորտի նախարարություն | G20: =G22 -> 392897.7 | H20: =H22 -> 392897.7 | I20: =I22 -> 392897.7
F21: այդ թվում`
D22: 1168 | F22: Արվեստների ծրագիր | G22: =G24 -> 392897.7 | H22: =H24 -> 392897.7 | I22: =I24 -> 392897.7
F23: այդ թվում`
E24: 11005 | F24: Մշակութային միջոցառումների իրականացում | G24: =G26 -> 392897.7 | H24: =H26 -> 392897.7 | I24: =I26 -> 392897.7
F25: այդ թվում` ըստ կատարողների
F26: ՀՀ կրթության, գիտության, մշակույթի և սպորտի նախարարություն | G26: =G28 -> 392897.7 | H26: =H28 -> 392897.7 | I26: =I28 -> 392897.7
F27: այդ թվում` բյուջետային ծախսերի տնտեսագիտական դասակարգման հոդվածներ
F28: ԸՆԴԱՄԵՆԸ ԾԱԽՍԵՐ | G28: =G29 -> 392897.7 | H28: =H29 -> 392897.7 | I28: =I29 -> 392897.7
F29: ԸՆԹԱՑԻԿ ԾԱԽՍԵՐ | G29: =G30 -> 392897.7 | H29: =H30 -> 392897.7 | I29: =I30 -> 392897.7
F30: ԴՐԱՄԱՇՆՈՐՀՆԵՐ | G30: =G31 -> 392897.7 | H30: =H31 -> 392897.7 | I30: =I31 -> 392897.7
F31: Ընթացիկ դրամաշնորհներ պետական հատվածի այլ մակարդակներին | G31: =+G32+G33 -> 392897.7 | H31: =+H32+H33 -> 392897.7 | I31: =+I32+I33 -> 392897.7
F32: - Ընթացիկ դրամաշնորհներ պետական և համայնքների ոչ առևտրային կազմակերպություններին | G32: =+'3'!G32 -> 150763.7 | H32: =+'3'!H32 -> 150763.7 | I32: =+'3'!I32 -> 150763.7
F33: -Այլ ընթացիկ դրամաշնորհներ | G33: =+'3'!G33 -> 242134 | H33: =+'3'!H33 -> 242134 | I33: =+'3'!I33 -> 242134
F34: ՀՀ ԿԱՌԱՎԱՐՈՒԹՅՈՒՆ | G34: =+G35 -> -392897.7 | H34: =+H35 -> -392897.7 | I34: =+I35 -> -392897.7
A35: 11 | F35: ՀԻՄՆԱԿԱՆ ԲԱԺԻՆՆԵՐԻՆ ՉԴԱՍՎՈՂ ՊԱՀՈՒՍՏԱՅԻՆ ՖՈՆԴԵՐ | G35: =+G37 -> -392897.7 | H35: =+H37 -> -392897.7 | I35: =+I37 -> -392897.7
F36: այդ թվում`
B37: 01 | F37: ՀՀ կառավարության և համայնքների պահուստային ֆոնդ | G37: =+G39 -> -392897.7 | H37: =+H39 -> -392897.7 | I37: =+I39 -> -392897.7
F38: այդ թվում`
C39: 01 | F39: ՀՀ կառավարության պահուստային ֆոնդ | G39: =+G43 -> -392897.7 | H39: =+H43 -> -392897.7 | I39: =+I43 -> -392897.7
F40: այդ թվում`
F41: ՀՀ կառավարություն | G41: =+G43 -> -392897.7 | H41: =+H43 -> -392897.7 | I41: =+I43 -> -392897.7
F42: այդ թվում`
D43: 1139 | E43: ՀՀ կառավարության պահուստային ֆոնդ | G43: =+G52 -> -392897.7 | H43: =+H52 -> -392897.7 | I43: =+I52 -> -392897.7
F44: այդ թվում`
E45: 11001 | F45: ՀՀ կառավարության պահուստային ֆոնդ | G45: =+G47 -> -392897.7 | H45: =+H47 -> -392897.7 | I45: =+I47 -> -392897.7
F46: այդ թվում` ըստ կատարողների
F47: ՀՀ կառավարություն | G47: =+G49 -> -392897.7 | H47: =+H49 -> -392897.7 | I47: =+I49 -> -392897.7
F48: այդ թվում` բյուջետային ծախսերի տնտեսագիտական դասակարգման հոդվածներ
F49: ԸՆԴԱՄԵՆԸ ԾԱԽՍԵՐ | G49: =+G50 -> -392897.7 | H49: =+H50 -> -392897.7 | I49: =+I50 -> -392897.7
F50: ԸՆԹԱՑԻԿ ԾԱԽՍԵՐ | G50: =+G51 -> -392897.7 | H50: =+H51 -> -392897.7 | I50: =+I51 -> -392897.7
F51: ԱՅԼ ԾԱԽՍԵՐ | G51: =+G52 -> -392897.7 | H51: =+H52 -> -392897.7 | I51: =+I52 -> -392897.7
F52: Պահուստային միջոցներ | G52: =+'2'!G13 -> -392897.7 | H52: =+'2'!H13 -> -392897.7 | I52: =+'2'!I13 -> -392897.7
