Workbook
Name _tab10: #REF!
Name _tab11: #REF!
Name _tab12: #REF!
Name _tab13: #REF!
Name _tab14: #REF!
Name _tab15: #REF!
Name _tab16: #REF!
Name _tab17: #REF!
Name _tab18: #REF!
Name _tab19: #REF!
Name _tab20: #REF!
Name _tab21: #REF!
Name _tab22: #REF!
Name _tab23: #REF!
Name _tab24: #REF!
Name _tab5: #REF!
Name _tab6: #REF!
Name _tab7: #REF!
Name _tab8: #REF!
Name _tab9: #REF!
Name AgencyCode: #REF!
Name AgencyCode: #REF!
Name AgencyCode: #REF!
Name AgencyName: #REF!
Name AgencyName: #REF!
Name AgencyName: #REF!
Name åû: #REF!
Name åû: #REF!
Name åû: #REF!
Name davit: #REF!
Name davit: #REF!
Name davit: #REF!
Name Functional1: #REF!
Name Functional1: #REF!
Name Functional1: #REF!
Name ggg: #REF!
Name ggg: #REF!
Name ggg: #REF!
Name hav: #REF!
Name havelvac: #REF!
Name mas: #REF!
Name mas: #REF!
Name mas: #REF!
Name mass: #REF!
Name mass: #REF!
Name mass: #REF!
Name PANature: #REF!
Name PANature: #REF!
Name PANature: #REF!
Name par_count: #REF!,#REF!,#REF!,#REF!,#REF!,#REF!,#REF!,#REF!,#REF!,#REF!,#REF!,#REF!,#REF!,#REF!,#REF!
Name par_qual: #REF!,#REF!,#REF!,#REF!,#REF!
Name par_time: #REF!,#REF!,#REF!,#REF!
Name par2.12s: #REF!
Name par2.4s: #REF!,#REF!,#REF!,#REF!,#REF!,#REF!,#REF!,#REF!,#REF!,#REF!,#REF!,#REF!,#REF!,#REF!,#REF!,#REF!
Name par2.5s: #REF!,#REF!
Name par2.6s: #REF!,#REF!,#REF!,#REF!
Name par2.7s: #REF!,#REF!
Name par2.9s: #REF!,#REF!,#REF!,#REF!,#REF!,#REF!,#REF!,#REF!,#REF!,#REF!,#REF!,#REF!,#REF!,#REF!,#REF!,#REF!
Name par4.10s: #REF!,#REF!
Name par4.11d: #REF!,#REF!,#REF!,#REF!,#REF!

Sheet 1
I1: Հավելված N 1
F2: ՀՀ կառավարության 2026 թվականի
F3: -----------------ի N -----------Ն որոշման
D5: «ՀԱՅԱՍՏԱՆԻ ՀԱՆՐԱՊԵՏՈՒԹՅԱՆ 2026 ԹՎԱԿԱՆԻ ՊԵՏԱԿԱՆ ԲՅՈՒՋԵԻ ՄԱՍԻՆ» ՀԱՅԱՍՏԱՆԻ ՀԱՆՐԱՊԵՏՈՒԹՅԱՆ ՕՐԵՆՔԻ N 1 ՀԱՎԵԼՎԱԾԻ N 2 ԱՂՅՈՒՍԱԿՈՒՄ ԿԱՏԱՐՎՈՂ ՎԵՐԱԲԱՇԽՈՒՄԸ ԵՎ ՀԱՅԱՍՏԱՆԻ ՀԱՆՐԱՊԵՏՈՒԹՅԱՆ ԿԱՌԱՎԱՐՈՒԹՅԱՆ 2025 ԹՎԱԿԱՆԻ ԴԵԿՏԵՄԲԵՐԻ 25-Ի N 1910-Ն ՈՐՈՇՄԱՆ N 5 ՀԱՎԵԼՎԱԾԻ N 1 ԱՂՅՈՒՍԱԿՈՒՄ ԿԱՏԱՐՎՈՂ ՓՈՓՈԽՈՒԹՅՈՒՆԸ ԵՎ ԼՐԱՑՈՒՄԸ
I6: հազար դրամներով
A7: ԲԳԿ | B7: Ծրագրային դասիչը | D7: ԲԳԿ/Ծրագրի /միջոցառման անվանումը | E7: Ծրագրի նպատակը/Միջոցառման նկարագրությունը | F7: Վերջնական արդյունքի նկարագրությունը/Միջոցառման տեսակը | G7: Ցուցանիշների փոփոխությունները ավելացումները նշված են դրական նշանով, իսկ նվազեցումները՝ փակագծերում
G8: Առաջին կիսամյակ | H8: Ինն ամիս | I8: Տարի
B9: Ծրագիր | C9: Միջոցառում
A10: ԸՆԴԱՄԵՆԸ | G10: =+G12+G15 -> 0 | H10: =+H12+H15 -> 0 | I10: =+I12+I15 -> 0
A11: այդ թվում՝
A12: ՀՀ տարածքային կառավարման և ենթակառուցվածքների նախարարություն | G12: =G13 -> 321000 | H12: =H13 -> 321000 | I12: =I13 -> 321000
B13: 1176 | D13: Ավիացիայի բնագավառում վերահսկողության և կանոնակարգման ապահովում | E13: ՀՀ քաղաքացիական ավիացիայի համակարգի ենթակառուցվածքների գործունեության կանոնակարգում և զարգացում | F13: ՀՀ օդային տարածքով քաղաքացիների և բեռների անվտանգ և արագ տեղափոխման գործընթացների պատշաճ կանոնակարգում և դրանց պահանջների ապահովում | G13: =+G14 -> 321000 | H13: =+H14 -> 321000 | I13: =+I14 -> 321000
C14: 1176 - 11009 | D14: Քաղաքացիական ավիացիայի ուժեղացում և միջազգային ստանդարտներին համապատասխանեցում | E14: Կոմիտեում կառուցվածքային և գործառնական փոփոխությունների իրականացում, Կոմիտեի կողմից կանոնակարգման և վերահսկողության արդյունավետության բարձրացում, ինչպես նաև միջազգային ստանդարտներին համապատասխանեցում։ | F14: Ծառայությունների մատուցում | G14: ='2'!G31 -> 321000 | H14: ='2'!H31 -> 321000 | I14: ='2'!I31 -> 321000
A15: ՀՀ կառավարություն | G15: =+G16 -> -321000 | H15: =+H16 -> -321000 | I15: =+I16 -> -321000
B16: 1139 | D16: ՀՀ կառավարության պահուստային ֆոնդ | E16: Պետական բյուջեում չկանխատեսված, ինչպես նաեւ բյուջետային երաշխիքների ապահովման ծախսերի ֆինանսավորման ապահովում | F16: Պահուստային ֆոնդի կառավարման արդյունավետության և թափանցիկության ապահովում | G16: =G17 -> -321000 | H16: =H17 -> -321000 | I16: =I17 -> -321000
C17: 1139 - 11001 | D17: ՀՀ կառավարության պահուստային ֆոնդ | E17: ՀՀ պետական բյուջեում նախատեսված ելքերի լրացուցիչ ֆինանսավորման, պետական բյուջեում չկանխատեսված ելքերի, ինչպես նաև բյուջետային երաշխիքների ապահովման ելքերի ֆինանսավորման ապահովում | F17: Ծառայությունների մատուցում | G17: ='2'!G51 -> -321000 | H17: ='2'!H51 -> -321000 | I17: ='2'!I51 -> -321000
D19: ՀԱՅԱՍՏԱՆԻ ՀԱՆՐԱՊԵՏՈՒԹՅԱՆ
D20: ՎԱՐՉԱՊԵՏԻ ԱՇԽԱՏԱԿԱԶՄԻ ՂԵԿԱՎԱՐ՝ | E20: Ա. ՀԱՐՈՒԹՅՈՒՆՅԱՆ

Sheet 2
I1: Հավելված N 2
F2: ՀՀ կառավարության 2026 թվականի
F3: -----------------ի N -----------Ն որոշման
D5: ՀՀԱՅԱՍՏԱՆԻ ՀԱՆՐԱՊԵՏՈՒԹՅԱՆ ԿԱՌԱՎԱՐՈՒԹՅԱՆ 2025 ԹՎԱԿԱՆԻ ԴԵԿՏԵՄԲԵՐԻ 25-Ի N 1910-Ն ՈՐՈՇՄԱՆ NN 3 ԵՎ 4 ՀԱՎԵԼՎԱԾՆԵՐՈՒՄ ԿԱՏԱՐՎՈՂ ՓՈՓՈԽՈՒԹՅՈՒՆԸ ԵՎ ԼՐԱՑՈՒՄԸ
I6: հազար դրամներով
A7: Գործառական դասիչը | D7: Ծրագրային դասիչը | F7: Բյուջետային ծախսերի գործառական դասակարգման բաժինների, խմբերի և դասերի, բյուջետային հատկացումների գլխավոր կարգադրիչների, ծրագրերի, միջոցառումների և միջոցառումները կատարող պետական մարմինների անվանումները | G7: Ցուցանիշների փոփոխությունները ավելացումները նշված են դրական նշանով, իսկ նվազեցումները՝ փակագծերում
A8: Բաժին | B8: Խումբ | C8: Դաս | D8: Ծրագիր | E8: Միջոցառում | G8: Առաջին կիսամյակ | H8: Ինն ամիս | I8: Տարի
F9: ԸՆԴԱՄԵՆԸ ԾԱԽՍԵՐ | G9: =+G11+G32 -> 0 | H9: =+H11+H32 -> 0 | I9: =+I11+I32 -> 0
F10: այդ թվում՝
F11: ՀՀ տարածքային կառավարման և ենթակառուցվածքների նախարարություն | G11: =G13 -> 321000 | H11: =H13 -> 321000 | I11: =I13 -> 321000
F12: այդ թվում՝
A13: 04 | F13: ՏՆՏԵՍԱԿԱՆ ՀԱՐԱԲԵՐՈՒԹՅՈՒՆՆԵՐ | G13: =G15 -> 321000 | H13: =H15 -> 321000 | I13: =I15 -> 321000
F14: այդ թվում`
B15: 05 | F15: Տրանսպորտ | G15: =G17 -> 321000 | H15: =H17 -> 321000 | I15: =I17 -> 321000
F16: այդ թվում`
C17: 04 | F17: Օդային տրանսպորտ | G17: =G19 -> 321000 | H17: =H19 -> 321000 | I17: =I19 -> 321000
F18: այդ թվում`
F19: ՀՀ տարածքային կառավարման և ենթակառուցվածքների նախարարություն | G19: =G21 -> 321000 | H19: =H21 -> 321000 | I19: =I21 -> 321000
F20: այդ թվում՝
D21: 1176 | F21: Ավիացիայի բնագավառում վերահսկողության և կանոնակարգման ապահովում | G21: =G23 -> 321000 | H21: =H23 -> 321000 | I21: =I23 -> 321000
F22: այդ թվում`
E23: 11009 | F23: Քաղաքացիական ավիացիայի ուժեղացում և միջազգային ստանդարտներին համապատասխանեցում | G23: =G25 -> 321000 | H23: =H25 -> 321000 | I23: =I25 -> 321000
F24: այդ թվում` ըստ կատարողների
F25: ՀՀ տարածքային կառավարման և ենթակառուցվածքների նախարարություն | G25: =G27 -> 321000 | H25: =H27 -> 321000 | I25: =I27 -> 321000
F26: այդ թվում` բյուջետային ծախսերի տնտեսագիտական դասակարգման հոդվածներ
F27: ԸՆԴԱՄԵՆԸ ԾԱԽՍԵՐ | G27: =G28 -> 321000 | H27: =H28 -> 321000 | I27: =I28 -> 321000
F28: ԸՆԹԱՑԻԿ ԾԱԽՍԵՐ | G28: =G29 -> 321000 | H28: =H29 -> 321000 | I28: =I29 -> 321000
F29: ԾԱՌԱՅՈՒԹՅՈՒՆՆԵՐԻ ԵՎ ԱՊՐԱՆՔՆԵՐԻ ՁԵՌՔԲԵՐՈՒՄ | G29: =G30 -> 321000 | H29: =H30 -> 321000 | I29: =I30 -> 321000
F30: Պայմանագրային այլ ծառայությունների ձեռքբերում | G30: =G31 -> 321000 | H30: =H31 -> 321000 | I30: =I31 -> 321000
F31: - Ընդհանուր բնույթի այլ ծառայություններ | G31: =321000 -> 321000 | H31: =321000 -> 321000 | I31: =321000 -> 321000
F32: ՀՀ կառավարություն | G32: =G34 -> -321000 | H32: =H34 -> -321000 | I32: =I34 -> -321000
F33: այդ թվում`
A34: 11 | F34: ՀԻՄՆԱԿԱՆ ԲԱԺԻՆՆԵՐԻՆ ՉԴԱՍՎՈՂ ՊԱՀՈՒՍՏԱՅԻՆ ՖՈՆԴԵՐ | G34: =G36 -> -321000 | H34: =H36 -> -321000 | I34: =I36 -> -321000
F35: այդ թվում`
B36: 01 | F36: ՀՀ կառավարության և համայնքների պահուստային ֆոնդ | G36: =G38 -> -321000 | H36: =H38 -> -321000 | I36: =I38 -> -321000
F37: այդ թվում`
C38: 01 | F38: ՀՀ կառավարության պահուստային ֆոնդ | G38: =G40 -> -321000 | H38: =H40 -> -321000 | I38: =I40 -> -321000
F39: այդ թվում`
F40: ՀՀ կառավարություն | G40: =G42 -> -321000 | H40: =H42 -> -321000 | I40: =I42 -> -321000
F41: այդ թվում`
...

Sheet 3
L1: Հավելված N 3
L2: ՀՀ կառավարության 2026 թվականի
L3: ______________ ի ___Ն որոշման
A5: ՀԱՅԱՍՏԱՆԻ ՀԱՆՐԱՊԵՏՈՒԹՅԱՆ ԿԱՌԱՎԱՐՈՒԹՅԱՆ 2025 ԹՎԱԿԱՆԻ ԴԵԿՏԵՄԲԵՐԻ25-Ի N 1910-Ն ՈՐՈՇՄԱՆ NN 9 ՀԱՎԵԼՎԱԾՈՒՄ ԿԱՏԱՐՎՈՂ ՓՈՓՈԽՈՒԹՅՈՒՆԸ ԵՎ ԼՐԱՑՈՒՄԸ
L6: հազար դրամներով
A7: ԲԳԿ | B7: Ծրագիր | D7: Միջոցառում | H7: Իրականացնողը/ ակտիվն օգտագործողը/ շահառուի ընտրության չափորոշիչը | I7: Արդյունքային չափորոշիչը | J7: Ցուցանիշների փոփոխությունները ավելացումները նշված են դրական նշանով, իսկ նվազեցումները՝ փակագծերում
B8: Դասիչը | C8: Անվա-նումը | D8: Դասիչը | E8: Անվա-նումը | F8: Նկարագրու-թյունը | G8: Տեսակը | J8: Առաջին կիսամյակ | K8: Ինն ամիս | L8: Տարի
A9: ԸՆԴԱՄԵՆԸ | J9: 0 | K9: 0 | L9: 0
A10: ՀՀ ՏԱՐԱԾՔԱՅԻՆ ԿԱՌԱՎԱՐՄԱՆ ԵՎ ԵՆԹԱԿԱՌՈՒՑՎԱԾՔՆԵՐԻ ՆԱԽԱՐԱՐՈՒԹՅՈՒՆ | J10: =J11 -> 321000 | K10: =K11 -> 321000 | L10: =L11 -> 321000
B11: 1176 | C11: Ավիացիայի բնագավառում վերահսկողության և կանոնակարգման ապահովում | J11: =J12 -> 321000 | K11: =K12 -> 321000 | L11: =L12 -> 321000
D12: 1176-11009 | E12: Քաղաքացիական ավիացիայի ուժեղացում և միջազգային ստանդարտներին համապատասխանեցում | J12: ='2'!G31 -> 321000 | K12: ='2'!H31 -> 321000 | L12: ='2'!I31 -> 321000
F13: Կոմիտեում կառուցվածքային և գործառնական փոփոխությունների իրականացում, Կոմիտեի կողմից կանոնակարգման և վերահսկողության արդյունավետության բարձրացում, ինչպես նաև միջազգային ստանդարտներին համապատասխանեցում։
G14: Ծառայությունների մատուցում
H15: Ծառայությունը մատուցողի անվանումը` «Գնումների մասին» ՀՀ օրենքի համաձայն ընտրված կազմակերպություն
I16: Ընտրված կազմակերպությունների թվաքանակը /հատ/ | J16: 1 | L16: 1
A17: ՀՀ կառավարություն | J17: =J18 -> -321000 | K17: =K18 -> -321000 | L17: =L18 -> -321000
B18: 1139 | C18: ՀՀ կառավարության պահուստային ֆոնդ | J18: =J19 -> -321000 | K18: =K19 -> -321000 | L18: =L19 -> -321000
D19: 1139 - 11001 | E19: ՀՀ կառավարության պահուստային ֆոնդ | J19: ='2'!G51 -> -321000 | K19: ='2'!H51 -> -321000 | L19: ='2'!I51 -> -321000
F20: ՀՀ պետական բյուջեում նախատեսված ելքերի լրացուցիչ ֆինանսավորման, պետական բյուջեում չկանխատեսված ելքերի, ինչպես նաև բյուջետային երաշխիքների ապահովման ելքերի ֆինանսավորման ապահովում
G21: Ծառայությունների մատուցում
H22: Ծառայությունը մատուցողի անվանումը` ՀՀ կառավարություն
G29: ՀԱՅԱՍՏԱՆԻ ՀԱՆՐԱՊԵՏՈՒԹՅԱՆ
G30: ՎԱՐՉԱՊԵՏԻ ԱՇԽԱՏԱԿԱԶՄԻ
G31: ՂԵԿԱՎԱՐ՝ | I31: Ա. ՀԱՐՈՒԹՅՈՒՆՅԱՆ

Sheet 4
L1: Հավելված N 4
L2: ՀՀ կառավարության 2026 թվականի
L3: ______________ ի ___Ն որոշման
A5: ՀԱՅԱՍՏԱՆԻ ՀԱՆՐԱՊԵՏՈՒԹՅԱՆ ԿԱՌԱՎԱՐՈՒԹՅԱՆ 2025 ԹՎԱԿԱՆԻ ԴԵԿՏԵՄԲԵՐԻ25-Ի N 1910-Ն ՈՐՈՇՄԱՆ N 9.1 ՀԱՎԵԼՎԱԾՈՒՄ ԿԱՏԱՐՎՈՂ ՓՈՓՈԽՈՒԹՅՈՒՆԸ ԵՎ ԼՐԱՑՈՒՄԸ
L6: հազար դրամներով
A7: ԲԳԿ/ԲՍԿ | B7: Ծրագիր | D7: Միջոցառում | H7: Իրականացնողը/ ակտիվն օգտագործողը/ շահառուի ընտրության չափորոշիչը | I7: Արդյունքային չափորոշիչը | J7: Ցուցանիշների փոփոխությունները ավելացումները նշված են դրական նշանով, իսկ նվազեցումները՝ փակագծերում
B8: Դասիչը | C8: Անվա-նումը | D8: Դասիչը | E8: Անվա-նումը | F8: Նկարագրու-թյունը | G8: Տեսակը | J8: Առաջին կիսամյակ | K8: Ինն ամիս | L8: Տարի
A9: ԸՆԴԱՄԵՆԸ | J9: 0 | K9: 0 | L9: 0
A10: ՀՀ տարածքային կառավարման և ենթակառուցվածքների նախարարություն | J10: =J11 -> 321000 | K10: =K11 -> 321000 | L10: =L11 -> 321000
B11: 1176 | C11: Ավիացիայի բնագավառում վերահսկողության և կանոնակարգման ապահովում | J11: =J12 -> 321000 | K11: =K12 -> 321000 | L11: =L12 -> 321000
D12: 1176-11009 | E12: Քաղաքացիական ավիացիայի ուժեղացում և միջազգային ստանդարտներին համապատասխանեցում | J12: ='2'!G31 -> 321000 | K12: ='2'!H31 -> 321000 | L12: ='2'!I31 -> 321000
F13: Կոմիտեում կառուցվածքային և գործառնական փոփոխությունների իրականացում, Կոմիտեի կողմից կանոնակարգման և վերահսկողության արդյունավետության բարձրացում, ինչպես նաև միջազգային ստանդարտներին համապատասխանեցում։
G14: Ծառայությունների մատուցում
H15: Ծառայությունը մատուցողի անվանումը` «Գնումների մասին» ՀՀ օրենքի համաձայն ընտրված կազմակերպություն
I16: Ընտրված կազմակերպությունների թվաքանակը /հատ/ | J16: 1 | L16: 1
A17: ՀՀ կառավարություն | J17: =J18 -> -321000 | K17: =K18 -> -321000 | L17: =L18 -> -321000
B18: 1139 | C18: ՀՀ կառավարության պահուստային ֆոնդ | J18: =J19 -> -321000 | K18: =K19 -> -321000 | L18: =L19 -> -321000
D19: 1139 - 11001 | E19: ՀՀ կառավարության պահուստային ֆոնդ | J19: ='2'!G51 -> -321000 | K19: ='2'!H51 -> -321000 | L19: ='2'!I51 -> -321000
F20: ՀՀ պետական բյուջեում նախատեսված ելքերի լրացուցիչ ֆինանսավորման, պետական բյուջեում չկանխատեսված ելքերի, ինչպես նաև բյուջետային երաշխիքների ապահովման ելքերի ֆինանսավորման ապահովում
G21: Ծառայությունների մատուցում
H22: Ծառայությունը մատուցողի անվանումը` ՀՀ կառավարություն
G29: ՀԱՅԱՍՏԱՆԻ ՀԱՆՐԱՊԵՏՈՒԹՅԱՆ
G30: ՎԱՐՉԱՊԵՏԻ ԱՇԽԱՏԱԿԱԶՄԻ
G31: ՂԵԿԱՎԱՐ՝ | I31: Ա. ՀԱՐՈՒԹՅՈՒՆՅԱՆ

Sheet 5
E1: Հավելված N 5
B2: ՀՀ կառավարության 2026 թվականի
B3: ______________ ի ___Ն որոշման
B5: ՀԱՅԱՍՏԱՆԻ ՀԱՆՐԱՊԵՏՈՒԹՅԱՆ ԿԱՌԱՎԱՐՈՒԹՅԱՆ 2025 ԹՎԱԿԱՆԻ ԴԵԿՏԵՄԲԵՐԻ 25-Ի N 1910-Ն ՈՐՈՇՄԱՆ N 10 ՀԱՎԵԼՎԱԾՈՒՄ ԿԱՏԱՐՎՈՂ ԼՐԱՑՈՒՄՆԵՐԸ
B7: Կոդը | C7: Անվանումը | F7: Գնման ձևը | G7: Չափման միավորը | H7: Միավորի գինը | I7: Ցուցանիշների փոփոխությունը (ավելացումները նշված են դրական նշանով)
I8: Քանակը | J8: Գումարը (հազար դրամով)
B9: ՀՀ տարածքային կառավարման և ենթակառուցվածքների նախարարություն | J9: =J10 -> 321000
B10: Բաժին N 04 | C10: Խումբ N 05 | D10: Դաս N 04 | E10: Օդային տրանսպորտ | J10: =J11 -> 321000
B11: 1176 11009 | C11: Քաղաքացիական ավիացիայի ուժեղացում և միջազգային ստանդարտներին համապատասխանեցում | J11: =+J12 -> 321000
C12: ՄԱՍ III. ԾԱՌԱՅՈՒԹՅՈՒՆՆԵՐ | J12: =J13 -> 321000
B13: 79141100 | C13: Իրավական խորհրդատվական և տեղեկատվական ծառայություններ | F13: ՄԱ | G13: դրամ | H13: =J13*1000 -> 321000000 | I13: 1 | J13: ='2'!I31 -> 321000
C18: ՀԱՅԱՍՏԱՆԻ ՀԱՆՐԱՊԵՏՈՒԹՅԱՆ ՎԱՐՉԱՊԵՏԻ ԱՇԽԱՏԱԿԱԶՄԻ ՂԵԿԱՎԱՐ | H18: Ա.ՀԱՐՈՒԹՅՈՒՆՅԱՆ
