Workbook
Name \A: #REF!
Name \A: #REF!
Name \A: #REF!
Name \A: #REF!
Name _1__հայտարարվել_է_նախ_մրցույթ: #REF!
Name _1__հայտարարվել_է_նախ_մրցույթ: #REF!
Name _1__հայտարարվել_է_նախ_մրցույթ: #REF!
Name _1__հայտարարվել_է_նախ_մրցույթ: #REF!
Name _tab10: #REF!
Name _tab10: #REF!
Name _tab10: #REF!
Name _tab10: #REF!
Name _tab11: #REF!
Name _tab12: #REF!
Name _tab13: #REF!
Name _tab14: #REF!
Name _tab15: #REF!
Name _tab16: #REF!
Name _tab17: #REF!
Name _tab18: #REF!
Name _tab19: #REF!
Name _tab20: #REF!
Name _tab21: #REF!
Name _tab22: #REF!
Name _tab23: #REF!
Name _tab24: #REF!
Name _tab5: #REF!
Name _tab6: #REF!
Name _tab7: #REF!
Name _tab8: #REF!
Name _tab9: #REF!
Name AgencyCode: #REF!
Name AgencyCode: #REF!
Name AgencyCode: #REF!
Name AgencyCode: #REF!
Name AgencyCode: #REF!
Name AgencyName: #REF!
Name AgencyName: #REF!
Name ampop_krchat: #REF!
Name Armata: #REF!
Name asd: #REF!
Name åû: #REF!
Name åû: #REF!
Name BOP: #REF!
Name BOPfoot: #REF!
Name davit: #REF!
Name DebtCG: '[1]Fis-Debt'!#REF!
Name DebtGG: #REF!
Name DebtGG: #REF!
Name DebtGG: #REF!
Name DebtGG: #REF!
Name fff: #REF!
Name fff: #REF!
Name fff: #REF!
Name fff: #REF!
Name Functional1: #REF!
Name Functional1: #REF!
Name ggg: #REF!
Name h: #REF!
Name Hav: #REF!,#REF!

Sheet Հավելված 1
A1: Հավելված 1 ՀՀ կառավարության 2026 թվականի____________ի N _____-Ն որոշման
A3: «Հայաստանի Հանրապետության 2026 թվականի պետական բյուջեի մասին» Հայաստանի Հանրապետության օրենքի N 1 հավելվածի N 2 աղյուսակում կատարվող վերաբաշխումը ու Հայաստանի Հանրապետության կառավարության 2025 թվականի դեկտեմբերի 25-ի N 1910-Ն որոշման N 5 հավելվածի N 1 աղյուսակում կատարվող փոփոխությունները և լրացումները
I4: հազար դրամներով
A5: ԲԳԿ | B5: Ծրագրային դասիչը | D5: ԲԳԿ/Ծրագրի /միջոցառման անվանումը | E5: Ծրագրի նպատակը/Միջոցառման նկարագրույունը | F5: Վերջնական արդյունքի նկարագրությունը/Միջոցառման տեսակը | G5: Ցուցանիշների փոփոխությունը (ավելացումները նշված են դրական նշանով, իսկ նվազեցումները` փակագծերում)
B6: Ծրագիր | C6: Միջոցառում | G6: Առաջին կիսամյակ | H6: Ինն ամիս | I6: Տարի
A7: ԸՆԴԱՄԵՆԸ | G7: =SUM(G8) -> 0 | H7: =SUM(H8) -> 0 | I7: =SUM(I8) -> 0
A8: ՀՀ բարձր տեխնոլոգիական արդյունաբերության նախարարություն | G8: =SUM(G11+G9) -> 0 | H8: =SUM(H11+H9) -> 0 | I8: =SUM(I11+I9) -> 0
B9: 1100 | D9: Բարձր տեխնոլոգիական արդյունաբերության բնագավառում պետական քաղաքականության մշակում, ծրագրերի համակարգում և մոնիտորինգ | E9: Բարձր տեխնոլոգիական ոլորտում պետական քաղաքականության մշակում, ծրագրերի համակարգում | F9: Բարձր տեխնոլոգիական արդյունաբերության բնագավառում իրականացվող ծրագրերի ազդեցության և արդյունավետության բարելավում | G9: =SUM(G10) -> 61800 | H9: =SUM(H10) -> 101580 | I9: =SUM(I10) -> 144494
C10: 1100 - 11001 | D10: Բարձր տեխնոլոգիաների, ռազմարդյունաբերության, թվայնացման, կիբեռանվտանգության, ինովացիոն տեխնոլոգիաների, կապի, փոստի, համացանցի և տիեզերական բնագավառներում պետական քաղաքականության մշակում, ծրագրերի համակարգում և մոնիտորինգ | E10: Բարձր տխնոլոգիաների, ռազմարդյունաբերության, թվայնացման, կիբ.անվտանգության, ինովացիոն տեխ-ների, կապի, փոստի, համացանցի և տիեզերական բնագավառներում պետական քաղաքականության մշակում, մոնիտորինգի և աջակց. ծառայություններ, ծրագրերի համակարգում | F10: Ծառայությունների մատուցում | G10: =27800+18000+16000 -> 61800 | H10: =27800+25000+18000+9000+21780 -> 101580 | I10: 144494
B11: 1235 | D11: Թվային փոխակերպման գործընթացի իրականացում | E11: Պետական մարմինների կողմից իրականացվող թվային փոխակերպման միջոցառումների ֆինանսավորում | F11: Թվային ծառայությունների և համակարգերի ներդրում | G11: =SUM(G12) -> -61800 | H11: =SUM(H12) -> -101580 | I11: =SUM(I12) -> -144494
C12: 1235 - 31001 | D12: Միասնական թվային միջավայրի ձևավորում | E12: Թվային փոխակերպման գործընթացի շրջանակներում թվայնացման համակարգերի ներդրում և կայքերի արդիականացում | F12: Պետական մարմինների կողմից օգտագործվող ոչ ֆինանսական ակտիվների հետ գործառնություններ | G12: -61800 | H12: -101580 | I12: -144494
A13: ՀՀ կառավարություն | G13: =SUM(G14) -> 0 | H13: =SUM(H14) -> 0 | I13: =SUM(I14) -> 0
B14: 1139 | D14: ՀՀ կառավարության պահուստային ֆոնդ | E14: Պետական բյուջեում չկանխատեսված, ինչպես նաեւ բյուջետային երաշխիքների ապահովման ծախսերի ֆինանսավորման ապահովում | F14: Պահուստային ֆոնդի կառավարման արդյունավետության և թափանցիկության ապահովում | G14: =+G15+G16 -> 0 | H14: =+H15+H16 -> 0 | I14: =+I15+I16 -> 0
C15: 1139 - 11001 | D15: ՀՀ կառավարության պահուստային ֆոնդ | E15: ՀՀ պետական բյուջեում նախատեսված ելքերի լրացուցիչ ֆինանսավորման, պետական բյուջեում չկանխատեսված ելքերի, ինչպես նաև բյուջետային երաշխիքների ապահովման ելքերի ֆինանսավորման ապահովում | F15: Ծառայությունների մատուցում | G15: =27800+18000+16000 -> 61800 | H15: =27800+25000+18000+9000+21780 -> 101580 | I15: 144494
C16: 1139 - 11001 | D16: ՀՀ կառավարության պահուստային ֆոնդ | E16: ՀՀ պետական բյուջեում նախատեսված ելքերի լրացուցիչ ֆինանսավորման, պետական բյուջեում չկանխատեսված ելքերի, ինչպես նաև բյուջետային երաշխիքների ապահովման ելքերի ֆինանսավորման ապահովում | F16: Ծառայությունների մատուցում | G16: -61800 | H16: -101580 | I16: -144494

Sheet Հավելված 2
A1: Հավելված N 2
A2: ՀՀ կառավարության 2026 թվականի
A3: ______________ ի ___Ն որոշման
A4: Հայաստանի Հանրապետության կառավարության 2025 թվականի դեկտեմբերի 25-ի N 1910-Ն որոշման N 3 և N 4 հավելվածներում կատարվող փոփոխությունները և լրացումները
I6: հազար դրամներով
A7: Գործառական դասիչը | D7: Ծրագրային դասիչը | F7: Բյուջետային ծախսերի գործառական դասակարգման բաժինների, խմբերի և դասերի, բյուջետային ծրագրերի միջոցառումների, բյուջետային հատկացումների գլխավոր կարգադրիչների անվանումները | G7: Ցուցանիշների փոփոխությունը (ավելացումները նշված են դրական նշանով, իսկ նվազեցումները` փակագծերում)
A8: Բաժին | B8: Խումբ | C8: Դաս | D8: Ծրագիր | E8: Միջոցառում | G8: Առաջին կիսամյակ | H8: Ինն ամիս | I8: Տարի
F9: ԸՆԴԱՄԵՆԸ ԾԱԽՍԵՐ | G9: =SUM(G11) -> 0 | H9: =SUM(H11) -> 0 | I9: =SUM(I11) -> 0
F10: այդ թվում`
F11: ՀՀ ԲԱՐՁՐ ՏԵԽՆՈԼՈԳԻԱԿԱՆ ԱՐԴՅՈՒՆԱԲԵՐՈՒԹՅԱՆ ՆԱԽԱՐԱՐՈՒԹՅՈՒՆ | G11: =SUM(G12+G29) -> 0 | H11: =SUM(H12+H29) -> 0 | I11: =SUM(I12+I29) -> 0
A12: 04 | F12: ՏՆՏԵՍԱԿԱՆ ՀԱՐԱԲԵՐՈՒԹՅՈՒՆՆԵՐ | G12: =SUM(G14) -> 61800 | H12: =SUM(H14) -> 101580 | I12: =SUM(I14) -> 144494
F13: այդ թվում`
B14: 09 | F14: Տնտեսական հարաբերություններ (այլ դասերին չպատկանող) | G14: =SUM(G16) -> 61800 | H14: =SUM(H16) -> 101580 | I14: =SUM(I16) -> 144494
F15: այդ թվում`
C16: 01 | F16: Տնտեսական հարաբերություններ (այլ դասերին չպատկանող) | G16: =SUM(G18) -> 61800 | H16: =SUM(H18) -> 101580 | I16: =SUM(I18) -> 144494
F17: այդ թվում`
D18: 1100 | F18: Բարձր տեխնոլոգիական արդյունաբերության բնագավառում պետական քաղաքականության մշակում, ծրագրերի համակարգում և մոնիտորինգ | G18: =SUM(G20) -> 61800 | H18: =SUM(H20) -> 101580 | I18: =SUM(I20) -> 144494
F19: այդ թվում`
E20: 11001 | F20: Բարձր տեխնոլոգիաների, ռազմարդյունաբերության, թվայնացման, կիբեռանվտանգության, ինովացիոն տեխնոլոգիաների, կապի, փոստի, համացանցի և տիեզերական բնագավառներում պետական քաղաքականության մշակում, ծրագրերի համակարգում և մոնիտորինգ | G20: =G22 -> 61800 | H20: =H22 -> 101580 | I20: =I22 -> 144494
F21: այդ թվում` ըստ կատարողների
F22: ՀՀ բարձր տեխնոլոգիական արդյունաբերության նախարարություն | G22: =SUM(G24) -> 61800 | H22: =SUM(H24) -> 101580 | I22: =SUM(I24) -> 144494
F23: այդ թվում` բյուջետային ծախսերի տնտեսագիտական դասակարգման հոդվածներ
F24: ԸՆԴԱՄԵՆԸ ԾԱԽՍԵՐ | G24: =G25 -> 61800 | H24: =H25 -> 101580 | I24: =I25 -> 144494
F25: ԸՆԹԱՑԻԿ ԾԱԽՍԵՐ | G25: =G26 -> 61800 | H25: =H26 -> 101580 | I25: =I26 -> 144494
F26: ԾԱՌԱՅՈՒԹՅՈՒՆՆԵՐԻ ԵՎ ԱՊՐԱՆՔՆԵՐԻ ՁԵՌՔԲԵՐՈՒՄ | G26: =G27 -> 61800 | H26: =H27 -> 101580 | I26: =I27 -> 144494
F27: Պայմանագրային այլ ծառայությունների ձեռքբերում | G27: =G28 -> 61800 | H27: =H28 -> 101580 | I27: =I28 -> 144494
F28: - Համակարգչային ծառայություններ | G28: =SUM('Հավելված 1'!G10) -> 61800 | H28: =SUM('Հավելված 1'!H10) -> 101580 | I28: =SUM('Հավելված 1'!I10) -> 144494
A29: 01 | F29: ԸՆԴՀԱՆՈՒՐ ԲՆՈՒՅԹԻ ՀԱՆՐԱՅԻՆ ԾԱՌԱՅՈՒԹՅՈՒՆՆԵՐ | G29: =G31 -> -61800 | H29: =H31 -> -101580 | I29: =I31 -> -144494
F30: այդ թվում`
B31: 03 | F31: Ընդհանուր բնույթի ծառայություններ | G31: =G33 -> -61800 | H31: =H33 -> -101580 | I31: =I33 -> -144494
F32: այդ թվում`
C33: 02 | F33: Ծրագրման և վիճակագրական ընդհանուր ծառայություններ | G33: =+G35 -> -61800 | H33: =+H35 -> -101580 | I33: =+I35 -> -144494
F34: այդ թվում`
D35: 1235 | F35: Թվային փոխակերպման գործընթացի իրականացում | G35: =SUM(G37) -> -61800 | H35: =SUM(H37) -> -101580 | I35: =SUM(I37) -> -144494
F36: այդ թվում`
E37: 31001 | F37: Միասնական թվային միջավայրի ձևավորում | G37: =SUM(G39) -> -61800 | H37: =SUM(H39) -> -101580 | I37: =SUM(I39) -> -144494
F38: այդ թվում` ըստ կատարողների
F39: ՀՀ կառավարություն | G39: =SUM(G41) -> -61800 | H39: =SUM(H41) -> -101580 | I39: =SUM(I41) -> -144494
F40: այդ թվում` բյուջետային ծախսերի տնտեսագիտական դասակարգման հոդվածներ
F41: ԸՆԴԱՄԵՆԸ ԾԱԽՍԵՐ | G41: =G42 -> -61800 | H41: =H42 -> -101580 | I41: =I42 -> -144494
F42: ՈՉ ՖԻՆԱՆՍԱԿԱՆ ԱԿՏԻՎՆԵՐԻ ԳԾՈՎ ԾԱԽՍԵՐ | G42: =G43 -> -61800 | H42: =H43 -> -101580 | I42: =I43 -> -144494
F43: ՀԻՄՆԱԿԱՆ ՄԻՋՈՑՆԵՐ | G43: =G44 -> -61800 | H43: =H44 -> -101580 | I43: =I44 -> -144494
F44: ԱՅԼ ՀԻՄՆԱԿԱՆ ՄԻՋՈՑՆԵՐ | G44: =G45 -> -61800 | H44: =H45 -> -101580 | I44: =I45 -> -144494
F45: - Ոչ նյութական հիմնական միջոցներ | G45: -61800 | H45: -101580 | I45: -144494
A46: 11 | F46: ՀԻՄՆԱԿԱՆ ԲԱԺԻՆՆԵՐԻՆ ՉԴԱՍՎՈՂ ՊԱՀՈՒՍՏԱՅԻՆ ՖՈՆԴԵՐ | G46: =SUM(G48) -> 0 | H46: =SUM(H48) -> 0 | I46: =SUM(I48) -> 0
F47: այդ թվում`
B48: 01 | F48: ՀՀ կառավարության և համայնքների պահուստային ֆոնդ | G48: =SUM(G50) -> 0 | H48: =SUM(H50) -> 0 | I48: =SUM(I50) -> 0
F49: այդ թվում`
C50: 01 | F50: ՀՀ կառավարության պահուստային ֆոնդ | G50: =SUM(G52) -> 0 | H50: =SUM(H52) -> 0 | I50: =SUM(I52) -> 0
F51: այդ թվում`
F52: ՀՀ կառավարություն | G52: =SUM(G54) -> 0 | H52: =SUM(H54) -> 0 | I52: =SUM(I54) -> 0
F53: այդ թվում`
D54: 1139 | F54: ՀՀ կառավարության պահուստային ֆոնդ | G54: =SUM(G56+G64) -> 0 | H54: =SUM(H56+H64) -> 0 | I54: =SUM(I56+I64) -> 0
F55: այդ թվում`
E56: 11001 | F56: ՀՀ կառավարության պահուստային ֆոնդ | G56: =G58 -> 61800 | H56: =H58 -> 101580 | I56: =I58 -> 144494
F57: այդ թվում` ըստ կատարողների
F58: ՀՀ կառավարություն | G58: =G60 -> 61800 | H58: =H60 -> 101580 | I58: =I60 -> 144494
F59: այդ թվում` բյուջետային ծախսերի տնտեսագիտական դասակարգման հոդվածներ
F60: ԸՆԴԱՄԵՆԸ ԾԱԽՍԵՐ | G60: =G61 -> 61800 | H60: =H61 -> 101580 | I60: =I61 -> 144494
F61: ԸՆԹԱՑԻԿ ԾԱԽՍԵՐ | G61: =G62 -> 61800 | H61: =H62 -> 101580 | I61: =I62 -> 144494
F62: ԱՅԼ ԾԱԽՍԵՐ | G62: =G63 -> 61800 | H62: =H63 -> 101580 | I62: =I63 -> 144494
F63: Պահուստային միջոցներ | G63: 61800 | H63: 101580 | I63: 144494
E64: 11001 | F64: ՀՀ կառավարության պահուստային ֆոնդ | G64: =G66 -> -61800 | H64: =H66 -> -101580 | I64: =I66 -> -144494
F65: այդ թվում` ըստ կատարողների
F66: ՀՀ կառավարություն | G66: =G68 -> -61800 | H66: =H68 -> -101580 | I66: =I68 -> -144494
F67: այդ թվում` բյուջետային ծախսերի տնտեսագիտական դասակարգման հոդվածներ
F68: ԸՆԴԱՄԵՆԸ ԾԱԽՍԵՐ | G68: =G69 -> -61800 | H68: =H69 -> -101580 | I68: =I69 -> -144494
F69: ԸՆԹԱՑԻԿ ԾԱԽՍԵՐ | G69: =G70 -> -61800 | H69: =H70 -> -101580 | I69: =I70 -> -144494
F70: ԱՅԼ ԾԱԽՍԵՐ | G70: =G71 -> -61800 | H70: =H71 -> -101580 | I70: =I71 -> -144494
F71: Պահուստային միջոցներ | G71: -61800 | H71: -101580 | I71: -144494

Sheet Հավելված 3
A1: Հավելված N 3
F2: ՀՀ կառավարության 2026 թվականի
G3: ______________ ի ___Ն որոշման
A4: «Հայաստանի Հանրապետության 2026 թվականի պետական բյուջեի մասին» Հայաստանի Հանրապետության օրենքի N1 հավելվածի N3 աղյուսակում կատարվող փոփոխությունները
A5: հազար դրամներով
A6: Ծրագրային դասիչ | C6: Բյուջետային գլխավոր կարգադրիչների, ծրագրերի, միջոցառումների և ուղղությունների անվանումները | D6: Ընդամենը | E6: Ցուցանիշների փոփոխությունը (Նվազեցումները նշված են փակագծերում)
A7: Ծրագիր | B7: Միջոց առում | E7: Կառուցման աշխատանքներ | F7: Վերակառուցման, վերանորոգման և վերականգնման աշխատանքներ | G7: Նախագծահե- տազոտական, գեոդեզիա- քարտեզագրական աշխատանքներ | H7: Ոչ ֆինանսական այլ ակտիվների ձեռքբերում
C8: ԸՆԴԱՄԵՆԸ | D8: =D9 -> -144494 | H8: =H9 -> -144494
C9: ՀՀ բարձր տեխնոլոգիական արդյունաբերության նախարարություն | D9: =D11 -> -144494 | H9: =H11 -> -144494
C10: այդ թվում՛
A11: 1235 | B11: 31001 | C11: Միասնական թվային միջավայրի ձևավորում | D11: ='Հավելված 2'!I37 -> -144494 | H11: =D11 -> -144494

Sheet Հավելված 4
A1: Հավելված N 4
A2: ՀՀ կառավարության 2026 թվականի
A3: ______________ ի ___Ն որոշման
A4: Հայաստանի Հանրապետության կառավարության 2025 թվականի դեկտեմբերի 25-ի N 1910-Ն որոշման N 5 հավելվածի N 2 աղյուսակում կատարվող փոփոխությունները
F5: հազար դրամներով
A6: Ծրագրային դասիչը | C6: Բյուջետային գլխավոր կարգադրիչների, ծրագրերի, միջոցառումների և ուղղությունների անվանումները | D6: Ցուցանիշների փոփոխությունը (նվազեցումները նշված են փակագծերում)
A7: Ծրագիր | B7: Միջոցառում | D7: Առաջին կիսամյակ | E7: Ինն ամիս | F7: Տարի
C8: ԸՆԴԱՄԵՆԸ | D8: =SUM(D10) -> -61800 | E8: =SUM(E10) -> -101580 | F8: =SUM(F10) -> -144494
C9: այդ թվում՛
C10: ՀՀ բարձր տեխնոլոգիական արդյունաբերության նախարարություն | D10: =SUM(D12) -> -61800 | E10: =SUM(E12) -> -101580 | F10: =SUM(F12) -> -144494
C11: այդ թվում՛
A12: 1235 | B12: 31001 | C12: Միասնական թվային միջավայրի ձևավորում | D12: =SUM(D14) -> -61800 | E12: =SUM(E14) -> -101580 | F12: =SUM(F14) -> -144494
C13: այդ թվում` ըստ կատարողների
C14: ՀՀ կառավարություն | D14: =SUM('Հավելված 1'!G12) -> -61800 | E14: =SUM('Հավելված 1'!H12) -> -101580 | F14: =SUM('Հավելված 1'!I12) -> -144494

Sheet Հավելված 5
A1: Հավելված 5 ՀՀ կառավարության 2026 թվականի____________ի N _____-Ն որոշման
A3: Հայաստանի Հանրապետության կառավարության 2025 թվականի դեկտեմբերի 25-ի N 1910-Ն որոշման N 9 հավելվածում կատարվող փոփոխությունները և լրացումները
K4: հազար դրամներով
A5: ԲԳԿ | B5: Ծրագիր | D5: Միջոցառում | H5: Իրականացնողը/ ակտիվն օգտագործողը/ շահառուի ընտրության չափորոշիչը | I5: Արդյունքային չափորոշիչը | J5: Ցուցանիշների փոփոխությունը (ավելացումները նշված են դրական նշանով, իսկ նվազեցումները` փակագծերում)
B6: Դասիչը | C6: Անվա-նումը | D6: Դասիչը | E6: Անվա-նումը | F6: Նկարագրությունը | G6: Տեսակը | J6: Առաջին կիսամյակ | K6: Ինն ամիս | L6: Տարի
A7: ԸՆԴԱՄԵՆԸ | J7: =SUM(J8) -> 0 | K7: =SUM(K8) -> 0 | L7: =SUM(L8) -> 0
A8: ՀՀ Բարձր տեխնոլոգիական արդյունաբերության նախարարություն | J8: =+J9+J14 -> 0 | K8: =+K9+K14 -> 0 | L8: =+L9+L14 -> 0
B9: 1235 | C9: Թվային փոխակերպման գործընթացի իրականացում | J9: =SUM(J10) -> -61800 | K9: =SUM(K10) -> -101580 | L9: =SUM(L10) -> -144494
D10: 1235 - 31001 | E10: Միասնական թվային միջավայրի ձևավորում | J10: =SUM('Հավելված 1'!G12) -> -61800 | K10: =SUM('Հավելված 1'!H12) -> -101580 | L10: =SUM('Հավելված 1'!I12) -> -144494
F11: Թվային փոխակերպման գործընթացի շրջանակներում թվայնացման համակարգերի ներդրում և կայքերի արդիականացում
G12: Պետական մարմինների կողմից օգտագործվող ոչ ֆինանսական ակտիվների հետ գործառնություններ
H13: Ակտիվն օգտագործող կազմակերպության անվանումը` Հանրային իշխանության մարմիններ
B14: 1100 | C14: Բարձր տեխնոլոգիական արդյունաբերության բնագավառում պետական քաղաքականության մշակում, ծրագրերի համակարգում և մոնիտորինգ | J14: =SUM(J15) -> 61800 | K14: =SUM(K15) -> 101580 | L14: =SUM(L15) -> 144494
D15: 1100-11001 | E15: Բարձր տեխնոլոգիաների, ռազմարդյունաբերության, թվայնացման, կիբեռանվտանգության, ինովացիոն տեխնոլոգիաների, կապի, փոստի, համացանցի և տիեզերական բնագավառներում պետական քաղաքականության մշակում, ծրագրերի համակարգում և մոնիտորինգ | J15: =SUM('Հավելված 1'!G10) -> 61800 | K15: =SUM('Հավելված 1'!H10) -> 101580 | L15: =SUM('Հավելված 1'!I10) -> 144494
F16: Բարձր տխնոլոգիաների, ռազմարդյունաբերության, թվայնացման, կիբ.անվտանգության, ինովացիոն տեխ-ների, կապի, փոստի, համացանցի և տիեզերական բնագավառներում պետական քաղաքականության մշակում, մոնիտորինգի և աջակց. ծառայություններ, ծրագրերի համակարգում
G17: Ծառայությունների մատուցում
H18: Ծառայությունը մատուցողի անվանումը` ՀՀ բարձր տեխնոլոգիական արդյունաբերության նախարարություն
A19: ՀՀ կառավարություն | J19: =+J21+J25 -> 0 | K19: =+K21+K25 -> 0 | L19: =+L21+L25 -> 0
B20: 1139 | C20: ՀՀ կառավարության պահուստային ֆոնդ | J20: =SUM(J21+J25) -> 0 | K20: =SUM(K21+K25) -> 0 | L20: =SUM(L21+L25) -> 0
D21: 1139 - 11001 | E21: ՀՀ կառավարության պահուստային ֆոնդ | J21: =SUM('Հավելված 1'!G15) -> 61800 | K21: =SUM('Հավելված 1'!H15) -> 101580 | L21: =SUM('Հավելված 1'!I15) -> 144494
F22: ՀՀ պետական բյուջեում նախատեսված ելքերի լրացուցիչ ֆինանսավորման, պետական բյուջեում չկանխատեսված ելքերի, ինչպես նաև բյուջետային երաշխիքների ապահովման ելքերի ֆինանսավորման ապահովում | K22: =+#REF!*1000*J22 -> #REF!
G23: Ծառայությունների մատուցում | K23: =+#REF!*1000*J23 -> #REF!
H24: Ծառայությունը մատուցողի անվանումը` ՀՀ կառավարություն | K24: =+#REF!*1000*J24 -> #REF!
D25: 1139 - 11001 | E25: ՀՀ կառավարության պահուստային ֆոնդ | J25: =SUM('Հավելված 1'!G16) -> -61800 | K25: =SUM('Հավելված 1'!H16) -> -101580 | L25: =SUM('Հավելված 1'!I16) -> -144494
F26: ՀՀ պետական բյուջեում նախատեսված ելքերի լրացուցիչ ֆինանսավորման, պետական բյուջեում չկանխատեսված ելքերի, ինչպես նաև բյուջետային երաշխիքների ապահովման ելքերի ֆինանսավորման ապահովում | K26: =+#REF!*1000*J26 -> #REF!
G27: Ծառայությունների մատուցում | K27: =+#REF!*1000*J27 -> #REF!
H28: Ծառայությունը մատուցողի անվանումը` ՀՀ կառավարություն | K28: =+#REF!*1000*J28 -> #REF!

Sheet Հավելված 6
A1: Հավելված 6 ՀՀ կառավարության 2026 թվականի____________ի N _____-Ն որոշման
A3: Հայաստանի Հանրապետության կառավարության 2025 թվականի դեկտեմբերի 25-ի N 1910-Ն որոշման N 9.1 հավելվածում կատարվող փոփոխությունները և լրացումները
K4: հազար դրամներով
A5: ԲԳԿ | B5: Ծրագիր | D5: Միջոցառում | H5: Իրականացնողը/ ակտիվն օգտագործողը/ շահառուի ընտրության չափորոշիչը | I5: Արդյունքային չափորոշիչը | J5: Ցուցանիշների փոփոխությունը (ավելացումները նշված են դրական նշանով, իսկ նվազեցումները` փակագծերում)
B6: Դասիչը | C6: Անվա-նումը | D6: Դասիչը | E6: Անվա-նումը | F6: Նկարագրու-թյունը | G6: Տեսակը | J6: Առաջին կիսամյակ | K6: Ինն ամիս | L6: Տարի
A7: ԸՆԴԱՄԵՆԸ | J7: =SUM(J8+J14) -> 0 | K7: =SUM(K8+K14) -> 0 | L7: =SUM(L8+L14) -> 0
A8: ՀՀ Բարձր տեխնոլոգիական արդյունաբերության նախարարություն | J8: =SUM(J9) -> 61800 | K8: =SUM(K9) -> 101580 | L8: =SUM(L9) -> 144494
B9: 1100 | C9: Բարձր տեխնոլոգիական արդյունաբերության բնագավառում պետական քաղաքականության մշակում, ծրագրերի համակարգում և մոնիտորինգ | J9: =SUM(J10) -> 61800 | K9: =SUM(K10) -> 101580 | L9: =SUM(L10) -> 144494
D10: 1100-11001 | E10: Բարձր տեխնոլոգիաների, ռազմարդյունաբերության, թվայնացման, կիբեռանվտանգության, ինովացիոն տեխնոլոգիաների, կապի, փոստի, համացանցի և տիեզերական բնագավառներում պետական քաղաքականության մշակում, ծրագրերի համակարգում և մոնիտորինգ | J10: =SUM('Հավելված 1'!G10) -> 61800 | K10: =SUM('Հավելված 1'!H10) -> 101580 | L10: =SUM('Հավելված 1'!I10) -> 144494
F11: Բարձր տխնոլոգիաների, ռազմարդյունաբերության, թվայնացման, կիբ.անվտանգության, ինովացիոն տեխ-ների, կապի, փոստի, համացանցի և տիեզերական բնագավառներում պետական քաղաքականության մշակում, մոնիտորինգի և աջակց. ծառայություններ, ծրագրերի համակարգում
G12: Ծառայությունների մատուցում
H13: Ծառայությունը մատուցողի անվանումը` ՀՀ բարձր տեխնոլոգիական արդյունաբերության նախարարություն
A14: ՀՀ Կառավարություն | J14: =SUM(J15+J20) -> -61800 | K14: =SUM(K15+K20) -> -101580 | L14: =SUM(L15+L20) -> -144494
B15: 1235 | C15: Թվային փոխակերպման գործընթացի իրականացում | J15: =SUM(J16) -> -61800 | K15: =SUM(K16) -> -101580 | L15: =SUM(L16) -> -144494
D16: 1235 - 31001 | E16: Միասնական թվային միջավայրի ձևավորում | J16: =SUM('Հավելված 1'!G12) -> -61800 | K16: =SUM('Հավելված 1'!H12) -> -101580 | L16: =SUM('Հավելված 1'!I12) -> -144494
F17: Թվային փոխակերպման գործընթացի շրջանակներում թվայնացման համակարգերի ներդրում և կայքերի արդիականացում
G18: Պետական մարմինների կողմից օգտագործվող ոչ ֆինանսական ակտիվների հետ գործառնություններ
H19: Ակտիվն օգտագործող կազմակերպության անվանումը` Հանրային իշխանության մարմիններ
B20: 1139 | C20: ՀՀ կառավարության պահուստային ֆոնդ | J20: =SUM(J21+J25) -> 0 | K20: =SUM(K21+K25) -> 0 | L20: =SUM(L21+L25) -> 0
D21: 1139 - 11001 | E21: ՀՀ կառավարության պահուստային ֆոնդ | J21: =SUM('Հավելված 1'!G15) -> 61800 | K21: =SUM('Հավելված 1'!H15) -> 101580 | L21: =SUM('Հավելված 1'!I15) -> 144494
F22: ՀՀ պետական բյուջեում նախատեսված ելքերի լրացուցիչ ֆինանսավորման, պետական բյուջեում չկանխատեսված ելքերի, ինչպես նաև բյուջետային երաշխիքների ապահովման ելքերի ֆինանսավորման ապահովում | K22: =+#REF!*1000*J22 -> #REF!
G23: Ծառայությունների մատուցում | K23: =+#REF!*1000*J23 -> #REF!
H24: Ծառայությունը մատուցողի անվանումը` ՀՀ կառավարություն | K24: =+#REF!*1000*J24 -> #REF!
D25: 1139 - 11001 | E25: ՀՀ կառավարության պահուստային ֆոնդ | J25: =SUM('Հավելված 1'!G16) -> -61800 | K25: =SUM('Հավելված 1'!H16) -> -101580 | L25: =SUM('Հավելված 1'!I16) -> -144494
F26: ՀՀ պետական բյուջեում նախատեսված ելքերի լրացուցիչ ֆինանսավորման, պետական բյուջեում չկանխատեսված ելքերի, ինչպես նաև բյուջետային երաշխիքների ապահովման ելքերի ֆինանսավորման ապահովում | K26: =+#REF!*1000*J26 -> #REF!
G27: Ծառայությունների մատուցում | K27: =+#REF!*1000*J27 -> #REF!
H28: Ծառայությունը մատուցողի անվանումը` ՀՀ կառավարություն | K28: =+#REF!*1000*J28 -> #REF!

Sheet Հավելված 7
E1: Հավելված N 7
E2: ՀՀ կառավարության 2026 թվականի
E3: ———————— N -Ն որոշման
A5: ՀԱՅԱՍՏԱՆԻ ՀԱՆՐԱՊԵՏՈՒԹՅԱՆ ԿԱՌԱՎԱՐՈՒԹՅԱՆ 2025 ԹՎԱԿԱՆԻ ԴԵԿՏԵՄԲԵՐԻ 25-Ի N 1910-Ն ՈՐՈՇՄԱՆ N 10 ՀԱՎԵԼՎԱԾՈՒՄ ԿԱՏԱՐՎՈՂ ՓՈՓՈԽՈՒԹՅՈՒՆՆԵՐԸ ԵՎ ԼՐԱՑՈՒՄՆԵՐԸ
A6: Կոդը | B6: Անվանումը | C6: Գնման ձևը | D6: Չափի միավորը | E6: միավորի գինը | F6: Ցուցանիշների փոփոխությունը (ավելացումները նշված են դրական նշանով)
F7: քանակը | G7: գումարը (հազար դրամով)
A8: 1 | B8: 2 | C8: 3 | D8: 4 | E8: 5 | F8: 6 | G8: 7
A9: ՀՀ բարձր տեխնոլոգիական արդյունաբերության նախարարություն
A10: Բաժին N 04 | B10: Խումբ N 09 | C10: Դաս N 01 | D10: Տնտեսական հարաբերություններ (այլ դասերին չպատկանող) | G10: =+G11 -> 144494
A11: 1100 11001 | B11: Բարձր տեխնոլոգիաների, ռազմարդյունաբերության, թվայնացման, կիբեռանվտանգության, ինովացիոն տեխնոլոգիաների, կապի, փոստի, համացանցի և տիեզերական բնագավառներում պետական քաղաքականության մշակում, ծրագրերի համակարգում և մոնիտորինգ | G11: =+G13+G16+G17+G14+G15 -> 144494
B12: ՄԱՍ III. ԾԱՌԱՅՈՒԹՅՈՒՆՆԵՐ | G12: =G11 -> 144494
A13: 72541300/502 | B13: Ամպային ծառայություններ | C13: ԷԱՃ | D13: դրամ | E13: 51509000 | F13: 1 | G13: =+E13/1000 -> 51509
A14: 48211200/501 | B14: լիցենզիաների կառավարման համակարգչային ծրագրային փաթեթներ | C14: ԷԱՃ | D14: դրամ | E14: 8700000 | F14: 1 | G14: =+E14/1000 -> 8700
A15: 48211200/502 | B15: լիցենզիաների կառավարման համակարգչային ծրագրային փաթեթներ | C15: ԷԱՃ | D15: դրամ | E15: 4725000 | F15: 1 | G15: =+E15/1000 -> 4725
A16: 72261160 | B16: Ծրագրային ապահովման սպասարկման ծառայություններ | C16: ՄԱ | D16: դրամ | E16: 36000000 | F16: 1 | G16: =+E16/1000 -> 36000
A17: 72261160 | B17: Ծրագրային ապահովման սպասարկման ծառայություններ | C17: ԷԱՃ | D17: դրամ | E17: =SUM(220*33000*12/2) -> 43560000 | F17: 1 | G17: =+E17/1000 -> 43560
