Workbook

Sheet 1
J1: Հավելված N 1
J2: ՀՀ կառավարության 2026 թվականի
J3: ______________ ի ___Ն որոշման
B5: ՀԱՅԱՍՏԱՆԻ ՀԱՆՐԱՊԵՏՈՒԹՅԱՆ ԿԱՌԱՎԱՐՈՒԹՅԱՆ 2025 ԹՎԱԿԱՆԻ ԴԵԿՏԵՄԲԵՐԻ 25-Ի N 1910-Ն ՈՐՈՇՄԱՆ NN 3 ԵՎ 4 ՀԱՎԵԼՎԱԾՆԵՐՈՒՄ ԿԱՏԱՐՎՈՂ ՓՈՓՈԽՈՒԹՅՈՒՆՆԵՐԸ ԵՎ ԼՐԱՑՈՒՄՆԵՐԸ
J7: հազար դրամներով
B8: Գործառական դասիչը | E8: Ծրագրային դասիչը | G8: Բյուջետային հատկացումների գլխավոր կարգադրիչների, ծրագրերի, միջոցառումների և միջոցառումները կատարող պետական մարմինների անվանումները | H8: Ցուցանիշների փոփոխությունը (ավելացումները նշված են դրական նշանով, իսկ նվազեցումները` փակագծերում)
B9: Բաժին | C9: Խումբ | D9: Դաս | E9: Ծրագիր | F9: Միջոցառում | H9: Առաջին կիսամյակ | I9: Ինն ամիս | J9: Տարի
G10: ԸՆԴԱՄԵՆԸ | H10: =H12 -> 0 | I10: =I12 -> 0 | J10: =J12 -> 0
G11: այդ թվում`
G12: ՀՀ տարածքային կառավարման և ենթակառուցվածքների նախարարություն | H12: =H14 -> 0 | I12: =I14 -> 0 | J12: =J14 -> 0
G13: այդ թվում`
B14: 04 | G14: ՏՆՏԵՍԱԿԱՆ ՀԱՐԱԲԵՐՈՒԹՅՈՒՆՆԵՐ | H14: =H16 -> 0 | I14: =I16 -> 0 | J14: =J16 -> 0
G15: այդ թվում`
C16: 05 | G16: ՏՐԱՆՍՊՈՐՏ | H16: =H18 -> 0 | I16: =I18 -> 0 | J16: =J18 -> 0
G17: այդ թվում`
D18: 01 | G18: Ճանապարհային տրանսպորտ | H18: =H20 -> 0 | I18: =I20 -> 0 | J18: =J20 -> 0
G19: այդ թվում`
G20: ՀՀ տարածքային կառավարման և ենթակառուցվածքների նախարարություն | H20: =H22 -> 0 | I20: =I22 -> 0 | J20: =J22 -> 0
G21: այդ թվում`
E22: 1049 | G22: Ճանապարհային ցանցի բարելավում | H22: =H24 -> 0 | I22: =I24 -> 0 | J22: =J24 -> 0
G23: այդ թվում`
F24: 21020 | G24: Պետական նշանակության ավտոճանապարհների միջին նորոգում | H24: =H26+H33 -> 0 | I24: =I26+I33 -> 0 | J24: =J26+J33 -> 0
G25: այդ թվում` ըստ կատարողների
G26: ՀՀ տարածքային կառավարման և ենթակառուցվածքների նախարարություն | H26: =H28 -> 1118025.2 | I26: =I28 -> 1118025.2 | J26: =J28 -> 1118025.2
G27: այդ թվում` բյուջետային ծախսերի տնտեսագիտական դասակարգման հոդվածներ
G28: ԸՆԴԱՄԵՆԸ ԾԱԽՍԵՐ | H28: =H29 -> 1118025.2 | I28: =I29 -> 1118025.2 | J28: =J29 -> 1118025.2
G29: ՈՉ ՖԻՆԱՆՍԱԿԱՆ ԱԿՏԻՎՆԵՐԻ ԳԾՈՎ ԾԱԽՍԵՐ | H29: =H30 -> 1118025.2 | I29: =I30 -> 1118025.2 | J29: =J30 -> 1118025.2
G30: ՀԻՄՆԱԿԱՆ ՄԻՋՈՑՆԵՐ | H30: =H31 -> 1118025.2 | I30: =I31 -> 1118025.2 | J30: =J31 -> 1118025.2
G31: ՇԵՆՔԵՐ ԵՎ ՇԻՆՈՒԹՅՈՒՆՆԵՐ | H31: =H32 -> 1118025.2 | I31: =I32 -> 1118025.2 | J31: =J32 -> 1118025.2
G32: - Շենքերի և շինությունների կապիտալ վերանորոգում | H32: ='3'!G18 -> 1118025.2 | I32: =H32 -> 1118025.2 | J32: =I32 -> 1118025.2
G33: ՀՀ կառավարություն | H33: =H35 -> -1118025.2 | I33: =I35 -> -1118025.2 | J33: =J35 -> -1118025.2
G34: այդ թվում` բյուջետային ծախսերի տնտեսագիտական դասակարգման հոդվածներ
G35: ԸՆԴԱՄԵՆԸ ԾԱԽՍԵՐ | H35: =H36 -> -1118025.2 | I35: =I36 -> -1118025.2 | J35: =J36 -> -1118025.2
G36: ՈՉ ՖԻՆԱՆՍԱԿԱՆ ԱԿՏԻՎՆԵՐԻ ԳԾՈՎ ԾԱԽՍԵՐ | H36: =H38 -> -1118025.2 | I36: =I38 -> -1118025.2 | J36: =J38 -> -1118025.2
G37: ՀԻՄՆԱԿԱՆ ՄԻՋՈՑՆԵՐ | H37: =H38 -> -1118025.2 | I37: =I38 -> -1118025.2 | J37: =J38 -> -1118025.2
G38: ՇԵՆՔԵՐ ԵՎ ՇԻՆՈՒԹՅՈՒՆՆԵՐ | H38: =H39 -> -1118025.2 | I38: =I39 -> -1118025.2 | J38: =J39 -> -1118025.2
G39: - Շենքերի և շինությունների կապիտալ վերանորոգում | H39: =-H32 -> -1118025.2 | I39: =-I32 -> -1118025.2 | J39: =-J32 -> -1118025.2
D42: ՀԱՅԱՍՏԱՆԻ ՀԱՆՐԱՊԵՏՈՒԹՅԱՆ ՎԱՐՉԱՊԵՏԻ ԱՇԽԱՏԱԿԱԶՄԻ ՂԵԿԱՎԱՐ՝ | G42: Ա.ՀԱՐՈՒԹՅՈՒՆՅԱՆ

Sheet 2
I1: Հավելված N 2
I2: ՀՀ կառավարության 2026 թվականի
I3: ______________ ի ___Ն որոշման
B5: «ՀԱՅԱՍՏԱՆԻ ՀԱՆՐԱՊԵՏՈՒԹՅԱՆ 2026 ԹՎԱԿԱՆԻ ՊԵՏԱԿԱՆ ԲՅՈՒՋԵԻ ՄԱՍԻՆ» ՕՐԵՆՔԻ N 1 ՀԱՎԵԼՎԱԾԻ N 3 ԱՂՅՈՒՍԱԿՈՒՄ ԿԱՏԱՐՎՈՂ ՓՈՓՈԽՈՒԹՅՈՒՆՆԵՐԸ ԵՎ ԼՐԱՑՈՒՄՆԵՐԸ
H6: հազար դրամներով
B7: Ծրագրային դասիչ | D7: Բյուջետային գլխավոր կարգադրիչների, ծրագրերի, միջոցառումների և ուղղությունների անվանումները | E7: Ցուցանիշների փոփոխությունը (ավելացումները նշված են դրական նշանով, իսկ նվազեցումները` փակագծերում)
E8: Ընդամենը, | F8: այդ թվում՝
B9: Ծրագիր | C9: Միջոցառում | F9: Կառուցման աշխատանքներ | G9: Վերակառուցման, վերանորոգման և վերականգնման աշխատանքներ | H9: Նախագծահե- տազոտական, գեոդեզիա- քարտեզագրական աշխատանքներ | I9: Ոչ ֆինանսական այլ ակտիվների ձեռքբերում
D10: ԸՆԴԱՄԵՆԸ | E10: =E12 -> 0 | F10: =F12 -> 0 | G10: =G12 -> 0 | H10: =H12 -> 0 | I10: =I12 -> 0
D11: այդ թվում՝
D12: ՀՀ ՏԱՐԱԾՔԱՅԻՆ ԿԱՌԱՎԱՐՄԱՆ ԵՎ ԵՆԹԱԿԱՌՈՒՑՎԱԾՔՆԵՐԻ ՆԱԽԱՐԱՐՈՒԹՅՈՒՆ | E12: =E14 -> 0 | F12: =F14 -> 0 | G12: =G14 -> 0 | H12: =H14 -> 0 | I12: =I14 -> 0
D13: այդ թվում`
B14: 1049 | C14: 21020 | D14: Պետական նշանակության ավտոճանապարհների միջին նորոգում | E14: =E16+E17 -> 0 | F14: =F16+F17 -> 0 | G14: =G16+G17 -> 0 | H14: =H16 -> 0 | I14: =I16 -> 0
D15: այդ թվում`
D16: Մ-5 Երևան-Արմավիր- ՀՀ սահման (Ծովակալ Իսակովի պողոտա) միջպետական նշանակության ավտոճանապարհի կմ 1+334 - կմ 7+041 հատվածի (աջ և ձախ գոտիներ) միջին նորոգման աշխատանքներ | E16: =F16+G16+H16+I16 -> 1118025.2 | F16: 0 | G16: 1118025.2 | H16: 0 | I16: 0
D17: ՀՀ կառավարություն | E17: =F17+G17+H17+I17 -> -1118025.2 | F17: 0 | G17: =-G16 -> -1118025.2 | H17: 0 | I17: 0
E21: ՀԱՅԱՍՏԱՆԻ ՀԱՆՐԱՊԵՏՈՒԹՅԱՆ ՎԱՐՉԱՊԵՏԻ ԱՇԽԱՏԱԿԱԶՄԻ ՂԵԿԱՎԱՐ՝ | H21: Ա.ՀԱՐՈՒԹՅՈՒՆՅԱՆ

Sheet 3
G1: Հավելված N 3
G2: ՀՀ կառավարության 2026 թվականի
G3: ______________ ի ___Ն որոշման
A5: ՀԱՅԱՍՏԱՆԻ ՀԱՆՐԱՊԵՏՈՒԹՅԱՆ ԿԱՌԱՎԱՐՈՒԹՅԱՆ 2025 ԹՎԱԿԱՆԻ ԴԵԿՏԵՄԲԵՐԻ 25-Ի N 1910-Ն ՈՐՈՇՄԱՆ N 5 ՀԱՎԵԼՎԱԾԻ N 2 ԱՂՅՈՒՍԱԿՈՒՄ ԿԱՏԱՐՎՈՂ ՓՈՓՈԽՈՒԹՅՈՒՆՆԵՐԸ ԵՎ ԼՐԱՑՈՒՄՆԵՐԸ
G7: հազար դրամներով
B8: Ծրագրային դասիչը | D8: Հատկացումների տրամադրման նպատակները և բյուջետային գլխավոր կարգադրիչների, ծրագրերի, միջոցառումների և կատարող պետական մարմնի անվանումները | E8: Ցուցանիշների փոփոխությունը (ավելացումները նշված են դրական նշանով, իսկ նվազեցումները` փակագծերում)
B9: Ծրագիր | C9: Միջոցառում | E9: Առաջին կիսամյակ | F9: Ինն ամիս | G9: Տարի
D10: ԸՆԴԱՄԵՆԸ | E10: =E12 -> 0 | F10: =F12 -> 0 | G10: =G12 -> 0
D11: այդ թվում՝
D12: ՀՀ ՏԱՐԱԾՔԱՅԻՆ ԿԱՌԱՎԱՐՄԱՆ ԵՎ ԵՆԹԱԿԱՌՈՒՑՎԱԾՔՆԵՐԻ ՆԱԽԱՐԱՐՈՒԹՅՈՒՆ | E12: =E14 -> 0 | F12: =F14 -> 0 | G12: =G14 -> 0
D13: այդ թվում`
B14: 1049 | C14: 21020 | D14: Պետական նշանակության ավտոճանապարհների միջին նորոգում | E14: =E16+E17 -> 0 | F14: =F16+F17 -> 0 | G14: =G16+G17 -> 0
D15: այդ թվում` ըստ կատարողների
D16: ՀՀ կառավարություն | E16: =-E17 -> -1118025.2 | F16: =-F17 -> -1118025.2 | G16: =-G17 -> -1118025.2
D17: ՀՀ տարածքային կառավարման և ենթակառուցվածքների նախարարություն | E17: =E18 -> 1118025.2 | F17: =F18 -> 1118025.2 | G17: =G18 -> 1118025.2
D18: Մ-5 Երևան-Արմավիր- ՀՀ սահման (Ծովակալ Իսակովի պողոտա) միջպետական նշանակության ավտոճանապարհի կմ 1+334 - կմ 7+041 հատվածի (աջ և ձախ գոտիներ) միջին նորոգման աշխատանքներ | E18: ='1'!H26 -> 1118025.2 | F18: =E18 -> 1118025.2 | G18: ='2'!G16 -> 1118025.2
D21: ՀԱՅԱՍՏԱՆԻ ՀԱՆՐԱՊԵՏՈՒԹՅԱՆ ՎԱՐՉԱՊԵՏԻ ԱՇԽԱՏԱԿԱԶՄԻ ՂԵԿԱՎԱՐ՝

Sheet 4.
M1: Հավելված N4
M2: ՀՀ կառավարության 2026 թվականի
M3: ______________ ի ___Ն որոշման
B5: ՀԱՅԱՍՏԱՆԻ ՀԱՆՐԱՊԵՏՈՒԹՅԱՆ ԿԱՌԱՎԱՐՈՒԹՅԱՆ 2025 ԹՎԱԿԱՆԻ ԴԵԿՏԵՄԲԵՐԻ 25-Ի № 1910-Ն ՈՐՈՇՄԱՆ № 9.1 ՀԱՎԵԼՎԱԾՈՒՄ ԿԱՏԱՐՎՈՂ ՓՈՓՈԽՈՒԹՅՈՒՆՆԵՐԸ ԵՎ ԼՐԱՑՈՒՄՆԵՐԸ
M6: հազար դրամներով
B7: ԲՍԿ | C7: Ծրագիր | E7: Միջոցառում | I7: Իրականացնողը/ ակտիվն օգտագործողը/ շահառուի ընտրության չափորոշիչը | J7: Արդյունքային չափորոշիչը | K7: Ցուցանիշների փոփոխությունը (ավելացումները նշված են դրական նշանով, իսկ նվազեցումները` փակագծերում)
C8: Դասիչը | D8: Անվանումը | E8: Դասիչը | F8: Անվանումը | G8: Նկարագրությունը | H8: Տեսակը | K8: Առաջին կիսամյակ | L8: Ինն ամիս | M8: Տարի
B9: ԸՆԴԱՄԵՆԸ | K9: =K10+K17 -> 0 | L9: =L10+L17 -> 0 | M9: =M10+M17 -> 0
B10: ՀՀ տարածքային կառավարման և ենթակառուցվածքների նախարարություն | K10: =K11 -> 1118025.2 | L10: =L11 -> 1118025.2 | M10: =M11 -> 1118025.2
C11: 1049 | D11: Ճանապարհային ցանցի բարելավում | K11: =K12 -> 1118025.2 | L11: =L12 -> 1118025.2 | M11: =M12 -> 1118025.2
E12: 1049 - 21020 | F12: Պետական նշանակության ավտոճանապարհների միջին նորոգում | K12: =-K17 -> 1118025.2 | L12: =-L17 -> 1118025.2 | M12: =-M17 -> 1118025.2
G13: Միջպետական, հանրապետական և մարզային նշանակության ավտոճանապարհների պատվածքի մաշված վերին շերտի վերականգնում և շինարարական նորմերով նախատեսված սկզբնական որակական ցուցանիշների ապահովում
H14: Հանրության կողմից անմիջականորեն օգտագործվող ակտիվների հետ կապված միջոցառումներ
I15: ՀՀ տարածքային կառավարման և ենթակառուցվածքների նախարարություն, մրցութային կարգով ընտրված կազմակերպություններ
J16: Միջին նորոգման ենթակա ճանապարհների երկարությունը, կիլոմետր | K16: =-K23 -> 11.42 | M16: =K16 -> 11.42
B17: ՀՀ կառավարություն | K17: =K18 -> -1118025.2 | L17: =L18 -> -1118025.2 | M17: =M18 -> -1118025.2
C18: 1049 | D18: Ճանապարհային ցանցի բարելավում | K18: =K19 -> -1118025.2 | L18: =L19 -> -1118025.2 | M18: =M19 -> -1118025.2
E19: 1049 - 21020 | F19: Պետական նշանակության ավտոճանապարհների միջին նորոգում | K19: ='1'!H33 -> -1118025.2 | L19: ='1'!I33 -> -1118025.2 | M19: ='1'!J33 -> -1118025.2
G20: Միջպետական, հանրապետական և մարզային նշանակության ավտոճանապարհների պատվածքի մաշված վերին շերտի վերականգնում և շինարարական նորմերով նախատեսված սկզբնական որակական ցուցանիշների ապահովում
H21: Հանրության կողմից անմիջականորեն օգտագործվող ակտիվների հետ կապված միջոցառումներ
I22: ՀՀ տարածքային կառավարման և ենթակառուցվածքների նախարարություն, մրցութային կարգով ընտրված կազմակերպություններ
J23: Միջին նորոգման ենթակա ճանապարհների երկարությունը, կիլոմետր | K23: -11.42 | M23: =K23 -> -11.42
D28: ՀԱՅԱՍՏԱՆԻ ՀԱՆՐԱՊԵՏՈՒԹՅԱՆ
D29: ՎԱՐՉԱՊԵՏԻ ԱՇԽԱՏԱԿԱԶՄԻ
E30: ՂԵԿԱՎԱՐ ՝ Ա. ՀԱՐՈՒԹՅՈՒՆՅԱՆ

Sheet 5
H1: Հավելված N5
H2: ՀՀ կառավարության 2026 թվականի
H3: ______________ ի ___Ն որոշման
B5: ՀԱՅԱՍՏԱՆԻ ՀԱՆՐԱՊԵՏՈՒԹՅԱՆ ԿԱՌԱՎԱՐՈՒԹՅԱՆ 2025 ԹՎԱԿԱՆԻ ԴԵԿՏԵՄԲԵՐԻ 25-Ի N 1910-Ն ՈՐՈՇՄԱՆ N 10 ՀԱՎԵԼՎԱԾՈՒՄ ԿԱՏԱՐՎՈՂ ԼՐԱՑՈՒՄՆԵՐԸ
B7: Կոդը | C7: Անվանումը | D7: Գնման ձևը | E7: Չափման միավորը | F7: Միավորի գինը | G7: Ցուցանիշների փոփոխությունը (ավելացումները նշված են դրական նշանով)
G8: Քանակը | H8: Գումարը (հազար դրամով)
B9: ՀՀ տարածքային կառավարման և ենթակառուցվածքների նախարարություն | H9: =+H10 -> 1118025.2
B10: Բաժին N 04 | C10: Խումբ N 05 | D10: Դաս N 01 | E10: Ճանապարհային տրանսպորտ | H10: =H11 -> 1118025.2
B11: 1049 21020 | C11: Պետական նշանակության ավտոճանապարհների միջին նորոգում | H11: =H12 -> 1118025.2
B12: ՄԱՍ II ԱՇԽԱՏԱՆՔՆԵՐ | H12: =H13 -> 1118025.2
B13: 45231177/ | C13: ճանապարհների վերանորոգման աշխատանքներ | D13: ՀՄԱ | E13: դրամ | F13: =H13*1000 -> 1118025200 | G13: 1 | H13: ='2'!G16 -> 1118025.2
B16: ՀԱՅԱՍՏԱՆԻ ՀԱՆՐԱՊԵՏՈՒԹՅԱՆ
B17: ՎԱՐՉԱՊԵՏԻ ԱՇԽԱՏԱԿԱԶՄԻ
C18: ՂԵԿԱՎԱՐ ՝ Ա. ՀԱՐՈՒԹՅՈՒՆՅԱՆ
