Workbook
Name _tab10: #REF!
Name _tab11: #REF!
Name _tab12: #REF!
Name _tab13: #REF!
Name _tab14: #REF!
Name _tab15: #REF!
Name _tab16: #REF!
Name _tab17: #REF!
Name _tab18: #REF!
Name _tab19: #REF!
Name _tab20: #REF!
Name _tab21: #REF!
Name _tab22: #REF!
Name _tab23: #REF!
Name _tab24: #REF!
Name _tab5: #REF!
Name _tab6: #REF!
Name _tab7: #REF!
Name _tab8: #REF!
Name _tab9: #REF!
Name a: #REF!
Name a: #REF!
Name AgencyCode: #REF!
Name AgencyCode: #REF!
Name AgencyCode: #REF!
Name AgencyCode: #REF!
Name AgencyCode: #REF!
Name AgencyName: #REF!
Name AgencyName: #REF!
Name åû: #REF!
Name davit: #REF!
Name Functional1: #REF!
Name Functional1: #REF!
Name ggg: #REF!
Name hav: #REF!
Name havelvac: #REF!
Name HAVELVAC10: #REF!
Name mas: #REF!
Name mass: #REF!
Name PANature: #REF!
Name PANature: #REF!
Name par_count: #REF!,#REF!,#REF!,#REF!,#REF!,#REF!,#REF!,#REF!,#REF!,#REF!,#REF!,#REF!,#REF!,#REF!,#REF!
Name par_qual: #REF!,#REF!,#REF!,#REF!,#REF!
Name par_time: #REF!,#REF!,#REF!,#REF!
Name par2.12s: #REF!
Name par2.4s: #REF!,#REF!,#REF!,#REF!,#REF!,#REF!,#REF!,#REF!,#REF!,#REF!,#REF!,#REF!,#REF!,#REF!,#REF!,#REF!
Name par2.5s: #REF!,#REF!
Name par2.6s: #REF!,#REF!,#REF!,#REF!
Name par2.7s: #REF!,#REF!
Name par2.9s: #REF!,#REF!,#REF!,#REF!,#REF!,#REF!,#REF!,#REF!,#REF!,#REF!,#REF!,#REF!,#REF!,#REF!,#REF!,#REF!
Name par4.10s: #REF!,#REF!
Name par4.11d: #REF!,#REF!,#REF!,#REF!,#REF!
Name par4.12d: #REF!
Name par4.13s: #REF!
Name par4.14: #REF!,#REF!,#REF!,#REF!,#REF!,#REF!
Name par4.15: #REF!,#REF!,#REF!
Name par4.16: #REF!,#REF!,#REF!
Name par4.17: #REF!,#REF!,#REF!,#REF!
Name par4.18d: #REF!,#REF!
Name par4.19s: #REF!

Sheet Հավելված N 1
G1: Հավելված N 1
G2: ՀՀ կառավարության 2026 թվականի
G3: ______________ ի ___Ն որոշման
B6: «ՀԱՅԱUՏԱՆԻ ՀԱՆՐԱՊԵՏՈՒԹՅԱՆ 2026 ԹՎԱԿԱՆԻ ՊԵՏԱԿԱՆ ԲՅՈՒՋԵԻ ՄԱUԻՆ» OՐԵՆՔԻ N 1 ՀԱՎԵԼՎԱԾԻ N 2 ԱՂՅՈՒՍԱԿՈՒՄ ԿԱՏԱՐՎՈՂ ՎԵՐԱԲԱՇԽՈՒՄԸ ԵՎ ՀԱՅԱՍՏԱՆԻ ՀԱՆՐԱՊԵՏՈՒԹՅԱՆ ԿԱՌԱՎԱՐՈՒԹՅԱՆ 2025 ԹՎԱԿԱՆԻ ԴԵԿՏԵՄԲԵՐԻ 25-Ի N 1910-Ն ՈՐՈՇՄԱՆ N 5 ՀԱՎԵԼՎԱԾԻ N 1 ԱՂՅՈՒՍԱԿՈՒՄ ԿԱՏԱՐՎՈՂ ՓՈՓՈԽՈՒԹՅՈՒՆՆԵՐԸ ԵՎ ԼՐԱՑՈՒՄՆԵՐԸ
I7: հազար դրամներով
B8: ԲԳԿ | C8: Ծրագրային դասիչը | E8: ԲԳԿ/Ծրագրի /միջոցառման անվանումը | F8: Ծրագրի նպատակը/Միջոցառման նկարագրությունը | G8: Վերջնական արդյունքի նկարագրությունը/Միջոցառման տեսակը | H8: Ցուցանիշների փոփոխությունը (ավելացումները նշված են դրական նշանով, իսկ նվազեցումները փակագծերում)
C9: Ծրագիր | D9: Միջոցառում | H9: Առաջին կիսամյակ | I9: Ինն ամիս | J9: Տարի
B10: ԸՆԴԱՄԵՆԸ | H10: =H12+H16 -> 0 | I10: =I12+I16 -> 0 | J10: =J12+J16 -> 0
B11: այդ թվում՝
B12: ՀՀ ԿՐԹՈՒԹՅԱՆ, ԳԻՏՈՒԹՅԱՆ, ՄՇԱԿՈՒՅԹԻ ԵՎ ՍՊՈՐՏԻ ՆԱԽԱՐԱՐՈՒԹՅՈՒՆ | H12: =H13 -> 0 | I12: =I13 -> 0 | J12: =J13 -> 0
C13: 1240 | E13: Ակադեմիական քաղաքի ստեղծում | F13: Որակյալ բարձրագույն կրթության և հետազոտության համար արդիական կրթական միջավայրի ապահովման կամպուսային կլաստերների համախումբ | G13: «ՀՀ կրթության մինչև 2030 թվականի զարգացման պետական ծրագիրը հաստատելու մասին» ՀՀ օրենքի համաձայն նախատեսված է ակադեմիական քաղաքի ստեղծում | H13: =H14+H15 -> 0 | I13: =I14+I15 -> 0 | J13: =J14+J15 -> 0
D14: 1240 - 11003 | E14: «Ակադեմիական քաղաք» ծրագրի շրջանակներում Արագածոտնի մարզի Աշտարակ համայնքում գույքերի գնահատման գործընթացների ապահովում | F14: «Ակադեմիական քաղաք» ծրագրի շրջանակներում Արագածոտնի մարզի Աշտարակ համայնքի Սասունիկ բնակավայրի վարչական սահմաններում գույքերի գնահատման գործընթացների իրականացում | G14: Ծառայությունների մատուցում | H14: 720 | I14: 720 | J14: 720
D15: 1240 - 32001 | E15: Ակադեմիական քաղաքի նախագծման, կառուցման և բովանդակային գործընթացների ապահովում | F15: Չորս ակադեմիական կլաստերներից բաղկացած քաղաքի համապատասխան ենթակառուցվածքների ապահովման նպատակով նախագծանախահաշվային փաստաթղթերի կազմում և շինարարական աշխատանքների իրականացում | G15: Այլ պետական կազմակերպությունների կողմից օգտագործվող ոչ ֆինանսական ակտիվների հետ գործառնություններ | H15: -720 | I15: -720 | J15: -720
B16: ՀՀ ԿԱՌԱՎԱՐՈՒԹՅՈՒՆ | H16: =H17 -> 0 | I16: =I17 -> 0 | J16: =J17 -> 0
C17: 1139 | E17: ՀՀ կառավարության պահուստային ֆոնդ | F17: Պետական բյուջեում չկանխատեսված, ինչպես նաեւ բյուջետային երաշխիքների ապահովման ծախսերի ֆինանսավորման ապահովում | G17: Պահուստային ֆոնդի կառավարման արդյունավետության և թափանցիկության ապահովում | H17: =H18+H19 -> 0 | I17: =I18+I19 -> 0 | J17: =J18+J19 -> 0
D18: 1139 - 11001 | E18: ՀՀ կառավարության պահուստային ֆոնդ | F18: ՀՀ պետական բյուջեում նախատեսված ելքերի լրացուցիչ ֆինանսավորման, պետական բյուջեում չկանխատեսված ելքերի, ինչպես նաև բյուջետային երաշխիքների ապահովման ելքերի ֆինանսավորման ապահովում | G18: Ծառայությունների մատուցում | H18: 720 | I18: 720 | J18: 720
D19: 1139 - 11001 | E19: ՀՀ կառավարության պահուստային ֆոնդ | F19: ՀՀ պետական բյուջեում նախատեսված ելքերի լրացուցիչ ֆինանսավորման, պետական բյուջեում չկանխատեսված ելքերի, ինչպես նաև բյուջետային երաշխիքների ապահովման ելքերի ֆինանսավորման ապահովում | G19: Ծառայությունների մատուցում | H19: -720 | I19: -720 | J19: -720

Sheet Հավելված N 2
H1: Հավելված N 2
H2: ՀՀ կառավարության 2026 թվականի
H3: ______________ ի N ___Ն որոշման
A7: ՀԱՅԱՍՏԱՆԻ ՀԱՆՐԱՊԵՏՈՒԹՅԱՆ ԿԱՌԱՎԱՐՈՒԹՅԱՆ 2025 ԹՎԱԿԱՆԻ ԴԵԿՏԵՄԲԵՐԻ 25-Ի N 1910-Ն ՈՐՈՇՄԱՆ N 3 ԵՎ N 4 ՀԱՎԵԼՎԱԾՆԵՐՈՒՄ ԿԱՏԱՐՎՈՂ ՓՈՓՈԽՈՒԹՅՈՒՆՆԵՐԸ ԵՎ ԼՐԱՑՈՒՄՆԵՐԸ
I8: հազար դրամներով
A9: Գործառական դասիչը | D9: Ծրագրային դասիչը | F9: Բյուջետային հատկացումների գլխավոր կարգադրիչների, ծրագրերի, միջոցառումների և միջոցառումները կատարող պետական մարմինների անվանումները | G9: Ցուցանիշների փոփոխությունը (ավելացումները նշված են դրական նշանով, իսկ նվազեցումները փակագծերում)
A10: Բաժին | B10: Խումբ | C10: Դաս | D10: Ծրագիր | E10: Միջոցառում | G10: Առաջին կիսամյակ | H10: Ինն ամիս | I10: Տարի
F11: ԸՆԴԱՄԵՆԸ | G11: =G13 -> 0 | H11: =H13 -> 0 | I11: =I13 -> 0
F12: այդ թվում՝
F13: ՀՀ ԿՐԹՈՒԹՅԱՆ, ԳԻՏՈՒԹՅԱՆ, ՄՇԱԿՈՒՅԹԻ ԵՎ ՍՊՈՐՏԻ ՆԱԽԱՐԱՐՈՒԹՅՈՒՆ | G13: =G14 -> 0 | H13: =H14 -> 0 | I13: =I14 -> 0
A14: 01 | F14: ԸՆԴՀԱՆՈՒՐ ԲՆՈՒՅԹԻ ՀԱՆՐԱՅԻՆ ԾԱՌԱՅՈՒԹՅՈՒՆՆԵՐ | G14: =G16 -> 0 | H14: =H16 -> 0 | I14: =I16 -> 0
F15: այդ թվում`
B16: 04 | F16: Ընդհանուր բնույթի հետազոտական աշխատանք | G16: =G18 -> 0 | H16: =H18 -> 0 | I16: =I18 -> 0
F17: այդ թվում`
C18: 01 | F18: Ընդհանուր բնույթի հետազոտական աշխատանք | G18: =G20 -> 0 | H18: =H20 -> 0 | I18: =I20 -> 0
F19: այդ թվում`
F20: ՀՀ կրթության, գիտության, մշակույթի և սպորտի նախարարություն | G20: =G22 -> 0 | H20: =H22 -> 0 | I20: =I22 -> 0
F21: այդ թվում`
D22: 1240 | E22: Ակադեմիական քաղաքի ստեղծում | G22: =G24+G33 -> 0 | H22: =H24+H33 -> 0 | I22: =I24+I33 -> 0
F23: այդ թվում`
E24: 11003 | F24: «Ակադեմիական քաղաք» ծրագրի շրջանակներում Արագածոտնի մարզի Աշտարակ համայնքում գույքերի գնահատման գործընթացների ապահովում | G24: =G26 -> 720 | H24: =H26 -> 720 | I24: =I26 -> 720
F25: այդ թվում` ըստ կատարողների
F26: ՀՀ Արագածոտնի մարզպետի աշխատակազմ | G26: =G28 -> 720 | H26: =H28 -> 720 | I26: =I28 -> 720
F27: այդ թվում` բյուջետային ծախսերի տնտեսագիտական դասակարգման հոդվածներ
F28: ԸՆԴԱՄԵՆԸ ԾԱԽՍԵՐ | G28: =G29 -> 720 | H28: =H29 -> 720 | I28: =I29 -> 720
F29: ԸՆԹԱՑԻԿ ԾԱԽՍԵՐ | G29: =G30 -> 720 | H29: =H30 -> 720 | I29: =I30 -> 720
F30: ԾԱՌԱՅՈՒԹՅՈՒՆՆԵՐԻ ԵՎ ԱՊՐԱՆՔՆԵՐԻ ՁԵՌՔԲԵՐՈՒՄ | G30: =G31 -> 720 | H30: =H31 -> 720 | I30: =I31 -> 720
F31: Այլ մասնագիտական ծառայությունների ձեռքբերում | G31: =G32 -> 720 | H31: =H32 -> 720 | I31: =I32 -> 720
F32: - Մասնագիտական ծառայություններ | G32: ='Հավելված N 1'!H14 -> 720 | H32: ='Հավելված N 1'!I14 -> 720 | I32: ='Հավելված N 1'!J14 -> 720
E33: 32001 | F33: Ակադեմիական քաղաքի նախագծման, կառուցման և բովանդակային գործընթացների ապահովում | G33: =G35 -> -720 | H33: =H35 -> -720 | I33: =I35 -> -720
F34: այդ թվում` ըստ կատարողների
F35: ՀՀ կրթության, գիտության, մշակույթի և սպորտի նախարարության բարձրագույն կրթության և գիտության կոմիտե | G35: =G37 -> -720 | H35: =H37 -> -720 | I35: =I37 -> -720
F36: այդ թվում` բյուջետային ծախսերի տնտեսագիտական դասակարգման հոդվածներ
F37: ԸՆԴԱՄԵՆԸ ԾԱԽՍԵՐ | G37: =G38 -> -720 | H37: =H38 -> -720 | I37: =I38 -> -720
F38: ՈՉ ՖԻՆԱՆՍԱԿԱՆ ԱԿՏԻՎՆԵՐԻ ԳԾՈՎ ԾԱԽՍԵՐ | G38: =G39 -> -720 | H38: =H39 -> -720 | I38: =I39 -> -720
F39: ՀԻՄՆԱԿԱՆ ՄԻՋՈՑՆԵՐ | G39: =G40 -> -720 | H39: =H40 -> -720 | I39: =I40 -> -720
F40: ԱՅԼ ՀԻՄՆԱԿԱՆ ՄԻՋՈՑՆԵՐ | G40: =G41 -> -720 | H40: =H41 -> -720 | I40: =I41 -> -720
F41: - Նախագծահետազոտական ծախսեր | G41: ='Հավելված N 1'!H15 -> -720 | H41: ='Հավելված N 1'!I15 -> -720 | I41: ='Հավելված N 1'!J15 -> -720
F42: ՀՀ ԿԱՌԱՎԱՐՈՒԹՅՈՒՆ | G42: =G43 -> 0 | H42: =H43 -> 0 | I42: =I43 -> 0
A43: 11 | F43: ՀԻՄՆԱԿԱՆ ԲԱԺԻՆՆԵՐԻՆ ՉԴԱՍՎՈՂ ՊԱՀՈՒՍՏԱՅԻՆ ՖՈՆԴԵՐ | G43: =G45 -> 0 | H43: =H45 -> 0 | I43: =I45 -> 0
F44: այդ թվում`
B45: 01 | F45: ՀՀ կառավարության և համայնքների պահուստային ֆոնդ | G45: =G47 -> 0 | H45: =H47 -> 0 | I45: =I47 -> 0
F46: այդ թվում`
C47: 01 | F47: ՀՀ կառավարության պահուստային ֆոնդ | G47: =G49 -> 0 | H47: =H49 -> 0 | I47: =I49 -> 0
F48: այդ թվում`
F49: ՀՀ կառավարություն | G49: =G51 -> 0 | H49: =H51 -> 0 | I49: =I51 -> 0
F50: այդ թվում`
D51: 1139 | E51: ՀՀ կառավարության պահուստային ֆոնդ | G51: =G53+G61 -> 0 | H51: =H53+H61 -> 0 | I51: =I53+I61 -> 0
F52: այդ թվում`
E53: 11001 | F53: ՀՀ կառավարության պահուստային ֆոնդ | G53: =G55 -> 720 | H53: =H55 -> 720 | I53: =I55 -> 720
F54: այդ թվում` ըստ կատարողների
F55: ՀՀ կառավարություն | G55: =G57 -> 720 | H55: =H57 -> 720 | I55: =I57 -> 720
F56: այդ թվում՝ բյուջետային ծախսերի տնտեսագիտական դասակարգման հոդվածներ
F57: ԸՆԴԱՄԵՆԸ ԾԱԽՍԵՐ | G57: =G58 -> 720 | H57: =H58 -> 720 | I57: =I58 -> 720
F58: ԸՆԹԱՑԻԿ ԾԱԽՍԵՐ | G58: =G59 -> 720 | H58: =H59 -> 720 | I58: =I59 -> 720
F59: ԱՅԼ ԾԱԽՍԵՐ | G59: =G60 -> 720 | H59: =H60 -> 720 | I59: =I60 -> 720
F60: - Պահուստային միջոցներ | G60: ='Հավելված N 1'!H18 -> 720 | H60: ='Հավելված N 1'!I18 -> 720 | I60: ='Հավելված N 1'!J18 -> 720
E61: 11001 | F61: ՀՀ կառավարության պահուստային ֆոնդ | G61: =G63 -> -720 | H61: =H63 -> -720 | I61: =I63 -> -720
F62: այդ թվում` ըստ կատարողների
F63: ՀՀ կառավարություն | G63: =G65 -> -720 | H63: =H65 -> -720 | I63: =I65 -> -720
F64: այդ թվում՝ բյուջետային ծախսերի տնտեսագիտական դասակարգման հոդվածներ
F65: ԸՆԴԱՄԵՆԸ ԾԱԽՍԵՐ | G65: =G66 -> -720 | H65: =H66 -> -720 | I65: =I66 -> -720
F66: ԸՆԹԱՑԻԿ ԾԱԽՍԵՐ | G66: =G67 -> -720 | H66: =H67 -> -720 | I66: =I67 -> -720
F67: ԱՅԼ ԾԱԽՍԵՐ | G67: =G68 -> -720 | H67: =H68 -> -720 | I67: =I68 -> -720
F68: - Պահուստային միջոցներ | G68: ='Հավելված N 1'!H19 -> -720 | H68: ='Հավելված N 1'!I19 -> -720 | I68: ='Հավելված N 1'!J19 -> -720

Sheet Հավելված N 3
G1: Հավելված N 3
G2: ՀՀ կառավարության 2026 թվականի
G3: ______________ ի N ___Ն որոշման
A5: «ՀԱՅԱUՏԱՆԻ ՀԱՆՐԱՊԵՏՈՒԹՅԱՆ 2026 ԹՎԱԿԱՆԻ ՊԵՏԱԿԱՆ ԲՅՈՒՋԵԻ ՄԱUԻՆ» ՀԱՅԱUՏԱՆԻ ՀԱՆՐԱՊԵՏՈՒԹՅԱՆ OՐԵՆՔԻ N 1 ՀԱՎԵԼՎԱԾԻ N 3 ԱՂՅՈՒՍԱԿՈՒՄ ԿԱՏԱՐՎՈՂ ՓՈՓՈԽՈՒԹՅՈՒՆԸ
G8: հազար դրամներով
A9: Ծրագրային դասիչ | C9: Բյուջետային գլխավոր կարգադրիչների, ծրագրերի, միջոցառումների և ուղղությունների անվանումները | D9: Ընդամենը | E9: Ցուցանիշների փոփոխությունը (նվազեցումները նշված են փակագծերում)
A10: Ծրագիր | B10: Միջոցառում | E10: Կառուցման աշխատանքներ | F10: Վերակառուցման, վերանորոգման և վերականգնման աշխատանքներ | G10: Նախագծահե- տազոտական, գեոդեզիա- քարտեզագրական աշխատանքներ | H10: Ոչ ֆինանսական այլ ակտիվների ձեռքբերում
C11: ԸՆԴԱՄԵՆԸ | D11: =SUM(E11:H11) -> -720 | E11: =E13 -> 0 | F11: =F13 -> 0 | G11: =G13 -> -720 | H11: =H13 -> 0
C12: այդ թվում՝
C13: ՀՀ ԿՐԹՈՒԹՅԱՆ, ԳԻՏՈՒԹՅԱՆ, ՄՇԱԿՈՒՅԹԻ ԵՎ ՍՊՈՐՏԻ ՆԱԽԱՐԱՐՈՒԹՅՈՒՆ | D13: =SUM(D15) -> -720 | E13: =E15 -> 0 | F13: =F15 -> 0 | G13: =G15 -> -720 | H13: =H15 -> 0
C14: այդ թվում`
A15: 1240 | B15: 32001 | C15: Ակադեմիական քաղաքի նախագծման և կառուցման գործընթացի ապահովում | D15: =SUM(E15:H15) -> -720 | E15: 0 | F15: 0 | G15: ='Հավելված N 1'!J15 -> -720 | H15: 0

Sheet Հավելված N 4
E1: Հավելված N 4
E2: ՀՀ կառավարության 2026 թվականի
E3: ______________ ի ___Ն որոշման
B6: ՀԱՅԱՍՏԱՆԻ ՀԱՆՐԱՊԵՏՈՒԹՅԱՆ ԿԱՌԱՎԱՐՈՒԹՅԱՆ 2025 ԹՎԱԿԱՆԻ ԴԵԿՏԵՄԲԵՐԻ 25-Ի N 1910-Ն ՈՐՈՇՄԱՆ N 5 ՀԱՎԵԼՎԱԾԻ N 2 ԱՂՅՈՒՍԱԿՈՒՄ ԿԱՏԱՐՎՈՂ ՓՈՓՈԽՈՒԹՅՈՒՆԸ
F7: հազար դրամներով
B8: Ծրագրային դասիչ | D8: Բյուջետային գլխավոր կարգադրիչների, ծրագրերի, միջոցառումների և ուղղությունների անվանումները | E8: Ցուցանիշների փոփոխությունը (նվազեցումները նշված են փակագծերում)
B9: Ծրագիր | C9: Միջոցառում | E9: Առաջին կիսամյակ | F9: Ինն ամիս | G9: Տարի
D10: ԸՆԴԱՄԵՆԸ | E10: =E12 -> -720 | F10: =F12 -> -720 | G10: =G12 -> -720
D11: այդ թվում`
D12: ՀՀ ԿՐԹՈՒԹՅԱՆ, ԳԻՏՈՒԹՅԱՆ, ՄՇԱԿՈՒՅԹԻ ԵՎ ՍՊՈՐՏԻ ՆԱԽԱՐԱՐՈՒԹՅՈՒՆ | E12: =E14 -> -720 | F12: =F14 -> -720 | G12: =G14 -> -720
D13: այդ թվում՝
B14: 1240 | C14: 32001 | D14: Ակադեմիական քաղաքի նախագծման և կառուցման գործընթացի ապահովում | E14: =E16 -> -720 | F14: =F16 -> -720 | G14: =G16 -> -720
D15: այդ թվում` ըստ կատարողների
D16: ՀՀ կրթության, գիտության, մշակույթի և սպորտի նախարարության բարձրագույն կրթության և գիտության կոմիտե | E16: ='Հավելված N 1'!H15 -> -720 | F16: ='Հավելված N 1'!I15 -> -720 | G16: ='Հավելված N 1'!J15 -> -720

Sheet Հավելված N 5
K1: Հավելված N 5
K2: ՀՀ կառավարության 2026 թվականի
K3: ______________ ի ___Ն որոշման
B6: ՀԱՅԱՍՏԱՆԻ ՀԱՆՐԱՊԵՏՈՒԹՅԱՆ ԿԱՌԱՎԱՐՈՒԹՅԱՆ 2025 ԹՎԱԿԱՆԻ ԴԵԿՏԵՄԲԵՐԻ 25-Ի N 1910-Ն ՈՐՈՇՄԱՆ N 9 ՀԱՎԵԼՎԱԾՈՒՄ ԿԱՏԱՐՎՈՂ ՓՈՓՈԽՈՒԹՅՈՒՆՆԵՐԸ ԵՎ ԼՐԱՑՈՒՄՆԵՐԸ
B8: ԲԳԿ | C8: Ծրագիր | E8: Միջոցառում | I8: Իրականացնողը/ ակտիվն օգտագործողը/ շահառուի ընտրության չափորոշիչը | J8: Արդյունքային չափորոշիչը | K8: Ցուցանիշների փոփոխությունը (ավելացումները նշված են դրական նշանով, իսկ նվազեցումները՝ փակագծերում)
C9: Դասիչը | D9: Անվանումը | E9: Դասիչը | F9: Անվանումը | G9: Նկարագրությունը | H9: Տեսակը | K9: Առաջին կիսամյակ | L9: Ինն ամիս | M9: Տարի
B10: ԸՆԴԱՄԵՆԸ | K10: =K12+K22 -> 0 | L10: =L12+L22 -> 0 | M10: =+M12 -> 0
B11: այդ թվում՝
B12: ՀՀ կրթության, գիտության, մշակույթի և սպորտի նախարարություն | K12: =K13 -> 0 | L12: =L13 -> 0 | M12: =M13 -> 0
C13: 1240 | D13: Ակադեմիական քաղաքի ստեղծում | K13: =K14+K18 -> 0 | L13: =L14+L18 -> 0 | M13: =M14+M18 -> 0
E14: 1240 - 11003 | F14: «Ակադեմիական քաղաք» ծրագրի շրջանակներում Արագածոտնի մարզի Աշտարակ համայնքում գույքերի գնահատման գործընթացների ապահովում | K14: ='Հավելված N 1'!H14 -> 720 | L14: ='Հավելված N 1'!I14 -> 720 | M14: ='Հավելված N 1'!J14 -> 720
G15: «Ակադեմիական քաղաք» ծրագրի շրջանակներում Արագածոտնի մարզի Աշտարակ համայնքի Սասունիկ բնակավայրի վարչական սահմաններում գույքերի գնահատման գործընթացների իրականացում
H16: Ծառայությունների մատուցում
I17: Ծառայությունը մատուցողի անվանումը` Մասնագիտացված կազմակերպություն
E18: 1240 - 32001 | F18: Ակադեմիական քաղաքի նախագծման, կառուցման և բովանդակային գործընթացների ապահովում | K18: ='Հավելված N 1'!H15 -> -720 | L18: ='Հավելված N 1'!I15 -> -720 | M18: ='Հավելված N 1'!J15 -> -720
G19: Չորս ակադեմիական կլաստերներից բաղկացած քաղաքի համապատասխան ենթակառուցվածքների ապահովման նպատակով նախագծանախահաշվային փաստաթղթերի կազմում և շինարարական աշխատանքների իրականացում
H20: Այլ պետական կազմակերպությունների կողմից օգտագործվող ոչ ֆինանսական ակտիվների հետ գործառնություններ
I21: Ակտիվն օգտագործող կազմակերպության անվանումը` Գնումների մասին ՀՀ օրենքի համաձայն ընտրված կազմակերպություններ, մրցույթով ընտրված կազմակերպություններ, մասնագիտացված կազմակերպություններ
B22: ՀՀ կառավարություն | K22: =K23 -> 0 | L22: =L23 -> 0 | M22: =M23 -> 0
C23: 1139 | D23: ՀՀ կառավարության պահուստային ֆոնդ | K23: =K24+K28 -> 0 | L23: =L24+L28 -> 0 | M23: =M24+M28 -> 0
E24: 1139 - 11001 | F24: ՀՀ կառավարության պահուստային ֆոնդ | K24: ='Հավելված N 1'!H18 -> 720 | L24: ='Հավելված N 1'!I18 -> 720 | M24: ='Հավելված N 1'!J18 -> 720
G25: ՀՀ պետական բյուջեում նախատեսված ելքերի լրացուցիչ ֆինանսավորման, պետական բյուջեում չկանխատեսված ելքերի, ինչպես նաև բյուջետային երաշխիքների ապահովման ելքերի ֆինանսավորման ապահովում
H26: Ծառայությունների մատուցում
I27: Ծառայությունը մատուցողի անվանումը` ՀՀ կառավարություն
E28: 1139 - 11001 | F28: ՀՀ կառավարության պահուստային ֆոնդ | K28: ='Հավելված N 1'!H19 -> -720 | L28: ='Հավելված N 1'!I19 -> -720 | M28: ='Հավելված N 1'!J19 -> -720
G29: ՀՀ պետական բյուջեում նախատեսված ելքերի լրացուցիչ ֆինանսավորման, պետական բյուջեում չկանխատեսված ելքերի, ինչպես նաև բյուջետային երաշխիքների ապահովման ելքերի ֆինանսավորման ապահովում
H30: Ծառայությունների մատուցում
I31: Ծառայությունը մատուցողի անվանումը` ՀՀ կառավարություն

Sheet Հավելված N 6
L1: Հավելված N 6
L2: ՀՀ կառավարության 2026 թվականի
L3: ______________ ի ___Ն որոշման
B6: ՀԱՅԱՍՏԱՆԻ ՀԱՆՐԱՊԵՏՈՒԹՅԱՆ ԿԱՌԱՎԱՐՈՒԹՅԱՆ 2025 ԹՎԱԿԱՆԻ ԴԵԿՏԵՄԲԵՐԻ 25-Ի N 1910-Ն ՈՐՈՇՄԱՆ N 9.1 ՀԱՎԵԼՎԱԾՈՒՄ ԿԱՏԱՐՎՈՂ ՓՈՓՈԽՈՒԹՅՈՒՆՆԵՐԸ ԵՎ ԼՐԱՑՈՒՄՆԵՐԸ
B9: ԲՍԿ | C9: Ծրագիր | E9: Միջոցառում | I9: Իրականացնողը/ ակտիվն օգտագործողը/ շահառուի ընտրության չափորոշիչը | J9: Արդյունքային չափորոշիչը | K9: Ցուցանիշների փոփոխությունը (ավելացումները նշված են դրական նշանով, իսկ նվազեցումները՝ փակագծերում)
C10: Դասիչը | D10: Անվանումը | E10: Դասիչը | F10: Անվանումը | G10: Նկարագրությունը | H10: Տեսակը | K10: Առաջին կիսամյակ | L10: Ինն ամիս | M10: Տարի
B11: ԸՆԴԱՄԵՆԸ | K11: =K13+K19+K25 -> 0 | L11: =L13+L19+L25 -> 0 | M11: =M13+M19+M25 -> 0
B12: այդ թվում՝
B13: ՀՀ Արագածոտնի մարզպետի աշխատակազմ | K13: =K14 -> 720 | L13: =L14 -> 720 | M13: =M14 -> 720
C14: 1240 | D14: Ակադեմիական քաղաքի ստեղծում | K14: =K15 -> 720 | L14: =L15 -> 720 | M14: =M15 -> 720
E15: 1240 - 11003 | F15: «Ակադեմիական քաղաք» ծրագրի շրջանակներում Արագածոտնի մարզի Աշտարակ համայնքում գույքերի գնահատման գործընթացների ապահովում | K15: ='Հավելված N 1'!H14 -> 720 | L15: ='Հավելված N 1'!I14 -> 720 | M15: ='Հավելված N 1'!J14 -> 720
G16: «Ակադեմիական քաղաք» ծրագրի շրջանակներում Արագածոտնի մարզի Աշտարակ համայնքի Սասունիկ բնակավայրի վարչական սահմաններում գույքերի գնահատման գործընթացների իրականացում
H17: Ծառայությունների մատուցում
I18: Ծառայությունը մատուցողի անվանումը` Մասնագիտացված կազմակերպություն
B19: ՀՀ կրթության, գիտության, մշակույթի և սպորտի նախարարության բարձրագույն կրթության և գիտության կոմիտե | K19: =K20 -> -720 | L19: =L20 -> -720 | M19: =M20 -> -720
C20: 1240 | D20: Ակադեմիական քաղաքի ստեղծում | K20: =K21 -> -720 | L20: =L21 -> -720 | M20: =M21 -> -720
E21: 1240 - 32001 | F21: Ակադեմիական քաղաքի նախագծման, կառուցման և բովանդակային գործընթացների ապահովում | K21: ='Հավելված N 1'!H15 -> -720 | L21: ='Հավելված N 1'!I15 -> -720 | M21: ='Հավելված N 1'!J15 -> -720
G22: Չորս ակադեմիական կլաստերներից բաղկացած քաղաքի համապատասխան ենթակառուցվածքների ապահովման նպատակով նախագծանախահաշվային փաստաթղթերի կազմում և շինարարական աշխատանքների իրականացում
H23: Այլ պետական կազմակերպությունների կողմից օգտագործվող ոչ ֆինանսական ակտիվների հետ գործառնություններ
I24: Ակտիվն օգտագործող կազմակերպության անվանումը` Գնումների մասին ՀՀ օրենքի համաձայն ընտրված կազմակերպություններ, մրցույթով ընտրված կազմակերպություններ, մասնագիտացված կազմակերպություններ
B25: ՀՀ կառավարություն | K25: =K26 -> 0 | L25: =L26 -> 0 | M25: =M26 -> 0
C26: 1139 | D26: ՀՀ կառավարության պահուստային ֆոնդ | K26: =K27+K31 -> 0 | L26: =L27+L31 -> 0 | M26: =M27+M31 -> 0
E27: 1139 - 11001 | F27: ՀՀ կառավարության պահուստային ֆոնդ | K27: ='Հավելված N 1'!H18 -> 720 | L27: ='Հավելված N 1'!I18 -> 720 | M27: ='Հավելված N 1'!J18 -> 720
G28: ՀՀ պետական բյուջեում նախատեսված ելքերի լրացուցիչ ֆինանսավորման, պետական բյուջեում չկանխատեսված ելքերի, ինչպես նաև բյուջետային երաշխիքների ապահովման ելքերի ֆինանսավորման ապահովում
H29: Ծառայությունների մատուցում
I30: Ծառայությունը մատուցողի անվանումը` ՀՀ կառավարություն
E31: 1139 - 11001 | F31: ՀՀ կառավարության պահուստային ֆոնդ | K31: ='Հավելված N 1'!H19 -> -720 | L31: ='Հավելված N 1'!I19 -> -720 | M31: ='Հավելված N 1'!J19 -> -720
G32: ՀՀ պետական բյուջեում նախատեսված ելքերի լրացուցիչ ֆինանսավորման, պետական բյուջեում չկանխատեսված ելքերի, ինչպես նաև բյուջետային երաշխիքների ապահովման ելքերի ֆինանսավորման ապահովում
H33: Ծառայությունների մատուցում
I34: Ծառայությունը մատուցողի անվանումը` ՀՀ կառավարություն

Sheet Հավելված N 7
G2: Հավելված N 7
G3: ՀՀ կառավարության 2026 թվականի
G4: ______________ ի ___Ն որոշման
A7: ՀԱՅԱՍՏԱՆԻ ՀԱՆՐԱՊԵՏՈՒԹՅԱՆ ԿԱՌԱՎԱՐՈՒԹՅԱՆ 2025 ԹՎԱԿԱՆԻ ԴԵԿՏԵՄԲԵՐԻ 25-Ի N 1910-Ն N 10 ՀԱՎԵԼՎԱԾՈՒՄ ԿԱՏԱՐՎՈՂ ՓՈՓՈԽՈՒԹՅՈՒՆԸ
A9: Կոդը | B9: Անվանումը | E9: Գնման ձևը | F9: Չափման միավորը | G9: Ցուցանիշների փոփոխությունը (նվազեցումները նշված են փակագծերում)
G10: Միավորի գինը | H10: Քանակը | I10: Գումարը (հազար դրամ)
A11: ՀՀ Արագածոտնի մարզպետի աշխատակազմ | I11: =I12 -> 720
A12: Բաժին N 01 | B12: Խումբ N 04 | C12: Դաս N 01 | D12: Ընդհանուր բնույթի հետազոտական աշխատանք | I12: =I13 -> 720
A13: 1240 - 11003 | B13: «Ակադեմիական քաղաք» ծրագրի շրջանակներում Արագածոտնի մարզի Աշտարակ համայնքում գույքերի գնահատման գործընթացների ապահովում | I13: =I14 -> 720
B14: ՄԱՍ III. ԾԱՌԱՅՈՒԹՅՈՒՆՆԵՐ | I14: =I15 -> 720
A15: 70331800 | B15: անշարժ գույքի գնահատման ծառայություններ | E15: ՄԱ | F15: դրամ | G15: 720000 | H15: 1 | I15: =G15*H15/1000 -> 720
A16: ՀՀ կրթության, գիտության, մշակույթի և սպորտի նախարարության բարձրագույն կրթության և գիտության կոմիտե | I16: =+I17 -> -720
A17: Բաժին N 01 | B17: Խումբ N 04 | C17: Դաս N 01 | D17: Ընդհանուր բնույթի հետազոտական աշխատանք | I17: =I18 -> -720
A18: 1240 32001 | B18: Ակադեմիական քաղաքի նախագծման, կառուցման և բովանդակային գործընթացների ապահովում | I18: =I19 -> -720
B19: ՄԱՍ III. ԾԱՌԱՅՈՒԹՅՈՒՆՆԵՐ | I19: =I20 -> -720
A20: 71241200/2 | B20: նախագծերի պատրաստում, ծախսերի գնահատում | E20: ՄԱ | F20: դրամ | I20: ='Հավելված N 1'!J19 -> -720
