Workbook
Name _1__հայտարարվել_է_նախ_մրցույթ: #REF!
Name _1__հայտարարվել_է_նախ_մրցույթ: #REF!
Name _tab10: #REF!
Name _tab10: #REF!
Name _tab11: #REF!
Name _tab11: #REF!
Name _tab12: #REF!
Name _tab12: #REF!
Name _tab13: #REF!
Name _tab13: #REF!
Name _tab14: #REF!
Name _tab14: #REF!
Name _tab15: #REF!
Name _tab15: #REF!
Name _tab16: #REF!
Name _tab16: #REF!
Name _tab17: #REF!
Name _tab17: #REF!
Name _tab18: #REF!
Name _tab18: #REF!
Name _tab19: #REF!
Name _tab19: #REF!
Name _tab20: #REF!
Name _tab20: #REF!
Name _tab21: #REF!
Name _tab21: #REF!
Name _tab22: #REF!
Name _tab22: #REF!
Name _tab23: #REF!
Name _tab23: #REF!
Name _tab24: #REF!
Name _tab24: #REF!
Name _tab5: #REF!
Name _tab5: #REF!
Name _tab6: #REF!
Name _tab6: #REF!
Name _tab7: #REF!
Name _tab7: #REF!
Name _tab8: #REF!
Name _tab8: #REF!
Name _tab9: #REF!
Name _tab9: #REF!
Name AgencyCode: #REF!
Name AgencyCode: #REF!
Name AgencyName: #REF!
Name AgencyName: #REF!
Name åû: #REF!
Name åû: #REF!
Name davit: #REF!
Name davit: #REF!
Name Functional1: #REF!
Name Functional1: #REF!
Name ggg: #REF!
Name ggg: #REF!
Name hav: #REF!
Name hav: #REF!
Name havelvac: #REF!
Name havelvac: #REF!
Name mas: #REF!
Name mas: #REF!

Sheet 1
C1: Հավելված N 1
C2: ՀՀ կառավարության 2026 թվականի
C3: ______________ ի ___Ն որոշման
A5: «ՀԱՅԱՍՏԱՆԻ ՀԱՆՐԱՊԵՏՈՒԹՅԱՆ 2026 ԹՎԱԿԱՆԻ ՊԵՏԱԿԱՆ ԲՅՈՒՋԵԻ ՄԱՍԻՆ» ՀԱՅԱՍՏԱՆԻ ՀԱՆՐԱՊԵՏՈՒԹՅԱՆ ՕՐԵՆՔԻ 2-ՐԴ ՀՈԴՎԱԾԻ ԱՂՅՈՒՍԱԿԻ ՑՈՒՑԱՆԻՇՆԵՐՈՒՄ ԿԱՏԱՐՎՈՂ ՓՈՓՈԽՈՒԹՅՈՒՆՆԵՐԸ
D6: հազ. դրամներով
D7: Ցուցանիշների փոփոխությունը (ավելացումները նշված են դրական նշանով)
A8: Եկամուտների գծով | D8: =+'2'!F11 -> 20000000
A9: Ծախսերի գծով | D9: =+'3'!I9 -> 20000000
A10: Դեֆիցիտը (պակասուրդը) | D10: =+D9-D8 -> 0

Sheet 2
C1: Հավելված N 2
C2: ՀՀ կառավարության 2026 թվականի
C3: ______________ ի ___Ն որոշման
A6: «ՀԱՅԱՍՏԱՆԻ ՀԱՆՐԱՊԵՏՈՒԹՅԱՆ 2026 ԹՎԱԿԱՆԻ ՊԵՏԱԿԱՆ ԲՅՈՒՋԵԻ ՄԱՍԻՆ» ՀԱՅԱՍՏԱՆԻ ՀԱՆՐԱՊԵՏՈՒԹՅԱՆ ՕՐԵՆՔԻ 6-ՐԴ ՀՈԴՎԱԾԻ ԱՂՅՈՒՍԱԿՈՒՄ ԵՎ ՀԱՅԱՍՏԱՆԻ ՀԱՆՐԱՊԵՏՈՒԹՅԱՆ ԿԱՌԱՎԱՐՈՒԹՅԱՆ 2025 ԹՎԱԿԱՆԻ ԴԵԿՏԵՄԲԵՐԻ 25-Ի N 1910-Ն ՈՐՈՇՄԱՆ N 2 ՀԱՎԵԼՎԱԾԻ ԱՂՅՈՒՍԱԿՈՒՄ ԿԱՏԱՐՎՈՂ ՓՈՓՈԽՈՒԹՅՈՒՆՆԵՐԸ
A9: Եկամտատեսակ | D9: Ցուցանիշների փոփոխությունը (ավելացումները նշված են դրական նշանով)
D10: Առաջին կիսամյակ | E10: Ինն ամիս | F10: Տարի
A11: ՊԵՏԱԿԱՆ ԲՅՈՒՋԵԻ ԵԿԱՄՈՒՏՆԵՐ | D11: =+D12 -> 20000000 | E11: =+E12 -> 20000000 | F11: =+F12 -> 20000000
A12: Ընդամենը | D12: =+D14 -> 20000000 | E12: =+E14 -> 20000000 | F12: =+F14 -> 20000000
A13: այդ թվում՝
A14: Հարկային եկամուտներ և պետական տուրքեր | D14: 20000000 | E14: 20000000 | F14: 20000000

Sheet 3
I1: Հավելված N 3
E2: ՀՀ կառավարության 2026 թվականի
E3: -----------------ի N -----------Ն որոշման
A5: «ՀԱՅԱՍՏԱՆԻ ՀԱՆՐԱՊԵՏՈՒԹՅԱՆ 2026 ԹՎԱԿԱՆԻ ՊԵՏԱԿԱՆ ԲՅՈՒՋԵԻ ՄԱՍԻՆ» ՕՐԵՆՔԻ N 1 ՀԱՎԵԼՎԱԾԻ N 2 ԱՂՅՈՒՍԱԿՈՒՄ ԵՎ ՀԱՅԱՍՏԱՆԻ ՀԱՆՐԱՊԵՏՈՒԹՅԱՆ ԿԱՌԱՎԱՐՈՒԹՅԱՆ 2025 ԹՎԱԿԱՆԻ ԴԵԿՏԵՄԲԵՐԻ 25-Ի N 1910-Ն ՈՐՈՇՄԱՆ N 5 ՀԱՎԵԼՎԱԾԻ N 1 ԱՂՅՈՒՍԱԿՈՒՄ ԿԱՏԱՐՎՈՂ ՓՈՓՈԽՈՒԹՅՈՒՆՆԵՐԸ
I6: հազար դրամներով
A7: ԲԳԿ | B7: Ծրագրային դասիչը | D7: ԲԳԿ/Ծրագրի /միջոցառման անվանումը | E7: Ծրագրի նպատակը/Միջոցառման նկարագրույունը | F7: Վերջնական արդյունքի նկարագրությունը/Միջոցառման տեսակը | G7: Ցուցանիշների փոփոխությունները ավելացումները նշված են դրական նշանով, իսկ նվազեցումները՝ փակագծերում
B8: Ծրագիր | C8: Միջոցառում | G8: Առաջին կիսամյակ | H8: Ինն ամիս | I8: Տարի
A9: ԸՆԴԱՄԵՆԸ | G9: =+G10 -> 20000000 | H9: =+H10 -> 20000000 | I9: =+I10 -> 20000000
A10: ՀՀ աշխատանքի և սոցիալական հարցերի նախարարություն | G10: =G11+G15 -> 20000000 | H10: =H11+H15 -> 20000000 | I10: =I11+I15 -> 20000000
B11: 1102 | D11: Կենսաթոշակային ապահովություն | E11: Կենսաթոշակի իրավունքի իրացում | F11: Կենսաթոշակների նշանակման և վճարման գործընթացի ապահովում | G11: =G12+G13+G14 -> 12093200 | H11: =H12+H13+H14 -> 12093200 | I11: =I12+I13+I14 -> 12093200
C12: 1102 - 12001 | D12: Սպայական անձնակազմի և նրանց ընտանիքների անդամների կենսաթոշակներ | E12: Սպայական անձնակազմի զինծառայողներին երկարամյա ծառայության, հաշմանդամության և զինծառայողի մահվան դեպքում նրա ընտանիքի անդամներին կերակրողին կորցնելու դեպքում զինվորական կենսաթոշակների տրամադրում | F12: Տրանսֆերտների տրամադրում | G12: 882230 | H12: 882230 | I12: 882230
C13: 1102 - 12002 | D13: Շարքային զինծառայողների և նրանց ընտանիքների անդամների զինվորական կենսաթոշակներ | E13: ԽՍՀՄ զինված ուժերի շարքային կազմի զինծառայողներին հաշմանդամության, նրանց մահվան դեպքում ընտանիքների անդամներին կերակրողին կորցնելու դեպքում զինվորական կենսաթոշակների տրամադրում | F13: Տրանսֆերտների տրամադրում | G13: 38370 | H13: 38370 | I13: 38370
C14: 1102 - 12003 | D14: Աշխատանքային կենսաթոշակներ | E14: Աշխատանքային կենսաթոշակների (տարիքային, հաշմանդամության, արտոնյալ պայմաններով, երկարամյա ծառայության, մասնակի, կերակրողին կորցնելու դեպքում կենսաթոշակների) տրամադրում | F14: Տրանսֆերտների տրամադրում | G14: 11172600 | H14: 11172600 | I14: 11172600
B15: 1205 | D15: Սոցիալական ապահովություն | E15: Սոցիալական ապահովության իրավունքի իրականացման ապահովում | F15: Սոցիալական ապահովության իրավունքի իրականացում | G15: =G16+G17 -> 7906800 | H15: =H16+H17 -> 7906800 | I15: =I16+I17 -> 7906800
C16: 1205 - 12001 | D16: Ծերության, հաշմանդամության, կերակրողին կորցնելու դեպքում նպաստներ | E16: Ծերության, հաշմանդամության, կերակրողին կորցնելու դեպքում սոցիալական նպաստների տրամադրում | F16: Տրանսֆերտների տրամադրում | G16: 2906800 | H16: 2906800 | I16: 2906800
C17: 1205 - 12029 | D17: Անկանխիկ եղանակով վճարումներից կենսաթոշակառուներին հետվճարի տրամադրում | E17: Անկանխիկ եղանակով վճարումներից կենսաթոշակառուներին հետվճարի տրամադրում՛ պետություն-մասնավոր սոցիալական փոխգործակցության միջոցառման շրջանակում | F17: Տրանսֆերտների տրամադրում | G17: 5000000 | H17: 5000000 | I17: 5000000

Sheet 4
I1: Հավելված N 4
F2: ՀՀ կառավարության 2026 թվականի
F3: -----------------ի N -----------Ն որոշման
A5: ՀԱՅԱՍՏԱՆԻ ՀԱՆՐԱՊԵՏՈՒԹՅԱՆ ԿԱՌԱՎԱՐՈՒԹՅԱՆ 2025 ԹՎԱԿԱՆԻ ԴԵԿՏԵՄԲԵՐԻ 25-Ի N 1910-Ն ՈՐՈՇՄԱՆ N N 3 ԵՎ 4 ՀԱՎԵԼՎԱԾՆԵՐՈՒՄ ԿԱՏԱՐՎՈՂ ՓՈՓՈԽՈՒԹՅՈՒՆԸ
H6: հազար դրամներով
A7: Գործառական դասիչը | D7: Ծրագրային դասիչը | F7: Բյուջետային ծախսերի գործառական դասակարգման բաժինների, խմբերի և դասերի, բյուջետային ծրագրերի միջոցառումների, բյուջետային հատկացումների գլխավոր կարգադրիչների անվանումները | G7: Ցուցանիշների փոփոխությունները ավելացումները նշված են դրական նշանով, իսկ նվազեցումները՝ փակագծերում
A8: Բաժինը | B8: Խումբը | C8: Դասը | D8: Ծրագիր | E8: Միջոցառում | G8: Առաջին կիսամյակ | H8: Ինն ամիս | I8: Տարի
F9: ԸՆԴԱՄԵՆԸ ԾԱԽՍԵՐ | G9: =G11 -> 20000000 | H9: =H11 -> 20000000 | I9: =I11 -> 20000000
F10: այդ թվում`
F11: ՀՀ աշխատանքի և սոցիալական հարցերի նախարարություն | G11: =G13 -> 20000000 | H11: =H13 -> 20000000 | I11: =I13 -> 20000000
F12: այդ թվում՝
A13: 10 | F13: ՍՈՑԻԱԼԱԿԱՆ ՊԱՇՏՊԱՆՈՒԹՅՈՒՆ | G13: =G15 -> 20000000 | H13: =H15 -> 20000000 | I13: =I15 -> 20000000
F14: այդ թվում՝
B15: 02 | F15: Ծերություն | G15: =G17 -> 20000000 | H15: =H17 -> 20000000 | I15: =I17 -> 20000000
F16: այդ թվում՝
C17: 01 | F17: Ծերություն | G17: =G19 -> 20000000 | H17: =H19 -> 20000000 | I17: =I19 -> 20000000
F18: այդ թվում՝
F19: ՀՀ աշխատանքի և սոցիալական հարցերի նախարարություն | G19: =G21+G50 -> 20000000 | H19: =H21+H50 -> 20000000 | I19: =I21+I50 -> 20000000
F20: այդ թվում՝
D21: ='[1]2'!B11 -> 1102 | F21: ='[1]2'!D11 -> Կենսաթոշակային ապահովություն | G21: =G23+G32+G41 -> 12093200 | H21: =H23+H32+H41 -> 12093200 | I21: =I23+I32+I41 -> 12093200
F22: այդ թվում`
E23: 12001 | F23: Սպայական անձնակազմի և նրանց ընտանիքների անդամների կենսաթոշակներ | G23: =G25 -> 882230 | H23: =H25 -> 882230 | I23: =I25 -> 882230
F24: այդ թվում` ըստ կատարողների
F25: ՀՀ աշխատանքի և սոցիալական հարցերի նախարարության միասնական սոցիալական ծառայություն | G25: =G27 -> 882230 | H25: =H27 -> 882230 | I25: =I27 -> 882230
F26: այդ թվում` բյուջետային ծախսերի տնտեսագիտական դասակարգման հոդվածներ
F27: ԸՆԴԱՄԵՆԸ ԾԱԽՍԵՐ | G27: =G28 -> 882230 | H27: =H28 -> 882230 | I27: =I28 -> 882230
F28: ԸՆԹԱՑԻԿ ԾԱԽՍԵՐ | G28: =G29 -> 882230 | H28: =H29 -> 882230 | I28: =I29 -> 882230
F29: ՍՈՑԻԱԼԱԿԱՆ ՆՊԱՍՏՆԵՐ ԵՎ ԿԵՆՍԱԹՈՇԱԿՆԵՐ | G29: =G30 -> 882230 | H29: =H30 -> 882230 | I29: =I30 -> 882230
F30: Կենսաթոշակներ | G30: =G31 -> 882230 | H30: ='[1]2'!H12 -> 882230 | I30: ='[1]2'!I12 -> 882230
F31: - Կենսաթոշակներ | G31: ='3'!G12 -> 882230 | H31: ='3'!H12 -> 882230 | I31: ='3'!I12 -> 882230
E32: 12002 | F32: Շարքային զինծառայողների և նրանց ընտանիքների անդամների զինվորական կենսաթոշակներ | G32: =G34 -> 38370 | H32: =H34 -> 38370 | I32: =I34 -> 38370
F33: այդ թվում` ըստ կատարողների
F34: ՀՀ աշխատանքի և սոցիալական հարցերի նախարարության միասնական սոցիալական ծառայություն | G34: =G36 -> 38370 | H34: =H36 -> 38370 | I34: =I36 -> 38370
F35: այդ թվում` բյուջետային ծախսերի տնտեսագիտական դասակարգման հոդվածներ
F36: ԸՆԴԱՄԵՆԸ ԾԱԽՍԵՐ | G36: =G37 -> 38370 | H36: =H37 -> 38370 | I36: =I37 -> 38370
F37: ԸՆԹԱՑԻԿ ԾԱԽՍԵՐ | G37: =G38 -> 38370 | H37: =H38 -> 38370 | I37: =I38 -> 38370
F38: ՍՈՑԻԱԼԱԿԱՆ ՆՊԱՍՏՆԵՐ ԵՎ ԿԵՆՍԱԹՈՇԱԿՆԵՐ | G38: =G39 -> 38370 | H38: =H39 -> 38370 | I38: =I39 -> 38370
F39: Կենսաթոշակներ | G39: =G40 -> 38370 | H39: =H40 -> 38370 | I39: =I40 -> 38370
F40: - Կենսաթոշակներ | G40: ='[1]2'!G13 -> 38370 | H40: ='[1]2'!H13 -> 38370 | I40: ='[1]2'!I13 -> 38370
E41: 12003 | F41: Աշխատանքային կենսաթոշակներ | G41: =G43 -> 11172600 | H41: =H43 -> 11172600 | I41: =I43 -> 11172600
...

Sheet 5
L1: Հավելված N 5
L2: ՀՀ կառավարության 2026 թվականի
L3: -----------------ի N -----------Ն որոշման
A6: ՀԱՅԱՍՏԱՆԻ ՀԱՆՐԱՊԵՏՈՒԹՅԱՆ ԿԱՌԱՎԱՐՈՒԹՅԱՆ 2025 ԹՎԱԿԱՆԻ ԴԵԿՏԵՄԲԵՐԻ 25-Ի N 1910-Ն ՈՐՈՇՄԱՆ N 9 ՀԱՎԵԼՎԱԾՈՒՄ ԿԱՏԱՐՎՈՂ ՓՈՓՈԽՈՒԹՅՈՒՆԸ
K7: հազար դրամներով
A8: ԲԳԿ | B8: Ծրագիր | D8: Միջոցառում | H8: Իրականացնողը/ ակտիվն օգտագործողը/ շահառուի ընտրության չափորոշիչը | I8: Արդյունքային չափորոշիչը | J8: Ցուցանիշների փոփոխությունները ավելացումները նշված են դրական նշանով, իսկ նվազեցումները՝ փակագծերում
B9: Դասիչը | C9: Անվանումը | D9: Դասիչը | E9: Անվանումը | F9: Նկարագրությունը | G9: Տեսակը | J9: Առաջին կիսամյակ | K9: Ինն ամիս | L9: Տարի
A10: ԸՆԴԱՄԵՆԸ | J10: =J11 -> 20000000 | K10: =K11 -> 20000000 | L10: =L11 -> 20000000
A11: ՀՀ աշխատանքի և սոցիալական հարցերի նախարարություն | J11: =J12+J28 -> 20000000 | K11: =K12+K28 -> 20000000 | L11: =L12+L28 -> 20000000
B12: ='[1]2'!B11 -> 1102 | C12: ='[1]2'!D11 -> Կենսաթոշակային ապահովություն | J12: =J13+J18+J23 -> 12093200 | K12: =K13+K18+K23 -> 12093200 | L12: =L13+L18+L23 -> 12093200
D13: ='[1]2'!C12 -> 1102 - 12001 | E13: ='[1]2'!D12 -> Սպայական անձնակազմի և նրանց ընտանիքների անդամների կենսաթոշակներ | J13: ='3'!G12 -> 882230 | K13: ='3'!H12 -> 882230 | L13: ='3'!I12 -> 882230
F14: ='[1]2'!E12 -> Սպայական անձնակազմի զինծառայողներին երկարամյա ծառայության, հաշմանդամության և զինծառայողի մահվան դեպքում նրա ընտանիքի անդամներին կերակրողին կորցնելու դեպքում զինվորական կենսաթոշակների տրամադրում
G15: Տրանսֆերտների տրամադրում
H16: Շահառուների ընտրության չափորոշիչները` Սպայական անձնակազմին և նրանց ընտանիքների անդամներին երկարամյա ծառայության, հաշմանդամության և կերակրողին կորցնելու դեպքում կենսաթոշակների տրամադրում 22.12.2010թ.ՀՕ-243-Ն օրենքի 18-րդ, 20-րդ, 22-րդ հոդվածներով
D18: ='[1]2'!C13 -> 1102 - 12002 | E18: ='[1]2'!D13 -> Շարքային զինծառայողների և նրանց ընտանիքների անդամների զինվորական կենսաթոշակներ | J18: ='3'!G13 -> 38370 | K18: ='3'!H13 -> 38370 | L18: ='3'!I13 -> 38370
F19: ='[1]2'!E13 -> ԽՍՀՄ զինված ուժերի շարքային կազմի զինծառայողներին հաշմանդամության, նրանց մահվան դեպքում ընտանիքների անդամներին կերակրողին կորցնելու դեպքում զինվորական կենսաթոշակների տրամադրում
G20: ='[1]2'!F13 -> Տրանսֆերտների տրամադրում
H21: Շահառուների ընտրության չափորոշիչները` 22.12.2010թ. ՀՕ-243-Ն օրենքով սահմանված կարգով հաշմանդամ ճանաչված շարքային զինծառայողներ, ծառայության ընթացքում զոհված (մահացած) շարքային զինծառայողների ընտանիքների անդամներ
D23: ='[1]2'!C14 -> 1102 - 12003 | E23: ='[1]2'!D14 -> Աշխատանքային կենսաթոշակներ | J23: ='3'!G14 -> 11172600 | K23: ='3'!H14 -> 11172600 | L23: ='3'!I14 -> 11172600
F24: ='[1]2'!E14 -> Աշխատանքային կենսաթոշակների (տարիքային, հաշմանդամության, արտոնյալ պայմաններով, երկարամյա ծառայության, մասնակի, կերակրողին կորցնելու դեպքում կենսաթոշակների) տրամադրում
G25: ='[1]2'!F14 -> Տրանսֆերտների տրամադրում
H26: Շահառուների ընտրության չափորոշիչները` Տարիքային աշխատանքային` առնվազն 10 տարվա աշխատանքային ստաժ, հաշմանդամության աշխատանքային` ըստ սանդղակի աշխատանքային ստաժ, արտոնյալ, մասնակի երկարամյա ծառայության` պահանջվող մասնագիտությամբ աշխատանքային ստաժ
B28: ='[1]2'!B15 -> 1205 | C28: ='[1]2'!D15 -> Սոցիալական ապահովություն | J28: =J29+J34 -> 7906800 | K28: =K29+K34 -> 7906800 | L28: =L29+L34 -> 7906800
D29: ='[1]2'!C16 -> 1205 - 12001 | E29: ='[1]2'!D16 -> Ծերության, հաշմանդամության, կերակրողին կորցնելու դեպքում նպաստներ | J29: ='3'!G16 -> 2906800 | K29: ='3'!H16 -> 2906800 | L29: ='3'!I16 -> 2906800
F30: ='[1]2'!E16 -> Ծերության, հաշմանդամության, կերակրողին կորցնելու դեպքում սոցիալական նպաստների տրամադրում
G31: ='[1]2'!F16 -> Տրանսֆերտների տրամադրում
H32: Շահառուների ընտրության չափորոշիչները` Կենսաթոշակի իրավունք չունեցող հաշմանդամներ, կերակրողին կորցրած անձիք և օրենքով սահմանված տարիքը լրացած և պահանջվող ստաժ չունեցող անձիք
D34: ='[1]2'!C17 -> 1205 - 12029 | E34: ='[1]2'!D17 -> Անկանխիկ եղանակով վճարումներից կենսաթոշակառուներին հետվճարի տրամադրում | J34: ='3'!G17 -> 5000000 | K34: ='3'!H17 -> 5000000 | L34: ='3'!I17 -> 5000000
F35: ='[1]2'!E17 -> Անկանխիկ եղանակով վճարումներից կենսաթոշակառուներին հետվճարի տրամադրում՛ պետություն-մասնավոր սոցիալական փոխգործակցության միջոցառման շրջանակում
G36: ='[1]2'!F17 -> Տրանսֆերտների տրամադրում
H37: Շահառուների ընտրության չափորոշիչները` ՀՀ աշխատանքի և սոցիալական հարցերի նախարարության միասնական սոցիալական ծառայություն
I38: Անկանխիկ եղանակով վճարումներ իրականացնող շահառուների թիվ, այդ թվում | J38: 23007 | L38: 23007

Sheet 6
L1: Հավելված N 6
L2: ՀՀ կառավարության 2026 թվականի
L3: -----------------ի N -----------Ն որոշման
A6: ՀԱՅԱՍՏԱՆԻ ՀԱՆՐԱՊԵՏՈՒԹՅԱՆ ԿԱՌԱՎԱՐՈՒԹՅԱՆ 2025 ԹՎԱԿԱՆԻ ԴԵԿՏԵՄԲԵՐԻ 25-Ի N 1910-Ն ՈՐՈՇՄԱՆ N 9.1 ՀԱՎԵԼՎԱԾՈՒՄ ԿԱՏԱՐՎՈՂ ՓՈՓՈԽՈՒԹՅՈՒՆԸ
K7: հազար դրամներով
A8: ԲՍԿ | B8: Ծրագիր | D8: Միջոցառում | H8: Իրականացնողը/ ակտիվն օգտագործողը/ շահառուի ընտրության չափորոշիչը | I8: Արդյունքային չափորոշիչը | J8: Ցուցանիշների փոփոխությունները ավելացումները նշված են դրական նշանով, իսկ նվազեցումները՝ փակագծերում
B9: Դասիչը | C9: Անվանումը | D9: Դասիչը | E9: Անվանումը | F9: Նկարագրությունը | G9: Տեսակը | J9: Առաջին կիսամյակ | K9: Ինն ամիս | L9: Տարի
A10: ԸՆԴԱՄԵՆԸ | J10: =J11 -> 20000000 | K10: =K11 -> 20000000 | L10: =L11 -> 20000000
A11: ՀՀ աշխատանքի և սոցիալական հարցերի նախարարության միասնական սոցիալական ծառայություն | J11: =J12+J28 -> 20000000 | K11: =K12+K28 -> 20000000 | L11: =L12+L28 -> 20000000
B12: ='[1]2'!B11 -> 1102 | C12: ='[1]2'!D11 -> Կենսաթոշակային ապահովություն | J12: =J13+J18+J23 -> 12093200 | K12: =K13+K18+K23 -> 12093200 | L12: =L13+L18+L23 -> 12093200
D13: ='[1]2'!C12 -> 1102 - 12001 | E13: ='[1]2'!D12 -> Սպայական անձնակազմի և նրանց ընտանիքների անդամների կենսաթոշակներ | J13: ='5'!J13 -> 882230 | K13: ='5'!K13 -> 882230 | L13: ='5'!L13 -> 882230
F14: ='[1]2'!E12 -> Սպայական անձնակազմի զինծառայողներին երկարամյա ծառայության, հաշմանդամության և զինծառայողի մահվան դեպքում նրա ընտանիքի անդամներին կերակրողին կորցնելու դեպքում զինվորական կենսաթոշակների տրամադրում
G15: Տրանսֆերտների տրամադրում
H16: Շահառուների ընտրության չափորոշիչները` Սպայական անձնակազմին և նրանց ընտանիքների անդամներին երկարամյա ծառայության, հաշմանդամության և կերակրողին կորցնելու դեպքում կենսաթոշակների տրամադրում 22.12.2010թ.ՀՕ-243-Ն օրենքի 18-րդ, 20-րդ, 22-րդ հոդվածներով
D18: ='[1]2'!C13 -> 1102 - 12002 | E18: ='[1]2'!D13 -> Շարքային զինծառայողների և նրանց ընտանիքների անդամների զինվորական կենսաթոշակներ | J18: ='5'!J18 -> 38370 | K18: ='5'!K18 -> 38370 | L18: ='5'!L18 -> 38370
F19: ='[1]2'!E13 -> ԽՍՀՄ զինված ուժերի շարքային կազմի զինծառայողներին հաշմանդամության, նրանց մահվան դեպքում ընտանիքների անդամներին կերակրողին կորցնելու դեպքում զինվորական կենսաթոշակների տրամադրում
G20: ='[1]2'!F13 -> Տրանսֆերտների տրամադրում
H21: Շահառուների ընտրության չափորոշիչները` 22.12.2010թ. ՀՕ-243-Ն օրենքով սահմանված կարգով հաշմանդամ ճանաչված շարքային զինծառայողներ, ծառայության ընթացքում զոհված (մահացած) շարքային զինծառայողների ընտանիքների անդամներ
D23: ='[1]2'!C14 -> 1102 - 12003 | E23: ='[1]2'!D14 -> Աշխատանքային կենսաթոշակներ | J23: ='5'!J23 -> 11172600 | K23: ='5'!K23 -> 11172600 | L23: ='5'!L23 -> 11172600
F24: ='[1]2'!E14 -> Աշխատանքային կենսաթոշակների (տարիքային, հաշմանդամության, արտոնյալ պայմաններով, երկարամյա ծառայության, մասնակի, կերակրողին կորցնելու դեպքում կենսաթոշակների) տրամադրում
G25: ='[1]2'!F14 -> Տրանսֆերտների տրամադրում
H26: Շահառուների ընտրության չափորոշիչները` Տարիքային աշխատանքային` առնվազն 10 տարվա աշխատանքային ստաժ, հաշմանդամության աշխատանքային` ըստ սանդղակի աշխատանքային ստաժ, արտոնյալ, մասնակի երկարամյա ծառայության` պահանջվող մասնագիտությամբ աշխատանքային ստաժ
B28: ='[1]2'!B15 -> 1205 | C28: ='[1]2'!D15 -> Սոցիալական ապահովություն | J28: =J29+J34 -> 7906800 | K28: =K29+K34 -> 7906800 | L28: =L29+L34 -> 7906800
D29: ='[1]2'!C16 -> 1205 - 12001 | E29: ='[1]2'!D16 -> Ծերության, հաշմանդամության, կերակրողին կորցնելու դեպքում նպաստներ | J29: ='5'!J29 -> 2906800 | K29: ='5'!K29 -> 2906800 | L29: ='5'!L29 -> 2906800
F30: ='[1]2'!E16 -> Ծերության, հաշմանդամության, կերակրողին կորցնելու դեպքում սոցիալական նպաստների տրամադրում
G31: ='[1]2'!F16 -> Տրանսֆերտների տրամադրում
H32: Շահառուների ընտրության չափորոշիչները` Կենսաթոշակի իրավունք չունեցող հաշմանդամներ, կերակրողին կորցրած անձիք և օրենքով սահմանված տարիքը լրացած և պահանջվող ստաժ չունեցող անձիք
D34: ='[1]2'!C17 -> 1205 - 12029 | E34: ='[1]2'!D17 -> Անկանխիկ եղանակով վճարումներից կենսաթոշակառուներին հետվճարի տրամադրում | J34: ='5'!J34 -> 5000000 | K34: ='5'!K34 -> 5000000 | L34: ='5'!L34 -> 5000000
F35: ='[1]2'!E17 -> Անկանխիկ եղանակով վճարումներից կենսաթոշակառուներին հետվճարի տրամադրում՛ պետություն-մասնավոր սոցիալական փոխգործակցության միջոցառման շրջանակում
G36: ='[1]2'!F17 -> Տրանսֆերտների տրամադրում
H37: Շահառուների ընտրության չափորոշիչները` ՀՀ աշխատանքի և սոցիալական հարցերի նախարարության միասնական սոցիալական ծառայություն
I38: ='[1]4'!I38 -> Անկանխիկ եղանակով վճարումներ իրականացնող շահառուների թիվ, այդ թվում | J38: ='5'!J38 -> 23007 | L38: ='5'!L38 -> 23007
