Workbook
Name a: #REF!
Name a: #REF!
Name a: #REF!
Name a: #REF!
Name a: #REF!
Name a: #REF!
Name AgencyCode: #REF!
Name AgencyCode: #REF!
Name AgencyCode: #REF!
Name AgencyCode: #REF!
Name AgencyCode: #REF!
Name AgencyCode: #REF!
Name AgencyName: #REF!
Name AgencyName: #REF!
Name AgencyName: #REF!
Name AgencyName: #REF!
Name AgencyName: #REF!
Name åû: #REF!
Name åû: #REF!
Name BOP: #REF!
Name BOPfoot: #REF!
Name davit: #REF!
Name davit: #REF!
Name davit: #REF!
Name davit: #REF!
Name DebtCG: #REF!
Name DebtGG: #REF!
Name Functional1: #REF!
Name Functional1: #REF!
Name Functional1: #REF!
Name Functional1: #REF!
Name Functional1: #REF!
Name ggg: #REF!
Name ggg: #REF!
Name ggg: #REF!
Name ggg: #REF!
Name hav: #REF!
Name mas: #REF!
Name mas: #REF!
Name mass: #REF!
Name mass: #REF!
Name MonExo: #REF!
Name MonGrow: #REF!
Name PANature: #REF!
Name PANature: #REF!
Name PANature: #REF!
Name PANature: #REF!
Name PANature: #REF!
Name PAType: #REF!
Name PAType: #REF!
Name PAType: #REF!
Name PAType: #REF!
Name PAType: #REF!
Name Performance2: #REF!
Name Performance2: #REF!
Name Performance2: #REF!
Name Performance2: #REF!
Name Performance2: #REF!
Name PerformanceType: #REF!
Name PerformanceType: #REF!

Sheet Հավելված N 1 
D1: Հավելված N 1
D2: ՀՀ կառավարության 2026 թվականի
D3: ______________ ի ___Ն որոշման
A5: «ՀԱՅԱՍՏԱՆԻ ՀԱՆՐԱՊԵՏՈՒԹՅԱՆ 2025 ԹՎԱԿԱՆԻ ՊԵՏԱԿԱՆ ԲՅՈՒՋԵԻ ՄԱՍԻՆ» ՕՐԵՆՔԻ 3-ՐԴ ՀՈԴՎԱԾԻ, N 3 ՀԱՎԵԼՎԱԾԻ N 1 ԱՂՅՈՒՍԱԿՈՒՄ ԵՎ ՀԱՅԱՍՏԱՆԻ ՀԱՆՐԱՊԵՏՈՒԹՅԱՆ ԿԱՌԱՎԱՐՈՒԹՅԱՆ 2025 ԹՎԱԿԱՆԻ ԴԵԿՏԵՄԲԵՐԻ 25-Ի N 1910-Ն ՈՐՈՇՄԱՆ N 1 ՀԱՎԵԼՎԱԾԻ N 1 ԱՂՅՈՒՍԱԿՈՒՄ ԿԱՏԱՐՎՈՂ ՓՈՓՈԽՈՒԹՅՈՒՆԸ
D7: հազ. դրամ
A8: Պետական բյուջեի դեֆիցիտի ֆինանսավորման աղբյուրներն ու դրանց տարրերի անվանումները | B8: Ցուցանիշների փոփոխությունը (ավելացումները նշված են դրական նշանով)
B9: Առաջին կիսամյակ | C9: Ինն ամիս | D9: Տարի
A10: ԸՆԴԱՄԵՆԸ | B10: =+B12 -> 973786.1 | C10: =+C12 -> 967965.9 | D10: =+D12 -> 4.6566129e-10
A11: այդ թվում՝
A12: Ա.Ներքին աղբյուրներ-ընդամենը | B12: =+B14 -> 973786.1 | C12: =+C14 -> 967965.9 | D12: =+D14 -> 4.6566129e-10
A13: այդ թվում՝
A14: 2. Ֆինանսական զուտ ակտիվներ | B14: =+B16 -> 973786.1 | C14: =+C16 -> 967965.9 | D14: =+D16 -> 4.6566129e-10
A15: այդ թվում՝
A16: 2.6.Այլ | B16: =+B18 -> 973786.1 | C16: =+C18 -> 967965.9 | D16: =+D18 -> 4.6566129e-10
A17: որից՝
A18: Ժամանակավորապես ազատ միջոցներ | B18: =+'Հավելված N 2'!G13 -> 973786.1 | C18: =+'Հավելված N 2'!H13 -> 967965.9 | D18: =+'Հավելված N 2'!I13 -> 4.6566129e-10

Sheet Հավելված N 2
F1: Հավելված N 2
F2: ՀՀ կառավարության 2026 թվականի
F3: ______________ ի ___Ն որոշման
A6: «ՀԱՅԱUՏԱՆԻ ՀԱՆՐԱՊԵՏՈՒԹՅԱՆ 2026 ԹՎԱԿԱՆԻ ՊԵՏԱԿԱՆ ԲՅՈՒՋԵԻ ՄԱUԻՆ» ՀԱՅԱUՏԱՆԻ ՀԱՆՐԱՊԵՏՈՒԹՅԱՆ OՐԵՆՔԻ N 1 ՀԱՎԵԼՎԱԾԻ N 2 ԱՂՅՈՒՍԱԿՈՒՄ ԿԱՏԱՐՎՈՂ ՎԵՐԱԲԱՇԽՈՒՄԸ ԵՎ ՀԱՅԱՍՏԱՆԻ ՀԱՆՐԱՊԵՏՈՒԹՅԱՆ ԿԱՌԱՎԱՐՈՒԹՅԱՆ 2025 ԹՎԱԿԱՆԻ ԴԵԿՏԵՄԲԵՐԻ 25-Ի N 1910-Ն ՈՐՈՇՄԱՆ N 5 ՀԱՎԵԼՎԱԾԻ N 1 ԱՂՅՈՒՍԱԿՈՒՄ ԿԱՏԱՐՎՈՂ ՓՈՓՈԽՈՒԹՅՈՒՆՆԵՐԸ ԵՎ ԼՐԱՑՈՒՄՆԵՐԸ
I9: հազ. դրամներով
A10: ԲԳԿ | B10: Ծրագրային դասիչը | D10: ԲԳԿ/Ծրագրի /միջոցառման անվանումը | E10: Ծրագրի նպատակը/Միջոցառման նկարագրությունը | F10: Վերջնական արդյունքի նկարագրությունը/Միջոցառման տեսակը | G10: Ցուցանիշների փոփոխությունը (ավելացումները նշված են դրական նշանով, իսկ նվազեցումները փակագծերում)
G11: Առաջին կիսամյակ | H11: Ինն ամիս | I11: Տարի
B12: Ծրագիր | C12: Միջոցառում
A13: ԸՆԴԱՄԵՆԸ | G13: =+G15 -> 973786.1 | H13: =+H15 -> 967965.9 | I13: =+I15 -> 4.6566129e-10
A14: այդ թվում՝
A15: ՀՀ ԿՐԹՈՒԹՅԱՆ, ԳԻՏՈՒԹՅԱՆ, ՄՇԱԿՈՒՅԹԻ ԵՎ ՍՊՈՐՏԻ ՆԱԽԱՐԱՐՈՒԹՅՈՒՆ | G15: =+G16+G18+G20 -> 973786.1 | H15: =+H16+H18+H20 -> 967965.9 | I15: =+I16+I18+I20 -> 4.6566129e-10
B16: 1041 | D16: Մեծ նվաճումների սպորտ | E16: Նպաստել Հայաստանում մեծ սպորտի շարունակական զարգացմանը և միջազգային հարթակներում ՀՀ դիրքի բարելավմանը | F16: ՀՀ առաջնությունների ընդլայնում, միջազգային սպորտային միջոցառումներին մասնակցության և նվաճումների ապահովում | G16: =+G17 -> 8400 | H16: =+H17 -> 0 | I16: =+I17 -> 0
C17: 1041 - 21001 | D17: Հայաստանում Ֆրանկոֆոնիայի խաղերի անցկացման համար անհրաժեշտ ենթակառուցվածքների ապահովում | E17: Հայաստանում 2027 թվականին Ֆրանկոֆոնիայի խաղերի անցկացման նպատակով համապատասխան ենթակառուցվածքների ստեղծում, բարելավում | F17: Հանրության կողմից անմիջականորեն օգտագործվող ակտիվների հետ կապված միջոցառումներ | G17: =+'Հավելված N 3'!G26 -> 8400 | H17: =+'Հավելված N 3'!H26 -> 0 | I17: =+'Հավելված N 3'!I26 -> 0
B18: 1192 | D18: Կրթության որակի ապահովում | E18: Ընթացիկ աշխատանքների, բարեփոխումների և նոր նախաձեռնությունների միջոցով ֆորմալ և ոչ-ֆորմալ կրթության ոլորտում իրականացվող միջոցառումների, մատուցվող ծառայությունների բովանդակության և կազմակերպման որակի շարունակական բարելավում | F18: Նախադպրոցականից մինչև հետբուհական կրթության որակի, այն է սովորողների, միջավայրի, ծրագրերի և ուսումնական նյութերի բովանդակության, գործընթացների, ինչպես նաև վերջնարդյունքների որակի բարելավում ըստ ներպետական և միջազգային ցուցիչների | G18: =+G19 -> 12676.5 | H18: =+H19 -> 12676.5 | I18: =+I19 -> 12676.5
C19: 1192 - 11023 | D19: Համաշխարհային բանկի աջակցությամբ իրականացվող «Կրթության բարելավման ծրագրի լրացուցիչ ֆինանսավորում» վարկային ծրագիր | E19: Հանրակրթության որակի բարելավում, աջակցություն Նորարարությունների մրցակցային հիմնադրամի զարգացմանը, ծրագրի համակարգում և կառավարում | F19: Ծառայությունների մատուցում | G19: =+'Հավելված N 3'!G212 -> 12676.5 | H19: =+'Հավելված N 3'!H212 -> 12676.5 | I19: =+'Հավելված N 3'!I212 -> 12676.5
B20: 1236 | D20: Հանրակրթական և նախադպրոցական հաստատությունների հիմնում, կառուցում, բարելավում | E20: Առնվազն 300 դպրոցի և 500 մանկապարտեզի կառուցման, վերակառուցման, հիմնանորոգման ծրագրերի իրականացում ՀՀ պետական բյուջեի միջոցների շրջանակներում | F20: Կրթական միջավայրի բարելավում | G20: =SUM(G21:G25) -> 952709.6 | H20: =SUM(H21:H25) -> 955289.4 | I20: =SUM(I21:I25) -> -12676.5
C21: 1236 - 11001 | D21: Հանրակրթական և նախադպրոցական հաստատությունների կառուցման, վերակառուցման, հիմնանորոգման ծրագրերի համակարգման և մոնիտորինգի ծառայություններ | E21: Հանրակրթական և նախադպրոցական հաստատություններիկառուցման, վերակառուցման, հիմնանորոգման ծրագրերիհամակարգման և մոնիտորինգի ծառայությունների ապահովում | F21: Ծառայությունների մատուցում | G21: =+'Հավելված N 3'!G166 -> 379124.9 | H21: =+'Հավելված N 3'!H166 -> 509124.9 | I21: =+'Հավելված N 3'!I166 -> 509124.9
C22: 1236 - 32001 | D22: Մանկապարտեզների նոր շենքերի կառուցում | E22: Նախադպրոցական կրթության հասանելիության ապահովման նպատակով՛ մանկապարտեզների հիմնում, նոր շենքերի (մասնաշենքերի), ներառյալ՛ ,Մոդուլայինե տիպի շենքերի կառուցում և նախագծում | F22: Այլ պետական կազմակերպությունների կողմից օգտագործվող ոչ ֆինանսական ակտիվների հետ գործառնություններ | G22: =+'Հավելված N 3'!G52 -> 1600000 | H22: =+'Հավելված N 3'!H52 -> 2600000 | I22: =+'Հավելված N 3'!I52 -> 3500000
C23: 1236 - 32002 | D23: Մանկապարտեզների շենքերի վերակառուցում, հիմնանորոգում | E23: Նախադպրոցական կրթության հասանելիության ապահովման նպատակով՛ մանկապարտեզների շենքերի (մասնաշենքերի), վերակառուցում, հիմնանորոգում և նախագծում | F23: Այլ պետական կազմակերպությունների կողմից օգտագործվող ոչ ֆինանսական ակտիվների հետ գործառնություններ | G23: =+'Հավելված N 3'!G68 -> 952709.6 | H23: =+'Հավելված N 3'!H68 -> 955289.4 | I23: =+'Հավելված N 3'!I68 -> -12676.5
C24: 1236 - 32003 | D24: Հանրակրթական դպրոցների նոր շենքերի կառուցում | E24: ՀՀ մարզերում կրթական որակյալ ծառայությունների հասանելիության ապահովման ծրագրի շրջանակներում հանրակրթական և նախադպրոցական կրթության հասանելիության ապահովման նպատակով կրթական կենտրոնների կառուցում | F24: Այլ պետական կազմակերպությունների կողմից օգտագործվող ոչ ֆինանսական ակտիվների հետ գործառնություններ | G24: =+'Հավելված N 3'!G175 -> -600000 | H24: =+'Հավելված N 3'!H175 -> -1000000 | I24: =+'Հավելված N 3'!I175 -> -1250000
C25: 1236 - 32004 | D25: Հանրակրթական դպրոցների շենքերի վերակառուցում, հիմնանորոգում | E25: Դպրոցական պարտադիր կրթության հասանելիության ապահովման նպատակով՛ հանրակրթական դպրոցների շենքերի (մասնաշենքերի), վերակառուցում, հիմնանորոգում և նախագծում | F25: Այլ պետական կազմակերպությունների կողմից օգտագործվող ոչ ֆինանսական ակտիվների հետ գործառնություններ | G25: =+'Հավելված N 3'!G184 -> -1379124.9 | H25: =+'Հավելված N 3'!H184 -> -2109124.9 | I25: =+'Հավելված N 3'!I184 -> -2759124.9

Sheet Հավելված N 3
F1: Հավելված N 3
F2: ՀՀ կառավարության 2026 թվականի
F3: ______________ ի ___Ն որոշման
A7: ՀԱՅԱՍՏԱՆԻ ՀԱՆՐԱՊԵՏՈՒԹՅԱՆ ԿԱՌԱՎԱՐՈՒԹՅԱՆ 2025 ԹՎԱԿԱՆԻ ԴԵԿՏԵՄԲԵՐԻ 25-Ի N 1910-Ն ՈՐՈՇՄԱՆ N 3 ԵՎ N 4 ՀԱՎԵԼՎԱԾՆԵՐՈՒՄ ԿԱՏԱՐՎՈՂ ՓՈՓՈԽՈՒԹՅՈՒՆՆԵՐԸ ԵՎ ԼՐԱՑՈՒՄՆԵՐԸ
I10: հազ. դրամներով
A11: Գործառական դասիչը | D11: Ծրագրային դասիչը | F11: Բյուջետային հատկացումների գլխավոր կարգադրիչների, ծրագրերի, միջոցառումների և միջոցառումները կատարող պետական մարմինների անվանումները | G11: Ցուցանիշների փոփոխությունը (ավելացումները նշված են դրական նշանով, իսկ նվազեցումները փակագծերում)
A12: Բաժին | B12: Խումբ | C12: Դաս | D12: Ծրագիր | E12: Միջոցառում | G12: Առաջին կիսամյակ | H12: Ինն ամիս | I12: Տարի
F13: ԸՆԴԱՄԵՆԸ | G13: =+G15 -> 973786.1 | H13: =+H15 -> 967965.9 | I13: =+I15 -> 4.6566129e-10
F14: այդ թվում՝
F15: ՀՀ ԿՐԹՈՒԹՅԱՆ, ԳԻՏՈՒԹՅԱՆ, ՄՇԱԿՈՒՅԹԻ ԵՎ ՍՊՈՐՏԻ ՆԱԽԱՐԱՐՈՒԹՅՈՒՆ | G15: =+G16+G42 -> 973786.1 | H15: =+H16+H42 -> 967965.9 | I15: =+I16+I42 -> 4.6566129e-10
A16: 08 | F16: ՀԱՆԳԻՍՏ, ՄՇԱԿՈՒՅԹ ԵՎ ԿՐՈՆ | G16: =+G18 -> 8400 | H16: =+H18 -> 0 | I16: =+I18 -> 0
F17: այդ թվում`
B18: 01 | F18: Հանգստի և սպորտի ծառայություններ | G18: =+G20 -> 8400 | H18: =+H20 -> 0 | I18: =+I20 -> 0
F19: այդ թվում`
C20: 01 | F20: Հանգստի և սպորտի ծառայություններ | G20: =+G22 -> 8400 | H20: =+H22 -> 0 | I20: =+I22 -> 0
F21: այդ թվում`
F22: ՀՀ կրթության, գիտության, մշակույթի և սպորտի նախարարություն | G22: =+G24 -> 8400 | H22: =+H24 -> 0 | I22: =+I24 -> 0
F23: այդ թվում`
D24: 1041 | E24: Մեծ նվաճումների սպորտ | G24: =+G26 -> 8400 | H24: =+H26 -> 0 | I24: =+I26 -> 0
F25: այդ թվում`
E26: 21001 | F26: Հայաստանում Ֆրանկոֆոնիայի խաղերի անցկացման համար անհրաժեշտ ենթակառուցվածքների ապահովում | G26: =+G28+G35 -> 8400 | H26: =+H28+H35 -> 0 | I26: =+I28+I35 -> 0
F27: այդ թվում` ըստ կատարողների
F28: ՀՀ կրթության, գիտության, մշակույթի և սպորտի նախարարություն | G28: =+G30 -> 0 | H28: =+H30 -> -8400 | I28: =+I30 -> -8400
F29: այդ թվում` բյուջետային ծախսերի տնտեսագիտական դասակարգման հոդվածներ
F30: ԸՆԴԱՄԵՆԸ ԾԱԽՍԵՐ | G30: =G31 -> 0 | H30: =H31 -> -8400 | I30: =I31 -> -8400
F31: ՈՉ ՖԻՆԱՆՍԱԿԱՆ ԱԿՏԻՎՆԵՐԻ ԳԾՈՎ ԾԱԽՍԵՐ | G31: =+G32 -> 0 | H31: =+H32 -> -8400 | I31: =+I32 -> -8400
F32: ՀԻՄՆԱԿԱՆ ՄԻՋՈՑՆԵՐ | G32: =+G33 -> 0 | H32: =+H33 -> -8400 | I32: =+I33 -> -8400
F33: ՄԵՔԵՆԱՆԵՐ ԵՎ ՍԱՐՔԱՎՈՐՈՒՄՆԵՐ | G33: =+G34 -> 0 | H33: =+H34 -> -8400 | I33: =+I34 -> -8400
F34: - Այլ մեքենաներ և սարքավորումներ | G34: =+'Հավելված N 5'!E15 -> 0 | H34: =+'Հավելված N 5'!F15 -> -8400 | I34: =+'Հավելված N 5'!G15 -> -8400
F35: ՀՀ քաղաքաշինության կոմիտե | G35: =+G37 -> 8400 | H35: =+H37 -> 8400 | I35: =+I37 -> 8400
F36: այդ թվում` բյուջետային ծախսերի տնտեսագիտական դասակարգման հոդվածներ
F37: ԸՆԴԱՄԵՆԸ ԾԱԽՍԵՐ | G37: =G38 -> 8400 | H37: =H38 -> 8400 | I37: =I38 -> 8400
F38: ԸՆԹԱՑԻԿ ԾԱԽՍԵՐ | G38: =+G39 -> 8400 | H38: =+H39 -> 8400 | I38: =+I39 -> 8400
F39: ԾԱՌԱՅՈՒԹՅՈՒՆՆԵՐԻ ԵՎ ԱՊՐԱՆՔՆԵՐԻ ՁԵՌՔԲԵՐՈՒՄ | G39: =+G40 -> 8400 | H39: =+H40 -> 8400 | I39: =+I40 -> 8400
F40: ԱՅԼ ՄԱՍՆԱԳԻՏԱԿԱՆ ԾԱՌԱՅՈՒԹՅՈՒՆՆԵՐԻ ՁԵՌՔ ԲԵՐՈՒՄ | G40: =+G41 -> 8400 | H40: =+H41 -> 8400 | I40: =+I41 -> 8400
F41: - Մասնագիտական ծառայություններ | G41: =+I41 -> 8400 | H41: =+I41 -> 8400 | I41: =+'Հավելված N 9'!I33 -> 8400
A42: 09 | F42: ԿՐԹՈՒԹՅՈՒՆ | G42: =+G44+G158+G204 -> 965386.1 | H42: =+H44+H158+H204 -> 967965.9 | I42: =+I44+I158+I204 -> 4.6566129e-10
F43: այդ թվում`
B44: 01 | F44: Նախադպրոցական և տարրական ընդհանուր կրթություն | G44: =+G46 -> 2552709.6 | H44: =+H46 -> 3555289.4 | I44: =+I46 -> 3487323.5
F45: այդ թվում`
...

Sheet Հավելված N 4
F1: Հավելված N 4
F2: ՀՀ կառավարության 2026 թվականի
F3: ______________ ի ___Ն որոշման
A5: «ՀԱՅԱUՏԱՆԻ ՀԱՆՐԱՊԵՏՈՒԹՅԱՆ 2026 ԹՎԱԿԱՆԻ ՊԵՏԱԿԱՆ ԲՅՈՒՋԵԻ ՄԱUԻՆ» ՀԱՅԱUՏԱՆԻ ՀԱՆՐԱՊԵՏՈՒԹՅԱՆ OՐԵՆՔԻ N 1 ՀԱՎԵԼՎԱԾԻ N 3 ԱՂՅՈՒՍԱԿՈՒՄ ԿԱՏԱՐՎՈՂ ՓՈՓՈԽՈՒԹՅՈՒՆՆԵՐԸ ԵՎ ԼՐԱՑՈՒՄՆԵՐԸ
G8: հազ. դրամներով
A9: Ծրագրային դասիչ | C9: Բյուջետային գլխավոր կարգադրիչների, ծրագրերի, միջոցառումների, միջոցառումները կատարող պետական մարմինների և ուղղությունների անվանումները | D9: Ընդամենը | E9: Ցուցանիշների փոփոխությունը (ավելացումները նշված են դրական նշանով, իսկնվազեցումները՝ փակագծերում)
A10: Ծրագիր | B10: Միջոցառում | E10: Կառուցման աշխատանքներ | F10: Վերակառուցման, վերանորոգման և վերականգնման աշխատանքներ | G10: Նախագծահե- տազոտական, գեոդեզիա- քարտեզագրա- կան աշխա- տանքներ | H10: Ոչ ֆինանսական այլ ակտիվների ձեռքբերում
C11: ԸՆԴԱՄԵՆԸ | D11: =SUM(E11:H11) -> -534680 | E11: =+E13 -> 2250000 | F11: =+F13 -> -2778150 | G11: =+G13 -> 1870 | H11: =+H13 -> -8400
C12: այդ թվում՝
C13: ՀՀ ԿՐԹՈՒԹՅԱՆ, ԳԻՏՈՒԹՅԱՆ, ՄՇԱԿՈՒՅԹԻ ԵՎ ՍՊՈՐՏԻ ՆԱԽԱՐԱՐՈՒԹՅՈՒՆ | D13: =SUM(E13:H13) -> -534680 | E13: =+E15+E16+E19+E63+E66 -> 2250000 | F13: =+F15+F16+F19+F63+F66 -> -2778150 | G13: =+G15+G16+G19+G63+G66 -> 1870 | H13: =+H15+H16+H19+H63+H66 -> -8400
C14: այդ թվում`
A15: 1041 | B15: 21001 | C15: Հայաստանում Ֆրանկոֆոնիայի խաղերի անցկացման համար անհրաժեշտ ենթակառուցվածքների ապահովում | D15: =SUM(E15:H15) -> -8400 | E15: =+E17 -> 0 | F15: =+F17 -> 0 | G15: =+G17 -> 0 | H15: =+'Հավելված N 9'!I16 -> -8400
A16: 1236 | B16: 32001 | C16: Մանկապարտեզների նոր շենքերի կառուցում | D16: =SUM(E16:H16) -> 3500000 | E16: =+E18 -> 3500000 | F16: =+F18 -> 0 | G16: =+G18 -> 0 | H16: =+H18 -> 0
C17: այդ թվում`
C18: Մանկապարտեզների նոր շենքերի կառուցում | D18: =SUM(E18:H18) -> 3500000 | E18: 3500000 | F18: 0 | G18: 0 | H18: 0
A19: 1236 | B19: 32002 | C19: Մանկապարտեզների շենքերի վերակառուցում, հիմնանորոգում | D19: =SUM(E19:H19) -> -14588.1 | E19: =+E21+E22+E28+E33+E39+E44+E48+E52+E55+E57 -> 0 | F19: =+F21+F22+F28+F33+F39+F44+F48+F52+F55+F57 -> -16458.1 | G19: =+G21+G22+G28+G33+G39+G44+G48+G52+G55+G57 -> 1870 | H19: =+H21+H22+H28+H33+H39+H44+H48+H52+H55+H57 -> 0
C20: այդ թվում`
C21: Մանկապարտեզների շենքերի վերակառուցում, հիմնանորոգում | D21: =SUM(E21:H21) -> -2613532.4 | E21: 0 | F21: =-'Հավելված N 9'!I21-'Հավելված N 9'!I40-'Հավելված N 9'!I56-'Հավելված N 9'!I70-'Հավելված N 9'!I76-'Հավելված N 9'!I92-'Հավելված N 9'!I104-'Հավելված N 9'!I116-'Հավելված N 9'!I128-'Հավելված N 9'!I138-'Հավելված N 9'!I146-'Հավելված N 6'!J13 -> -2613532.4 | G21: 0 | H21: 0
C22: ՀՀ Արագածոտնի մարզ | D22: =SUM(E22:H22) -> 296331.7 | E22: =SUM(E23:E27) -> 0 | F22: =SUM(F23:F27) -> 296331.7 | G22: =SUM(G23:G27) -> 0 | H22: =SUM(H23:H27) -> 0
C23: «Աշտարակի թիվ 5 Արաքս Մուրադյանի անվան մանկապարտեզ» ՀՈԱԿ | D23: =+E23+F23+G23+H23 -> 51574.9 | F23: =+'Հավելված N 9'!I44+'Հավելված N 9'!I50 -> 51574.9
C24: Աշտարակ բնակավայրի թիվ 1 «Մանուշակ մանկապարտեզ» ՀՈԱԿ | D24: =+E24+F24+G24+H24 -> 123337.5 | F24: =+'Հավելված N 9'!I45+'Հավելված N 9'!I51 -> 123337.5
C25: Ապարանի թիվ 1 մանկապարտեզ ՀՈԱԿ | D25: =+E25+F25+G25+H25 -> 58732.9 | F25: =+'Հավելված N 9'!I46+'Հավելված N 9'!I52 -> 58732.9
C26: «Քուչակի մանկապարտեզ» ՀՈԱԿ | D26: =+E26+F26+G26+H26 -> 26818 | F26: =+'Հավելված N 9'!I47+'Հավելված N 9'!I53 -> 26818
C27: «Հարթավանի մանկապարտեզ» ՀՈԱԿ | D27: =+E27+F27+G27+H27 -> 35868.4 | F27: =+'Հավելված N 9'!I48+'Հավելված N 9'!I54 -> 35868.4
C28: ՀՀ Արարատի մարզ | D28: =SUM(E28:H28) -> 402911.9 | E28: =SUM(E29:E32) -> 0 | F28: =SUM(F29:F32) -> 402911.9 | G28: =SUM(G29:G32) -> 0 | H28: =SUM(H29:H32) -> 0
C29: «Վեդու թիվ 2» նախադպրոցական ուսումնական հաստատություն ՀՈԱԿ | D29: =+E29+F29+G29+H29 -> 140767.2 | F29: =+'Հավելված N 9'!I60+'Հավելված N 9'!I65 -> 140767.2
C30: Փոքր Վեդու «Զարթոնք» նախադպրոցական ուսումնական հաստատություն ՀՈԱԿ | D30: =+E30+F30+G30+H30 -> 102413.5 | F30: =+'Հավելված N 9'!I61+'Հավելված N 9'!I66 -> 102413.5
C31: «Մասիս համայնքի Մասիս քաղաքի թիվ 5 մսուր-մանկապարտեզ» ՀՈԱԿ | D31: =+E31+F31+G31+H31 -> 94849.9 | F31: =+'Հավելված N 9'!I62+'Հավելված N 9'!I67 -> 94849.9
C32: «Արտաշատ համայնքի Դալար գյուղի մանկապարտեզ» ՀՈԱԿ | D32: =+E32+F32+G32+H32 -> 64881.3 | F32: =+'Հավելված N 9'!I63+'Հավելված N 9'!I68 -> 64881.3
C33: ՀՀ Գեղարքունիքի մարզ | D33: =SUM(E33:H33) -> 518853.5 | E33: =SUM(E34:E38) -> 0 | F33: =SUM(F34:F38) -> 518853.5 | G33: =SUM(G34:G38) -> 0 | H33: =SUM(H34:H38) -> 0
C34: «Մարտունի քաղաքի թիվ 4 մանկապարտեզ» ՀՈԱԿ | D34: =+E34+F34+G34+H34 -> 102803.5 | F34: =+'Հավելված N 9'!I80+'Հավելված N 9'!I86 -> 102803.5
C35: «Ձորագյուղի մանկապարտեզ» ՀՈԱԿ | D35: =+E35+F35+G35+H35 -> 139115 | F35: =+'Հավելված N 9'!I81+'Հավելված N 9'!I87 -> 139115
C36: «Սևան համայնքի «Հեքիաթ» մանկապարտեզ» ՀՈԱԿ | D36: =+E36+F36+G36+H36 -> 91907.1 | F36: =+'Հավելված N 9'!I82+'Հավելված N 9'!I88 -> 91907.1
C37: «Ծովագյուղի մանկապարտեզ» ՀՈԱԿ | D37: =+E37+F37+G37+H37 -> 96485.4 | F37: =+'Հավելված N 9'!I83+'Հավելված N 9'!I89 -> 96485.4
C38: «Կարմիրգյուղի մանկապարտեզ» ՀՈԱԿ | D38: =+E38+F38+G38+H38 -> 88542.5 | F38: =+'Հավելված N 9'!I84+'Հավելված N 9'!I90 -> 88542.5
C39: ՀՀ Լոռու մարզ | D39: =SUM(E39:H39) -> 321114.3 | E39: =SUM(E40:E43) -> 0 | F39: =SUM(F40:F43) -> 319244.3 | G39: =SUM(G40:G43) -> 1870 | H39: =SUM(H40:H43) -> 0
C40: «Շիրակամուտի Արևիկ մանկապարտեզ» ՀՈԱԿ | D40: =+E40+F40+G40+H40 -> 101534.3 | F40: =+'Հավելված N 9'!I96+'Հավելված N 9'!I100 -> 101534.3
C41: «Վանաձորի թիվ 32 մանկապարտեզ» ՀՈԱԿ | D41: =+E41+F41+G41+H41 -> 116977.1 | F41: =+'Հավելված N 9'!I97+'Հավելված N 9'!I101 -> 116977.1
C42: Ալավերդի համայնքի «Արևներ» մսուր-մանկապարտեզ (շենք 1) | D42: =+E42+F42+G42+H42 -> 100732.9 | F42: =+'Հավելված N 9'!I98+'Հավելված N 9'!I102 -> 100732.9
C43: Վանաձորի թիվ 11 մանկապարտեզ | D43: =+E43+F43+G43+H43 -> 1870 | G43: =+'Հավելված N 9'!I23+'Հավելված N 9'!I24 -> 1870
...

Sheet Հավելված N 5
F1: Հավելված N 5
E2: ՀՀ կառավարության 2026 թվականի
F3: ______________ ի ___Ն որոշման
B6: ՀԱՅԱՍՏԱՆԻ ՀԱՆՐԱՊԵՏՈՒԹՅԱՆ ԿԱՌԱՎԱՐՈՒԹՅԱՆ 2025 ԹՎԱԿԱՆԻ ԴԵԿՏԵՄԲԵՐԻ 25-Ի N 1910-Ն ՈՐՈՇՄԱՆ N 5 ՀԱՎԵԼՎԱԾԻ N 2 ԱՂՅՈՒՍԱԿՈՒՄ ԿԱՏԱՐՎՈՂ ՓՈՓՈԽՈՒԹՅՈՒՆՆԵՐԸ ԵՎ ԼՐԱՑՈՒՄՆԵՐԸ
G8: հազ. դրամներով
B9: Ծրագրային դասիչ | D9: Բյուջետային գլխավոր կարգադրիչների, ծրագրերի, միջոցառումների, միջոցառումները կատարող պետական մարմինների և ուղղությունների անվանումները | E9: Ցուցանիշների փոփոխությունը (ավելացումները նշված են դրական նշանով, իսկ նվազեցումները՝ փակագծերում)
B10: Ծրագիր | C10: Միջոցառում | E10: Առաջին կիսամյակ | F10: Ինն ամիս | G10: Տարի
D11: ՀՀ ԿՐԹՈՒԹՅԱՆ, ԳԻՏՈՒԹՅԱՆ, ՄՇԱԿՈՒՅԹԻ ԵՎ ՍՊՈՐՏԻ ՆԱԽԱՐԱՐՈՒԹՅՈՒՆ | E11: =+E13+E16+E24+E95+E100 -> 569106.1 | F11: =+F13+F16+F24+F95+F100 -> 433285.9 | G11: =+G13+G16+G24+G95+G100 -> -534680
D12: այդ թվում՝
B13: 1041 | C13: 21001 | D13: Հայաստանում Ֆրանկոֆոնիայի խաղերի անցկացման համար անհրաժեշտ ենթակառուցվածքների ապահովում | E13: =+E15 -> 0 | F13: =+F15 -> -8400 | G13: =+G15 -> -8400
D14: այդ թվում` ըստ կատարողների
D15: ՀՀ կրթության, գիտության, մշակությի և սպորտի նախարարություն | E15: =+E17 -> 0 | F15: =+G15 -> -8400 | G15: =+'Հավելված N 4'!D15 -> -8400
B16: 1236 | C16: 32001 | D16: Մանկապարտեզների նոր շենքերի կառուցում | E16: =+E18+E21 -> 1600000 | F16: =+F18+F21 -> 2600000 | G16: =+G18+G21 -> 3500000
D17: այդ թվում` ըստ կատարողների
D18: ՀՀ կրթության, գիտության, մշակությի և սպորտի նախարարություն | E18: =+E20 -> 1000000 | F18: =+F20 -> 1600000 | G18: =+G20 -> 2000000
D19: այդ թվում՝ ըստ ուղղությունների
D20: Մանկապարտեզների նոր շենքերի կառուցում | E20: 1000000 | F20: 1600000 | G20: 2000000
D21: ՀՀ քաղաքաշինության կոմիտե | E21: =+E23 -> 600000 | F21: =+F23 -> 1000000 | G21: =+G23 -> 1500000
D22: այդ թվում՝ ըստ ուղղությունների
D23: Մանկապարտեզների նոր շենքերի կառուցում | E23: 600000 | F23: 1000000 | G23: 1500000
B24: 1236 | C24: 32002 | D24: Մանկապարտեզների շենքերի վերակառուցում, հիմնանորոգում | E24: =+E26+E27+E31+E39+E47+E50+E58+E65+E71+E77+E82+E87 -> 950798 | F24: =+F26+F27+F31+F39+F47+F50+F58+F65+F71+F77+F82+F87 -> 953377.8 | G24: =+G26+G27+G31+G39+G47+G50+G58+G65+G71+G77+G82+G87 -> -14588.1
D25: այդ թվում` ըստ կատարողների
D26: ՀՀ կառավարություն | E26: =-1091682.6 -> -1091682.6 | F26: =-2183365.3 -> -2183365.3 | G26: =-G27-G31-G39-G47-G50-G58-G65-G71-G77-G82-G87-'Հավելված N 6'!J13-'Հավելված N 9'!I70 -> -3531957.9
D27: ՀՀ կրթության, գիտության, մշակությի և սպորտի նախարարություն | E27: =+E29 -> 1870 | F27: =+F29 -> 1870 | G27: =+G29 -> 1870
D28: այդ թվում՝ ըստ ուղղությունների
D29: ՀՀ Լոռու մարզ | E29: =+E30 -> 1870 | F29: =+F30 -> 1870 | G29: =+G30 -> 1870
D30: =+'Հավելված N 4'!C43 -> Վանաձորի թիվ 11 մանկապարտեզ | E30: =+G30 -> 1870 | F30: =+G30 -> 1870 | G30: =+'Հավելված N 4'!D43 -> 1870
D31: ՀՀ Արագածոտնի մարզպետի աշխատակազմ | E31: =+E33 -> 195098.4 | F31: =+F33 -> 277831.1 | G31: =+G33 -> 296331.7
D32: այդ թվում՝ ըստ ուղղությունների
D33: ՀՀ Արագածոտնի մարզ | E33: =SUM(E34:E38) -> 195098.4 | F33: =SUM(F34:F38) -> 277831.1 | G33: =SUM(G34:G38) -> 296331.7
D34: =+'Հավելված N 4'!C23 -> «Աշտարակի թիվ 5 Արաքս Մուրադյանի անվան մանկապարտեզ» ՀՈԱԿ | E34: =+ROUND(G34*0.7,1) -> 36102.4 | F34: =+G34 -> 51574.9 | G34: =+'Հավելված N 4'!D23 -> 51574.9
D35: =+'Հավելված N 4'!C24 -> Աշտարակ բնակավայրի թիվ 1 «Մանուշակ մանկապարտեզ» ՀՈԱԿ | E35: =+ROUND(G35*0.6,1) -> 74002.5 | F35: =+ROUND(G35*0.85,1) -> 104836.9 | G35: =+'Հավելված N 4'!D24 -> 123337.5
D36: =+'Հավելված N 4'!C25 -> Ապարանի թիվ 1 մանկապարտեզ ՀՈԱԿ | E36: =+ROUND(G36*0.7,1) -> 41113 | F36: =+G36 -> 58732.9 | G36: =+'Հավելված N 4'!D25 -> 58732.9
D37: =+'Հավելված N 4'!C26 -> «Քուչակի մանկապարտեզ» ՀՈԱԿ | E37: =+ROUND(G37*0.7,1) -> 18772.6 | F37: =+G37 -> 26818 | G37: =+'Հավելված N 4'!D26 -> 26818
D38: =+'Հավելված N 4'!C27 -> «Հարթավանի մանկապարտեզ» ՀՈԱԿ | E38: =+ROUND(G38*0.7,1) -> 25107.9 | F38: =+G38 -> 35868.4 | G38: =+'Հավելված N 4'!D27 -> 35868.4
D39: ՀՀ Արարատի մարզպետի աշխատակազմ | E39: =+E41+E42 -> 370059.6 | F39: =+F41+F42 -> 524791.8 | G39: =+G41+G42 -> 605952.5
D40: այդ թվում՝ ըստ ուղղությունների
D41: Մանկապարտեզների շենքերի վերակառուցում, հիմնանորոգում | E41: =+ROUND(G41*0.6,1) -> 121824.4 | F41: =+ROUND(G41*0.85,1) -> 172584.5 | G41: =+ROUND((361926.2+7238.5)*0.55,1) -> 203040.6
D42: ՀՀ Արարատի մարզ | E42: =SUM(E43:E46) -> 248235.2 | F42: =SUM(F43:F46) -> 352207.3 | G42: =SUM(G43:G46) -> 402911.9
D43: =+'Հավելված N 4'!C29 -> «Վեդու թիվ 2» նախադպրոցական ուսումնական հաստատություն ՀՈԱԿ | E43: =+ROUND(G43*0.6,1) -> 84460.3 | F43: =+ROUND(G43*0.85,1) -> 119652.1 | G43: =+'Հավելված N 4'!D29 -> 140767.2
...

Sheet Հավելված N 6
J1: Հավելված N 6
J2: ՀՀ կառավարության 2026 թվականի
J3: ______________ ի ___Ն որոշման
A6: «ՀԱՅԱՍՏԱՆԻ ՀԱՆՐԱՊԵՏՈՒԹՅԱՆ 2026ԹՎԱԿԱՆԻ ՊԵՏԱԿԱՆ ԲՅՈՒՋԵԻ ՄԱՍԻՆ» ՕՐԵՆՔԻ N 1 ՀԱՎԵԼՎԱԾԻ N 4 ԱՂՅՈՒՍԱԿՈՒՄ ԵՎ ՀԱՅԱՍՏԱՆԻ ՀԱՆՐԱՊԵՏՈՒԹՅԱՆ ԿԱՌԱՎԱՐՈՒԹՅԱՆ 2025 ԹՎԱԿԱՆԻ ԴԵԿՏԵՄԲԵՐԻ 25-Ի N 1910-Ն ՈՐՈՇՄԱՆ N 5 ՀԱՎԵԼՎԱԾԻ N 3 ԱՂՅՈՒՍԱԿՈՒՄ ԿԱՏԱՐՎՈՂ ԼՐԱՑՈՒՄԸ
L8: հազ. դրամներով
A9: Ծրագրային դասիչը | C9: Բյուջետային հատկացումների գլխավոր կարգադրիչների, ծրագրերի, միջոցառումների և միջոցառումները կատարող պետական մարմինների անվանումները | D9: Ցուցանիշների փոփոխությունը (ավելացումները նշված են դրական նշանով)
D10: Առաջին կիսամյակ | G10: Ինն ամիս | J10: Տարի
D11: Ընդամենը | E11: այդ թվում` | G11: Ընդամենը | H11: այդ թվում` | J11: Ընդամենը | K11: այդ թվում`
A12: Ծրագիր | B12: Միջոցառում | E12: Վարկային միջոցներ | F12: Համաֆինան սավորում | H12: Վարկային միջոցներ | I12: Համաֆինան սավորում | K12: Վարկային միջոցներ | L12: Համաֆինան սավորում
C13: ԸՆԴԱՄԵՆԸ | D13: =+E13+F13 -> 12676.5 | E13: =+E15 -> 0 | F13: =+F15 -> 12676.5 | G13: =+H13+I13 -> 12676.5 | H13: =+H15 -> 0 | I13: =+I15 -> 12676.5 | J13: =+K13+L13 -> 12676.5 | K13: =+K15 -> 0 | L13: =+L15 -> 12676.5
C14: այդ թվում`
C15: ՈՉ ՖԻՆԱՆՍԱԿԱՆ ԱԿՏԻՎՆԵՐԻ ԳԾՈՎ ԾԱԽՍԵՐ | D15: =+E15+F15 -> 12676.5 | E15: =+E16 -> 0 | F15: =+F16 -> 12676.5 | G15: =+H15+I15 -> 12676.5 | H15: =+H16 -> 0 | I15: =+I16 -> 12676.5 | J15: =+K15+L15 -> 12676.5 | K15: =+K16 -> 0 | L15: =+L16 -> 12676.5
C16: ՀՀ կրթության, գիտության, մշակույթի և սպորտի նախարարություն | D16: =+E16+F16 -> 12676.5 | E16: =+E18 -> 0 | F16: =+F18 -> 12676.5 | G16: =+H16+I16 -> 12676.5 | H16: =+H18 -> 0 | I16: =+I18 -> 12676.5 | J16: =+K16+L16 -> 12676.5 | K16: =+K18 -> 0 | L16: =+L18 -> 12676.5
C17: այդ թվում`
A18: 1192 | C18: Կրթության որակի ապահովում | D18: =SUM(E18:F18) -> 12676.5 | E18: =+E20 -> 0 | F18: =+F20 -> 12676.5 | G18: =SUM(H18:I18) -> 12676.5 | H18: =+H20 -> 0 | I18: =+I20 -> 12676.5 | J18: =SUM(K18:L18) -> 12676.5 | K18: =+K20 -> 0 | L18: =+L20 -> 12676.5
C19: այդ թվում`
B20: 11023 | C20: Համաշխարհային բանկի աջակցությամբ իրականացվող «Կրթության բարելավման ծրագրի լրացուցիչ ֆինանսավորում» վարկային ծրագիր | D20: =SUM(E20:F20) -> 12676.5 | E20: =+E22 -> 0 | F20: =+F22 -> 12676.5 | G20: =SUM(H20:I20) -> 12676.5 | H20: =+H22 -> 0 | I20: =+I22 -> 12676.5 | J20: =SUM(K20:L20) -> 12676.5 | K20: =+K22 -> 0 | L20: =+L22 -> 12676.5
C21: այդ թվում` ըստ կատարողների
C22: ՀՀ կրթության , գիտության, մշակույթի և սպորտի նախարարություն | D22: =SUM(E22:F22) -> 12676.5 | E22: =+E24 -> 0 | F22: =+F24 -> 12676.5 | G22: =SUM(H22:I22) -> 12676.5 | H22: =+H24 -> 0 | I22: =+I24 -> 12676.5 | J22: =SUM(K22:L22) -> 12676.5 | K22: =+K24 -> 0 | L22: =+L24 -> 12676.5
C23: այդ թվում` բյուջետային ծախսերի տնտեսագիտական դասակարգման հոդվածներ
C24: ԸՆԴԱՄԵՆԸ ԾԱԽՍԵՐ | D24: =+E24+F24 -> 12676.5 | E24: =+E25 -> 0 | F24: =+F25 -> 12676.5 | G24: =+H24+I24 -> 12676.5 | H24: =+H25 -> 0 | I24: =+I25 -> 12676.5 | J24: =+K24+L24 -> 12676.5 | K24: =+K25 -> 0 | L24: =+L25 -> 12676.5
C25: ԸՆԹԱՑԻԿ ԾԱԽՍԵՐ | D25: =+E25+F25 -> 12676.5 | E25: =+E26 -> 0 | F25: =+F26 -> 12676.5 | G25: =+H25+I25 -> 12676.5 | H25: =+H26 -> 0 | I25: =+I26 -> 12676.5 | J25: =+K25+L25 -> 12676.5 | K25: =+K26 -> 0 | L25: =+L26 -> 12676.5
C26: ԴՐԱՄԱՇՆՈՐՀՆԵՐ | D26: =+E26+F26 -> 12676.5 | E26: =+E27 -> 0 | F26: =+F27 -> 12676.5 | G26: =+H26+I26 -> 12676.5 | H26: =+H27 -> 0 | I26: =+I27 -> 12676.5 | J26: =+K26+L26 -> 12676.5 | K26: =+K27 -> 0 | L26: =+L27 -> 12676.5
C27: Ընթացիկ դրամաշնորհներ պետական հատվածի այլ մակարդակներին | D27: =+E27+F27 -> 12676.5 | E27: =+E28 -> 0 | F27: =+F28 -> 12676.5 | G27: =+H27+I27 -> 12676.5 | H27: =+H28 -> 0 | I27: =+I28 -> 12676.5 | J27: =+K27+L27 -> 12676.5 | K27: =+K28 -> 0 | L27: =+L28 -> 12676.5
C28: - Ընթացիկ դրամաշնորհներ պետական և համայնքային ոչ առևտրային կազմակերպություններին | D28: =+E28+F28 -> 12676.5 | F28: =+L28 -> 12676.5 | G28: =+H28+I28 -> 12676.5 | I28: =+L28 -> 12676.5 | J28: =+K28+L28 -> 12676.5 | L28: 12676.5

Sheet Հավելված N 7
J1: Հավելված N 7
J2: ՀՀ կառավարության 2026 թվականի
J3: ______________ ի ___Ն որոշման
A6: ՀԱՅԱՍՏԱՆԻ ՀԱՆՐԱՊԵՏՈՒԹՅԱՆ ԿԱՌԱՎԱՐՈՒԹՅԱՆ 2025 ԹՎԱԿԱՆԻ ԴԵԿՏԵՄԲԵՐԻ 25-Ի N 1910-Ն ՈՐՈՇՄԱՆ N 9 ՀԱՎԵԼՎԱԾՈՒՄ ԿԱՏԱՐՎՈՂ ՓՈՓՈԽՈՒԹՅՈՒՆՆԵՐԸ ԵՎ ԼՐԱՑՈՒՄՆԵՐԸ
K8: հազար դրամներոով
A9: ԲԳԿ | B9: Ծրագիր | D9: Միջոցառում | H9: Իրականացնողը/ ակտիվն օգտագործողը/ շահառուի ընտրության չափորոշիչը | I9: Արդյունքային չափորոշիչը | J9: Ցուցանիշների փոփոխությունը (ավելացումները նշված են դրական նշանով, իսկ նվազեցումները՝ փակագծերում)
B10: Դասիչը | C10: Անվանումը | D10: Դասիչը | E10: Անվանումը | F10: Նկարագրությունը | G10: Տեսակը | J10: Առաջին կիսամյակ | K10: Ինն ամիս | L10: Տարի
A11: ԸՆԴԱՄԵՆԸ | J11: =+J13 -> 973786.1 | K11: =+K13 -> 967965.9 | L11: =+L13 -> 4.6566129e-10
A12: այդ թվում՝
A13: ՀՀ ԿՐԹՈՒԹՅԱՆ, ԳԻՏՈՒԹՅԱՆ, ՄՇԱԿՈԻՅԹԻ ԵՎ ՍՊՈՐՏԻ ՆԱԽԱՐԱՐՈՒԹՅՈՒՆ | J13: =+J14+J20+J25 -> 973786.1 | K13: =+K14+K20+K25 -> 967965.9 | L13: =+L14+L20+L25 -> 4.6566129e-10
B14: 1041 | C14: Մեծ նվաճումների սպորտ | J14: =+J15 -> 8400 | K14: =+K15 -> 0 | L14: =+L15 -> 0
D15: 1041 - 21001 | E15: Հայաստանում Ֆրանկոֆոնիայի խաղերի անցկացման համար անհրաժեշտ ենթակառուցվածքների ապահովում | J15: =+'Հավելված N 2'!G17 -> 8400 | K15: =+'Հավելված N 2'!H17 -> 0 | L15: =+'Հավելված N 2'!I17 -> 0
F16: Հայաստանում 2027 թվականին Ֆրանկոֆոնիայի խաղերի անցկացման նպատակով համապատասխան ենթակառուցվածքների ստեղծում, բարելավում
G17: Հանրության կողմից անմիջականորեն օգտագործվող ակտիվների հետ կապված միջոցառումներ
H18: Ծառայությունը մատուցողի անվանումը` Մասնագիտացված կազմակերպություն
I19: Շենքերի և շինությունների տեխնիկական վիճակի հետազննություն և արձանագրավորում, հատ | J19: 1 | L19: 1
B20: 1192 | C20: Կրթության որակի ապահովում | J20: =+J21 -> 12676.5 | K20: =+K21 -> 12676.5 | L20: =+L21 -> 12676.5
D21: 1192 - 11023 | E21: Համաշխարհային բանկի աջակցությամբ իրականացվող «Կրթության բարելավման ծրագրի լրացուցիչ ֆինանսավորում» վարկային ծրագիր | J21: =+'Հավելված N 2'!G19 -> 12676.5 | K21: =+'Հավելված N 2'!H19 -> 12676.5 | L21: =+'Հավելված N 2'!I19 -> 12676.5
F22: Հանրակրթության որակի բարելավում, աջակցություն Նորարարությունների մրցակցային հիմնադրամի զարգացմանը, ծրագրի համակարգում և կառավարում
G23: Ծառայությունների մատուցում
H24: Ծառայությունը մատուցողի անվանումը` Մասնագիտացված միավոր
B25: 1236 | C25: Հանրակրթական և նախադպրոցական հաստատությունների հիմնում, կառուցում, բարելավում | J25: =J26+J30+J35+J44+J48 -> 952709.6 | K25: =K26+K30+K35+K44+K48 -> 955289.4 | L25: =L26+L30+L35+L44+L48 -> -12676.5
D26: 1236 - 11001 | E26: Հանրակրթական և նախադպրոցական հաստատությունների կառուցման, վերակառուցման, հիմնանորոգման ծրագրերի համակարգման և մոնիտորինգի ծառայություններ | J26: =+'Հավելված N 2'!G21 -> 379124.9 | K26: =+'Հավելված N 2'!H21 -> 509124.9 | L26: =+'Հավելված N 2'!I21 -> 509124.9
F27: Հանրակրթական և նախադպրոցական հաստատություններիկառուցման, վերակառուցման, հիմնանորոգման ծրագրերիհամակարգման և մոնիտորինգի ծառայությունների ապահովում
G28: Ծառայությունների մատուցում
H29: Ծառայությունը մատուցողի անվանումը` Մասնագիտացված միավոր
D30: 1236 - 32001 | E30: Մանկապարտեզների նոր շենքերի կառուցում | J30: =+'Հավելված N 2'!G22 -> 1600000 | K30: =+'Հավելված N 2'!H22 -> 2600000 | L30: =+'Հավելված N 2'!I22 -> 3500000
F31: Նախադպրոցական կրթության հասանելիության ապահովման նպատակով՛ մանկապարտեզների հիմնում, նոր շենքերի (մասնաշենքերի), ներառյալ՛ ,Մոդուլայինե տիպի շենքերի կառուցում և նախագծում
G32: Այլ պետական կազմակերպությունների կողմից օգտագործվող ոչ ֆինանսական ակտիվների հետ գործառնություններ
H33: Ակտիվն օգտագործող կազմակերպության անվանումը` Նախադպրոցական կրթություն իրականացնող ուսումնական հաստատություններ
I34: Կառուցվող մանկապարտեզների քանակ, հատ | J34: 1 | L34: 1
D35: 1236 - 32002 | E35: Մանկապարտեզների շենքերի վերակառուցում, հիմնանորոգում | J35: =+'Հավելված N 2'!G23 -> 952709.6 | K35: =+'Հավելված N 2'!H23 -> 955289.4 | L35: =+'Հավելված N 2'!I23 -> -12676.5
F36: Նախադպրոցական կրթության հասանելիության ապահովման նպատակով՛ մանկապարտեզների շենքերի (մասնաշենքերի), վերակառուցում, հիմնանորոգում և նախագծում
G37: Այլ պետական կազմակերպությունների կողմից օգտագործվող ոչ ֆինանսական ակտիվների հետ գործառնություններ
H38: Ակտիվն օգտագործող կազմակերպության անվանումը` Նախադպրոցական կրթություն իրականացնող ուսումնական հաստատություններ
I39: Հիմնանորոգվող / վերանորոգվող մանկապարտեզների քանակ, հատ | J39: =+'Հավելված N 8'!J78+'Հավելված N 8'!J88+'Հավելված N 8'!J98+'Հավելված N 8'!J109+'Հավելված N 8'!J119+'Հավելված N 8'!J129+'Հավելված N 8'!J139+'Հավելված N 8'!J149+'Հավելված N 8'!J159+'Հավելված N 8'!J169 -> 37 | L39: =+'Հավելված N 8'!L78+'Հավելված N 8'!L88+'Հավելված N 8'!L98+'Հավելված N 8'!L109+'Հավելված N 8'!L119+'Հավելված N 8'!L129+'Հավելված N 8'!L139+'Հավելված N 8'!L149+'Հավելված N 8'!L159+'Հավելված N 8'!L169 -> 37
I40: Հաստատությունների քանակ, որոնց շինարարական աշխատանքների ավարտվածության աստիճանը 100% է, հատ | L40: =+'Հավելված N 8'!L79+'Հավելված N 8'!L89+'Հավելված N 8'!L99+'Հավելված N 8'!L110+'Հավելված N 8'!L120+'Հավելված N 8'!L130+'Հավելված N 8'!L140+'Հավելված N 8'!L150+'Հավելված N 8'!L160+'Հավելված N 8'!L170 -> 37
I41: Հիմնանորոգված / վերանորոգված մանկապարտեզների հզորությունը | L41: =+'Հավելված N 8'!L80+'Հավելված N 8'!L90+'Հավելված N 8'!L100+'Հավելված N 8'!L111+'Հավելված N 8'!L121+'Հավելված N 8'!L131+'Հավելված N 8'!L141+'Հավելված N 8'!L151+'Հավելված N 8'!L161+'Հավելված N 8'!L171 -> 4706
I42: Նախագծանախահաշվային փաստաթղթերի քանակ, հատ | J42: =+'Հավելված N 8'!J38 -> 1 | L42: =+'Հավելված N 8'!L38 -> 1
I43: Մանկապարտեզների վերանորոգման/հիմնանորոգման համար անհրաժեշտ տեխնիկական վիճակի զննության, չափագրության և նախահաշվային փաստաթղթերի քանակ, հատ | J43: =+'Հավելված N 8'!J101 -> 2 | L43: =+'Հավելված N 8'!L101 -> 2
...

Sheet Հավելված N 8
J1: Հավելված N 8
J2: ՀՀ կառավարության 2026 թվականի
J3: ______________ ի ___Ն որոշման
A6: ՀԱՅԱՍՏԱՆԻ ՀԱՆՐԱՊԵՏՈՒԹՅԱՆ ԿԱՌԱՎԱՐՈՒԹՅԱՆ 2025 ԹՎԱԿԱՆԻ ԴԵԿՏԵՄԲԵՐԻ 25-Ի N 1910-Ն ՈՐՈՇՄԱՆ N 9 ՀԱՎԵԼՎԱԾՈՒՄ ԿԱՏԱՐՎՈՂ ՓՈՓՈԽՈՒԹՅՈՒՆՆԵՐԸ ԵՎ ԼՐԱՑՈՒՄՆԵՐԸ
K8: հազար դրամներոով
A9: ԲՍԿ | B9: Ծրագիր | D9: Միջոցառում | H9: Իրականացնողը/ ակտիվն օգտագործողը/ շահառուի ընտրության չափորոշիչը | I9: Արդյունքային չափորոշիչը | J9: Ցուցանիշների փոփոխությունը (ավելացումները նշված են դրական նշանով, իսկ նվազեցումները՝ փակագծերում)
B10: Դասիչը | C10: Անվանումը | D10: Դասիչը | E10: Անվանումը | F10: Նկարագրությունը | G10: Տեսակը | J10: Առաջին կիսամյակ | K10: Ինն ամիս | L10: Տարի
A11: ԸՆԴԱՄԵՆԸ | J11: =+J13+J44+J72+J65+J82+J92+J103+J113+J123+J133+J143+J153+J163 -> 973786.1 | K11: =+K13+K44+K72+K65+K82+K92+K103+K113+K123+K133+K143+K153+K163 -> 967965.9 | L11: =+L13+L44+L72+L65+L82+L92+L103+L113+L123+L133+L143+L153+L163 -> 4.6566129e-10
A12: այդ թվում՝
A13: ՀՀ ԿՐԹՈՒԹՅԱՆ, ԳԻՏՈՒԹՅԱՆ, ՄՇԱԿՈԻՅԹԻ ԵՎ ՍՊՈՐՏԻ ՆԱԽԱՐԱՐՈՒԹՅՈՒՆ | J13: =+J14+J19+J24 -> 1393671.4 | K13: =+K14+K19+K24 -> 1606146.5 | L13: =+L14+L19+L24 -> 2006146.5
B14: 1041 | C14: Մեծ նվաճումների սպորտ | J14: =+J15 -> 0 | K14: =+K15 -> -8400 | L14: =+L15 -> -8400
D15: 1041 - 21001 | E15: Հայաստանում Ֆրանկոֆոնիայի խաղերի անցկացման համար անհրաժեշտ ենթակառուցվածքների ապահովում | J15: =+'Հավելված N 3'!G28 -> 0 | K15: =+'Հավելված N 3'!H28 -> -8400 | L15: =+'Հավելված N 3'!I28 -> -8400
F16: Հայաստանում 2027 թվականին Ֆրանկոֆոնիայի խաղերի անցկացման նպատակով համապատասխան ենթակառուցվածքների ստեղծում, բարելավում
G17: Հանրության կողմից անմիջականորեն օգտագործվող ակտիվների հետ կապված միջոցառումներ
H18: Ծառայությունը մատուցողի անվանումը` Մասնագիտացված կազմակերպություն
B19: 1192 | C19: Կրթության որակի ապահովում | J19: =+J20 -> 12676.5 | K19: =+K20 -> 12676.5 | L19: =+L20 -> 12676.5
D20: 1192 - 11023 | E20: Համաշխարհային բանկի աջակցությամբ իրականացվող «Կրթության բարելավման ծրագրի լրացուցիչ ֆինանսավորում» վարկային ծրագիր | J20: =+'Հավելված N 3'!G214 -> 12676.5 | K20: =+'Հավելված N 3'!H214 -> 12676.5 | L20: =+'Հավելված N 3'!I214 -> 12676.5
F21: Հանրակրթության որակի բարելավում, աջակցություն Նորարարությունների մրցակցային հիմնադրամի զարգացմանը, ծրագրի համակարգում և կառավարում
G22: Ծառայությունների մատուցում
H23: Ծառայությունը մատուցողի անվանումը` Մասնագիտացված միավոր
B24: 1236 | C24: Հանրակրթական և նախադպրոցական հաստատությունների հիմնում, կառուցում, բարելավում | J24: =J25+J29+J34+J39 -> 1380994.9 | K24: =K25+K29+K34+K39 -> 1601870 | L24: =L25+L29+L34+L39 -> 2001870
D25: 1236 - 11001 | E25: Հանրակրթական և նախադպրոցական հաստատությունների կառուցման, վերակառուցման, հիմնանորոգման ծրագրերի համակարգման և մոնիտորինգի ծառայություններ | J25: =+'Հավելված N 3'!G168 -> 379124.9 | K25: =+'Հավելված N 3'!H168 -> 509124.9 | L25: =+'Հավելված N 3'!I168 -> 509124.9
F26: Հանրակրթական և նախադպրոցական հաստատություններիկառուցման, վերակառուցման, հիմնանորոգման ծրագրերիհամակարգման և մոնիտորինգի ծառայությունների ապահովում
G27: Ծառայությունների մատուցում
H28: Ծառայությունը մատուցողի անվանումը` Մասնագիտացված միավոր
D29: 1236 - 32001 | E29: Մանկապարտեզների նոր շենքերի կառուցում | J29: =+'Հավելված N 3'!G54 -> 1000000 | K29: =+'Հավելված N 3'!H54 -> 1600000 | L29: =+'Հավելված N 3'!I54 -> 2000000
F30: Նախադպրոցական կրթության հասանելիության ապահովման նպատակով՛ մանկապարտեզների հիմնում, նոր շենքերի (մասնաշենքերի), ներառյալ՛ ,Մոդուլայինե տիպի շենքերի կառուցում և նախագծում
G31: Այլ պետական կազմակերպությունների կողմից օգտագործվող ոչ ֆինանսական ակտիվների հետ գործառնություններ
H32: Ակտիվն օգտագործող կազմակերպության անվանումը` Նախադպրոցական կրթություն իրականացնող ուսումնական հաստատություններ
I33: Կառուցվող մանկապարտեզների քանակ, հատ | J33: 1 | L33: 1
D34: 1236 - 32002 | E34: Մանկապարտեզների շենքերի վերակառուցում, հիմնանորոգում | J34: =+'Հավելված N 3'!G70 -> 1870 | K34: =+'Հավելված N 3'!H70 -> 1870 | L34: =+'Հավելված N 3'!I70 -> 1870
F35: Նախադպրոցական կրթության հասանելիության ապահովման նպատակով՛ մանկապարտեզների շենքերի (մասնաշենքերի), վերակառուցում, հիմնանորոգում և նախագծում
G36: Այլ պետական կազմակերպությունների կողմից օգտագործվող ոչ ֆինանսական ակտիվների հետ գործառնություններ
H37: Ակտիվն օգտագործող կազմակերպության անվանումը` Նախադպրոցական կրթություն իրականացնող ուսումնական հաստատություններ
I38: Նախագծանախահաշվային փաստաթղթերի քանակ, հատ | J38: 1 | L38: 1
D39: 1236 - 32004 | E39: Հանրակրթական դպրոցների շենքերի վերակառուցում, հիմնանորոգում | J39: =+'Հավելված N 3'!G186 -> 0 | K39: =+'Հավելված N 3'!H186 -> -509124.9 | L39: =+'Հավելված N 3'!I186 -> -509124.9
F40: Դպրոցական պարտադիր կրթության հասանելիության ապահովման նպատակով՛ հանրակրթական դպրոցների շենքերի (մասնաշենքերի), վերակառուցում, հիմնանորոգում և նախագծում
G41: Այլ պետական կազմակերպությունների կողմից օգտագործվող ոչ ֆինանսական ակտիվների հետ գործառնություններ
H42: Ակտիվն օգտագործող կազմակերպության անվանումը` Հանրակրթական դպրոցներ
A44: ՀՀ ՔԱՂԱՔԱՇԻՆՈՒԹՅԱՆ ԿՈՄԻՏԵ | J44: =+J45+J51 -> -1370724.9 | K44: =+K45+K51 -> -1591600 | L44: =+L45+L51 -> -1991600
...

Sheet Հավելված N 9
H1: Հավելված N 9
H2: ՀՀ կառավարության 2026 թվականի
H3: ______________ ի ___Ն որոշման
A6: ՀԱՅԱՍՏԱՆԻ ՀԱՆՐԱՊԵՏՈՒԹՅԱՆ ԿԱՌԱՎԱՐՈՒԹՅԱՆ 2025 ԹՎԱԿԱՆԻ ԴԵԿՏԵՄԲԵՐԻ 25-Ի N 1910-Ն N 10 ՀԱՎԵԼՎԱԾՈՒՄ ԿԱՏԱՐՎՈՂ ՓՈՓՈԽՈՒԹՅՈՒՆՆԵՐԸ ԵՎ ԼՐԱՑՈՒՄՆԵՐԸ
A10: Կոդը | B10: Անվանումը | E10: Գնման ձևը | F10: Չափման միավորը | G10: Միավորի գինը | H10: Ցուցանիշների փոփոխությունը (ավելացումները նշված են դրական նշանով, իսկ նվազեցումները՝ փակագծերում)
H11: Քանակը | I11: Գումարը (հազար դրամ)
A12: 1 | B12: 2 | E12: 3 | F12: 4 | G12: 5 | H12: 6 | I12: 7
A13: ՀՀ կրթության, գիտության, մշակույթի և սպորտի նախարարություն | I13: =+I14+I20+I25 -> 502594.9
A14: Բաժին N 08 | B14: Խումբ N 01 | C14: Դաս N 01 | D14: Հանգստի և սպորտի ծառայություններ | I14: =+I15 -> -8400
A15: 1041-21001 | B15: Հայաստանում Ֆրանկոֆոնիայի խաղերի անցկացման համար անհրաժեշտ ենթակառուցվածքների ապահովում | I15: =+I16 -> -8400
B16: ՄԱՍ I. ԱՊՐԱՆՔՆԵՐ | I16: =SUM(I17:I19) -> -8400
A17: 39121410-1 | B17: սեղան` համակարգչի | E17: ԷԱՃ | F17: դրամ | G17: 300000 | H17: -10 | I17: =+ROUNDDOWN(G17*H17/1000,1) -> -3000
A18: 30232130-1 | B18: գունավոր տպիչներ | E18: ԷԱՃ | F18: դրամ | G18: 400000 | H18: -1 | I18: =+ROUNDDOWN(G18*H18/1000,1) -> -400
A19: 30239110-2 | B19: տպիչ սարք, բազմաֆունկցիոնալ, A4, 18 էջ/րոպե արագության | E19: ԷԱՃ | F19: դրամ | G19: 500000 | H19: -10 | I19: =+ROUNDDOWN(G19*H19/1000,1) -> -5000
A20: Բաժին N 09 | B20: Խումբ N 01 | C20: Դաս N 01 | D20: Նախադպրոցական կրթություն | I20: =+I21 -> 1870
A21: 1236-32002 | B21: Մանկապարտեզների շենքերի վերակառուցում, հիմնանորոգում | I21: =+I22 -> 1870
B22: ՄԱՍ III. ԾԱՌԱՅՈՒԹՅՈՒՆՆԵՐ | I22: =SUM(I23:I24) -> 1870
A23: 71241200 | B23: նախագծերի պատրաստում, ծախսերի գնահատում | E23: ՀՄԱ | F23: դրամ | G23: 1700000 | H23: 1 | I23: =+ROUNDUP(G23*H23/1000,1) -> 1700 | J23: Վանաձորի 11
A24: 50531140 | B24: փորձաքննության ծառայություններ | E24: ԳՀ | F24: դրամ | G24: 170000 | H24: 1 | I24: =+ROUNDUP(G24*H24/1000,1) -> 170 | J24: Վանաձորի 11
A25: Բաժին N 09 | B25: Խումբ N 02 | C25: Դաս N 01 | D25: Հիմնական ընդհանուր կրթություն | I25: =+I26 -> 509124.9
A26: 1236-11001 | B26: Հանրակրթական և նախադպրոցական հաստատությունների կառուցման, վերակառուցման, հիմնանորոգման ծրագրերի համակարգման և մոնիտորինգի ծառայություններ | I26: =+I27 -> 509124.9
B27: ՄԱՍ III. ԾԱՌԱՅՈՒԹՅՈՒՆՆԵՐ | I27: =+I28 -> 509124.9
A28: 71621100 | B28: տեխնիկական վերլուծության և խորհրդատվության ծառայություններ | E28: ՀԲՄ | F28: դրամ | G28: 509124850 | H28: 1 | I28: =+ROUNDUP(G28*H28/1000,1) -> 509124.9
A30: ՀՀ քաղաքաշինության կոմիտե | I30: =I31+I35 -> 10967
A31: Բաժին N 08 | B31: Խումբ N 01 | C31: Դաս N 01 | D31: Հանգստի և սպորտի ծառայություններ | I31: =+I32 -> 8400
A32: 1041-21001 | B32: Հայաստանում Ֆրանկոֆոնիայի խաղերի անցկացման համար անհրաժեշտ ենթակառուցվածքների ապահովում | I32: =+I33 -> 8400
B33: ՄԱՍ III. ԾԱՌԱՅՈՒԹՅՈՒՆՆԵՐ | I33: =+I34 -> 8400
A34: 71631140-502 | B34: շենքերի տեխնիկական ստուգման ծառայություններ | E34: ԳՀ | F34: դրամ | G34: 8400000 | H34: 1 | I34: =+ROUNDUP(G34*H34/1000,1) -> 8400 | J34: Հրազդան մարզադաշտ
A35: Բաժին N 09 | B35: Խումբ N 02 | C35: Դաս N 01 | D35: Հիմնական ընդհանուր կրթություն | I35: =+I36 -> 2567
A36: 1236-32004 | B36: Հանրակրթական դպրոցների շենքերի վերակառուցում, հիմնանորոգում | I36: =+I37 -> 2567
B37: ՄԱՍ III. ԾԱՌԱՅՈՒԹՅՈՒՆՆԵՐ | I37: =SUM(I38:I38) -> 2567
A38: 71621100 | B38: տեխնիկական վերլուծության և խրհրդատվության ծառայություններ | E38: ՀՄԱ | F38: դրամ | G38: 2567000 | H38: 1 | I38: =+ROUNDUP(H38*G38/1000,1) -> 2567 | J38: Ներքին Բազմաբերդ
A40: ՀՀ Արագածոտնի մարզպետի աշխատակազմ | I40: =+I41 -> 296331.7
A41: Բաժին N 09 | B41: Խումբ N 01 | C41: Դաս N 01 | D41: Նախադպրոցական կրթություն | I41: =+I42 -> 296331.7
A42: 1236-32002 | B42: Մանկապարտեզների շենքերի վերակառուցում, հիմնանորոգում | I42: =+I43+I49 -> 296331.7
B43: ՄԱՍ II. ԱՇԽԱՏԱՆՔՆԵՐ | I43: =SUM(I44:I48) -> 289402.8
A44: 45461100-501 | B44: շենքերի, շինությունների ընթացիկ նորոգման աշխատանքներ | E44: ՀԲՄ | F44: դրամ | G44: =71880000*0.7 -> 50316000 | H44: 1 | I44: =+ROUNDUP(G44*H44/1000,1) -> 50316 | J44: Աշտարակի 5
A45: 45461100-502 | B45: շենքերի, շինությունների ընթացիկ նորոգման աշխատանքներ | E45: ՀԲՄ | F45: դրամ | G45: =218880000*0.55 -> 1.20384e+08 | H45: 1 | I45: =+ROUNDUP(G45*H45/1000,1) -> 120384 | J45: Աշտարակի 1
A46: 45461100-506 | B46: շենքերի, շինությունների ընթացիկ նորոգման աշխատանքներ | E46: ՀԲՄ | F46: դրամ | G46: =81900000*0.7 -> 57330000 | H46: 1 | I46: =+ROUNDUP(G46*H46/1000,1) -> 57330 | J46: Ապարանի 1
A47: 45461100-507 | B47: շենքերի, շինությունների ընթացիկ նորոգման աշխատանքներ | E47: ՀԲՄ | F47: դրամ | G47: 26280000 | H47: 1 | I47: =+ROUNDUP(G47*H47/1000,1) -> 26280 | J47: Քուչակ
...
