Workbook
Name a: #REF!
Name a: #REF!
Name a: #REF!
Name a: #REF!
Name a: #REF!
Name a: #REF!
Name AgencyCode: #REF!
Name AgencyCode: #REF!
Name AgencyCode: #REF!
Name AgencyCode: #REF!
Name AgencyCode: #REF!
Name AgencyCode: #REF!
Name AgencyName: #REF!
Name AgencyName: #REF!
Name AgencyName: #REF!
Name AgencyName: #REF!
Name AgencyName: #REF!
Name åû: #REF!
Name åû: #REF!
Name BOP: #REF!
Name BOPfoot: #REF!
Name davit: #REF!
Name davit: #REF!
Name davit: #REF!
Name davit: #REF!
Name DebtCG: #REF!
Name DebtGG: #REF!
Name Functional1: #REF!
Name Functional1: #REF!
Name Functional1: #REF!
Name Functional1: #REF!
Name Functional1: #REF!
Name ggg: #REF!
Name ggg: #REF!
Name ggg: #REF!
Name ggg: #REF!
Name hav: #REF!
Name mas: #REF!
Name mas: #REF!
Name mass: #REF!
Name mass: #REF!
Name MonExo: #REF!
Name MonGrow: #REF!
Name PANature: #REF!
Name PANature: #REF!
Name PANature: #REF!
Name PANature: #REF!
Name PANature: #REF!
Name PAType: #REF!
Name PAType: #REF!
Name PAType: #REF!
Name PAType: #REF!
Name PAType: #REF!
Name Performance2: #REF!
Name Performance2: #REF!
Name Performance2: #REF!
Name Performance2: #REF!
Name Performance2: #REF!
Name PerformanceType: #REF!
Name PerformanceType: #REF!

Sheet Հավելված N 1 
D1: Հավելված N 1
D2: ՀՀ կառավարության 2026 թվականի
D3: ______________ ի ___Ն որոշման
A5: «ՀԱՅԱՍՏԱՆԻ ՀԱՆՐԱՊԵՏՈՒԹՅԱՆ 2025 ԹՎԱԿԱՆԻ ՊԵՏԱԿԱՆ ԲՅՈՒՋԵԻ ՄԱՍԻՆ» ՕՐԵՆՔԻ 3-ՐԴ ՀՈԴՎԱԾԻ, N 3 ՀԱՎԵԼՎԱԾԻ N 1 ԱՂՅՈՒՍԱԿՈՒՄ ԵՎ ՀԱՅԱՍՏԱՆԻ ՀԱՆՐԱՊԵՏՈՒԹՅԱՆ ԿԱՌԱՎԱՐՈՒԹՅԱՆ 2025 ԹՎԱԿԱՆԻ ԴԵԿՏԵՄԲԵՐԻ 25-Ի N 1910-Ն ՈՐՈՇՄԱՆ N 1 ՀԱՎԵԼՎԱԾԻ N 1 ԱՂՅՈՒՍԱԿՈՒՄ ԿԱՏԱՐՎՈՂ ՓՈՓՈԽՈՒԹՅՈՒՆԸ
D7: հազ. դրամ
A8: Պետական բյուջեի դեֆիցիտի ֆինանսավորման աղբյուրներն ու դրանց տարրերի անվանումները | B8: Ցուցանիշների փոփոխությունը (ավելացումները նշված են դրական նշանով)
B9: Առաջին կիսամյակ | C9: Ինն ամիս | D9: Տարի
A10: ԸՆԴԱՄԵՆԸ | B10: =+B12 -> 973786.1 | C10: =+C12 -> 967965.9 | D10: =+D12 -> 4.6566129e-10
A11: այդ թվում՝
A12: Ա.Ներքին աղբյուրներ-ընդամենը | B12: =+B14 -> 973786.1 | C12: =+C14 -> 967965.9 | D12: =+D14 -> 4.6566129e-10
A13: այդ թվում՝
A14: 2. Ֆինանսական զուտ ակտիվներ | B14: =+B16 -> 973786.1 | C14: =+C16 -> 967965.9 | D14: =+D16 -> 4.6566129e-10
A15: այդ թվում՝
A16: 2.6.Այլ | B16: =+B18 -> 973786.1 | C16: =+C18 -> 967965.9 | D16: =+D18 -> 4.6566129e-10
A17: որից՝
A18: Ժամանակավորապես ազատ միջոցներ | B18: =+'Հավելված N 2'!G13 -> 973786.1 | C18: =+'Հավելված N 2'!H13 -> 967965.9 | D18: =+'Հավելված N 2'!I13 -> 4.6566129e-10

Sheet Հավելված N 2
F1: Հավելված N 2
F2: ՀՀ կառավարության 2026 թվականի
F3: ______________ ի ___Ն որոշման
A6: «ՀԱՅԱUՏԱՆԻ ՀԱՆՐԱՊԵՏՈՒԹՅԱՆ 2026 ԹՎԱԿԱՆԻ ՊԵՏԱԿԱՆ ԲՅՈՒՋԵԻ ՄԱUԻՆ» ՀԱՅԱUՏԱՆԻ ՀԱՆՐԱՊԵՏՈՒԹՅԱՆ OՐԵՆՔԻ N 1 ՀԱՎԵԼՎԱԾԻ N 2 ԱՂՅՈՒՍԱԿՈՒՄ ԿԱՏԱՐՎՈՂ ՎԵՐԱԲԱՇԽՈՒՄԸ ԵՎ ՀԱՅԱՍՏԱՆԻ ՀԱՆՐԱՊԵՏՈՒԹՅԱՆ ԿԱՌԱՎԱՐՈՒԹՅԱՆ 2025 ԹՎԱԿԱՆԻ ԴԵԿՏԵՄԲԵՐԻ 25-Ի N 1910-Ն ՈՐՈՇՄԱՆ N 5 ՀԱՎԵԼՎԱԾԻ N 1 ԱՂՅՈՒՍԱԿՈՒՄ ԿԱՏԱՐՎՈՂ ՓՈՓՈԽՈՒԹՅՈՒՆՆԵՐԸ ԵՎ ԼՐԱՑՈՒՄՆԵՐԸ
I9: հազ. դրամներով
A10: ԲԳԿ | B10: Ծրագրային դասիչը | D10: ԲԳԿ/Ծրագրի /միջոցառման անվանումը | E10: Ծրագրի նպատակը/Միջոցառման նկարագրությունը | F10: Վերջնական արդյունքի նկարագրությունը/Միջոցառման տեսակը | G10: Ցուցանիշների փոփոխությունը (ավելացումները նշված են դրական նշանով, իսկ նվազեցումները փակագծերում)
G11: Առաջին կիսամյակ | H11: Ինն ամիս | I11: Տարի
B12: Ծրագիր | C12: Միջոցառում
A13: ԸՆԴԱՄԵՆԸ | G13: =+G15 -> 973786.1 | H13: =+H15 -> 967965.9 | I13: =+I15 -> 4.6566129e-10
A14: այդ թվում՝
A15: ՀՀ ԿՐԹՈՒԹՅԱՆ, ԳԻՏՈՒԹՅԱՆ, ՄՇԱԿՈՒՅԹԻ ԵՎ ՍՊՈՐՏԻ ՆԱԽԱՐԱՐՈՒԹՅՈՒՆ | G15: =+G16+G18+G20 -> 973786.1 | H15: =+H16+H18+H20 -> 967965.9 | I15: =+I16+I18+I20 -> 4.6566129e-10
B16: 1041 | D16: Մեծ նվաճումների սպորտ | E16: Նպաստել Հայաստանում մեծ սպորտի շարունակական զարգացմանը և միջազգային հարթակներում ՀՀ դիրքի բարելավմանը | F16: ՀՀ առաջնությունների ընդլայնում, միջազգային սպորտային միջոցառումներին մասնակցության և նվաճումների ապահովում | G16: =+G17 -> 8400 | H16: =+H17 -> 0 | I16: =+I17 -> 0
C17: 1041 - 21001 | D17: Հայաստանում Ֆրանկոֆոնիայի խաղերի անցկացման համար անհրաժեշտ ենթակառուցվածքների ապահովում | E17: Հայաստանում 2027 թվականին Ֆրանկոֆոնիայի խաղերի անցկացման նպատակով համապատասխան ենթակառուցվածքների ստեղծում, բարելավում | F17: Հանրության կողմից անմիջականորեն օգտագործվող ակտիվների հետ կապված միջոցառումներ | G17: =+'Հավելված N 3'!G26 -> 8400 | H17: =+'Հավելված N 3'!H26 -> 0 | I17: =+'Հավելված N 3'!I26 -> 0
B18: 1192 | D18: Կրթության որակի ապահովում | E18: Ընթացիկ աշխատանքների, բարեփոխումների և նոր նախաձեռնությունների միջոցով ֆորմալ և ոչ-ֆորմալ կրթության ոլորտում իրականացվող միջոցառումների, մատուցվող ծառայությունների բովանդակության և կազմակերպման որակի շարունակական բարելավում | F18: Նախադպրոցականից մինչև հետբուհական կրթության որակի, այն է սովորողների, միջավայրի, ծրագրերի և ուսումնական նյութերի բովանդակության, գործընթացների, ինչպես նաև վերջնարդյունքների որակի բարելավում ըստ ներպետական և միջազգային ցուցիչների | G18: =+G19 -> 12676.5 | H18: =+H19 -> 12676.5 | I18: =+I19 -> 12676.5
C19: 1192 - 11023 | D19: Համաշխարհային բանկի աջակցությամբ իրականացվող «Կրթության բարելավման ծրագրի լրացուցիչ ֆինանսավորում» վարկային ծրագիր | E19: Հանրակրթության որակի բարելավում, աջակցություն Նորարարությունների մրցակցային հիմնադրամի զարգացմանը, ծրագրի համակարգում և կառավարում | F19: Ծառայությունների մատուցում | G19: =+'Հավելված N 3'!G212 -> 12676.5 | H19: =+'Հավելված N 3'!H212 -> 12676.5 | I19: =+'Հավելված N 3'!I212 -> 12676.5
B20: 1236 | D20: Հանրակրթական և նախադպրոցական հաստատությունների հիմնում, կառուցում, բարելավում | E20: Առնվազն 300 դպրոցի և 500 մանկապարտեզի կառուցման, վերակառուցման, հիմնանորոգման ծրագրերի իրականացում ՀՀ պետական բյուջեի միջոցների շրջանակներում | F20: Կրթական միջավայրի բարելավում | G20: =SUM(G21:G25) -> 952709.6 | H20: =SUM(H21:H25) -> 955289.4 | I20: =SUM(I21:I25) -> -12676.5
C21: 1236 - 11001 | D21: Հանրակրթական և նախադպրոցական հաստատությունների կառուցման, վերակառուցման, հիմնանորոգման ծրագրերի համակարգման և մոնիտորինգի ծառայություններ | E21: Հանրակրթական և նախադպրոցական հաստատություններիկառուցման, վերակառուցման, հիմնանորոգման ծրագրերիհամակարգման և մոնիտորինգի ծառայությունների ապահովում | F21: Ծառայությունների մատուցում | G21: =+'Հավելված N 3'!G166 -> 379124.9 | H21: =+'Հավելված N 3'!H166 -> 509124.9 | I21: =+'Հավելված N 3'!I166 -> 509124.9
C22: 1236 - 32001 | D22: Մանկապարտեզների նոր շենքերի կառուցում | E22: Նախադպրոցական կրթության հասանելիության ապահովման նպատակով՛ մանկապարտեզների հիմնում, նոր շենքերի (մասնաշենքերի), ներառյալ՛ ,Մոդուլայինե տիպի շենքերի կառուցում և նախագծում | F22: Այլ պետական կազմակերպությունների կողմից օգտագործվող ոչ ֆինանսական ակտիվների հետ գործառնություններ | G22: =+'Հավելված N 3'!G52 -> 1600000 | H22: =+'Հավելված N 3'!H52 -> 2600000 | I22: =+'Հավելված N 3'!I52 -> 3500000
C23: 1236 - 32002 | D23: Մանկապարտեզների շենքերի վերակառուցում, հիմնանորոգում | E23: Նախադպրոցական կրթության հասանելիության ապահովման նպատակով՛ մանկապարտեզների շենքերի (մասնաշենքերի), վերակառուցում, հիմնանորոգում և նախագծում | F23: Այլ պետական կազմակերպությունների կողմից օգտագործվող ոչ ֆինանսական ակտիվների հետ գործառնություններ | G23: =+'Հավելված N 3'!G68 -> 952709.6 | H23: =+'Հավելված N 3'!H68 -> 955289.4 | I23: =+'Հավելված N 3'!I68 -> -12676.5
C24: 1236 - 32003 | D24: Հանրակրթական դպրոցների նոր շենքերի կառուցում | E24: ՀՀ մարզերում կրթական որակյալ ծառայությունների հասանելիության ապահովման ծրագրի շրջանակներում հանրակրթական և նախադպրոցական կրթության հասանելիության ապահովման նպատակով կրթական կենտրոնների կառուցում | F24: Այլ պետական կազմակերպությունների կողմից օգտագործվող ոչ ֆինանսական ակտիվների հետ գործառնություններ | G24: =+'Հավելված N 3'!G175 -> -600000 | H24: =+'Հավելված N 3'!H175 -> -1000000 | I24: =+'Հավելված N 3'!I175 -> -1250000
C25: 1236 - 32004 | D25: Հանրակրթական դպրոցների շենքերի վերակառուցում, հիմնանորոգում | E25: Դպրոցական պարտադիր կրթության հասանելիության ապահովման նպատակով՛ հանրակրթական դպրոցների շենքերի (մասնաշենքերի), վերակառուցում, հիմնանորոգում և նախագծում | F25: Այլ պետական կազմակերպությունների կողմից օգտագործվող ոչ ֆինանսական ակտիվների հետ գործառնություններ | G25: =+'Հավելված N 3'!G184 -> -1379124.9 | H25: =+'Հավելված N 3'!H184 -> -2109124.9 | I25: =+'Հավելված N 3'!I184 -> -2759124.9

Sheet Հավելված N 3
F1: Հավելված N 3
F2: ՀՀ կառավարության 2026 թվականի
F3: ______________ ի ___Ն որոշման
A7: ՀԱՅԱՍՏԱՆԻ ՀԱՆՐԱՊԵՏՈՒԹՅԱՆ ԿԱՌԱՎԱՐՈՒԹՅԱՆ 2025 ԹՎԱԿԱՆԻ ԴԵԿՏԵՄԲԵՐԻ 25-Ի N 1910-Ն ՈՐՈՇՄԱՆ N 3 ԵՎ N 4 ՀԱՎԵԼՎԱԾՆԵՐՈՒՄ ԿԱՏԱՐՎՈՂ ՓՈՓՈԽՈՒԹՅՈՒՆՆԵՐԸ ԵՎ ԼՐԱՑՈՒՄՆԵՐԸ
I10: հազ. դրամներով
A11: Գործառական դասիչը | D11: Ծրագրային դասիչը | F11: Բյուջետային հատկացումների գլխավոր կարգադրիչների, ծրագրերի, միջոցառումների և միջոցառումները կատարող պետական մարմինների անվանումները | G11: Ցուցանիշների փոփոխությունը (ավելացումները նշված են դրական նշանով, իսկ նվազեցումները փակագծերում)
A12: Բաժին | B12: Խումբ | C12: Դաս | D12: Ծրագիր | E12: Միջոցառում | G12: Առաջին կիսամյակ | H12: Ինն ամիս | I12: Տարի
F13: ԸՆԴԱՄԵՆԸ | G13: =+G15 -> 973786.1 | H13: =+H15 -> 967965.9 | I13: =+I15 -> 4.6566129e-10
F14: այդ թվում՝
F15: ՀՀ ԿՐԹՈՒԹՅԱՆ, ԳԻՏՈՒԹՅԱՆ, ՄՇԱԿՈՒՅԹԻ ԵՎ ՍՊՈՐՏԻ ՆԱԽԱՐԱՐՈՒԹՅՈՒՆ | G15: =+G16+G42 -> 973786.1 | H15: =+H16+H42 -> 967965.9 | I15: =+I16+I42 -> 4.6566129e-10
A16: 08 | F16: ՀԱՆԳԻՍՏ, ՄՇԱԿՈՒՅԹ ԵՎ ԿՐՈՆ | G16: =+G18 -> 8400 | H16: =+H18 -> 0 | I16: =+I18 -> 0
F17: այդ թվում`
B18: 01 | F18: Հանգստի և սպորտի ծառայություններ | G18: =+G20 -> 8400 | H18: =+H20 -> 0 | I18: =+I20 -> 0
F19: այդ թվում`
C20: 01 | F20: Հանգստի և սպորտի ծառայություններ | G20: =+G22 -> 8400 | H20: =+H22 -> 0 | I20: =+I22 -> 0
F21: այդ թվում`
F22: ՀՀ կրթության, գիտության, մշակույթի և սպորտի նախարարություն | G22: =+G24 -> 8400 | H22: =+H24 -> 0 | I22: =+I24 -> 0
F23: այդ թվում`
D24: 1041 | E24: Մեծ նվաճումների սպորտ | G24: =+G26 -> 8400 | H24: =+H26 -> 0 | I24: =+I26 -> 0
F25: այդ թվում`
E26: 21001 | F26: Հայաստանում Ֆրանկոֆոնիայի խաղերի անցկացման համար անհրաժեշտ ենթակառուցվածքների ապահովում | G26: =+G28+G35 -> 8400 | H26: =+H28+H35 -> 0 | I26: =+I28+I35 -> 0
F27: այդ թվում` ըստ կատարողների
F28: ՀՀ կրթության, գիտության, մշակույթի և սպորտի նախարարություն | G28: =+G30 -> 0 | H28: =+H30 -> -8400 | I28: =+I30 -> -8400
F29: այդ թվում` բյուջետային ծախսերի տնտեսագիտական դասակարգման հոդվածներ
F30: ԸՆԴԱՄԵՆԸ ԾԱԽՍԵՐ | G30: =G31 -> 0 | H30: =H31 -> -8400 | I30: =I31 -> -8400
F31: ՈՉ ՖԻՆԱՆՍԱԿԱՆ ԱԿՏԻՎՆԵՐԻ ԳԾՈՎ ԾԱԽՍԵՐ | G31: =+G32 -> 0 | H31: =+H32 -> -8400 | I31: =+I32 -> -8400
F32: ՀԻՄՆԱԿԱՆ ՄԻՋՈՑՆԵՐ | G32: =+G33 -> 0 | H32: =+H33 -> -8400 | I32: =+I33 -> -8400
F33: ՄԵՔԵՆԱՆԵՐ ԵՎ ՍԱՐՔԱՎՈՐՈՒՄՆԵՐ | G33: =+G34 -> 0 | H33: =+H34 -> -8400 | I33: =+I34 -> -8400
F34: - Այլ մեքենաներ և սարքավորումներ | G34: =+'Հավելված N 5'!E15 -> 0 | H34: =+'Հավելված N 5'!F15 -> -8400 | I34: =+'Հավելված N 5'!G15 -> -8400
F35: ՀՀ քաղաքաշինության կոմիտե | G35: =+G37 -> 8400 | H35: =+H37 -> 8400 | I35: =+I37 -> 8400
F36: այդ թվում` բյուջետային ծախսերի տնտեսագիտական դասակարգման հոդվածներ
F37: ԸՆԴԱՄԵՆԸ ԾԱԽՍԵՐ | G37: =G38 -> 8400 | H37: =H38 -> 8400 | I37: =I38 -> 8400
F38: ԸՆԹԱՑԻԿ ԾԱԽՍԵՐ | G38: =+G39 -> 8400 | H38: =+H39 -> 8400 | I38: =+I39 -> 8400
F39: ԾԱՌԱՅՈՒԹՅՈՒՆՆԵՐԻ ԵՎ ԱՊՐԱՆՔՆԵՐԻ ՁԵՌՔԲԵՐՈՒՄ | G39: =+G40 -> 8400 | H39: =+H40 -> 8400 | I39: =+I40 -> 8400
F40: ԱՅԼ ՄԱՍՆԱԳԻՏԱԿԱՆ ԾԱՌԱՅՈՒԹՅՈՒՆՆԵՐԻ ՁԵՌՔ ԲԵՐՈՒՄ | G40: =+G41 -> 8400 | H40: =+H41 -> 8400 | I40: =+I41 -> 8400
F41: - Մասնագիտական ծառայություններ | G41: =+I41 -> 8400 | H41: =+I41 -> 8400 | I41: =+'Հավելված N 9'!I33 -> 8400
A42: 09 | F42: ԿՐԹՈՒԹՅՈՒՆ | G42: =+G44+G158+G204 -> 965386.1 | H42: =+H44+H158+H204 -> 967965.9 | I42: =+I44+I158+I204 -> 4.6566129e-10
F43: այդ թվում`
B44: 01 | F44: Նախադպրոցական և տարրական ընդհանուր կրթություն | G44: =+G46 -> 2552709.6 | H44: =+H46 -> 3555289.4 | I44: =+I46 -> 3487323.5
F45: այդ թվում`
C46: 01 | F46: Նախադպրոցական կրթություն | G46: =+G48 -> 2552709.6 | H46: =+H48 -> 3555289.4 | I46: =+I48 -> 3487323.5
F47: այդ թվում`
F48: ՀՀ կրթության, գիտության, մշակույթի և սպորտի նախարարություն | G48: =+G50 -> 2552709.6 | H48: =+H50 -> 3555289.4 | I48: =+I50 -> 3487323.5
F49: այդ թվում`
D50: 1236 | E50: Հանրակրթական և նախադպրոցական հաստատությունների հիմնում, կառուցում, բարելավում | G50: =+G52+G68 -> 2552709.6 | H50: =+H52+H68 -> 3555289.4 | I50: =+I52+I68 -> 3487323.5
F51: այդ թվում`
E52: 32001 | F52: Մանկապարտեզների նոր շենքերի կառուցում | G52: =+G54+G61 -> 1600000 | H52: =+H54+H61 -> 2600000 | I52: =+I54+I61 -> 3500000
F53: այդ թվում` ըստ կատարողների
F54: ՀՀ կրթության, գիտության, մշակույթի և սպորտի նախարարություն | G54: =+G56 -> 1000000 | H54: =+H56 -> 1600000 | I54: =+I56 -> 2000000
F55: այդ թվում` բյուջետային ծախսերի տնտեսագիտական դասակարգման հոդվածներ
F56: ԸՆԴԱՄԵՆԸ ԾԱԽՍԵՐ | G56: =G57 -> 1000000 | H56: =H57 -> 1600000 | I56: =I57 -> 2000000
F57: ՈՉ ՖԻՆԱՆՍԱԿԱՆ ԱԿՏԻՎՆԵՐԻ ԳԾՈՎ ԾԱԽՍԵՐ | G57: =+G58 -> 1000000 | H57: =+H58 -> 1600000 | I57: =+I58 -> 2000000
F58: ՀԻՄՆԱԿԱՆ ՄԻՋՈՑՆԵՐ | G58: =+G59 -> 1000000 | H58: =+H59 -> 1600000 | I58: =+I59 -> 2000000
F59: ՇԵՆՔԵՐ ԵՎ ՇԻՆՈՒԹՅՈՒՆՆԵՐ | G59: =+G60 -> 1000000 | H59: =+H60 -> 1600000 | I59: =+I60 -> 2000000
F60: - Շենքերի և շինությունների շինարարություն | G60: =+'Հավելված N 5'!E18 -> 1000000 | H60: =+'Հավելված N 5'!F18 -> 1600000 | I60: =+'Հավելված N 5'!G18 -> 2000000
F61: ՀՀ քաղաքաշինության կոմիտե | G61: =+G63 -> 600000 | H61: =+H63 -> 1000000 | I61: =+I63 -> 1500000
F62: այդ թվում` բյուջետային ծախսերի տնտեսագիտական դասակարգման հոդվածներ
F63: ԸՆԴԱՄԵՆԸ ԾԱԽՍԵՐ | G63: =G64 -> 600000 | H63: =H64 -> 1000000 | I63: =I64 -> 1500000
F64: ՈՉ ՖԻՆԱՆՍԱԿԱՆ ԱԿՏԻՎՆԵՐԻ ԳԾՈՎ ԾԱԽՍԵՐ | G64: =+G65 -> 600000 | H64: =+H65 -> 1000000 | I64: =+I65 -> 1500000
F65: ՀԻՄՆԱԿԱՆ ՄԻՋՈՑՆԵՐ | G65: =+G66 -> 600000 | H65: =+H66 -> 1000000 | I65: =+I66 -> 1500000
F66: ՇԵՆՔԵՐ ԵՎ ՇԻՆՈՒԹՅՈՒՆՆԵՐ | G66: =+G67 -> 600000 | H66: =+H67 -> 1000000 | I66: =+I67 -> 1500000
F67: - Շենքերի և շինությունների շինարարություն | G67: =+'Հավելված N 5'!E21 -> 600000 | H67: =+'Հավելված N 5'!F21 -> 1000000 | I67: =+'Հավելված N 5'!G21 -> 1500000
E68: 32002 | F68: Մանկապարտեզների շենքերի վերակառուցում, հիմնանորոգում | G68: =+G70+G77+G84+G91+G98+G109+G116+G123+G130+G137+G144+G151 -> 952709.6 | H68: =+H70+H77+H84+H91+H98+H109+H116+H123+H130+H137+H144+H151 -> 955289.4 | I68: =+I70+I77+I84+I91+I98+I109+I116+I123+I130+I137+I144+I151 -> -12676.5
F69: այդ թվում` ըստ կատարողների
F70: ՀՀ կրթության, գիտության, մշակույթի և սպորտի նախարարություն | G70: =+G72 -> 1870 | H70: =+H72 -> 1870 | I70: =+I72 -> 1870
F71: այդ թվում` բյուջետային ծախսերի տնտեսագիտական դասակարգման հոդվածներ
F72: ԸՆԴԱՄԵՆԸ ԾԱԽՍԵՐ | G72: =G73 -> 1870 | H72: =H73 -> 1870 | I72: =I73 -> 1870
F73: ՈՉ ՖԻՆԱՆՍԱԿԱՆ ԱԿՏԻՎՆԵՐԻ ԳԾՈՎ ԾԱԽՍԵՐ | G73: =+G74 -> 1870 | H73: =+H74 -> 1870 | I73: =+I74 -> 1870
F74: ՀԻՄՆԱԿԱՆ ՄԻՋՈՑՆԵՐ | G74: =+G75 -> 1870 | H74: =+H75 -> 1870 | I74: =+I75 -> 1870
F75: ԱՅԼ ՀԻՄՆԱԿԱՆ ՄԻՋՈՑՆԵՐ | G75: =+G76 -> 1870 | H75: =+H76 -> 1870 | I75: =+I76 -> 1870
F76: - Նախագծահետազոտական ծախսեր | G76: =+'Հավելված N 5'!E27 -> 1870 | H76: =+'Հավելված N 5'!F27 -> 1870 | I76: =+'Հավելված N 5'!G27 -> 1870
F77: ՀՀ կառավարություն | G77: =+G79 -> -1091682.6 | H77: =+H79 -> -2183365.3 | I77: =+I79 -> -3531957.9
F78: այդ թվում` բյուջետային ծախսերի տնտեսագիտական դասակարգման հոդվածներ
F79: ԸՆԴԱՄԵՆԸ ԾԱԽՍԵՐ | G79: =G80 -> -1091682.6 | H79: =H80 -> -2183365.3 | I79: =I80 -> -3531957.9
F80: ՈՉ ՖԻՆԱՆՍԱԿԱՆ ԱԿՏԻՎՆԵՐԻ ԳԾՈՎ ԾԱԽՍԵՐ | G80: =+G81 -> -1091682.6 | H80: =+H81 -> -2183365.3 | I80: =+I81 -> -3531957.9
F81: ՀԻՄՆԱԿԱՆ ՄԻՋՈՑՆԵՐ | G81: =+G82 -> -1091682.6 | H81: =+H82 -> -2183365.3 | I81: =+I82 -> -3531957.9
F82: ՇԵՆՔԵՐ ԵՎ ՇԻՆՈՒԹՅՈՒՆՆԵՐ | G82: =+G83 -> -1091682.6 | H82: =+H83 -> -2183365.3 | I82: =+I83 -> -3531957.9
F83: - Շենքերի և շինությունների կապիտալ վերանորոգում | G83: =+'Հավելված N 5'!E26 -> -1091682.6 | H83: =+'Հավելված N 5'!F26 -> -2183365.3 | I83: =+'Հավելված N 5'!G26 -> -3531957.9
F84: ՀՀ Արագածոտնի մարզպետի աշխատակազմ | G84: =+G86 -> 195098.4 | H84: =+H86 -> 277831.1 | I84: =+I86 -> 296331.7
F85: այդ թվում` բյուջետային ծախսերի տնտեսագիտական դասակարգման հոդվածներ
F86: ԸՆԴԱՄԵՆԸ ԾԱԽՍԵՐ | G86: =G87 -> 195098.4 | H86: =H87 -> 277831.1 | I86: =I87 -> 296331.7
F87: ՈՉ ՖԻՆԱՆՍԱԿԱՆ ԱԿՏԻՎՆԵՐԻ ԳԾՈՎ ԾԱԽՍԵՐ | G87: =+G88 -> 195098.4 | H87: =+H88 -> 277831.1 | I87: =+I88 -> 296331.7
F88: ՀԻՄՆԱԿԱՆ ՄԻՋՈՑՆԵՐ | G88: =+G89 -> 195098.4 | H88: =+H89 -> 277831.1 | I88: =+I89 -> 296331.7
F89: ՇԵՆՔԵՐ ԵՎ ՇԻՆՈՒԹՅՈՒՆՆԵՐ | G89: =+G90 -> 195098.4 | H89: =+H90 -> 277831.1 | I89: =+I90 -> 296331.7
F90: - Շենքերի և շինությունների կապիտալ վերանորոգում | G90: =+'Հավելված N 5'!E31 -> 195098.4 | H90: =+'Հավելված N 5'!F31 -> 277831.1 | I90: =+'Հավելված N 5'!G31 -> 296331.7
F91: ՀՀ Արարատի մարզպետի աշխատակազմ | G91: =+G93 -> 370059.6 | H91: =+H93 -> 524791.8 | I91: =+I93 -> 605952.5
F92: այդ թվում` բյուջետային ծախսերի տնտեսագիտական դասակարգման հոդվածներ
F93: ԸՆԴԱՄԵՆԸ ԾԱԽՍԵՐ | G93: =G94 -> 370059.6 | H93: =H94 -> 524791.8 | I93: =I94 -> 605952.5
F94: ՈՉ ՖԻՆԱՆՍԱԿԱՆ ԱԿՏԻՎՆԵՐԻ ԳԾՈՎ ԾԱԽՍԵՐ | G94: =+G95 -> 370059.6 | H94: =+H95 -> 524791.8 | I94: =+I95 -> 605952.5
F95: ՀԻՄՆԱԿԱՆ ՄԻՋՈՑՆԵՐ | G95: =+G96 -> 370059.6 | H95: =+H96 -> 524791.8 | I95: =+I96 -> 605952.5
F96: ՇԵՆՔԵՐ ԵՎ ՇԻՆՈՒԹՅՈՒՆՆԵՐ | G96: =+G97 -> 370059.6 | H96: =+H97 -> 524791.8 | I96: =+I97 -> 605952.5
F97: - Շենքերի և շինությունների կապիտալ վերանորոգում | G97: =+'Հավելված N 5'!E39 -> 370059.6 | H97: =+'Հավելված N 5'!F39 -> 524791.8 | I97: =+'Հավելված N 5'!G39 -> 605952.5
F98: ՀՀ Արմավիրի մարզպետի աշխատակազմ | G98: =+G100 -> 67911.6 | H98: =+H100 -> 155911.6 | I98: =+I100 -> 221911.6
F99: այդ թվում` բյուջետային ծախսերի տնտեսագիտական դասակարգման հոդվածներ
F100: ԸՆԴԱՄԵՆԸ ԾԱԽՍԵՐ | G100: =G101+G105 -> 67911.6 | H100: =H101+H105 -> 155911.6 | I100: =I101+I105 -> 221911.6
F101: ԸՆԹԱՑԻԿ ԾԱԽՍԵՐ | G101: =+G102 -> 1911.6 | H101: =+H102 -> 1911.6 | I101: =+I102 -> 1911.6
F102: ԾԱՌԱՅՈՒԹՅՈՒՆՆԵՐԻ ԵՎ ԱՊՐԱՆՔՆԵՐԻ ՁԵՌՔԲԵՐՈՒՄ | G102: =+G103 -> 1911.6 | H102: =+H103 -> 1911.6 | I102: =+I103 -> 1911.6
F103: ԱՅԼ ՄԱՍՆԱԳԻՏԱԿԱՆ ԾԱՌԱՅՈՒԹՅՈՒՆՆԵՐԻ ՁԵՌՔ ԲԵՐՈՒՄ | G103: =+G104 -> 1911.6 | H103: =+H104 -> 1911.6 | I103: =+I104 -> 1911.6
F104: - Մասնագիտական ծառայություններ | G104: =+I104 -> 1911.6 | H104: =+I104 -> 1911.6 | I104: =+'Հավելված N 9'!I73 -> 1911.6
F105: ՈՉ ՖԻՆԱՆՍԱԿԱՆ ԱԿՏԻՎՆԵՐԻ ԳԾՈՎ ԾԱԽՍԵՐ | G105: =+G106 -> 66000 | H105: =+H106 -> 154000 | I105: =+I106 -> 220000
...

Sheet Հավելված N 4
F1: Հավելված N 4
F2: ՀՀ կառավարության 2026 թվականի
F3: ______________ ի ___Ն որոշման
A5: «ՀԱՅԱUՏԱՆԻ ՀԱՆՐԱՊԵՏՈՒԹՅԱՆ 2026 ԹՎԱԿԱՆԻ ՊԵՏԱԿԱՆ ԲՅՈՒՋԵԻ ՄԱUԻՆ» ՀԱՅԱUՏԱՆԻ ՀԱՆՐԱՊԵՏՈՒԹՅԱՆ OՐԵՆՔԻ N 1 ՀԱՎԵԼՎԱԾԻ N 3 ԱՂՅՈՒՍԱԿՈՒՄ ԿԱՏԱՐՎՈՂ ՓՈՓՈԽՈՒԹՅՈՒՆՆԵՐԸ ԵՎ ԼՐԱՑՈՒՄՆԵՐԸ
G8: հազ. դրամներով
A9: Ծրագրային դասիչ | C9: Բյուջետային գլխավոր կարգադրիչների, ծրագրերի, միջոցառումների, միջոցառումները կատարող պետական մարմինների և ուղղությունների անվանումները | D9: Ընդամենը | E9: Ցուցանիշների փոփոխությունը (ավելացումները նշված են դրական նշանով, իսկնվազեցումները՝ փակագծերում)
A10: Ծրագիր | B10: Միջոցառում | E10: Կառուցման աշխատանքներ | F10: Վերակառուցման, վերանորոգման և վերականգնման աշխատանքներ | G10: Նախագծահե- տազոտական, գեոդեզիա- քարտեզագրա- կան աշխա- տանքներ | H10: Ոչ ֆինանսական այլ ակտիվների ձեռքբերում
C11: ԸՆԴԱՄԵՆԸ | D11: =SUM(E11:H11) -> -534680 | E11: =+E13 -> 2250000 | F11: =+F13 -> -2778150 | G11: =+G13 -> 1870 | H11: =+H13 -> -8400
C12: այդ թվում՝
C13: ՀՀ ԿՐԹՈՒԹՅԱՆ, ԳԻՏՈՒԹՅԱՆ, ՄՇԱԿՈՒՅԹԻ ԵՎ ՍՊՈՐՏԻ ՆԱԽԱՐԱՐՈՒԹՅՈՒՆ | D13: =SUM(E13:H13) -> -534680 | E13: =+E15+E16+E19+E63+E66 -> 2250000 | F13: =+F15+F16+F19+F63+F66 -> -2778150 | G13: =+G15+G16+G19+G63+G66 -> 1870 | H13: =+H15+H16+H19+H63+H66 -> -8400
C14: այդ թվում`
A15: 1041 | B15: 21001 | C15: Հայաստանում Ֆրանկոֆոնիայի խաղերի անցկացման համար անհրաժեշտ ենթակառուցվածքների ապահովում | D15: =SUM(E15:H15) -> -8400 | E15: =+E17 -> 0 | F15: =+F17 -> 0 | G15: =+G17 -> 0 | H15: =+'Հավելված N 9'!I16 -> -8400
A16: 1236 | B16: 32001 | C16: Մանկապարտեզների նոր շենքերի կառուցում | D16: =SUM(E16:H16) -> 3500000 | E16: =+E18 -> 3500000 | F16: =+F18 -> 0 | G16: =+G18 -> 0 | H16: =+H18 -> 0
C17: այդ թվում`
C18: Մանկապարտեզների նոր շենքերի կառուցում | D18: =SUM(E18:H18) -> 3500000 | E18: 3500000 | F18: 0 | G18: 0 | H18: 0
A19: 1236 | B19: 32002 | C19: Մանկապարտեզների շենքերի վերակառուցում, հիմնանորոգում | D19: =SUM(E19:H19) -> -14588.1 | E19: =+E21+E22+E28+E33+E39+E44+E48+E52+E55+E57 -> 0 | F19: =+F21+F22+F28+F33+F39+F44+F48+F52+F55+F57 -> -16458.1 | G19: =+G21+G22+G28+G33+G39+G44+G48+G52+G55+G57 -> 1870 | H19: =+H21+H22+H28+H33+H39+H44+H48+H52+H55+H57 -> 0
C20: այդ թվում`
C21: Մանկապարտեզների շենքերի վերակառուցում, հիմնանորոգում | D21: =SUM(E21:H21) -> -2613532.4 | E21: 0 | F21: =-'Հավելված N 9'!I21-'Հավելված N 9'!I40-'Հավելված N 9'!I56-'Հավելված N 9'!I70-'Հավելված N 9'!I76-'Հավելված N 9'!I92-'Հավելված N 9'!I104-'Հավելված N 9'!I116-'Հավելված N 9'!I128-'Հավելված N 9'!I138-'Հավելված N 9'!I146-'Հավելված N 6'!J13 -> -2613532.4 | G21: 0 | H21: 0
C22: ՀՀ Արագածոտնի մարզ | D22: =SUM(E22:H22) -> 296331.7 | E22: =SUM(E23:E27) -> 0 | F22: =SUM(F23:F27) -> 296331.7 | G22: =SUM(G23:G27) -> 0 | H22: =SUM(H23:H27) -> 0
C23: «Աշտարակի թիվ 5 Արաքս Մուրադյանի անվան մանկապարտեզ» ՀՈԱԿ | D23: =+E23+F23+G23+H23 -> 51574.9 | F23: =+'Հավելված N 9'!I44+'Հավելված N 9'!I50 -> 51574.9
C24: Աշտարակ բնակավայրի թիվ 1 «Մանուշակ մանկապարտեզ» ՀՈԱԿ | D24: =+E24+F24+G24+H24 -> 123337.5 | F24: =+'Հավելված N 9'!I45+'Հավելված N 9'!I51 -> 123337.5
C25: Ապարանի թիվ 1 մանկապարտեզ ՀՈԱԿ | D25: =+E25+F25+G25+H25 -> 58732.9 | F25: =+'Հավելված N 9'!I46+'Հավելված N 9'!I52 -> 58732.9
C26: «Քուչակի մանկապարտեզ» ՀՈԱԿ | D26: =+E26+F26+G26+H26 -> 26818 | F26: =+'Հավելված N 9'!I47+'Հավելված N 9'!I53 -> 26818
C27: «Հարթավանի մանկապարտեզ» ՀՈԱԿ | D27: =+E27+F27+G27+H27 -> 35868.4 | F27: =+'Հավելված N 9'!I48+'Հավելված N 9'!I54 -> 35868.4
C28: ՀՀ Արարատի մարզ | D28: =SUM(E28:H28) -> 402911.9 | E28: =SUM(E29:E32) -> 0 | F28: =SUM(F29:F32) -> 402911.9 | G28: =SUM(G29:G32) -> 0 | H28: =SUM(H29:H32) -> 0
C29: «Վեդու թիվ 2» նախադպրոցական ուսումնական հաստատություն ՀՈԱԿ | D29: =+E29+F29+G29+H29 -> 140767.2 | F29: =+'Հավելված N 9'!I60+'Հավելված N 9'!I65 -> 140767.2
C30: Փոքր Վեդու «Զարթոնք» նախադպրոցական ուսումնական հաստատություն ՀՈԱԿ | D30: =+E30+F30+G30+H30 -> 102413.5 | F30: =+'Հավելված N 9'!I61+'Հավելված N 9'!I66 -> 102413.5
C31: «Մասիս համայնքի Մասիս քաղաքի թիվ 5 մսուր-մանկապարտեզ» ՀՈԱԿ | D31: =+E31+F31+G31+H31 -> 94849.9 | F31: =+'Հավելված N 9'!I62+'Հավելված N 9'!I67 -> 94849.9
C32: «Արտաշատ համայնքի Դալար գյուղի մանկապարտեզ» ՀՈԱԿ | D32: =+E32+F32+G32+H32 -> 64881.3 | F32: =+'Հավելված N 9'!I63+'Հավելված N 9'!I68 -> 64881.3
C33: ՀՀ Գեղարքունիքի մարզ | D33: =SUM(E33:H33) -> 518853.5 | E33: =SUM(E34:E38) -> 0 | F33: =SUM(F34:F38) -> 518853.5 | G33: =SUM(G34:G38) -> 0 | H33: =SUM(H34:H38) -> 0
C34: «Մարտունի քաղաքի թիվ 4 մանկապարտեզ» ՀՈԱԿ | D34: =+E34+F34+G34+H34 -> 102803.5 | F34: =+'Հավելված N 9'!I80+'Հավելված N 9'!I86 -> 102803.5
C35: «Ձորագյուղի մանկապարտեզ» ՀՈԱԿ | D35: =+E35+F35+G35+H35 -> 139115 | F35: =+'Հավելված N 9'!I81+'Հավելված N 9'!I87 -> 139115
C36: «Սևան համայնքի «Հեքիաթ» մանկապարտեզ» ՀՈԱԿ | D36: =+E36+F36+G36+H36 -> 91907.1 | F36: =+'Հավելված N 9'!I82+'Հավելված N 9'!I88 -> 91907.1
C37: «Ծովագյուղի մանկապարտեզ» ՀՈԱԿ | D37: =+E37+F37+G37+H37 -> 96485.4 | F37: =+'Հավելված N 9'!I83+'Հավելված N 9'!I89 -> 96485.4
C38: «Կարմիրգյուղի մանկապարտեզ» ՀՈԱԿ | D38: =+E38+F38+G38+H38 -> 88542.5 | F38: =+'Հավելված N 9'!I84+'Հավելված N 9'!I90 -> 88542.5
C39: ՀՀ Լոռու մարզ | D39: =SUM(E39:H39) -> 321114.3 | E39: =SUM(E40:E43) -> 0 | F39: =SUM(F40:F43) -> 319244.3 | G39: =SUM(G40:G43) -> 1870 | H39: =SUM(H40:H43) -> 0
C40: «Շիրակամուտի Արևիկ մանկապարտեզ» ՀՈԱԿ | D40: =+E40+F40+G40+H40 -> 101534.3 | F40: =+'Հավելված N 9'!I96+'Հավելված N 9'!I100 -> 101534.3
C41: «Վանաձորի թիվ 32 մանկապարտեզ» ՀՈԱԿ | D41: =+E41+F41+G41+H41 -> 116977.1 | F41: =+'Հավելված N 9'!I97+'Հավելված N 9'!I101 -> 116977.1
C42: Ալավերդի համայնքի «Արևներ» մսուր-մանկապարտեզ (շենք 1) | D42: =+E42+F42+G42+H42 -> 100732.9 | F42: =+'Հավելված N 9'!I98+'Հավելված N 9'!I102 -> 100732.9
C43: Վանաձորի թիվ 11 մանկապարտեզ | D43: =+E43+F43+G43+H43 -> 1870 | G43: =+'Հավելված N 9'!I23+'Հավելված N 9'!I24 -> 1870
C44: ՀՀ Կոտայքի մարզ | D44: =SUM(E44:H44) -> 204784.1 | E44: =SUM(E45:E47) -> 0 | F44: =SUM(F45:F47) -> 204784.1 | G44: =SUM(G45:G47) -> 0 | H44: =SUM(H45:H47) -> 0
C45: «Գառնիի մանկապարտեզ»› ՀՈԱԿ | D45: =+E45+F45+G45+H45 -> 63903.9 | F45: =+'Հավելված N 9'!I108+'Հավելված N 9'!I112 -> 63903.9
C46: «Մրգաշենի մանկապարտեզ» ՀՈԱԿ | D46: =+E46+F46+G46+H46 -> 53892.8 | F46: =+'Հավելված N 9'!I109+'Հավելված N 9'!I113 -> 53892.8
C47: «Հրազդանի թիվ 13 ՆՈՒՀ» ՀՈԱԿ | D47: =+E47+F47+G47+H47 -> 86987.4 | F47: =+'Հավելված N 9'!I110+'Հավելված N 9'!I114 -> 86987.4
C48: ՀՀ Շիրակի մարզ | D48: =SUM(E48:H48) -> 170029.9 | E48: =SUM(E49:E51) -> 0 | F48: =SUM(F49:F51) -> 170029.9 | G48: =SUM(G49:G51) -> 0 | H48: =SUM(H49:H51) -> 0
C49: «Լապտերիկ – մսուր մանկապարտեզ» ՀՈԱԿ | D49: =+E49+F49+G49+H49 -> 60955.5 | F49: =+'Հավելված N 9'!I120+'Հավելված N 9'!I124 -> 60955.5
C50: «Արևիկ մանկապարտեզ» ՀՈԱԿ | D50: =+E50+F50+G50+H50 -> 52402.3 | F50: =+'Հավելված N 9'!I121+'Հավելված N 9'!I125 -> 52402.3
C51: «Սառնաղբյուրի մանկապարտեզ» ՀՈԱԿ | D51: =+E51+F51+G51+H51 -> 56672.1 | F51: =+'Հավելված N 9'!I122+'Հավելված N 9'!I126 -> 56672.1
C52: ՀՀ Սյունիքի մարզ | D52: =SUM(E52:H52) -> 161185.5 | E52: =SUM(E53:E54) -> 0 | F52: =SUM(F53:F54) -> 161185.5 | G52: =SUM(G53:G54) -> 0 | H52: =SUM(H53:H54) -> 0
C53: «Լեռնաձորի մանկապարտեզ» ՀՈԱԿ | D53: =+E53+F53+G53+H53 -> 60870.9 | F53: =+'Հավելված N 9'!I132+'Հավելված N 9'!I135 -> 60870.9
C54: «Սիսիանի թիվ 4 ՆՈՒՀ» ՀՈԱԿ | D54: =+E54+F54+G54+H54 -> 100314.6 | F54: =+'Հավելված N 9'!I133+'Հավելված N 9'!I136 -> 100314.6
C55: ՀՀ Վայոց Ձորի մարզ | D55: =SUM(E55:H55) -> 100989.8 | E55: =SUM(E56) -> 0 | F55: =SUM(F56) -> 100989.8 | G55: =SUM(G56) -> 0 | H55: =SUM(H56) -> 0
C56: «Աղավնաձորի մանկապարտեզ» ՀՈԱԿ | D56: =+E56+F56+G56+H56 -> 100989.8 | F56: =+'Հավելված N 9'!I142+'Հավելված N 9'!I144 -> 100989.8
C57: ՀՀ Տավուշի մարզ | D57: =SUM(E57:H57) -> 422743.6 | E57: =SUM(E58:E62) -> 0 | F57: =SUM(F58:F62) -> 422743.6 | G57: =SUM(G58:G62) -> 0 | H57: =SUM(H58:H62) -> 0
C58: «Դիլիջանի թիվ 1 մանկապարտեզ» ՀՈԱԿ | D58: =+E58+F58+G58+H58 -> 92362 | F58: =+'Հավելված N 9'!I150+'Հավելված N 9'!I156 -> 92362
C59: «Հաղարծինի մանկապարտեզ» ՀՈԱԿ | D59: =+E59+F59+G59+H59 -> 58448.9 | F59: =+'Հավելված N 9'!I151+'Հավելված N 9'!I157 -> 58448.9
C60: «Կոթիի մսուր-մանկապարտեզ» ՀՈԱԿ | D60: =+E60+F60+G60+H60 -> 69383.8 | F60: =+'Հավելված N 9'!I152+'Հավելված N 9'!I158 -> 69383.8
C61: «Սարիգյուղի մանկապարտեզ» ՀՈԱԿ | D61: =+E61+F61+G61+H61 -> 105333.6 | F61: =+'Հավելված N 9'!I153+'Հավելված N 9'!I159 -> 105333.6
C62: «Բերդավանի մսուր-մանկապարտեզ» ՀՈԱԿ | D62: =+E62+F62+G62+H62 -> 97215.3 | F62: =+'Հավելված N 9'!I154+'Հավելված N 9'!I160 -> 97215.3
A63: 1236 | B63: 32003 | C63: Հանրակրթական դպրոցների նոր շենքերի կառուցում | D63: =SUM(E63:H63) -> -1250000 | E63: =+E65 -> -1250000 | F63: =+F65 -> 0 | G63: =+G65 -> 0 | H63: =+H65 -> 0
C64: այդ թվում`
C65: Հանրակրթական դպրոցների նոր շենքերի կառուցում | D65: =SUM(E65:H65) -> -1250000 | E65: -1250000 | F65: 0 | G65: 0 | H65: 0
A66: 1236 | B66: 32004 | C66: Հանրակրթական դպրոցների շենքերի վերակառուցում, հիմնանորոգում | D66: =SUM(E66:H66) -> -2761691.9 | E66: =+E68 -> 0 | F66: =+F68 -> -2761691.9 | G66: =+G68 -> 0 | H66: =+H68 -> 0
C67: այդ թվում`
C68: Հանրակրթական դպրոցների շենքերի վերակառուցում, հիմնանորոգում | D68: =SUM(E68:H68) -> -2761691.9 | E68: 0 | F68: =-1000000-1250000-'Հավելված N 9'!I36-'Հավելված N 9'!I26 -> -2761691.9 | G68: 0 | H68: 0

Sheet Հավելված N 5
F1: Հավելված N 5
E2: ՀՀ կառավարության 2026 թվականի
F3: ______________ ի ___Ն որոշման
B6: ՀԱՅԱՍՏԱՆԻ ՀԱՆՐԱՊԵՏՈՒԹՅԱՆ ԿԱՌԱՎԱՐՈՒԹՅԱՆ 2025 ԹՎԱԿԱՆԻ ԴԵԿՏԵՄԲԵՐԻ 25-Ի N 1910-Ն ՈՐՈՇՄԱՆ N 5 ՀԱՎԵԼՎԱԾԻ N 2 ԱՂՅՈՒՍԱԿՈՒՄ ԿԱՏԱՐՎՈՂ ՓՈՓՈԽՈՒԹՅՈՒՆՆԵՐԸ ԵՎ ԼՐԱՑՈՒՄՆԵՐԸ
G8: հազ. դրամներով
B9: Ծրագրային դասիչ | D9: Բյուջետային գլխավոր կարգադրիչների, ծրագրերի, միջոցառումների, միջոցառումները կատարող պետական մարմինների և ուղղությունների անվանումները | E9: Ցուցանիշների փոփոխությունը (ավելացումները նշված են դրական նշանով, իսկ նվազեցումները՝ փակագծերում)
B10: Ծրագիր | C10: Միջոցառում | E10: Առաջին կիսամյակ | F10: Ինն ամիս | G10: Տարի
D11: ՀՀ ԿՐԹՈՒԹՅԱՆ, ԳԻՏՈՒԹՅԱՆ, ՄՇԱԿՈՒՅԹԻ ԵՎ ՍՊՈՐՏԻ ՆԱԽԱՐԱՐՈՒԹՅՈՒՆ | E11: =+E13+E16+E24+E95+E100 -> 569106.1 | F11: =+F13+F16+F24+F95+F100 -> 433285.9 | G11: =+G13+G16+G24+G95+G100 -> -534680
D12: այդ թվում՝
B13: 1041 | C13: 21001 | D13: Հայաստանում Ֆրանկոֆոնիայի խաղերի անցկացման համար անհրաժեշտ ենթակառուցվածքների ապահովում | E13: =+E15 -> 0 | F13: =+F15 -> -8400 | G13: =+G15 -> -8400
D14: այդ թվում` ըստ կատարողների
D15: ՀՀ կրթության, գիտության, մշակությի և սպորտի նախարարություն | E15: =+E17 -> 0 | F15: =+G15 -> -8400 | G15: =+'Հավելված N 4'!D15 -> -8400
B16: 1236 | C16: 32001 | D16: Մանկապարտեզների նոր շենքերի կառուցում | E16: =+E18+E21 -> 1600000 | F16: =+F18+F21 -> 2600000 | G16: =+G18+G21 -> 3500000
D17: այդ թվում` ըստ կատարողների
D18: ՀՀ կրթության, գիտության, մշակությի և սպորտի նախարարություն | E18: =+E20 -> 1000000 | F18: =+F20 -> 1600000 | G18: =+G20 -> 2000000
D19: այդ թվում՝ ըստ ուղղությունների
D20: Մանկապարտեզների նոր շենքերի կառուցում | E20: 1000000 | F20: 1600000 | G20: 2000000
D21: ՀՀ քաղաքաշինության կոմիտե | E21: =+E23 -> 600000 | F21: =+F23 -> 1000000 | G21: =+G23 -> 1500000
D22: այդ թվում՝ ըստ ուղղությունների
D23: Մանկապարտեզների նոր շենքերի կառուցում | E23: 600000 | F23: 1000000 | G23: 1500000
B24: 1236 | C24: 32002 | D24: Մանկապարտեզների շենքերի վերակառուցում, հիմնանորոգում | E24: =+E26+E27+E31+E39+E47+E50+E58+E65+E71+E77+E82+E87 -> 950798 | F24: =+F26+F27+F31+F39+F47+F50+F58+F65+F71+F77+F82+F87 -> 953377.8 | G24: =+G26+G27+G31+G39+G47+G50+G58+G65+G71+G77+G82+G87 -> -14588.1
D25: այդ թվում` ըստ կատարողների
D26: ՀՀ կառավարություն | E26: =-1091682.6 -> -1091682.6 | F26: =-2183365.3 -> -2183365.3 | G26: =-G27-G31-G39-G47-G50-G58-G65-G71-G77-G82-G87-'Հավելված N 6'!J13-'Հավելված N 9'!I70 -> -3531957.9
D27: ՀՀ կրթության, գիտության, մշակությի և սպորտի նախարարություն | E27: =+E29 -> 1870 | F27: =+F29 -> 1870 | G27: =+G29 -> 1870
D28: այդ թվում՝ ըստ ուղղությունների
D29: ՀՀ Լոռու մարզ | E29: =+E30 -> 1870 | F29: =+F30 -> 1870 | G29: =+G30 -> 1870
D30: =+'Հավելված N 4'!C43 -> Վանաձորի թիվ 11 մանկապարտեզ | E30: =+G30 -> 1870 | F30: =+G30 -> 1870 | G30: =+'Հավելված N 4'!D43 -> 1870
D31: ՀՀ Արագածոտնի մարզպետի աշխատակազմ | E31: =+E33 -> 195098.4 | F31: =+F33 -> 277831.1 | G31: =+G33 -> 296331.7
D32: այդ թվում՝ ըստ ուղղությունների
D33: ՀՀ Արագածոտնի մարզ | E33: =SUM(E34:E38) -> 195098.4 | F33: =SUM(F34:F38) -> 277831.1 | G33: =SUM(G34:G38) -> 296331.7
D34: =+'Հավելված N 4'!C23 -> «Աշտարակի թիվ 5 Արաքս Մուրադյանի անվան մանկապարտեզ» ՀՈԱԿ | E34: =+ROUND(G34*0.7,1) -> 36102.4 | F34: =+G34 -> 51574.9 | G34: =+'Հավելված N 4'!D23 -> 51574.9
D35: =+'Հավելված N 4'!C24 -> Աշտարակ բնակավայրի թիվ 1 «Մանուշակ մանկապարտեզ» ՀՈԱԿ | E35: =+ROUND(G35*0.6,1) -> 74002.5 | F35: =+ROUND(G35*0.85,1) -> 104836.9 | G35: =+'Հավելված N 4'!D24 -> 123337.5
D36: =+'Հավելված N 4'!C25 -> Ապարանի թիվ 1 մանկապարտեզ ՀՈԱԿ | E36: =+ROUND(G36*0.7,1) -> 41113 | F36: =+G36 -> 58732.9 | G36: =+'Հավելված N 4'!D25 -> 58732.9
D37: =+'Հավելված N 4'!C26 -> «Քուչակի մանկապարտեզ» ՀՈԱԿ | E37: =+ROUND(G37*0.7,1) -> 18772.6 | F37: =+G37 -> 26818 | G37: =+'Հավելված N 4'!D26 -> 26818
D38: =+'Հավելված N 4'!C27 -> «Հարթավանի մանկապարտեզ» ՀՈԱԿ | E38: =+ROUND(G38*0.7,1) -> 25107.9 | F38: =+G38 -> 35868.4 | G38: =+'Հավելված N 4'!D27 -> 35868.4
D39: ՀՀ Արարատի մարզպետի աշխատակազմ | E39: =+E41+E42 -> 370059.6 | F39: =+F41+F42 -> 524791.8 | G39: =+G41+G42 -> 605952.5
D40: այդ թվում՝ ըստ ուղղությունների
D41: Մանկապարտեզների շենքերի վերակառուցում, հիմնանորոգում | E41: =+ROUND(G41*0.6,1) -> 121824.4 | F41: =+ROUND(G41*0.85,1) -> 172584.5 | G41: =+ROUND((361926.2+7238.5)*0.55,1) -> 203040.6
D42: ՀՀ Արարատի մարզ | E42: =SUM(E43:E46) -> 248235.2 | F42: =SUM(F43:F46) -> 352207.3 | G42: =SUM(G43:G46) -> 402911.9
D43: =+'Հավելված N 4'!C29 -> «Վեդու թիվ 2» նախադպրոցական ուսումնական հաստատություն ՀՈԱԿ | E43: =+ROUND(G43*0.6,1) -> 84460.3 | F43: =+ROUND(G43*0.85,1) -> 119652.1 | G43: =+'Հավելված N 4'!D29 -> 140767.2
D44: =+'Հավելված N 4'!C30 -> Փոքր Վեդու «Զարթոնք» նախադպրոցական ուսումնական հաստատություն ՀՈԱԿ | E44: =+ROUND(G44*0.6,1) -> 61448.1 | F44: =+ROUND(G44*0.85,1) -> 87051.5 | G44: =+'Հավելված N 4'!D30 -> 102413.5
D45: =+'Հավելված N 4'!C31 -> «Մասիս համայնքի Մասիս քաղաքի թիվ 5 մսուր-մանկապարտեզ» ՀՈԱԿ | E45: =+ROUND(G45*0.6,1) -> 56909.9 | F45: =+ROUND(G45*0.85,1) -> 80622.4 | G45: =+'Հավելված N 4'!D31 -> 94849.9
D46: =+'Հավելված N 4'!C32 -> «Արտաշատ համայնքի Դալար գյուղի մանկապարտեզ» ՀՈԱԿ | E46: =+ROUND(G46*0.7,1) -> 45416.9 | F46: =+G46 -> 64881.3 | G46: =+'Հավելված N 4'!D32 -> 64881.3
D47: ՀՀ Արմավիրի մարզպետի աշխատակազմ | E47: =+E49 -> 66000 | F47: =+F49 -> 154000 | G47: =+G49 -> 220000
D48: այդ թվում՝ ըստ ուղղությունների
D49: Մանկապարտեզների շենքերի վերակառուցում, հիմնանորոգում | E49: =+ROUND(G49*0.3,1) -> 66000 | F49: =+ROUND(G49*0.7,1) -> 154000 | G49: =+ROUND(400000*0.55,1) -> 220000
D50: ՀՀ Գեղարքունիքի մարզպետի աշխատակազմ | E50: =+E52 -> 311312.1 | F50: =+F52 -> 441025.5 | G50: =+G52 -> 518853.5
D51: այդ թվում՝ ըստ ուղղությունների
D52: ՀՀ Գեղարքունիքի մարզ | E52: =SUM(E53:E57) -> 311312.1 | F52: =SUM(F53:F57) -> 441025.5 | G52: =SUM(G53:G57) -> 518853.5
D53: =+'Հավելված N 4'!C34 -> «Մարտունի քաղաքի թիվ 4 մանկապարտեզ» ՀՈԱԿ | E53: =+ROUND(G53*0.6,1) -> 61682.1 | F53: =+ROUND(G53*0.85,1) -> 87383 | G53: =+'Հավելված N 4'!D34 -> 102803.5
D54: =+'Հավելված N 4'!C35 -> «Ձորագյուղի մանկապարտեզ» ՀՈԱԿ | E54: =+ROUND(G54*0.6,1) -> 83469 | F54: =+ROUND(G54*0.85,1) -> 118247.8 | G54: =+'Հավելված N 4'!D35 -> 139115
D55: =+'Հավելված N 4'!C36 -> «Սևան համայնքի «Հեքիաթ» մանկապարտեզ» ՀՈԱԿ | E55: =+ROUND(G55*0.6,1) -> 55144.3 | F55: =+ROUND(G55*0.85,1) -> 78121 | G55: =+'Հավելված N 4'!D36 -> 91907.1
D56: =+'Հավելված N 4'!C37 -> «Ծովագյուղի մանկապարտեզ» ՀՈԱԿ | E56: =+ROUND(G56*0.6,1) -> 57891.2 | F56: =+ROUND(G56*0.85,1) -> 82012.6 | G56: =+'Հավելված N 4'!D37 -> 96485.4
D57: =+'Հավելված N 4'!C38 -> «Կարմիրգյուղի մանկապարտեզ» ՀՈԱԿ | E57: =+ROUND(G57*0.6,1) -> 53125.5 | F57: =+ROUND(G57*0.85,1) -> 75261.1 | G57: =+'Հավելված N 4'!D38 -> 88542.5
D58: ՀՀ Լոռու մարզպետի աշխատակազմ | E58: =+E60+E61 -> 265676.6 | F58: =+F60+F61 -> 566344.2 | G58: =+G60+G61 -> 566344.2
D59: այդ թվում՝ ըստ ուղղությունների
D60: Մանկապարտեզների շենքերի վերակառուցում, հիմնանորոգում | E60: =+ROUND(G60*0.3,1) -> 74130 | F60: =+G60 -> 247099.9 | G60: =+ROUND((440463.3+8809.3)*0.55,1) -> 247099.9
D61: ՀՀ Լոռու մարզ | E61: =SUM(E62:E64) -> 191546.6 | F61: =SUM(F62:F64) -> 319244.3 | G61: =SUM(G62:G64) -> 319244.3
D62: =+'Հավելված N 4'!C40 -> «Շիրակամուտի Արևիկ մանկապարտեզ» ՀՈԱԿ | E62: =+ROUND(G62*0.6,1) -> 60920.6 | F62: =+G62 -> 101534.3 | G62: =+'Հավելված N 4'!D40 -> 101534.3
D63: =+'Հավելված N 4'!C41 -> «Վանաձորի թիվ 32 մանկապարտեզ» ՀՈԱԿ | E63: =+ROUND(G63*0.6,1) -> 70186.3 | F63: =+G63 -> 116977.1 | G63: =+'Հավելված N 4'!D41 -> 116977.1
D64: =+'Հավելված N 4'!C42 -> Ալավերդի համայնքի «Արևներ» մսուր-մանկապարտեզ (շենք 1) | E64: =+ROUND(G64*0.6,1) -> 60439.7 | F64: =+G64 -> 100732.9 | G64: =+'Հավելված N 4'!D42 -> 100732.9
D65: ՀՀ Կոտայքի մարզպետի աշխատակազմ | E65: =+E67 -> 134650.1 | F65: =+F67 -> 191736 | G65: =+G67 -> 204784.1
D66: այդ թվում՝ ըստ ուղղությունների
D67: ՀՀ Կոտայքի մարզ | E67: =SUM(E68:E70) -> 134650.1 | F67: =SUM(F68:F70) -> 191736 | G67: =SUM(G68:G70) -> 204784.1
D68: =+'Հավելված N 4'!C45 -> «Գառնիի մանկապարտեզ»› ՀՈԱԿ | E68: =+ROUND(G68*0.7,1) -> 44732.7 | F68: =+G68 -> 63903.9 | G68: =+'Հավելված N 4'!D45 -> 63903.9
D69: =+'Հավելված N 4'!C46 -> «Մրգաշենի մանկապարտեզ» ՀՈԱԿ | E69: =+ROUND(G69*0.7,1) -> 37725 | F69: =+G69 -> 53892.8 | G69: =+'Հավելված N 4'!D46 -> 53892.8
D70: =+'Հավելված N 4'!C47 -> «Հրազդանի թիվ 13 ՆՈՒՀ» ՀՈԱԿ | E70: =+ROUND(G70*0.6,1) -> 52192.4 | F70: =+ROUND(G70*0.85,1) -> 73939.3 | G70: =+'Հավելված N 4'!D47 -> 86987.4
D71: ՀՀ Շիրակի մարզպետի աշխատակազմ | E71: =+E73 -> 119021 | F71: =+F73 -> 170029.9 | G71: =+G73 -> 170029.9
D72: այդ թվում՝ ըստ ուղղությունների
D73: ՀՀ Շիրակի մարզ | E73: =SUM(E74:E76) -> 119021 | F73: =SUM(F74:F76) -> 170029.9 | G73: =SUM(G74:G76) -> 170029.9
D74: =+'Հավելված N 4'!C49 -> «Լապտերիկ – մսուր մանկապարտեզ» ՀՈԱԿ | E74: =+ROUND(G74*0.7,1) -> 42668.9 | F74: =+G74 -> 60955.5 | G74: =+'Հավելված N 4'!D49 -> 60955.5
D75: =+'Հավելված N 4'!C50 -> «Արևիկ մանկապարտեզ» ՀՈԱԿ | E75: =+ROUND(G75*0.7,1) -> 36681.6 | F75: =+G75 -> 52402.3 | G75: =+'Հավելված N 4'!D50 -> 52402.3
D76: =+'Հավելված N 4'!C51 -> «Սառնաղբյուրի մանկապարտեզ» ՀՈԱԿ | E76: =+ROUND(G76*0.7,1) -> 39670.5 | F76: =+G76 -> 56672.1 | G76: =+'Հավելված N 4'!D51 -> 56672.1
D77: ՀՀ Սյունիքի մարզպետի աշխատակազմ | E77: =+E79 -> 102798.4 | F77: =+F79 -> 146138.3 | G77: =+G79 -> 161185.5
D78: այդ թվում՝ ըստ ուղղությունների
D79: ՀՀ Սյունիքի մարզ | E79: =SUM(E80:E81) -> 102798.4 | F79: =SUM(F80:F81) -> 146138.3 | G79: =SUM(G80:G81) -> 161185.5
D80: =+'Հավելված N 4'!C53 -> «Լեռնաձորի մանկապարտեզ» ՀՈԱԿ | E80: =+ROUND(G80*0.7,1) -> 42609.6 | F80: =+G80 -> 60870.9 | G80: =+'Հավելված N 4'!D53 -> 60870.9
D81: =+'Հավելված N 4'!C54 -> «Սիսիանի թիվ 4 ՆՈՒՀ» ՀՈԱԿ | E81: =+ROUND(G81*0.6,1) -> 60188.8 | F81: =+ROUND(G81*0.85,1) -> 85267.4 | G81: =+'Հավելված N 4'!D54 -> 100314.6
D82: ՀՀ Վայոց Ձորի մարզպետի աշխատակազմ | E82: =+E84+E85 -> 209564.9 | F82: =+F84+F85 -> 284469.3 | G82: =+G84+G85 -> 349274.8
D83: այդ թվում՝ ըստ ուղղությունների
D84: Մանկապարտեզների շենքերի վերակառուցում, հիմնանորոգում | E84: =+ROUND(G84*0.6,1) -> 148971 | F84: =+ROUND(G84*0.8,1) -> 198628 | G84: =+ROUND((154338.2+3086.8)*0.55,1)+ROUND((288237.4+5764.7)*0.55,1) -> 248285
D85: ՀՀ Վայոց Ձորի մարզ | E85: =+E86 -> 60593.9 | F85: =+F86 -> 85841.3 | G85: =+G86 -> 100989.8
D86: =+'Հավելված N 4'!C56 -> «Աղավնաձորի մանկապարտեզ» ՀՈԱԿ | E86: =+ROUND(G86*0.6,1) -> 60593.9 | F86: =+ROUND(G86*0.85,1) -> 85841.3 | G86: =+'Հավելված N 4'!D56 -> 100989.8
D87: ՀՀ Տավուշի մարզպետի աշխատակազմ | E87: =+E89 -> 266429.5 | F87: =+F89 -> 378507 | G87: =+G89 -> 422743.6
D88: այդ թվում՝ ըստ ուղղությունների
D89: ՀՀ Տավուշի մարզ | E89: =SUM(E90:E94) -> 266429.5 | F89: =SUM(F90:F94) -> 378507 | G89: =SUM(G90:G94) -> 422743.6
D90: =+'Հավելված N 4'!C58 -> «Դիլիջանի թիվ 1 մանկապարտեզ» ՀՈԱԿ | E90: =+ROUND(G90*0.6,1) -> 55417.2 | F90: =+ROUND(G90*0.85,1) -> 78507.7 | G90: =+'Հավելված N 4'!D58 -> 92362
D91: =+'Հավելված N 4'!C59 -> «Հաղարծինի մանկապարտեզ» ՀՈԱԿ | E91: =+ROUND(G91*0.7,1) -> 40914.2 | F91: =+G91 -> 58448.9 | G91: =+'Հավելված N 4'!D59 -> 58448.9
D92: =+'Հավելված N 4'!C60 -> «Կոթիի մսուր-մանկապարտեզ» ՀՈԱԿ | E92: =+ROUND(G92*0.7,1) -> 48568.7 | F92: =+G92 -> 69383.8 | G92: =+'Հավելված N 4'!D60 -> 69383.8
D93: =+'Հավելված N 4'!C61 -> «Սարիգյուղի մանկապարտեզ» ՀՈԱԿ | E93: =+ROUND(G93*0.6,1) -> 63200.2 | F93: =+ROUND(G93*0.85,1) -> 89533.6 | G93: =+'Հավելված N 4'!D61 -> 105333.6
D94: =+'Հավելված N 4'!C62 -> «Բերդավանի մսուր-մանկապարտեզ» ՀՈԱԿ | E94: =+ROUND(G94*0.6,1) -> 58329.2 | F94: =+ROUND(G94*0.85,1) -> 82633 | G94: =+'Հավելված N 4'!D62 -> 97215.3
B95: 1236 | C95: 32003 | D95: Հանրակրթական դպրոցների նոր շենքերի կառուցում | E95: =+E97 -> -600000 | F95: =+F97 -> -1000000 | G95: =+G97 -> -1250000
D96: այդ թվում` ըստ կատարողների
D97: ՀՀ քաղաքաշինության կոմիտե | E97: =+E99 -> -600000 | F97: =+F99 -> -1000000 | G97: =+G99 -> -1250000
D98: այդ թվում՝ ըստ ուղղությունների
D99: Հանրակրթական դպրոցների նոր շենքերի կառուցում | E99: -600000 | F99: -1000000 | G99: =+'Հավելված N 4'!D63 -> -1250000
B100: 1236 | C100: 32004 | D100: Հանրակրթական դպրոցների շենքերի վերակառուցում, հիմնանորոգում | E100: =+E102+E105 -> -1381691.9 | F100: =+F102+F105 -> -2111691.9 | G100: =+G102+G105 -> -2761691.9
D101: այդ թվում` ըստ կատարողների
D102: ՀՀ կրթության, գիտության, մշակությի և սպորտի նախարարություն | E102: =+E104 -> 0 | F102: =+F104 -> -509124.9 | G102: =+G104 -> -509124.9
D103: այդ թվում՝ ըստ ուղղությունների
...

Sheet Հավելված N 6
J1: Հավելված N 6
J2: ՀՀ կառավարության 2026 թվականի
J3: ______________ ի ___Ն որոշման
A6: «ՀԱՅԱՍՏԱՆԻ ՀԱՆՐԱՊԵՏՈՒԹՅԱՆ 2026ԹՎԱԿԱՆԻ ՊԵՏԱԿԱՆ ԲՅՈՒՋԵԻ ՄԱՍԻՆ» ՕՐԵՆՔԻ N 1 ՀԱՎԵԼՎԱԾԻ N 4 ԱՂՅՈՒՍԱԿՈՒՄ ԵՎ ՀԱՅԱՍՏԱՆԻ ՀԱՆՐԱՊԵՏՈՒԹՅԱՆ ԿԱՌԱՎԱՐՈՒԹՅԱՆ 2025 ԹՎԱԿԱՆԻ ԴԵԿՏԵՄԲԵՐԻ 25-Ի N 1910-Ն ՈՐՈՇՄԱՆ N 5 ՀԱՎԵԼՎԱԾԻ N 3 ԱՂՅՈՒՍԱԿՈՒՄ ԿԱՏԱՐՎՈՂ ԼՐԱՑՈՒՄԸ
L8: հազ. դրամներով
A9: Ծրագրային դասիչը | C9: Բյուջետային հատկացումների գլխավոր կարգադրիչների, ծրագրերի, միջոցառումների և միջոցառումները կատարող պետական մարմինների անվանումները | D9: Ցուցանիշների փոփոխությունը (ավելացումները նշված են դրական նշանով)
D10: Առաջին կիսամյակ | G10: Ինն ամիս | J10: Տարի
D11: Ընդամենը | E11: այդ թվում` | G11: Ընդամենը | H11: այդ թվում` | J11: Ընդամենը | K11: այդ թվում`
A12: Ծրագիր | B12: Միջոցառում | E12: Վարկային միջոցներ | F12: Համաֆինան սավորում | H12: Վարկային միջոցներ | I12: Համաֆինան սավորում | K12: Վարկային միջոցներ | L12: Համաֆինան սավորում
C13: ԸՆԴԱՄԵՆԸ | D13: =+E13+F13 -> 12676.5 | E13: =+E15 -> 0 | F13: =+F15 -> 12676.5 | G13: =+H13+I13 -> 12676.5 | H13: =+H15 -> 0 | I13: =+I15 -> 12676.5 | J13: =+K13+L13 -> 12676.5 | K13: =+K15 -> 0 | L13: =+L15 -> 12676.5
C14: այդ թվում`
C15: ՈՉ ՖԻՆԱՆՍԱԿԱՆ ԱԿՏԻՎՆԵՐԻ ԳԾՈՎ ԾԱԽՍԵՐ | D15: =+E15+F15 -> 12676.5 | E15: =+E16 -> 0 | F15: =+F16 -> 12676.5 | G15: =+H15+I15 -> 12676.5 | H15: =+H16 -> 0 | I15: =+I16 -> 12676.5 | J15: =+K15+L15 -> 12676.5 | K15: =+K16 -> 0 | L15: =+L16 -> 12676.5
C16: ՀՀ կրթության, գիտության, մշակույթի և սպորտի նախարարություն | D16: =+E16+F16 -> 12676.5 | E16: =+E18 -> 0 | F16: =+F18 -> 12676.5 | G16: =+H16+I16 -> 12676.5 | H16: =+H18 -> 0 | I16: =+I18 -> 12676.5 | J16: =+K16+L16 -> 12676.5 | K16: =+K18 -> 0 | L16: =+L18 -> 12676.5
C17: այդ թվում`
A18: 1192 | C18: Կրթության որակի ապահովում | D18: =SUM(E18:F18) -> 12676.5 | E18: =+E20 -> 0 | F18: =+F20 -> 12676.5 | G18: =SUM(H18:I18) -> 12676.5 | H18: =+H20 -> 0 | I18: =+I20 -> 12676.5 | J18: =SUM(K18:L18) -> 12676.5 | K18: =+K20 -> 0 | L18: =+L20 -> 12676.5
C19: այդ թվում`
B20: 11023 | C20: Համաշխարհային բանկի աջակցությամբ իրականացվող «Կրթության բարելավման ծրագրի լրացուցիչ ֆինանսավորում» վարկային ծրագիր | D20: =SUM(E20:F20) -> 12676.5 | E20: =+E22 -> 0 | F20: =+F22 -> 12676.5 | G20: =SUM(H20:I20) -> 12676.5 | H20: =+H22 -> 0 | I20: =+I22 -> 12676.5 | J20: =SUM(K20:L20) -> 12676.5 | K20: =+K22 -> 0 | L20: =+L22 -> 12676.5
C21: այդ թվում` ըստ կատարողների
C22: ՀՀ կրթության , գիտության, մշակույթի և սպորտի նախարարություն | D22: =SUM(E22:F22) -> 12676.5 | E22: =+E24 -> 0 | F22: =+F24 -> 12676.5 | G22: =SUM(H22:I22) -> 12676.5 | H22: =+H24 -> 0 | I22: =+I24 -> 12676.5 | J22: =SUM(K22:L22) -> 12676.5 | K22: =+K24 -> 0 | L22: =+L24 -> 12676.5
C23: այդ թվում` բյուջետային ծախսերի տնտեսագիտական դասակարգման հոդվածներ
C24: ԸՆԴԱՄԵՆԸ ԾԱԽՍԵՐ | D24: =+E24+F24 -> 12676.5 | E24: =+E25 -> 0 | F24: =+F25 -> 12676.5 | G24: =+H24+I24 -> 12676.5 | H24: =+H25 -> 0 | I24: =+I25 -> 12676.5 | J24: =+K24+L24 -> 12676.5 | K24: =+K25 -> 0 | L24: =+L25 -> 12676.5
C25: ԸՆԹԱՑԻԿ ԾԱԽՍԵՐ | D25: =+E25+F25 -> 12676.5 | E25: =+E26 -> 0 | F25: =+F26 -> 12676.5 | G25: =+H25+I25 -> 12676.5 | H25: =+H26 -> 0 | I25: =+I26 -> 12676.5 | J25: =+K25+L25 -> 12676.5 | K25: =+K26 -> 0 | L25: =+L26 -> 12676.5
C26: ԴՐԱՄԱՇՆՈՐՀՆԵՐ | D26: =+E26+F26 -> 12676.5 | E26: =+E27 -> 0 | F26: =+F27 -> 12676.5 | G26: =+H26+I26 -> 12676.5 | H26: =+H27 -> 0 | I26: =+I27 -> 12676.5 | J26: =+K26+L26 -> 12676.5 | K26: =+K27 -> 0 | L26: =+L27 -> 12676.5
C27: Ընթացիկ դրամաշնորհներ պետական հատվածի այլ մակարդակներին | D27: =+E27+F27 -> 12676.5 | E27: =+E28 -> 0 | F27: =+F28 -> 12676.5 | G27: =+H27+I27 -> 12676.5 | H27: =+H28 -> 0 | I27: =+I28 -> 12676.5 | J27: =+K27+L27 -> 12676.5 | K27: =+K28 -> 0 | L27: =+L28 -> 12676.5
C28: - Ընթացիկ դրամաշնորհներ պետական և համայնքային ոչ առևտրային կազմակերպություններին | D28: =+E28+F28 -> 12676.5 | F28: =+L28 -> 12676.5 | G28: =+H28+I28 -> 12676.5 | I28: =+L28 -> 12676.5 | J28: =+K28+L28 -> 12676.5 | L28: 12676.5

Sheet Հավելված N 7
J1: Հավելված N 7
J2: ՀՀ կառավարության 2026 թվականի
J3: ______________ ի ___Ն որոշման
A6: ՀԱՅԱՍՏԱՆԻ ՀԱՆՐԱՊԵՏՈՒԹՅԱՆ ԿԱՌԱՎԱՐՈՒԹՅԱՆ 2025 ԹՎԱԿԱՆԻ ԴԵԿՏԵՄԲԵՐԻ 25-Ի N 1910-Ն ՈՐՈՇՄԱՆ N 9 ՀԱՎԵԼՎԱԾՈՒՄ ԿԱՏԱՐՎՈՂ ՓՈՓՈԽՈՒԹՅՈՒՆՆԵՐԸ ԵՎ ԼՐԱՑՈՒՄՆԵՐԸ
K8: հազար դրամներոով
A9: ԲԳԿ | B9: Ծրագիր | D9: Միջոցառում | H9: Իրականացնողը/ ակտիվն օգտագործողը/ շահառուի ընտրության չափորոշիչը | I9: Արդյունքային չափորոշիչը | J9: Ցուցանիշների փոփոխությունը (ավելացումները նշված են դրական նշանով, իսկ նվազեցումները՝ փակագծերում)
B10: Դասիչը | C10: Անվանումը | D10: Դասիչը | E10: Անվանումը | F10: Նկարագրությունը | G10: Տեսակը | J10: Առաջին կիսամյակ | K10: Ինն ամիս | L10: Տարի
A11: ԸՆԴԱՄԵՆԸ | J11: =+J13 -> 973786.1 | K11: =+K13 -> 967965.9 | L11: =+L13 -> 4.6566129e-10
A12: այդ թվում՝
A13: ՀՀ ԿՐԹՈՒԹՅԱՆ, ԳԻՏՈՒԹՅԱՆ, ՄՇԱԿՈԻՅԹԻ ԵՎ ՍՊՈՐՏԻ ՆԱԽԱՐԱՐՈՒԹՅՈՒՆ | J13: =+J14+J20+J25 -> 973786.1 | K13: =+K14+K20+K25 -> 967965.9 | L13: =+L14+L20+L25 -> 4.6566129e-10
B14: 1041 | C14: Մեծ նվաճումների սպորտ | J14: =+J15 -> 8400 | K14: =+K15 -> 0 | L14: =+L15 -> 0
D15: 1041 - 21001 | E15: Հայաստանում Ֆրանկոֆոնիայի խաղերի անցկացման համար անհրաժեշտ ենթակառուցվածքների ապահովում | J15: =+'Հավելված N 2'!G17 -> 8400 | K15: =+'Հավելված N 2'!H17 -> 0 | L15: =+'Հավելված N 2'!I17 -> 0
F16: Հայաստանում 2027 թվականին Ֆրանկոֆոնիայի խաղերի անցկացման նպատակով համապատասխան ենթակառուցվածքների ստեղծում, բարելավում
G17: Հանրության կողմից անմիջականորեն օգտագործվող ակտիվների հետ կապված միջոցառումներ
H18: Ծառայությունը մատուցողի անվանումը` Մասնագիտացված կազմակերպություն
I19: Շենքերի և շինությունների տեխնիկական վիճակի հետազննություն և արձանագրավորում, հատ | J19: 1 | L19: 1
B20: 1192 | C20: Կրթության որակի ապահովում | J20: =+J21 -> 12676.5 | K20: =+K21 -> 12676.5 | L20: =+L21 -> 12676.5
D21: 1192 - 11023 | E21: Համաշխարհային բանկի աջակցությամբ իրականացվող «Կրթության բարելավման ծրագրի լրացուցիչ ֆինանսավորում» վարկային ծրագիր | J21: =+'Հավելված N 2'!G19 -> 12676.5 | K21: =+'Հավելված N 2'!H19 -> 12676.5 | L21: =+'Հավելված N 2'!I19 -> 12676.5
F22: Հանրակրթության որակի բարելավում, աջակցություն Նորարարությունների մրցակցային հիմնադրամի զարգացմանը, ծրագրի համակարգում և կառավարում
G23: Ծառայությունների մատուցում
H24: Ծառայությունը մատուցողի անվանումը` Մասնագիտացված միավոր
B25: 1236 | C25: Հանրակրթական և նախադպրոցական հաստատությունների հիմնում, կառուցում, բարելավում | J25: =J26+J30+J35+J44+J48 -> 952709.6 | K25: =K26+K30+K35+K44+K48 -> 955289.4 | L25: =L26+L30+L35+L44+L48 -> -12676.5
D26: 1236 - 11001 | E26: Հանրակրթական և նախադպրոցական հաստատությունների կառուցման, վերակառուցման, հիմնանորոգման ծրագրերի համակարգման և մոնիտորինգի ծառայություններ | J26: =+'Հավելված N 2'!G21 -> 379124.9 | K26: =+'Հավելված N 2'!H21 -> 509124.9 | L26: =+'Հավելված N 2'!I21 -> 509124.9
F27: Հանրակրթական և նախադպրոցական հաստատություններիկառուցման, վերակառուցման, հիմնանորոգման ծրագրերիհամակարգման և մոնիտորինգի ծառայությունների ապահովում
G28: Ծառայությունների մատուցում
H29: Ծառայությունը մատուցողի անվանումը` Մասնագիտացված միավոր
D30: 1236 - 32001 | E30: Մանկապարտեզների նոր շենքերի կառուցում | J30: =+'Հավելված N 2'!G22 -> 1600000 | K30: =+'Հավելված N 2'!H22 -> 2600000 | L30: =+'Հավելված N 2'!I22 -> 3500000
F31: Նախադպրոցական կրթության հասանելիության ապահովման նպատակով՛ մանկապարտեզների հիմնում, նոր շենքերի (մասնաշենքերի), ներառյալ՛ ,Մոդուլայինե տիպի շենքերի կառուցում և նախագծում
G32: Այլ պետական կազմակերպությունների կողմից օգտագործվող ոչ ֆինանսական ակտիվների հետ գործառնություններ
H33: Ակտիվն օգտագործող կազմակերպության անվանումը` Նախադպրոցական կրթություն իրականացնող ուսումնական հաստատություններ
I34: Կառուցվող մանկապարտեզների քանակ, հատ | J34: 1 | L34: 1
D35: 1236 - 32002 | E35: Մանկապարտեզների շենքերի վերակառուցում, հիմնանորոգում | J35: =+'Հավելված N 2'!G23 -> 952709.6 | K35: =+'Հավելված N 2'!H23 -> 955289.4 | L35: =+'Հավելված N 2'!I23 -> -12676.5
F36: Նախադպրոցական կրթության հասանելիության ապահովման նպատակով՛ մանկապարտեզների շենքերի (մասնաշենքերի), վերակառուցում, հիմնանորոգում և նախագծում
G37: Այլ պետական կազմակերպությունների կողմից օգտագործվող ոչ ֆինանսական ակտիվների հետ գործառնություններ
H38: Ակտիվն օգտագործող կազմակերպության անվանումը` Նախադպրոցական կրթություն իրականացնող ուսումնական հաստատություններ
I39: Հիմնանորոգվող / վերանորոգվող մանկապարտեզների քանակ, հատ | J39: =+'Հավելված N 8'!J78+'Հավելված N 8'!J88+'Հավելված N 8'!J98+'Հավելված N 8'!J109+'Հավելված N 8'!J119+'Հավելված N 8'!J129+'Հավելված N 8'!J139+'Հավելված N 8'!J149+'Հավելված N 8'!J159+'Հավելված N 8'!J169 -> 37 | L39: =+'Հավելված N 8'!L78+'Հավելված N 8'!L88+'Հավելված N 8'!L98+'Հավելված N 8'!L109+'Հավելված N 8'!L119+'Հավելված N 8'!L129+'Հավելված N 8'!L139+'Հավելված N 8'!L149+'Հավելված N 8'!L159+'Հավելված N 8'!L169 -> 37
I40: Հաստատությունների քանակ, որոնց շինարարական աշխատանքների ավարտվածության աստիճանը 100% է, հատ | L40: =+'Հավելված N 8'!L79+'Հավելված N 8'!L89+'Հավելված N 8'!L99+'Հավելված N 8'!L110+'Հավելված N 8'!L120+'Հավելված N 8'!L130+'Հավելված N 8'!L140+'Հավելված N 8'!L150+'Հավելված N 8'!L160+'Հավելված N 8'!L170 -> 37
I41: Հիմնանորոգված / վերանորոգված մանկապարտեզների հզորությունը | L41: =+'Հավելված N 8'!L80+'Հավելված N 8'!L90+'Հավելված N 8'!L100+'Հավելված N 8'!L111+'Հավելված N 8'!L121+'Հավելված N 8'!L131+'Հավելված N 8'!L141+'Հավելված N 8'!L151+'Հավելված N 8'!L161+'Հավելված N 8'!L171 -> 4706
I42: Նախագծանախահաշվային փաստաթղթերի քանակ, հատ | J42: =+'Հավելված N 8'!J38 -> 1 | L42: =+'Հավելված N 8'!L38 -> 1
I43: Մանկապարտեզների վերանորոգման/հիմնանորոգման համար անհրաժեշտ տեխնիկական վիճակի զննության, չափագրության և նախահաշվային փաստաթղթերի քանակ, հատ | J43: =+'Հավելված N 8'!J101 -> 2 | L43: =+'Հավելված N 8'!L101 -> 2
D44: 1236 - 32003 | E44: Հանրակրթական դպրոցների նոր շենքերի կառուցում | J44: =+'Հավելված N 2'!G24 -> -600000 | K44: =+'Հավելված N 2'!H24 -> -1000000 | L44: =+'Հավելված N 2'!I24 -> -1250000
F45: ՀՀ մարզերում կրթական որակյալ ծառայությունների հասանելիության ապահովման ծրագրի շրջանակներում հանրակրթական և նախադպրոցական կրթության հասանելիության ապահովման նպատակով կրթական կենտրոնների կառուցում
G46: Այլ պետական կազմակերպությունների կողմից օգտագործվող ոչ ֆինանսական ակտիվների հետ գործառնություններ
H47: Ակտիվն օգտագործող կազմակերպության անվանումը` Հանրակրթական դպրոցներ
D48: 1236 - 32004 | E48: Հանրակրթական դպրոցների շենքերի վերակառուցում, հիմնանորոգում | J48: =+'Հավելված N 2'!G25 -> -1379124.9 | K48: =+'Հավելված N 2'!H25 -> -2109124.9 | L48: =+'Հավելված N 2'!I25 -> -2759124.9
F49: Դպրոցական պարտադիր կրթության հասանելիության ապահովման նպատակով՛ հանրակրթական դպրոցների շենքերի (մասնաշենքերի), վերակառուցում, հիմնանորոգում և նախագծում
G50: Այլ պետական կազմակերպությունների կողմից օգտագործվող ոչ ֆինանսական ակտիվների հետ գործառնություններ
H51: Ակտիվն օգտագործող կազմակերպության անվանումը` Հանրակրթական դպրոցներ

Sheet Հավելված N 8
J1: Հավելված N 8
J2: ՀՀ կառավարության 2026 թվականի
J3: ______________ ի ___Ն որոշման
A6: ՀԱՅԱՍՏԱՆԻ ՀԱՆՐԱՊԵՏՈՒԹՅԱՆ ԿԱՌԱՎԱՐՈՒԹՅԱՆ 2025 ԹՎԱԿԱՆԻ ԴԵԿՏԵՄԲԵՐԻ 25-Ի N 1910-Ն ՈՐՈՇՄԱՆ N 9 ՀԱՎԵԼՎԱԾՈՒՄ ԿԱՏԱՐՎՈՂ ՓՈՓՈԽՈՒԹՅՈՒՆՆԵՐԸ ԵՎ ԼՐԱՑՈՒՄՆԵՐԸ
K8: հազար դրամներոով
A9: ԲՍԿ | B9: Ծրագիր | D9: Միջոցառում | H9: Իրականացնողը/ ակտիվն օգտագործողը/ շահառուի ընտրության չափորոշիչը | I9: Արդյունքային չափորոշիչը | J9: Ցուցանիշների փոփոխությունը (ավելացումները նշված են դրական նշանով, իսկ նվազեցումները՝ փակագծերում)
B10: Դասիչը | C10: Անվանումը | D10: Դասիչը | E10: Անվանումը | F10: Նկարագրությունը | G10: Տեսակը | J10: Առաջին կիսամյակ | K10: Ինն ամիս | L10: Տարի
A11: ԸՆԴԱՄԵՆԸ | J11: =+J13+J44+J72+J65+J82+J92+J103+J113+J123+J133+J143+J153+J163 -> 973786.1 | K11: =+K13+K44+K72+K65+K82+K92+K103+K113+K123+K133+K143+K153+K163 -> 967965.9 | L11: =+L13+L44+L72+L65+L82+L92+L103+L113+L123+L133+L143+L153+L163 -> 4.6566129e-10
A12: այդ թվում՝
A13: ՀՀ ԿՐԹՈՒԹՅԱՆ, ԳԻՏՈՒԹՅԱՆ, ՄՇԱԿՈԻՅԹԻ ԵՎ ՍՊՈՐՏԻ ՆԱԽԱՐԱՐՈՒԹՅՈՒՆ | J13: =+J14+J19+J24 -> 1393671.4 | K13: =+K14+K19+K24 -> 1606146.5 | L13: =+L14+L19+L24 -> 2006146.5
B14: 1041 | C14: Մեծ նվաճումների սպորտ | J14: =+J15 -> 0 | K14: =+K15 -> -8400 | L14: =+L15 -> -8400
D15: 1041 - 21001 | E15: Հայաստանում Ֆրանկոֆոնիայի խաղերի անցկացման համար անհրաժեշտ ենթակառուցվածքների ապահովում | J15: =+'Հավելված N 3'!G28 -> 0 | K15: =+'Հավելված N 3'!H28 -> -8400 | L15: =+'Հավելված N 3'!I28 -> -8400
F16: Հայաստանում 2027 թվականին Ֆրանկոֆոնիայի խաղերի անցկացման նպատակով համապատասխան ենթակառուցվածքների ստեղծում, բարելավում
G17: Հանրության կողմից անմիջականորեն օգտագործվող ակտիվների հետ կապված միջոցառումներ
H18: Ծառայությունը մատուցողի անվանումը` Մասնագիտացված կազմակերպություն
B19: 1192 | C19: Կրթության որակի ապահովում | J19: =+J20 -> 12676.5 | K19: =+K20 -> 12676.5 | L19: =+L20 -> 12676.5
D20: 1192 - 11023 | E20: Համաշխարհային բանկի աջակցությամբ իրականացվող «Կրթության բարելավման ծրագրի լրացուցիչ ֆինանսավորում» վարկային ծրագիր | J20: =+'Հավելված N 3'!G214 -> 12676.5 | K20: =+'Հավելված N 3'!H214 -> 12676.5 | L20: =+'Հավելված N 3'!I214 -> 12676.5
F21: Հանրակրթության որակի բարելավում, աջակցություն Նորարարությունների մրցակցային հիմնադրամի զարգացմանը, ծրագրի համակարգում և կառավարում
G22: Ծառայությունների մատուցում
H23: Ծառայությունը մատուցողի անվանումը` Մասնագիտացված միավոր
B24: 1236 | C24: Հանրակրթական և նախադպրոցական հաստատությունների հիմնում, կառուցում, բարելավում | J24: =J25+J29+J34+J39 -> 1380994.9 | K24: =K25+K29+K34+K39 -> 1601870 | L24: =L25+L29+L34+L39 -> 2001870
D25: 1236 - 11001 | E25: Հանրակրթական և նախադպրոցական հաստատությունների կառուցման, վերակառուցման, հիմնանորոգման ծրագրերի համակարգման և մոնիտորինգի ծառայություններ | J25: =+'Հավելված N 3'!G168 -> 379124.9 | K25: =+'Հավելված N 3'!H168 -> 509124.9 | L25: =+'Հավելված N 3'!I168 -> 509124.9
F26: Հանրակրթական և նախադպրոցական հաստատություններիկառուցման, վերակառուցման, հիմնանորոգման ծրագրերիհամակարգման և մոնիտորինգի ծառայությունների ապահովում
G27: Ծառայությունների մատուցում
H28: Ծառայությունը մատուցողի անվանումը` Մասնագիտացված միավոր
D29: 1236 - 32001 | E29: Մանկապարտեզների նոր շենքերի կառուցում | J29: =+'Հավելված N 3'!G54 -> 1000000 | K29: =+'Հավելված N 3'!H54 -> 1600000 | L29: =+'Հավելված N 3'!I54 -> 2000000
F30: Նախադպրոցական կրթության հասանելիության ապահովման նպատակով՛ մանկապարտեզների հիմնում, նոր շենքերի (մասնաշենքերի), ներառյալ՛ ,Մոդուլայինե տիպի շենքերի կառուցում և նախագծում
G31: Այլ պետական կազմակերպությունների կողմից օգտագործվող ոչ ֆինանսական ակտիվների հետ գործառնություններ
H32: Ակտիվն օգտագործող կազմակերպության անվանումը` Նախադպրոցական կրթություն իրականացնող ուսումնական հաստատություններ
I33: Կառուցվող մանկապարտեզների քանակ, հատ | J33: 1 | L33: 1
D34: 1236 - 32002 | E34: Մանկապարտեզների շենքերի վերակառուցում, հիմնանորոգում | J34: =+'Հավելված N 3'!G70 -> 1870 | K34: =+'Հավելված N 3'!H70 -> 1870 | L34: =+'Հավելված N 3'!I70 -> 1870
F35: Նախադպրոցական կրթության հասանելիության ապահովման նպատակով՛ մանկապարտեզների շենքերի (մասնաշենքերի), վերակառուցում, հիմնանորոգում և նախագծում
G36: Այլ պետական կազմակերպությունների կողմից օգտագործվող ոչ ֆինանսական ակտիվների հետ գործառնություններ
H37: Ակտիվն օգտագործող կազմակերպության անվանումը` Նախադպրոցական կրթություն իրականացնող ուսումնական հաստատություններ
I38: Նախագծանախահաշվային փաստաթղթերի քանակ, հատ | J38: 1 | L38: 1
D39: 1236 - 32004 | E39: Հանրակրթական դպրոցների շենքերի վերակառուցում, հիմնանորոգում | J39: =+'Հավելված N 3'!G186 -> 0 | K39: =+'Հավելված N 3'!H186 -> -509124.9 | L39: =+'Հավելված N 3'!I186 -> -509124.9
F40: Դպրոցական պարտադիր կրթության հասանելիության ապահովման նպատակով՛ հանրակրթական դպրոցների շենքերի (մասնաշենքերի), վերակառուցում, հիմնանորոգում և նախագծում
G41: Այլ պետական կազմակերպությունների կողմից օգտագործվող ոչ ֆինանսական ակտիվների հետ գործառնություններ
H42: Ակտիվն օգտագործող կազմակերպության անվանումը` Հանրակրթական դպրոցներ
A44: ՀՀ ՔԱՂԱՔԱՇԻՆՈՒԹՅԱՆ ԿՈՄԻՏԵ | J44: =+J45+J51 -> -1370724.9 | K44: =+K45+K51 -> -1591600 | L44: =+L45+L51 -> -1991600
B45: 1041 | C45: Մեծ նվաճումների սպորտ | J45: =+J46 -> 8400 | K45: =+K46 -> 8400 | L45: =+L46 -> 8400
D46: 1041 - 21001 | E46: Հայաստանում Ֆրանկոֆոնիայի խաղերի անցկացման համար անհրաժեշտ ենթակառուցվածքների ապահովում | J46: =+'Հավելված N 3'!G35 -> 8400 | K46: =+'Հավելված N 3'!H35 -> 8400 | L46: =+'Հավելված N 3'!I35 -> 8400
F47: Հայաստանում 2027 թվականին Ֆրանկոֆոնիայի խաղերի անցկացման նպատակով համապատասխան ենթակառուցվածքների ստեղծում, բարելավում
G48: Հանրության կողմից անմիջականորեն օգտագործվող ակտիվների հետ կապված միջոցառումներ
H49: Ծառայությունը մատուցողի անվանումը` Մասնագիտացված կազմակերպություն
I50: Շենքերի և շինությունների տեխնիկական վիճակի հետազննություն և արձանագրավորում, հատ | J50: 1 | L50: 1
B51: 1236 | C51: Հանրակրթական և նախադպրոցական հաստատությունների հիմնում, կառուցում, բարելավում | J51: =+J52+J56+J60 -> -1379124.9 | K51: =+K52+K56+K60 -> -1600000 | L51: =+L52+L56+L60 -> -2000000
D52: 1236 - 32001 | E52: Մանկապարտեզների նոր շենքերի կառուցում | J52: =+'Հավելված N 3'!G61 -> 600000 | K52: =+'Հավելված N 3'!H61 -> 1000000 | L52: =+'Հավելված N 3'!I61 -> 1500000
F53: Նախադպրոցական կրթության հասանելիության ապահովման նպատակով՛ մանկապարտեզների հիմնում, նոր շենքերի (մասնաշենքերի), ներառյալ՛ ,Մոդուլայինե տիպի շենքերի կառուցում և նախագծում
G54: Այլ պետական կազմակերպությունների կողմից օգտագործվող ոչ ֆինանսական ակտիվների հետ գործառնություններ
H55: Ակտիվն օգտագործող կազմակերպության անվանումը` Նախադպրոցական կրթություն իրականացնող ուսումնական հաստատություններ
D56: 1236 - 32003 | E56: Հանրակրթական դպրոցների նոր շենքերի կառուցում | J56: =+'Հավելված N 3'!G177 -> -600000 | K56: =+'Հավելված N 3'!H177 -> -1000000 | L56: =+'Հավելված N 3'!I177 -> -1250000
F57: ՀՀ մարզերում կրթական որակյալ ծառայությունների հասանելիության ապահովման ծրագրի շրջանակներում հանրակրթական և նախադպրոցական կրթության հասանելիության ապահովման նպատակով կրթական կենտրոնների կառուցում
G58: Այլ պետական կազմակերպությունների կողմից օգտագործվող ոչ ֆինանսական ակտիվների հետ գործառնություններ
H59: Ակտիվն օգտագործող կազմակերպության անվանումը` Հանրակրթական դպրոցներ
D60: 1236 - 32004 | E60: Հանրակրթական դպրոցների շենքերի վերակառուցում, հիմնանորոգում | J60: =+'Հավելված N 3'!G193 -> -1379124.9 | K60: =+'Հավելված N 3'!H193 -> -1600000 | L60: =+'Հավելված N 3'!I193 -> -2250000
F61: Դպրոցական պարտադիր կրթության հասանելիության ապահովման նպատակով՛ հանրակրթական դպրոցների շենքերի (մասնաշենքերի), վերակառուցում, հիմնանորոգում և նախագծում
G62: Այլ պետական կազմակերպությունների կողմից օգտագործվող ոչ ֆինանսական ակտիվների հետ գործառնություններ
H63: Ակտիվն օգտագործող կազմակերպության անվանումը` Հանրակրթական դպրոցներ
A65: ՀՀ ԿԱՌԱՎԱՐՈՒԹՅՈՒՆ | J65: =+J66 -> -1091682.6 | K65: =+K66 -> -2183365.3 | L65: =+L66 -> -3531957.9
B66: 1236 | C66: Հանրակրթական և նախադպրոցական հաստատությունների հիմնում, կառուցում, բարելավում | J66: =+J67 -> -1091682.6 | K66: =+K67 -> -2183365.3 | L66: =+L67 -> -3531957.9
D67: 1236 - 32002 | E67: Մանկապարտեզների շենքերի վերակառուցում, հիմնանորոգում | J67: =+'Հավելված N 3'!G77 -> -1091682.6 | K67: =+'Հավելված N 3'!H77 -> -2183365.3 | L67: =+'Հավելված N 3'!I77 -> -3531957.9
F68: Նախադպրոցական կրթության հասանելիության ապահովման նպատակով՛ մանկապարտեզների շենքերի (մասնաշենքերի), վերակառուցում, հիմնանորոգում և նախագծում
G69: Այլ պետական կազմակերպությունների կողմից օգտագործվող ոչ ֆինանսական ակտիվների հետ գործառնություններ
H70: Ակտիվն օգտագործող կազմակերպության անվանումը` Նախադպրոցական կրթություն իրականացնող ուսումնական հաստատություններ
A72: ՀՀ ԱՐԱԳԱԾՈՏՆԻ ՄԱՐԶՊԵՏԻ ԱՇԽԱՏԱԿԱԶՄ | J72: =+J73 -> 195098.4 | K72: =+K73 -> 277831.1 | L72: =+L73 -> 296331.7
B73: 1236 | C73: Հանրակրթական և նախադպրոցական հաստատությունների հիմնում, կառուցում, բարելավում | J73: =+J74 -> 195098.4 | K73: =+K74 -> 277831.1 | L73: =+L74 -> 296331.7
D74: 1236 - 32002 | E74: Մանկապարտեզների շենքերի վերակառուցում, հիմնանորոգում | J74: =+'Հավելված N 3'!G84 -> 195098.4 | K74: =+'Հավելված N 3'!H84 -> 277831.1 | L74: =+'Հավելված N 3'!I84 -> 296331.7
F75: Նախադպրոցական կրթության հասանելիության ապահովման նպատակով՛ մանկապարտեզների շենքերի (մասնաշենքերի), վերակառուցում, հիմնանորոգում և նախագծում
G76: Այլ պետական կազմակերպությունների կողմից օգտագործվող ոչ ֆինանսական ակտիվների հետ գործառնություններ
H77: Ակտիվն օգտագործող կազմակերպության անվանումը` Նախադպրոցական կրթություն իրականացնող ուսումնական հաստատություններ
I78: Հիմնանորոգվող / վերանորոգվող մանկապարտեզների քանակ, հատ | J78: 5 | L78: 5
I79: Հաստատությունների քանակ, որոնց շինարարական աշխատանքների ավարտվածության աստիճանը 100% է, հատ | L79: =+L78 -> 5
I80: Հիմնանորոգված / վերանորոգված մանկապարտեզների հզորությունը | L80: 530
A82: ՀՀ ԱՐԱՐԱՏԻ ՄԱՐԶՊԵՏԻ ԱՇԽԱՏԱԿԱԶՄ | J82: =+J83 -> 370059.6 | K82: =+K83 -> 524791.8 | L82: =+L83 -> 605952.5
B83: 1236 | C83: Հանրակրթական և նախադպրոցական հաստատությունների հիմնում, կառուցում, բարելավում | J83: =+J84 -> 370059.6 | K83: =+K84 -> 524791.8 | L83: =+L84 -> 605952.5
D84: 1236 - 32002 | E84: Մանկապարտեզների շենքերի վերակառուցում, հիմնանորոգում | J84: =+'Հավելված N 3'!G91 -> 370059.6 | K84: =+'Հավելված N 3'!H91 -> 524791.8 | L84: =+'Հավելված N 3'!I91 -> 605952.5
F85: Նախադպրոցական կրթության հասանելիության ապահովման նպատակով՛ մանկապարտեզների շենքերի (մասնաշենքերի), վերակառուցում, հիմնանորոգում և նախագծում
G86: Այլ պետական կազմակերպությունների կողմից օգտագործվող ոչ ֆինանսական ակտիվների հետ գործառնություններ
H87: Ակտիվն օգտագործող կազմակերպության անվանումը` Նախադպրոցական կրթություն իրականացնող ուսումնական հաստատություններ
I88: Հիմնանորոգվող / վերանորոգվող մանկապարտեզների քանակ, հատ | J88: 5 | L88: 5
I89: Հաստատությունների քանակ, որոնց շինարարական աշխատանքների ավարտվածության աստիճանը 100% է, հատ | L89: =+L88 -> 5
I90: Հիմնանորոգված / վերանորոգված մանկապարտեզների հզորությունը | L90: 747
A92: ՀՀ ԱՐՄԱՎԻՐԻ ՄԱՐԶՊԵՏԻ ԱՇԽԱՏԱԿԱԶՄ | J92: =+J93 -> 67911.6 | K92: =+K93 -> 155911.6 | L92: =+L93 -> 221911.6
B93: 1236 | C93: Հանրակրթական և նախադպրոցական հաստատությունների հիմնում, կառուցում, բարելավում | J93: =+J94 -> 67911.6 | K93: =+K94 -> 155911.6 | L93: =+L94 -> 221911.6
D94: 1236 - 32002 | E94: Մանկապարտեզների շենքերի վերակառուցում, հիմնանորոգում | J94: =+'Հավելված N 3'!G98 -> 67911.6 | K94: =+'Հավելված N 3'!H98 -> 155911.6 | L94: =+'Հավելված N 3'!I98 -> 221911.6
F95: Նախադպրոցական կրթության հասանելիության ապահովման նպատակով՛ մանկապարտեզների շենքերի (մասնաշենքերի), վերակառուցում, հիմնանորոգում և նախագծում
G96: Այլ պետական կազմակերպությունների կողմից օգտագործվող ոչ ֆինանսական ակտիվների հետ գործառնություններ
H97: Ակտիվն օգտագործող կազմակերպության անվանումը` Նախադպրոցական կրթություն իրականացնող ուսումնական հաստատություններ
I98: Հիմնանորոգվող / վերանորոգվող մանկապարտեզների քանակ, հատ | J98: 2 | L98: 2
I99: Հաստատությունների քանակ, որոնց շինարարական աշխատանքների ավարտվածության աստիճանը 100% է, հատ | L99: =+L98 -> 2
I100: Հիմնանորոգված / վերանորոգված մանկապարտեզների հզորությունը | L100: 220
I101: Մանկապարտեզների վերանորոգման/հիմնանորոգման համար անհրաժեշտ տեխնիկական վիճակի զննության, չափագրության և նախահաշվային փաստաթղթերի քանակ, հատ | J101: 2 | L101: 2
A103: ՀՀ ԳԵՂԱՐՔՈՒՆԻՔԻ ՄԱՐԶՊԵՏԻ ԱՇԽԱՏԱԿԱԶՄ | J103: =+J104 -> 311312.1 | K103: =+K104 -> 441025.5 | L103: =+L104 -> 518853.5
B104: 1236 | C104: Հանրակրթական և նախադպրոցական հաստատությունների հիմնում, կառուցում, բարելավում | J104: =+J105 -> 311312.1 | K104: =+K105 -> 441025.5 | L104: =+L105 -> 518853.5
D105: 1236 - 32002 | E105: Մանկապարտեզների շենքերի վերակառուցում, հիմնանորոգում | J105: =+'Հավելված N 3'!G109 -> 311312.1 | K105: =+'Հավելված N 3'!H109 -> 441025.5 | L105: =+'Հավելված N 3'!I109 -> 518853.5
F106: Նախադպրոցական կրթության հասանելիության ապահովման նպատակով՛ մանկապարտեզների շենքերի (մասնաշենքերի), վերակառուցում, հիմնանորոգում և նախագծում
G107: Այլ պետական կազմակերպությունների կողմից օգտագործվող ոչ ֆինանսական ակտիվների հետ գործառնություններ
H108: Ակտիվն օգտագործող կազմակերպության անվանումը` Նախադպրոցական կրթություն իրականացնող ուսումնական հաստատություններ
I109: Հիմնանորոգվող / վերանորոգվող մանկապարտեզների քանակ, հատ | J109: 5 | L109: 5
...

Sheet Հավելված N 9
H1: Հավելված N 9
H2: ՀՀ կառավարության 2026 թվականի
H3: ______________ ի ___Ն որոշման
A6: ՀԱՅԱՍՏԱՆԻ ՀԱՆՐԱՊԵՏՈՒԹՅԱՆ ԿԱՌԱՎԱՐՈՒԹՅԱՆ 2025 ԹՎԱԿԱՆԻ ԴԵԿՏԵՄԲԵՐԻ 25-Ի N 1910-Ն N 10 ՀԱՎԵԼՎԱԾՈՒՄ ԿԱՏԱՐՎՈՂ ՓՈՓՈԽՈՒԹՅՈՒՆՆԵՐԸ ԵՎ ԼՐԱՑՈՒՄՆԵՐԸ
A10: Կոդը | B10: Անվանումը | E10: Գնման ձևը | F10: Չափման միավորը | G10: Միավորի գինը | H10: Ցուցանիշների փոփոխությունը (ավելացումները նշված են դրական նշանով, իսկ նվազեցումները՝ փակագծերում)
H11: Քանակը | I11: Գումարը (հազար դրամ)
A12: 1 | B12: 2 | E12: 3 | F12: 4 | G12: 5 | H12: 6 | I12: 7
A13: ՀՀ կրթության, գիտության, մշակույթի և սպորտի նախարարություն | I13: =+I14+I20+I25 -> 502594.9
A14: Բաժին N 08 | B14: Խումբ N 01 | C14: Դաս N 01 | D14: Հանգստի և սպորտի ծառայություններ | I14: =+I15 -> -8400
A15: 1041-21001 | B15: Հայաստանում Ֆրանկոֆոնիայի խաղերի անցկացման համար անհրաժեշտ ենթակառուցվածքների ապահովում | I15: =+I16 -> -8400
B16: ՄԱՍ I. ԱՊՐԱՆՔՆԵՐ | I16: =SUM(I17:I19) -> -8400
A17: 39121410-1 | B17: սեղան` համակարգչի | E17: ԷԱՃ | F17: դրամ | G17: 300000 | H17: -10 | I17: =+ROUNDDOWN(G17*H17/1000,1) -> -3000
A18: 30232130-1 | B18: գունավոր տպիչներ | E18: ԷԱՃ | F18: դրամ | G18: 400000 | H18: -1 | I18: =+ROUNDDOWN(G18*H18/1000,1) -> -400
A19: 30239110-2 | B19: տպիչ սարք, բազմաֆունկցիոնալ, A4, 18 էջ/րոպե արագության | E19: ԷԱՃ | F19: դրամ | G19: 500000 | H19: -10 | I19: =+ROUNDDOWN(G19*H19/1000,1) -> -5000
A20: Բաժին N 09 | B20: Խումբ N 01 | C20: Դաս N 01 | D20: Նախադպրոցական կրթություն | I20: =+I21 -> 1870
A21: 1236-32002 | B21: Մանկապարտեզների շենքերի վերակառուցում, հիմնանորոգում | I21: =+I22 -> 1870
B22: ՄԱՍ III. ԾԱՌԱՅՈՒԹՅՈՒՆՆԵՐ | I22: =SUM(I23:I24) -> 1870
A23: 71241200 | B23: նախագծերի պատրաստում, ծախսերի գնահատում | E23: ՀՄԱ | F23: դրամ | G23: 1700000 | H23: 1 | I23: =+ROUNDUP(G23*H23/1000,1) -> 1700 | J23: Վանաձորի 11
A24: 50531140 | B24: փորձաքննության ծառայություններ | E24: ԳՀ | F24: դրամ | G24: 170000 | H24: 1 | I24: =+ROUNDUP(G24*H24/1000,1) -> 170 | J24: Վանաձորի 11
A25: Բաժին N 09 | B25: Խումբ N 02 | C25: Դաս N 01 | D25: Հիմնական ընդհանուր կրթություն | I25: =+I26 -> 509124.9
A26: 1236-11001 | B26: Հանրակրթական և նախադպրոցական հաստատությունների կառուցման, վերակառուցման, հիմնանորոգման ծրագրերի համակարգման և մոնիտորինգի ծառայություններ | I26: =+I27 -> 509124.9
B27: ՄԱՍ III. ԾԱՌԱՅՈՒԹՅՈՒՆՆԵՐ | I27: =+I28 -> 509124.9
A28: 71621100 | B28: տեխնիկական վերլուծության և խորհրդատվության ծառայություններ | E28: ՀԲՄ | F28: դրամ | G28: 509124850 | H28: 1 | I28: =+ROUNDUP(G28*H28/1000,1) -> 509124.9
A30: ՀՀ քաղաքաշինության կոմիտե | I30: =I31+I35 -> 10967
A31: Բաժին N 08 | B31: Խումբ N 01 | C31: Դաս N 01 | D31: Հանգստի և սպորտի ծառայություններ | I31: =+I32 -> 8400
A32: 1041-21001 | B32: Հայաստանում Ֆրանկոֆոնիայի խաղերի անցկացման համար անհրաժեշտ ենթակառուցվածքների ապահովում | I32: =+I33 -> 8400
B33: ՄԱՍ III. ԾԱՌԱՅՈՒԹՅՈՒՆՆԵՐ | I33: =+I34 -> 8400
A34: 71631140-502 | B34: շենքերի տեխնիկական ստուգման ծառայություններ | E34: ԳՀ | F34: դրամ | G34: 8400000 | H34: 1 | I34: =+ROUNDUP(G34*H34/1000,1) -> 8400 | J34: Հրազդան մարզադաշտ
A35: Բաժին N 09 | B35: Խումբ N 02 | C35: Դաս N 01 | D35: Հիմնական ընդհանուր կրթություն | I35: =+I36 -> 2567
A36: 1236-32004 | B36: Հանրակրթական դպրոցների շենքերի վերակառուցում, հիմնանորոգում | I36: =+I37 -> 2567
B37: ՄԱՍ III. ԾԱՌԱՅՈՒԹՅՈՒՆՆԵՐ | I37: =SUM(I38:I38) -> 2567
A38: 71621100 | B38: տեխնիկական վերլուծության և խրհրդատվության ծառայություններ | E38: ՀՄԱ | F38: դրամ | G38: 2567000 | H38: 1 | I38: =+ROUNDUP(H38*G38/1000,1) -> 2567 | J38: Ներքին Բազմաբերդ
A40: ՀՀ Արագածոտնի մարզպետի աշխատակազմ | I40: =+I41 -> 296331.7
A41: Բաժին N 09 | B41: Խումբ N 01 | C41: Դաս N 01 | D41: Նախադպրոցական կրթություն | I41: =+I42 -> 296331.7
A42: 1236-32002 | B42: Մանկապարտեզների շենքերի վերակառուցում, հիմնանորոգում | I42: =+I43+I49 -> 296331.7
B43: ՄԱՍ II. ԱՇԽԱՏԱՆՔՆԵՐ | I43: =SUM(I44:I48) -> 289402.8
A44: 45461100-501 | B44: շենքերի, շինությունների ընթացիկ նորոգման աշխատանքներ | E44: ՀԲՄ | F44: դրամ | G44: =71880000*0.7 -> 50316000 | H44: 1 | I44: =+ROUNDUP(G44*H44/1000,1) -> 50316 | J44: Աշտարակի 5
A45: 45461100-502 | B45: շենքերի, շինությունների ընթացիկ նորոգման աշխատանքներ | E45: ՀԲՄ | F45: դրամ | G45: =218880000*0.55 -> 1.20384e+08 | H45: 1 | I45: =+ROUNDUP(G45*H45/1000,1) -> 120384 | J45: Աշտարակի 1
A46: 45461100-506 | B46: շենքերի, շինությունների ընթացիկ նորոգման աշխատանքներ | E46: ՀԲՄ | F46: դրամ | G46: =81900000*0.7 -> 57330000 | H46: 1 | I46: =+ROUNDUP(G46*H46/1000,1) -> 57330 | J46: Ապարանի 1
A47: 45461100-507 | B47: շենքերի, շինությունների ընթացիկ նորոգման աշխատանքներ | E47: ՀԲՄ | F47: դրամ | G47: 26280000 | H47: 1 | I47: =+ROUNDUP(G47*H47/1000,1) -> 26280 | J47: Քուչակ
A48: 45461100-508 | B48: շենքերի, շինությունների ընթացիկ նորոգման աշխատանքներ | E48: ՀԲՄ | F48: դրամ | G48: 35092800 | H48: 1 | I48: =+ROUNDUP(G48*H48/1000,1) -> 35092.8 | J48: Հարթավան
B49: ՄԱՍ III. ԾԱՌԱՅՈՒԹՅՈՒՆՆԵՐ | I49: =SUM(I50:I54) -> 6928.9
A50: 71521100 | B50: շինարարության ընթացքի վերահսկման ծառայություններ | E50: ՄԱ | F50: դրամ | G50: =1798374*0.7 -> 1258861.8 | H50: 1 | I50: =+ROUNDUP(G50*H50/1000,1) -> 1258.9 | J50: Աշտարակի 5
A51: 71521100 | B51: շինարարության ընթացքի վերահսկման ծառայություններ | E51: ՄԱ | F51: դրամ | G51: =5369971*0.55 -> 2953484.1 | H51: 1 | I51: =+ROUNDUP(G51*H51/1000,1) -> 2953.5 | J51: Աշտարակի 1
A52: 71521100 | B52: շինարարության ընթացքի վերահսկման ծառայություններ | E52: ՄԱ | F52: դրամ | G52: =2004037*0.7 -> 1402825.9 | H52: 1 | I52: =+ROUNDUP(G52*H52/1000,1) -> 1402.9 | J52: Ապարանի 1
A53: 71521100 | B53: շինարարության ընթացքի վերահսկման ծառայություններ | E53: ՄԱ | F53: դրամ | G53: 537919 | H53: 1 | I53: =+ROUNDUP(G53*H53/1000,1) -> 538 | J53: Քուչակ
A54: 71521100 | B54: շինարարության ընթացքի վերահսկման ծառայություններ | E54: ՄԱ | F54: դրամ | G54: 775547 | H54: 1 | I54: =+ROUNDUP(G54*H54/1000,1) -> 775.6 | J54: Հարթավան
A56: ՀՀ Արարատի մարզպետի աշխատակազմ | I56: =+I57 -> 402911.9
A57: Բաժին N 09 | B57: Խումբ N 01 | C57: Դաս N 01 | D57: Նախադպրոցական կրթություն | I57: =+I58 -> 402911.9
A58: 1236-32002 | B58: Մանկապարտեզների շենքերի վերակառուցում, հիմնանորոգում | I58: =+I59+I64 -> 402911.9
B59: ՄԱՍ II. ԱՇԽԱՏԱՆՔՆԵՐ | I59: =SUM(I60:I63) -> 392666.4
A60: 45211228-501 | B60: շինարարական աշխատանքներ մանկապարտեզների համար | E60: ՀԲՄ | F60: դրամ | G60: =249600000*0.55 -> 137280000 | H60: 1 | I60: =+ROUNDUP(G60*H60/1000,1) -> 137280 | J60: Վեդու 2
A61: 45211228-502 | B61: շինարարական աշխատանքներ մանկապարտեզների համար | E61: ՀԲՄ | F61: դրամ | G61: =142560000*0.7 -> 99792000 | H61: 1 | I61: =+ROUNDUP(G61*H61/1000,1) -> 99792 | J61: Զարթոնք
A62: 45211228-503 | B62: շինարարական աշխատանքներ մանկապարտեզների համար | E62: ՀԲՄ | F62: դրամ | G62: =168048000*0.55 -> 92426400 | H62: 1 | I62: =+ROUNDUP(G62*H62/1000,1) -> 92426.4 | J62: Մասիսի 5
A63: 45211228-504 | B63: շինարարական աշխատանքներ մանկապարտեզների համար | E63: ՀԲՄ | F63: դրամ | G63: =90240000*0.7 -> 63168000 | H63: 1 | I63: =+ROUNDUP(G63*H63/1000,1) -> 63168 | J63: Դալար
B64: ՄԱՍ III. ԾԱՌԱՅՈՒԹՅՈՒՆՆԵՐ | I64: =SUM(I65:I68) -> 10245.5
A65: 71521100 | B65: շինարարության ընթացքի վերահսկման ծառայություններ | E65: ՄԱ | F65: դրամ | G65: =6340222*0.55 -> 3487122.1 | H65: 1 | I65: =+ROUNDUP(G65*H65/1000,1) -> 3487.2 | J65: Վեդու 2
A66: 71521100 | B66: շինարարության ընթացքի վերահսկման ծառայություններ | E66: ՄԱ | F66: դրամ | G66: =3744931*0.7 -> 2621451.7 | H66: 1 | I66: =+ROUNDUP(G66*H66/1000,1) -> 2621.5 | J66: Զարթոնք
A67: 71521100 | B67: շինարարության ընթացքի վերահսկման ծառայություններ | E67: ՄԱ | F67: դրամ | G67: =4406239*0.55 -> 2423431.5 | H67: 1 | I67: =+ROUNDUP(G67*H67/1000,1) -> 2423.5 | J67: Մասիսի 5
A68: 71521100 | B68: շինարարության ընթացքի վերահսկման ծառայություններ | E68: ՄԱ | F68: դրամ | G68: =2447571*0.7 -> 1713299.7 | H68: 1 | I68: =+ROUNDUP(G68*H68/1000,1) -> 1713.3 | J68: Դալար
A70: ՀՀ Արմավիրի մարզպետի աշխատակազմ | I70: =+I71 -> 1911.6
A71: Բաժին N 09 | B71: Խումբ N 01 | C71: Դաս N 01 | D71: Նախադպրոցական կրթություն | I71: =+I72 -> 1911.6
A72: 1236-32002 | B72: Մանկապարտեզների շենքերի վերակառուցում, հիմնանորոգում | I72: =+I73 -> 1911.6
B73: ՄԱՍ III. ԾԱՌԱՅՈՒԹՅՈՒՆՆԵՐ | I73: =+I74 -> 1911.6
A74: 71621100-502 | B74: տեխնիկական վերլուծության և խրհրդատվության ծառայություններ | E74: ՀԲՄ | F74: դրամ | G74: 1911600 | H74: 1 | I74: =+ROUNDUP(G74*H74/1000,1) -> 1911.6
A76: ՀՀ Գեղարքունիքի մարզպետի աշխատակազմ | I76: =+I77 -> 518853.5
A77: Բաժին N 09 | B77: Խումբ N 01 | C77: Դաս N 01 | D77: Նախադպրոցական կրթություն | I77: =+I78 -> 518853.5
A78: 1236-32002 | B78: Մանկապարտեզների շենքերի վերակառուցում, հիմնանորոգում | I78: =+I79+I85 -> 518853.5
B79: ՄԱՍ II. ԱՇԽԱՏԱՆՔՆԵՐ | I79: =SUM(I80:I84) -> 506560.4
A80: 45211228-501 | B80: շինարարական աշխատանքներ մանկապարտեզների համար | E80: ՀԲՄ | F80: դրամ | G80: =143400000*0.7 -> 100380000 | H80: 1 | I80: =+ROUNDUP(G80*H80/1000,1) -> 100380 | J80: Մարտունու 4
A81: 45211228-502 | B81: շինարարական աշխատանքներ մանկապարտեզների համար | E81: ՀԲՄ | F81: դրամ | G81: =247077077*0.55 -> 1.3589239e+08 | H81: 1 | I81: =+ROUNDUP(G81*H81/1000,1) -> 135892.4 | J81: Ձորագյուղ
A82: 45211228-503 | B82: շինարարական աշխատանքներ մանկապարտեզների համար | E82: ՀԲՄ | F82: դրամ | G82: =162960000*0.55 -> 89628000 | H82: 1 | I82: =+ROUNDUP(G82*H82/1000,1) -> 89628 | J82: Սևանի 3
A83: 45211228-504 | B83: շինարարական աշխատանքներ մանկապարտեզների համար | E83: ՀԲՄ | F83: դրամ | G83: =171240000*0.55 -> 94182000 | H83: 1 | I83: =+ROUNDUP(G83*H83/1000,1) -> 94182 | J83: Ծովագյուղ
A84: 45211228-505 | B84: շինարարական աշխատանքներ մանկապարտեզների համար | E84: ՀԲՄ | F84: դրամ | G84: =123540000*0.7 -> 86478000 | H84: 1 | I84: =+ROUNDUP(G84*H84/1000,1) -> 86478 | J84: Կարմիգհուղ
B85: ՄԱՍ III. ԾԱՌԱՅՈՒԹՅՈՒՆՆԵՐ | I85: =SUM(I86:I90) -> 12293.1
A86: 71521100 | B86: շինարարության ընթացքի վերահսկման ծառայություններ | E86: ՄԱ | F86: դրամ | G86: =3462059*0.7 -> 2423441.3 | H86: 1 | I86: =+ROUNDUP(G86*H86/1000,1) -> 2423.5 | J86: Մարտունու 4
A87: 71521100 | B87: շինարարության ընթացքի վերահսկման ծառայություններ | E87: ՄԱ | F87: դրամ | G87: =5859200*0.55 -> 3222560 | H87: 1 | I87: =+ROUNDUP(G87*H87/1000,1) -> 3222.6 | J87: Ձորագյուղ
A88: 71521100 | B88: շինարարության ընթացքի վերահսկման ծառայություններ | E88: ՄԱ | F88: դրամ | G88: =4143764*0.55 -> 2279070.2 | H88: 1 | I88: =+ROUNDUP(G88*H88/1000,1) -> 2279.1 | J88: Սևանի 3
A89: 71521100 | B89: շինարարության ընթացքի վերահսկման ծառայություններ | E89: ՄԱ | F89: դրամ | G89: =4187852*0.55 -> 2303318.6 | H89: 1 | I89: =+ROUNDUP(G89*H89/1000,1) -> 2303.4 | J89: Ծովագյուղ
A90: 71521100 | B90: շինարարության ընթացքի վերահսկման ծառայություններ | E90: ՄԱ | F90: դրամ | G90: =2949248*0.7 -> 2064473.6 | H90: 1 | I90: =+ROUNDUP(G90*H90/1000,1) -> 2064.5 | J90: Կարմիրգյուղ
A92: ՀՀ Լոռու մարզպետի աշխատակազմ | I92: =+I93 -> 319244.3
A93: Բաժին N 09 | B93: Խումբ N 01 | C93: Դաս N 01 | D93: Նախադպրոցական կրթություն | I93: =+I94 -> 319244.3
A94: 1236-32002 | B94: Մանկապարտեզների շենքերի վերակառուցում, հիմնանորոգում | I94: =+I95+I99 -> 319244.3
B95: ՄԱՍ II. ԱՇԽԱՏԱՆՔՆԵՐ | I95: =SUM(I96:I98) -> 311390.7
A96: 45211228-504 | B96: շինարարական աշխատանքներ մանկապարտեզների համար | E96: ՀԲՄ | F96: դրամ | G96: =179866800*0.55 -> 98926740 | H96: 1 | I96: =+ROUNDUP(G96*H96/1000,1) -> 98926.8 | J96: Շիրակամուտ
A97: 45211228-502 | B97: շինարարական աշխատանքներ մանկապարտեզների համար | E97: ՀԲՄ | F97: դրամ | G97: =207498000*0.55 -> 1.141239e+08 | H97: 1 | I97: =+ROUNDUP(G97*H97/1000,1) -> 114123.9 | J97: Վանաձորի 32
A98: 45211228-503 | B98: շինարարական աշխատանքներ մանկապարտեզների համար | E98: ՀԲՄ | F98: դրամ | G98: =178800000*0.55 -> 98340000 | H98: 1 | I98: =+ROUNDUP(G98*H98/1000,1) -> 98340 | J98: Արևներ 1մ․
B99: ՄԱՍ III. ԾԱՌԱՅՈՒԹՅՈՒՆՆԵՐ | I99: =SUM(I100:I102) -> 7853.6
A100: 71521100 | B100: շինարարության ընթացքի վերահսկման ծառայություններ | E100: ՄԱ | F100: դրամ | G100: =4740908*0.55 -> 2607499.4 | H100: 1 | I100: =+ROUNDUP(G100*H100/1000,1) -> 2607.5 | J100: Շիրակամուտ
A101: 71521100 | B101: շինարարության ընթացքի վերահսկման ծառայություններ | E101: ՄԱ | F101: դրամ | G101: =5187460*0.55 -> 2853103 | H101: 1 | I101: =+ROUNDUP(G101*H101/1000,1) -> 2853.2 | J101: Վանաձորի 32
A102: 71521100 | B102: շինարարության ընթացքի վերահսկման ծառայություններ | E102: ՄԱ | F102: դրամ | G102: =4350563*0.55 -> 2392809.7 | H102: 1 | I102: =+ROUNDUP(G102*H102/1000,1) -> 2392.9 | J102: Արևներ 1մ․
A104: ՀՀ Կոտայքի մարզպետի աշխատակազմ | I104: =+I105 -> 204784.1
A105: Բաժին N 09 | B105: Խումբ N 01 | C105: Դաս N 01 | D105: Նախադպրոցական կրթություն | I105: =+I106 -> 204784.1
A106: 1236-32002 | B106: Մանկապարտեզների շենքերի վերակառուցում, հիմնանորոգում | I106: =+I107+I111 -> 204784.1
B107: ՄԱՍ II. ԱՇԽԱՏԱՆՔՆԵՐ | I107: =SUM(I108:I110) -> 199884.3
A108: 45211228-502 | B108: շինարարական աշխատանքներ մանկապարտեզների համար | E108: ՀԲՄ | F108: դրամ | G108: =62400000 -> 62400000 | H108: 1 | I108: =+ROUNDUP(G108*H108/1000,1) -> 62400 | J108: Գառնի
A109: 45211228-503 | B109: շինարարական աշխատանքներ մանկապարտեզների համար | E109: ՀԲՄ | F109: դրամ | G109: =75216000*0.7 -> 52651200 | H109: 1 | I109: =+ROUNDUP(G109*H109/1000,1) -> 52651.2 | J109: Մրգաշեն
A110: 45211228-504 | B110: շինարարական աշխատանքներ մանկապարտեզների համար | E110: ՀԲՄ | F110: դրամ | G110: =154242000*0.55 -> 84833100 | H110: 1 | I110: =+ROUNDUP(G110*H110/1000,1) -> 84833.1 | J110: Հրազդանի 13
B111: ՄԱՍ III. ԾԱՌԱՅՈՒԹՅՈՒՆՆԵՐ | I111: =SUM(I112:I114) -> 4899.8
A112: 71521100 | B112: շինարարության ընթացքի վերահսկման ծառայություններ | E112: ՄԱ | F112: դրամ | G112: =1503871 -> 1503871 | H112: 1 | I112: =+ROUNDUP(G112*H112/1000,1) -> 1503.9 | J112: Գառնի
...
