Workbook
Name _Hlk341707516: '1'!$B$8

Sheet 1
C1: Հավելված N 1
B2: ՀՀ կառավարության 2026 թվականի
B3: ______________ ի ___Ն որոշման
C5: «ՀԱՅԱՍՏԱՆԻ ՀԱՆՐԱՊԵՏՈՒԹՅԱՆ 2026 ԹՎԱԿԱՆԻ ՊԵՏԱԿԱՆ ԲՅՈՒՋԵԻ ՄԱՍԻՆ» ՕՐԵՆՔԻ 2-ՐԴ ՀՈԴՎԱԾԻ ԱՂՅՈՒՍԱԿՈՒՄ ԿԱՏԱՐՎՈՂ ՓՈՓՈԽՈՒԹՅՈՒՆԸ ԵՎ ԼՐԱՑՈՒՄԸ
D6: հազար դրամներով
D7: Ցուցանիշների փոփոխությունը (ավելացումները նշված են դրական նշանով)
C8: 1. Եկամուտների գծով | D8: 80000
C9: 2. Ծախսերի գծով | D9: =+D8 -> 80000
C10: 3. Դեֆիցիտը (պակասուրդը) | D10: =+D9-D8 -> 0
C13: ՀԱՅԱՍՏԱՆԻ ՀԱՆՐԱՊԵՏՈՒԹՅԱՆ ՎԱՐՉԱՊԵՏԻ ԱՇԽԱՏԱԿԱԶՄԻ ՂԵԿԱՎԱՐ՝ | D13: Ա.ՀԱՐՈՒԹՅՈՒՆՅԱՆ

Sheet 2
E1: Հավելված N 2
D2: ՀՀ կառավարության 2026 թվականի
D3: ______________ ի ___Ն որոշման
C5: «ՀԱՅԱՍՏԱՆԻ ՀԱՆՐԱՊԵՏՈՒԹՅԱՆ 2026 ԹՎԱԿԱՆԻ ՊԵՏԱԿԱՆ ԲՅՈՒՋԵԻ ՄԱՍԻՆ» ՕՐԵՆՔԻ 6-ՐԴ ՀՈԴՎԱԾԻ ԱՂՅՈՒՍԱԿՈՒՄ ԵՎ ՀԱՅԱՍՏԱՆԻ ՀԱՆՐԱՊԵՏՈՒԹՅԱՆ ԿԱՌԱՎԱՐՈՒԹՅԱՆ 2025 ԹՎԱԿԱՆԻ ԴԵԿՏԵՄԲԵՐԻ 25-Ի N 1910-Ն ՈՐՈՇՄԱՆ N 2 ՀԱՎԵԼՎԱԾՈՒՄ ԿԱՏԱՐՎՈՂ ԼՐԱՑՈՒՄԸ
D6: հազար դրամներով
C7: Եկամտատեսակ | D7: Ցուցանիշների փոփոխությունը (ավելացումները նշված են դրական նշանով)
D8: Առաջին կիսամյակ | E8: Ինն ամիս | F8: Տարի
C9: ՊԵՏԱԿԱՆ ԲՅՈՒՋԵԻ ԵԿԱՄՈՒՏՆԵՐ | D9: =+D11 -> 80000 | E9: =+E11 -> 80000 | F9: =+F11 -> 80000
C10: այդ թվում՝
C11: Պաշտոնական դրամաշնորհներ | D11: ='1'!D9 -> 80000 | E11: ='1'!D9 -> 80000 | F11: =+E11 -> 80000
C14: ՀԱՅԱՍՏԱՆԻ ՀԱՆՐԱՊԵՏՈՒԹՅԱՆ ՎԱՐՉԱՊԵՏԻ ԱՇԽԱՏԱԿԱԶՄԻ ՂԵԿԱՎԱՐ՝ | F14: Ա.ՀԱՐՈՒԹՅՈՒՆՅԱՆ

Sheet 3.
A1: Հավելված N 3
A2: ՀՀ կառավարության 2026 թվականի
A3: ______________ ի ___Ն որոշման
A4: ՀԱՅԱՍՏԱՆԻ ՀԱՆՐԱՊԵՏՈՒԹՅԱՆ 2026 ԹՎԱԿԱՆԻ ՊԵՏԱԿԱՆ ԲՅՈՒՋԵԻ ՄԱՍԻՆ» ՕՐԵՆՔԻ N 1 ՀԱՎԵԼՎԱԾԻ N 2 ԱՂՅՈՒՍԱԿՈՒՄ ԵՎ ՀԱՅԱՍՏԱՆԻ ՀԱՆՐԱՊԵՏՈՒԹՅԱՆ ԿԱՌԱՎԱՐՈՒԹՅԱՆ 2025 ԹՎԱԿԱՆԻ ԴԵԿՏԵՄԲԵՐԻ 25-Ի N 1910-Ն ՈՐՈՇՄԱՆ N 5 ՀԱՎԵԼՎԱԾԻ N 1 ԱՂՅՈՒՍԱԿՈՒՄ ԿԱՏԱՐՎՈՂ ԼՐԱՑՈՒՄԸ
I7: հազար դրամներով
B8: ԲԳԿ | C8: Ծրագրային դասիչը | E8: ԲԳԿ/Ծրագրի /միջոցառման անվանումը | F8: Ծրագրի նպատակը/Միջոցառման նկարագրությունը | G8: Վերջնական արդյունքի նկարագրությունը/Միջոցառման տեսակը | H8: Ցուցանիշների փոփոխությունը (ավելացումները նշված են դրական նշանով)
C9: Ծրագիր | D9: Միջոցառում | H9: Առաջին կիսամյակ | I9: Ինն ամիս | J9: Տարի
B10: ԸՆԴԱՄԵՆԸ | H10: =H11 -> 80000 | I10: =I11 -> 80000 | J10: =J11 -> 80000
B11: ՀՀ տարածքային կառավարման և ենթակառուցվածքների նախարարություն | H11: =H12 -> 80000 | I11: =I12 -> 80000 | J11: =J12 -> 80000
C12: 1232 | E12: Էներգաարդյունավետության ծրագիր | F12: Էներգախնայողության և վերականգնվող էներգետիկայի ներուժի առավելագույն իրացում | G12: Էներգախնայողության մակարդակի բարձրացում և վերականգնվող էներգետիկայի մասնաբաժնի աճ | H12: =H13 -> 80000 | I12: =I13 -> 80000 | J12: =J13 -> 80000
D13: 1232 - 12004 | E13: ՄԱԶԾ ծրագրի շրջանակներում աջակցություն «Բնակարանների և անհատական բնակելի տների էներգաարդյունավետ վերանորոգման աշխատանքների պետական աջակցության ծրագրի» սահմանամերձ և բարձր լեռնային բնակավայրերի շահառուներին | F13: ՄԱԶԾ աջակցություն բնակարանների և անհատական բնակելի տների էներգաարդյունավետ վերանորոգման աշխատանքների իրականացմանը | G13: Տրանսֆերտների տրամադրում | H13: ='1'!D8 -> 80000 | I13: =H13 -> 80000 | J13: =H13 -> 80000
D16: ՀԱՅԱՍՏԱՆԻ ՀԱՆՐԱՊԵՏՈՒԹՅԱՆ ՎԱՐՉԱՊԵՏԻ ԱՇԽԱՏԱԿԱԶՄԻ ՂԵԿԱՎԱՐ՝ | G16: Ա.ՀԱՐՈՒԹՅՈՒՆՅԱՆ

Sheet 4․
A1: Հավելված N 4
A2: ՀՀ կառավարության 2026 թվականի
A3: ______________ ի ___Ն որոշման
B5: ՀԱՅԱՍՏԱՆԻ ՀԱՆՐԱՊԵՏՈՒԹՅԱՆ ԿԱՌԱՎԱՐՈՒԹՅԱՆ 2025 ԹՎԱԿԱՆԻ ԴԵԿՏԵՄԲԵՐԻ 25-Ի N 1910-Ն ՈՐՈՇՄԱՆ NN 3 ԵՎ 4 ՀԱՎԵԼՎԱԾՆԵՐՈՒՄ ԿԱՏԱՐՎՈՂ ԼՐԱՑՈՒՄԸ
J6: հազար դրամներով
B7: Գործառական դասիչը | E7: Ծրագրային դասիչը | G7: Բյուջետային ծախսերի գործառական դասակարգման բաժինների, խմբերի և դասերի, բյուջետային ծրագրերի միջոցառումների, բյուջետային հատկացումների գլխավոր կարգադրիչների անվանումները | H7: Ցուցանիշների փոփոխությունը (ավելացումները նշված են դրական նշանով)
B8: բաժինը | C8: խումբը | D8: դասը | E8: ծրագիրը | F8: միջոցառումը | H8: Առաջին կիսամյակ | I8: Ինն ամիս | J8: Տարի
G9: ԸՆԴԱՄԵՆԸ | H9: =+H12 -> 80000 | I9: =+I12 -> 80000 | J9: =+J12 -> 80000
G10: այդ թվում
G11: ՀՀ տարածքային կառավարման և ենթակառուցվածքների նախարարություն | H11: =H12+H31 -> 80000 | I11: =I12+I31 -> 80000 | J11: =J12+J31 -> 80000
B12: 04 | G12: ՏՆՏԵՍԱԿԱՆ ՀԱՐԱԲԵՐՈՒԹՅՈՒՆՆԵՐ | H12: =+H14 -> 80000 | I12: =+I14 -> 80000 | J12: =+J14 -> 80000
G13: այդ թվում`
C14: 01 | G14: Ընդհանուր բնույթի տնտեսական, առևտրային և աշխատանքի գծով հարաբերություններ | H14: =+H16 -> 80000 | I14: =+I16 -> 80000 | J14: =+J16 -> 80000
G15: այդ թվում`
D16: 01 | G16: Ընդհանուր բնույթի տնտեսական և առևտրային հարաբերություններ | H16: =+H20 -> 80000 | I16: =+I20 -> 80000 | J16: =+J20 -> 80000
G17: այդ թվում`
G18: ՀՀ տարածքային կառավարման և ենթակառուցվածքների նախարարություն | H18: =+H20 -> 80000 | I18: =+I20 -> 80000 | J18: =+J20 -> 80000
G19: այդ թվում`
E20: 1232 | G20: Էներգաարդյունավետության ծրագիր | H20: =+H24 -> 80000 | I20: =+I24 -> 80000 | J20: =+J24 -> 80000
G21: այդ թվում`
F22: 12004 | G22: ՄԱԶԾ ծրագրի շրջանակներում աջակցություն «Բնակարանների և անհատական բնակելի տների էներգաարդյունավետ վերանորոգման աշխատանքների պետական աջակցության ծրագրի» սահմանամերձ և բարձր լեռնային բնակավայրերի շահառուներին | H22: =H24 -> 80000 | I22: =I24 -> 80000 | J22: =J24 -> 80000
G23: այդ թվում` ըստ կատարողների
G24: ՀՀ տարածքային կառավարման և ենթակառուցվածքների նախարարություն | H24: =+H26 -> 80000 | I24: =+I26 -> 80000 | J24: =+J26 -> 80000
G25: այդ թվում` բյուջետային ծախսերի տնտեսագիտական դասակարգման հոդվածներ
G26: ԸՆԴԱՄԵՆԸ ԾԱԽՍԵՐ | H26: =+H27 -> 80000 | I26: =+I27 -> 80000 | J26: =+J27 -> 80000
G27: ԸՆԹԱՑԻԿ ԾԱԽՍԵՐ | H27: =+H28 -> 80000 | I27: =+I28 -> 80000 | J27: =+J28 -> 80000
G28: ՍՈՒԲՍԻԴԻԱՆԵՐ | H28: =+H29 -> 80000 | I28: =+I29 -> 80000 | J28: =+J29 -> 80000
G29: Սուբսիդիաներ ոչ պետական կազմակերպություններին | H29: =+H30 -> 80000 | I29: =+I30 -> 80000 | J29: =+J30 -> 80000
G30: - Սուբսիդիաներ ոչ պետական ֆինանսական կազմակերպություններին | H30: ='1'!D9 -> 80000 | I30: ='2'!E11 -> 80000 | J30: =+I30 -> 80000
G34: ՀԱՅԱՍՏԱՆԻ ՀԱՆՐԱՊԵՏՈՒԹՅԱՆ ՎԱՐՉԱՊԵՏԻ ԱՇԽԱՏԱԿԱԶՄԻ ՂԵԿԱՎԱՐ՝ | J34: Ա.ՀԱՐՈՒԹՅՈՒՆՅԱՆ

Sheet 5
M1: Հավելված N 5
M2: ՀՀ կառավարության 2026 թվականի
M3: ______________ ի ___Ն որոշման
B5: «ՀԱՅԱUՏԱՆԻ ՀԱՆՐԱՊԵՏՈՒԹՅԱՆ 2026 ԹՎԱԿԱՆԻ ՊԵՏԱԿԱՆ ԲՅՈՒՋԵԻ ՄԱUԻՆ» OՐԵՆՔԻ N 1 ՀԱՎԵԼՎԱԾԻ N 5 ԱՂՅՈՒՍԱԿՈՒՄ ԵՎ ՀԱՅԱՍՏԱՆԻ ՀԱՆՐԱՊԵՏՈՒԹՅԱՆ ԿԱՌԱՎԱՐՈՒԹՅԱՆ 2025 ԹՎԱԿԱՆԻ ԴԵԿՏԵՄԲԵՐԻ 25-Ի N 1910-Ն ՈՐՈՇՄԱՆ N 5 ՀԱՎԵԼՎԱԾԻ N 4 ԱՂՅՈՒՍԱԿՈՒՄ ԿԱՏԱՐՎՈՂ ԼՐԱՑՈՒՄԸ
L6: հազար դրամներով
B7: Ծրագրային դասիչը | D7: Բյուջետային գլխավոր կարգադրիչների, ծրագրերի և միջոցառումների անվանումները | E7: Ցուցանիշների փոփոխությունը (ավելացումները նշված են դրական նշանով)
E8: Առաջին կիսամյակ | H8: Ինն ամիս | K8: Տարի
E9: Ընդամենը | F9: այդ թվում` | H9: Ընդամենը | I9: այդ թվում` | K9: Ընդամենը | L9: այդ թվում`
B10: Ծրագիր | C10: Միջոցառում | F10: Դրամաշնորհային միջոցներ | G10: Համաֆինան սավորում | I10: Դրամաշնորհային միջոցներ | J10: Համաֆինան սավորում | L10: Դրամաշնորհային միջոցներ | M10: Համաֆինան սավորում
D11: ԸՆԴԱՄԵՆԸ | E11: =+F11+G11 -> 80000 | F11: =+F13 -> 80000 | G11: =+G13 -> 0 | H11: =+I11+J11 -> 80000 | I11: =+I13 -> 80000 | J11: =+J13 -> 0 | K11: =+L11+M11 -> 80000 | L11: =+L13 -> 80000 | M11: =+M13 -> 0
D12: այդ թվում`
D13: ԸՆԹԱՑԻԿ ԾԱԽՍԵՐ | E13: =+E23 -> 80000 | F13: =+F23 -> 80000 | G13: =+G23 -> 0 | H13: =+H23 -> 80000 | I13: =+I23 -> 80000 | J13: =+J23 -> 0 | K13: =+K23 -> 80000 | L13: =+L23 -> 80000 | M13: =+M23 -> 0
D14: ՀՀ ՏԱՐԱԾՔԱՅԻՆ ԿԱՌԱՎԱՐՄԱՆ ԵՎ ԵՆԹԱԿԱՌՈՒՑՎԱԾՔՆԵՐԻ ՆԱԽԱՐԱՐՈՒԹՅՈՒՆ | E14: =+E16 -> 80000 | F14: =+F16 -> 80000 | G14: =+G16 -> 0 | H14: =+H16 -> 80000 | I14: =+I16 -> 80000 | J14: =+J16 -> 0 | K14: =+K16 -> 80000 | L14: =+L16 -> 80000 | M14: =+M16 -> 0
D15: այդ թվում`
B16: 1232 | D16: Էներգաարդյունավետության ծրագիր | E16: =E18 -> 80000 | F16: =F18 -> 80000 | G16: =G18 -> 0 | H16: =H18 -> 80000 | I16: =I18 -> 80000 | J16: =J18 -> 0 | K16: =K18 -> 80000 | L16: =L18 -> 80000 | M16: =M18 -> 0
D17: այդ թվում`
C18: 12004 | D18: ՄԱԶԾ ծրագրի շրջանակներում աջակցություն «Բնակարանների և անհատական բնակելի տների էներգաարդյունավետ վերանորոգման աշխատանքների պետական աջակցության ծրագրի» սահմանամերձ և բարձր լեռնային բնակավայրերի շահառուներին | E18: =+E20 -> 80000 | F18: =+F20 -> 80000 | G18: =+G20 -> 0 | H18: =+H20 -> 80000 | I18: =+I20 -> 80000 | J18: =+J20 -> 0 | K18: =+K20 -> 80000 | L18: =+L20 -> 80000 | M18: =+M20 -> 0
D19: այդ թվում` ըստ կատարողների
D20: ՀՀ տարածքային կառավարման և ենթակառուցվածքների նախարարություն | E20: =+E22 -> 80000 | F20: =+F22 -> 80000 | G20: =+G22 -> 0 | H20: =+H22 -> 80000 | I20: =+I22 -> 80000 | J20: =+J22 -> 0 | K20: =+K22 -> 80000 | L20: =+L22 -> 80000 | M20: =+M22 -> 0
D21: այդ թվում` բյուջետային ծախսերի տնտեսագիտական դասակարգման հոդվածներ
D22: ԸՆԴԱՄԵՆԸ ԾԱԽՍԵՐ | E22: =+F22+G22 -> 80000 | F22: =+F23 -> 80000 | G22: =+G23 -> 0 | H22: =+I22+J22 -> 80000 | I22: =+I23 -> 80000 | J22: =+J23 -> 0 | K22: =+L22+M22 -> 80000 | L22: =+L23 -> 80000 | M22: =+M23 -> 0
D23: ԸՆԹԱՑԻԿ ԾԱԽՍԵՐ | E23: =+E24 -> 80000 | F23: =+F24 -> 80000 | G23: =+G24 -> 0 | H23: =+H24 -> 80000 | I23: =+I24 -> 80000 | J23: =+J24 -> 0 | K23: =+K24 -> 80000 | L23: =+L24 -> 80000 | M23: =+M24 -> 0
D24: ՍՈՒԲՍԻԴԻԱՆԵՐ | E24: =+E25 -> 80000 | F24: =+F25 -> 80000 | G24: =+G25 -> 0 | H24: =+H25 -> 80000 | I24: =+I25 -> 80000 | J24: =+J25 -> 0 | K24: =+K25 -> 80000 | L24: =+L25 -> 80000 | M24: =+M25 -> 0
D25: Սուբսիդիաներ ոչ պետական կազմակերպություններին | E25: =+F25+G25 -> 80000 | F25: =+F26 -> 80000 | G25: =+G26 -> 0 | H25: =+I25+J25 -> 80000 | I25: =+I26 -> 80000 | J25: =+J26 -> 0 | K25: =+L25+M25 -> 80000 | L25: =+L26 -> 80000 | M25: =+M26 -> 0
D26: - Սուբսիդիաներ ոչ պետական ֆինանսական կազմակերպություններին | E26: =+F26+G26 -> 80000 | F26: =I26 -> 80000 | G26: 0 | H26: =+I26+J26 -> 80000 | I26: ='4․'!H30 -> 80000 | J26: 0 | K26: =+L26+M26 -> 80000 | L26: ='4․'!I30 -> 80000 | M26: 0
C29: ՀԱՅԱՍՏԱՆԻ ՀԱՆՐԱՊԵՏՈՒԹՅԱՆ
C30: ՎԱՐՉԱՊԵՏԻ ԱՇԽԱՏԱԿԱԶՄԻ
D31: ՂԵԿԱՎԱՐ ՝ Ա. ՀԱՐՈՒԹՅՈՒՆՅԱՆ
P32: 12794888
P33: 18252317
P34: =+P32+P33 -> 31047205

Sheet 6
L1: Հավելված N 6
J2: ՀՀ կառավարության 2026 թվականի
K3: N ------------ -Ն որոշման
C5: ՀԱՅԱՍՏԱՆԻ ՀԱՆՐԱՊԵՏՈՒԹՅԱՆ ԿԱՌԱՎԱՐՈՒԹՅԱՆ 2025 ԹՎԱԿԱՆԻ ԴԵԿՏԵՄԲԵՐԻ 25-Ի N 1910-Ն ՈՐՈՇՄԱՆ N 9 ԵՎ 9.1 ՀԱՎԵԼՎԱԾՆԵՐՈՒՄ ԿԱՏԱՐՎՈՂ ԼՐԱՑՈՒՄԸ
L6: հազար դրամներով
B7: ԲԳԿ/ԲՍԿ | C7: Ծրագիր | E7: Միջոցառում | I7: Իրականացնողը/ ակտիվն օգտագործողը/ շահառուի ընտրության չափորոշիչը | J7: Արդյունքային չափորոշիչը | K7: Ցուցանիշների փոփոխությունը (ավելացումները նշված են դրական նշանով)
C8: Դասիչը | D8: Անվանումը | E8: Դասիչը | F8: Անվանումը | G8: Նկարագրությունը | H8: Տեսակը | K8: Առաջին կիսամյակ | L8: Ինն ամիս | M8: Տարի
B9: ԸՆԴԱՄԵՆԸ | K9: =K10 -> 80000 | L9: =L10 -> 80000 | M9: =M10 -> 80000
B10: ՀՀ տարածքային կառավարման և ենթակառուցվածքների նախարարություն | K10: =K11 -> 80000 | L10: =L11 -> 80000 | M10: =M11 -> 80000
C11: 1232 | D11: Էներգաարդյունավետության ծրագիր | K11: =+K12 -> 80000 | L11: =+L12 -> 80000 | M11: =+M12 -> 80000
E12: 1232 - 12004 | F12: ՄԱԶԾ ծրագրի շրջանակներում աջակցություն «Բնակարանների և անհատական բնակելի տների էներգաարդյունավետ վերանորոգման աշխատանքների պետական աջակցության ծրագրի» սահմանամերձ և բարձր լեռնային բնակավայրերի շահառուներին | K12: ='3.'!H13 -> 80000 | L12: ='3.'!I13 -> 80000 | M12: ='3.'!J13 -> 80000
G13: ՄԱԶԾ աջակցություն բնակարանների և անհատական բնակելի տների էներգաարդյունավետ վերանորոգման աշխատանքների իրականացմանը
H14: Տրանսֆերտների տրամադրում
I15: Շահառուների ընտրության չափորոշիչները` ՀՀ կառավարության 15.04.2022թ. N520-Լ որոշմամբ հաստատված ծրագրի՝ սահմանամերձ և բարձր լեռնային բնակավայրերի շահառուներ
J16: Շահառուների թիվ, հատ | K16: 200 | M16: 200
B18: ՀԱՅԱՍՏԱՆԻ ՀԱՆՐԱՊԵՏՈՒԹՅԱՆ ՎԱՐՉԱՊԵՏԻ ԱՇԽԱՏԱԿԱԶՄԻ ՂԵԿԱՎԱՐ՝ | F18: Ա.ՀԱՐՈՒԹՅՈՒՆՅԱՆ
