Workbook
Name a: #REF!
Name a: #REF!
Name a: #REF!
Name a: #REF!
Name a: #REF!
Name a: #REF!
Name a: #REF!
Name AgencyCode: #REF!
Name AgencyCode: #REF!
Name AgencyCode: #REF!
Name AgencyCode: #REF!
Name AgencyCode: #REF!
Name AgencyCode: #REF!
Name AgencyName: #REF!
Name AgencyName: #REF!
Name AgencyName: #REF!
Name AgencyName: #REF!
Name AgencyName: #REF!
Name åû: #REF!
Name åû: #REF!
Name BOP: #REF!
Name BOPfoot: #REF!
Name davit: #REF!
Name davit: #REF!
Name davit: #REF!
Name davit: #REF!
Name DebtCG: #REF!
Name DebtGG: #REF!
Name Functional1: #REF!
Name Functional1: #REF!
Name Functional1: #REF!
Name Functional1: #REF!
Name Functional1: #REF!
Name ggg: #REF!
Name ggg: #REF!
Name ggg: #REF!
Name ggg: #REF!
Name hav: #REF!
Name mas: #REF!
Name mas: #REF!
Name mass: #REF!
Name mass: #REF!
Name MonExo: #REF!
Name MonGrow: #REF!
Name PANature: #REF!
Name PANature: #REF!
Name PANature: #REF!
Name PANature: #REF!
Name PANature: #REF!
Name PAType: #REF!
Name PAType: #REF!
Name PAType: #REF!
Name PAType: #REF!
Name PAType: #REF!
Name Performance2: #REF!
Name Performance2: #REF!
Name Performance2: #REF!
Name Performance2: #REF!
Name Performance2: #REF!
Name PerformanceType: #REF!

Sheet Հավելված N 1
B1: Հավելված N 1
B2: ՀՀ կառավարության 2026 թվականի
B3: ______________ ի ___Ն որոշման
A6: «ՀԱՅԱՍՏԱՆԻ ՀԱՆՐԱՊԵՏՈՒԹՅԱՆ 2026 ԹՎԱԿԱՆԻ ՊԵՏԱԿԱՆ ԲՅՈՒՋԵԻ ՄԱՍԻՆ» ՀԱՅԱՍՏԱՆԻ ՀԱՆՐԱՊԵՏՈՒԹՅԱՆ ՕՐԵՆՔԻ 2-ՐԴ ՀՈԴՎԱԾԻ ԱՂՅՈՒՍԱԿՈՒՄ ԿԱՏԱՐՎՈՂ ՓՈՓՈԽՈՒԹՅՈՒՆԸ
B7: (հազար դրամներով)
B8: Ցուցանիշների փոփոխությունը (ավելացումները նշված են դրական նշանով)
A9: Եկամուտների գծով | B9: 0
A10: Ծախսերի գծով | B10: =+'Հավելված N 2 '!D10 -> 648000
A11: Դեֆիցիտը (պակասուրդը) | B11: =+B10-B9 -> 648000

Sheet Հավելված N 2 
D1: Հավելված N 2
D2: ՀՀ կառավարության 2026 թվականի
D3: ______________ ի ___Ն որոշման
A5: «ՀԱՅԱՍՏԱՆԻ ՀԱՆՐԱՊԵՏՈՒԹՅԱՆ 2026 ԹՎԱԿԱՆԻ ՊԵՏԱԿԱՆ ԲՅՈՒՋԵԻ ՄԱՍԻՆ» ՕՐԵՆՔԻ 3-ՐԴ ՀՈԴՎԱԾԻ, N 3 ՀԱՎԵԼՎԱԾԻ N 1 ԱՂՅՈՒՍԱԿՈՒՄ ԵՎ ՀԱՅԱՍՏԱՆԻ ՀԱՆՐԱՊԵՏՈՒԹՅԱՆ ԿԱՌԱՎԱՐՈՒԹՅԱՆ 2025 ԹՎԱԿԱՆԻ ԴԵԿՏԵՄԲԵՐԻ 25-Ի N 1910-Ն ՈՐՈՇՄԱՆ N 1 ՀԱՎԵԼՎԱԾԻ N 1 ԱՂՅՈՒՍԱԿՈՒՄ ԿԱՏԱՐՎՈՂ ԼՐԱՑՈՒՄԸ
D7: հազ. դրամ
A8: Պետական բյուջեի դեֆիցիտի ֆինանսավորման աղբյուրներն ու դրանց տարրերի անվանումները | B8: Ցուցանիշների փոփոխությունը (ավելացումները նշված են դրական նշանով)
B9: Առաջին կիսամյակ | C9: Ինն ամիս | D9: Տարի
A10: ԸՆԴԱՄԵՆԸ | B10: =+B12 -> 648000 | C10: =+C12 -> 648000 | D10: =+D12 -> 648000
A11: այդ թվում՝
A12: Բ.Արտաքին աղբյուրներ-ընդամենը | B12: =+B14 -> 648000 | C12: =+C14 -> 648000 | D12: =+D14 -> 648000
A13: այդ թվում՝
A14: 1. Փոխառու զուտ միջոցներ | B14: =+B16 -> 648000 | C14: =+C16 -> 648000 | D14: =+D16 -> 648000
A15: այդ թվում՝
A16: 1.1. Վարկերի և փոխատվությունների ստացում | B16: =+B18 -> 648000 | C16: =+C18 -> 648000 | D16: =+D18 -> 648000
A17: որից՝
A18: Նպատակային վարկերի գծով | B18: =+'Հավելված N 7'!E13 -> 648000 | C18: =+'Հավելված N 7'!H13 -> 648000 | D18: =+'Հավելված N 7'!K13 -> 648000

Sheet Հավելված N 3
F1: Հավելված N 3
F2: ՀՀ կառավարության 2026 թվականի
F3: ______________ ի ___Ն որոշման
A6: «ՀԱՅԱUՏԱՆԻ ՀԱՆՐԱՊԵՏՈՒԹՅԱՆ 2026 ԹՎԱԿԱՆԻ ՊԵՏԱԿԱՆ ԲՅՈՒՋԵԻ ՄԱUԻՆ» ՀԱՅԱUՏԱՆԻ ՀԱՆՐԱՊԵՏՈՒԹՅԱՆ OՐԵՆՔԻ N 1 ՀԱՎԵԼՎԱԾԻ N 2 ԱՂՅՈՒՍԱԿՈՒՄ ԿԱՏԱՐՎՈՂ ՎԵՐԱԲԱՇԽՈՒՄԸ ԵՎ ՀԱՅԱՍՏԱՆԻ ՀԱՆՐԱՊԵՏՈՒԹՅԱՆ ԿԱՌԱՎԱՐՈՒԹՅԱՆ 2025 ԹՎԱԿԱՆԻ ԴԵԿՏԵՄԲԵՐԻ 25-Ի N 1910-Ն ՈՐՈՇՄԱՆ N 5 ՀԱՎԵԼՎԱԾԻ N 1 ԱՂՅՈՒՍԱԿՈՒՄ ԿԱՏԱՐՎՈՂ ՓՈՓՈԽՈՒԹՅՈՒՆՆԵՐԸ ԵՎ ԼՐԱՑՈՒՄՆԵՐԸ
I9: հազ. դրամներով
A10: ԲԳԿ | B10: Ծրագրային դասիչը | D10: ԲԳԿ/Ծրագրի /միջոցառման անվանումը | E10: Ծրագրի նպատակը/Միջոցառման նկարագրությունը | F10: Վերջնական արդյունքի նկարագրությունը/Միջոցառման տեսակը | G10: Ցուցանիշների փոփոխությունը (ավելացումները նշված են դրական նշանով, իսկ նվազեցումները փակագծերում)
G11: Առաջին կիսամյակ | H11: Ինն ամիս | I11: Տարի
B12: Ծրագիր | C12: Միջոցառում
A13: ԸՆԴԱՄԵՆԸ | G13: =+G15 -> 648000 | H13: =+H15 -> 648000 | I13: =+I15 -> 648000
A14: այդ թվում՝
A15: ՀՀ ԿՐԹՈՒԹՅԱՆ, ԳԻՏՈՒԹՅԱՆ, ՄՇԱԿՈՒՅԹԻ ԵՎ ՍՊՈՐՏԻ ՆԱԽԱՐԱՐՈՒԹՅՈՒՆ | G15: =+G16+G18+G20 -> 648000 | H15: =+H16+H18+H20 -> 648000 | I15: =+I16+I18+I20 -> 648000
B16: 1189 | D16: Դպրոցների սեյսմիկ անվտանգության մակարդակի բարձրացման ծրագիր | E16: Նպաստել երկրի սեյսմակայունության ապահովմանը, անհատական և հասարակական անվտանգության մակարդակի բարձրացմանը | F16: Դպրոցական շենքերի սեյսմակայունության մակարդակի բարձրացում | G16: =+G17 -> 3000000 | H16: =+H17 -> 4300000 | I16: =+I17 -> 4300000
C17: 1189 - 12003 | D17: Ասիական զարգացման բանկի աջակցությամբ իրականացվող դպրոցների սեյսմիկ պաշտպանության ծրագրի լրացուցիչ ֆինանսավորման շրջանակներում ՀՀ դպրոցների սեյսմիկ անվտանգության բարելավմանն ուղղված միջոցառումներ | E17: Դպրոցների սեյսմիկ պաշտպանության լրացուցիչ ֆինանսավորման ծրագիր, դպրոցների շենքերի կառուցման, ամրացման շինարարական աշխատանքներ, շինարարական ստանդարտների արդիականացում, արտակարգ իրավիճակներին արձագանքման ծրագրի մշակում | F17: Տրանսֆերտների տրամադրում | G17: =+'Հավելված N 4'!G52 -> 3000000 | H17: =+'Հավելված N 4'!H52 -> 4300000 | I17: =+'Հավելված N 4'!I52 -> 4300000
B18: 1192 | D18: Կրթության որակի ապահովում | E18: Ընթացիկ աշխատանքների, բարեփոխումների և նոր նախաձեռնությունների միջոցով ֆորմալ և ոչ-ֆորմալ կրթության ոլորտում իրականացվող միջոցառումների, մատուցվող ծառայությունների բովանդակության և կազմակերպման որակի շարունակական բարելավում | F18: Նախադպրոցականից մինչև հետբուհական կրթության որակի, այն է սովորողների, միջավայրի, ծրագրերի և ուսումնական նյութերի բովանդակության, գործընթացների, ինչպես նաև վերջնարդյունքների որակի բարելավում ըստ ներպետական և միջազգային ցուցիչների | G18: =+G19 -> 648000 | H18: =+H19 -> 648000 | I18: =+I19 -> 648000
C19: 1192 - 32006 | D19: Համաշխարհային բանկի աջակցությամբ իրականացվող «Կրթության բարելավման ծրագրի լրացուցիչ ֆինանսավորում» վարկային ծրագրի շրջանակներում կապիտալ ներդրումներ հանրակրթական ուսումնական հաստատություններում | E19: Կապիտալ ներդրումներ ավագ, միջնակարգ և հիմնական դպրոցներում | F19: Այլ պետական կազմակերպությունների կողմից օգտագործվող ոչ ֆինանսական ակտիվների հետ գործառնություններ | G19: =+'Հավելված N 4'!G63 -> 648000 | H19: =+'Հավելված N 4'!H63 -> 648000 | I19: =+'Հավելված N 4'!I63 -> 648000
B20: 1236 | D20: Հանրակրթական և նախադպրոցական հաստատությունների հիմնում, կառուցում, բարելավում | E20: Առնվազն 300 դպրոցի և 500 մանկապարտեզի կառուցման, վերակառուցման, հիմնանորոգման ծրագրերի իրականացում ՀՀ պետական բյուջեի միջոցների շրջանակներում | F20: Կրթական միջավայրի բարելավում | G20: =SUM(G21:G22) -> -3000000 | H20: =SUM(H21:H22) -> -4300000 | I20: =SUM(I21:I22) -> -4300000
C21: 1236 - 32003 | D21: Հանրակրթական դպրոցների նոր շենքերի կառուցում | E21: ՀՀ մարզերում կրթական որակյալ ծառայությունների հասանելիության ապահովման ծրագրի շրջանակներում հանրակրթական և նախադպրոցական կրթության հասանելիության ապահովման նպատակով կրթական կենտրոնների կառուցում | F21: Այլ պետական կազմակերպությունների կողմից օգտագործվող ոչ ֆինանսական ակտիվների հետ գործառնություններ | G21: =+'Հավելված N 4'!G26 -> -1500000 | H21: =+'Հավելված N 4'!H26 -> -2300000 | I21: =+'Հավելված N 4'!I26 -> -2300000
C22: 1236 - 32005 | D22: Կրթահամալիրների կառուցում | E22: ՀՀ մարզերում կրթական որակյալ ծառայությունների հասանելիության ապահովման ծրագրի շրջանակներում հանրակրթական և նախադպրոցական կրթության հասանելիության ապահովման նպատակով կրթական կենտրոնների կառուցում | F22: Այլ պետական կազմակերպությունների կողմից օգտագործվող ոչ ֆինանսական ակտիվների հետ գործառնություններ | G22: =+'Հավելված N 4'!G35 -> -1500000 | H22: =+'Հավելված N 4'!H35 -> -2000000 | I22: =+'Հավելված N 4'!I35 -> -2000000

Sheet Հավելված N 4
F1: Հավելված N 4
F2: ՀՀ կառավարության 2026 թվականի
F3: ______________ ի ___Ն որոշման
A7: ՀԱՅԱՍՏԱՆԻ ՀԱՆՐԱՊԵՏՈՒԹՅԱՆ ԿԱՌԱՎԱՐՈՒԹՅԱՆ 2025 ԹՎԱԿԱՆԻ ԴԵԿՏԵՄԲԵՐԻ 25-Ի N 1910-Ն ՈՐՈՇՄԱՆ N 3 ԵՎ N 4 ՀԱՎԵԼՎԱԾՆԵՐՈՒՄ ԿԱՏԱՐՎՈՂ ՓՈՓՈԽՈՒԹՅՈՒՆՆԵՐԸ ԵՎ ԼՐԱՑՈՒՄՆԵՐԸ
I10: հազ. դրամներով
A11: Գործառական դասիչը | D11: Ծրագրային դասիչը | F11: Բյուջետային հատկացումների գլխավոր կարգադրիչների, ծրագրերի, միջոցառումների և միջոցառումները կատարող պետական մարմինների անվանումները | G11: Ցուցանիշների փոփոխությունը (ավելացումները նշված են դրական նշանով, իսկ նվազեցումները փակագծերում)
A12: Բաժին | B12: Խումբ | C12: Դաս | D12: Ծրագիր | E12: Միջոցառում | G12: Առաջին կիսամյակ | H12: Ինն ամիս | I12: Տարի
F13: ԸՆԴԱՄԵՆԸ | G13: =+G15 -> 648000 | H13: =+H15 -> 648000 | I13: =+I15 -> 648000
F14: այդ թվում՝
F15: ՀՀ ԿՐԹՈՒԹՅԱՆ, ԳԻՏՈՒԹՅԱՆ, ՄՇԱԿՈՒՅԹԻ ԵՎ ՍՊՈՐՏԻ ՆԱԽԱՐԱՐՈՒԹՅՈՒՆ | G15: =+G16 -> 648000 | H15: =+H16 -> 648000 | I15: =+I16 -> 648000
A16: 09 | F16: ԿՐԹՈՒԹՅՈՒՆ | G16: =+G18+G44 -> 648000 | H16: =+H18+H44 -> 648000 | I16: =+I18+I44 -> 648000
F17: այդ թվում`
B18: 02 | F18: Միջնակարգ ընդհանուր կրթություն | G18: =+G20 -> -3000000 | H18: =+H20 -> -4300000 | I18: =+I20 -> -4300000
F19: այդ թվում`
C20: 01 | F20: Հիմնական ընդհանուր կրթություն | G20: =+G22 -> -3000000 | H20: =+H22 -> -4300000 | I20: =+I22 -> -4300000
F21: այդ թվում`
F22: ՀՀ կրթության, գիտության, մշակույթի և սպորտի նախարարություն | G22: =+G24 -> -3000000 | H22: =+H24 -> -4300000 | I22: =+I24 -> -4300000
F23: այդ թվում`
D24: 1236 | E24: Հանրակրթական և նախադպրոցական հաստատությունների հիմնում, կառուցում, բարելավում | G24: =+G26+G35 -> -3000000 | H24: =+H26+H35 -> -4300000 | I24: =+I26+I35 -> -4300000
F25: այդ թվում`
E26: 32003 | F26: Հանրակրթական դպրոցների նոր շենքերի կառուցում | G26: =+G28 -> -1500000 | H26: =+H28 -> -2300000 | I26: =+I28 -> -2300000
F27: այդ թվում` ըստ կատարողների
F28: ՀՀ կրթության , գիտության, մշակույթի և սպորտի նախարարություն | G28: =+G30 -> -1500000 | H28: =+H30 -> -2300000 | I28: =+I30 -> -2300000
F29: այդ թվում` բյուջետային ծախսերի տնտեսագիտական դասակարգման հոդվածներ
F30: ԸՆԴԱՄԵՆԸ ԾԱԽՍԵՐ | G30: =G31 -> -1500000 | H30: =H31 -> -2300000 | I30: =I31 -> -2300000
F31: ՈՉ ՖԻՆԱՆՍԱԿԱՆ ԱԿՏԻՎՆԵՐԻ ԳԾՈՎ ԾԱԽՍԵՐ | G31: =+G32 -> -1500000 | H31: =+H32 -> -2300000 | I31: =+I32 -> -2300000
F32: ՀԻՄՆԱԿԱՆ ՄԻՋՈՑՆԵՐ | G32: =+G33 -> -1500000 | H32: =+H33 -> -2300000 | I32: =+I33 -> -2300000
F33: ՇԵՆՔԵՐ ԵՎ ՇԻՆՈՒԹՅՈՒՆՆԵՐ | G33: =+G34 -> -1500000 | H33: =+H34 -> -2300000 | I33: =+I34 -> -2300000
F34: - Շենքերի և շինությունների շինարարություն | G34: =+'Հավելված N 6'!E15 -> -1500000 | H34: =+'Հավելված N 6'!F15 -> -2300000 | I34: =+'Հավելված N 6'!G15 -> -2300000
E35: 32005 | F35: Կրթահամալիրների կառուցում | G35: =+G37 -> -1500000 | H35: =+H37 -> -2000000 | I35: =+I37 -> -2000000
F36: այդ թվում` ըստ կատարողների
F37: ՀՀ կրթության , գիտության, մշակույթի և սպորտի նախարարություն | G37: =+G39 -> -1500000 | H37: =+H39 -> -2000000 | I37: =+I39 -> -2000000
F38: այդ թվում` բյուջետային ծախսերի տնտեսագիտական դասակարգման հոդվածներ
F39: ԸՆԴԱՄԵՆԸ ԾԱԽՍԵՐ | G39: =G40 -> -1500000 | H39: =H40 -> -2000000 | I39: =I40 -> -2000000
F40: ՈՉ ՖԻՆԱՆՍԱԿԱՆ ԱԿՏԻՎՆԵՐԻ ԳԾՈՎ ԾԱԽՍԵՐ | G40: =+G41 -> -1500000 | H40: =+H41 -> -2000000 | I40: =+I41 -> -2000000
F41: ՀԻՄՆԱԿԱՆ ՄԻՋՈՑՆԵՐ | G41: =+G42 -> -1500000 | H41: =+H42 -> -2000000 | I41: =+I42 -> -2000000
F42: ՇԵՆՔԵՐ ԵՎ ՇԻՆՈՒԹՅՈՒՆՆԵՐ | G42: =+G43 -> -1500000 | H42: =+H43 -> -2000000 | I42: =+I43 -> -2000000
F43: - Շենքերի և շինությունների շինարարություն | G43: =+'Հավելված N 6'!E20 -> -1500000 | H43: =+'Հավելված N 6'!F20 -> -2000000 | I43: =+'Հավելված N 6'!G20 -> -2000000
B44: 06 | F44: Կրթությանը տրամադրվող օժանդակ ծառայություններ | G44: =+G46 -> 3648000 | H44: =+H46 -> 4948000 | I44: =+I46 -> 4948000
F45: այդ թվում`
C46: 01 | F46: Կրթությանը տրամադրվող օժանդակ ծառայություններ | G46: =+G48 -> 3648000 | H46: =+H48 -> 4948000 | I46: =+I48 -> 4948000
F47: այդ թվում`
F48: ՀՀ կրթության, գիտության, մշակույթի և սպորտի նախարարություն | G48: =+G50+G61 -> 3648000 | H48: =+H50+H61 -> 4948000 | I48: =+I50+I61 -> 4948000
F49: այդ թվում`
D50: 1189 | E50: Դպրոցների սեյսմիկ անվտանգության մակարդակի բարձրացման ծրագիր | G50: =+G52 -> 3000000 | H50: =+H52 -> 4300000 | I50: =+I52 -> 4300000
F51: այդ թվում`
E52: 12003 | F52: Ասիական զարգացման բանկի աջակցությամբ իրականացվող դպրոցների սեյսմիկ պաշտպանության ծրագրի լրացուցիչ ֆինանսավորման շրջանակներում ՀՀ դպրոցների սեյսմիկ անվտանգության բարելավմանն ուղղված միջոցառումներ | G52: =+G54 -> 3000000 | H52: =+H54 -> 4300000 | I52: =+I54 -> 4300000
F53: այդ թվում` ըստ կատարողների
F54: ՀՀ տարածքային կառավարման և ենթակառուցվածքների նախարարություն | G54: =+G56 -> 3000000 | H54: =+H56 -> 4300000 | I54: =+I56 -> 4300000
F55: այդ թվում` բյուջետային ծախսերի տնտեսագիտական դասակարգման հոդվածներ
F56: ԸՆԴԱՄԵՆԸ ԾԱԽՍԵՐ | G56: =G57 -> 3000000 | H56: =H57 -> 4300000 | I56: =I57 -> 4300000
F57: ՈՉ ՖԻՆԱՆՍԱԿԱՆ ԱԿՏԻՎՆԵՐԻ ԳԾՈՎ ԾԱԽՍԵՐ | G57: =+G58 -> 3000000 | H57: =+H58 -> 4300000 | I57: =+I58 -> 4300000
F58: ՀԻՄՆԱԿԱՆ ՄԻՋՈՑՆԵՐ | G58: =+G59 -> 3000000 | H58: =+H59 -> 4300000 | I58: =+I59 -> 4300000
F59: ՇԵՆՔԵՐ ԵՎ ՇԻՆՈՒԹՅՈՒՆՆԵՐ | G59: =+G60 -> 3000000 | H59: =+H60 -> 4300000 | I59: =+I60 -> 4300000
F60: - Շենքերի և շինությունների շինարարություն | G60: =+'Հավելված N 7'!D22 -> 3000000 | H60: =+'Հավելված N 7'!G22 -> 4300000 | I60: =+'Հավելված N 7'!J22 -> 4300000
D61: 1192 | E61: Կրթության որակի ապահովում | G61: =+G63 -> 648000 | H61: =+H63 -> 648000 | I61: =+I63 -> 648000
F62: այդ թվում`
E63: 32006 | F63: Համաշխարհային բանկի աջակցությամբ իրականացվող «Կրթության բարելավման ծրագրի լրացուցիչ ֆինանսավորում» վարկային ծրագրի շրջանակներում կապիտալ ներդրումներ հանրակրթական ուսումնական հաստատություններում | G63: =+G65 -> 648000 | H63: =+H65 -> 648000 | I63: =+I65 -> 648000
F64: այդ թվում` ըստ կատարողների
F65: ՀՀ կրթության , գիտության, մշակույթի և սպորտի նախարարություն | G65: =+G67 -> 648000 | H65: =+H67 -> 648000 | I65: =+I67 -> 648000
F66: այդ թվում` բյուջետային ծախսերի տնտեսագիտական դասակարգման հոդվածներ
F67: ԸՆԴԱՄԵՆԸ ԾԱԽՍԵՐ | G67: =G68 -> 648000 | H67: =H68 -> 648000 | I67: =I68 -> 648000
F68: ՈՉ ՖԻՆԱՆՍԱԿԱՆ ԱԿՏԻՎՆԵՐԻ ԳԾՈՎ ԾԱԽՍԵՐ | G68: =+G69 -> 648000 | H68: =+H69 -> 648000 | I68: =+I69 -> 648000
F69: ՀԻՄՆԱԿԱՆ ՄԻՋՈՑՆԵՐ | G69: =+G70 -> 648000 | H69: =+H70 -> 648000 | I69: =+I70 -> 648000
F70: ՇԵՆՔԵՐ ԵՎ ՇԻՆՈՒԹՅՈՒՆՆԵՐ | G70: =SUM(G71:G72) -> 648000 | H70: =SUM(H71:H72) -> 648000 | I70: =SUM(I71:I72) -> 648000
F71: - Շենքերի և շինությունների շինարարություն | G71: =+'Հավելված N 7'!E39 -> 120000 | H71: =+'Հավելված N 7'!H39 -> 120000 | I71: =+'Հավելված N 7'!K39 -> 120000
F72: - Շենքերի և շինությունների կապիտալ վերանորոգում | G72: =+'Հավելված N 7'!E40 -> 528000 | H72: =+'Հավելված N 7'!H40 -> 528000 | I72: =+'Հավելված N 7'!K40 -> 528000

Sheet Հավելված N 5
F1: Հավելված N 5
F2: ՀՀ կառավարության 2026 թվականի
F3: ______________ ի ___Ն որոշման
A5: «ՀԱՅԱUՏԱՆԻ ՀԱՆՐԱՊԵՏՈՒԹՅԱՆ 2026 ԹՎԱԿԱՆԻ ՊԵՏԱԿԱՆ ԲՅՈՒՋԵԻ ՄԱUԻՆ» ՀԱՅԱUՏԱՆԻ ՀԱՆՐԱՊԵՏՈՒԹՅԱՆ OՐԵՆՔԻ N 1 ՀԱՎԵԼՎԱԾԻ N 3 ԱՂՅՈՒՍԱԿՈՒՄ ԿԱՏԱՐՎՈՂ ՓՈՓՈԽՈՒԹՅՈՒՆՆԵՐԸ
G8: հազ. դրամներով
A9: Ծրագրային դասիչ | C9: Բյուջետային գլխավոր կարգադրիչների, ծրագրերի, միջոցառումների, միջոցառումները կատարող պետական մարմինների և ուղղությունների անվանումները | D9: Ընդամենը | E9: Ցուցանիշների փոփոխությունը (նվազեցումները նշված են փակագծերում)
A10: Ծրագիր | B10: Միջոցառում | E10: Կառուցման աշխատանքներ | F10: Վերակառուցման, վերանորոգման և վերականգնման աշխատանքներ | G10: Նախագծահե- տազոտական, գեոդեզիա- քարտեզագրա- կան աշխա- տանքներ | H10: Ոչ ֆինանսական այլ ակտիվների ձեռքբերում
C11: ԸՆԴԱՄԵՆԸ | D11: =SUM(E11:H11) -> -4300000 | E11: =+E13 -> -4300000 | F11: =+F13 -> 0 | G11: =+G13 -> 0 | H11: =+H13 -> 0
C12: այդ թվում՝
C13: ՀՀ ԿՐԹՈՒԹՅԱՆ, ԳԻՏՈՒԹՅԱՆ, ՄՇԱԿՈՒՅԹԻ ԵՎ ՍՊՈՐՏԻ ՆԱԽԱՐԱՐՈՒԹՅՈՒՆ | D13: =SUM(E13:H13) -> -4300000 | E13: =+E15+E18 -> -4300000 | F13: =+F15+F18 -> 0 | G13: =+G15+G18 -> 0 | H13: =+H15+H18 -> 0
C14: այդ թվում`
A15: 1236 | B15: 32003 | C15: Հանրակրթական դպրոցների նոր շենքերի կառուցում | D15: =SUM(E15:H15) -> -2300000 | E15: =+E17 -> -2300000 | F15: =+F17 -> 0 | G15: =+G17 -> 0 | H15: =+H17 -> 0
C16: այդ թվում`
C17: Հանրակրթական դպրոցների նոր շենքերի կառուցում | D17: =SUM(E17:H17) -> -2300000 | E17: -2300000 | F17: =+F19 -> 0 | G17: =+G19 -> 0 | H17: =+H19 -> 0
A18: 1236 | B18: 32005 | C18: Կրթահամալիրների կառուցում | D18: =SUM(E18:H18) -> -2000000 | E18: =+E20 -> -2000000 | F18: =+F20 -> 0 | G18: =+G20 -> 0 | H18: =+H20 -> 0
C19: այդ թվում`
C20: Կրթահամալիրների կառուցում | D20: =SUM(E20:H20) -> -2000000 | E20: -2000000 | F20: =+F22 -> 0 | G20: =+G22 -> 0 | H20: =+H22 -> 0

Sheet Հավելված N 6
F1: Հավելված N 6
E2: ՀՀ կառավարության 2026 թվականի
F3: ______________ ի ___Ն որոշման
B6: ՀԱՅԱՍՏԱՆԻ ՀԱՆՐԱՊԵՏՈՒԹՅԱՆ ԿԱՌԱՎԱՐՈՒԹՅԱՆ 2025 ԹՎԱԿԱՆԻ ԴԵԿՏԵՄԲԵՐԻ 25-Ի N 1910-Ն ՈՐՈՇՄԱՆ N 5 ՀԱՎԵԼՎԱԾԻ N 2 ԱՂՅՈՒՍԱԿՈՒՄ ԿԱՏԱՐՎՈՂ ՓՈՓՈԽՈՒԹՅՈՒՆՆԵՐԸ
G8: հազ. դրամներով
B9: Ծրագրային դասիչ | D9: Բյուջետային գլխավոր կարգադրիչների, ծրագրերի, միջոցառումների, միջոցառումները կատարող պետական մարմինների և ուղղությունների անվանումները | E9: Ցուցանիշների փոփոխությունը (նվազեցումները նշված են փակագծերում)
B10: Ծրագիր | C10: Միջոցառում | E10: Առաջին կիսամյակ | F10: Ինն ամիս | G10: Տարի
D11: ՀՀ ԿՐԹՈՒԹՅԱՆ, ԳԻՏՈՒԹՅԱՆ, ՄՇԱԿՈՒՅԹԻ ԵՎ ՍՊՈՐՏԻ ՆԱԽԱՐԱՐՈՒԹՅՈՒՆ | E11: =+E13+E18 -> -3000000 | F11: =+F13+F18 -> -4300000 | G11: =+G13+G18 -> -4300000
D12: այդ թվում՝
B13: 1236 | C13: 32003 | D13: Հանրակրթական դպրոցների նոր շենքերի կառուցում | E13: =+E15 -> -1500000 | F13: =+F15 -> -2300000 | G13: =+G15 -> -2300000
D14: այդ թվում` ըստ կատարողների
D15: ՀՀ կրթության, գիտության, մշակույթի և սպորտի նախարարություն | E15: =+E17 -> -1500000 | F15: =+F17 -> -2300000 | G15: =+G17 -> -2300000
D16: այդ թվում՝ ըստ ուղղությունների
D17: Հանրակրթական դպրոցների նոր շենքերի կառուցում | E17: -1500000 | F17: =+G17 -> -2300000 | G17: =+'Հավելված N 5'!D15 -> -2300000
B18: 1236 | C18: 32005 | D18: Կրթահամալիրների կառուցում | E18: =+E20 -> -1500000 | F18: =+F20 -> -2000000 | G18: =+G20 -> -2000000
D19: այդ թվում` ըստ կատարողների
D20: ՀՀ կրթության, գիտության, մշակույթի և սպորտի նախարարություն | E20: =+E22 -> -1500000 | F20: =+F22 -> -2000000 | G20: =+G22 -> -2000000
D21: այդ թվում՝ ըստ ուղղությունների
D22: Կրթահամալիրների կառուցում | E22: -1500000 | F22: =+G22 -> -2000000 | G22: =+'Հավելված N 5'!D20 -> -2000000

Sheet Հավելված N 7
J1: Հավելված N 7
J2: ՀՀ կառավարության 2026 թվականի
J3: ______________ ի ___Ն որոշման
A6: «ՀԱՅԱՍՏԱՆԻ ՀԱՆՐԱՊԵՏՈՒԹՅԱՆ 2026 ԹՎԱԿԱՆԻ ՊԵՏԱԿԱՆ ԲՅՈՒՋԵԻ ՄԱՍԻՆ» ՕՐԵՆՔԻ N 1 ՀԱՎԵԼՎԱԾԻ N 4 ԱՂՅՈՒՍԱԿՈՒՄ ԵՎ ՀԱՅԱՍՏԱՆԻ ՀԱՆՐԱՊԵՏՈՒԹՅԱՆ ԿԱՌԱՎԱՐՈՒԹՅԱՆ 2025 ԹՎԱԿԱՆԻ ԴԵԿՏԵՄԲԵՐԻ 25-Ի N 1910-Ն ՈՐՈՇՄԱՆ N 5 ՀԱՎԵԼՎԱԾԻ N 3 ԱՂՅՈՒՍԱԿՈՒՄ ԿԱՏԱՐՎՈՂ ԼՐԱՑՈՒՄՆԵՐԸ
L8: հազ. դրամներով
A9: Ծրագրային դասիչը | C9: Բյուջետային հատկացումների գլխավոր կարգադրիչների, ծրագրերի, միջոցառումների և միջոցառումները կատարող պետական մարմինների անվանումները | D9: Ցուցանիշների փոփոխությունը (ավելացումները նշված են դրական նշանով)
D10: Առաջին կիսամյակ | G10: Ինն ամիս | J10: Տարի
D11: Ընդամենը | E11: այդ թվում` | G11: Ընդամենը | H11: այդ թվում` | J11: Ընդամենը | K11: այդ թվում`
A12: Ծրագիր | B12: Միջոցառում | E12: Վարկային միջոցներ | F12: Համաֆինան սավորում | H12: Վարկային միջոցներ | I12: Համաֆինան սավորում | K12: Վարկային միջոցներ | L12: Համաֆինան սավորում
C13: ԸՆԴԱՄԵՆԸ | D13: =+E13+F13 -> 3648000 | E13: =+E15 -> 648000 | F13: =+F15 -> 3000000 | G13: =+H13+I13 -> 4948000 | H13: =+H15 -> 648000 | I13: =+I15 -> 4300000 | J13: =+K13+L13 -> 4948000 | K13: =+K15 -> 648000 | L13: =+L15 -> 4300000
C14: այդ թվում`
C15: ՈՉ ՖԻՆԱՆՍԱԿԱՆ ԱԿՏԻՎՆԵՐԻ ԳԾՈՎ ԾԱԽՍԵՐ | D15: =+E15+F15 -> 3648000 | E15: =+E16 -> 648000 | F15: =+F16 -> 3000000 | G15: =+H15+I15 -> 4948000 | H15: =+H16 -> 648000 | I15: =+I16 -> 4300000 | J15: =+K15+L15 -> 4948000 | K15: =+K16 -> 648000 | L15: =+L16 -> 4300000
C16: ՀՀ կրթության, գիտության, մշակույթի և սպորտի նախարարություն | D16: =+E16+F16 -> 3648000 | E16: =+E18+E29 -> 648000 | F16: =+F18+F29 -> 3000000 | G16: =+H16+I16 -> 4948000 | H16: =+H18+H29 -> 648000 | I16: =+I18+I29 -> 4300000 | J16: =+K16+L16 -> 4948000 | K16: =+K18+K29 -> 648000 | L16: =+L18+L29 -> 4300000
C17: այդ թվում`
A18: 1189 | C18: Դպրոցների սեյսմիկ անվտանգության մակարդակի բարձրացման ծրագիր | D18: =+E18+F18 -> 3000000 | E18: =+E20 -> 0 | F18: =+F20 -> 3000000 | G18: =+H18+I18 -> 4300000 | H18: =+H20 -> 0 | I18: =+I20 -> 4300000 | J18: =+K18+L18 -> 4300000 | K18: =+K20 -> 0 | L18: =+L20 -> 4300000
C19: այդ թվում`
B20: 12003 | C20: Ասիական զարգացման բանկի աջակցությամբ իրականացվող դպրոցների սեյսմիկ պաշտպանության ծրագրի լրացուցիչ ֆինանսավորման շրջանակներում ՀՀ դպրոցների սեյսմիկ անվտանգության բարելավմանն ուղղված միջոցառումներ | D20: =+E20+F20 -> 3000000 | E20: =+E22 -> 0 | F20: =+F22 -> 3000000 | G20: =+H20+I20 -> 4300000 | H20: =+H22 -> 0 | I20: =+I22 -> 4300000 | J20: =+K20+L20 -> 4300000 | K20: =+K22 -> 0 | L20: =+L22 -> 4300000
C21: այդ թվում` ըստ կատարողների
C22: ՀՀ տարածքային կառավարման և ենթակառուցվածքների նախարարություն | D22: =+E22+F22 -> 3000000 | E22: =+E24 -> 0 | F22: =+F24 -> 3000000 | G22: =+H22+I22 -> 4300000 | H22: =+H24 -> 0 | I22: =+I24 -> 4300000 | J22: =+K22+L22 -> 4300000 | K22: =+K24 -> 0 | L22: =+L24 -> 4300000
C23: այդ թվում` բյուջետային ծախսերի տնտեսագիտական դասակարգման հոդվածներ
C24: ԸՆԴԱՄԵՆԸ ԾԱԽՍԵՐ | D24: =+E24+F24 -> 3000000 | E24: =+E25 -> 0 | F24: =+F25 -> 3000000 | G24: =+H24+I24 -> 4300000 | H24: =+H25 -> 0 | I24: =+I25 -> 4300000 | J24: =+K24+L24 -> 4300000 | K24: =+K25 -> 0 | L24: =+L25 -> 4300000
C25: ՈՉ ՖԻՆԱՆՍԱԿԱՆ ԱԿՏԻՎՆԵՐԻ ԳԾՈՎ ԾԱԽՍԵՐ | D25: =+E25+F25 -> 3000000 | E25: =+E26 -> 0 | F25: =+F26 -> 3000000 | G25: =+H25+I25 -> 4300000 | H25: =+H26 -> 0 | I25: =+I26 -> 4300000 | J25: =+K25+L25 -> 4300000 | K25: =+K26 -> 0 | L25: =+L26 -> 4300000
C26: ՀԻՄՆԱԿԱՆ ՄԻՋՈՑՆԵՐ | D26: =+E26+F26 -> 3000000 | E26: =+E27 -> 0 | F26: =+F27 -> 3000000 | G26: =+H26+I26 -> 4300000 | H26: =+H27 -> 0 | I26: =+I27 -> 4300000 | J26: =+K26+L26 -> 4300000 | K26: =+K27 -> 0 | L26: =+L27 -> 4300000
C27: ՇԵՆՔԵՐ ԵՎ ՇԻՆՈՒԹՅՈՒՆՆԵՐ | D27: =+E27+F27 -> 3000000 | E27: =+E28 -> 0 | F27: =+F28 -> 3000000 | G27: =+H27+I27 -> 4300000 | H27: =+H28 -> 0 | I27: =+I28 -> 4300000 | J27: =+K27+L27 -> 4300000 | K27: =+K28 -> 0 | L27: =+L28 -> 4300000
C28: - Շենքերի և շինությունների շինարարություն | D28: =+E28+F28 -> 3000000 | F28: 3000000 | G28: =+H28+I28 -> 4300000 | I28: =+L28 -> 4300000 | J28: =+K28+L28 -> 4300000 | L28: 4300000
A29: 1192 | C29: Կրթության որակի ապահովում | D29: =+E29+F29 -> 648000 | E29: =+E31 -> 648000 | F29: =+F31 -> 0 | G29: =+H29+I29 -> 648000 | H29: =+H31 -> 648000 | I29: =+I31 -> 0 | J29: =+K29+L29 -> 648000 | K29: =+K31 -> 648000 | L29: =+L31 -> 0
C30: այդ թվում`
B31: 32006 | C31: Համաշխարհային բանկի աջակցությամբ իրականացվող «Կրթության բարելավման ծրագրի լրացուցիչ ֆինանսավորում» վարկային ծրագրի շրջանակներում կապիտալ ներդրումներ հանրակրթական ուսումնական հաստատություններում | D31: =+E31+F31 -> 648000 | E31: =+E33 -> 648000 | F31: =+F33 -> 0 | G31: =+H31+I31 -> 648000 | H31: =+H33 -> 648000 | I31: =+I33 -> 0 | J31: =+K31+L31 -> 648000 | K31: =+K33 -> 648000 | L31: =+L33 -> 0
C32: այդ թվում` ըստ կատարողների
C33: ՀՀ կրթության , գիտության, մշակույթի և սպորտի նախարարություն | D33: =+E33+F33 -> 648000 | E33: =+E35 -> 648000 | F33: =+F35 -> 0 | G33: =+H33+I33 -> 648000 | H33: =+H35 -> 648000 | I33: =+I35 -> 0 | J33: =+K33+L33 -> 648000 | K33: =+K35 -> 648000 | L33: =+L35 -> 0
C34: այդ թվում` բյուջետային ծախսերի տնտեսագիտական դասակարգման հոդվածներ
C35: ԸՆԴԱՄԵՆԸ ԾԱԽՍԵՐ | D35: =+E35+F35 -> 648000 | E35: =+E36 -> 648000 | F35: =+F36 -> 0 | G35: =+H35+I35 -> 648000 | H35: =+H36 -> 648000 | I35: =+I36 -> 0 | J35: =+K35+L35 -> 648000 | K35: =+K36 -> 648000 | L35: =+L36 -> 0
C36: ՈՉ ՖԻՆԱՆՍԱԿԱՆ ԱԿՏԻՎՆԵՐԻ ԳԾՈՎ ԾԱԽՍԵՐ | D36: =+E36+F36 -> 648000 | E36: =+E37 -> 648000 | F36: =+F37 -> 0 | G36: =+H36+I36 -> 648000 | H36: =+H37 -> 648000 | I36: =+I37 -> 0 | J36: =+K36+L36 -> 648000 | K36: =+K37 -> 648000 | L36: =+L37 -> 0
C37: ՀԻՄՆԱԿԱՆ ՄԻՋՈՑՆԵՐ | D37: =+E37+F37 -> 648000 | E37: =+E38 -> 648000 | F37: =+F38 -> 0 | G37: =+H37+I37 -> 648000 | H37: =+H38 -> 648000 | I37: =+I38 -> 0 | J37: =+K37+L37 -> 648000 | K37: =+K38 -> 648000 | L37: =+L38 -> 0
C38: ՇԵՆՔԵՐ ԵՎ ՇԻՆՈՒԹՅՈՒՆՆԵՐ | D38: =+E38+F38 -> 648000 | E38: =SUM(E39:E40) -> 648000 | F38: =SUM(F39:F40) -> 0 | G38: =+H38+I38 -> 648000 | H38: =SUM(H39:H40) -> 648000 | I38: =SUM(I39:I40) -> 0 | J38: =+K38+L38 -> 648000 | K38: =SUM(K39:K40) -> 648000 | L38: =SUM(L39:L40) -> 0
C39: - Շենքերի և շինությունների շինարարություն | D39: =+E39+F39 -> 120000 | E39: =+K39 -> 120000 | F39: =+L39 -> 0 | G39: =+H39+I39 -> 120000 | H39: =+K39 -> 120000 | I39: =+L39 -> 0 | J39: =+K39+L39 -> 120000 | K39: 120000 | L39: 0
C40: - Շենքերի և շինությունների կապիտալ վերանորոգում | D40: =+E40+F40 -> 528000 | E40: =+K40 -> 528000 | F40: =+L40 -> 0 | G40: =+H40+I40 -> 528000 | H40: =+K40 -> 528000 | I40: =+L40 -> 0 | J40: =+K40+L40 -> 528000 | K40: 528000 | L40: 0

Sheet Հավելված N 8
J1: Հավելված N 8
J2: ՀՀ կառավարության 2026 թվականի
J3: ______________ ի ___Ն որոշման
A6: ՀԱՅԱՍՏԱՆԻ ՀԱՆՐԱՊԵՏՈՒԹՅԱՆ ԿԱՌԱՎԱՐՈՒԹՅԱՆ 2025 ԹՎԱԿԱՆԻ ԴԵԿՏԵՄԲԵՐԻ 25-Ի N 1910-Ն ՈՐՈՇՄԱՆ N 9 ՀԱՎԵԼՎԱԾՈՒՄ ԿԱՏԱՐՎՈՂ ՓՈՓՈԽՈՒԹՅՈՒՆՆԵՐԸ ԵՎ ԼՐԱՑՈՒՄՆԵՐԸ
K8: հազար դրամներոով
A9: ԲԳԿ | B9: Ծրագիր | D9: Միջոցառում | H9: Իրականացնողը/ ակտիվն օգտագործողը/ շահառուի ընտրության չափորոշիչը | I9: Արդյունքային չափորոշիչը | J9: Ցուցանիշների փոփոխությունը (ավելացումները նշված են դրական նշանով, իսկ նվազեցումները՝ փակագծերում)
B10: Դասիչը | C10: Անվանումը | D10: Դասիչը | E10: Անվանումը | F10: Նկարագրությունը | G10: Տեսակը | J10: Առաջին կիսամյակ | K10: Ինն ամիս | L10: Տարի
A11: ԸՆԴԱՄԵՆԸ | J11: =+J13 -> 648000 | K11: =+K13 -> 648000 | L11: =+L13 -> 648000
A12: այդ թվում՝
A13: ՀՀ ԿՐԹՈՒԹՅԱՆ, ԳԻՏՈՒԹՅԱՆ, ՄՇԱԿՈԻՅԹԻ ԵՎ ՍՊՈՐՏԻ ՆԱԽԱՐԱՐՈՒԹՅՈՒՆ | J13: =+J14+J19+J24 -> 648000 | K13: =+K14+K19+K24 -> 648000 | L13: =+L14+L19+L24 -> 648000
B14: 1189 | C14: Դպրոցների սեյսմիկ անվտանգության մակարդակի բարձրացման ծրագիր | J14: =+J15 -> 3000000 | K14: =+K15 -> 4300000 | L14: =+L15 -> 4300000
D15: 1189 - 12003 | E15: Ասիական զարգացման բանկի աջակցությամբ իրականացվող դպրոցների սեյսմիկ պաշտպանության ծրագրի լրացուցիչ ֆինանսավորման շրջանակներում ՀՀ դպրոցների սեյսմիկ անվտանգության բարելավմանն ուղղված միջոցառումներ | J15: =+'Հավելված N 3'!G17 -> 3000000 | K15: =+'Հավելված N 3'!H17 -> 4300000 | L15: =+'Հավելված N 3'!I17 -> 4300000
F16: Դպրոցների սեյսմիկ պաշտպանության լրացուցիչ ֆինանսավորման ծրագիր, դպրոցների շենքերի կառուցման, ամրացման շինարարական աշխատանքներ, շինարարական ստանդարտների արդիականացում, արտակարգ իրավիճակներին արձագանքման ծրագրի մշակում
G17: Տրանսֆերտների տրամադրում
H18: Շահառուների ընտրության չափորոշիչները` Մասնագիտացված կազմակերպություն
B19: 1192 | C19: Կրթության որակի ապահովում | J19: =+J20 -> 648000 | K19: =+K20 -> 648000 | L19: =+L20 -> 648000
D20: 1192 - 32006 | E20: Համաշխարհային բանկի աջակցությամբ իրականացվող «Կրթության բարելավման ծրագրի լրացուցիչ ֆինանսավորում» վարկային ծրագրի շրջանակներում կապիտալ ներդրումներ հանրակրթական ուսումնական հաստատություններում | J20: =+'Հավելված N 3'!G19 -> 648000 | K20: =+'Հավելված N 3'!H19 -> 648000 | L20: =+'Հավելված N 3'!I19 -> 648000
F21: Կապիտալ ներդրումներ ավագ, միջնակարգ և հիմնական դպրոցներում
G22: Այլ պետական կազմակերպությունների կողմից օգտագործվող ոչ ֆինանսական ակտիվների հետ գործառնություններ
H23: Ակտիվն օգտագործող կազմակերպության անվանումը` Հանրակրթական ուսումնական հաստատություններ
B24: 1236 | C24: Հանրակրթական և նախադպրոցական հաստատությունների հիմնում, կառուցում, բարելավում | J24: =+J25+J29 -> -3000000 | K24: =+K25+K29 -> -4300000 | L24: =+L25+L29 -> -4300000
D25: 1236 - 32003 | E25: Հանրակրթական դպրոցների նոր շենքերի կառուցում | J25: =+'Հավելված N 3'!G21 -> -1500000 | K25: =+'Հավելված N 3'!H21 -> -2300000 | L25: =+'Հավելված N 3'!I21 -> -2300000
F26: ՀՀ մարզերում կրթական որակյալ ծառայությունների հասանելիության ապահովման ծրագրի շրջանակներում հանրակրթական և նախադպրոցական կրթության հասանելիության ապահովման նպատակով կրթական կենտրոնների կառուցում
G27: Այլ պետական կազմակերպությունների կողմից օգտագործվող ոչ ֆինանսական ակտիվների հետ գործառնություններ
H28: Ակտիվն օգտագործող կազմակերպության անվանումը` Հանրակրթական դպրոցներ
D29: 1236 - 32005 | E29: Կրթահամալիրների կառուցում | J29: =+'Հավելված N 3'!G22 -> -1500000 | K29: =+'Հավելված N 3'!H22 -> -2000000 | L29: =+'Հավելված N 3'!I22 -> -2000000
F30: ՀՀ մարզերում կրթական որակյալ ծառայությունների հասանելիության ապահովման ծրագրի շրջանակներում հանրակրթական և նախադպրոցական կրթության հասանելիության ապահովման նպատակով կրթական կենտրոնների կառուցում
G31: Այլ պետական կազմակերպությունների կողմից օգտագործվող ոչ ֆինանսական ակտիվների հետ գործառնություններ
H32: Ակտիվն օգտագործող կազմակերպության անվանումը` Ստեղծվող կրթահամալիրներ

Sheet Հավելված N 9
J1: Հավելված N 9
J2: ՀՀ կառավարության 2026 թվականի
J3: ______________ ի ___Ն որոշման
A6: ՀԱՅԱՍՏԱՆԻ ՀԱՆՐԱՊԵՏՈՒԹՅԱՆ ԿԱՌԱՎԱՐՈՒԹՅԱՆ 2025 ԹՎԱԿԱՆԻ ԴԵԿՏԵՄԲԵՐԻ 25-Ի N 1910-Ն ՈՐՈՇՄԱՆ N 9.1 ՀԱՎԵԼՎԱԾՈՒՄ ԿԱՏԱՐՎՈՂ ՓՈՓՈԽՈՒԹՅՈՒՆՆԵՐԸ ԵՎ ԼՐԱՑՈՒՄՆԵՐԸ
K8: հազար դրամներոով
A9: ԲՍԿ | B9: Ծրագիր | D9: Միջոցառում | H9: Իրականացնողը/ ակտիվն օգտագործողը/ շահառուի ընտրության չափորոշիչը | I9: Արդյունքային չափորոշիչը | J9: Ցուցանիշների փոփոխությունը (ավելացումները նշված են դրական նշանով, իսկ նվազեցումները՝ փակագծերում)
B10: Դասիչը | C10: Անվանումը | D10: Դասիչը | E10: Անվանումը | F10: Նկարագրությունը | G10: Տեսակը | J10: Առաջին կիսամյակ | K10: Ինն ամիս | L10: Տարի
A11: ԸՆԴԱՄԵՆԸ | J11: =+J13+J20 -> 648000 | K11: =+K13+K20 -> 648000 | L11: =+L13+L20 -> 648000
A12: այդ թվում՝
A13: ՀՀ ՏԱՐԱԾՔԱՅԻՆ ԿԱՌԱՎԱՐՄԱՆ ԵՎ ԵՆԹԱԿԱՌՈՒՑՎԱԾՔՆԵՐԻ ՆԱԽԱՐԱՐՈՒԹՅՈՒՆ | J13: =+J14 -> 3000000 | K13: =+K14 -> 4300000 | L13: =+L14 -> 4300000
B14: 1189 | C14: Դպրոցների սեյսմիկ անվտանգության մակարդակի բարձրացման ծրագիր | J14: =+J15 -> 3000000 | K14: =+K15 -> 4300000 | L14: =+L15 -> 4300000
D15: 1189 - 12003 | E15: Ասիական զարգացման բանկի աջակցությամբ իրականացվող դպրոցների սեյսմիկ պաշտպանության ծրագրի լրացուցիչ ֆինանսավորման շրջանակներում ՀՀ դպրոցների սեյսմիկ անվտանգության բարելավմանն ուղղված միջոցառումներ | J15: =+'Հավելված N 4'!G54 -> 3000000 | K15: =+'Հավելված N 4'!H54 -> 4300000 | L15: =+'Հավելված N 4'!I54 -> 4300000
F16: Դպրոցների սեյսմիկ պաշտպանության լրացուցիչ ֆինանսավորման ծրագիր, դպրոցների շենքերի կառուցման, ամրացման շինարարական աշխատանքներ, շինարարական ստանդարտների արդիականացում, արտակարգ իրավիճակներին արձագանքման ծրագրի մշակում
G17: Տրանսֆերտների տրամադրում
H18: Շահառուների ընտրության չափորոշիչները` Մասնագիտացված կազմակերպություն
A20: ՀՀ ԿՐԹՈՒԹՅԱՆ, ԳԻՏՈՒԹՅԱՆ, ՄՇԱԿՈԻՅԹԻ ԵՎ ՍՊՈՐՏԻ ՆԱԽԱՐԱՐՈՒԹՅՈՒՆ | J20: =+J21+J26 -> -2352000 | K20: =+K21+K26 -> -3652000 | L20: =+L21+L26 -> -3652000
B21: 1192 | C21: Կրթության որակի ապահովում | J21: =+J22 -> 648000 | K21: =+K22 -> 648000 | L21: =+L22 -> 648000
D22: 1192 - 32006 | E22: Համաշխարհային բանկի աջակցությամբ իրականացվող «Կրթության բարելավման ծրագրի լրացուցիչ ֆինանսավորում» վարկային ծրագրի շրջանակներում կապիտալ ներդրումներ հանրակրթական ուսումնական հաստատություններում | J22: =+'Հավելված N 4'!G65 -> 648000 | K22: =+'Հավելված N 4'!H65 -> 648000 | L22: =+'Հավելված N 4'!I65 -> 648000
F23: Կապիտալ ներդրումներ ավագ, միջնակարգ և հիմնական դպրոցներում
G24: Այլ պետական կազմակերպությունների կողմից օգտագործվող ոչ ֆինանսական ակտիվների հետ գործառնություններ
H25: Ակտիվն օգտագործող կազմակերպության անվանումը` Հանրակրթական ուսումնական հաստատություններ
B26: 1236 | C26: Հանրակրթական և նախադպրոցական հաստատությունների հիմնում, կառուցում, բարելավում | J26: =+J27+J31 -> -3000000 | K26: =+K27+K31 -> -4300000 | L26: =+L27+L31 -> -4300000
D27: 1236 - 32003 | E27: Հանրակրթական դպրոցների նոր շենքերի կառուցում | J27: =+'Հավելված N 4'!G28 -> -1500000 | K27: =+'Հավելված N 4'!H28 -> -2300000 | L27: =+'Հավելված N 4'!I28 -> -2300000
F28: ՀՀ մարզերում կրթական որակյալ ծառայությունների հասանելիության ապահովման ծրագրի շրջանակներում հանրակրթական և նախադպրոցական կրթության հասանելիության ապահովման նպատակով կրթական կենտրոնների կառուցում
G29: Այլ պետական կազմակերպությունների կողմից օգտագործվող ոչ ֆինանսական ակտիվների հետ գործառնություններ
H30: Ակտիվն օգտագործող կազմակերպության անվանումը` Հանրակրթական դպրոցներ
D31: 1236 - 32005 | E31: Կրթահամալիրների կառուցում | J31: =+'Հավելված N 4'!G37 -> -1500000 | K31: =+'Հավելված N 4'!H37 -> -2000000 | L31: =+'Հավելված N 4'!I37 -> -2000000
F32: ՀՀ մարզերում կրթական որակյալ ծառայությունների հասանելիության ապահովման ծրագրի շրջանակներում հանրակրթական և նախադպրոցական կրթության հասանելիության ապահովման նպատակով կրթական կենտրոնների կառուցում
G33: Այլ պետական կազմակերպությունների կողմից օգտագործվող ոչ ֆինանսական ակտիվների հետ գործառնություններ
H34: Ակտիվն օգտագործող կազմակերպության անվանումը` Ստեղծվող կրթահամալիրներ
