Workbook
Name _tab10: #REF!
Name _tab10: #REF!
Name _tab10: #REF!
Name _tab10: #REF!
Name _tab10: #REF!
Name _tab10: #REF!
Name _tab11: #REF!
Name _tab11: #REF!
Name _tab11: #REF!
Name _tab11: #REF!
Name _tab12: #REF!
Name _tab12: #REF!
Name _tab12: #REF!
Name _tab12: #REF!
Name _tab13: #REF!
Name _tab13: #REF!
Name _tab13: #REF!
Name _tab13: #REF!
Name _tab14: #REF!
Name _tab14: #REF!
Name _tab14: #REF!
Name _tab14: #REF!
Name _tab15: #REF!
Name _tab15: #REF!
Name _tab15: #REF!
Name _tab15: #REF!
Name _tab16: #REF!
Name _tab16: #REF!
Name _tab16: #REF!
Name _tab16: #REF!
Name _tab17: #REF!
Name _tab17: #REF!
Name _tab17: #REF!
Name _tab17: #REF!
Name _tab18: #REF!
Name _tab18: #REF!
Name _tab18: #REF!
Name _tab18: #REF!
Name _tab19: #REF!
Name _tab19: #REF!
Name _tab19: #REF!
Name _tab19: #REF!
Name _tab20: #REF!
Name _tab20: #REF!
Name _tab20: #REF!
Name _tab20: #REF!
Name _tab21: #REF!
Name _tab21: #REF!
Name _tab21: #REF!
Name _tab21: #REF!
Name _tab22: #REF!
Name _tab22: #REF!
Name _tab22: #REF!
Name _tab22: #REF!
Name _tab22222: #REF!
Name _tab22222: #REF!
Name _tab22222: #REF!
Name _tab22222: #REF!
Name _tab23: #REF!
Name _tab23: #REF!

Sheet 1
A1: Հավելված № 1
A2: ՀՀ կառավարության 2026 թվականի
A3: __________ «____» -ի
A4: N_____ -Ն որոշման
A5: «ՀԱՅԱՍՏԱՆԻ ՀԱՆՐԱՊԵՏՈՒԹՅԱՆ 2026 ԹՎԱԿԱՆԻ ՊԵՏԱԿԱՆ ԲՅՈՒՋԵԻ ՄԱՍԻՆ» ՕՐԵՆՔԻ N 2 ՀՈԴՎԱԾԻ ԱՂՅՈՒՍԱԿՈՒՄ ԿԱՏԱՐՎՈՂ ՓՈՓՈԽՈՒԹՅՈՒՆՆԵՐԸ
B6: (հազար դրամներով)
B7: Ցուցանիշների փոփոխությունը (նվազեցումները նշված են փակագծերում)
A8: 1. Եկամուտների գծով | B8: 0
A9: 2. Ծախսերի գծով | B9: =+B10 -> -198420
A10: 3. Դեֆիցիտը (պակասուրդը) | B10: =+-('3'!J12+'3'!J13) -> -198420

Sheet 2
A1: Հավելված № 2
A2: ՀՀ կառավարության 2026 թվականի
A3: __________ «____» -ի
A4: N_____ -Ն որոշման
A5: «ՀԱՅԱՍՏԱՆԻ ՀԱՆՐԱՊԵՏՈՒԹՅԱՆ 2026 ԹՎԱԿԱՆԻ ՊԵՏԱԿԱՆ ԲՅՈՒՋԵԻ ՄԱՍԻՆ» ՀԱՅԱՍՏԱՆԻ ՀԱՆՐԱՊԵՏՈՒԹՅԱՆ ՕՐԵՆՔԻ 3-ՐԴ ՀՈԴՎԱԾԻ ԱՂՅՈՒՍԱԿՈՒՄ, N 3 ՀԱՎԵԼՎԱԾԻ N 1 ԱՂՅՈՒՍԱԿՈՒՄ ԵՎ ՀԱՅԱՍՏԱՆԻ ՀԱՆՐԱՊԵՏՈՒԹՅԱՆ ԿԱՌԱՎԱՐՈՒԹՅԱՆ 2025 ԹՎԱԿԱՆԻ ԴԵԿՏԵՄԲԵՐԻ 25-Ի N 1910-Ն ՈՐՈՇՄԱՆ N 1 ՀԱՎԵԼՎԱԾԻ N 1 ԱՂՅՈՒՍԱԿՈՒՄ ԿԱՏԱՐՎՈՂ ՓՈՓՈԽՈՒԹՅՈՒՆՆԵՐԸ ԵՎ ԼՐԱՑՈՒՄՆԵՐԸ
A6: (հազար դրամներով)
A7: Պետական բյուջեի դեֆիցիտի (պակասուրդի) ֆինանսավորման աղբյուրներն ու դրանց տարրերի անվանումները | B7: Ցուցանիշների փոփոխությունները (ավելացումները նշված են դրական նշանով)
B8: Առաջին եռամսյակ | C8: Առաջին կիսամյակ | D8: Ինն ամիս | E8: Տարի
A9: ԸՆԴԱՄԵՆԸ | B9: =B11 -> -198420 | C9: =C11 -> -198420 | D9: =D11 -> -198420 | E9: =E11 -> -198420
A10: այդ թվում`
A11: Ա.Ներքին աղբյուրներ-ընդամենը | B11: =B13 -> -198420 | C11: =C13 -> -198420 | D11: =D13 -> -198420 | E11: =E13 -> -198420
A12: այդ թվում`
A13: 2.Ֆինանսական զուտ ակտիվներ | B13: =B16 -> -198420 | C13: =C16 -> -198420 | D13: =D16 -> -198420 | E13: =E16 -> -198420
A14: այդ թվում`
A15: 2.2 Բաժնետոմսերի և կապիտալում այլ մասնակցության ձեռքբերում | B15: =B16 -> -198420 | C15: =C16 -> -198420 | D15: =D16 -> -198420 | E15: =E16 -> -198420
A16: ՀՀ առողջապահության նախարարություն | B16: =+B18+B19 -> -198420 | C16: =+C18+C19 -> -198420 | D16: =+D18+D19 -> -198420 | E16: =+E18+E19 -> -198420
A17: որից`
A18: «Ավան» հոգեկան առողջության կենտրոն» ՓԲԸ | B18: =+-'3'!G12 -> -101000 | C18: =+-'3'!H12 -> -101000 | D18: =+-'3'!I12 -> -101000 | E18: =+-'3'!J12 -> -101000
A19: «Զարիշատ (Արամ) Մարտինի Մկրտչյանի անվան Արմավիրի բժշկական կենտրոն» ՓԲԸ | B19: =+-'3'!G13 -> -97420 | C19: =+-'3'!H13 -> -97420 | D19: =+-'3'!I13 -> -97420 | E19: =+-'3'!J13 -> -97420

Sheet 3
A1: Հավելված № 3
A2: ՀՀ կառավարության 2026 թվականի
A3: __________ «____» -ի
A4: N_____ -Ն որոշման
A5: «ՀԱՅԱՍՏԱՆԻ ՀԱՆՐԱՊԵՏՈՒԹՅԱՆ 2026 ԹՎԱԿԱՆԻ ՊԵՏԱԿԱՆ ԲՅՈՒՋԵԻ ՄԱՍԻՆ» ՀԱՅԱՍՏԱՆԻ ՀԱՆՐԱՊԵՏՈՒԹՅԱՆ ՕՐԵՆՔԻ N 3 ՀԱՎԵԼՎԱԾԻ N 1.1 ԱՂՅՈՒՍԱԿՈՒՄ ԵՎ ՀԱՅԱՍՏԱՆԻ ՀԱՆՐԱՊԵՏՈՒԹՅԱՆ ԿԱՌԱՎԱՐՈՒԹՅԱՆ 2025 ԹՎԱԿԱՆԻ ԴԵԿՏԵՄԲԵՐԻ 25-Ի N 1910-Ն ՈՐՈՇՄԱՆ N 1 ՀԱՎԵԼՎԱԾԻ N 2 ԱՂՅՈՒՍԱԿՈՒՄ ԿԱՏԱՐՎՈՂ ՓՈՓՈԽՈՒԹՅՈՒՆՆԵՐԸ ԵՎ ԼՐԱՑՈՒՄՆԵՐԸ
A6: (հազար դրամներով)
A7: ԲԳԿ | B7: Ծրագրային դասիչը | D7: ԲԳԿ/Ծրագրի /միջոցառման անվանումը | E7: Ծրագրի նպատակը/Միջոցառման նկարագրությունը | F7: Վերջնական արդյունքի նկարագրությունը/Միջոցառման տեսակը | G7: Ցուցանիշների փոփոխությունները (ավելացումները նշված են դրական նշանով)
B8: Ծրագիր | C8: Միջոցառում | G8: Առաջին եռամսյակ | H8: Առաջին կիսամյակ | I8: Ինն ամիս | J8: Տարի
A9: ԸՆԴԱՄԵՆԸ | G9: =+G11 -> 198420 | H9: =+H11 -> 198420 | I9: =+I11 -> 198420 | J9: =+J11 -> 198420
A10: ՀՀ առողջապահության նախարարություն
B11: 1126 | D11: Առողջապահության ոլորտում պետական քաղաքականության մշակում, ծրագրերի համակարգում և մոնիտորինգ | E11: Մարդու և հանրության առողջության պահպանում, բնակչության առողջության բարելավում, հիվանդությունների կանխարգելում, հաշմանդամության և մահացության ցուցանիշների նվազեցում | F11: Առողջապահության ոլորտում իրականացվող ծրագրերի ազդեցության և արդյունավետության բարելավում | G11: =+G12+G13 -> 198420 | H11: =+H12+H13 -> 198420 | I11: =+I12+I13 -> 198420 | J11: =+J12+J13 -> 198420
C12: 1126-44001 | D12: «Ավան» հոգեկան առողջության կենտրոն» ՓԲԸ-ում տնտեսական երկարաժամկետ զարգացմանն ուղղված միջոցառում | E12: Ներդրումների խթանում | F12: Բաժնետոմսերի ձեռքբերում | G12: 101000 | H12: 101000 | I12: 101000 | J12: 101000
C13: 1126-44002 | D13: «Զարիշատ (Արամ) Մարտինի Մկրտչյանի անվան Արմավիրի բժշկական կենտրոն» ՓԲԸ-ում տնտեսական երկարաժամկետ զարգացմանն ուղղված միջոցառում | E13: Ներդրումների խթանում | F13: Բաժնետոմսերի ձեռքբերում | G13: 97420 | H13: 97420 | I13: 97420 | J13: 97420

Sheet 4
A1: Հավելված № 4
A2: ՀՀ կառավարության 2026 թվականի
A3: __________ «____» -ի
A4: N_____ -Ն որոշման
A5: ՀԱՅԱՍՏԱՆԻ ՀԱՆՐԱՊԵՏՈՒԹՅԱՆ ԿԱՌԱՎԱՐՈՒԹՅԱՆ 2025 ԹՎԱԿԱՆԻ ԴԵԿՏԵՄԲԵՐԻ 25-Ի № 1910-Ն ՈՐՈՇՄԱՆ № 1 ՀԱՎԵԼՎԱԾԻ № 5 ԱՂՅՈՒՍԱԿՈՒՄ ԿԱՏԱՐՎՈՂ ՓՈՓՈԽՈՒԹՅՈՒՆՆԵՐԸ ԵՎ ԼՐԱՑՈՒՄՆԵՐԸ
A6: (հազար դրամներով)
A7: ԲԳԿ | B7: Ծրագիր | D7: Միջոցառում | H7: Իրականացնողը/ ակտիվն օգտագործողը/ շահառուի ընտրության չափորոշիչը | I7: Արդյունքային չափորոշիչը | J7: Ցուցանիշների փոփոխությունները (ավելացումները նշված են դրական նշանով)
B8: Դասիչը | C8: Անվանումը | D8: Դասիչը | E8: Անվանումը | F8: Նկարագրությունը | G8: Տեսակը | J8: Առաջին եռամսյակ | K8: Առաջին կիսամյակ | L8: Ինն ամիս | M8: Տարի
A9: ԸՆԴԱՄԵՆԸ | J9: =+J10 -> 198420 | K9: =+K10 -> 198420 | L9: =+L10 -> 198420 | M9: =+M10 -> 198420
A10: ՀՀ առողջապահության նախարարություն | J10: =+J11 -> 198420 | K10: =+K11 -> 198420 | L10: =+L11 -> 198420 | M10: =+M11 -> 198420
B11: 1126 | C11: Առողջապահության ոլորտում պետական քաղաքականության մշակում, ծրագրերի համակարգում և մոնիտորինգ | J11: =+J12+J17 -> 198420 | K11: =+K12+K17 -> 198420 | L11: =+L12+L17 -> 198420 | M11: =+M12+M17 -> 198420
D12: 1126-44001 | E12: «Ավան» հոգեկան առողջության կենտրոն» ՓԲԸ-ում տնտեսական երկարաժամկետ զարգացմանն ուղղված միջոցառում | J12: =+'3'!G12 -> 101000 | K12: =+'3'!H12 -> 101000 | L12: =+'3'!I12 -> 101000 | M12: =+'3'!J12 -> 101000
F13: Ներդրումների խթանում
G14: Բաժնետոմսերի ձեռքբերում
H15: «Ավան» հոգեկան առողջության կենտրոն» ՓԲԸ
I16: Ներդրումային ֆոնդի ներդրումների քանակը (հատ) | M16: 1
D17: 1126-44002 | E17: «Զարիշատ (Արամ) Մարտինի Մկրտչյանի անվան Արմավիրի բժշկական կենտրոն» ՓԲԸ-ում տնտեսական երկարաժամկետ զարգացմանն ուղղված միջոցառում | J17: =+'3'!G13 -> 97420 | K17: =+'3'!H13 -> 97420 | L17: =+'3'!I13 -> 97420 | M17: =+'3'!J13 -> 97420
F18: Ներդրումների խթանում
G19: Բաժնետոմսերի ձեռքբերում
H20: «Զարիշատ (Արամ) Մարտինի Մկրտչյանի անվան Արմավիրի բժշկական կենտրոն» ՓԲԸ
I21: Ներդրումային ֆոնդի ներդրումների քանակը (հատ) | M21: 1

Sheet 5
B1: Հավելված № 5
B2: ՀՀ կառավարության 2026 թվականի
B3: __________ «____» -ի
B4: N_____ -Ն որոշման
A5: «ՀԱՅԱՍՏԱՆԻ ՀԱՆՐԱՊԵՏՈՒԹՅԱՆ 2026 ԹՎԱԿԱՆԻ ՊԵՏԱԿԱՆ ԲՅՈՒՋԵԻ ՄԱՍԻՆ» ՀԱՅԱՍՏԱՆԻ ՀԱՆՐԱՊԵՏՈՒԹՅԱՆ ՕՐԵՆՔԻ № 1 ՀԱՎԵԼՎԱԾԻ № 1 ԱՂՅՈՒՍԱԿՈՒՄ ԿԱՏԱՐՎՈՂ ԿԱՏԱՐՎՈՂ ՓՈՓՈԽՈՒԹՅՈՒՆՆԵՐԸ
C6: (հազար դրամներով)
A7: Ծրագրային դասիչը | B7: Ծրագրի անվանումը | C7: Ցուցանիշների փոփոխությունները (ավելացումը նշված է դրական նշանով, իսկ նվազեցումը` փակագծերում)
A8: ԸՆԴԱՄԵՆԸ | C8: =SUM(C9:C10) -> -198419.96
A9: 1053 | B9: Առողջապահության համակարգի արդիականացման և արդյունավետության բարձրացման ծրագիր | C9: =+'6'!J11 -> 92000
A10: 1126 | B10: Առողջապահության ոլորտում պետական քաղաքականության մշակում, ծրագրերի համակարգում և մոնիտորինգ | C10: =+'6'!J13 -> -290419.96

Sheet 6
A1: Հավելված № 6
A2: ՀՀ կառավարության 2026 թվականի
A3: __________ «____» -ի
A4: N_____ -Ն որոշման
A5: «ՀԱՅԱՍՏԱՆԻ ՀԱՆՐԱՊԵՏՈՒԹՅԱՆ 2026 ԹՎԱԿԱՆԻ ՊԵՏԱԿԱՆ ԲՅՈՒՋԵԻ ՄԱՍԻՆ» ՀԱՅԱՍՏԱՆԻ ՀԱՆՐԱՊԵՏՈՒԹՅԱՆ ՕՐԵՆՔԻ № 1 ՀԱՎԵԼՎԱԾԻ № 2 ԱՂՅՈՒՍԱԿՈՒՄ ԿԱՏԱՐՎՈՂ ՎԵՐԱԲԱՇԽՈՒՄԸ ԵՎ ՀԱՅԱՍՏԱՆԻ ՀԱՆՐԱՊԵՏՈՒԹՅԱՆ ԿԱՌԱՎԱՐՈՒԹՅԱՆ 2025 ԹՎԱԿԱՆԻ ԴԵԿՏԵՄԲԵՐԻ 25-Ի № 1910-Ն ՈՐՈՇՄԱՆ № 5 ՀԱՎԵԼՎԱԾԻ № 1 ԱՂՅՈՒՍԱԿՈՒՄ ԿԱՏԱՐՎՈՂ ՓՈՓՈԽՈՒԹՅՈՒՆՆԵՐԸ ԵՎ ԼՐԱՑՈՒՄՆԵՐԸ
A6: (հազար դրամներով)
A7: ԲԳԿ | B7: Ծրագրային դասիչը | D7: ԲԳԿ/Ծրագրի /միջոցառման անվանումը | E7: Ծրագրի նպատակը/Միջոցառման նկարագրությունը | F7: Վերջնական արդյունքի նկարագրությունը/Միջոցառման տեսակը | G7: Ցուցանիշների փոփոխությունները (ավելացումները նշված են դրական նշանով, իսկ նվազեցումները` փակագծերում)
B8: Ծրագիր | C8: Միջոցառում | G8: Առաջին եռամսյակ | H8: Առաջին կիսամյակ | I8: Ինն ամիս | J8: Տարի
A9: ԸՆԴԱՄԵՆԸ | G9: =+G10+G18 -> -198420 | H9: =+H10+H18 -> -198420 | I9: =+I10+I18 -> -198419.96 | J9: =+J10+J18 -> -198419.96
A10: ՀՀ առողջապահության նախարարություն | G10: =+G11+G13 -> -198420 | H10: =+H11+H13 -> -198420 | I10: =+I11+I13 -> -198419.96 | J10: =+J11+J13 -> -198419.96
B11: 1053 | D11: Առողջապահության համակարգի արդիականացման և արդյունավետության բարձրացման ծրագիր | E11: Առողջապահության համակարգի արդիականացում և զարգացում | F11: Առողջապահական ենթակառուցվածքների բարելավում, կարողությունների զարգացում | G11: =+G12 -> 55000 | H11: =+H12 -> 92000 | I11: =+I12 -> 92000 | J11: =+J12 -> 92000
C12: 1053 - 32007 | D12: ՀՀ կայունացման և զարգացման Եվրասիական հիմնադրամի միջոցներից ֆինանսավորվող «ՀՀ-ում COVID-19 համավարակի պատրաստվածությանմակարդակի բարձրացում. կորոնավիրուսից առաջացող սպառնալիքի հայտնաբերում և արձագանքում» ծրագրի շրջանակներում շենքային պայմանների բարելավում | E12: Հիվանդությունների վերահսկման և կանխարգելման ազգային կենտրոնի Արմավիրի մարզային մասնաճյուղի վերակառուցման աշխատանքներ | F12: Այլ պետական կազմակերպությունների կողմից օգտագործվող ոչ ֆինանսական ակտիվների հետ գործառնություններ | G12: 55000 | H12: 92000 | I12: 92000 | J12: 92000
B13: 1126 | D13: Առողջապահության ոլորտում պետական քաղաքականության մշակում, ծրագրերի համակարգում և մոնիտորինգ | E13: Մարդու և հանրության առողջության պահպանում, բնակչության առողջության բարելավում, հիվանդությունների կանխարգելում, հաշմանդամության և մահացության ցուցանիշների նվազեցում | F13: Առողջապահության ոլորտում իրականացվող ծրագրերի ազդեցության և արդյունավետության բարելավում | G13: =SUM(G14:G17) -> -253420 | H13: =SUM(H14:H17) -> -290420 | I13: =SUM(I14:I17) -> -290419.96 | J13: =SUM(J14:J17) -> -290419.96
C14: 1126 - 11001 | D14: Առողջապահության ոլորտի պետական քաղաքականության մշակում, ծրագրերի համակարգում և մոնիտորինգ | E14: Մարդու և հանրության առողջության պահպանում, բնակչության առողջության բարելավում, հիվանդությունների կանխարգելում, հաշմանդամության և մահացության ցուցանիշների նվազեցում | F14: Ծառայությունների մատուցում | G14: 68784 | H14: 68784 | I14: 68784 | J14: 68784
C15: 1126 - 12006 | D15: Առողջապահական համակարգի պետական առևտրային և ոչ առևտրային կազմակերպություններին ֆինանսական աջակցության հատկացում | E15: Առողջապահական համակարգի պետական առևտրային և ոչ առևտրային կազմակերպություններին ֆինանսական աջակցության տրամադրում ընթացիկ գործունեության արդյունավետության բարձրացմանն ուղղված | F15: Տրանսֆերտի տրամադրում | G15: 113266.66 | H15: 348554 | I15: 413636.65 | J15: =+'12'!E10 -> 413636.65
C16: 1126 - 31002 | D16: Առողջապահական կազմակերպությունների վերազինում | E16: Բնակչությանը որակյալ բժշկական օգնության և սպասարկման ծառայություններ մատուցելու նպատակով՛ առողջապահական կազմակերպությունների անհրաժեշտ սարքավորումներով վերազինում | F16: Պետական մարմինների կողմից օգտագործվող ոչ ֆինանսական ակտիվների հետ գործառնություններ | G16: =+'10'!D11 -> -55000 | H16: =+'10'!E11 -> -440000 | I16: =+'10'!F11 -> 135917.39 | J16: =+'10'!G11 -> 670513.18
C17: 1126 - 31003 | D17: Առողջապահական կազմակերպությունների կառուցում, վերակառուցում | E17: Բնակչությանը որակյալ բժշկական օգնության և սպասարկման ծառայություններ մատուցելու նպատակով առողջապահական կազմակերպությունների կառուցում, վերակառուցում | F17: Պետական մարմինների կողմից օգտագործվող ոչ ֆինանսական ակտիվների հետ գործառնություններ | G17: =+'10'!D31 -> -380470.66 | H17: =+'10'!E31 -> -267758 | I17: =+'10'!F31 -> -908758 | J17: =+'10'!G31 -> -1443353.8
A18: ՀՀ կառավարություն | G18: =+G19 -> 0 | H18: =+H19 -> 0 | I18: =+I19 -> 0 | J18: =+J19 -> 0
B19: 1139 | D19: ՀՀ կառավարության պահուստային ֆոնդ | E19: Պետական բյուջեում չկանխատեսված, ինչպես նաեւ բյուջետային երաշխիքների ապահովման ծախսերի ֆինանսավորման ապահովում | F19: Պահուստային ֆոնդի կառավարման արդյունավետության և թափանցիկության ապահովում | G19: =+G20+G21 -> 0 | H19: =+H20+H21 -> 0 | I19: =+I20+I21 -> 0 | J19: =+J20+J21 -> 0
C20: 1139 - 11001 | D20: ՀՀ կառավարության պահուստային ֆոնդ | E20: ՀՀ պետական բյուջեում նախատեսված ելքերի լրացուցիչ ֆինանսավորման, պետական բյուջեում չկանխատեսված ելքերի, ինչպես նաև բյուջետային երաշխիքների ապահովման ելքերի ֆինանսավորման ապահովում | F20: Ծառայությունների մատուցում | G20: =+-G21 -> -168266.66 | H20: =+-H21 -> -440554 | I20: =+-I21 -> -505636.65 | J20: =+-J21 -> -505636.65
C21: 1139 - 11001 | D21: ՀՀ կառավարության պահուստային ֆոնդ | E21: ՀՀ պետական բյուջեում նախատեսված ելքերի լրացուցիչ ֆինանսավորման, պետական բյուջեում չկանխատեսված ելքերի, ինչպես նաև բյուջետային երաշխիքների ապահովման ելքերի ֆինանսավորման ապահովում | F21: Ծառայությունների մատուցում | G21: =+'9'!G108 -> 168266.66 | H21: =+'9'!H108 -> 440554 | I21: =+'9'!I108 -> 505636.65 | J21: =+'9'!J108 -> 505636.65

Sheet 7
A1: Հավելված № 7
A2: ՀՀ կառավարության 2026 թվականի
A3: __________ «____» -ի
A4: N_____ -Ն որոշման
A5: «ՀԱՅԱՍՏԱՆԻ ՀԱՆՐԱՊԵՏՈՒԹՅԱՆ 2026 ԹՎԱԿԱՆԻ ՊԵՏԱԿԱՆ ԲՅՈՒՋԵԻ ՄԱՍԻՆ» ՀԱՅԱՍՏԱՆԻ ՀԱՆՐԱՊԵՏՈՒԹՅԱՆ ՕՐԵՆՔԻ № 1 ՀԱՎԵԼՎԱԾԻ № 3 ԱՂՅՈՒՍԱԿՈՒՄ ԿԱՏԱՐՎՈՂ ՓՈՓՈԽՈՒԹՅՈՒՆՆԵՐԸ
A6: (հազար դրամներով)
A7: Ծրագրային դասիչ | C7: Բյուջետային գլխավոր կարգադրիչների, ծրագրերի, միջոցառումների և ուղղությունների անվանումները | D7: Ընդամենը | E7: այդ թվում`
A8: Ծրագիր | B8: Միջոց առում | E8: Կառուցման աշխատանքներ | F8: Վերակառուցման, վերանորոգման և վերականգնման աշխատանքներ | G8: Նախագծահե- տազոտական, գեոդեզիա- քարտեզագրական աշխատանքներ | H8: Ոչ ֆինանսական այլ ակտիվների ձեռքբերում
C9: ԸՆԴԱՄԵՆԸ | D9: =+D10 -> -772840.61 | E9: =+E10 -> -751000 | F9: =+F10 -> -778055.79 | G9: =+G10 -> 85702 | H9: =+H10 -> 670513.18
C10: ՀՀ առողջապահության նախարարություն | D10: =+D12+D30 -> -772840.61 | E10: =+E12+E30 -> -751000 | F10: =+F12+F30 -> -778055.79 | G10: =+G12+G30 -> 85702 | H10: =+H12+H30 -> 670513.18
C11: այդ թվում՛
A12: 1126 | B12: 31002 | C12: Առողջապահական կազմակերպությունների վերազինում | D12: =+D17+D19+D14+D21+D24+D26+D28 -> 670513.18 | E12: =+E17+E19+E14+E21+E24+E26+E28 -> 0 | F12: =+F17+F19+F14+F21+F24+F26+F28 -> 0 | G12: =+G17+G19+G14+G21+G24+G26+G28 -> 0 | H12: =+H17+H19+H14+H21+H24+H26+H28 -> 670513.18
C13: այդ թվում`
C14: Երևան քաղաք | D14: =+D15+D16 -> 2537013.2 | E14: =+E15+E16 -> 0 | F14: =+F15+F16 -> 0 | G14: =+G15+G16 -> 0 | H14: =+H15+H16 -> 2537013.2
C15: Առողջապահական կազմակերպությունների համար բժշկական գույքի և սարքավորումների ձեռքբերում | D15: =+E15+F15+G15+H15 -> 1711391.2 | E15: 0 | F15: 0 | G15: 0 | H15: =+'10'!G16 -> 1711391.2
C16: ՀՀ ԱՆ «Ռադիոիզոտոպների արտադրության կենտրոն» ՓԲԸ | D16: =+E16+F16+G16+H16 -> 825622 | H16: 825622
C17: ՀՀ Արագածոտնի մարզ | D17: =+D18 -> -221500 | E17: =+E18 -> 0 | F17: =+F18 -> 0 | G17: =+G18 -> 0 | H17: =+H18 -> -221500
C18: ՀՀ ԱՆ «Ծաղկահովիտի առողջության կենտրոն» ՓԲԸ | D18: =+E18+F18+G18+H18 -> -221500 | H18: -221500
C19: ՀՀ Արարատի մարզ | D19: =+D20 -> -330000 | E19: =+E20 -> 0 | F19: =+F20 -> 0 | G19: =+G20 -> 0 | H19: =+H20 -> -330000
C20: ՀՀ ԱՆ «Վեդու բժշկական կենտրոն» ՓԲԸ | D20: =+F20+G20+H20+E20 -> -330000 | H20: -330000
C21: ՀՀ Կոտայքի մարզ | D21: =+D22+D23 -> -750000 | E21: =+E22+E23 -> 0 | F21: =+F22+F23 -> 0 | G21: =+G22+G23 -> 0 | H21: =+H22+H23 -> -750000
C22: ՀՀ ԱՆ Եղվարդի «Նաիրիի բժշկական կենտրոն» ՓԲԸ | D22: =+E22+F22+G22+H22 -> -550000 | H22: -550000
C23: ՀՀ Կոտայքի մարզի «Նոր Հաճնի պոլիկլինիկա» ՊՓԲԸ | D23: =+E23+F23+G23+H23 -> -200000 | H23: -200000
C24: ՀՀ Լոռու մարզ | D24: =+D25 -> -515000 | E24: =+E25 -> 0 | F24: =+F25 -> 0 | G24: =+G25 -> 0 | H24: =+H25 -> -515000
C25: ՀՀ ԱՆ «Տաշիրի բժշկական կենտրոն» ՓԲԸ | D25: =+E25+F25+G25+H25 -> -515000 | H25: =+'10'!G26 -> -515000
C26: ՀՀ Շիրակի մարզ | D26: =+D27 -> -300000 | E26: =+E27 -> 0 | F26: =+F27 -> 0 | G26: =+G27 -> 0 | H26: =+H27 -> -300000
C27: ՀՀ ԱՆ «Գյումրու բժշկական կենտրոն» ՓԲԸ ծննդատուն | D27: =+E27+F27+G27+H27 -> -300000 | H27: -300000
C28: ՀՀ Սյունիքի մարզ | D28: =+D29 -> 250000 | E28: =+E29 -> 0 | F28: =+F29 -> 0 | G28: =+G29 -> 0 | H28: =+H29 -> 250000
C29: ՀՀ ԱՆ «Սիսիանի բժշկական կենտրոն» ՓԲԸ | D29: =+E29+F29+G29+H29 -> 250000 | H29: 250000
A30: 1126 | B30: 31003 | C30: Առողջապահական կազմակերպությունների կառուցում, վերակառուցում | D30: =+D32+D45+D47+D54+D56+D58+D43+D40+D50+D52 -> -1443353.8 | E30: =+E32+E45+E47+E54+E56+E58+E43+E40+E50+E52 -> -751000 | F30: =+F32+F45+F47+F54+F56+F58+F43+F40+F50+F52 -> -778055.79 | G30: =+G32+G45+G47+G54+G56+G58+G43+G40+G50+G52 -> 85702 | H30: =+H32+H45+H47+H54+H56+H58+H43+H40+H50+H52 -> 0
C31: այդ թվում`
C32: Երևան քաղաք | D32: =SUM(D33:D39) -> -663661.79 | E32: =SUM(E33:E39) -> 0 | F32: =SUM(F33:F39) -> -723055.79 | G32: =SUM(G33:G39) -> 59394 | H32: =SUM(H33:H39) -> 0
C33: ՀՀ ԱՆ «Հոգեկան առողջության պահպանման ազգային կենտրոն» ՓԲԸ | D33: =+E33+F33+G33+H33 -> -353795.79 | E33: 0 | F33: =+'10'!G36 -> -355595.79 | G33: 1800 | H33: 0
C34: ՀՀ ԱՆ «Ինֆեկցիոն հիվանդությունների ազգային կենտրոն» ՓԲԸ | D34: =+E34+F34+G34+H34 -> -500000 | E34: 0 | F34: =+'10'!G37 -> -500000 | G34: 0 | H34: 0
C35: ՀՀ ԱՆ «Ակադեմիկոս Ս. Ավդալբեկյանի անվան առողջապահության ազգային ինստիտուտ» ՓԲԸ/ Ազգային գրադարան/ | D35: =+E35+F35+G35+H35 -> 10650 | E35: 0 | F35: 0 | G35: =+'10'!G38 -> 10650 | H35: 0
C36: ՀՀ ԱՆ «Դատաբժշկական գիտագործնական կենտրոն» ՊՈԱԿ | D36: =+E36+F36+G36+H36 -> 23040 | E36: 0 | F36: 0 | G36: =+'10'!G39 -> 23040 | H36: 0
C37: ՀՀ ԱՆ «Դեղերի և բժշկական պարագաների ապահովման ազգային կենտրոն» ՊՈԱԿ | D37: =+E37+F37+G37+H37 -> 23904 | E37: 0 | F37: 0 | G37: =+'10'!G40 -> 23904 | H37: 0
C38: ՀՀ ԱՆ «Հանրապետական շտապ օգնության ծառայություն» ՓԲԸ | D38: =+E38+F38+G38+H38 -> 68640 | E38: 0 | F38: =+'10'!G41 -> 68640 | G38: 0 | H38: 0
C39: Առողջության համընդհանուր ապահովագրության հիմնադրամ | D39: =+E39+F39+G39+H39 -> 63900 | E39: 0 | F39: =+'10'!G42 -> 63900 | G39: 0 | H39: 0
C40: ՀՀ Արագածոտնի մարզ | D40: =+D41+D42 -> -5000 | E40: =+E41+E42 -> -5000 | F40: =+F41+F42 -> 0 | G40: =+G41+G42 -> 0
...

Sheet 8
B1: Հավելված № 8
B2: ՀՀ կառավարության 2026 թվականի
B3: __________ «____» -ի
B4: N_____ -Ն որոշման
A6: «ՀԱՅԱՍՏԱՆԻ ՀԱՆՐԱՊԵՏՈՒԹՅԱՆ 2026 ԹՎԱԿԱՆԻ ՊԵՏԱԿԱՆ ԲՅՈՒՋԵԻ ՄԱՍԻՆ» ՀԱՅԱՍՏԱՆԻ ՀԱՆՐԱՊԵՏՈՒԹՅԱՆ ՕՐԵՆՔԻ № 1 ՀԱՎԵԼՎԱԾԻ № 5 ԱՂՅՈՒՍԱԿՈՒՄ ԿԱՏԱՐՎՈՂ ԿԱՏԱՐՎՈՂ ԼՐԱՑՈՒՄՆԵՐԸ
D7: (հազար դրամներով)
A8: Ծրագրային դասիչը | C8: Բյուջետային գլխավոր կարգադրիչների, ծրագրերի և միջոցառումների անվանումները | D8: Ընդամենը | E8: այդ թվում`
A9: Ծրագիր | B9: Միջոցառում | E9: Դրամաշնորհային միջոցներ | F9: Համաֆինանսավորում
C10: ԸՆԴԱՄԵՆԸ | D10: =+E10+F10 -> 92000 | E10: =+E11 -> 0 | F10: =+F11 -> 92000
C11: ՀՀ առողջապահության նախարարություն | D11: =+E11+F11 -> 92000 | E11: =+E12 -> 0 | F11: =+F12 -> 92000
A12: 1053 | C12: Առողջապահության համակարգի արդիականացման և արդյունավետության բարձրացման ծրագիր | D12: =+E12+F12 -> 92000 | E12: =+E14 -> 0 | F12: =+F14 -> 92000
A13: այդ թվում՛
B14: 32007 | C14: ՀՀ կայունացման և զարգացման Եվրասիական հիմնադրամի միջոցներից ֆինանսավորվող «ՀՀ-ում COVID-19 համավարակի պատրաստվածությանմակարդակի բարձրացում. կորոնավիրուսից առաջացող սպառնալիքի հայտնաբերում և արձագանքում» ծրագրի շրջանակներում շենքային պայմանների բարելավում | D14: =+E14+F14 -> 92000 | E14: 0 | F14: =+'11'!O26 -> 92000

Sheet 9
A1: Հավելված № 9
A2: ՀՀ կառավարության 2026 թվականի
A3: __________ «____» -ի
A4: N_____ -Ն որոշման
A5: ՀԱՅԱՍՏԱՆԻ ՀԱՆՐԱՊԵՏՈՒԹՅԱՆ ԿԱՌԱՎԱՐՈՒԹՅԱՆ 2025 ԹՎԱԿԱՆԻ ԴԵԿՏԵՄԲԵՐԻ 25-Ի № 1910-Ն ՈՐՈՇՄԱՆ №№ 3 և 4 ՀԱՎԵԼՎԱԾՆԵՐՈՒՄ ԿԱՏԱՐՎՈՂ ՓՈՓՈԽՈՒԹՅՈՒՆՆԵՐԸ
A6: (հազար դրամներով)
A7: Գործառական դասիչը | D7: Ծրագրային դասիչը | F7: Բյուջետային հատկացումների գլխավոր կարգադրիչների, ծրագրերի, միջոցառումների և միջոցառումները կատարող պետական մարմինների անվանումները | G7: Ցուցանիշների փոփոխությունները (ավելացումները նշված են դրական նշանով, իսկ նվազեցումները` փակագծերում)
A8: բաժին | B8: խումբ | C8: դաս | D8: Ծրագիր | E8: Միջոցառում | G8: Առաջին եռամսյակ | H8: Առաջին կիսամյակ | I8: Ինն ամիս | J8: Տարի
A9: ԸՆԴԱՄԵՆԸ | G9: =+G10+G83 -> -198420 | H9: =+H10+H83 -> -198420 | I9: =+I10+I83 -> -198419.96 | J9: =+J10+J83 -> -198419.96
A10: 07 | F10: ԱՌՈՂՋԱՊԱՀՈՒԹՅՈՒՆ | G10: =+G12 -> -198420 | H10: =+H12 -> -198420 | I10: =+I12 -> -198419.96 | J10: =+J12 -> -198419.96
F11: այդ թվում՝
B12: 06 | F12: Առողջապահություն (այլ դասերին չպատկանող) | G12: =+G14+G29 -> -198420 | H12: =+H14+H29 -> -198420 | I12: =+I14+I29 -> -198419.96 | J12: =+J14+J29 -> -198419.96
F13: այդ թվում՝
C14: 01 | F14: Առողջապահական հարակից ծառայություններ և ծրագրեր | G14: =+G16 -> 55000 | H14: =+H16 -> 92000 | I14: =+I16 -> 92000 | J14: =+J16 -> 92000
F15: այդ թվում`
D16: 1053 | F16: Առողջապահության համակարգի արդիականացման և արդյունավետության բարձրացման ծրագիր | G16: =+G20 -> 55000 | H16: =+H20 -> 92000 | I16: =+I20 -> 92000 | J16: =+J20 -> 92000
F17: այդ թվում՝
F18: ՀՀ առողջապահության նախարարություն | G18: =+G20 -> 55000 | H18: =+H20 -> 92000 | I18: =+I20 -> 92000 | J18: =+J20 -> 92000
F19: այդ թվում՝
E20: 32007 | F20: ՀՀ կայունացման և զարգացման Եվրասիական հիմնադրամի միջոցներից ֆինանսավորվող «ՀՀ-ում COVID-19 համավարակի պատրաստվածության մակարդակի բարձրացում. կորոնավիրուսից առաջացող սպառնալիքի հայտնաբերում և արձագանքում» ծրագրի շրջանակներում շենքային պայմանների բարելավում | G20: =+G22 -> 55000 | H20: =+H22 -> 92000 | I20: =+I22 -> 92000 | J20: =+J22 -> 92000
F21: այդ թվում ըստ կատարողների
F22: ՀՀ առողջապահության նախարարություն | G22: =+G24 -> 55000 | H22: =+H24 -> 92000 | I22: =+I24 -> 92000 | J22: =+J24 -> 92000
F23: այդ թվում` բյուջետային ծախսերի տնտեսագիտական դասակարգման հոդվածներ
F24: ԸՆԴԱՄԵՆԸ ԾԱԽՍԵՐ | G24: =+G25 -> 55000 | H24: =+H25 -> 92000 | I24: =+I25 -> 92000 | J24: =+J25 -> 92000
F25: ՈՉ ՖԻՆԱՆՍԱԿԱՆ ԱԿՏԻՎՆԵՐԻ ԳԾՈՎ ԾԱԽՍԵՐ | G25: =+G26 -> 55000 | H25: =+H26 -> 92000 | I25: =+I26 -> 92000 | J25: =+J26 -> 92000
F26: ՀԻՄՆԱԿԱՆ ՄԻՋՈՑՆԵՐ | G26: =+G27 -> 55000 | H26: =+H27 -> 92000 | I26: =+I27 -> 92000 | J26: =+J27 -> 92000
F27: ՇԵՆՔԵՐ ԵՎ ՇԻՆՈՒԹՅՈՒՆՆԵՐ | G27: =+G28 -> 55000 | H27: =+H28 -> 92000 | I27: =+I28 -> 92000 | J27: =+J28 -> 92000
F28: - Շենքերի և շինությունների շինարարություն | G28: =+'6'!G12 -> 55000 | H28: =+'6'!H12 -> 92000 | I28: =+'6'!I12 -> 92000 | J28: =+'6'!J12 -> 92000
C29: 02 | F29: Առողջապահություն (այլ դասերին չպատկանող) | G29: =+G31 -> -253420 | H29: =+H31 -> -290420 | I29: =+I31 -> -290419.96 | J29: =+J31 -> -290419.96
F30: այդ թվում՝
D31: 1126 | F31: Առողջապահության ոլորտում պետական քաղաքականության մշակում, ծրագրերի համակարգում և մոնիտորինգ | G31: =+G35+G44+G53+G62 -> -253420 | H31: =+H35+H44+H53+H62 -> -290420 | I31: =+I35+I44+I53+I62 -> -290419.96 | J31: =+J35+J44+J53+J62 -> -290419.96
F32: այդ թվում՝
F33: ՀՀ առողջապահության նախարարություն | G33: =+G31 -> -253420 | H33: =+H31 -> -290420 | I33: =+I31 -> -290419.96 | J33: =+J31 -> -290419.96
F34: այդ թվում`
E35: 11001 | F35: Առողջապահության ոլորտի պետական քաղաքականության մշակում, ծրագրերի համակարգում և մոնիտորինգ | G35: =+G37 -> 68784 | H35: =+H37 -> 68784 | I35: =+I37 -> 68784 | J35: =+J37 -> 68784
F36: այդ թվում ըստ կատարողների
F37: ՀՀ առողջապահության նախարարություն | G37: =+G39 -> 68784 | H37: =+H39 -> 68784 | I37: =+I39 -> 68784 | J37: =+J39 -> 68784
F38: այդ թվում` բյուջետային ծախսերի տնտեսագիտական դասակարգման հոդվածներ
F39: ԸՆԴԱՄԵՆԸ ԾԱԽՍԵՐ | G39: =+G40 -> 68784 | H39: =+H40 -> 68784 | I39: =+I40 -> 68784 | J39: =+J40 -> 68784
F40: ԸՆԹԱՑԻԿ ԾԱԽՍԵՐ | G40: =+G41 -> 68784 | H40: =+H41 -> 68784 | I40: =+I41 -> 68784 | J40: =+J41 -> 68784
...

Sheet 10
A1: Հավելված № 10
A2: ՀՀ կառավարության 2026 թվականի
A3: __________ «____» -ի
A4: N_____ -Ն որոշման
A5: ՀԱՅԱՍՏԱՆԻ ՀԱՆՐԱՊԵՏՈՒԹՅԱՆ ԿԱՌԱՎԱՐՈՒԹՅԱՆ 2025 ԹՎԱԿԱՆԻ ԴԵԿՏԵՄԲԵՐԻ 25-Ի № 1910-Ն ՈՐՈՇՄԱՆ № 5 ՀԱՎԵԼՎԱԾԻ № 2 ԱՂՅՈՒՍԱԿՈՒՄ ԿԱՏԱՐՎՈՂ ՓՈՓՈԽՈՒԹՅՈՒՆՆԵՐԸ ԵՎ ԼՐԱՑՈՒՄՆԵՐԸ
A6: (հազար դրամներով)
A7: Ծրագրային դասիչ | C7: Բյուջետային գլխավոր կարգադրիչների, ծրագրերի, միջոցառումների և ուղղությունների անվանումները | D7: Ցուցանիշների փոփոխությունները (ավելացումները նշված են դրական նշանով, իսկ նվազեցումները` փակագծերում)
A8: Ծրագիր | B8: Միջոցառում | D8: Առաջին եռամսյակ | E8: Առաջին կիսամյակ | F8: Ինն ամիս | G8: Տարի
C9: ՀՀ ԱՌՈՂՋԱՊԱՀՈՒԹՅԱՆ ՆԱԽԱՐԱՐՈՒԹՅՈՒՆ | D9: =+D11+D31 -> -435470.66 | E9: =+E11+E31 -> -707758 | F9: =+F11+F31 -> -772840.61 | G9: =+G11+G31 -> -772840.61
C10: այդ թվում՝
A11: 1126 | B11: 31002 | C11: Առողջապահական կազմակերպությունների վերազինում | D11: =+D13 -> -55000 | E11: =+E13 -> -440000 | F11: =+F13 -> 135917.39 | G11: =+G13 -> 670513.18
C12: այդ թվում` ըստ կատարողների
C13: ՀՀ առողջապահության նախարարություն | D13: =+D18+D20+D22+D25+D27+D15+D29 -> -55000 | E13: =+E18+E20+E22+E25+E27+E15+E29 -> -440000 | F13: =+F18+F20+F22+F25+F27+F15+F29 -> 135917.39 | G13: =+G18+G20+G22+G25+G27+G15+G29 -> 670513.18
C14: այդ թվում՝ ըստ ուղղությունների
C15: Երևան քաղաք | D15: =+D16+D17 -> 0 | E15: =+E16+E17 -> 0 | F15: =+F16+F17 -> 1040917.4 | G15: =+G16+G17 -> 2537013.2
C16: Առողջապահական կազմակերպությունների համար բժշկական գույքի և սարքավորումների ձեռքբերում | D16: 0 | E16: 0 | F16: 874337.38 | G16: 1711391.2
C17: ՀՀ ԱՆ «Ռադիոիզոտոպների արտադրության կենտրոն» ՓԲԸ | D17: 0 | E17: 0 | F17: 166580.01 | G17: 825622
C18: ՀՀ Արագածոտնի մարզ | D18: =+D19 -> 0 | E18: =+E19 -> 0 | F18: =+F19 -> 0 | G18: =+G19 -> -221500
C19: ՀՀ ԱՆ «Ծաղկահովիտի առողջության կենտրոն» ՓԲԸ | D19: 0 | E19: 0 | F19: 0 | G19: -221500
C20: ՀՀ Արարատի մարզ | D20: =SUM(D21:D21) -> -55000 | E20: =SUM(E21:E21) -> -165000 | F20: =SUM(F21:F21) -> -165000 | G20: =SUM(G21:G21) -> -330000
C21: ՀՀ ԱՆ «Վեդու բժշկական կենտրոն» ՓԲԸ | D21: -55000 | E21: -165000 | F21: -165000 | G21: -330000
C22: ՀՀ Կոտայքի մարզ | D22: =SUM(D23:D24) -> 0 | E22: =SUM(E23:E24) -> 0 | F22: =SUM(F23:F24) -> -275000 | G22: =SUM(G23:G24) -> -750000
C23: ՀՀ ԱՆ Եղվարդի «Նաիրիի բժշկական կենտրոն» ՓԲԸ | D23: 0 | E23: 0 | F23: -275000 | G23: -550000
C24: ՀՀ Կոտայքի մարզի «Նոր Հաճնի պոլիկլինիկա» ՊՓԲԸ | D24: 0 | E24: 0 | F24: 0 | G24: -200000
C25: ՀՀ Լոռու մարզ | D25: =SUM(D26) -> 0 | E25: =SUM(E26) -> -275000 | F25: =SUM(F26) -> -515000 | G25: =SUM(G26) -> -515000
C26: ՀՀ ԱՆ «Տաշիրի բժշկական կենտրոն» ՓԲԸ | D26: 0 | E26: -275000 | F26: -515000 | G26: -515000
C27: ՀՀ Շիրակի մարզ | D27: =SUM(D28) -> 0 | E27: =SUM(E28) -> 0 | F27: =SUM(F28) -> 0 | G27: =SUM(G28) -> -300000
C28: ՀՀ ԱՆ «Գյումրու բժշկական կենտրոն» ՓԲԸ ծննդատուն | D28: 0 | E28: 0 | F28: 0 | G28: -300000
C29: ՀՀ Սյունիքի մարզ | D29: =+D30 -> 0 | E29: =+E30 -> 0 | F29: =+F30 -> 50000 | G29: =+G30 -> 250000
C30: ՀՀ ԱՆ «Սիսիանի բժշկական կենտրոն» ՓԲԸ | D30: 0 | E30: 0 | F30: 50000 | G30: 250000
A31: 1126 | B31: 31003 | C31: Առողջապահական կազմակերպությունների կառուցում, վերակառուցում | D31: =+D33+D55 -> -380470.66 | E31: =+E33+E55 -> -267758 | F31: =+F33+F55 -> -908758 | G31: =+G33+G55 -> -1443353.8
C32: այդ թվում` ըստ կատարողների
C33: ՀՀ առողջապահության նախարարություն | D33: =+D35+D43+D45+D52+D50+D48 -> 53784 | E33: =+E35+E43+E45+E52+E50+E48 -> -84558 | F33: =+F35+F43+F45+F52+F50+F48 -> -670558 | G33: =+G35+G43+G45+G52+G50+G48 -> -1205153.8
C34: այդ թվում` ըստ ուղղությունների
C35: Երևան քաղաք | D35: =SUM(D36:D42) -> -38460 | E35: =SUM(E36:E42) -> -94866 | F35: =SUM(F36:F42) -> -380866 | G35: =SUM(G36:G42) -> -665461.79
C36: ՀՀ ԱՆ «Հոգեկան առողջության պահպանման ազգային կենտրոն» ՓԲԸ | D36: -171000 | E36: -171000 | F36: -271000 | G36: -355595.79
C37: ՀՀ ԱՆ «Ինֆեկցիոն հիվանդությունների ազգային կենտրոն» ՓԲԸ | D37: 0 | E37: -114000 | F37: -300000 | G37: -500000
C38: ՀՀ ԱՆ «Ակադեմիկոս Ս. Ավդալբեկյանի անվան առողջապահության ազգային ինստիտուտ» ՓԲԸ/ Ազգային գրադարան/ | D38: 0 | E38: 10650 | F38: 10650 | G38: 10650
C39: ՀՀ ԱՆ «Դատաբժշկական գիտագործնական կենտրոն» ՊՈԱԿ | D39: 0 | E39: 23040 | F39: 23040 | G39: 23040
C40: ՀՀ ԱՆ «Դեղերի և բժշկական պարագաների ապահովման ազգային կենտրոն» ՊՈԱԿ | D40: 0 | E40: 23904 | F40: 23904 | G40: 23904
...

Sheet 11
A1: Հավելված № 11
A2: ՀՀ կառավարության 2026 թվականի
A3: __________ «____» -ի
A4: N_____ -Ն որոշման
A5: ՀԱՅԱՍՏԱՆԻ ՀԱՆՐԱՊԵՏՈՒԹՅԱՆ ԿԱՌԱՎԱՐՈՒԹՅԱՆ 2025 ԹՎԱԿԱՆԻ ԴԵԿՏԵՄԲԵՐԻ 25-Ի № 1910-Ն ՈՐՈՇՄԱՆ № 5 ՀԱՎԵԼՎԱԾԻ № 4 ԱՂՅՈՒՍԱԿՈՒՄ ԿԱՏԱՐՎՈՂ ԼՐԱՑՈՒՄՆԵՐԸ
A6: հազար դրամներով
A7: Ծրագրային դասիչը | C7: Բյուջետային հատկացումների գլխավոր կարգադրիչների, ծրագրերի, միջոցառումների և միջոցառումները կատարող պետական մարմինների անվանումները | D7: Առաջին եռամսյակ | E7: այդ թվում` | G7: Կիսամյակ | J7: Ինն ամիս | M7: Տարի
D8: Ընդամենը | E8: այդ թվում` | G8: Ընդամենը | H8: այդ թվում` | J8: Ընդամենը | K8: այդ թվում` | M8: Ընդամենը | N8: այդ թվում`
A9: Ծրագիր | B9: Միջոցառում | E9: Դրամաշնորհային միջոցներ | F9: Համաֆինանսավորում | H9: Դրամաշնորհային միջոցներ | I9: Համաֆինանսավորում | K9: Դրամաշնորհային միջոցներ | L9: Համաֆինանսավորում | N9: Դրամաշնորհային միջոցներ | O9: Համաֆինանսավորում
C10: ԸՆԴԱՄԵՆԸ | D10: =+D12+D13 -> 55000 | E10: =+E12+E13 -> 0 | F10: =+F12+F13 -> 55000 | G10: =+G12+G13 -> 92000 | H10: =+H12+H13 -> 0 | I10: =+I12+I13 -> 92000 | J10: =+J12+J13 -> 92000 | K10: =+K12+K13 -> 0 | ... O10: =+O12+O13 -> 92000
C11: այդ թվում`
C12: ԸՆԹԱՑԻԿ ԾԱԽՍԵՐ
C13: ՈՉ ՖԻՆԱՆՍԱԿԱՆ ԱԿՏԻՎՆԵՐԻ ԳԾՈՎ ԾԱԽՍԵՐ | D13: =+D23 -> 55000 | E13: =+E23 -> 0 | F13: =+F23 -> 55000 | G13: =+G23 -> 92000 | H13: =+H23 -> 0 | I13: =+I23 -> 92000 | J13: =+J23 -> 92000 | K13: =+K23 -> 0 | ... O13: =+O23 -> 92000
C14: ՀՀ առողջապահության նախարարություն | D14: =+D16 -> 55000 | E14: =+E16 -> 0 | F14: =+F16 -> 55000 | G14: =+G16 -> 92000 | H14: =+H16 -> 0 | I14: =+I16 -> 92000 | J14: =+J16 -> 92000 | K14: =+K16 -> 0 | ... O14: =+O16 -> 92000
C15: այդ թվում`
A16: 1053 | C16: Առողջապահության համակարգի արդիականացման և արդյունավետության բարձրացման ծրագիր | D16: =+D18 -> 55000 | E16: =+E18 -> 0 | F16: =+F18 -> 55000 | G16: =+G18 -> 92000 | H16: =+H18 -> 0 | I16: =+I18 -> 92000 | J16: =+J18 -> 92000 | K16: =+K18 -> 0 | ... O16: =+O18 -> 92000
C17: այդ թվում`
B18: 32007 | C18: ՀՀ կայունացման և զարգացման Եվրասիական հիմնադրամի միջոցներից ֆինանսավորվող «ՀՀ-ում COVID-19 համավարակի պատրաստվածությանմակարդակի բարձրացում. կորոնավիրուսից առաջացող սպառնալիքի հայտնաբերում և արձագանքում» ծրագրի շրջանակներում շենքային պայմանների բարելավում | D18: =+E18+F18 -> 55000 | E18: =+E20 -> 0 | F18: =+F20 -> 55000 | G18: =+H18+I18 -> 92000 | H18: =+H20 -> 0 | I18: =+I20 -> 92000 | J18: =+K18+L18 -> 92000 | K18: =+K20 -> 0 | L18: =+L20 -> 92000 | M18: =+N18+O18 -> 92000 | N18: =+N20 -> 0 | O18: =+O20 -> 92000
C19: այդ թվում` ըստ կատարողների
C20: ՀՀ առողջապահության նախարարություն | D20: =+E20+F20 -> 55000 | E20: =+E22 -> 0 | F20: =+F22 -> 55000 | G20: =+H20+I20 -> 92000 | H20: =+H22 -> 0 | I20: =+I22 -> 92000 | J20: =+K20+L20 -> 92000 | K20: =+K22 -> 0 | L20: =+L22 -> 92000 | M20: =+N20+O20 -> 92000 | N20: =+N22 -> 0 | O20: =+O22 -> 92000
C21: այդ թվում` բյուջետային ծախսերի տնտեսագիտական դասակարգման հոդվածներ | G21: =+H21+I21 -> 0 | J21: =+K21+L21 -> 0 | M21: =+N21+O21 -> 0
C22: ԸՆԴԱՄԵՆԸ ԾԱԽՍԵՐ | D22: =+E22+F22 -> 55000 | E22: =+E23 -> 0 | F22: =+F23 -> 55000 | G22: =+H22+I22 -> 92000 | H22: =+H23 -> 0 | I22: =+I23 -> 92000 | J22: =+K22+L22 -> 92000 | K22: =+K23 -> 0 | L22: =+L23 -> 92000 | M22: =+N22+O22 -> 92000 | N22: =+N23 -> 0 | O22: =+O23 -> 92000
C23: ՈՉ ՖԻՆԱՆՍԱԿԱՆ ԱԿՏԻՎՆԵՐԻ ԳԾՈՎ ԾԱԽՍԵՐ | D23: =+E23+F23 -> 55000 | E23: =+E24 -> 0 | F23: =+F24 -> 55000 | G23: =+H23+I23 -> 92000 | H23: =+H24 -> 0 | I23: =+I24 -> 92000 | J23: =+K23+L23 -> 92000 | K23: =+K24 -> 0 | L23: =+L24 -> 92000 | M23: =+N23+O23 -> 92000 | N23: =+N24 -> 0 | O23: =+O24 -> 92000
C24: ՀԻՄՆԱԿԱՆ ՄԻՋՈՑՆԵՐ | D24: =+E24+F24 -> 55000 | E24: =+E25 -> 0 | F24: =+F25 -> 55000 | G24: =+H24+I24 -> 92000 | H24: =+H25 -> 0 | I24: =+I25 -> 92000 | J24: =+K24+L24 -> 92000 | K24: =+K25 -> 0 | L24: =+L25 -> 92000 | M24: =+N24+O24 -> 92000 | N24: =+N25 -> 0 | O24: =+O25 -> 92000
C25: ՇԵՆՔԵՐ ԵՎ ՇԻՆՈՒԹՅՈՒՆՆԵՐ | D25: =+E25+F25 -> 55000 | E25: =+E26 -> 0 | F25: =+F26 -> 55000 | G25: =+H25+I25 -> 92000 | H25: =+H26 -> 0 | I25: =+I26 -> 92000 | J25: =+K25+L25 -> 92000 | K25: =+K26 -> 0 | L25: =+L26 -> 92000 | M25: =+N25+O25 -> 92000 | N25: =+N26 -> 0 | O25: =+O26 -> 92000
C26: - Շենքերի և շինությունների շինարարություն | D26: =+E26+F26 -> 55000 | E26: 0 | F26: 55000 | G26: =+H26+I26 -> 92000 | H26: 0 | I26: 92000 | J26: =+K26+L26 -> 92000 | K26: 0 | L26: 92000 | M26: =+N26+O26 -> 92000 | N26: 0 | O26: 92000

Sheet 12
A1: Հավելված № 12
A2: ՀՀ կառավարության 2026 թվականի
A3: __________ «____» -ի
A4: N_____ -Ն որոշման
A5: ՀԱՅԱՍՏԱՆԻ ՀԱՆՐԱՊԵՏՈՒԹՅԱՆ ԿԱՌԱՎԱՐՈՒԹՅԱՆ 2025 ԹՎԱԿԱՆԻ ԴԵԿՏԵՄԲԵՐԻ 25-Ի № 1910-Ն ՈՐՈՇՄԱՆ № 5 ՀԱՎԵԼՎԱԾԻ № 7 ԱՂՅՈՒՍԱԿՈՒՄ ԿԱՏԱՐՎՈՂ ՓՈՓՈԽՈՒԹՅՈՒՆՆԵՐԸ ԵՎ ԼՐԱՑՈՒՄՆԵՐԸ
A6: (հազար դրամներով)
A7: Ծրագրային դասիչ | C7: Բյուջետային հատկացումների գլխավոր կարգադրիչների, ծրագրերի, միջոցառումների, ծախսային ուղղությունների անվանումները | D7: Միջոցառումները կատարող պետական մարմինների և դրամաշնորհ ստացող տնտեսվարող սուբյեկտների անվանումները | E7: Ցուցանիշների փոփոխությունները (ավելացումները նշված են դրական նշանով)
A8: Ծրագիր | B8: Միջոցառում | E8: Տարի
A9: 1 | B9: 2 | C9: 3 | D9: 4 | E9: 5
A10: ՀՀ առողջապահության նախարարություն | E10: =+E11 -> 413636.65
A11: 1126 | B11: Առողջապահության ոլորտում պետական քաղաքականության մշակում, ծրագրերի համակարգում և մոնիտորինգ | E11: =+E12 -> 413636.65
B12: 12006 | C12: Առողջապահական համակարգի պետական առևտրային և ոչ առևտրային կազմակերպություններին ֆինանսական աջակցության հատկացում | D12: ՀՀ առողջապահության նախարարություն | E12: =SUM(E13:E20) -> 413636.65
D13: ՀՀ ԱՆ «Կապանի բժշկական կենտրոն» ՓԲԸ | E13: 11055.8
D14: ՀՀ ԱՆ «Ինֆեկցիոն հիվանդությունների ազգային կենտրոն» ՓԲԸ | E14: 41186.45
D15: ՀՀ ԱՆ «Հանրապետական շտապ օգնության» ՓԲԸ | E15: 219944.4
D16: ՀՀ ԱՆ «Էջմիածնի բժշկական Կենտրոն» ՓԲԸ | E16: 25000
D17: ՀՀ ԱՆ «Ստեփանավանի բժշկական Կենտրոն» ՓԲԸ | E17: 25000
D18: ՀՀ ԱՆ «Հոգեկան առողջության պահպանման ազգային կենտրոն» ՓԲԸ | E18: 25000
D19: ՀՀ ԱՆ «Ռադիոիզոտոպների արտադրության կենտրոն» ՓԲԸ | E19: 24000
D20: ՀՀ ԱՆ «Սևանի հոգեկան առողջության» ՓԲԸ | E20: 42450

Sheet 13
B1: Հավելված № 13
B2: ՀՀ կառավարության 2025 թվականի
B3: __________ «____» -ի
B4: N_____ -Ն որոշման
B5: ՀԱՅԱՍՏԱՆԻ ՀԱՆՐԱՊԵՏՈՒԹՅԱՆ ԿԱՌԱՎԱՐՈՒԹՅԱՆ 2025 ԹՎԱԿԱՆԻ ԴԵԿՏԵՄԲԵՐԻ 25-Ի № 1910-Ն ՈՐՈՇՄԱՆ № 9 ՀԱՎԵԼՎԱԾՈՒՄ ԿԱՏԱՐՎՈՂ ՓՈՓՈԽՈՒԹՅՈՒՆՆԵՐԸ ԵՎ ԼՐԱՑՈՒՄՆԵՐԸ
A6: (հազար դրամներով)
A7: ԲԳԿ | B7: Ծրագիր | D7: Միջոցառում | H7: Իրականացնողը/ ակտիվն օգտագործողը/ շահառուի ընտրության չափորոշիչը | I7: Արդյունքային չափորոշիչը | J7: Ցուցանիշների փոփոխությունները (ավելացումները նշված են դրական նշանով, իսկ նվազեցումները` փակագծերում)
B8: Դասիչը | C8: Անվանումը | D8: Դասիչը | E8: Անվանումը | F8: Նկարագրությունը | G8: Տեսակը | J8: Առաջին եռամսյակ | K8: Առաջին կիսամյակ | L8: Ինն ամիս | M8: Տարի
A9: ԸՆԴԱՄԵՆԸ | J9: =+J10+J39 -> -198420 | K9: =+K10+K39 -> -198420 | L9: =+L10+L39 -> -198419.96 | M9: =+M10+M39 -> -198419.96
A10: ՀՀ առողջապահության նախարարություն | J10: =+J11+J17 -> -198420 | K10: =+K11+K17 -> -198420 | L10: =+L11+L17 -> -198419.96 | M10: =+M11+M17 -> -198419.96
B11: 1053 | C11: Առողջապահության համակարգի արդիականացման և արդյունավետության բարձրացման ծրագիր | J11: =+J12 -> 55000 | K11: =+K12 -> 92000 | L11: =+L12 -> 92000 | M11: =+M12 -> 92000
D12: 1053 - 32007 | E12: ՀՀ կայունացման և զարգացման Եվրասիական հիմնադրամի միջոցներից ֆինանսավորվող «ՀՀ-ում COVID-19 համավարակի պատրաստվածությանմակարդակի բարձրացում. կորոնավիրուսից առաջացող սպառնալիքի հայտնաբերում և արձագանքում» ծրագրի շրջանակներում շենքային պայմանների բարելավում | J12: =+'6'!G12 -> 55000 | K12: =+'6'!H12 -> 92000 | L12: =+'6'!I12 -> 92000 | M12: =+'6'!J12 -> 92000
F13: Հիվանդությունների վերահսկման և կանխարգելման ազգային կենտրոնի Արմավիրի մարզային մասնաճյուղի վերակառուցման աշխատանքներ
G14: Այլ պետական կազմակերպությունների կողմից օգտագործվող ոչ ֆինանսական ակտիվների հետ գործառնություններ
H15: Ակտիվն օգտագործող կազմակերպության անվանումը` Մասնագիտացված միավոր
I16: Հիվանդությունների վերահսկման և կանխարգելման ազգային կենտրոնի ՀՀ Արմավիրի մարզային մասնաճյուղի վերակառուցում /տոկոս | K16: 100 | M16: 100
B17: 1126 | C17: Առողջապահության ոլորտում պետական քաղաքականության մշակում, ծրագրերի համակարգում և մոնիտորինգ | J17: =+J18+J22+J27+J32 -> -253420 | K17: =+K18+K22+K27+K32 -> -290420 | L17: =+L18+L22+L27+L32 -> -290419.96 | M17: =+M18+M22+M27+M32 -> -290419.96
D18: 1126 - 11001 | E18: Առողջապահության ոլորտի պետական քաղաքականության մշակում, ծրագրերի համակարգում և մոնիտորինգ | J18: =+'6'!G14 -> 68784 | K18: =+'6'!H14 -> 68784 | L18: =+'6'!I14 -> 68784 | M18: =+'6'!J14 -> 68784
F19: Մարդու և հանրության առողջության պահպանում, բնակչության առողջության բարելավում, հիվանդությունների կանխարգելում, հաշմանդամության և մահացության ցուցանիշների նվազեցում
G20: Ծառայությունների մատուցում
H21: Ծառայությունը մատուցողի անվանումը` ՀՀ առողջապահության նախարարություն
D22: 1126-12006 | E22: Առողջապահական համակարգի պետական առևտրային և ոչ առևտրային կազմակերպություններին ֆինանսական աջակցության հատկացում | J22: =+'6'!G15 -> 113266.66 | K22: =+'6'!H15 -> 348554 | L22: =+'6'!I15 -> 413636.65 | M22: =+'6'!J15 -> 413636.65
F23: Առողջապահական համակարգի պետական առևտրային և ոչ առևտրային կազմակերպություններին ֆինանսական աջակցության տրամադրում ընթացիկ գործունեության արդյունավետության բարձրացմանն ուղղված
G24: Տրանսֆերտի տրամադրում
H25: Առողջապահական կազմակերպություններ
I26: Ֆինանսական աջակցություն ստացող բժշկական հաստատությունների թիվ, հատ | K26: 0 | M26: 8
D27: 1126 - 31002 | E27: Առողջապահական կազմակերպությունների վերազինում | J27: =+'6'!G16 -> -55000 | K27: =+'6'!H16 -> -440000 | L27: =+'6'!I16 -> 135917.39 | M27: =+'6'!J16 -> 670513.18
F28: Բնակչությանը որակյալ բժշկական օգնության և սպասարկման ծառայություններ մատուցելու նպատակով՛ առողջապահական կազմակերպությունների անհրաժեշտ սարքավորումներով վերազինում
G29: Պետական մարմինների կողմից օգտագործվող ոչ ֆինանսական ակտիվների հետ գործառնություններ
H30: Ակտիվն օգտագործող կազմակերպության անվանումը` Բժշկական կազմակերպություններ
I31: Վերազինվող բուժհաստատությունների քանակ | K31: -5 | M31: -5
D32: 1126 - 31003 | E32: Առողջապահական կազմակերպությունների կառուցում, վերակառուցում | J32: =+'6'!G17 -> -380470.66 | K32: =+'6'!H17 -> -267758 | L32: =+'6'!I17 -> -908758 | M32: =+'6'!J17 -> -1443353.8
F33: Բնակչությանը որակյալ բժշկական օգնության և սպասարկման ծառայություններ մատուցելու նպատակով առողջապահական կազմակերպությունների կառուցում, վերակառուցում
G34: Պետական մարմինների կողմից օգտագործվող ոչ ֆինանսական ակտիվների հետ գործառնություններ
H35: Ակտիվն օգտագործող կազմակերպության անվանումը` Բժշկական կազմակերպություններ
I36: Ընդամենը կառուցվող կազմակերպություններ, թիվ, որից` | K36: 2 | M36: 2
I37: Նոր կառուցվող կազմակերպությունների թիվ, հատ | K37: 2 | M37: 2
I38: Նախագծանախահաշվային փաստաթղթերի քանակ, հատ | K38: 0 | M38: 4
A39: ՀՀ կառավարություն | J39: =+J40 -> 0 | K39: =+K40 -> 0 | L39: =+L40 -> 0 | M39: =+M40 -> 0
B40: 1139 | C40: ՀՀ կառավարության պահուստային ֆոնդ | J40: =+J41+J45 -> 0 | K40: =+K41+K45 -> 0 | L40: =+L41+L45 -> 0 | M40: =+M41+M45 -> 0
...

Sheet 14
B1: Հավելված № 14
B2: ՀՀ կառավարության 2025 թվականի
B3: __________ «____» -ի
B4: N_____ -Ն որոշման
B5: ՀԱՅԱՍՏԱՆԻ ՀԱՆՐԱՊԵՏՈՒԹՅԱՆ ԿԱՌԱՎԱՐՈՒԹՅԱՆ 2025 ԹՎԱԿԱՆԻ ԴԵԿՏԵՄԲԵՐԻ 25-Ի № 1910-Ն ՈՐՈՇՄԱՆ № 9.1 ՀԱՎԵԼՎԱԾՈՒՄ ԿԱՏԱՐՎՈՂ ՓՈՓՈԽՈՒԹՅՈՒՆՆԵՐԸ ԵՎ ԼՐԱՑՈՒՄՆԵՐԸ
A6: (հազար դրամներով)
A7: ԲՍԿ | B7: Ծրագիր | D7: Միջոցառում | H7: Իրականացնողը/ ակտիվն օգտագործողը/ շահառուի ընտրության չափորոշիչը | I7: Արդյունքային չափորոշիչը | J7: Ցուցանիշների փոփոխությունները (ավելացումները նշված են դրական նշանով, իսկ նվազեցումները` փակագծերում)
B8: Դասիչը | C8: Անվանումը | D8: Դասիչը | E8: Անվանումը | F8: Նկարագրությունը | G8: Տեսակը | J8: Առաջին եռամսյակ | K8: Առաջին կիսամյակ | L8: Ինն ամիս | M8: Տարի
A9: ԸՆԴԱՄԵՆԸ | J9: =+J10+J39+J45 -> -198420 | K9: =+K10+K39+K45 -> -198420 | L9: =+L10+L39+L45 -> -198419.96 | M9: =+M10+M39+M45 -> -198419.96
A10: ՀՀ առողջապահության նախարարություն | J10: =+J11+J17 -> 235834.66 | K10: =+K11+K17 -> -15220 | L10: =+L11+L17 -> 39780.04 | M10: =+M11+M17 -> 39780.04
B11: 1053 | C11: Առողջապահության համակարգի արդիականացման և արդյունավետության բարձրացման ծրագիր | J11: =+J12 -> 55000 | K11: =+K12 -> 92000 | L11: =+L12 -> 92000 | M11: =+M12 -> 92000
D12: 1053 - 32007 | E12: ՀՀ կայունացման և զարգացման Եվրասիական հիմնադրամի միջոցներից ֆինանսավորվող «ՀՀ-ում COVID-19 համավարակի պատրաստվածությանմակարդակի բարձրացում. կորոնավիրուսից առաջացող սպառնալիքի հայտնաբերում և արձագանքում» ծրագրի շրջանակներում շենքային պայմանների բարելավում | J12: =+'13'!J12 -> 55000 | K12: =+'13'!K12 -> 92000 | L12: =+'13'!L12 -> 92000 | M12: =+'13'!M12 -> 92000
F13: Հիվանդությունների վերահսկման և կանխարգելման ազգային կենտրոնի Արմավիրի մարզային մասնաճյուղի վերակառուցման աշխատանքներ
G14: Այլ պետական կազմակերպությունների կողմից օգտագործվող ոչ ֆինանսական ակտիվների հետ գործառնություններ
H15: Ակտիվն օգտագործող կազմակերպության անվանումը` Մասնագիտացված միավոր
I16: Հիվանդությունների վերահսկման և կանխարգելման ազգային կենտրոնի ՀՀ Արմավիրի մարզային մասնաճյուղի վերակառուցում /տոկոս | K16: 100 | M16: 100
B17: 1126 | C17: Առողջապահության ոլորտում պետական քաղաքականության մշակում, ծրագրերի համակարգում և մոնիտորինգ | J17: =+J18+J22+J27+J32 -> 180834.66 | K17: =+K18+K22+K27+K32 -> -107220 | L17: =+L18+L22+L27+L32 -> -52219.96 | M17: =+M18+M22+M27+M32 -> -52219.96
D18: 1126 - 11001 | E18: Առողջապահության ոլորտի պետական քաղաքականության մշակում, ծրագրերի համակարգում և մոնիտորինգ | J18: =+'13'!J18 -> 68784 | K18: =+'13'!K18 -> 68784 | L18: =+'13'!L18 -> 68784 | M18: =+'13'!M18 -> 68784
F19: Մարդու և հանրության առողջության պահպանում, բնակչության առողջության բարելավում, հիվանդությունների կանխարգելում, հաշմանդամության և մահացության ցուցանիշների նվազեցում
G20: Ծառայությունների մատուցում
H21: Ծառայությունը մատուցողի անվանումը` ՀՀ առողջապահության նախարարություն
D22: 1126-12006 | E22: Առողջապահական համակարգի պետական առևտրային և ոչ առևտրային կազմակերպություններին ֆինանսական աջակցության հատկացում | J22: =+'13'!J22 -> 113266.66 | K22: =+'13'!K22 -> 348554 | L22: =+'13'!L22 -> 413636.65 | M22: =+'13'!M22 -> 413636.65
F23: Առողջապահական համակարգի պետական առևտրային և ոչ առևտրային կազմակերպություններին ֆինանսական աջակցության տրամադրում ընթացիկ գործունեության արդյունավետության բարձրացմանն ուղղված
G24: Տրանսֆերտի տրամադրում
H25: Առողջապահական կազմակերպություններ
I26: Ֆինանսական աջակցություն ստացող բժշկական հաստատությունների թիվ, հատ | K26: 0 | M26: 8
D27: 1126 - 31002 | E27: Առողջապահական կազմակերպությունների վերազինում | J27: =+'13'!J27 -> -55000 | K27: =+'13'!K27 -> -440000 | L27: =+'13'!L27 -> 135917.39 | M27: =+'13'!M27 -> 670513.18
F28: Բնակչությանը որակյալ բժշկական օգնության և սպասարկման ծառայություններ մատուցելու նպատակով՛ առողջապահական կազմակերպությունների անհրաժեշտ սարքավորումներով վերազինում
G29: Պետական մարմինների կողմից օգտագործվող ոչ ֆինանսական ակտիվների հետ գործառնություններ
H30: Ակտիվն օգտագործող կազմակերպության անվանումը` Բժշկական կազմակերպություններ
I31: Վերազինվող բուժհաստատությունների քանակ | K31: -5 | M31: -5
D32: 1126 - 31003 | E32: Առողջապահական կազմակերպությունների կառուցում, վերակառուցում | J32: =+'9'!G64 -> 53784 | K32: =+'9'!H64 -> -84558 | L32: =+'9'!I64 -> -670558 | M32: =+'9'!J64 -> -1205153.8
F33: Բնակչությանը որակյալ բժշկական օգնության և սպասարկման ծառայություններ մատուցելու նպատակով առողջապահական կազմակերպությունների կառուցում, վերակառուցում
G34: Պետական մարմինների կողմից օգտագործվող ոչ ֆինանսական ակտիվների հետ գործառնություններ
H35: Ակտիվն օգտագործող կազմակերպության անվանումը` Բժշկական կազմակերպություններ
I36: Ընդամենը կառուցվող կազմակերպություններ, թիվ, որից` | K36: 2 | M36: 2
I37: Նոր կառուցվող կազմակերպությունների թիվ, հատ | K37: 2 | M37: 2
I38: Նախագծանախահաշվային փաստաթղթերի քանակ, հատ | K38: 0 | M38: 4
A39: ՀՀ քաղաքաշինության կոմիտե | J39: =+J40 -> -434254.66 | K39: =+K40 -> -183200 | L39: =+L40 -> -238200 | M39: =+M40 -> -238200
B40: 1126 | C40: Առողջապահության ոլորտում պետական քաղաքականության մշակում, ծրագրերի համակարգում և մոնիտորինգ | J40: =+J41 -> -434254.66 | K40: =+K41 -> -183200 | L40: =+L41 -> -238200 | M40: =+M41 -> -238200
...

Sheet 15
A1: Հավելված № 15
A2: ՀՀ կառավարության 2026 թվականի
A3: __________ «____» -ի
A4: N_____ -Ն որոշման
A5: ՀԱՅԱՍՏԱՆԻ ՀԱՆՐԱՊԵՏՈՒԹՅԱՆ ԿԱՌԱՎԱՐՈՒԹՅԱՆ 2025 ԹՎԱԿԱՆԻ ԴԵԿՏԵՄԲԵՐԻ 25-Ի № 1910-Ն ՈՐՈՇՄԱՆ № 10 ՀԱՎԵԼՎԱԾՈՒՄ ԿԱՏԱՐՎՈՂ ՓՈՓՈԽՈՒԹՅՈՒՆՆԵՐԸ ԵՎ ԼՐԱՑՈՒՄՆԵՐԸ
A6: Կոդը | B6: Անվանումը | E6: Գնման ձևը | F6: Չափման միավորը | G6: Միավորի գինը | H6: Քանակը | I6: Ցուցանիշների փոփոխությունները (ավելացումները նշված են դրական նշանով, իսկ նվազեցումները` փակագծերում)
I7: (հազար դրամներով)
A8: ԸՆԴԱՄԵՆԸ | I8: =+I9+I78 -> -310200.81
A9: ՀՀ առողջապահության նախարարություն | I9: =+I10 -> -72000.805
A10: Բաժին 07 | B10: Խումբ 06 | C10: Դաս 02 | D10: Առողջապահություն (այլ դասերին չպատկանող) | I10: =+I11+I17+I50 -> -72000.805
A11: 1126 11001 | B11: Առողջապահության ոլորտի պետական քաղաքականության մշակում, ծրագրերի համակարգում և մոնիտորինգ | I11: =+I12 -> 68784
B12: ՄԱՍ III. ԾԱՌԱՅՈՒԹՅՈՒՆՆԵՐ | I12: =SUM(I13:I16) -> 68784
A13: 79211150-501 | B13: աուդիտորական ծառայություններ | E13: ԳՀ | F13: դրամ | G13: 13497648 | H13: 1 | I13: =+G13*H13/1000 -> 13497.648
A14: 79211150-502 | B14: աուդիտորական ծառայություններ | E14: ԳՀ | F14: դրամ | G14: 22915874 | H14: 1 | I14: =+G14*H14/1000 -> 22915.874
A15: 79211150-503 | B15: աուդիտորական ծառայություններ | E15: ԳՀ | F15: դրամ | G15: 15130420 | H15: 1 | I15: =+G15*H15/1000 -> 15130.42
A16: 79211150-504 | B16: աուդիտորական ծառայություններ | E16: ԳՀ | F16: դրամ | G16: 17240058 | H16: 1 | I16: =+G16*H16/1000 -> 17240.058
A17: 1126 31002 | B17: Առողջապահական կազմակերպությունների վերազինում | I17: =+I18 -> 670513.19
B18: ՄԱՍ I. Ա Պ Ր Ա Ն Ք Ն Ե Ր | I18: =SUM(I19:I49) -> 670513.19
A19: 33111250 | B19: մամոգրաֆիայի սարքեր | E19: ԵՄ | F19: հատ | G19: 81200000 | H19: 1 | I19: =G19*H19/1000 -> 81200
A20: 33111250 | B20: մամոգրաֆիայի սարքեր | E20: ԵՄ | F20: հատ | G20: 62090000 | H20: 9 | I20: =G20*H20/1000 -> 558810
A21: 33161190 | B21: էնդոսկոպիայի, էնդովիրահատական սարքեր | E21: ԵՄ | F21: հատ | G21: 16695000 | H21: 10 | I21: =G21*H21/1000 -> 166950
A22: 33161150 | B22: կոլպոսկոպ | E22: ԵՄ | F22: հատ | G22: 4459000 | H22: 10 | I22: =G22*H22/1000 -> 44590
A23: 33121140 | B23: լսողության չափման սարքեր | E23: ԵՄ | F23: հատ | G23: 1729000 | H23: 11 | I23: =G23*H23/1000 -> 19019
A24: 33111460 | B24: տոմոգրաֆիկ սարքեր | E24: ՀԲՄ | F24: հատ | G24: 531790000 | H24: 1 | I24: =G24*H24/1000 -> 531790
A25: 38431160 | B25: քրոմատոգրաֆներ | E25: ԷԱՃ | F25: հատ | G25: 47040000 | H25: 1 | I25: =G25*H25/1000 -> 47040
A26: 35121340 | B26: հատուկ մասնագիտական սարքեր և նյութեր | E26: ԷԱՃ | F26: հատ | G26: 226800000 | H26: 1 | I26: =G26*H26/1000 -> 226800
A27: 38521400-501 | B27: դոզիմետրեր | E27: ԷԱՃ | F27: հատ | G27: 19992000 | H27: 1 | I27: =G27*H27/1000 -> 19992
A28: 33181110 | B28: հեմոդիալիզի սարքեր | E28: ԷԱՃ | F28: հատ | G28: 4725000 | H28: 16 | I28: =G28*H28/1000 -> 75600
A29: 33181110 | B29: հեմոդիալիզի սարքեր | E29: ԷԱՃ | F29: հատ | G29: 11025000 | H29: 8 | I29: =G29*H29/1000 -> 88200
A30: 33181110 | B30: հեմոդիալիզի սարքեր | E30: ԷԱՃ | F30: հատ | G30: 13440000 | H30: 3 | I30: =G30*H30/1000 -> 40320
A31: 33181110 | B31: հեմոդիալիզի սարքեր | E31: ԷԱՃ | F31: հատ | G31: 17780000 | H31: 3 | I31: =G31*H31/1000 -> 53340
A32: 33181110 | B32: հեմոդիալիզի սարքեր | E32: ԷԱՃ | F32: հատ | G32: 21365190 | H32: 1 | I32: =G32*H32/1000 -> 21365.19
A33: 33121140 | B33: լսողության չափման սարքեր | E33: ԷԱՃ | F33: հատ | G33: 1974000 | H33: 3 | I33: =G33*H33/1000 -> 5922
A34: 33161190-505 | B34: էնդոսկոպիայի, էնդովիրահատական սարքեր | E34: ԳՀ | F34: հատ | G34: 39480000 | H34: 1 | I34: =G34*H34/1000 -> 39480
A35: 33171700-501 | B35: անզգայացման սարքեր | E35: ԷԱՃ | F35: հատ | G35: 3281250 | H35: 4 | I35: =G35*H35/1000 -> 13125
A36: 33161190-503 | B36: էնդոսկոպիայի, էնդովիրահատական սարքեր | E36: ԷԱՃ | F36: հատ | G36: 54866000 | H36: 5 | I36: =G36*H36/1000 -> 274330
A37: 33161190-504 | B37: էնդոսկոպիայի, էնդովիրահատական սարքեր | E37: ԷԱՃ | F37: հատ | G37: 29400000 | H37: 3 | I37: =G37*H37/1000 -> 88200
A38: 33931300-502 | B38: դիահերձման սեղաններ | E38: ԳՀ | F38: հատ | G38: 3195882.4 | H38: 17 | I38: =G38*H38/1000 -> 54330
A39: 33941400-503 | B39: դիարանի սառնարաններ կամ սառցարաններ | E39: ԳՀ | F39: հատ | G39: 2587500 | H39: 16 | I39: =G39*H39/1000 -> 41400
A40: 33941400-502 | B40: դիարանի սառնարաններ կամ սառցարաններ | E40: ԳՀ | F40: հատ | G40: 2887500 | H40: 4 | I40: =G40*H40/1000 -> 11550
...

Sheet 16
A1: Հավելված № 16
A2: ՀՀ կառավարության 2026 թվականի
A3: __________ «____» -ի
A4: N_____ -Ն որոշման
A5: ՀԱՅԱՍՏԱՆԻ ՀԱՆՐԱՊԵՏՈՒԹՅԱՆ 2026 ԹՎԱԿԱՆԻ ՊԵՏԱԿԱՆ ԲՅՈՒՋԵՈՎ ՆԱԽԱՏԵՍՎԱԾ՝ ՀԱՅԱՍՏԱՆԻ ՀԱՆՐԱՊԵՏՈՒԹՅԱՆ ԿԱՌԱՎԱՐՈՒԹՅԱՆ ՊԱՀՈՒՍՏԱՅԻՆ ՖՈՆԴԻՑ ՀԱՏԿԱՑՈՒՄՆԵՐ ԿԱՏԱՐԵԼՈՒ ՎԵՐԱԲԵՐՅԱԼ
A6: (հազար դրամներով)
A7: Գործառական դասիչը | D7: Ծրագրային դասիչը | F7: Բյուջետային հատկացումների գլխավոր կարգադրիչների, ծրագրերի, միջոցառումների և միջոցառումները կատարող պետական մարմինների անվանումները | G7: Ցուցանիշների փոփոխությունները (ավելացումները նշված են դրական նշանով, իսկ նվազեցումները` փակագծերում)
A8: բաժին | B8: խումբ | C8: դաս | D8: Ծրագիր | E8: Միջոցառում | G8: Առաջին եռամսյակ | H8: Առաջին կիսամյակ | I8: Ինն ամիս | J8: Տարի
A9: ԸՆԴԱՄԵՆԸ | G9: =+G10+G44 -> 0 | H9: =+H10+H44 -> 0 | I9: =+I10+I44 -> 0 | J9: =+J10+J44 -> 0
A10: 07 | F10: ԱՌՈՂՋԱՊԱՀՈՒԹՅՈՒՆ | G10: =+G12 -> 168266.66 | H10: =+H12 -> 440554 | I10: =+I12 -> 505636.65 | J10: =+J12 -> 505636.65
F11: այդ թվում՝
B12: 06 | F12: Առողջապահություն (այլ դասերին չպատկանող) | G12: =+G14+G29 -> 168266.66 | H12: =+H14+H29 -> 440554 | I12: =+I14+I29 -> 505636.65 | J12: =+J14+J29 -> 505636.65
F13: այդ թվում՝
C14: 01 | F14: Առողջապահական հարակից ծառայություններ և ծրագրեր | G14: =+G16 -> 55000 | H14: =+H16 -> 92000 | I14: =+I16 -> 92000 | J14: =+J16 -> 92000
F15: այդ թվում`
D16: 1053 | F16: Առողջապահության համակարգի արդիականացման և արդյունավետության բարձրացման ծրագիր | G16: =+G20 -> 55000 | H16: =+H20 -> 92000 | I16: =+I20 -> 92000 | J16: =+J20 -> 92000
F17: այդ թվում՝
F18: ՀՀ առողջապահության նախարարություն | G18: =+G20 -> 55000 | H18: =+H20 -> 92000 | I18: =+I20 -> 92000 | J18: =+J20 -> 92000
F19: այդ թվում՝
E20: 32007 | F20: ՀՀ կայունացման և զարգացման Եվրասիական հիմնադրամի միջոցներից ֆինանսավորվող «ՀՀ-ում COVID-19 համավարակի պատրաստվածությանմակարդակի բարձրացում. կորոնավիրուսից առաջացող սպառնալիքի հայտնաբերում և արձագանքում» ծրագրի շրջանակներում շենքային պայմանների բարելավում | G20: =+G22 -> 55000 | H20: =+H22 -> 92000 | I20: =+I22 -> 92000 | J20: =+J22 -> 92000
F21: այդ թվում ըստ կատարողների
F22: ՀՀ առողջապահության նախարարություն | G22: =+G24 -> 55000 | H22: =+H24 -> 92000 | I22: =+I24 -> 92000 | J22: =+J24 -> 92000
F23: այդ թվում` բյուջետային ծախսերի տնտեսագիտական դասակարգման հոդվածներ
F24: ԸՆԴԱՄԵՆԸ ԾԱԽՍԵՐ | G24: =+G25 -> 55000 | H24: =+H25 -> 92000 | I24: =+I25 -> 92000 | J24: =+J25 -> 92000
F25: ՈՉ ՖԻՆԱՆՍԱԿԱՆ ԱԿՏԻՎՆԵՐԻ ԳԾՈՎ ԾԱԽՍԵՐ | G25: =+G26 -> 55000 | H25: =+H26 -> 92000 | I25: =+I26 -> 92000 | J25: =+J26 -> 92000
F26: ՀԻՄՆԱԿԱՆ ՄԻՋՈՑՆԵՐ | G26: =+G27 -> 55000 | H26: =+H27 -> 92000 | I26: =+I27 -> 92000 | J26: =+J27 -> 92000
F27: ՇԵՆՔԵՐ ԵՎ ՇԻՆՈՒԹՅՈՒՆՆԵՐ | G27: =+G28 -> 55000 | H27: =+H28 -> 92000 | I27: =+I28 -> 92000 | J27: =+J28 -> 92000
F28: - Շենքերի և շինությունների շինարարություն | G28: =+'9'!G28 -> 55000 | H28: =+'9'!H28 -> 92000 | I28: =+'9'!I28 -> 92000 | J28: =+'9'!J28 -> 92000
C29: 02 | F29: Առողջապահություն (այլ դասերին չպատկանող) | G29: =+G31 -> 113266.66 | H29: =+H31 -> 348554 | I29: =+I31 -> 413636.65 | J29: =+J31 -> 413636.65
F30: այդ թվում՝
D31: 1126 | F31: Առողջապահության ոլորտում պետական քաղաքականության մշակում, ծրագրերի համակարգում և մոնիտորինգ | G31: =+G35 -> 113266.66 | H31: =+H35 -> 348554 | I31: =+I35 -> 413636.65 | J31: =+J35 -> 413636.65
F32: այդ թվում՝
F33: ՀՀ առողջապահության նախարարություն | G33: =+G35 -> 113266.66 | H33: =+H35 -> 348554 | I33: =+I35 -> 413636.65 | J33: =+J35 -> 413636.65
F34: այդ թվում`
E35: 12006 | F35: Առողջապահական համակարգի պետական առևտրային և ոչ առևտրային կազմակերպություններին ֆինանսական աջակցության հատկացում | G35: =+G37 -> 113266.66 | H35: =+H37 -> 348554 | I35: =+I37 -> 413636.65 | J35: =+J37 -> 413636.65
F36: այդ թվում ըստ կատարողների
F37: ՀՀ առողջապահության նախարարություն | G37: =+G39 -> 113266.66 | H37: =+H39 -> 348554 | I37: =+I39 -> 413636.65 | J37: =+J39 -> 413636.65
F38: այդ թվում` բյուջետային ծախսերի տնտեսագիտական դասակարգման հոդվածներ
F39: ԸՆԴԱՄԵՆԸ ԾԱԽՍԵՐ | G39: =+G40 -> 113266.66 | H39: =+H40 -> 348554 | I39: =+I40 -> 413636.65 | J39: =+J40 -> 413636.65
F40: ԸՆԹԱՑԻԿ ԾԱԽՍԵՐ | G40: =+G41 -> 113266.66 | H40: =+H41 -> 348554 | I40: =+I41 -> 413636.65 | J40: =+J41 -> 413636.65
...
