Workbook
Name _tab10: #REF!
Name _tab10: #REF!
Name _tab10: #REF!
Name _tab10: #REF!
Name _tab10: #REF!
Name _tab10: #REF!
Name _tab11: #REF!
Name _tab11: #REF!
Name _tab11: #REF!
Name _tab11: #REF!
Name _tab12: #REF!
Name _tab12: #REF!
Name _tab12: #REF!
Name _tab12: #REF!
Name _tab13: #REF!
Name _tab13: #REF!
Name _tab13: #REF!
Name _tab13: #REF!
Name _tab14: #REF!
Name _tab14: #REF!
Name _tab14: #REF!
Name _tab14: #REF!
Name _tab15: #REF!
Name _tab15: #REF!
Name _tab15: #REF!
Name _tab15: #REF!
Name _tab16: #REF!
Name _tab16: #REF!
Name _tab16: #REF!
Name _tab16: #REF!
Name _tab17: #REF!
Name _tab17: #REF!
Name _tab17: #REF!
Name _tab17: #REF!
Name _tab18: #REF!
Name _tab18: #REF!
Name _tab18: #REF!
Name _tab18: #REF!
Name _tab19: #REF!
Name _tab19: #REF!
Name _tab19: #REF!
Name _tab19: #REF!
Name _tab20: #REF!
Name _tab20: #REF!
Name _tab20: #REF!
Name _tab20: #REF!
Name _tab21: #REF!
Name _tab21: #REF!
Name _tab21: #REF!
Name _tab21: #REF!
Name _tab22: #REF!
Name _tab22: #REF!
Name _tab22: #REF!
Name _tab22: #REF!
Name _tab22222: #REF!
Name _tab22222: #REF!
Name _tab22222: #REF!
Name _tab22222: #REF!
Name _tab23: #REF!
Name _tab23: #REF!

Sheet 1
A1: Հավելված № 1
A2: ՀՀ կառավարության 2026 թվականի
A3: __________ «____» -ի
A4: N_____ -Ն որոշման
A5: «ՀԱՅԱՍՏԱՆԻ ՀԱՆՐԱՊԵՏՈՒԹՅԱՆ 2026 ԹՎԱԿԱՆԻ ՊԵՏԱԿԱՆ ԲՅՈՒՋԵԻ ՄԱՍԻՆ» ՕՐԵՆՔԻ N 2 ՀՈԴՎԱԾԻ ԱՂՅՈՒՍԱԿՈՒՄ ԿԱՏԱՐՎՈՂ ՓՈՓՈԽՈՒԹՅՈՒՆՆԵՐԸ
B6: (հազար դրամներով)
B7: Ցուցանիշների փոփոխությունը (նվազեցումները նշված են փակագծերում)
A8: 1. Եկամուտների գծով | B8: 0
A9: 2. Ծախսերի գծով | B9: =+B10 -> -198420
A10: 3. Դեֆիցիտը (պակասուրդը) | B10: =+-('3'!J12+'3'!J13) -> -198420

Sheet 2
A1: Հավելված № 2
A2: ՀՀ կառավարության 2026 թվականի
A3: __________ «____» -ի
A4: N_____ -Ն որոշման
A5: «ՀԱՅԱՍՏԱՆԻ ՀԱՆՐԱՊԵՏՈՒԹՅԱՆ 2026 ԹՎԱԿԱՆԻ ՊԵՏԱԿԱՆ ԲՅՈՒՋԵԻ ՄԱՍԻՆ» ՀԱՅԱՍՏԱՆԻ ՀԱՆՐԱՊԵՏՈՒԹՅԱՆ ՕՐԵՆՔԻ 3-ՐԴ ՀՈԴՎԱԾԻ ԱՂՅՈՒՍԱԿՈՒՄ, N 3 ՀԱՎԵԼՎԱԾԻ N 1 ԱՂՅՈՒՍԱԿՈՒՄ ԵՎ ՀԱՅԱՍՏԱՆԻ ՀԱՆՐԱՊԵՏՈՒԹՅԱՆ ԿԱՌԱՎԱՐՈՒԹՅԱՆ 2025 ԹՎԱԿԱՆԻ ԴԵԿՏԵՄԲԵՐԻ 25-Ի N 1910-Ն ՈՐՈՇՄԱՆ N 1 ՀԱՎԵԼՎԱԾԻ N 1 ԱՂՅՈՒՍԱԿՈՒՄ ԿԱՏԱՐՎՈՂ ՓՈՓՈԽՈՒԹՅՈՒՆՆԵՐԸ ԵՎ ԼՐԱՑՈՒՄՆԵՐԸ
A6: (հազար դրամներով)
A7: Պետական բյուջեի դեֆիցիտի (պակասուրդի) ֆինանսավորման աղբյուրներն ու դրանց տարրերի անվանումները | B7: Ցուցանիշների փոփոխությունները (ավելացումները նշված են դրական նշանով)
B8: Առաջին եռամսյակ | C8: Առաջին կիսամյակ | D8: Ինն ամիս | E8: Տարի
A9: ԸՆԴԱՄԵՆԸ | B9: =B11 -> -198420 | C9: =C11 -> -198420 | D9: =D11 -> -198420 | E9: =E11 -> -198420
A10: այդ թվում`
A11: Ա.Ներքին աղբյուրներ-ընդամենը | B11: =B13 -> -198420 | C11: =C13 -> -198420 | D11: =D13 -> -198420 | E11: =E13 -> -198420
A12: այդ թվում`
A13: 2.Ֆինանսական զուտ ակտիվներ | B13: =B16 -> -198420 | C13: =C16 -> -198420 | D13: =D16 -> -198420 | E13: =E16 -> -198420
A14: այդ թվում`
A15: 2.2 Բաժնետոմսերի և կապիտալում այլ մասնակցության ձեռքբերում | B15: =B16 -> -198420 | C15: =C16 -> -198420 | D15: =D16 -> -198420 | E15: =E16 -> -198420
A16: ՀՀ առողջապահության նախարարություն | B16: =+B18+B19 -> -198420 | C16: =+C18+C19 -> -198420 | D16: =+D18+D19 -> -198420 | E16: =+E18+E19 -> -198420
A17: որից`
A18: «Ավան» հոգեկան առողջության կենտրոն» ՓԲԸ | B18: =+-'3'!G12 -> -101000 | C18: =+-'3'!H12 -> -101000 | D18: =+-'3'!I12 -> -101000 | E18: =+-'3'!J12 -> -101000
A19: «Զարիշատ (Արամ) Մարտինի Մկրտչյանի անվան Արմավիրի բժշկական կենտրոն» ՓԲԸ | B19: =+-'3'!G13 -> -97420 | C19: =+-'3'!H13 -> -97420 | D19: =+-'3'!I13 -> -97420 | E19: =+-'3'!J13 -> -97420

Sheet 3
A1: Հավելված № 3
A2: ՀՀ կառավարության 2026 թվականի
A3: __________ «____» -ի
A4: N_____ -Ն որոշման
A5: «ՀԱՅԱՍՏԱՆԻ ՀԱՆՐԱՊԵՏՈՒԹՅԱՆ 2026 ԹՎԱԿԱՆԻ ՊԵՏԱԿԱՆ ԲՅՈՒՋԵԻ ՄԱՍԻՆ» ՀԱՅԱՍՏԱՆԻ ՀԱՆՐԱՊԵՏՈՒԹՅԱՆ ՕՐԵՆՔԻ N 3 ՀԱՎԵԼՎԱԾԻ N 1.1 ԱՂՅՈՒՍԱԿՈՒՄ ԵՎ ՀԱՅԱՍՏԱՆԻ ՀԱՆՐԱՊԵՏՈՒԹՅԱՆ ԿԱՌԱՎԱՐՈՒԹՅԱՆ 2025 ԹՎԱԿԱՆԻ ԴԵԿՏԵՄԲԵՐԻ 25-Ի N 1910-Ն ՈՐՈՇՄԱՆ N 1 ՀԱՎԵԼՎԱԾԻ N 2 ԱՂՅՈՒՍԱԿՈՒՄ ԿԱՏԱՐՎՈՂ ՓՈՓՈԽՈՒԹՅՈՒՆՆԵՐԸ ԵՎ ԼՐԱՑՈՒՄՆԵՐԸ
A6: (հազար դրամներով)
A7: ԲԳԿ | B7: Ծրագրային դասիչը | D7: ԲԳԿ/Ծրագրի /միջոցառման անվանումը | E7: Ծրագրի նպատակը/Միջոցառման նկարագրությունը | F7: Վերջնական արդյունքի նկարագրությունը/Միջոցառման տեսակը | G7: Ցուցանիշների փոփոխությունները (ավելացումները նշված են դրական նշանով)
B8: Ծրագիր | C8: Միջոցառում | G8: Առաջին եռամսյակ | H8: Առաջին կիսամյակ | I8: Ինն ամիս | J8: Տարի
A9: ԸՆԴԱՄԵՆԸ | G9: =+G11 -> 198420 | H9: =+H11 -> 198420 | I9: =+I11 -> 198420 | J9: =+J11 -> 198420
A10: ՀՀ առողջապահության նախարարություն
B11: 1126 | D11: Առողջապահության ոլորտում պետական քաղաքականության մշակում, ծրագրերի համակարգում և մոնիտորինգ | E11: Մարդու և հանրության առողջության պահպանում, բնակչության առողջության բարելավում, հիվանդությունների կանխարգելում, հաշմանդամության և մահացության ցուցանիշների նվազեցում | F11: Առողջապահության ոլորտում իրականացվող ծրագրերի ազդեցության և արդյունավետության բարելավում | G11: =+G12+G13 -> 198420 | H11: =+H12+H13 -> 198420 | I11: =+I12+I13 -> 198420 | J11: =+J12+J13 -> 198420
C12: 1126-44001 | D12: «Ավան» հոգեկան առողջության կենտրոն» ՓԲԸ-ում տնտեսական երկարաժամկետ զարգացմանն ուղղված միջոցառում | E12: Ներդրումների խթանում | F12: Բաժնետոմսերի ձեռքբերում | G12: 101000 | H12: 101000 | I12: 101000 | J12: 101000
C13: 1126-44002 | D13: «Զարիշատ (Արամ) Մարտինի Մկրտչյանի անվան Արմավիրի բժշկական կենտրոն» ՓԲԸ-ում տնտեսական երկարաժամկետ զարգացմանն ուղղված միջոցառում | E13: Ներդրումների խթանում | F13: Բաժնետոմսերի ձեռքբերում | G13: 97420 | H13: 97420 | I13: 97420 | J13: 97420

Sheet 4
A1: Հավելված № 4
A2: ՀՀ կառավարության 2026 թվականի
A3: __________ «____» -ի
A4: N_____ -Ն որոշման
A5: ՀԱՅԱՍՏԱՆԻ ՀԱՆՐԱՊԵՏՈՒԹՅԱՆ ԿԱՌԱՎԱՐՈՒԹՅԱՆ 2025 ԹՎԱԿԱՆԻ ԴԵԿՏԵՄԲԵՐԻ 25-Ի № 1910-Ն ՈՐՈՇՄԱՆ № 1 ՀԱՎԵԼՎԱԾԻ № 5 ԱՂՅՈՒՍԱԿՈՒՄ ԿԱՏԱՐՎՈՂ ՓՈՓՈԽՈՒԹՅՈՒՆՆԵՐԸ ԵՎ ԼՐԱՑՈՒՄՆԵՐԸ
A6: (հազար դրամներով)
A7: ԲԳԿ | B7: Ծրագիր | D7: Միջոցառում | H7: Իրականացնողը/ ակտիվն օգտագործողը/ շահառուի ընտրության չափորոշիչը | I7: Արդյունքային չափորոշիչը | J7: Ցուցանիշների փոփոխությունները (ավելացումները նշված են դրական նշանով)
B8: Դասիչը | C8: Անվանումը | D8: Դասիչը | E8: Անվանումը | F8: Նկարագրությունը | G8: Տեսակը | J8: Առաջին եռամսյակ | K8: Առաջին կիսամյակ | L8: Ինն ամիս | M8: Տարի
A9: ԸՆԴԱՄԵՆԸ | J9: =+J10 -> 198420 | K9: =+K10 -> 198420 | L9: =+L10 -> 198420 | M9: =+M10 -> 198420
A10: ՀՀ առողջապահության նախարարություն | J10: =+J11 -> 198420 | K10: =+K11 -> 198420 | L10: =+L11 -> 198420 | M10: =+M11 -> 198420
B11: 1126 | C11: Առողջապահության ոլորտում պետական քաղաքականության մշակում, ծրագրերի համակարգում և մոնիտորինգ | J11: =+J12+J17 -> 198420 | K11: =+K12+K17 -> 198420 | L11: =+L12+L17 -> 198420 | M11: =+M12+M17 -> 198420
D12: 1126-44001 | E12: «Ավան» հոգեկան առողջության կենտրոն» ՓԲԸ-ում տնտեսական երկարաժամկետ զարգացմանն ուղղված միջոցառում | J12: =+'3'!G12 -> 101000 | K12: =+'3'!H12 -> 101000 | L12: =+'3'!I12 -> 101000 | M12: =+'3'!J12 -> 101000
F13: Ներդրումների խթանում
G14: Բաժնետոմսերի ձեռքբերում
H15: «Ավան» հոգեկան առողջության կենտրոն» ՓԲԸ
I16: Ներդրումային ֆոնդի ներդրումների քանակը (հատ) | M16: 1
D17: 1126-44002 | E17: «Զարիշատ (Արամ) Մարտինի Մկրտչյանի անվան Արմավիրի բժշկական կենտրոն» ՓԲԸ-ում տնտեսական երկարաժամկետ զարգացմանն ուղղված միջոցառում | J17: =+'3'!G13 -> 97420 | K17: =+'3'!H13 -> 97420 | L17: =+'3'!I13 -> 97420 | M17: =+'3'!J13 -> 97420
F18: Ներդրումների խթանում
G19: Բաժնետոմսերի ձեռքբերում
H20: «Զարիշատ (Արամ) Մարտինի Մկրտչյանի անվան Արմավիրի բժշկական կենտրոն» ՓԲԸ
I21: Ներդրումային ֆոնդի ներդրումների քանակը (հատ) | M21: 1

Sheet 5
B1: Հավելված № 5
B2: ՀՀ կառավարության 2026 թվականի
B3: __________ «____» -ի
B4: N_____ -Ն որոշման
A5: «ՀԱՅԱՍՏԱՆԻ ՀԱՆՐԱՊԵՏՈՒԹՅԱՆ 2026 ԹՎԱԿԱՆԻ ՊԵՏԱԿԱՆ ԲՅՈՒՋԵԻ ՄԱՍԻՆ» ՀԱՅԱՍՏԱՆԻ ՀԱՆՐԱՊԵՏՈՒԹՅԱՆ ՕՐԵՆՔԻ № 1 ՀԱՎԵԼՎԱԾԻ № 1 ԱՂՅՈՒՍԱԿՈՒՄ ԿԱՏԱՐՎՈՂ ԿԱՏԱՐՎՈՂ ՓՈՓՈԽՈՒԹՅՈՒՆՆԵՐԸ
C6: (հազար դրամներով)
A7: Ծրագրային դասիչը | B7: Ծրագրի անվանումը | C7: Ցուցանիշների փոփոխությունները (ավելացումը նշված է դրական նշանով, իսկ նվազեցումը` փակագծերում)
A8: ԸՆԴԱՄԵՆԸ | C8: =SUM(C9:C10) -> -198419.96
A9: 1053 | B9: Առողջապահության համակարգի արդիականացման և արդյունավետության բարձրացման ծրագիր | C9: =+'6'!J11 -> 92000
A10: 1126 | B10: Առողջապահության ոլորտում պետական քաղաքականության մշակում, ծրագրերի համակարգում և մոնիտորինգ | C10: =+'6'!J13 -> -290419.96

Sheet 6
A1: Հավելված № 6
A2: ՀՀ կառավարության 2026 թվականի
A3: __________ «____» -ի
A4: N_____ -Ն որոշման
A5: «ՀԱՅԱՍՏԱՆԻ ՀԱՆՐԱՊԵՏՈՒԹՅԱՆ 2026 ԹՎԱԿԱՆԻ ՊԵՏԱԿԱՆ ԲՅՈՒՋԵԻ ՄԱՍԻՆ» ՀԱՅԱՍՏԱՆԻ ՀԱՆՐԱՊԵՏՈՒԹՅԱՆ ՕՐԵՆՔԻ № 1 ՀԱՎԵԼՎԱԾԻ № 2 ԱՂՅՈՒՍԱԿՈՒՄ ԿԱՏԱՐՎՈՂ ՎԵՐԱԲԱՇԽՈՒՄԸ ԵՎ ՀԱՅԱՍՏԱՆԻ ՀԱՆՐԱՊԵՏՈՒԹՅԱՆ ԿԱՌԱՎԱՐՈՒԹՅԱՆ 2025 ԹՎԱԿԱՆԻ ԴԵԿՏԵՄԲԵՐԻ 25-Ի № 1910-Ն ՈՐՈՇՄԱՆ № 5 ՀԱՎԵԼՎԱԾԻ № 1 ԱՂՅՈՒՍԱԿՈՒՄ ԿԱՏԱՐՎՈՂ ՓՈՓՈԽՈՒԹՅՈՒՆՆԵՐԸ ԵՎ ԼՐԱՑՈՒՄՆԵՐԸ
A6: (հազար դրամներով)
A7: ԲԳԿ | B7: Ծրագրային դասիչը | D7: ԲԳԿ/Ծրագրի /միջոցառման անվանումը | E7: Ծրագրի նպատակը/Միջոցառման նկարագրությունը | F7: Վերջնական արդյունքի նկարագրությունը/Միջոցառման տեսակը | G7: Ցուցանիշների փոփոխությունները (ավելացումները նշված են դրական նշանով, իսկ նվազեցումները` փակագծերում)
B8: Ծրագիր | C8: Միջոցառում | G8: Առաջին եռամսյակ | H8: Առաջին կիսամյակ | I8: Ինն ամիս | J8: Տարի
A9: ԸՆԴԱՄԵՆԸ | G9: =+G10+G18 -> -198420 | H9: =+H10+H18 -> -198420 | I9: =+I10+I18 -> -198419.96 | J9: =+J10+J18 -> -198419.96
A10: ՀՀ առողջապահության նախարարություն | G10: =+G11+G13 -> -198420 | H10: =+H11+H13 -> -198420 | I10: =+I11+I13 -> -198419.96 | J10: =+J11+J13 -> -198419.96
B11: 1053 | D11: Առողջապահության համակարգի արդիականացման և արդյունավետության բարձրացման ծրագիր | E11: Առողջապահության համակարգի արդիականացում և զարգացում | F11: Առողջապահական ենթակառուցվածքների բարելավում, կարողությունների զարգացում | G11: =+G12 -> 55000 | H11: =+H12 -> 92000 | I11: =+I12 -> 92000 | J11: =+J12 -> 92000
C12: 1053 - 32007 | D12: ՀՀ կայունացման և զարգացման Եվրասիական հիմնադրամի միջոցներից ֆինանսավորվող «ՀՀ-ում COVID-19 համավարակի պատրաստվածությանմակարդակի բարձրացում. կորոնավիրուսից առաջացող սպառնալիքի հայտնաբերում և արձագանքում» ծրագրի շրջանակներում շենքային պայմանների բարելավում | E12: Հիվանդությունների վերահսկման և կանխարգելման ազգային կենտրոնի Արմավիրի մարզային մասնաճյուղի վերակառուցման աշխատանքներ | F12: Այլ պետական կազմակերպությունների կողմից օգտագործվող ոչ ֆինանսական ակտիվների հետ գործառնություններ | G12: 55000 | H12: 92000 | I12: 92000 | J12: 92000
B13: 1126 | D13: Առողջապահության ոլորտում պետական քաղաքականության մշակում, ծրագրերի համակարգում և մոնիտորինգ | E13: Մարդու և հանրության առողջության պահպանում, բնակչության առողջության բարելավում, հիվանդությունների կանխարգելում, հաշմանդամության և մահացության ցուցանիշների նվազեցում | F13: Առողջապահության ոլորտում իրականացվող ծրագրերի ազդեցության և արդյունավետության բարելավում | G13: =SUM(G14:G17) -> -253420 | H13: =SUM(H14:H17) -> -290420 | I13: =SUM(I14:I17) -> -290419.96 | J13: =SUM(J14:J17) -> -290419.96
C14: 1126 - 11001 | D14: Առողջապահության ոլորտի պետական քաղաքականության մշակում, ծրագրերի համակարգում և մոնիտորինգ | E14: Մարդու և հանրության առողջության պահպանում, բնակչության առողջության բարելավում, հիվանդությունների կանխարգելում, հաշմանդամության և մահացության ցուցանիշների նվազեցում | F14: Ծառայությունների մատուցում | G14: 68784 | H14: 68784 | I14: 68784 | J14: 68784
C15: 1126 - 12006 | D15: Առողջապահական համակարգի պետական առևտրային և ոչ առևտրային կազմակերպություններին ֆինանսական աջակցության հատկացում | E15: Առողջապահական համակարգի պետական առևտրային և ոչ առևտրային կազմակերպություններին ֆինանսական աջակցության տրամադրում ընթացիկ գործունեության արդյունավետության բարձրացմանն ուղղված | F15: Տրանսֆերտի տրամադրում | G15: 113266.66 | H15: 348554 | I15: 413636.65 | J15: =+'12'!E10 -> 413636.65
C16: 1126 - 31002 | D16: Առողջապահական կազմակերպությունների վերազինում | E16: Բնակչությանը որակյալ բժշկական օգնության և սպասարկման ծառայություններ մատուցելու նպատակով՛ առողջապահական կազմակերպությունների անհրաժեշտ սարքավորումներով վերազինում | F16: Պետական մարմինների կողմից օգտագործվող ոչ ֆինանսական ակտիվների հետ գործառնություններ | G16: =+'10'!D11 -> -55000 | H16: =+'10'!E11 -> -440000 | I16: =+'10'!F11 -> 135917.39 | J16: =+'10'!G11 -> 670513.18
C17: 1126 - 31003 | D17: Առողջապահական կազմակերպությունների կառուցում, վերակառուցում | E17: Բնակչությանը որակյալ բժշկական օգնության և սպասարկման ծառայություններ մատուցելու նպատակով առողջապահական կազմակերպությունների կառուցում, վերակառուցում | F17: Պետական մարմինների կողմից օգտագործվող ոչ ֆինանսական ակտիվների հետ գործառնություններ | G17: =+'10'!D31 -> -380470.66 | H17: =+'10'!E31 -> -267758 | I17: =+'10'!F31 -> -908758 | J17: =+'10'!G31 -> -1443353.8
A18: ՀՀ կառավարություն | G18: =+G19 -> 0 | H18: =+H19 -> 0 | I18: =+I19 -> 0 | J18: =+J19 -> 0
B19: 1139 | D19: ՀՀ կառավարության պահուստային ֆոնդ | E19: Պետական բյուջեում չկանխատեսված, ինչպես նաեւ բյուջետային երաշխիքների ապահովման ծախսերի ֆինանսավորման ապահովում | F19: Պահուստային ֆոնդի կառավարման արդյունավետության և թափանցիկության ապահովում | G19: =+G20+G21 -> 0 | H19: =+H20+H21 -> 0 | I19: =+I20+I21 -> 0 | J19: =+J20+J21 -> 0
C20: 1139 - 11001 | D20: ՀՀ կառավարության պահուստային ֆոնդ | E20: ՀՀ պետական բյուջեում նախատեսված ելքերի լրացուցիչ ֆինանսավորման, պետական բյուջեում չկանխատեսված ելքերի, ինչպես նաև բյուջետային երաշխիքների ապահովման ելքերի ֆինանսավորման ապահովում | F20: Ծառայությունների մատուցում | G20: =+-G21 -> -168266.66 | H20: =+-H21 -> -440554 | I20: =+-I21 -> -505636.65 | J20: =+-J21 -> -505636.65
C21: 1139 - 11001 | D21: ՀՀ կառավարության պահուստային ֆոնդ | E21: ՀՀ պետական բյուջեում նախատեսված ելքերի լրացուցիչ ֆինանսավորման, պետական բյուջեում չկանխատեսված ելքերի, ինչպես նաև բյուջետային երաշխիքների ապահովման ելքերի ֆինանսավորման ապահովում | F21: Ծառայությունների մատուցում | G21: =+'9'!G108 -> 168266.66 | H21: =+'9'!H108 -> 440554 | I21: =+'9'!I108 -> 505636.65 | J21: =+'9'!J108 -> 505636.65

Sheet 7
A1: Հավելված № 7
A2: ՀՀ կառավարության 2026 թվականի
A3: __________ «____» -ի
A4: N_____ -Ն որոշման
A5: «ՀԱՅԱՍՏԱՆԻ ՀԱՆՐԱՊԵՏՈՒԹՅԱՆ 2026 ԹՎԱԿԱՆԻ ՊԵՏԱԿԱՆ ԲՅՈՒՋԵԻ ՄԱՍԻՆ» ՀԱՅԱՍՏԱՆԻ ՀԱՆՐԱՊԵՏՈՒԹՅԱՆ ՕՐԵՆՔԻ № 1 ՀԱՎԵԼՎԱԾԻ № 3 ԱՂՅՈՒՍԱԿՈՒՄ ԿԱՏԱՐՎՈՂ ՓՈՓՈԽՈՒԹՅՈՒՆՆԵՐԸ
A6: (հազար դրամներով)
A7: Ծրագրային դասիչ | C7: Բյուջետային գլխավոր կարգադրիչների, ծրագրերի, միջոցառումների և ուղղությունների անվանումները | D7: Ընդամենը | E7: այդ թվում`
A8: Ծրագիր | B8: Միջոց առում | E8: Կառուցման աշխատանքներ | F8: Վերակառուցման, վերանորոգման և վերականգնման աշխատանքներ | G8: Նախագծահե- տազոտական, գեոդեզիա- քարտեզագրական աշխատանքներ | H8: Ոչ ֆինանսական այլ ակտիվների ձեռքբերում
C9: ԸՆԴԱՄԵՆԸ | D9: =+D10 -> -772840.61 | E9: =+E10 -> -751000 | F9: =+F10 -> -778055.79 | G9: =+G10 -> 85702 | H9: =+H10 -> 670513.18
C10: ՀՀ առողջապահության նախարարություն | D10: =+D12+D30 -> -772840.61 | E10: =+E12+E30 -> -751000 | F10: =+F12+F30 -> -778055.79 | G10: =+G12+G30 -> 85702 | H10: =+H12+H30 -> 670513.18
C11: այդ թվում՛
A12: 1126 | B12: 31002 | C12: Առողջապահական կազմակերպությունների վերազինում | D12: =+D17+D19+D14+D21+D24+D26+D28 -> 670513.18 | E12: =+E17+E19+E14+E21+E24+E26+E28 -> 0 | F12: =+F17+F19+F14+F21+F24+F26+F28 -> 0 | G12: =+G17+G19+G14+G21+G24+G26+G28 -> 0 | H12: =+H17+H19+H14+H21+H24+H26+H28 -> 670513.18
C13: այդ թվում`
C14: Երևան քաղաք | D14: =+D15+D16 -> 2537013.2 | E14: =+E15+E16 -> 0 | F14: =+F15+F16 -> 0 | G14: =+G15+G16 -> 0 | H14: =+H15+H16 -> 2537013.2
C15: Առողջապահական կազմակերպությունների համար բժշկական գույքի և սարքավորումների ձեռքբերում | D15: =+E15+F15+G15+H15 -> 1711391.2 | E15: 0 | F15: 0 | G15: 0 | H15: =+'10'!G16 -> 1711391.2
C16: ՀՀ ԱՆ «Ռադիոիզոտոպների արտադրության կենտրոն» ՓԲԸ | D16: =+E16+F16+G16+H16 -> 825622 | H16: 825622
C17: ՀՀ Արագածոտնի մարզ | D17: =+D18 -> -221500 | E17: =+E18 -> 0 | F17: =+F18 -> 0 | G17: =+G18 -> 0 | H17: =+H18 -> -221500
C18: ՀՀ ԱՆ «Ծաղկահովիտի առողջության կենտրոն» ՓԲԸ | D18: =+E18+F18+G18+H18 -> -221500 | H18: -221500
C19: ՀՀ Արարատի մարզ | D19: =+D20 -> -330000 | E19: =+E20 -> 0 | F19: =+F20 -> 0 | G19: =+G20 -> 0 | H19: =+H20 -> -330000
C20: ՀՀ ԱՆ «Վեդու բժշկական կենտրոն» ՓԲԸ | D20: =+F20+G20+H20+E20 -> -330000 | H20: -330000
C21: ՀՀ Կոտայքի մարզ | D21: =+D22+D23 -> -750000 | E21: =+E22+E23 -> 0 | F21: =+F22+F23 -> 0 | G21: =+G22+G23 -> 0 | H21: =+H22+H23 -> -750000
C22: ՀՀ ԱՆ Եղվարդի «Նաիրիի բժշկական կենտրոն» ՓԲԸ | D22: =+E22+F22+G22+H22 -> -550000 | H22: -550000
C23: ՀՀ Կոտայքի մարզի «Նոր Հաճնի պոլիկլինիկա» ՊՓԲԸ | D23: =+E23+F23+G23+H23 -> -200000 | H23: -200000
C24: ՀՀ Լոռու մարզ | D24: =+D25 -> -515000 | E24: =+E25 -> 0 | F24: =+F25 -> 0 | G24: =+G25 -> 0 | H24: =+H25 -> -515000
C25: ՀՀ ԱՆ «Տաշիրի բժշկական կենտրոն» ՓԲԸ | D25: =+E25+F25+G25+H25 -> -515000 | H25: =+'10'!G26 -> -515000
C26: ՀՀ Շիրակի մարզ | D26: =+D27 -> -300000 | E26: =+E27 -> 0 | F26: =+F27 -> 0 | G26: =+G27 -> 0 | H26: =+H27 -> -300000
C27: ՀՀ ԱՆ «Գյումրու բժշկական կենտրոն» ՓԲԸ ծննդատուն | D27: =+E27+F27+G27+H27 -> -300000 | H27: -300000
C28: ՀՀ Սյունիքի մարզ | D28: =+D29 -> 250000 | E28: =+E29 -> 0 | F28: =+F29 -> 0 | G28: =+G29 -> 0 | H28: =+H29 -> 250000
C29: ՀՀ ԱՆ «Սիսիանի բժշկական կենտրոն» ՓԲԸ | D29: =+E29+F29+G29+H29 -> 250000 | H29: 250000
A30: 1126 | B30: 31003 | C30: Առողջապահական կազմակերպությունների կառուցում, վերակառուցում | D30: =+D32+D45+D47+D54+D56+D58+D43+D40+D50+D52 -> -1443353.8 | E30: =+E32+E45+E47+E54+E56+E58+E43+E40+E50+E52 -> -751000 | F30: =+F32+F45+F47+F54+F56+F58+F43+F40+F50+F52 -> -778055.79 | G30: =+G32+G45+G47+G54+G56+G58+G43+G40+G50+G52 -> 85702 | H30: =+H32+H45+H47+H54+H56+H58+H43+H40+H50+H52 -> 0
C31: այդ թվում`
C32: Երևան քաղաք | D32: =SUM(D33:D39) -> -663661.79 | E32: =SUM(E33:E39) -> 0 | F32: =SUM(F33:F39) -> -723055.79 | G32: =SUM(G33:G39) -> 59394 | H32: =SUM(H33:H39) -> 0
C33: ՀՀ ԱՆ «Հոգեկան առողջության պահպանման ազգային կենտրոն» ՓԲԸ | D33: =+E33+F33+G33+H33 -> -353795.79 | E33: 0 | F33: =+'10'!G36 -> -355595.79 | G33: 1800 | H33: 0
C34: ՀՀ ԱՆ «Ինֆեկցիոն հիվանդությունների ազգային կենտրոն» ՓԲԸ | D34: =+E34+F34+G34+H34 -> -500000 | E34: 0 | F34: =+'10'!G37 -> -500000 | G34: 0 | H34: 0
C35: ՀՀ ԱՆ «Ակադեմիկոս Ս. Ավդալբեկյանի անվան առողջապահության ազգային ինստիտուտ» ՓԲԸ/ Ազգային գրադարան/ | D35: =+E35+F35+G35+H35 -> 10650 | E35: 0 | F35: 0 | G35: =+'10'!G38 -> 10650 | H35: 0
C36: ՀՀ ԱՆ «Դատաբժշկական գիտագործնական կենտրոն» ՊՈԱԿ | D36: =+E36+F36+G36+H36 -> 23040 | E36: 0 | F36: 0 | G36: =+'10'!G39 -> 23040 | H36: 0
C37: ՀՀ ԱՆ «Դեղերի և բժշկական պարագաների ապահովման ազգային կենտրոն» ՊՈԱԿ | D37: =+E37+F37+G37+H37 -> 23904 | E37: 0 | F37: 0 | G37: =+'10'!G40 -> 23904 | H37: 0
C38: ՀՀ ԱՆ «Հանրապետական շտապ օգնության ծառայություն» ՓԲԸ | D38: =+E38+F38+G38+H38 -> 68640 | E38: 0 | F38: =+'10'!G41 -> 68640 | G38: 0 | H38: 0
C39: Առողջության համընդհանուր ապահովագրության հիմնադրամ | D39: =+E39+F39+G39+H39 -> 63900 | E39: 0 | F39: =+'10'!G42 -> 63900 | G39: 0 | H39: 0
C40: ՀՀ Արագածոտնի մարզ | D40: =+D41+D42 -> -5000 | E40: =+E41+E42 -> -5000 | F40: =+F41+F42 -> 0 | G40: =+G41+G42 -> 0
C41: ՀՀ ԱՆ «Ծաղկահովիտի առողջության կենտրոն» ՓԲԸ | D41: =+E41+F41+G41+H41 -> 75000 | E41: =+'10'!G60 -> 75000 | F41: 0 | G41: 0 | H41: 0
C42: ՀՀ ԱՆ «Աշտարակի բժշկական կենտրոն» ՓԲԸ/գլխ.մասնաշենք/ | D42: =+E42+F42+G42+H42 -> -80000 | E42: =+'10'!G61 -> -80000 | F42: 0 | G42: 0 | H42: 0
C43: ՀՀ Արարատի մարզ | D43: =+D44 -> 350000 | E43: =+E44 -> 350000 | F43: =+F44 -> 0 | G43: =+G44 -> 0 | H43: =+H44 -> 0
C44: ՀՀ ԱՆ «Մասիսի բժշկական կենտրոն» ՓԲԸ | D44: =+E44+F44+G44+H44 -> 350000 | E44: =+'10'!G63 -> 350000 | F44: 0 | G44: 0 | H44: 0
C45: ՀՀ Արմավիրի մարզ | D45: =SUM(D46:D46) -> -55000 | E45: =SUM(E46:E46) -> 0 | F45: =SUM(F46:F46) -> -55000 | G45: =SUM(G46:G46) -> 0 | H45: =SUM(H46:H46) -> 0
C46: ՀՀ ԱՆ «Հիվանդությունների վերահսկման և կանխարգելման ազգային կենտրոն» ՊՈԱԿ Արմավիրի մարզի մասնաճյուղ | D46: =+E46+F46+G46+H46 -> -55000 | E46: 0 | F46: -55000 | G46: 0 | H46: 0
C47: ՀՀ Գեղարքունիքի մարզ | D47: =SUM(D48:D49) -> -377742 | E47: =SUM(E48:E49) -> -400000 | F47: =SUM(F48:F49) -> 0 | G47: =SUM(G48:G49) -> 22258 | H47: =SUM(H48:H49) -> 0
C48: ՀՀ ԱՆ «Վարդենիսի բժշկական կենտրոն» ՓԲԸ | D48: =+E48+F48+G48+H48 -> -395806 | E48: -400000 | F48: 0 | G48: 4194 | H48: 0
C49: ՀՀ ԱՆ «Մարտունու բժշկական կենտրոն» ՓԲԸ | D49: =+E49+F49+G49+H49 -> 18064 | E49: 0 | F49: 0 | G49: =+'10'!G47 -> 18064 | H49: 0
C50: ՀՀ Կոտայքի մարզ | D50: =+D51 -> -485000 | E50: =+E51 -> -485000 | F50: =+F51 -> 0 | G50: =+G51 -> 0 | H50: =+H51 -> 0
C51: ՀՀ ԱՆ Եղվարդի «Նաիրիի բժշկական կենտրոն» ՓԲԸ | D51: =+E51+F51+G51+H51 -> -485000 | E51: =+'10'!G65 -> -485000 | F51: 0 | G51: 0 | H51: 0
C52: ՀՀ Լոռու մարզ | D52: =SUM(D53) -> -100000 | E52: =SUM(E53) -> -100000 | F52: =SUM(F53) -> 0 | G52: =SUM(G53) -> 0 | H52: =SUM(H53) -> 0
C53: ՀՀ ԱՆ «Տաշիրի բժշկական կենտրոն» ՓԲԸ | D53: =+E53+F53+G53+H53 -> -100000 | E53: =+'10'!G67 -> -100000 | F53: 0 | G53: 0 | H53: 0
C54: ՀՀ Սյունիքի մարզ | D54: =SUM(D55:D55) -> 139000 | E54: =SUM(E55:E55) -> 139000 | F54: =SUM(F55:F55) -> 0 | G54: =SUM(G55:G55) -> 0 | H54: =SUM(H55:H55) -> 0
C55: ՀՀ ԱՆ «Դատաբժշկական գիտագործնական կենտրոն» Մեղրու ստորաբաժանում | D55: =+E55+F55+G55+H55 -> 139000 | E55: 139000 | F55: 0 | G55: 0 | H55: 0
C56: ՀՀ Շիրակի մարզ | D56: =SUM(D57:D57) -> 3000 | E56: =SUM(E57:E57) -> 0 | F56: =SUM(F57:F57) -> 0 | G56: =SUM(G57:G57) -> 3000 | H56: =SUM(H57:H57) -> 0
C57: ՀՀ ԱՆ «Գյումրու բժշկական կենտրոն» ՓԲԸ ծննդատուն | D57: =+E57+F57+G57+H57 -> 3000 | E57: 0 | F57: 0 | G57: 3000 | H57: 0
C58: ՀՀ Վայոց ձորի մարզ | D58: =+D59 -> -248950 | E58: =+E59 -> -250000 | F58: =+F59 -> 0 | G58: =+G59 -> 1050 | H58: =+H59 -> 0
C59: ՀՀ ԱՆ «Ջերմուկի առողջության կենտրոն» ՓԲԸ | D59: =+E59+F59+G59+H59 -> -248950 | E59: -250000 | F59: 0 | G59: 1050 | H59: 0

Sheet 8
B1: Հավելված № 8
B2: ՀՀ կառավարության 2026 թվականի
B3: __________ «____» -ի
B4: N_____ -Ն որոշման
A6: «ՀԱՅԱՍՏԱՆԻ ՀԱՆՐԱՊԵՏՈՒԹՅԱՆ 2026 ԹՎԱԿԱՆԻ ՊԵՏԱԿԱՆ ԲՅՈՒՋԵԻ ՄԱՍԻՆ» ՀԱՅԱՍՏԱՆԻ ՀԱՆՐԱՊԵՏՈՒԹՅԱՆ ՕՐԵՆՔԻ № 1 ՀԱՎԵԼՎԱԾԻ № 5 ԱՂՅՈՒՍԱԿՈՒՄ ԿԱՏԱՐՎՈՂ ԿԱՏԱՐՎՈՂ ԼՐԱՑՈՒՄՆԵՐԸ
D7: (հազար դրամներով)
A8: Ծրագրային դասիչը | C8: Բյուջետային գլխավոր կարգադրիչների, ծրագրերի և միջոցառումների անվանումները | D8: Ընդամենը | E8: այդ թվում`
A9: Ծրագիր | B9: Միջոցառում | E9: Դրամաշնորհային միջոցներ | F9: Համաֆինանսավորում
C10: ԸՆԴԱՄԵՆԸ | D10: =+E10+F10 -> 92000 | E10: =+E11 -> 0 | F10: =+F11 -> 92000
C11: ՀՀ առողջապահության նախարարություն | D11: =+E11+F11 -> 92000 | E11: =+E12 -> 0 | F11: =+F12 -> 92000
A12: 1053 | C12: Առողջապահության համակարգի արդիականացման և արդյունավետության բարձրացման ծրագիր | D12: =+E12+F12 -> 92000 | E12: =+E14 -> 0 | F12: =+F14 -> 92000
A13: այդ թվում՛
B14: 32007 | C14: ՀՀ կայունացման և զարգացման Եվրասիական հիմնադրամի միջոցներից ֆինանսավորվող «ՀՀ-ում COVID-19 համավարակի պատրաստվածությանմակարդակի բարձրացում. կորոնավիրուսից առաջացող սպառնալիքի հայտնաբերում և արձագանքում» ծրագրի շրջանակներում շենքային պայմանների բարելավում | D14: =+E14+F14 -> 92000 | E14: 0 | F14: =+'11'!O26 -> 92000

Sheet 9
A1: Հավելված № 9
A2: ՀՀ կառավարության 2026 թվականի
A3: __________ «____» -ի
A4: N_____ -Ն որոշման
A5: ՀԱՅԱՍՏԱՆԻ ՀԱՆՐԱՊԵՏՈՒԹՅԱՆ ԿԱՌԱՎԱՐՈՒԹՅԱՆ 2025 ԹՎԱԿԱՆԻ ԴԵԿՏԵՄԲԵՐԻ 25-Ի № 1910-Ն ՈՐՈՇՄԱՆ №№ 3 և 4 ՀԱՎԵԼՎԱԾՆԵՐՈՒՄ ԿԱՏԱՐՎՈՂ ՓՈՓՈԽՈՒԹՅՈՒՆՆԵՐԸ
A6: (հազար դրամներով)
A7: Գործառական դասիչը | D7: Ծրագրային դասիչը | F7: Բյուջետային հատկացումների գլխավոր կարգադրիչների, ծրագրերի, միջոցառումների և միջոցառումները կատարող պետական մարմինների անվանումները | G7: Ցուցանիշների փոփոխությունները (ավելացումները նշված են դրական նշանով, իսկ նվազեցումները` փակագծերում)
A8: բաժին | B8: խումբ | C8: դաս | D8: Ծրագիր | E8: Միջոցառում | G8: Առաջին եռամսյակ | H8: Առաջին կիսամյակ | I8: Ինն ամիս | J8: Տարի
A9: ԸՆԴԱՄԵՆԸ | G9: =+G10+G83 -> -198420 | H9: =+H10+H83 -> -198420 | I9: =+I10+I83 -> -198419.96 | J9: =+J10+J83 -> -198419.96
A10: 07 | F10: ԱՌՈՂՋԱՊԱՀՈՒԹՅՈՒՆ | G10: =+G12 -> -198420 | H10: =+H12 -> -198420 | I10: =+I12 -> -198419.96 | J10: =+J12 -> -198419.96
F11: այդ թվում՝
B12: 06 | F12: Առողջապահություն (այլ դասերին չպատկանող) | G12: =+G14+G29 -> -198420 | H12: =+H14+H29 -> -198420 | I12: =+I14+I29 -> -198419.96 | J12: =+J14+J29 -> -198419.96
F13: այդ թվում՝
C14: 01 | F14: Առողջապահական հարակից ծառայություններ և ծրագրեր | G14: =+G16 -> 55000 | H14: =+H16 -> 92000 | I14: =+I16 -> 92000 | J14: =+J16 -> 92000
F15: այդ թվում`
D16: 1053 | F16: Առողջապահության համակարգի արդիականացման և արդյունավետության բարձրացման ծրագիր | G16: =+G20 -> 55000 | H16: =+H20 -> 92000 | I16: =+I20 -> 92000 | J16: =+J20 -> 92000
F17: այդ թվում՝
F18: ՀՀ առողջապահության նախարարություն | G18: =+G20 -> 55000 | H18: =+H20 -> 92000 | I18: =+I20 -> 92000 | J18: =+J20 -> 92000
F19: այդ թվում՝
E20: 32007 | F20: ՀՀ կայունացման և զարգացման Եվրասիական հիմնադրամի միջոցներից ֆինանսավորվող «ՀՀ-ում COVID-19 համավարակի պատրաստվածության մակարդակի բարձրացում. կորոնավիրուսից առաջացող սպառնալիքի հայտնաբերում և արձագանքում» ծրագրի շրջանակներում շենքային պայմանների բարելավում | G20: =+G22 -> 55000 | H20: =+H22 -> 92000 | I20: =+I22 -> 92000 | J20: =+J22 -> 92000
F21: այդ թվում ըստ կատարողների
F22: ՀՀ առողջապահության նախարարություն | G22: =+G24 -> 55000 | H22: =+H24 -> 92000 | I22: =+I24 -> 92000 | J22: =+J24 -> 92000
F23: այդ թվում` բյուջետային ծախսերի տնտեսագիտական դասակարգման հոդվածներ
F24: ԸՆԴԱՄԵՆԸ ԾԱԽՍԵՐ | G24: =+G25 -> 55000 | H24: =+H25 -> 92000 | I24: =+I25 -> 92000 | J24: =+J25 -> 92000
F25: ՈՉ ՖԻՆԱՆՍԱԿԱՆ ԱԿՏԻՎՆԵՐԻ ԳԾՈՎ ԾԱԽՍԵՐ | G25: =+G26 -> 55000 | H25: =+H26 -> 92000 | I25: =+I26 -> 92000 | J25: =+J26 -> 92000
F26: ՀԻՄՆԱԿԱՆ ՄԻՋՈՑՆԵՐ | G26: =+G27 -> 55000 | H26: =+H27 -> 92000 | I26: =+I27 -> 92000 | J26: =+J27 -> 92000
F27: ՇԵՆՔԵՐ ԵՎ ՇԻՆՈՒԹՅՈՒՆՆԵՐ | G27: =+G28 -> 55000 | H27: =+H28 -> 92000 | I27: =+I28 -> 92000 | J27: =+J28 -> 92000
F28: - Շենքերի և շինությունների շինարարություն | G28: =+'6'!G12 -> 55000 | H28: =+'6'!H12 -> 92000 | I28: =+'6'!I12 -> 92000 | J28: =+'6'!J12 -> 92000
C29: 02 | F29: Առողջապահություն (այլ դասերին չպատկանող) | G29: =+G31 -> -253420 | H29: =+H31 -> -290420 | I29: =+I31 -> -290419.96 | J29: =+J31 -> -290419.96
F30: այդ թվում՝
D31: 1126 | F31: Առողջապահության ոլորտում պետական քաղաքականության մշակում, ծրագրերի համակարգում և մոնիտորինգ | G31: =+G35+G44+G53+G62 -> -253420 | H31: =+H35+H44+H53+H62 -> -290420 | I31: =+I35+I44+I53+I62 -> -290419.96 | J31: =+J35+J44+J53+J62 -> -290419.96
F32: այդ թվում՝
F33: ՀՀ առողջապահության նախարարություն | G33: =+G31 -> -253420 | H33: =+H31 -> -290420 | I33: =+I31 -> -290419.96 | J33: =+J31 -> -290419.96
F34: այդ թվում`
E35: 11001 | F35: Առողջապահության ոլորտի պետական քաղաքականության մշակում, ծրագրերի համակարգում և մոնիտորինգ | G35: =+G37 -> 68784 | H35: =+H37 -> 68784 | I35: =+I37 -> 68784 | J35: =+J37 -> 68784
F36: այդ թվում ըստ կատարողների
F37: ՀՀ առողջապահության նախարարություն | G37: =+G39 -> 68784 | H37: =+H39 -> 68784 | I37: =+I39 -> 68784 | J37: =+J39 -> 68784
F38: այդ թվում` բյուջետային ծախսերի տնտեսագիտական դասակարգման հոդվածներ
F39: ԸՆԴԱՄԵՆԸ ԾԱԽՍԵՐ | G39: =+G40 -> 68784 | H39: =+H40 -> 68784 | I39: =+I40 -> 68784 | J39: =+J40 -> 68784
F40: ԸՆԹԱՑԻԿ ԾԱԽՍԵՐ | G40: =+G41 -> 68784 | H40: =+H41 -> 68784 | I40: =+I41 -> 68784 | J40: =+J41 -> 68784
F41: ԾԱՌԱՅՈՒԹՅՈՒՆՆԵՐԻ ԵՎ ԱՊՐԱՆՔՆԵՐԻ ՁԵՌՔԲԵՐՈՒՄ | G41: =+G42 -> 68784 | H41: =+H42 -> 68784 | I41: =+I42 -> 68784 | J41: =+J42 -> 68784
F42: Այլ մասնագիտական ծառայությունների ձեռքբերում | G42: =+G43 -> 68784 | H42: =+H43 -> 68784 | I42: =+I43 -> 68784 | J42: =+J43 -> 68784
F43: - Մասնագիտական ծառայություններ | G43: =+'6'!G14 -> 68784 | H43: =+'6'!H14 -> 68784 | I43: =+'6'!I14 -> 68784 | J43: =+'6'!J14 -> 68784
E44: 12006 | F44: Առողջապահական համակարգի պետական առևտրային և ոչ առևտրային կազմակերպություններին ֆինանսական աջակցության հատկացում | G44: =+G46 -> 113266.66 | H44: =+H46 -> 348554 | I44: =+I46 -> 413636.65 | J44: =+J46 -> 413636.65
F45: այդ թվում ըստ կատարողների
F46: ՀՀ առողջապահության նախարարություն | G46: =+G48 -> 113266.66 | H46: =+H48 -> 348554 | I46: =+I48 -> 413636.65 | J46: =+J48 -> 413636.65
F47: այդ թվում` բյուջետային ծախսերի տնտեսագիտական դասակարգման հոդվածներ
F48: ԸՆԴԱՄԵՆԸ ԾԱԽՍԵՐ | G48: =+G49 -> 113266.66 | H48: =+H49 -> 348554 | I48: =+I49 -> 413636.65 | J48: =+J49 -> 413636.65
F49: ԸՆԹԱՑԻԿ ԾԱԽՍԵՐ | G49: =+G50 -> 113266.66 | H49: =+H50 -> 348554 | I49: =+I50 -> 413636.65 | J49: =+J50 -> 413636.65
F50: ԴՐԱՄԱՇՆՈՐՀՆԵՐ | G50: =+G51 -> 113266.66 | H50: =+H51 -> 348554 | I50: =+I51 -> 413636.65 | J50: =+J51 -> 413636.65
F51: Ընթացիկ դրամաշնորհներ պետական հատվածի այլ մակարդակներին | G51: =+G52 -> 113266.66 | H51: =+H52 -> 348554 | I51: =+I52 -> 413636.65 | J51: =+J52 -> 413636.65
F52: - Ընթացիկ դրամաշնորհներ պետական և համայնքների առևտրային կազմակերպություններին | G52: =+'6'!G15 -> 113266.66 | H52: =+'6'!H15 -> 348554 | I52: =+'6'!I15 -> 413636.65 | J52: =+'6'!J15 -> 413636.65
E53: 31002 | F53: Առողջապահական կազմակերպությունների վերազինում | G53: =+G55 -> -55000 | H53: =+H55 -> -440000 | I53: =+I55 -> 135917.39 | J53: =+J55 -> 670513.18
F54: այդ թվում` ըստ կատարողների
F55: ՀՀ առողջապահության նախարարություն | G55: =+G57 -> -55000 | H55: =+H57 -> -440000 | I55: =+I57 -> 135917.39 | J55: =+J57 -> 670513.18
F56: այդ թվում` բյուջետային ծախսերի տնտեսագիտական դասակարգման հոդվածներ
F57: ԸՆԴԱՄԵՆԸ ԾԱԽՍԵՐ | G57: =+G58 -> -55000 | H57: =+H58 -> -440000 | I57: =+I58 -> 135917.39 | J57: =+J58 -> 670513.18
F58: ՈՉ ՖԻՆԱՆՍԱԿԱՆ ԱԿՏԻՎՆԵՐԻ ԳԾՈՎ ԾԱԽՍԵՐ | G58: =+G59 -> -55000 | H58: =+H59 -> -440000 | I58: =+I59 -> 135917.39 | J58: =+J59 -> 670513.18
F59: ՀԻՄՆԱԿԱՆ ՄԻՋՈՑՆԵՐ | G59: =+G60 -> -55000 | H59: =+H60 -> -440000 | I59: =+I60 -> 135917.39 | J59: =+J60 -> 670513.18
F60: ՄԵՔԵՆԱՆԵՐ ԵՎ ՍԱՐՔԱՎՈՐՈՒՄՆԵՐ | G60: =+G61 -> -55000 | H60: =+H61 -> -440000 | I60: =+I61 -> 135917.39 | J60: =+J61 -> 670513.18
F61: - Այլ մեքենաներ և սարքավորումներ | G61: =+'10'!D13 -> -55000 | H61: =+'10'!E13 -> -440000 | I61: =+'10'!F13 -> 135917.39 | J61: =+'10'!G13 -> 670513.18
E62: 31003 | F62: Առողջապահական կազմակերպությունների կառուցում, վերակառուցում | G62: =+G64+G74 -> -380470.66 | H62: =+H64+H74 -> -267758 | I62: =+I64+I74 -> -908758 | J62: =+J64+J74 -> -1443353.8
F63: այդ թվում ըստ կատարողների
F64: ՀՀ առողջապահության նախարարություն | G64: =+G66 -> 53784 | H64: =+H66 -> -84558 | I64: =+I66 -> -670558 | J64: =+J66 -> -1205153.8
F65: այդ թվում` բյուջետային ծախսերի տնտեսագիտական դասակարգման հոդվածներ
F66: ԸՆԴԱՄԵՆԸ ԾԱԽՍԵՐ | G66: =+G67 -> 53784 | H66: =+H67 -> -84558 | I66: =+I67 -> -670558 | J66: =+J67 -> -1205153.8
F67: ՈՉ ՖԻՆԱՆՍԱԿԱՆ ԱԿՏԻՎՆԵՐԻ ԳԾՈՎ ԾԱԽՍԵՐ | G67: =+G68 -> 53784 | H67: =+H68 -> -84558 | I67: =+I68 -> -670558 | J67: =+J68 -> -1205153.8
F68: ՀԻՄՆԱԿԱՆ ՄԻՋՈՑՆԵՐ | G68: =+G69+G72 -> 53784 | H68: =++H69+H72 -> -84558 | I68: =+I69+I72 -> -670558 | J68: =+J69+J72 -> -1205153.8
F69: ՇԵՆՔԵՐ ԵՎ ՇԻՆՈՒԹՅՈՒՆՆԵՐ | G69: =+G70+G71 -> 45540 | H69: =+H70+H71 -> -168460 | I69: =+I70+I71 -> -754460 | J69: =+J70+J71 -> -1289055.8
F70: - Շենքերի և շինությունների շինարարություն | G70: =+'10'!D46+'10'!D51+'10'!D53-5244 -> 139000 | H70: =+'10'!E46+'10'!E51+'10'!E53-5244 -> 39000 | I70: =+'10'!F46+'10'!F51+'10'!F53-5244 -> -261000 | J70: =+'10'!G46+'10'!G51+'10'!G53-5244 -> -511000
F71: - Շենքերի և շինությունների կապիտալ վերանորոգում | G71: =+'10'!D36+'10'!D37+'10'!D41+'10'!D42+'10'!D44 -> -93460 | H71: =+'10'!E36+'10'!E37+'10'!E41+'10'!E42+'10'!E44 -> -207460 | I71: =+'10'!F36+'10'!F37+'10'!F41+'10'!F42+'10'!F44 -> -493460 | J71: =+'10'!G36+'10'!G37+'10'!G41+'10'!G42+'10'!G44 -> -778055.79
F72: ԱՅԼ ՀԻՄՆԱԿԱՆ ՄԻՋՈՑՆԵՐ | G72: =+G73 -> 8244 | H72: =+H73 -> 83902 | I72: =+I73 -> 83902 | J72: =+J73 -> 83902
F73: - Նախագծահետազոտական ծախսեր | G73: =+'10'!D38+'10'!D39+'10'!D40+'10'!D47+'10'!D49+'10'!D46+'10'!D53 -> 8244 | H73: =+'10'!E38+'10'!E39+'10'!E40+'10'!E47+'10'!E49+5244 -> 83902 | I73: =+'10'!F38+'10'!F39+'10'!F40+'10'!F47+'10'!F49+5244 -> 83902 | J73: =+'10'!G38+'10'!G39+'10'!G40+'10'!G47+'10'!G49+5244 -> 83902
F74: ՀՀ քաղաքաշինության կոմիտե | G74: =+G76 -> -434254.66 | H74: =+H76 -> -183200 | I74: =+I76 -> -238200 | J74: =+J76 -> -238200
F75: այդ թվում` բյուջետային ծախսերի տնտեսագիտական դասակարգման հոդվածներ
F76: ԸՆԴԱՄԵՆԸ ԾԱԽՍԵՐ | G76: =+G77 -> -434254.66 | H76: =+H77 -> -183200 | I76: =+I77 -> -238200 | J76: =+J77 -> -238200
F77: ՈՉ ՖԻՆԱՆՍԱԿԱՆ ԱԿՏԻՎՆԵՐԻ ԳԾՈՎ ԾԱԽՍԵՐ | G77: =+G78 -> -434254.66 | H77: =+H78 -> -183200 | I77: =+I78 -> -238200 | J77: =+J78 -> -238200
F78: ՀԻՄՆԱԿԱՆ ՄԻՋՈՑՆԵՐ | G78: =+G79+G81 -> -434254.66 | H78: =+H79+H81 -> -183200 | I78: =+I79+I81 -> -238200 | J78: =+J79+J81 -> -238200
F79: ՇԵՆՔԵՐ ԵՎ ՇԻՆՈՒԹՅՈՒՆՆԵՐ | G79: =+G80 -> -436054.66 | H79: =+H80 -> -185000 | I79: =+I80 -> -240000 | J79: =+J80 -> -240000
F80: - Շենքերի և շինությունների շինարարություն | G80: =+'10'!D60+'10'!D61+'10'!D63+'10'!D65+'10'!D67 -> -436054.66 | H80: =+'10'!E60+'10'!E61+'10'!E63+'10'!E65+'10'!E67 -> -185000 | I80: =+'10'!F60+'10'!F61+'10'!F63+'10'!F65+'10'!F67 -> -240000 | J80: =+'10'!G60+'10'!G61+'10'!G63+'10'!G65+'10'!G67 -> -240000
F81: ԱՅԼ ՀԻՄՆԱԿԱՆ ՄԻՋՈՑՆԵՐ | G81: =+G82 -> 1800 | H81: =+H82 -> 1800 | I81: =+I82 -> 1800 | J81: =+J82 -> 1800
F82: - Նախագծահետազոտական ծախսեր | G82: =+'10'!D58 -> 1800 | H82: =+'10'!E58 -> 1800 | I82: =+'10'!F58 -> 1800 | J82: =+'10'!G58 -> 1800
A83: 11 | F83: ՀԻՄՆԱԿԱՆ ԲԱԺԻՆՆԵՐԻՆ ՉԴԱՍՎՈՂ ՊԱՀՈՒՍՏԱՅԻՆ ՖՈՆԴԵՐ | G83: =+G85 -> 0 | H83: =+H85 -> 0 | I83: =+I85 -> 0 | J83: =+J85 -> 0
F84: այդ թվում`
B85: 01 | F85: ՀՀ կառավարության և համայնքների պահուստային ֆոնդ | G85: =+G87 -> 0 | H85: =+H87 -> 0 | I85: =+I87 -> 0 | J85: =+J87 -> 0
F86: այդ թվում`
C87: 01 | F87: ՀՀ կառավարության պահուստային ֆոնդ | G87: =+G89 -> 0 | H87: =+H89 -> 0 | I87: =+I89 -> 0 | J87: =+J89 -> 0
F88: այդ թվում`
D89: 1139 | F89: ՀՀ կառավարության պահուստային ֆոնդ | G89: =+G93+G101 -> 0 | H89: =+H93+H101 -> 0 | I89: =+I93+I101 -> 0 | J89: =+J93+J101 -> 0
F90: այդ թվում՝
F91: ՀՀ կառավարություն | G91: =+G89 -> 0 | H91: =+H89 -> 0 | I91: =+I89 -> 0 | J91: =+J89 -> 0
F92: այդ թվում`
E93: 11001 | F93: ՀՀ կառավարության պահուստային ֆոնդ | G93: =+G95 -> -168266.66 | H93: =+H95 -> -440554 | I93: =+I95 -> -505636.65 | J93: =+J95 -> -505636.65
F94: այդ թվում` ըստ կատարողների | G94: =+G95 -> -168266.66 | H94: =+H95 -> -440554 | I94: =+I95 -> -505636.65 | J94: =+J95 -> -505636.65
F95: ՀՀ կառավարություն | G95: =+G97 -> -168266.66 | H95: =+H97 -> -440554 | I95: =+I97 -> -505636.65 | J95: =+J97 -> -505636.65
F96: այդ թվում` բյուջետային ծախսերի տնտեսագիտական դասակարգման հոդվածներ
F97: ԸՆԴԱՄԵՆԸ ԾԱԽՍԵՐ | G97: =+G98 -> -168266.66 | H97: =+H98 -> -440554 | I97: =+I98 -> -505636.65 | J97: =+J98 -> -505636.65
F98: ԸՆԹԱՑԻԿ ԾԱԽՍԵՐ | G98: =+G99 -> -168266.66 | H98: =+H99 -> -440554 | I98: =+I99 -> -505636.65 | J98: =+J99 -> -505636.65
F99: ԱՅԼ ԾԱԽՍԵՐ | G99: =+G100 -> -168266.66 | H99: =+H100 -> -440554 | I99: =+I100 -> -505636.65 | J99: =+J100 -> -505636.65
F100: Պահուստային միջոցներ | G100: =+-G52-G28 -> -168266.66 | H100: =+-H52-H28 -> -440554 | I100: =+-I52-I28 -> -505636.65 | J100: =+-J52-J28 -> -505636.65
...

Sheet 10
A1: Հավելված № 10
A2: ՀՀ կառավարության 2026 թվականի
A3: __________ «____» -ի
A4: N_____ -Ն որոշման
A5: ՀԱՅԱՍՏԱՆԻ ՀԱՆՐԱՊԵՏՈՒԹՅԱՆ ԿԱՌԱՎԱՐՈՒԹՅԱՆ 2025 ԹՎԱԿԱՆԻ ԴԵԿՏԵՄԲԵՐԻ 25-Ի № 1910-Ն ՈՐՈՇՄԱՆ № 5 ՀԱՎԵԼՎԱԾԻ № 2 ԱՂՅՈՒՍԱԿՈՒՄ ԿԱՏԱՐՎՈՂ ՓՈՓՈԽՈՒԹՅՈՒՆՆԵՐԸ ԵՎ ԼՐԱՑՈՒՄՆԵՐԸ
A6: (հազար դրամներով)
A7: Ծրագրային դասիչ | C7: Բյուջետային գլխավոր կարգադրիչների, ծրագրերի, միջոցառումների և ուղղությունների անվանումները | D7: Ցուցանիշների փոփոխությունները (ավելացումները նշված են դրական նշանով, իսկ նվազեցումները` փակագծերում)
A8: Ծրագիր | B8: Միջոցառում | D8: Առաջին եռամսյակ | E8: Առաջին կիսամյակ | F8: Ինն ամիս | G8: Տարի
C9: ՀՀ ԱՌՈՂՋԱՊԱՀՈՒԹՅԱՆ ՆԱԽԱՐԱՐՈՒԹՅՈՒՆ | D9: =+D11+D31 -> -435470.66 | E9: =+E11+E31 -> -707758 | F9: =+F11+F31 -> -772840.61 | G9: =+G11+G31 -> -772840.61
C10: այդ թվում՝
A11: 1126 | B11: 31002 | C11: Առողջապահական կազմակերպությունների վերազինում | D11: =+D13 -> -55000 | E11: =+E13 -> -440000 | F11: =+F13 -> 135917.39 | G11: =+G13 -> 670513.18
C12: այդ թվում` ըստ կատարողների
C13: ՀՀ առողջապահության նախարարություն | D13: =+D18+D20+D22+D25+D27+D15+D29 -> -55000 | E13: =+E18+E20+E22+E25+E27+E15+E29 -> -440000 | F13: =+F18+F20+F22+F25+F27+F15+F29 -> 135917.39 | G13: =+G18+G20+G22+G25+G27+G15+G29 -> 670513.18
C14: այդ թվում՝ ըստ ուղղությունների
C15: Երևան քաղաք | D15: =+D16+D17 -> 0 | E15: =+E16+E17 -> 0 | F15: =+F16+F17 -> 1040917.4 | G15: =+G16+G17 -> 2537013.2
C16: Առողջապահական կազմակերպությունների համար բժշկական գույքի և սարքավորումների ձեռքբերում | D16: 0 | E16: 0 | F16: 874337.38 | G16: 1711391.2
C17: ՀՀ ԱՆ «Ռադիոիզոտոպների արտադրության կենտրոն» ՓԲԸ | D17: 0 | E17: 0 | F17: 166580.01 | G17: 825622
C18: ՀՀ Արագածոտնի մարզ | D18: =+D19 -> 0 | E18: =+E19 -> 0 | F18: =+F19 -> 0 | G18: =+G19 -> -221500
C19: ՀՀ ԱՆ «Ծաղկահովիտի առողջության կենտրոն» ՓԲԸ | D19: 0 | E19: 0 | F19: 0 | G19: -221500
C20: ՀՀ Արարատի մարզ | D20: =SUM(D21:D21) -> -55000 | E20: =SUM(E21:E21) -> -165000 | F20: =SUM(F21:F21) -> -165000 | G20: =SUM(G21:G21) -> -330000
C21: ՀՀ ԱՆ «Վեդու բժշկական կենտրոն» ՓԲԸ | D21: -55000 | E21: -165000 | F21: -165000 | G21: -330000
C22: ՀՀ Կոտայքի մարզ | D22: =SUM(D23:D24) -> 0 | E22: =SUM(E23:E24) -> 0 | F22: =SUM(F23:F24) -> -275000 | G22: =SUM(G23:G24) -> -750000
C23: ՀՀ ԱՆ Եղվարդի «Նաիրիի բժշկական կենտրոն» ՓԲԸ | D23: 0 | E23: 0 | F23: -275000 | G23: -550000
C24: ՀՀ Կոտայքի մարզի «Նոր Հաճնի պոլիկլինիկա» ՊՓԲԸ | D24: 0 | E24: 0 | F24: 0 | G24: -200000
C25: ՀՀ Լոռու մարզ | D25: =SUM(D26) -> 0 | E25: =SUM(E26) -> -275000 | F25: =SUM(F26) -> -515000 | G25: =SUM(G26) -> -515000
C26: ՀՀ ԱՆ «Տաշիրի բժշկական կենտրոն» ՓԲԸ | D26: 0 | E26: -275000 | F26: -515000 | G26: -515000
C27: ՀՀ Շիրակի մարզ | D27: =SUM(D28) -> 0 | E27: =SUM(E28) -> 0 | F27: =SUM(F28) -> 0 | G27: =SUM(G28) -> -300000
C28: ՀՀ ԱՆ «Գյումրու բժշկական կենտրոն» ՓԲԸ ծննդատուն | D28: 0 | E28: 0 | F28: 0 | G28: -300000
C29: ՀՀ Սյունիքի մարզ | D29: =+D30 -> 0 | E29: =+E30 -> 0 | F29: =+F30 -> 50000 | G29: =+G30 -> 250000
C30: ՀՀ ԱՆ «Սիսիանի բժշկական կենտրոն» ՓԲԸ | D30: 0 | E30: 0 | F30: 50000 | G30: 250000
A31: 1126 | B31: 31003 | C31: Առողջապահական կազմակերպությունների կառուցում, վերակառուցում | D31: =+D33+D55 -> -380470.66 | E31: =+E33+E55 -> -267758 | F31: =+F33+F55 -> -908758 | G31: =+G33+G55 -> -1443353.8
C32: այդ թվում` ըստ կատարողների
C33: ՀՀ առողջապահության նախարարություն | D33: =+D35+D43+D45+D52+D50+D48 -> 53784 | E33: =+E35+E43+E45+E52+E50+E48 -> -84558 | F33: =+F35+F43+F45+F52+F50+F48 -> -670558 | G33: =+G35+G43+G45+G52+G50+G48 -> -1205153.8
C34: այդ թվում` ըստ ուղղությունների
C35: Երևան քաղաք | D35: =SUM(D36:D42) -> -38460 | E35: =SUM(E36:E42) -> -94866 | F35: =SUM(F36:F42) -> -380866 | G35: =SUM(G36:G42) -> -665461.79
C36: ՀՀ ԱՆ «Հոգեկան առողջության պահպանման ազգային կենտրոն» ՓԲԸ | D36: -171000 | E36: -171000 | F36: -271000 | G36: -355595.79
C37: ՀՀ ԱՆ «Ինֆեկցիոն հիվանդությունների ազգային կենտրոն» ՓԲԸ | D37: 0 | E37: -114000 | F37: -300000 | G37: -500000
C38: ՀՀ ԱՆ «Ակադեմիկոս Ս. Ավդալբեկյանի անվան առողջապահության ազգային ինստիտուտ» ՓԲԸ/ Ազգային գրադարան/ | D38: 0 | E38: 10650 | F38: 10650 | G38: 10650
C39: ՀՀ ԱՆ «Դատաբժշկական գիտագործնական կենտրոն» ՊՈԱԿ | D39: 0 | E39: 23040 | F39: 23040 | G39: 23040
C40: ՀՀ ԱՆ «Դեղերի և բժշկական պարագաների ապահովման ազգային կենտրոն» ՊՈԱԿ | D40: 0 | E40: 23904 | F40: 23904 | G40: 23904
C41: ՀՀ ԱՆ «Հանրապետական շտապ օգնության ծառայություն» ՓԲԸ | D41: 68640 | E41: 68640 | F41: 68640 | G41: 68640
C42: Առողջության համընդհանուր ապահովագրության հիմնադրամ | D42: 63900 | E42: 63900 | F42: 63900 | G42: 63900
C43: ՀՀ Արմավիրի մարզ | D43: =SUM(D44:D44) -> -55000 | E43: =SUM(E44:E44) -> -55000 | F43: =SUM(F44:F44) -> -55000 | G43: =SUM(G44:G44) -> -55000
C44: ՀՀ ԱՆ «Հիվանդությունների վերահսկման և կանխարգելման ազգային կենտրոն» ՊՈԱԿ Արմավիրի մարզի մասնաճյուղ | D44: -55000 | E44: -55000 | F44: -55000 | G44: -55000
C45: ՀՀ Գեղարքունիքի մարզ | D45: =SUM(D46:D46) -> 4194 | E45: =SUM(E46:E47) -> 22258 | F45: =SUM(F46:F47) -> -177742 | G45: =SUM(G46:G47) -> -377742
C46: ՀՀ ԱՆ «Վարդենիսի բժշկական կենտրոն» ՓԲԸ | D46: 4194 | E46: 4194 | F46: =-200000+4194 -> -195806 | G46: =-400000+4194 -> -395806
C47: ՀՀ ԱՆ «Մարտունու բժշկական կենտրոն» ՓԲԸ | D47: 0 | E47: 18064 | F47: 18064 | G47: 18064
C48: ՀՀ Շիրակի մարզ | D48: =+D49 -> 3000 | E48: =+E49 -> 3000 | F48: =+F49 -> 3000 | G48: =+G49 -> 3000
C49: ՀՀ ԱՆ «Գյումրու բժշկական կենտրոն» ՓԲԸ ծննդատուն | D49: 3000 | E49: 3000 | F49: 3000 | G49: 3000
C50: ՀՀ Սյունիքի մարզ | D50: =SUM(D51:D51) -> 139000 | E50: =SUM(E51:E51) -> 139000 | F50: =SUM(F51:F51) -> 139000 | G50: =SUM(G51:G51) -> 139000
C51: ՀՀ ԱՆ «Դատաբժշկական գիտագործնական կենտրոն» Մեղրու ստորաբաժանում | D51: 139000 | E51: 139000 | F51: 139000 | G51: 139000
C52: ՀՀ Վայոց ձորի մարզ | D52: =+D53 -> 1050 | E52: =+E53 -> -98950 | F52: =+F53 -> -198950 | G52: =+G53 -> -248950
C53: ՀՀ ԱՆ «Ջերմուկի ԱԿ» ՓԲԸ | D53: 1050 | E53: =-100000+1050 -> -98950 | F53: =-200000+1050 -> -198950 | G53: =-250000+1050 -> -248950
C54: այդ թվում` ըստ կատարողների
C55: ՀՀ քաղաքաշինության կոմիտե | D55: =+D57+D62+D59+D64+D66 -> -434254.66 | E55: =+E57+E62+E59+E64+E66 -> -183200 | F55: =+F57+F62+F59+F64+F66 -> -238200 | G55: =+G57+G62+G59+G64+G66 -> -238200
C56: այդ թվում` ըստ ուղղությունների
C57: Երևան քաղաք | D57: =SUM(D58:D58) -> 1800 | E57: =SUM(E58:E58) -> 1800 | F57: =SUM(F58:F58) -> 1800 | G57: =SUM(G58:G58) -> 1800
C58: ՀՀ ԱՆ «Հոգեկան առողջության պահպանման ազգային կենտրոն» ՓԲԸ | D58: 1800 | E58: 1800 | F58: 1800 | G58: 1800
C59: ՀՀ Արագածոտնի մարզ | D59: =+D60+D61 -> -25000 | E59: =+E60+E61 -> 50000 | F59: =+F60+F61 -> -5000 | G59: =+G60+G61 -> -5000
C60: ՀՀ ԱՆ «Ծաղկահովիտի առողջության կենտրոն» ՓԲԸ | D60: 0 | E60: 75000 | F60: 75000 | G60: 75000
C61: ՀՀ ԱՆ «Աշտարակի բժշկական կենտրոն» ՓԲԸ/գլխ.մասնաշենք/ | D61: -25000 | E61: -25000 | F61: -80000 | G61: -80000
C62: ՀՀ Արարատի մարզ | D62: =+D63 -> 0 | E62: =+E63 -> 350000 | F62: =+F63 -> 350000 | G62: =+G63 -> 350000
C63: ՀՀ ԱՆ «Մասիսի բժշկական կենտրոն» ՓԲԸ | D63: 0 | E63: 350000 | F63: 350000 | G63: 350000
C64: ՀՀ Կոտայքի մարզ | D64: =+D65 -> -311054.66 | E64: =+E65 -> -485000 | F64: =+F65 -> -485000 | G64: =+G65 -> -485000
C65: ՀՀ ԱՆ Եղվարդի «Նաիրիի բժշկական կենտրոն» ՓԲԸ | D65: -311054.66 | E65: -485000 | F65: -485000 | G65: -485000
C66: ՀՀ Լոռու մարզ | D66: =SUM(D67) -> -100000 | E66: =SUM(E67) -> -100000 | F66: =SUM(F67) -> -100000 | G66: =SUM(G67) -> -100000
C67: ՀՀ ԱՆ «Տաշիրի բժշկական կենտրոն» ՓԲԸ | D67: -100000 | E67: -100000 | F67: -100000 | G67: -100000

Sheet 11
A1: Հավելված № 11
A2: ՀՀ կառավարության 2026 թվականի
A3: __________ «____» -ի
A4: N_____ -Ն որոշման
A5: ՀԱՅԱՍՏԱՆԻ ՀԱՆՐԱՊԵՏՈՒԹՅԱՆ ԿԱՌԱՎԱՐՈՒԹՅԱՆ 2025 ԹՎԱԿԱՆԻ ԴԵԿՏԵՄԲԵՐԻ 25-Ի № 1910-Ն ՈՐՈՇՄԱՆ № 5 ՀԱՎԵԼՎԱԾԻ № 4 ԱՂՅՈՒՍԱԿՈՒՄ ԿԱՏԱՐՎՈՂ ԼՐԱՑՈՒՄՆԵՐԸ
A6: հազար դրամներով
A7: Ծրագրային դասիչը | C7: Բյուջետային հատկացումների գլխավոր կարգադրիչների, ծրագրերի, միջոցառումների և միջոցառումները կատարող պետական մարմինների անվանումները | D7: Առաջին եռամսյակ | E7: այդ թվում` | G7: Կիսամյակ | J7: Ինն ամիս | M7: Տարի
D8: Ընդամենը | E8: այդ թվում` | G8: Ընդամենը | H8: այդ թվում` | J8: Ընդամենը | K8: այդ թվում` | M8: Ընդամենը | N8: այդ թվում`
A9: Ծրագիր | B9: Միջոցառում | E9: Դրամաշնորհային միջոցներ | F9: Համաֆինանսավորում | H9: Դրամաշնորհային միջոցներ | I9: Համաֆինանսավորում | K9: Դրամաշնորհային միջոցներ | L9: Համաֆինանսավորում | N9: Դրամաշնորհային միջոցներ | O9: Համաֆինանսավորում
C10: ԸՆԴԱՄԵՆԸ | D10: =+D12+D13 -> 55000 | E10: =+E12+E13 -> 0 | F10: =+F12+F13 -> 55000 | G10: =+G12+G13 -> 92000 | H10: =+H12+H13 -> 0 | I10: =+I12+I13 -> 92000 | J10: =+J12+J13 -> 92000 | K10: =+K12+K13 -> 0 | ... O10: =+O12+O13 -> 92000
C11: այդ թվում`
C12: ԸՆԹԱՑԻԿ ԾԱԽՍԵՐ
C13: ՈՉ ՖԻՆԱՆՍԱԿԱՆ ԱԿՏԻՎՆԵՐԻ ԳԾՈՎ ԾԱԽՍԵՐ | D13: =+D23 -> 55000 | E13: =+E23 -> 0 | F13: =+F23 -> 55000 | G13: =+G23 -> 92000 | H13: =+H23 -> 0 | I13: =+I23 -> 92000 | J13: =+J23 -> 92000 | K13: =+K23 -> 0 | ... O13: =+O23 -> 92000
C14: ՀՀ առողջապահության նախարարություն | D14: =+D16 -> 55000 | E14: =+E16 -> 0 | F14: =+F16 -> 55000 | G14: =+G16 -> 92000 | H14: =+H16 -> 0 | I14: =+I16 -> 92000 | J14: =+J16 -> 92000 | K14: =+K16 -> 0 | ... O14: =+O16 -> 92000
C15: այդ թվում`
A16: 1053 | C16: Առողջապահության համակարգի արդիականացման և արդյունավետության բարձրացման ծրագիր | D16: =+D18 -> 55000 | E16: =+E18 -> 0 | F16: =+F18 -> 55000 | G16: =+G18 -> 92000 | H16: =+H18 -> 0 | I16: =+I18 -> 92000 | J16: =+J18 -> 92000 | K16: =+K18 -> 0 | ... O16: =+O18 -> 92000
C17: այդ թվում`
B18: 32007 | C18: ՀՀ կայունացման և զարգացման Եվրասիական հիմնադրամի միջոցներից ֆինանսավորվող «ՀՀ-ում COVID-19 համավարակի պատրաստվածությանմակարդակի բարձրացում. կորոնավիրուսից առաջացող սպառնալիքի հայտնաբերում և արձագանքում» ծրագրի շրջանակներում շենքային պայմանների բարելավում | D18: =+E18+F18 -> 55000 | E18: =+E20 -> 0 | F18: =+F20 -> 55000 | G18: =+H18+I18 -> 92000 | H18: =+H20 -> 0 | I18: =+I20 -> 92000 | J18: =+K18+L18 -> 92000 | K18: =+K20 -> 0 | L18: =+L20 -> 92000 | M18: =+N18+O18 -> 92000 | N18: =+N20 -> 0 | O18: =+O20 -> 92000
C19: այդ թվում` ըստ կատարողների
C20: ՀՀ առողջապահության նախարարություն | D20: =+E20+F20 -> 55000 | E20: =+E22 -> 0 | F20: =+F22 -> 55000 | G20: =+H20+I20 -> 92000 | H20: =+H22 -> 0 | I20: =+I22 -> 92000 | J20: =+K20+L20 -> 92000 | K20: =+K22 -> 0 | L20: =+L22 -> 92000 | M20: =+N20+O20 -> 92000 | N20: =+N22 -> 0 | O20: =+O22 -> 92000
C21: այդ թվում` բյուջետային ծախսերի տնտեսագիտական դասակարգման հոդվածներ | G21: =+H21+I21 -> 0 | J21: =+K21+L21 -> 0 | M21: =+N21+O21 -> 0
C22: ԸՆԴԱՄԵՆԸ ԾԱԽՍԵՐ | D22: =+E22+F22 -> 55000 | E22: =+E23 -> 0 | F22: =+F23 -> 55000 | G22: =+H22+I22 -> 92000 | H22: =+H23 -> 0 | I22: =+I23 -> 92000 | J22: =+K22+L22 -> 92000 | K22: =+K23 -> 0 | L22: =+L23 -> 92000 | M22: =+N22+O22 -> 92000 | N22: =+N23 -> 0 | O22: =+O23 -> 92000
C23: ՈՉ ՖԻՆԱՆՍԱԿԱՆ ԱԿՏԻՎՆԵՐԻ ԳԾՈՎ ԾԱԽՍԵՐ | D23: =+E23+F23 -> 55000 | E23: =+E24 -> 0 | F23: =+F24 -> 55000 | G23: =+H23+I23 -> 92000 | H23: =+H24 -> 0 | I23: =+I24 -> 92000 | J23: =+K23+L23 -> 92000 | K23: =+K24 -> 0 | L23: =+L24 -> 92000 | M23: =+N23+O23 -> 92000 | N23: =+N24 -> 0 | O23: =+O24 -> 92000
C24: ՀԻՄՆԱԿԱՆ ՄԻՋՈՑՆԵՐ | D24: =+E24+F24 -> 55000 | E24: =+E25 -> 0 | F24: =+F25 -> 55000 | G24: =+H24+I24 -> 92000 | H24: =+H25 -> 0 | I24: =+I25 -> 92000 | J24: =+K24+L24 -> 92000 | K24: =+K25 -> 0 | L24: =+L25 -> 92000 | M24: =+N24+O24 -> 92000 | N24: =+N25 -> 0 | O24: =+O25 -> 92000
C25: ՇԵՆՔԵՐ ԵՎ ՇԻՆՈՒԹՅՈՒՆՆԵՐ | D25: =+E25+F25 -> 55000 | E25: =+E26 -> 0 | F25: =+F26 -> 55000 | G25: =+H25+I25 -> 92000 | H25: =+H26 -> 0 | I25: =+I26 -> 92000 | J25: =+K25+L25 -> 92000 | K25: =+K26 -> 0 | L25: =+L26 -> 92000 | M25: =+N25+O25 -> 92000 | N25: =+N26 -> 0 | O25: =+O26 -> 92000
C26: - Շենքերի և շինությունների շինարարություն | D26: =+E26+F26 -> 55000 | E26: 0 | F26: 55000 | G26: =+H26+I26 -> 92000 | H26: 0 | I26: 92000 | J26: =+K26+L26 -> 92000 | K26: 0 | L26: 92000 | M26: =+N26+O26 -> 92000 | N26: 0 | O26: 92000

Sheet 12
A1: Հավելված № 12
A2: ՀՀ կառավարության 2026 թվականի
A3: __________ «____» -ի
A4: N_____ -Ն որոշման
A5: ՀԱՅԱՍՏԱՆԻ ՀԱՆՐԱՊԵՏՈՒԹՅԱՆ ԿԱՌԱՎԱՐՈՒԹՅԱՆ 2025 ԹՎԱԿԱՆԻ ԴԵԿՏԵՄԲԵՐԻ 25-Ի № 1910-Ն ՈՐՈՇՄԱՆ № 5 ՀԱՎԵԼՎԱԾԻ № 7 ԱՂՅՈՒՍԱԿՈՒՄ ԿԱՏԱՐՎՈՂ ՓՈՓՈԽՈՒԹՅՈՒՆՆԵՐԸ ԵՎ ԼՐԱՑՈՒՄՆԵՐԸ
A6: (հազար դրամներով)
A7: Ծրագրային դասիչ | C7: Բյուջետային հատկացումների գլխավոր կարգադրիչների, ծրագրերի, միջոցառումների, ծախսային ուղղությունների անվանումները | D7: Միջոցառումները կատարող պետական մարմինների և դրամաշնորհ ստացող տնտեսվարող սուբյեկտների անվանումները | E7: Ցուցանիշների փոփոխությունները (ավելացումները նշված են դրական նշանով)
A8: Ծրագիր | B8: Միջոցառում | E8: Տարի
A9: 1 | B9: 2 | C9: 3 | D9: 4 | E9: 5
A10: ՀՀ առողջապահության նախարարություն | E10: =+E11 -> 413636.65
A11: 1126 | B11: Առողջապահության ոլորտում պետական քաղաքականության մշակում, ծրագրերի համակարգում և մոնիտորինգ | E11: =+E12 -> 413636.65
B12: 12006 | C12: Առողջապահական համակարգի պետական առևտրային և ոչ առևտրային կազմակերպություններին ֆինանսական աջակցության հատկացում | D12: ՀՀ առողջապահության նախարարություն | E12: =SUM(E13:E20) -> 413636.65
D13: ՀՀ ԱՆ «Կապանի բժշկական կենտրոն» ՓԲԸ | E13: 11055.8
D14: ՀՀ ԱՆ «Ինֆեկցիոն հիվանդությունների ազգային կենտրոն» ՓԲԸ | E14: 41186.45
D15: ՀՀ ԱՆ «Հանրապետական շտապ օգնության» ՓԲԸ | E15: 219944.4
D16: ՀՀ ԱՆ «Էջմիածնի բժշկական Կենտրոն» ՓԲԸ | E16: 25000
D17: ՀՀ ԱՆ «Ստեփանավանի բժշկական Կենտրոն» ՓԲԸ | E17: 25000
D18: ՀՀ ԱՆ «Հոգեկան առողջության պահպանման ազգային կենտրոն» ՓԲԸ | E18: 25000
D19: ՀՀ ԱՆ «Ռադիոիզոտոպների արտադրության կենտրոն» ՓԲԸ | E19: 24000
D20: ՀՀ ԱՆ «Սևանի հոգեկան առողջության» ՓԲԸ | E20: 42450

Sheet 13
B1: Հավելված № 13
B2: ՀՀ կառավարության 2025 թվականի
B3: __________ «____» -ի
B4: N_____ -Ն որոշման
B5: ՀԱՅԱՍՏԱՆԻ ՀԱՆՐԱՊԵՏՈՒԹՅԱՆ ԿԱՌԱՎԱՐՈՒԹՅԱՆ 2025 ԹՎԱԿԱՆԻ ԴԵԿՏԵՄԲԵՐԻ 25-Ի № 1910-Ն ՈՐՈՇՄԱՆ № 9 ՀԱՎԵԼՎԱԾՈՒՄ ԿԱՏԱՐՎՈՂ ՓՈՓՈԽՈՒԹՅՈՒՆՆԵՐԸ ԵՎ ԼՐԱՑՈՒՄՆԵՐԸ
A6: (հազար դրամներով)
A7: ԲԳԿ | B7: Ծրագիր | D7: Միջոցառում | H7: Իրականացնողը/ ակտիվն օգտագործողը/ շահառուի ընտրության չափորոշիչը | I7: Արդյունքային չափորոշիչը | J7: Ցուցանիշների փոփոխությունները (ավելացումները նշված են դրական նշանով, իսկ նվազեցումները` փակագծերում)
B8: Դասիչը | C8: Անվանումը | D8: Դասիչը | E8: Անվանումը | F8: Նկարագրությունը | G8: Տեսակը | J8: Առաջին եռամսյակ | K8: Առաջին կիսամյակ | L8: Ինն ամիս | M8: Տարի
A9: ԸՆԴԱՄԵՆԸ | J9: =+J10+J39 -> -198420 | K9: =+K10+K39 -> -198420 | L9: =+L10+L39 -> -198419.96 | M9: =+M10+M39 -> -198419.96
A10: ՀՀ առողջապահության նախարարություն | J10: =+J11+J17 -> -198420 | K10: =+K11+K17 -> -198420 | L10: =+L11+L17 -> -198419.96 | M10: =+M11+M17 -> -198419.96
B11: 1053 | C11: Առողջապահության համակարգի արդիականացման և արդյունավետության բարձրացման ծրագիր | J11: =+J12 -> 55000 | K11: =+K12 -> 92000 | L11: =+L12 -> 92000 | M11: =+M12 -> 92000
D12: 1053 - 32007 | E12: ՀՀ կայունացման և զարգացման Եվրասիական հիմնադրամի միջոցներից ֆինանսավորվող «ՀՀ-ում COVID-19 համավարակի պատրաստվածությանմակարդակի բարձրացում. կորոնավիրուսից առաջացող սպառնալիքի հայտնաբերում և արձագանքում» ծրագրի շրջանակներում շենքային պայմանների բարելավում | J12: =+'6'!G12 -> 55000 | K12: =+'6'!H12 -> 92000 | L12: =+'6'!I12 -> 92000 | M12: =+'6'!J12 -> 92000
F13: Հիվանդությունների վերահսկման և կանխարգելման ազգային կենտրոնի Արմավիրի մարզային մասնաճյուղի վերակառուցման աշխատանքներ
G14: Այլ պետական կազմակերպությունների կողմից օգտագործվող ոչ ֆինանսական ակտիվների հետ գործառնություններ
H15: Ակտիվն օգտագործող կազմակերպության անվանումը` Մասնագիտացված միավոր
I16: Հիվանդությունների վերահսկման և կանխարգելման ազգային կենտրոնի ՀՀ Արմավիրի մարզային մասնաճյուղի վերակառուցում /տոկոս | K16: 100 | M16: 100
B17: 1126 | C17: Առողջապահության ոլորտում պետական քաղաքականության մշակում, ծրագրերի համակարգում և մոնիտորինգ | J17: =+J18+J22+J27+J32 -> -253420 | K17: =+K18+K22+K27+K32 -> -290420 | L17: =+L18+L22+L27+L32 -> -290419.96 | M17: =+M18+M22+M27+M32 -> -290419.96
D18: 1126 - 11001 | E18: Առողջապահության ոլորտի պետական քաղաքականության մշակում, ծրագրերի համակարգում և մոնիտորինգ | J18: =+'6'!G14 -> 68784 | K18: =+'6'!H14 -> 68784 | L18: =+'6'!I14 -> 68784 | M18: =+'6'!J14 -> 68784
F19: Մարդու և հանրության առողջության պահպանում, բնակչության առողջության բարելավում, հիվանդությունների կանխարգելում, հաշմանդամության և մահացության ցուցանիշների նվազեցում
G20: Ծառայությունների մատուցում
H21: Ծառայությունը մատուցողի անվանումը` ՀՀ առողջապահության նախարարություն
D22: 1126-12006 | E22: Առողջապահական համակարգի պետական առևտրային և ոչ առևտրային կազմակերպություններին ֆինանսական աջակցության հատկացում | J22: =+'6'!G15 -> 113266.66 | K22: =+'6'!H15 -> 348554 | L22: =+'6'!I15 -> 413636.65 | M22: =+'6'!J15 -> 413636.65
F23: Առողջապահական համակարգի պետական առևտրային և ոչ առևտրային կազմակերպություններին ֆինանսական աջակցության տրամադրում ընթացիկ գործունեության արդյունավետության բարձրացմանն ուղղված
G24: Տրանսֆերտի տրամադրում
H25: Առողջապահական կազմակերպություններ
I26: Ֆինանսական աջակցություն ստացող բժշկական հաստատությունների թիվ, հատ | K26: 0 | M26: 8
D27: 1126 - 31002 | E27: Առողջապահական կազմակերպությունների վերազինում | J27: =+'6'!G16 -> -55000 | K27: =+'6'!H16 -> -440000 | L27: =+'6'!I16 -> 135917.39 | M27: =+'6'!J16 -> 670513.18
F28: Բնակչությանը որակյալ բժշկական օգնության և սպասարկման ծառայություններ մատուցելու նպատակով՛ առողջապահական կազմակերպությունների անհրաժեշտ սարքավորումներով վերազինում
G29: Պետական մարմինների կողմից օգտագործվող ոչ ֆինանսական ակտիվների հետ գործառնություններ
H30: Ակտիվն օգտագործող կազմակերպության անվանումը` Բժշկական կազմակերպություններ
I31: Վերազինվող բուժհաստատությունների քանակ | K31: -5 | M31: -5
D32: 1126 - 31003 | E32: Առողջապահական կազմակերպությունների կառուցում, վերակառուցում | J32: =+'6'!G17 -> -380470.66 | K32: =+'6'!H17 -> -267758 | L32: =+'6'!I17 -> -908758 | M32: =+'6'!J17 -> -1443353.8
F33: Բնակչությանը որակյալ բժշկական օգնության և սպասարկման ծառայություններ մատուցելու նպատակով առողջապահական կազմակերպությունների կառուցում, վերակառուցում
G34: Պետական մարմինների կողմից օգտագործվող ոչ ֆինանսական ակտիվների հետ գործառնություններ
H35: Ակտիվն օգտագործող կազմակերպության անվանումը` Բժշկական կազմակերպություններ
I36: Ընդամենը կառուցվող կազմակերպություններ, թիվ, որից` | K36: 2 | M36: 2
I37: Նոր կառուցվող կազմակերպությունների թիվ, հատ | K37: 2 | M37: 2
I38: Նախագծանախահաշվային փաստաթղթերի քանակ, հատ | K38: 0 | M38: 4
A39: ՀՀ կառավարություն | J39: =+J40 -> 0 | K39: =+K40 -> 0 | L39: =+L40 -> 0 | M39: =+M40 -> 0
B40: 1139 | C40: ՀՀ կառավարության պահուստային ֆոնդ | J40: =+J41+J45 -> 0 | K40: =+K41+K45 -> 0 | L40: =+L41+L45 -> 0 | M40: =+M41+M45 -> 0
D41: 1139 - 11001 | E41: ՀՀ կառավարության պահուստային ֆոնդ | J41: =+'6'!G20 -> -168266.66 | K41: =+'6'!H20 -> -440554 | L41: =+'6'!I20 -> -505636.65 | M41: =+'6'!J20 -> -505636.65
F42: ՀՀ պետական բյուջեում նախատեսված ելքերի լրացուցիչ ֆինանսավորման, պետական բյուջեում չկանխատեսված ելքերի, ինչպես նաև բյուջետային երաշխիքների ապահովման ելքերի ֆինանսավորման ապահովում
G43: Ծառայությունների մատուցում
H44: Ծառայությունը մատուցողի անվանումը` ՀՀ կառավարություն
D45: 1139 - 11001 | E45: ՀՀ կառավարության պահուստային ֆոնդ | J45: =+'6'!G21 -> 168266.66 | K45: =+'6'!H21 -> 440554 | L45: =+'6'!I21 -> 505636.65 | M45: =+'6'!J21 -> 505636.65
F46: ՀՀ պետական բյուջեում նախատեսված ելքերի լրացուցիչ ֆինանսավորման, պետական բյուջեում չկանխատեսված ելքերի, ինչպես նաև բյուջետային երաշխիքների ապահովման ելքերի ֆինանսավորման ապահովում
G47: Ծառայությունների մատուցում
H48: Ծառայությունը մատուցողի անվանումը` ՀՀ կառավարություն

Sheet 14
B1: Հավելված № 14
B2: ՀՀ կառավարության 2025 թվականի
B3: __________ «____» -ի
B4: N_____ -Ն որոշման
B5: ՀԱՅԱՍՏԱՆԻ ՀԱՆՐԱՊԵՏՈՒԹՅԱՆ ԿԱՌԱՎԱՐՈՒԹՅԱՆ 2025 ԹՎԱԿԱՆԻ ԴԵԿՏԵՄԲԵՐԻ 25-Ի № 1910-Ն ՈՐՈՇՄԱՆ № 9.1 ՀԱՎԵԼՎԱԾՈՒՄ ԿԱՏԱՐՎՈՂ ՓՈՓՈԽՈՒԹՅՈՒՆՆԵՐԸ ԵՎ ԼՐԱՑՈՒՄՆԵՐԸ
A6: (հազար դրամներով)
A7: ԲՍԿ | B7: Ծրագիր | D7: Միջոցառում | H7: Իրականացնողը/ ակտիվն օգտագործողը/ շահառուի ընտրության չափորոշիչը | I7: Արդյունքային չափորոշիչը | J7: Ցուցանիշների փոփոխությունները (ավելացումները նշված են դրական նշանով, իսկ նվազեցումները` փակագծերում)
B8: Դասիչը | C8: Անվանումը | D8: Դասիչը | E8: Անվանումը | F8: Նկարագրությունը | G8: Տեսակը | J8: Առաջին եռամսյակ | K8: Առաջին կիսամյակ | L8: Ինն ամիս | M8: Տարի
A9: ԸՆԴԱՄԵՆԸ | J9: =+J10+J39+J45 -> -198420 | K9: =+K10+K39+K45 -> -198420 | L9: =+L10+L39+L45 -> -198419.96 | M9: =+M10+M39+M45 -> -198419.96
A10: ՀՀ առողջապահության նախարարություն | J10: =+J11+J17 -> 235834.66 | K10: =+K11+K17 -> -15220 | L10: =+L11+L17 -> 39780.04 | M10: =+M11+M17 -> 39780.04
B11: 1053 | C11: Առողջապահության համակարգի արդիականացման և արդյունավետության բարձրացման ծրագիր | J11: =+J12 -> 55000 | K11: =+K12 -> 92000 | L11: =+L12 -> 92000 | M11: =+M12 -> 92000
D12: 1053 - 32007 | E12: ՀՀ կայունացման և զարգացման Եվրասիական հիմնադրամի միջոցներից ֆինանսավորվող «ՀՀ-ում COVID-19 համավարակի պատրաստվածությանմակարդակի բարձրացում. կորոնավիրուսից առաջացող սպառնալիքի հայտնաբերում և արձագանքում» ծրագրի շրջանակներում շենքային պայմանների բարելավում | J12: =+'13'!J12 -> 55000 | K12: =+'13'!K12 -> 92000 | L12: =+'13'!L12 -> 92000 | M12: =+'13'!M12 -> 92000
F13: Հիվանդությունների վերահսկման և կանխարգելման ազգային կենտրոնի Արմավիրի մարզային մասնաճյուղի վերակառուցման աշխատանքներ
G14: Այլ պետական կազմակերպությունների կողմից օգտագործվող ոչ ֆինանսական ակտիվների հետ գործառնություններ
H15: Ակտիվն օգտագործող կազմակերպության անվանումը` Մասնագիտացված միավոր
I16: Հիվանդությունների վերահսկման և կանխարգելման ազգային կենտրոնի ՀՀ Արմավիրի մարզային մասնաճյուղի վերակառուցում /տոկոս | K16: 100 | M16: 100
B17: 1126 | C17: Առողջապահության ոլորտում պետական քաղաքականության մշակում, ծրագրերի համակարգում և մոնիտորինգ | J17: =+J18+J22+J27+J32 -> 180834.66 | K17: =+K18+K22+K27+K32 -> -107220 | L17: =+L18+L22+L27+L32 -> -52219.96 | M17: =+M18+M22+M27+M32 -> -52219.96
D18: 1126 - 11001 | E18: Առողջապահության ոլորտի պետական քաղաքականության մշակում, ծրագրերի համակարգում և մոնիտորինգ | J18: =+'13'!J18 -> 68784 | K18: =+'13'!K18 -> 68784 | L18: =+'13'!L18 -> 68784 | M18: =+'13'!M18 -> 68784
F19: Մարդու և հանրության առողջության պահպանում, բնակչության առողջության բարելավում, հիվանդությունների կանխարգելում, հաշմանդամության և մահացության ցուցանիշների նվազեցում
G20: Ծառայությունների մատուցում
H21: Ծառայությունը մատուցողի անվանումը` ՀՀ առողջապահության նախարարություն
D22: 1126-12006 | E22: Առողջապահական համակարգի պետական առևտրային և ոչ առևտրային կազմակերպություններին ֆինանսական աջակցության հատկացում | J22: =+'13'!J22 -> 113266.66 | K22: =+'13'!K22 -> 348554 | L22: =+'13'!L22 -> 413636.65 | M22: =+'13'!M22 -> 413636.65
F23: Առողջապահական համակարգի պետական առևտրային և ոչ առևտրային կազմակերպություններին ֆինանսական աջակցության տրամադրում ընթացիկ գործունեության արդյունավետության բարձրացմանն ուղղված
G24: Տրանսֆերտի տրամադրում
H25: Առողջապահական կազմակերպություններ
I26: Ֆինանսական աջակցություն ստացող բժշկական հաստատությունների թիվ, հատ | K26: 0 | M26: 8
D27: 1126 - 31002 | E27: Առողջապահական կազմակերպությունների վերազինում | J27: =+'13'!J27 -> -55000 | K27: =+'13'!K27 -> -440000 | L27: =+'13'!L27 -> 135917.39 | M27: =+'13'!M27 -> 670513.18
F28: Բնակչությանը որակյալ բժշկական օգնության և սպասարկման ծառայություններ մատուցելու նպատակով՛ առողջապահական կազմակերպությունների անհրաժեշտ սարքավորումներով վերազինում
G29: Պետական մարմինների կողմից օգտագործվող ոչ ֆինանսական ակտիվների հետ գործառնություններ
H30: Ակտիվն օգտագործող կազմակերպության անվանումը` Բժշկական կազմակերպություններ
I31: Վերազինվող բուժհաստատությունների քանակ | K31: -5 | M31: -5
D32: 1126 - 31003 | E32: Առողջապահական կազմակերպությունների կառուցում, վերակառուցում | J32: =+'9'!G64 -> 53784 | K32: =+'9'!H64 -> -84558 | L32: =+'9'!I64 -> -670558 | M32: =+'9'!J64 -> -1205153.8
F33: Բնակչությանը որակյալ բժշկական օգնության և սպասարկման ծառայություններ մատուցելու նպատակով առողջապահական կազմակերպությունների կառուցում, վերակառուցում
G34: Պետական մարմինների կողմից օգտագործվող ոչ ֆինանսական ակտիվների հետ գործառնություններ
H35: Ակտիվն օգտագործող կազմակերպության անվանումը` Բժշկական կազմակերպություններ
I36: Ընդամենը կառուցվող կազմակերպություններ, թիվ, որից` | K36: 2 | M36: 2
I37: Նոր կառուցվող կազմակերպությունների թիվ, հատ | K37: 2 | M37: 2
I38: Նախագծանախահաշվային փաստաթղթերի քանակ, հատ | K38: 0 | M38: 4
A39: ՀՀ քաղաքաշինության կոմիտե | J39: =+J40 -> -434254.66 | K39: =+K40 -> -183200 | L39: =+L40 -> -238200 | M39: =+M40 -> -238200
B40: 1126 | C40: Առողջապահության ոլորտում պետական քաղաքականության մշակում, ծրագրերի համակարգում և մոնիտորինգ | J40: =+J41 -> -434254.66 | K40: =+K41 -> -183200 | L40: =+L41 -> -238200 | M40: =+M41 -> -238200
D41: 1126 - 31003 | E41: Առողջապահական կազմակերպությունների կառուցում, վերակառուցում | J41: =+'9'!G74 -> -434254.66 | K41: =+'9'!H74 -> -183200 | L41: =+'9'!I74 -> -238200 | M41: =+'9'!J74 -> -238200
F42: Բնակչությանը որակյալ բժշկական օգնության և սպասարկման ծառայություններ մատուցելու նպատակով առողջապահական կազմակերպությունների կառուցում, վերակառուցում
G43: Պետական մարմինների կողմից օգտագործվող ոչ ֆինանսական ակտիվների հետ գործառնություններ
H44: Ակտիվն օգտագործող կազմակերպության անվանումը` Բժշկական կազմակերպություններ
A45: ՀՀ կառավարություն | J45: =+J46 -> 0 | K45: =+K46 -> 0 | L45: =+L46 -> 0 | M45: =+M46 -> 0
B46: 1139 | C46: ՀՀ կառավարության պահուստային ֆոնդ | J46: =+J47+J51 -> 0 | K46: =+K47+K51 -> 0 | L46: =+L47+L51 -> 0 | M46: =+M47+M51 -> 0
D47: 1139 - 11001 | E47: ՀՀ կառավարության պահուստային ֆոնդ | J47: =+'13'!J41 -> -168266.66 | K47: =+'13'!K41 -> -440554 | L47: =+'13'!L41 -> -505636.65 | M47: =+'13'!M41 -> -505636.65
F48: ՀՀ պետական բյուջեում նախատեսված ելքերի լրացուցիչ ֆինանսավորման, պետական բյուջեում չկանխատեսված ելքերի, ինչպես նաև բյուջետային երաշխիքների ապահովման ելքերի ֆինանսավորման ապահովում
G49: Ծառայությունների մատուցում
H50: Ծառայությունը մատուցողի անվանումը` ՀՀ կառավարություն
D51: 1139 - 11001 | E51: ՀՀ կառավարության պահուստային ֆոնդ | J51: =+'13'!J45 -> 168266.66 | K51: =+'13'!K45 -> 440554 | L51: =+'13'!L45 -> 505636.65 | M51: =+'13'!M45 -> 505636.65
F52: ՀՀ պետական բյուջեում նախատեսված ելքերի լրացուցիչ ֆինանսավորման, պետական բյուջեում չկանխատեսված ելքերի, ինչպես նաև բյուջետային երաշխիքների ապահովման ելքերի ֆինանսավորման ապահովում
G53: Ծառայությունների մատուցում
H54: Ծառայությունը մատուցողի անվանումը` ՀՀ կառավարություն

Sheet 15
A1: Հավելված № 15
A2: ՀՀ կառավարության 2026 թվականի
A3: __________ «____» -ի
A4: N_____ -Ն որոշման
A5: ՀԱՅԱՍՏԱՆԻ ՀԱՆՐԱՊԵՏՈՒԹՅԱՆ ԿԱՌԱՎԱՐՈՒԹՅԱՆ 2025 ԹՎԱԿԱՆԻ ԴԵԿՏԵՄԲԵՐԻ 25-Ի № 1910-Ն ՈՐՈՇՄԱՆ № 10 ՀԱՎԵԼՎԱԾՈՒՄ ԿԱՏԱՐՎՈՂ ՓՈՓՈԽՈՒԹՅՈՒՆՆԵՐԸ ԵՎ ԼՐԱՑՈՒՄՆԵՐԸ
A6: Կոդը | B6: Անվանումը | E6: Գնման ձևը | F6: Չափման միավորը | G6: Միավորի գինը | H6: Քանակը | I6: Ցուցանիշների փոփոխությունները (ավելացումները նշված են դրական նշանով, իսկ նվազեցումները` փակագծերում)
I7: (հազար դրամներով)
A8: ԸՆԴԱՄԵՆԸ | I8: =+I9+I78 -> -310200.81
A9: ՀՀ առողջապահության նախարարություն | I9: =+I10 -> -72000.805
A10: Բաժին 07 | B10: Խումբ 06 | C10: Դաս 02 | D10: Առողջապահություն (այլ դասերին չպատկանող) | I10: =+I11+I17+I50 -> -72000.805
A11: 1126 11001 | B11: Առողջապահության ոլորտի պետական քաղաքականության մշակում, ծրագրերի համակարգում և մոնիտորինգ | I11: =+I12 -> 68784
B12: ՄԱՍ III. ԾԱՌԱՅՈՒԹՅՈՒՆՆԵՐ | I12: =SUM(I13:I16) -> 68784
A13: 79211150-501 | B13: աուդիտորական ծառայություններ | E13: ԳՀ | F13: դրամ | G13: 13497648 | H13: 1 | I13: =+G13*H13/1000 -> 13497.648
A14: 79211150-502 | B14: աուդիտորական ծառայություններ | E14: ԳՀ | F14: դրամ | G14: 22915874 | H14: 1 | I14: =+G14*H14/1000 -> 22915.874
A15: 79211150-503 | B15: աուդիտորական ծառայություններ | E15: ԳՀ | F15: դրամ | G15: 15130420 | H15: 1 | I15: =+G15*H15/1000 -> 15130.42
A16: 79211150-504 | B16: աուդիտորական ծառայություններ | E16: ԳՀ | F16: դրամ | G16: 17240058 | H16: 1 | I16: =+G16*H16/1000 -> 17240.058
A17: 1126 31002 | B17: Առողջապահական կազմակերպությունների վերազինում | I17: =+I18 -> 670513.19
B18: ՄԱՍ I. Ա Պ Ր Ա Ն Ք Ն Ե Ր | I18: =SUM(I19:I49) -> 670513.19
A19: 33111250 | B19: մամոգրաֆիայի սարքեր | E19: ԵՄ | F19: հատ | G19: 81200000 | H19: 1 | I19: =G19*H19/1000 -> 81200
A20: 33111250 | B20: մամոգրաֆիայի սարքեր | E20: ԵՄ | F20: հատ | G20: 62090000 | H20: 9 | I20: =G20*H20/1000 -> 558810
A21: 33161190 | B21: էնդոսկոպիայի, էնդովիրահատական սարքեր | E21: ԵՄ | F21: հատ | G21: 16695000 | H21: 10 | I21: =G21*H21/1000 -> 166950
A22: 33161150 | B22: կոլպոսկոպ | E22: ԵՄ | F22: հատ | G22: 4459000 | H22: 10 | I22: =G22*H22/1000 -> 44590
A23: 33121140 | B23: լսողության չափման սարքեր | E23: ԵՄ | F23: հատ | G23: 1729000 | H23: 11 | I23: =G23*H23/1000 -> 19019
A24: 33111460 | B24: տոմոգրաֆիկ սարքեր | E24: ՀԲՄ | F24: հատ | G24: 531790000 | H24: 1 | I24: =G24*H24/1000 -> 531790
A25: 38431160 | B25: քրոմատոգրաֆներ | E25: ԷԱՃ | F25: հատ | G25: 47040000 | H25: 1 | I25: =G25*H25/1000 -> 47040
A26: 35121340 | B26: հատուկ մասնագիտական սարքեր և նյութեր | E26: ԷԱՃ | F26: հատ | G26: 226800000 | H26: 1 | I26: =G26*H26/1000 -> 226800
A27: 38521400-501 | B27: դոզիմետրեր | E27: ԷԱՃ | F27: հատ | G27: 19992000 | H27: 1 | I27: =G27*H27/1000 -> 19992
A28: 33181110 | B28: հեմոդիալիզի սարքեր | E28: ԷԱՃ | F28: հատ | G28: 4725000 | H28: 16 | I28: =G28*H28/1000 -> 75600
A29: 33181110 | B29: հեմոդիալիզի սարքեր | E29: ԷԱՃ | F29: հատ | G29: 11025000 | H29: 8 | I29: =G29*H29/1000 -> 88200
A30: 33181110 | B30: հեմոդիալիզի սարքեր | E30: ԷԱՃ | F30: հատ | G30: 13440000 | H30: 3 | I30: =G30*H30/1000 -> 40320
A31: 33181110 | B31: հեմոդիալիզի սարքեր | E31: ԷԱՃ | F31: հատ | G31: 17780000 | H31: 3 | I31: =G31*H31/1000 -> 53340
A32: 33181110 | B32: հեմոդիալիզի սարքեր | E32: ԷԱՃ | F32: հատ | G32: 21365190 | H32: 1 | I32: =G32*H32/1000 -> 21365.19
A33: 33121140 | B33: լսողության չափման սարքեր | E33: ԷԱՃ | F33: հատ | G33: 1974000 | H33: 3 | I33: =G33*H33/1000 -> 5922
A34: 33161190-505 | B34: էնդոսկոպիայի, էնդովիրահատական սարքեր | E34: ԳՀ | F34: հատ | G34: 39480000 | H34: 1 | I34: =G34*H34/1000 -> 39480
A35: 33171700-501 | B35: անզգայացման սարքեր | E35: ԷԱՃ | F35: հատ | G35: 3281250 | H35: 4 | I35: =G35*H35/1000 -> 13125
A36: 33161190-503 | B36: էնդոսկոպիայի, էնդովիրահատական սարքեր | E36: ԷԱՃ | F36: հատ | G36: 54866000 | H36: 5 | I36: =G36*H36/1000 -> 274330
A37: 33161190-504 | B37: էնդոսկոպիայի, էնդովիրահատական սարքեր | E37: ԷԱՃ | F37: հատ | G37: 29400000 | H37: 3 | I37: =G37*H37/1000 -> 88200
A38: 33931300-502 | B38: դիահերձման սեղաններ | E38: ԳՀ | F38: հատ | G38: 3195882.4 | H38: 17 | I38: =G38*H38/1000 -> 54330
A39: 33941400-503 | B39: դիարանի սառնարաններ կամ սառցարաններ | E39: ԳՀ | F39: հատ | G39: 2587500 | H39: 16 | I39: =G39*H39/1000 -> 41400
A40: 33941400-502 | B40: դիարանի սառնարաններ կամ սառցարաններ | E40: ԳՀ | F40: հատ | G40: 2887500 | H40: 4 | I40: =G40*H40/1000 -> 11550
A41: 33911110-501 | B41: դիահերձման գործիքների հավաքածու | E41: ԳՀ | F41: հատ | G41: 864705.88 | H41: 17 | I41: =G41*H41/1000 -> 14700
A42: 33941800-501 | B42: դիակների բարձրացման կամ տեղափոխման սարքեր | E42: ԳՀ | F42: հատ | G42: 2708571.4 | H42: 7 | I42: =G42*H42/1000 -> 18960
A43: 33141174-9 | B43: բժշկական սարքերի հավաքածուներ | E43: ԷԱՃ | F43: հատ | I43: 250000
A44: 33141174-1 | B44: բժշկական սարքերի հավաքածուներ | E44: ԷԱՃ | F44: հատ | G44: 221500000 | H44: -1 | I44: =+G44*H44/1000 -> -221500
A45: 33141174-3 | B45: բժշկական սարքերի հավաքածուներ | E45: ԷԱՃ | F45: հատ | G45: 330000000 | H45: -1 | I45: =+G45*H45/1000 -> -330000
A46: 33141174-5 | B46: բժշկական սարքերի հավաքածուներ | E46: ԷԱՃ | F46: հատ | G46: 550000000 | H46: -1 | I46: =+G46*H46/1000 -> -550000
A47: 33141174-6 | B47: բժշկական սարքերի հավաքածուներ | E47: ԷԱՃ | F47: հատ | G47: 200000000 | H47: -1 | I47: =+G47*H47/1000 -> -200000
A48: 33141174-7 | B48: բժշկական սարքերի հավաքածուներ | E48: ԷԱՃ | F48: հատ | I48: -515000
A49: 33141174-8 | B49: բժշկական սարքերի հավաքածուներ | E49: ԷԱՃ | F49: հատ | G49: 300000000 | H49: -1 | I49: =+G49*H49/1000 -> -300000
A50: 1126 31003 | B50: Առողջապահական կազմակերպությունների կառուցում, վերակառուցում | I50: =+I51+I60 -> -811297.99
B51: ՄԱՍ II. ԱՇԽԱՏԱՆՔՆԵՐ | I51: =SUM(I52:I59) -> -908718
A52: 45211250-503 | B52: առողջապահության հետ կապված շենքերի կառուցման աշխատանքներ | E52: ԲՄ | F52: դրամ | G52: 136560000 | H52: 1 | I52: =+G52*H52/1000 -> 136560
A53: 45451700-501 | B53: վերակառուցման աշխատանքներ | E53: ԲՄ | F53: դրամ | G53: 206772000 | H53: 1 | I53: =+G53*H53/1000 -> 206772
A54: 45451700-502 | B54: վերակառուցման աշխատանքներ | E54: ԲՄ | F54: դրամ | G54: 223950000 | H54: 1 | I54: =+G54*H54/1000 -> 223950
A55: 45211250-1 | B55: առողջապահության հետ կապված շենքերի կառուցման աշխատանքներ | E55: ԲՄ | F55: դրամ | I55: -250000
A56: 45211250-3 | B56: առողջապահության հետ կապված շենքերի կառուցման աշխատանքներ | E56: ԲՄ | F56: դրամ | I56: -400000
A57: 45451700-2 | B57: վերակառուցման աշխատանքներ | E57: ԲՄ | F57: դրամ | I57: -271000
A58: 45451700-5 | B58: վերակառուցման աշխատանքներ | E58: ԲՄ | F58: դրամ | I58: -55000
A59: 45451700-3 | B59: վերակառուցման աշխատանքներ | E59: ԲՄ | F59: դրամ | I59: -500000
B60: ՄԱՍ III. ԾԱՌԱՅՈՒԹՅՈՒՆՆԵՐ | I60: =SUM(I61:I77) -> 97420.005
A61: 71351540-505 | B61: տեխնիկական հսկողության ծառայություն | E61: ԳՀ | F61: դրամ | G61: 883805 | H61: 1 | I61: =+G61*H61/1000 -> 883.805
A62: 98111140 | B62: հեղինակային հսկողության ծառայություն | E62: ՄԱ | F62: դրամ | G62: 1556200 | H62: 1 | I62: 1556.2
A63: 71351540-503 | B63: տեխնիկական հսկողության ծառայություն | E63: ԳՀ | F63: դրամ | G63: 3300000 | H63: 1 | I63: =+G63*H63/1000 -> 3300
A64: 98111140 | B64: հեղինակային հսկողության ծառայություն | E64: ՄԱ | F64: դրամ | G64: 2928000 | H64: 1 | I64: 2928
A65: 71351540-504 | B65: տեխնիկական հսկողության ծառայություն | E65: ԳՀ | F65: դրամ | G65: 2350500 | H65: 1 | I65: =+G65*H65/1000 -> 2350.5
A66: 98111140 | B66: հեղինակային հսկողության ծառայություն | E66: ՄԱ | F66: դրամ | G66: 2499500 | H66: 1 | I66: 2499.5
A67: 50531140-502 | B67: փորձաքննության ծառայություններ | E67: ԳՀ | F67: դրամ | G67: 4194000 | H67: 1 | I67: =+G67*H67/1000 -> 4194
A68: 50531140-503 | B68: փորձաքննության ծառայություններ | E68: ԳՀ | F68: դրամ | G68: 1050000 | H68: 1 | I68: =+G68*H68/1000 -> 1050
A69: 50531140 | B69: փորձաքննության ծառայություններ | E69: ԳՀ | F69: դրամ | G69: 3550000 | H69: 1 | I69: =+G69*H69/1000 -> 3550
A70: 50531140 | B70: փորձաքննության ծառայություններ | E70: ԳՀ | F70: դրամ | G70: 2258000 | H70: 1 | I70: =+G70*H70/1000 -> 2258
A71: 50531140 | B71: փորձաքննության ծառայություններ | E71: ԳՀ | F71: դրամ | G71: 2988000 | H71: 1 | I71: =+G71*H71/1000 -> 2988
A72: 50531140 | B72: փորձաքննության ծառայություններ | E72: ԳՀ | F72: դրամ | G72: 2880000 | H72: 1 | I72: =+G72*H72/1000 -> 2880
A73: 71241200 | B73: նախագծերի պատրաստում, ծախսերի գնահատում | E73: ԳՀ | F73: դրամ | G73: 7100000 | H73: 1 | I73: =+G73*H73/1000 -> 7100
A74: 71241200 | B74: նախագծերի պատրաստում, ծախսերի գնահատում | E74: ԳՀ | F74: դրամ | G74: 15806000 | H74: 1 | I74: =+G74*H74/1000 -> 15806
A75: 71241200 | B75: նախագծերի պատրաստում, ծախսերի գնահատում | E75: ԳՀ | F75: դրամ | G75: 20916000 | H75: 1 | I75: =+G75*H75/1000 -> 20916
A76: 71241200 | B76: նախագծերի պատրաստում, ծախսերի գնահատում | E76: ԳՀ | F76: դրամ | G76: 8640000 | H76: 1 | I76: 20160
A77: 71241200 | B77: նախագծերի պատրաստում, ծախսերի գնահատում | E77: ՄԱ | F77: դրամ | G77: 3000000 | H77: 1 | I77: =+G77*H77/1000 -> 3000
A78: ՀՀ քաղաքաշինության կոմիտե | I78: =+I79 -> -238200
A79: Բաժին 07 | B79: Խումբ 06 | C79: Դաս 02 | D79: Առողջապահություն (այլ դասերին չպատկանող) | I79: =+I80 -> -238200
A80: 1126 31003 | B80: Առողջապահական կազմակերպությունների կառուցում, վերակառուցում | I80: =+I87+I81 -> -238200
B81: ՄԱՍ II. ԱՇԽԱՏԱՆՔՆԵՐ | I81: =SUM(I82:I86) -> -259383.8
A82: 45211250/3 | B82: առողջապահության հետ կապված շենքերի կառուցման աշխատանքներ | E82: ԲՄ | F82: դրամ | I82: 335616.2
A83: 45211250/1 | B83: առողջապահության հետ կապված շենքերի կառուցման աշխատանքներ | E83: ՀԲՄ | F83: դրամ | I83: 70000
A84: 45211250/5 | B84: առողջապահության հետ կապված շենքերի կառուցման աշխատանքներ | E84: ԲՄ | F84: դրամ | I84: -100000
A85: 45211250/2 | B85: առողջապահության հետ կապված շենքերի կառուցման աշխատանքներ | E85: ԲՄ | F85: դրամ | I85: -80000
A86: 45211250/4 | B86: առողջապահության հետ կապված շենքերի կառուցման աշխատանքներ | E86: ԲՄ | F86: դրամ | I86: -485000
B87: ՄԱՍ III. ԾԱՌԱՅՈՒԹՅՈՒՆՆԵՐ | I87: =SUM(I88:I92) -> 21183.8
A88: 50531140 | B88: փորձաքննության ծառայություններ | E88: ԳՀ | F88: դրամ | G88: 1800000 | H88: 1 | I88: =+G88*H88/1000 -> 1800
A89: 98111140/3 | B89: հեղինակային հսկողության ծառայություն | E89: ՄԱ | F89: դրամ | H89: 1 | I89: 2397.3
A90: 98111140/1 | B90: հեղինակային հսկողության ծառայություն | E90: ՄԱ | F90: դրամ | H90: 1 | I90: 1000
A91: 71351540/3 | B91: տեխնիկական հսկողության ծառայություն | E91: ԳՀ | F91: դրամ | H91: 1 | I91: 11986.5
A92: 71351540/1 | B92: տեխնիկական հսկողության ծառայություն | E92: ԳՀ | F92: դրամ | H92: 1 | I92: 4000

Sheet 16
A1: Հավելված № 16
A2: ՀՀ կառավարության 2026 թվականի
A3: __________ «____» -ի
A4: N_____ -Ն որոշման
A5: ՀԱՅԱՍՏԱՆԻ ՀԱՆՐԱՊԵՏՈՒԹՅԱՆ 2026 ԹՎԱԿԱՆԻ ՊԵՏԱԿԱՆ ԲՅՈՒՋԵՈՎ ՆԱԽԱՏԵՍՎԱԾ՝ ՀԱՅԱՍՏԱՆԻ ՀԱՆՐԱՊԵՏՈՒԹՅԱՆ ԿԱՌԱՎԱՐՈՒԹՅԱՆ ՊԱՀՈՒՍՏԱՅԻՆ ՖՈՆԴԻՑ ՀԱՏԿԱՑՈՒՄՆԵՐ ԿԱՏԱՐԵԼՈՒ ՎԵՐԱԲԵՐՅԱԼ
A6: (հազար դրամներով)
A7: Գործառական դասիչը | D7: Ծրագրային դասիչը | F7: Բյուջետային հատկացումների գլխավոր կարգադրիչների, ծրագրերի, միջոցառումների և միջոցառումները կատարող պետական մարմինների անվանումները | G7: Ցուցանիշների փոփոխությունները (ավելացումները նշված են դրական նշանով, իսկ նվազեցումները` փակագծերում)
A8: բաժին | B8: խումբ | C8: դաս | D8: Ծրագիր | E8: Միջոցառում | G8: Առաջին եռամսյակ | H8: Առաջին կիսամյակ | I8: Ինն ամիս | J8: Տարի
A9: ԸՆԴԱՄԵՆԸ | G9: =+G10+G44 -> 0 | H9: =+H10+H44 -> 0 | I9: =+I10+I44 -> 0 | J9: =+J10+J44 -> 0
A10: 07 | F10: ԱՌՈՂՋԱՊԱՀՈՒԹՅՈՒՆ | G10: =+G12 -> 168266.66 | H10: =+H12 -> 440554 | I10: =+I12 -> 505636.65 | J10: =+J12 -> 505636.65
F11: այդ թվում՝
B12: 06 | F12: Առողջապահություն (այլ դասերին չպատկանող) | G12: =+G14+G29 -> 168266.66 | H12: =+H14+H29 -> 440554 | I12: =+I14+I29 -> 505636.65 | J12: =+J14+J29 -> 505636.65
F13: այդ թվում՝
C14: 01 | F14: Առողջապահական հարակից ծառայություններ և ծրագրեր | G14: =+G16 -> 55000 | H14: =+H16 -> 92000 | I14: =+I16 -> 92000 | J14: =+J16 -> 92000
F15: այդ թվում`
D16: 1053 | F16: Առողջապահության համակարգի արդիականացման և արդյունավետության բարձրացման ծրագիր | G16: =+G20 -> 55000 | H16: =+H20 -> 92000 | I16: =+I20 -> 92000 | J16: =+J20 -> 92000
F17: այդ թվում՝
F18: ՀՀ առողջապահության նախարարություն | G18: =+G20 -> 55000 | H18: =+H20 -> 92000 | I18: =+I20 -> 92000 | J18: =+J20 -> 92000
F19: այդ թվում՝
E20: 32007 | F20: ՀՀ կայունացման և զարգացման Եվրասիական հիմնադրամի միջոցներից ֆինանսավորվող «ՀՀ-ում COVID-19 համավարակի պատրաստվածությանմակարդակի բարձրացում. կորոնավիրուսից առաջացող սպառնալիքի հայտնաբերում և արձագանքում» ծրագրի շրջանակներում շենքային պայմանների բարելավում | G20: =+G22 -> 55000 | H20: =+H22 -> 92000 | I20: =+I22 -> 92000 | J20: =+J22 -> 92000
F21: այդ թվում ըստ կատարողների
F22: ՀՀ առողջապահության նախարարություն | G22: =+G24 -> 55000 | H22: =+H24 -> 92000 | I22: =+I24 -> 92000 | J22: =+J24 -> 92000
F23: այդ թվում` բյուջետային ծախսերի տնտեսագիտական դասակարգման հոդվածներ
F24: ԸՆԴԱՄԵՆԸ ԾԱԽՍԵՐ | G24: =+G25 -> 55000 | H24: =+H25 -> 92000 | I24: =+I25 -> 92000 | J24: =+J25 -> 92000
F25: ՈՉ ՖԻՆԱՆՍԱԿԱՆ ԱԿՏԻՎՆԵՐԻ ԳԾՈՎ ԾԱԽՍԵՐ | G25: =+G26 -> 55000 | H25: =+H26 -> 92000 | I25: =+I26 -> 92000 | J25: =+J26 -> 92000
F26: ՀԻՄՆԱԿԱՆ ՄԻՋՈՑՆԵՐ | G26: =+G27 -> 55000 | H26: =+H27 -> 92000 | I26: =+I27 -> 92000 | J26: =+J27 -> 92000
F27: ՇԵՆՔԵՐ ԵՎ ՇԻՆՈՒԹՅՈՒՆՆԵՐ | G27: =+G28 -> 55000 | H27: =+H28 -> 92000 | I27: =+I28 -> 92000 | J27: =+J28 -> 92000
F28: - Շենքերի և շինությունների շինարարություն | G28: =+'9'!G28 -> 55000 | H28: =+'9'!H28 -> 92000 | I28: =+'9'!I28 -> 92000 | J28: =+'9'!J28 -> 92000
C29: 02 | F29: Առողջապահություն (այլ դասերին չպատկանող) | G29: =+G31 -> 113266.66 | H29: =+H31 -> 348554 | I29: =+I31 -> 413636.65 | J29: =+J31 -> 413636.65
F30: այդ թվում՝
D31: 1126 | F31: Առողջապահության ոլորտում պետական քաղաքականության մշակում, ծրագրերի համակարգում և մոնիտորինգ | G31: =+G35 -> 113266.66 | H31: =+H35 -> 348554 | I31: =+I35 -> 413636.65 | J31: =+J35 -> 413636.65
F32: այդ թվում՝
F33: ՀՀ առողջապահության նախարարություն | G33: =+G35 -> 113266.66 | H33: =+H35 -> 348554 | I33: =+I35 -> 413636.65 | J33: =+J35 -> 413636.65
F34: այդ թվում`
E35: 12006 | F35: Առողջապահական համակարգի պետական առևտրային և ոչ առևտրային կազմակերպություններին ֆինանսական աջակցության հատկացում | G35: =+G37 -> 113266.66 | H35: =+H37 -> 348554 | I35: =+I37 -> 413636.65 | J35: =+J37 -> 413636.65
F36: այդ թվում ըստ կատարողների
F37: ՀՀ առողջապահության նախարարություն | G37: =+G39 -> 113266.66 | H37: =+H39 -> 348554 | I37: =+I39 -> 413636.65 | J37: =+J39 -> 413636.65
F38: այդ թվում` բյուջետային ծախսերի տնտեսագիտական դասակարգման հոդվածներ
F39: ԸՆԴԱՄԵՆԸ ԾԱԽՍԵՐ | G39: =+G40 -> 113266.66 | H39: =+H40 -> 348554 | I39: =+I40 -> 413636.65 | J39: =+J40 -> 413636.65
F40: ԸՆԹԱՑԻԿ ԾԱԽՍԵՐ | G40: =+G41 -> 113266.66 | H40: =+H41 -> 348554 | I40: =+I41 -> 413636.65 | J40: =+J41 -> 413636.65
F41: ԴՐԱՄԱՇՆՈՐՀՆԵՐ | G41: =+G42 -> 113266.66 | H41: =+H42 -> 348554 | I41: =+I42 -> 413636.65 | J41: =+J42 -> 413636.65
F42: Ընթացիկ դրամաշնորհներ պետական հատվածի այլ մակարդակներին | G42: =+G43 -> 113266.66 | H42: =+H43 -> 348554 | I42: =+I43 -> 413636.65 | J42: =+J43 -> 413636.65
F43: - Ընթացիկ դրամաշնորհներ պետական և համայնքների առևտրային կազմակերպություններին | G43: =+'9'!G52 -> 113266.66 | H43: =+'9'!H52 -> 348554 | I43: =+'9'!I52 -> 413636.65 | J43: =+'9'!J52 -> 413636.65
A44: 11 | F44: ՀԻՄՆԱԿԱՆ ԲԱԺԻՆՆԵՐԻՆ ՉԴԱՍՎՈՂ ՊԱՀՈՒՍՏԱՅԻՆ ՖՈՆԴԵՐ | G44: =+G46 -> -168266.66 | H44: =+H46 -> -440554 | I44: =+I46 -> -505636.65 | J44: =+J46 -> -505636.65
F45: այդ թվում`
B46: 01 | F46: ՀՀ կառավարության և համայնքների պահուստային ֆոնդ | G46: =+G48 -> -168266.66 | H46: =+H48 -> -440554 | I46: =+I48 -> -505636.65 | J46: =+J48 -> -505636.65
F47: այդ թվում`
C48: 01 | F48: ՀՀ կառավարության պահուստային ֆոնդ | G48: =+G50 -> -168266.66 | H48: =+H50 -> -440554 | I48: =+I50 -> -505636.65 | J48: =+J50 -> -505636.65
F49: այդ թվում`
D50: 1139 | F50: ՀՀ կառավարության պահուստային ֆոնդ | G50: =+G52 -> -168266.66 | H50: =+H52 -> -440554 | I50: =+I52 -> -505636.65 | J50: =+J52 -> -505636.65
F51: այդ թվում՝
F52: ՀՀ կառավարություն | G52: =+G54 -> -168266.66 | H52: =+H54 -> -440554 | I52: =+I54 -> -505636.65 | J52: =+J54 -> -505636.65
F53: այդ թվում`
E54: 11001 | F54: ՀՀ կառավարության պահուստային ֆոնդ | G54: =+G56 -> -168266.66 | H54: =+H56 -> -440554 | I54: =+I56 -> -505636.65 | J54: =+J56 -> -505636.65
F55: այդ թվում` ըստ կատարողների | G55: =+G56 -> -168266.66 | H55: =+H56 -> -440554 | I55: =+I56 -> -505636.65 | J55: =+J56 -> -505636.65
F56: ՀՀ կառավարություն | G56: =+G58 -> -168266.66 | H56: =+H58 -> -440554 | I56: =+I58 -> -505636.65 | J56: =+J58 -> -505636.65
F57: այդ թվում` բյուջետային ծախսերի տնտեսագիտական դասակարգման հոդվածներ
F58: ԸՆԴԱՄԵՆԸ ԾԱԽՍԵՐ | G58: =+G59 -> -168266.66 | H58: =+H59 -> -440554 | I58: =+I59 -> -505636.65 | J58: =+J59 -> -505636.65
F59: ԸՆԹԱՑԻԿ ԾԱԽՍԵՐ | G59: =+G60 -> -168266.66 | H59: =+H60 -> -440554 | I59: =+I60 -> -505636.65 | J59: =+J60 -> -505636.65
F60: ԱՅԼ ԾԱԽՍԵՐ | G60: =+G61 -> -168266.66 | H60: =+H61 -> -440554 | I60: =+I61 -> -505636.65 | J60: =+J61 -> -505636.65
F61: Պահուստային միջոցներ | G61: =+'9'!G100 -> -168266.66 | H61: =+'9'!H100 -> -440554 | I61: =+'9'!I100 -> -505636.65 | J61: =+'9'!J100 -> -505636.65
