Workbook
Name _tab10: #REF!
Name _tab10: #REF!
Name _tab11: #REF!
Name _tab11: #REF!
Name _tab12: #REF!
Name _tab12: #REF!
Name _tab13: #REF!
Name _tab13: #REF!
Name _tab14: #REF!
Name _tab14: #REF!
Name _tab15: #REF!
Name _tab15: #REF!
Name _tab16: #REF!
Name _tab16: #REF!
Name _tab17: #REF!
Name _tab17: #REF!
Name _tab18: #REF!
Name _tab18: #REF!
Name _tab19: #REF!
Name _tab19: #REF!
Name _tab20: #REF!
Name _tab20: #REF!
Name _tab21: #REF!
Name _tab21: #REF!
Name _tab22: #REF!
Name _tab22: #REF!
Name _tab23: #REF!
Name _tab23: #REF!
Name _tab24: #REF!
Name _tab24: #REF!
Name _tab5: #REF!
Name _tab5: #REF!
Name _tab6: #REF!
Name _tab6: #REF!
Name _tab7: #REF!
Name _tab7: #REF!
Name _tab8: #REF!
Name _tab8: #REF!
Name _tab9: #REF!
Name _tab9: #REF!
Name AgencyCode: #REF!
Name AgencyName: #REF!
Name åû: #REF!
Name davit: #REF!
Name Functional1: #REF!
Name ggg: #REF!
Name mas: #REF!
Name mass: #REF!
Name PANature: #REF!
Name par_count: #REF!,#REF!,#REF!,#REF!,#REF!,#REF!,#REF!,#REF!,#REF!,#REF!,#REF!,#REF!,#REF!,#REF!,#REF!
Name par_count: #REF!,#REF!,#REF!,#REF!,#REF!,#REF!,#REF!,#REF!,#REF!,#REF!,#REF!,#REF!,#REF!,#REF!,#REF!
Name par_qual: #REF!,#REF!,#REF!,#REF!,#REF!
Name par_qual: #REF!,#REF!,#REF!,#REF!,#REF!
Name par_time: #REF!,#REF!,#REF!,#REF!
Name par_time: #REF!,#REF!,#REF!,#REF!
Name par2.12s: #REF!
Name par2.12s: #REF!
Name par2.4s: #REF!,#REF!,#REF!,#REF!,#REF!,#REF!,#REF!,#REF!,#REF!,#REF!,#REF!,#REF!,#REF!,#REF!,#REF!,#REF!
Name par2.4s: #REF!,#REF!,#REF!,#REF!,#REF!,#REF!,#REF!,#REF!,#REF!,#REF!,#REF!,#REF!,#REF!,#REF!,#REF!,#REF!
Name par2.5s: #REF!,#REF!

Sheet 1
J1: Հավելված N 1
D2: ՀՀ կառավարության 2026 թվականի
J3: N ------------ -Ն որոշման
B4: «ՀԱՅԱՍՏԱՆԻ ՀԱՆՐԱՊԵՏՈՒԹՅԱՆ 2026 ԹՎԱԿԱՆԻ ՊԵՏԱԿԱՆ ԲՅՈՒՋԵԻ ՄԱՍԻՆ» ՕՐԵՆՔԻ N 1 ՀԱՎԵԼՎԱԾԻ N 2 ԱՂՅՈՒՍԱԿՈՒՄ ԿԱՏԱՐՎՈՂ ՎԵՐԱԲԱՇԽՈՒՄԸ ԵՎ ՀԱՅԱՍՏԱՆԻ ՀԱՆՐԱՊԵՏՈՒԹՅԱՆ ԿԱՌԱՎԱՐՈՒԹՅԱՆ 2025 ԹՎԱԿԱՆԻ ԴԵԿՏԵՄԲԵՐԻ 25-Ի N 1910-Ն ՈՐՈՇՄԱՆ N 5 ՀԱՎԵԼՎԱԾԻ N 1 ԱՂՅՈՒՍԱԿՈՒՄ ԿԱՏԱՐՎՈՂ ՓՈՓՈԽՈՒԹՅՈՒՆՆԵՐԸ ԵՎ ԼՐԱՑՈՒՄՆԵՐԸ
I8: հազար դրամներով
A9: ԲԳԿ | B9: Ծրագրային դասիչը | D9: ԲԳԿ/Ծրագրի /միջոցառման անվանումը | E9: Ծրագրի նպատակը/Միջոցառման նկարագրությունը | F9: Վերջնական արդյունքի նկարագրությունը/Միջոցառման տեսակը | G9: Ցուցանիշների փոփոխությունը (ավելացումները նշված են դրական նշանով, իսկ նվազեցումները` փակագծերում)
B10: Ծրագիր | C10: Միջոցառում | G10: Առաջին եռամսյակ | H10: Առաջին կիսամյակ | I10: Ինն ամիս | J10: Տարի
A11: ԸՆԴԱՄԵՆԸ | G11: =G12+G19+G15 -> 0 | H11: =H12+H19+H15 -> 0 | I11: =I12+I19+I15 -> 0 | J11: =J12+J19+J15 -> 0
A12: ՀՀ Կոտայքի մարզպետի աշխատակազմ | G12: =G13 -> 1296.8 | H12: =H13 -> 1296.8 | I12: =I13 -> 1296.8 | J12: =J13 -> 1296.8
B13: 1037 | D13: ՀՀ Կոտայքի մարզում տարածքային պետական կառավարում | E13: ՀՀ Կոտայքի մարզում պետական քաղաքականության իրականացման ապահովում | F13: ՀՀ Կոտայքի մարզում իրականացվող պետական ծրագրերի արդյունավետության և հասցեականության բարելավում, հետադարձ կապի ապահովում | G13: =G14 -> 1296.8 | H13: =H14 -> 1296.8 | I13: =I14 -> 1296.8 | J13: =J14 -> 1296.8
C14: 1037 - 11001 | D14: ՀՀ Կոտայքի մարզպետի աշխատակազմի կողմից տարածքային պետական կառավարման ապահովում | E14: Մարզպետի աշխատակազմի ենթակայության հիմնարկների կառավարում, կրթության, ճանապարհաշինության, քաղաքաշինության և այլ ոլորտներում հասարակական պատվերի տեղաբաշխում, տնտեսության և սոցիալական տարբեր ոլորտներում մարզային միջոցառումների համակարգում | F14: Ծառայությունների մատուցում | G14: ='2'!G21 -> 1296.8 | H14: ='2'!H21 -> 1296.8 | I14: ='2'!I21 -> 1296.8 | J14: ='2'!J21 -> 1296.8
A15: ՀՀ տարածքային կառավարման և ենթակառուցվածքների նախարարություն | G15: =G16 -> -1296.8 | H15: =H16 -> -1296.8 | I15: =I16 -> -1296.8 | J15: =J16 -> -1296.8
B16: 1212 | E16: Տարածքային համաչափ զարգացման խթանում | F16: ՀՀ համայնքների կառավարման արդյունավետության բարձրացում և տնտեսական գործունեության խթանում | G16: -1296.8 | H16: -1296.8 | I16: -1296.8 | J16: -1296.8
C17: 1212-12025 | D17: Մարզերում առաջնահերթ լուծում պահանջող հիմնախնդիրների լուծում | E17: Մարզերում առաջնահերթ լուծում պահանջող ծրագրերի իրականացում, որի արդյունքում լուծում կտրվի բնակչության և համայնքների սոցիալական նշանակություն ունեցող հիմնախնդիրներին: | F17: Տրանսֆերտների տրամադրում | G17: ='2'!G43 -> 2460 | H17: ='2'!H43 -> 19920 | I17: ='2'!I43 -> 37350.7 | J17: ='2'!J43 -> 39810.7
C18: 1212 - 32001 | D18: ՀՀ մարզերում առաջնահերթ լուծում պահանջող անհետաձգելի ծրագրերի իրականացում | E18: ՀՀ մարզերում առաջնահերթ լուծում պահանջող անհետաձգելի ծրագրերի իրականացում, որի արդյունքում լուծում կտրվի մարզային ենթակայության կազմակերպությունների և համայնքային նշանակություն ունեցող հիմնախնդիրներին | F18: Այլ պետական կազմակերպությունների կողմից օգտագործվող ոչ ֆինանսական ակտիվների հետ գործառնություններ | G18: ='2'!G59 -> -3756.8 | H18: ='2'!H59 -> -21216.8 | I18: ='2'!I59 -> -38647.5 | J18: ='2'!J59 -> -41107.5
A19: ՀՀ կառավարություն | G19: =+G20 -> 0 | H19: =+H20 -> 0 | I19: =+I20 -> 0 | J19: =+J20 -> 0
B20: 1139 | D20: ՀՀ կառավարության պահուստային ֆոնդ | E20: Պետական բյուջեում չկանխատեսված, ինչպես նաեւ բյուջետային երաշխիքների ապահովման ծախսերի ֆինանսավորման ապահովում | F20: Պահուստային ֆոնդի կառավարման արդյունավետության և թափանցիկության ապահովում | G20: =G21+G22 -> 0 | H20: =H21+H22 -> 0 | I20: =I21+I22 -> 0 | J20: =J21+J22 -> 0
C21: 1139 - 11001 | D21: ՀՀ կառավարության պահուստային ֆոնդ | E21: ՀՀ պետական բյուջեում նախատեսված ելքերի լրացուցիչ ֆինանսավորման, պետական բյուջեում չկանխատեսված ելքերի, ինչպես նաև բյուջետային երաշխիքների ապահովման ելքերի ֆինանսավորման ապահովում | F21: Ծառայությունների մատուցում | G21: ='2'!G131 -> -2460 | H21: ='2'!H131 -> -19920 | I21: ='2'!I131 -> -37350.7 | J21: ='2'!J131 -> -39810.7
C22: 1139 - 11001 | D22: ՀՀ կառավարության պահուստային ֆոնդ | E22: ՀՀ պետական բյուջեում նախատեսված ելքերի լրացուցիչ ֆինանսավորման, պետական բյուջեում չկանխատեսված ելքերի, ինչպես նաև բյուջետային երաշխիքների ապահովման ելքերի ֆինանսավորման ապահովում | F22: Ծառայությունների մատուցում | G22: ='2'!G139 -> 2460 | H22: ='2'!H139 -> 19920 | I22: ='2'!I139 -> 37350.7 | J22: ='2'!J139 -> 39810.7
B27: ՀԱՅԱՍՏԱՆԻ ՀԱՆՐԱՊԵՏՈՒԹՅԱՆ
B28: ՎԱՐՉԱՊԵՏԻ ԱՇԽԱՏԱԿԱԶՄԻ
C29: ՂԵԿԱՎԱՐ ՝ Ա. ՀԱՐՈՒԹՅՈՒՆՅԱՆ

Sheet 2
J1: Հավելված N 2
F2: ՀՀ կառավարության 2026 թվականի
J3: N ------------ -Ն որոշման
A5: ՀԱՅԱՍՏԱՆԻ ՀԱՆՐԱՊԵՏՈՒԹՅԱՆ ԿԱՌԱՎԱՐՈՒԹՅԱՆ 2025 ԹՎԱԿԱՆԻ ԴԵԿՏԵՄԲԵՐԻ 25-Ի N 1910-Ն ՈՐՈՇՄԱՆ NN 3 ԵՎ 4 ՀԱՎԵԼՎԱԾՆԵՐՈՒՄ ԿԱՏԱՐՎՈՂ ՓՈՓՈԽՈՒԹՅՈՒՆՆԵՐԸ ԵՎ ԼՐԱՑՈՒՄՆԵՐԸ
J6: հազար դրամներով
A7: Գործառական դասիչը | D7: Ծրագրային դասիչը | F7: Բյուջետային ծախսերի գործառական դասակարգման բաժինների, խմբերի և դասերի, բյուջետային ծրագրերի միջոցառումների, բյուջետային հատկացումների գլխավոր կարգադրիչների անվանումները | G7: Ցուցանիշների փոփոխությունը (ավելացումները նշված են դրական նշանով, իսկ նվազեցումները` փակագծերում)
A8: Բաժին | B8: Խումբ | C8: Դաս | D8: Ծրագիր | E8: Միջոցառում | G8: Առաջին եռամսյակ | H8: Առաջին կիսամյակ | I8: Ինն ամիս | J8: Տարի
F9: ԸՆԴԱՄԵՆԸ ԾԱԽՍԵՐ | G9: 0 | H9: 0 | I9: 0 | J9: 0
F10: այդ թվում`
F11: ՀՀ Կոտայքի մարզպետի աշխատակազմ | G11: =G13 -> 1296.8 | H11: =H13 -> 1296.8 | I11: =I13 -> 1296.8 | J11: =J13 -> 1296.8
F12: այդ թվում`
A13: 01 | F13: ԸՆԴՀԱՆՈՒՐ ԲՆՈՒՅԹԻ ՀԱՆՐԱՅԻՆ ԾԱՌԱՅՈՒԹՅՈՒՆՆԵՐ | G13: =G15 -> 1296.8 | H13: =H15 -> 1296.8 | I13: =I15 -> 1296.8 | J13: =J15 -> 1296.8
F14: այդ թվում`
B15: 01 | F15: Օրենսդիր և գործադիր մարմիններ, պետական կառավարում, ֆինանսական և հարկաբյուջետային հարաբերություններ, արտաքին հարաբերություններ | G15: =G17 -> 1296.8 | H15: =H17 -> 1296.8 | I15: =I17 -> 1296.8 | J15: =J17 -> 1296.8
F16: այդ թվում`
C17: 01 | F17: Օրենսդիր և գործադիր մարմիններ, պետական կառավարում | G17: =G21 -> 1296.8 | H17: =H21 -> 1296.8 | I17: =I21 -> 1296.8 | J17: =J21 -> 1296.8
F18: այդ թվում`
F19: ՀՀ Կոտայքի մարզպետի աշխատակազմ | G19: =G21 -> 1296.8 | H19: =H21 -> 1296.8 | I19: =I21 -> 1296.8 | J19: =J21 -> 1296.8
F20: այդ թվում`
D21: 1037 | F21: ՀՀ Կոտայքի մարզում տարածքային պետական կառավարում | G21: =G23 -> 1296.8 | H21: =H23 -> 1296.8 | I21: =I23 -> 1296.8 | J21: =J23 -> 1296.8
F22: այդ թվում`
E23: 11001 | F23: ՀՀ Կոտայքի մարզպետի աշխատակազմի կողմից տարածքային պետական կառավարման ապահովում | G23: =G25 -> 1296.8 | H23: =H25 -> 1296.8 | I23: =I25 -> 1296.8 | J23: =J25 -> 1296.8
F24: այդ թվում` ըստ կատարողների
F25: ՀՀ Կոտայքի մարզպետի աշխատակազմ | G25: =G27 -> 1296.8 | H25: =H27 -> 1296.8 | I25: =I27 -> 1296.8 | J25: =J27 -> 1296.8
F26: այդ թվում` բյուջետային ծախսերի տնտեսագիտական դասակարգման հոդվածներ
F27: ԸՆԴԱՄԵՆԸ ԾԱԽՍԵՐ | G27: =G28 -> 1296.8 | H27: =H28 -> 1296.8 | I27: =I28 -> 1296.8 | J27: =J28 -> 1296.8
F28: ԸՆԹԱՑԻԿ ԾԱԽՍԵՐ | G28: =G29 -> 1296.8 | H28: =H29 -> 1296.8 | I28: =I29 -> 1296.8 | J28: =J29 -> 1296.8
F29: ԱՅԼ ԾԱԽՍԵՐ | G29: =G30 -> 1296.8 | H29: =H30 -> 1296.8 | I29: =I30 -> 1296.8 | J29: =J30 -> 1296.8
F30: Հարկեր, պարտադիր վճարներ և տույժեր, որոնք կառավարման տարբեր մակարդակների կողմից կիրառվում են միմյանց նկատմամբ | G30: 1296.8 | H30: 1296.8 | I30: 1296.8 | J30: 1296.8
F31: ՀՀ տարածքային կառավարման և ենթակառուցվածքների նախարարություն | G31: =G33 -> -1296.8 | H31: =H33 -> -1296.8 | I31: =I33 -> -1296.8 | J31: =J33 -> -1296.8
F32: այդ թվում`
A33: 01 | F33: ԸՆԴՀԱՆՈՒՐ ԲՆՈՒՅԹԻ ՀԱՆՐԱՅԻՆ ԾԱՌԱՅՈՒԹՅՈՒՆՆԵՐ | G33: =G35 -> -1296.8 | H33: =H35 -> -1296.8 | I33: =I35 -> -1296.8 | J33: =J35 -> -1296.8
F34: այդ թվում`
B35: 08 | F35: Կառավարության տարբեր մակարդակների միջև իրականացվող ընդհանուր բնույթի տրանսֆերտներ | G35: =G37 -> -1296.8 | H35: =H37 -> -1296.8 | I35: =I37 -> -1296.8 | J35: =J37 -> -1296.8
F36: այդ թվում`
C37: 01 | F37: Կառավարության տարբեր մակարդակների միջև իրականացվող ընդհանուր բնույթի տրանսֆերտներ | G37: =G41 -> -1296.8 | H37: =H41 -> -1296.8 | I37: =I41 -> -1296.8 | J37: =J41 -> -1296.8
F38: այդ թվում`
F39: ՀՀ տարածքային կառավարման և ենթակառուցվածքների նախարարություն | G39: =G41 -> -1296.8 | H39: =H41 -> -1296.8 | I39: =I41 -> -1296.8 | J39: =J41 -> -1296.8
F40: այդ թվում`
D41: 1212 | F41: Տարածքային զարգացում | G41: =G59+G43 -> -1296.8 | H41: =H59+H43 -> -1296.8 | I41: =I59+I43 -> -1296.8 | J41: =J59+J43 -> -1296.8
...

Sheet 3
I1: Հավելված N 3
I2: ՀՀ կառավարության 2026 թվականի
I3: ______________ ի ___Ն որոշման
B5: «ՀԱՅԱՍՏԱՆԻ ՀԱՆՐԱՊԵՏՈՒԹՅԱՆ 2026 ԹՎԱԿԱՆԻ ՊԵՏԱԿԱՆ ԲՅՈՒՋԵԻ ՄԱՍԻՆ» ՕՐԵՆՔԻ N 1 ՀԱՎԵԼՎԱԾԻ N 3 ԱՂՅՈՒՍԱԿՈՒՄ ԿԱՏԱՐՎՈՂ ՓՈՓՈԽՈՒԹՅՈՒՆԸ ԵՎ ԼՐԱՑՈՒՄՆԵՐԸ
H6: հազար դրամներով
B7: Ծրագրային դասիչ | D7: Բյուջետային գլխավոր կարգադրիչների, ծրագրերի, միջոցառումների և ուղղությունների անվանումները | E7: Ցուցանիշների փոփոխությունը (ավելացումները նշված են դրական նշանով, իսկ նվազեցումները` փակագծերում)
E8: Ընդամենը, | F8: այդ թվում՝
B9: Ծրագիր | C9: Միջոցառում | F9: Կառուցման աշխատանքներ | G9: Վերակառուցման, վերանորոգման և վերականգնման աշխատանքներ | H9: Նախագծահե- տազոտական, գեոդեզիա- քարտեզագրա- կան աշխա- տանքներ | I9: Ոչ ֆինանսական այլ ակտիվների ձեռքբերում
D10: ԸՆԴԱՄԵՆԸ | E10: =+F10+G10+H10+I10 -> -41107.5 | F10: =+F12 -> 974262.7 | G10: =+G12 -> -1016869.2 | H10: =H12 -> 1499 | I10: 0
D11: այդ թվում՝
D12: ՀՀ ՏԱՐԱԾՔԱՅԻՆ ԿԱՌԱՎԱՐՄԱՆ ԵՎ ԵՆԹԱԿԱՌՈՒՑՎԱԾՔՆԵՐԻ ՆԱԽԱՐԱՐՈՒԹՅՈՒՆ | E12: =F12+G12+H12+I12 -> -41107.5 | F12: =+F14 -> 974262.7 | G12: =+G14 -> -1016869.2 | H12: =H14 -> 1499 | I12: 0
D13: այդ թվում`
B14: 1212 | C14: 32001 | D14: ՀՀ մարզերում առաջնահերթ լուծում պահանջող անհետաձգելի ծրագրերի իրականացում | E14: =+F14+G14+H14+I14 -> -41107.5 | F14: =F16+F19+F23+F26+F30+F17+F28 -> 974262.7 | G14: =G16+G19+G23+G26+G30+G17+G28 -> -1016869.2 | H14: =H16+H19+H23+H26+H30+H17+H28 -> 1499 | I14: =I16+I19+I23+I26+I30+I17+I28 -> 0
D15: այդ թվում`
D16: ՀՀ կառավարություն | E16: =F16+G16+H16+I16 -> -1302312.6 | G16: ='2'!J67 -> -1302312.6
D17: ՀՀ Արագածոտնի մարզ | E17: =F17+G17+H17+I17 -> 1499 | F17: =F18 -> 0 | G17: 0 | H17: =H18 -> 1499 | I17: 0
D18: ՀՀ Արագածոտնի մարզպետի աշխատակազմի վարչական շենքի ջեռուցման համակարգի անցկացման, գազամատակարարման գծի կառուցման, դռների, պատուհանների փոխարինման աշխատանքների նախագծանախահաշվային փաստաթղթերի կազմման խորհրդատվական ծառայությունների ձեռքբերում | E18: =F18+H18+I18+G18 -> 1499 | F18: 0 | G18: 0 | H18: ='2'!J74 -> 1499 | I18: 0
D19: ՀՀ Արարատի մարզ | E19: =F19+G19+H19+I19 -> 187939.9 | F19: =F20+F21+F22 -> 187939.9 | G19: =G20 -> 0
D20: Եղեգնավանի մանկապարտեզի կառուցման աշխատանքների իրականացում | E20: =F20+G20+H20+I20 -> 120000 | F20: 120000
D21: Վերին Դվին համայնքի Լեոնիդ Եդիգարով և Աղալար Չալաբով փողոցների գազաֆիկացման աշխատանքներ | E21: =F21+G21+H21+I21 -> 21448.1 | F21: 21448.1
D22: Արարատի մարզի Արմաշ բնակավայրի տեխնիկական ջրի ջրատարի և խմոցների կառուցման աշխատանքներ | E22: =F22+G22+H22+I22 -> 46491.8 | F22: 46491.8
D23: ՀՀ Լոռու մարզ | E23: =F23+G23+H23+I23 -> 615639 | F23: =F24+F25 -> 597939 | G23: =+G24+G25 -> 17700
D24: Ալավերդի քաղաքի Թումանյան փողոցի քանդված հենապատերի կառուցման, ճանապարհի ասֆալտապատման, կապիտալ վերանորոգման, մայթերի կառուցման, վերականգնման, ճանապարհի կահավորման՝ գծանշումներ, ճանապարհային նշանների տեղադրման, ճաղաշարերի տեղադրման աշխատանքներ | E24: =F24+G24+H24+I24 -> 597939 | F24: ='2'!J88 -> 597939
D25: ՀՀ Լոռու մարզպետի աշխատակազմի շենքի վերանորոգում | E25: =F25+G25+H25+I25 -> 17700 | G25: ='2'!J89 -> 17700
D26: ՀՀ Կոտայքի մարզ | E26: =F26+G26+H26+I26 -> 49978.2 | F26: =F27 -> 49978.2
D27: ՀՀ Կոտայքի մարզի Աբովյան համայնքի Պտղնի բնակավայրի մանկապարտեզի հիմնանորոգման և նոր մասնաշենքի կառուցման աշխատանքներ | E27: =F27+G27+H27+I27 -> 49978.2 | F27: ='2'!J96 -> 49978.2
D28: ՀՀ Վայոց ձորի մարզ | E28: =F28+G28+H28+I28 -> 46129.6 | F28: =+F29 -> 0 | G28: =+G29 -> 46129.6
D29: ՀՀ Վայոց ձորի մարզպետի աշխատակազմի շենքի վերանորոգում | E29: =F29+G29+H29+I29 -> 46129.6 | G29: ='2'!J97 -> 46129.6
D30: ՀՀ Տավուշի մարզ | E30: =F30+G30+H30+I30 -> 360019.4 | F30: =F32+F33+F34 -> 138405.6 | G30: =G31 -> 221613.8
D31: ՀՀ Տավուշի մարզի Իջևան համայնքի Ասլանյան փողոցի նոր ասֆալտապատ հատվածից մինչև Գանձաքար վարչական բնակավայրի սկզբնամասում գտնվող մինչև կամուրջ /ՊԿ0+00-ՊԿ12+55/ ասֆալտապատման աշխատանքների իրականացում | E31: =SUM(F31:I31) -> 221613.8 | G31: ='2'!J111 -> 221613.8
D32: Իջևան համայնքի Սարիգյուղ բնակավայրի խմելու ջրի համակարգի կառուցման աշխատանքներ | E32: =F32+G32+H32+I32 -> 44891.9 | F32: 44891.9
D33: Կիրանց բնակավայրի ոռոգման համակարգի կառուցման աշխատանքներ | E33: =F33+G33+H33+I33 -> 60555.9 | F33: 60555.9
D34: Կիրանց բնակավայրի խմելու ջրի ջրագծերի կառուցման աշխատանքներ | E34: =F34+G34+H34+I34 -> 32957.8 | F34: 32957.8
D39: ՀԱՅԱՍՏԱՆԻ ՀԱՆՐԱՊԵՏՈՒԹՅԱՆ
D40: ՎԱՐՉԱՊԵՏԻ ԱՇԽԱՏԱԿԱԶՄԻ ՂԵԿԱՎԱՐ ՝ | G40: Ա. ՀԱՐՈՒԹՅՈՒՆՅԱՆ

Sheet 4
H1: Հավելված 4
H2: ՀՀ կառավարության 2026 թվականի
H3: ______________ ի ___Ն որոշման
B5: ՀԱՅԱՍՏԱՆԻ ՀԱՆՐԱՊԵՏՈՒԹՅԱՆ ԿԱՌԱՎԱՐՈՒԹՅԱՆ 2025 ԹՎԱԿԱՆԻ ԴԵԿՏԵՄԲԵՐԻ 25-Ի N 1910-Ն ՈՐՈՇՄԱՆ N 5 ՀԱՎԵԼՎԱԾԻ N 2 ԱՂՅՈՒՍԱԿՈՒՄ ԿԱՏԱՐՎՈՂ ՓՈՓՈԽՈՒԹՅՈՒՆԸ ԵՎ ԼՐԱՑՈՒՄՆԵՐԸ
G7: հազար դրամներով
B8: Ծրագրային դասիչը | D8: Բյուջետային գլխավոր կարգադրիչների, ծրագրերի, միջոցառումների և ուղղությունների անվանումները | E8: Ցուցանիշների փոփոխությունը ( նվազեցումները նշված են փակագծերում)
B9: Ծրագիր | C9: Միջոցառում | E9: Առաջին եռամսյակ | F9: Առաջին կիսամյակ | G9: Ինն ամիս | H9: Տարի
D10: ԸՆԴԱՄԵՆԸ | E10: =E12 -> -3756.8 | F10: =F12 -> -21216.8 | G10: =G12 -> -38647.5 | H10: =H12 -> -41107.5
D11: այդ թվում՝
D12: ՀՀ ՏԱՐԱԾՔԱՅԻՆ ԿԱՌԱՎԱՐՄԱՆ ԵՎ ԵՆԹԱԿԱՌՈՒՑՎԱԾՔՆԵՐԻ ՆԱԽԱՐԱՐՈՒԹՅՈՒՆ | E12: =E14 -> -3756.8 | F12: =F14 -> -21216.8 | G12: =G14 -> -38647.5 | H12: =H14 -> -41107.5
D13: այդ թվում`
B14: 1212 | C14: 32001 | D14: ՀՀ մարզերում առաջնահերթ լուծում պահանջող անհետաձգելի ծրագրերի իրականացում | E14: =E16+E20+E25+E29+E34+E31+E17 -> -3756.8 | F14: =F16+F20+F25+F29+F34+F31+F17 -> -21216.8 | G14: =G16+G20+G25+G29+G34+G31+G17 -> -38647.5 | H14: =H16+H20+H25+H29+H34+H31+H17 -> -41107.5
D15: այդ թվում` ըստ կատարողների
D16: ՀՀ կառավարություն | E16: ='2'!G61 -> -286963.7 | F16: ='2'!H61 -> -970852.6 | G16: ='2'!I61 -> -1269852.6 | H16: ='2'!J61 -> -1302312.6
D17: ՀՀ Արագածոտնի մարզպետի աշխատակազմ | E17: =E19 -> 1499 | F17: =F19 -> 1499 | G17: =G19 -> 1499 | H17: =H19 -> 1499
D18: այդ թվում` ըստ ուղղությունների
D19: ՀՀ Արագածոտնի մարզպետի աշխատակազմի վարչական շենքի ջեռուցման համակարգի անցկացման, գազամատակարարման գծի կառուցման, դռների, պատուհանների փոխարինման աշխատանքների նախագծանախահաշվային փաստաթղթերի կազմման խորհրդատվական ծառայությունների ձեռքբերում | E19: ='2'!G74 -> 1499 | F19: ='2'!H74 -> 1499 | G19: ='2'!I74 -> 1499 | H19: ='2'!J74 -> 1499
D20: ՀՀ Արարատի մարզպետի աշխատակազմ | E20: =E22 -> 0 | F20: =F22+F23+F24 -> 117939.9 | G20: =G22+G23+G24 -> 157939.9 | H20: =H22+H23+H24 -> 187939.9
D21: այդ թվում` ըստ ուղղությունների
D22: Եղեգնավանի մանկապարտեզի կառուցման աշխատանքների իրականացում | E22: ='2'!G81 -> 0 | F22: 50000 | G22: 90000 | H22: ='3'!F20 -> 120000
D23: Վերին Դվին համայնքի Լեոնիդ Եդիգարով և Աղալար Չալաբով փողոցների գազաֆիկացման աշխատանքներ | E23: 0 | F23: 21448.1 | G23: =F23 -> 21448.1 | H23: ='3'!E21 -> 21448.1
D24: Արարատի մարզի Արմաշ բնակավայրի տեխնիկական ջրի ջրատարի և խմոցների կառուցման աշխատանքներ | E24: 0 | F24: 46491.8 | G24: =F24 -> 46491.8 | H24: ='3'!E22 -> 46491.8
D25: ՀՀ Lոռու մարզպետի աշխատակազմ | E25: =E28+E27 -> 117700 | F25: =F28+F27 -> 394069.7 | G25: =G28+G27 -> 615639 | H25: =H28+H27 -> 615639
D26: այդ թվում` ըստ ուղղությունների
D27: Ալավերդի քաղաքի Թումանյան փողոցի քանդված հենապատերի կառուցման, ճանապարհի ասֆալտապատման, կապիտալ վերանորոգման, մայթերի կառուցման, վերականգնման, ճանապարհի կահավորման՝ գծանշումներ, ճանապարհային նշանների տեղադրման, ճաղաշարերի տեղադրման աշխատանքներ | E27: ='2'!G88 -> 100000 | F27: ='2'!H88 -> 376369.7 | G27: ='2'!I88 -> 597939 | H27: ='2'!J88 -> 597939
D28: ՀՀ Լոռու մարզպետի աշխատակազմի շենքի վերանորոգում | E28: ='2'!G89 -> 17700 | F28: ='2'!H89 -> 17700 | G28: ='2'!I89 -> 17700 | H28: ='2'!J89 -> 17700
D29: ՀՀ Կոտայքի մարզպետի աշխատակազմ | E29: =E30 -> 0 | F29: =F30 -> 49978.2 | G29: =G30 -> 49978.2 | H29: =H30 -> 49978.2
D30: ՀՀ Կոտայքի մարզի Աբովյան համայնքի Պտղնի բնակավայրի մանկապարտեզի հիմնանորոգման և նոր մասնաշենքի կառուցման աշխատանքներ | E30: ='2'!G96 -> 0 | F30: ='2'!H96 -> 49978.2 | G30: ='2'!I96 -> 49978.2 | H30: ='2'!J96 -> 49978.2
D31: ՀՀ Վայոց ձորի մարզպետի աշխատակազմ | E31: =E33 -> 20000 | F31: =F33 -> 26129.6 | G31: =G33 -> 46129.6 | H31: =H33 -> 46129.6
D32: այդ թվում` ըստ ուղղությունների
D33: ՀՀ Վայոց ձորի մարզպետի աշխատակազմի շենքի վերանորոգում | E33: ='2'!G103 -> 20000 | F33: ='2'!H103 -> 26129.6 | G33: ='2'!I103 -> 46129.6 | H33: ='2'!J103 -> 46129.6
D34: ՀՀ Տավուշի մարզպետի աշխատակազմ | E34: =E37+E39+E40+E38+E36 -> 144007.9 | F34: =F37+F39+F40+F38+F36 -> 360019.4 | G34: =G37+G39+G40+G38+G36 -> 360019.4 | H34: =H37+H39+H40+H38+H36 -> 360019.4
D35: այդ թվում` ըստ ուղղությունների
D36: ՀՀ Տավուշի մարզի Իջևան համայնքի Ասլանյան փողոցի նոր ասֆալտապատ հատվածից մինչև Գանձաքար վարչական բնակավայրի սկզբնամասում գտնվող մինչև կամուրջ /ՊԿ0+00-ՊԿ12+55/ ասֆալտապատման աշխատանքների իրականացում | E36: ='2'!G111 -> 88645.5 | F36: ='2'!H111 -> 221613.8 | G36: ='2'!I111 -> 221613.8 | H36: ='2'!J111 -> 221613.8
D37: Իջևան համայնքի Սարիգյուղ բնակավայրի խմելու ջրի համակարգի կառուցման աշխատանքներ | E37: 17956.8 | F37: 44891.9 | G37: 44891.9 | H37: 44891.9
D38: Կիրանց բնակավայրի ոռոգման համակարգի կառուցման աշխատանքներ | E38: 24222.4 | F38: 60555.9 | G38: 60555.9 | H38: 60555.9
D39: Կիրանց բնակավայրի խմելու ջրի ջրագծերի կառուցման աշխատանքներ | E39: 13183.2 | F39: 32957.8 | G39: 32957.8 | H39: 32957.8
C45: ՀԱՅԱՍՏԱՆԻ ՀԱՆՐԱՊԵՏՈՒԹՅԱՆ
C46: ՎԱՐՉԱՊԵՏԻ ԱՇԽԱՏԱԿԱԶՄԻ
D47: ՂԵԿԱՎԱՐ՝ Ա. ՀԱՐՈՒԹՅՈՒՆՅԱՆ

Sheet 5
H1: Հավելված N 5
F2: ՀՀ կառավարության 2026 թվականի
H3: N ------------ -Ն որոշման
B5: «ՀԱՅԱՍՏԱՆԻ ՀԱՆՐԱՊԵՏՈՒԹՅԱՆ 2026 ԹՎԱԿԱՆԻ ՊԵՏԱԿԱՆ ԲՅՈՒՋԵԻ ՄԱՍԻՆ» ՕՐԵՆՔԻ N 1 ՀԱՎԵԼՎԱԾԻ N 7 ԱՂՅՈՒՍԱԿՈՒՄ ԿԱՏԱՐՎՈՂ ԼՐԱՑՈՒՄԸ ԵՎ ՀԱՅԱՍՏԱՆԻ ՀԱՆՐԱՊԵՏՈՒԹՅԱՆ ԿԱՌԱՎԱՐՈՒԹՅԱՆ 2025 ԹՎԱԿԱՆԻ ԴԵԿՏԵՄԲԵՐԻ 25-Ի N 1910-Ն ՈՐՈՇՄԱՆ N 5 ՀԱՎԵԼՎԱԾԻ N 6 ԱՂՅՈՒՍԱԿՈՒՄ ԿԱՏԱՐՎՈՂ ԼՐԱՑՈՒՄԸ
G10: հազար դրամներով
B11: Ծրագրային դասիչը | D11: Հատկացումների տրամադրման նպատակները և բյուջետային գլխավոր կարգադրիչների, ծրագրերի, միջոցառումների և կատարող պետական մարմնի անվանումները | E11: Ցուցանիշների փոփոխությունը (ավելացումները նշված են դրական նշանով)
B12: Ծրագիր | C12: Միջոցառում | E12: Առաջին եռամսյակ | F12: Առաջին կիսամյակ | G12: Ինն ամիս | H12: Տարի
D13: Ընդամենը | E13: =E15 -> 0 | F13: =F15 -> 15000 | G13: =G15 -> 29970.7 | H13: =H15 -> 29970.7
D14: այդ թվում`
B15: Կապիտալ սուբվենցիաներ համայնքներին | E15: =E17 -> 0 | F15: =F17 -> 15000 | G15: =G17 -> 29970.7 | H15: =H17 -> 29970.7
B16: այդ թվում`
B17: ՀՀ տարածքային կառավարման և ենթակառուցվածքների նախարարություն | E17: =E18 -> 0 | F17: =F18 -> 15000 | G17: =G18 -> 29970.7 | H17: =H18 -> 29970.7
B18: 1212 | D18: Տարածքային զարգացում | E18: =E20 -> 0 | F18: =F20 -> 15000 | G18: =G20 -> 29970.7 | H18: =H20 -> 29970.7
D19: այդ թվում`
C20: 12025 | D20: Մարզերում առաջնահերթ լուծում պահանջող հիմնախնդիրների լուծում | E20: =E22 -> 0 | F20: =F22 -> 15000 | G20: =G22 -> 29970.7 | H20: =H22 -> 29970.7
D21: այդ թվում` ըստ կատարողների
D22: ՀՀ Գեղարքունիքի մարզպետի աշխատակազմ | E22: =E24 -> 0 | F22: =F24 -> 15000 | G22: =G24 -> 29970.7 | H22: =H24 -> 29970.7
D23: այդ թվում` ըստ ուղղությունների
D24: Մարտունի համայնքի Գեղհովիտ բնակավայրի ապակենտրոնացված մաքրման կայանի կառուցում | E24: ='2'!G51 -> 0 | F24: ='2'!H51 -> 15000 | G24: ='2'!I51 -> 29970.7 | H24: ='2'!J51 -> 29970.7
C27: ՀԱՅԱՍՏԱՆԻ ՀԱՆՐԱՊԵՏՈՒԹՅԱՆ
C28: ՎԱՐՉԱՊԵՏԻ ԱՇԽԱՏԱԿԱԶՄԻ
D29: ՂԵԿԱՎԱՐ ՝ Ա. ՀԱՐՈՒԹՅՈՒՆՅԱՆ

Sheet 6
L1: Հավելված № 6
K2: ՀՀ կառավարության 2026 թվականի
K3: ------------- ի № ---- -Ն որոշման
A5: ՀԱՅԱՍՏԱՆԻ ՀԱՆՐԱՊԵՏՈՒԹՅԱՆ ԿԱՌԱՎԱՐՈՒԹՅԱՆ 2025 ԹՎԱԿԱՆԻ ԴԵԿՏԵՄԲԵՐԻ 25-Ի № 1910-Ն ՈՐՈՇՄԱՆ № 9 ՀԱՎԵԼՎԱԾՈՒՄ ԿԱՏԱՐՎՈՂ ՓՈՓՈԽՈՒԹՅՈՒՆՆԵՐԸ ԵՎ ԼՐԱՑՈՒՄՆԵՐԸ
M7: հազար դրամներով
A8: ԲԳԿ | B8: Ծրագիր | D8: Միջոցառում | H8: Իրականացնողը/ ակտիվն օգտագործողը/ շահառուի ընտրության չափորոշիչը | I8: Արդյունքային չափորոշիչը | J8: Ցուցանիշների փոփոխությունը (ավելացումները նշված են դրական նշանով, իսկ նվազեցումները` փակագծերում)
B9: Դասիչը | C9: Անվանումը | D9: Դասիչը | E9: Անվանումը | F9: Նկարագրությունը | G9: Տեսակը | J9: Առաջին եռամսյակ | K9: Առաջին կիսամյակ | L9: Ինն ամիս | M9: Տարի
A10: ԸՆԴԱՄԵՆԸ | J10: =J11+J24+J30 -> 0 | K10: =K11+K24+K30 -> 0 | L10: =L11+L24+L30 -> 0 | M10: =M11+M24+M30 -> 0
A11: ՀՀ տարածքային կառավարման և ենթակառուցվածքների նախարարություն | J11: =J12 -> -1296.8 | K11: =K12 -> -1296.8 | L11: =L12 -> -1296.8 | M11: =M12 -> -1296.8
B12: 1212 | C12: Տարածքային զարգացում | J12: -1296.8 | K12: -1296.8 | L12: -1296.8 | M12: -1296.8
D13: 1212-12025 | E13: Մարզերում առաջնահերթ լուծում պահանջող հիմնախնդիրների լուծում | J13: ='2'!G43 -> 2460 | K13: ='2'!H43 -> 19920 | L13: ='2'!I43 -> 37350.7 | M13: ='2'!J43 -> 39810.7
F14: Մարզերում առաջնահերթ լուծում պահանջող ծրագրերի իրականացում, որի արդյունքում լուծում կտրվի բնակչության և համայնքների սոցիալական նշանակություն ունեցող հիմնախնդիրներին:
G15: Տրանսֆերտների տրամադրում
H16: Համայնքներ
I17: Շահառու բնակիչների քանակ, թիվ | K17: 15 | M17: 15
I18: Համայնքների թիվ, հատ | K18: 2 | M18: 2
D19: 1212-32001 | E19: ՀՀ մարզերում առաջնահերթ լուծում պահանջող անհետաձգելի ծրագրերի իրականացում | J19: ='2'!G59 -> -3756.8 | K19: ='2'!H59 -> -21216.8 | L19: ='2'!I59 -> -38647.5 | M19: ='2'!J59 -> -41107.5
F20: ՀՀ մարզերում առաջնահերթ լուծում պահանջող անհետաձգելի ծրագրերի իրականացում, որի արդյունքում լուծում կտրվի մարզային ենթակայության կազմակերպությունների և համայնքային նշանակություն ունեցող հիմնախնդիրներին
G21: Այլ պետական կազմակերպությունների կողմից օգտագործվող ոչ ֆինանսական ակտիվների հետ գործառնություններ
H22: Ակտիվն օգտագործող կազմակերպության անվանումը` ՀՀ համայնքներ
I23: Համայնքների թիվ, հատ | K23: 12 | M23: 12
A24: ՀՀ Կոտայքի մարզպետի աշխատակազմ | J24: =J25 -> 1296.8 | K24: =K26+K41 -> 1296.8 | L24: =L26+L41 -> 1296.8 | M24: =M26+M41 -> 1296.8
B25: 1037 | C25: ՀՀ Կոտայքի մարզում տարածքային պետական կառավարում | J25: =J26 -> 1296.8 | K25: =K26+K41 -> 1296.8 | L25: =L26+L41 -> 1296.8 | M25: =M26+M41 -> 1296.8
D26: 1037 - 11001 | E26: ՀՀ Կոտայքի մարզում տարածքային պետական կառավարում | J26: ='2'!G23 -> 1296.8 | K26: ='2'!H23 -> 1296.8 | L26: ='2'!I23 -> 1296.8 | M26: ='2'!J23 -> 1296.8
F27: Մարզպետի աշխատակազմի ենթակայության հիմնարկների կառավարում, կրթության, ճանապարհաշինության, քաղաքաշինության և այլ ոլորտներում հասարակական պատվերի տեղաբաշխում, տնտեսության և սոցիալական տարբեր ոլորտներում մարզային միջոցառումների համակարգում
G28: Ծառայությունների մատուցում
H29: Ծառայությունը մատուցողի անվանումը` ՀՀ Կոտայքի մարզպետի աշխատակազմ
A30: ՀՀ կառավարություն | J30: =J31 -> 0 | K30: =K31 -> 0 | L30: =L31 -> 0 | M30: =M31 -> 0
B31: 1139 | C31: ՀՀ կառավարության պահուստային ֆոնդ | J31: =J32+J36 -> 0 | K31: =K32+K36 -> 0 | L31: =L32+L36 -> 0 | M31: =M32+M36 -> 0
D32: 1139 - 11001 | E32: ՀՀ կառավարության պահուստային ֆոնդ | J32: ='2'!G124 -> -2460 | K32: ='2'!H124 -> -19920 | L32: ='2'!I124 -> -37350.7 | M32: ='2'!J124 -> -39810.7
F33: ՀՀ պետական բյուջեում նախատեսված ելքերի լրացուցիչ ֆինանսավորման, պետական բյուջեում չկանխատեսված ելքերի, ինչպես նաև բյուջետային երաշխիքների ապահովման ելքերի ֆինանսավորման ապահովում
G34: Ծառայությունների մատուցում
H35: Ծառայությունը մատուցողի անվանումը` ՀՀ կառավարություն
D36: 1139 - 11001 | E36: ՀՀ կառավարության պահուստային ֆոնդ | J36: ='2'!G132 -> 2460 | K36: ='2'!H132 -> 19920 | L36: ='2'!I132 -> 37350.7 | M36: ='2'!J132 -> 39810.7
F37: ՀՀ պետական բյուջեում նախատեսված ելքերի լրացուցիչ ֆինանսավորման, պետական բյուջեում չկանխատեսված ելքերի, ինչպես նաև բյուջետային երաշխիքների ապահովման ելքերի ֆինանսավորման ապահովում
G38: Ծառայությունների մատուցում
H39: Ծառայությունը մատուցողի անվանումը` ՀՀ կառավարություն
C41: ՀԱՅԱՍՏԱՆԻ ՀԱՆՐԱՊԵՏՈՒԹՅԱՆ
C42: ՎԱՐՉԱՊԵՏԻ ԱՇԽԱՏԱԿԱԶՄԻ
D43: ՂԵԿԱՎԱՐ ՝ Ա. ՀԱՐՈՒԹՅՈՒՆՅԱՆ

Sheet 7
L1: Հավելված № 7
K2: ՀՀ կառավարության 2026 թվականի
K3: ------------- ի № ---- -Ն որոշման
A5: ՀԱՅԱՍՏԱՆԻ ՀԱՆՐԱՊԵՏՈՒԹՅԱՆ ԿԱՌԱՎԱՐՈՒԹՅԱՆ 2025 ԹՎԱԿԱՆԻ ԴԵԿՏԵՄԲԵՐԻ 25-Ի № 1910-Ն ՈՐՈՇՄԱՆ № 9.1 ՀԱՎԵԼՎԱԾԻ ԱՂՅՈՒՍԱԿՈՒՄ ԿԱՏԱՐՎՈՂ ՓՈՓՈԽՈՒԹՅՈՒՆՆԵՐԸ ԵՎ ԼՐԱՑՈՒՄՆԵՐԸ
M7: հազար դրամներով
A8: ԲՍԿ | B8: Ծրագիր | D8: Միջոցառում | H8: Իրականացնողը/ ակտիվն օգտագործողը/ շահառուի ընտրության չափորոշիչը | I8: Արդյունքային չափորոշիչը | J8: Ցուցանիշների փոփոխությունը (ավելացումները նշված են դրական նշանով, իսկ նվազեցումները` փակագծերում)
B9: Դասիչը | C9: Անվանումը | D9: Դասիչը | E9: Անվանումը | F9: Նկարագրությունը | G9: Տեսակը | J9: Առաջին եռամսյակ | K9: Առաջին կիսամյակ | L9: Ինն ամիս | M9: Տարի
A10: ԸՆԴԱՄԵՆԸ | J10: =J11+J18+J25+J32+J45+J57+J64+J71 -> 0 | K10: =K11+K18+K25+K32+K45+K57+K64+K71 -> 0 | L10: =L11+L18+L25+L32+L45+L57+L64+L71 -> 0 | M10: =M11+M18+M25+M32+M45+M57+M64+M71 -> 0
A11: ՀՀ Արագածոտնի մարզպետի աշխատակազմ | J11: =J13 -> 1499 | K11: =K13 -> 1499 | L11: =L13 -> 1499 | M11: =M13 -> 1499
B12: 1212 | C12: Տարածքային զարգացում | J12: =J13 -> 1499 | K12: =K13 -> 1499 | L12: =L13 -> 1499 | M12: =M13 -> 1499
D13: 1212 - 32001 | E13: ՀՀ մարզերում առաջնահերթ լուծում պահանջող անհետաձգելի ծրագրերի իրականացում | J13: ='2'!G68 -> 1499 | K13: ='2'!H68 -> 1499 | L13: ='2'!I68 -> 1499 | M13: ='2'!J68 -> 1499
F14: ՀՀ մարզերում առաջնահերթ լուծում պահանջող անհետաձգելի ծրագրերի իրականացում, որի արդյունքում լուծում կտրվի մարզային ենթակայության կազմակերպությունների և համայնքային նշանակություն ունեցող հիմնախնդիրներին
G15: Այլ պետական կազմակերպությունների կողմից օգտագործվող ոչ ֆինանսական ակտիվների հետ գործառնություններ
H16: Ակտիվն օգտագործող կազմակերպության անվանումը` ՀՀ համայնքներ
I17: Համայնքների թիվ, հատ | K17: 1 | M17: 1
A18: ՀՀ Արարատի մարզպետի աշխատակազմ | J18: =J20 -> 0 | K18: =K20 -> 117939.9 | L18: =L20 -> 157939.9 | M18: =M20 -> 187939.9
B19: 1212 | C19: Տարածքային զարգացում | J19: =J20 -> 0 | K19: =K20 -> 117939.9 | L19: =L20 -> 157939.9 | M19: =M20 -> 187939.9
D20: 1212 - 32001 | E20: ՀՀ մարզերում առաջնահերթ լուծում պահանջող անհետաձգելի ծրագրերի իրականացում | J20: ='2'!G75 -> 0 | K20: ='2'!H75 -> 117939.9 | L20: ='2'!I75 -> 157939.9 | M20: ='2'!J75 -> 187939.9
F21: ՀՀ մարզերում առաջնահերթ լուծում պահանջող անհետաձգելի ծրագրերի իրականացում, որի արդյունքում լուծում կտրվի մարզային ենթակայության կազմակերպությունների և համայնքային նշանակություն ունեցող հիմնախնդիրներին
G22: Այլ պետական կազմակերպությունների կողմից օգտագործվող ոչ ֆինանսական ակտիվների հետ գործառնություններ
H23: Ակտիվն օգտագործող կազմակերպության անվանումը` ՀՀ համայնքներ
I24: Համայնքների թիվ, հատ | K24: 3 | M24: 3
A25: ՀՀ Գեղարքունիքի մարզպետի աշխատակազմ | J25: =J26 -> 0 | K25: =K26 -> 15000 | L25: =L26 -> 29970.7 | M25: =M26 -> 29970.7
B26: 1212 | C26: Տարածքային զարգացում | J26: =J27 -> 0 | K26: =K27 -> 15000 | L26: =L27 -> 29970.7 | M26: =M27 -> 29970.7
D27: 1212-12025 | E27: Մարզերում առաջնահերթ լուծում պահանջող հիմնախնդիրների լուծում | J27: ='2'!G45 -> 0 | K27: ='2'!H45 -> 15000 | L27: ='2'!I45 -> 29970.7 | M27: ='2'!J45 -> 29970.7
F28: Մարզերում առաջնահերթ լուծում պահանջող ծրագրերի իրականացում, որի արդյունքում լուծում կտրվի բնակչության և համայնքների սոցիալական նշանակություն ունեցող հիմնախնդիրներին:
G29: Տրանսֆերտների տրամադրում
H30: Համայնքներ
I31: Համայնքների թիվ, հատ | K31: 1 | M31: 1
A32: ՀՀ Լոռու մարզպետի աշխատակազմ | J32: =J33 -> 120160 | K32: =K33 -> 398989.7 | L32: =L33 -> 623019 | M32: =M33 -> 625479
B33: 1212 | C33: Տարածքային զարգացում | J33: =J40+J34 -> 120160 | K33: =K40+K34 -> 398989.7 | L33: =L40+L34 -> 623019 | M33: =M40+M34 -> 625479
D34: 1212-12025 | E34: Մարզերում առաջնահերթ լուծում պահանջող հիմնախնդիրների լուծում | J34: ='2'!G56 -> 2460 | K34: ='2'!H56 -> 4920 | L34: ='2'!I56 -> 7380 | M34: ='2'!J56 -> 9840
F35: Մարզերում առաջնահերթ լուծում պահանջող ծրագրերի իրականացում, որի արդյունքում լուծում կտրվի բնակչության և համայնքների սոցիալական նշանակություն ունեցող հիմնախնդիրներին:
G36: Տրանսֆերտների տրամադրում
H37: Համայնքներ
I38: Շահառու բնակիչների քանակ, թիվ | K38: 15 | M38: 15
I39: Համայնքների թիվ, հատ | K39: 1 | M39: 1
D40: 1212 - 32001 | E40: ՀՀ մարզերում առաջնահերթ լուծում պահանջող անհետաձգելի ծրագրերի իրականացում | J40: ='2'!G82 -> 117700 | K40: ='2'!H82 -> 394069.7 | L40: ='2'!I82 -> 615639 | M40: ='2'!J82 -> 615639
F41: ՀՀ մարզերում առաջնահերթ լուծում պահանջող անհետաձգելի ծրագրերի իրականացում, որի արդյունքում լուծում կտրվի մարզային ենթակայության կազմակերպությունների և համայնքային նշանակություն ունեցող հիմնախնդիրներին
G42: Այլ պետական կազմակերպությունների կողմից օգտագործվող ոչ ֆինանսական ակտիվների հետ գործառնություններ
...

Sheet 8
D1: Հավելված N 8
A2: ՀՀ կառավարության 2026 թվականի
A3: ______________ ի ___Ն որոշման
A5: ՀԱՅԱՍՏԱՆԻ ՀԱՆՐԱՊԵՏՈՒԹՅԱՆ ԿԱՌԱՎԱՐՈՒԹՅԱՆ 2025 ԹՎԱԿԱՆԻ ԴԵԿՏԵՄԲԵՐԻ 25-Ի N 1910-Ն ՈՐՈՇՄԱՆ N 10 ՀԱՎԵԼՎԱԾՈՒՄ ԿԱՏԱՐՎՈՂ ԼՐԱՑՈՒՄՆԵՐԸ
A7: Կոդը | B7: Անվանումը | E7: Գնման ձևը | F7: Չափման միավորը | G7: Միավորի գինը | H7: Ցուցանիշների փոփոխությունը (ավելացումները նշված են դրական նշանով)
H8: Քանակը | I8: Գումարը (հազար դրամով)
A9: 1 | B9: 2 | E9: 3 | F9: 4 | G9: 5 | H9: 6 | I9: 7
A10: ԸՆԴԱՄԵՆԸ | I10: =I17+I31+I40+I11+I48+I56 -> 1261205.1
A11: ՀՀ Արագածոտնի մարզպետի աշխատակազմ | I11: =I12 -> 1499
A12: Բաժին N 01 | B12: Խումբ N 08 | C12: Դաս N 01 | D12: Կառավարության տարբեր մակարդակների միջեւ իրականացվող ընդհանուր բնույթի տրանսֆերտներ | I12: =I13 -> 1499
A13: 1212 32001 | B13: ՀՀ մարզերում առաջնահերթ լուծում պահանջող անհետաձգելի ծրագրերի իրականացում | I13: =I14 -> 1499
B14: ՄԱՍ III. ԾԱՌԱՅՈՒԹՅՈՒՆՆԵՐ | I14: =I15+I16 -> 1499
A15: 71241200/ | B15: Նախագծերի պատրաստում, ծախսերի գնահատում | E15: ՀՄԱ | F15: դրամ | G15: =I15*1000 -> 1369000 | H15: 1 | I15: 1369
A16: 50531140/ | B16: փորձաքննության ծառայություններ | E16: ՀՄԱ | F16: դրամ | G16: =I16*1000 -> 130000 | H16: 1 | I16: 130
A17: ՀՀ Արարատի մարզպետի աշխատակազմ | I17: =I18 -> 187939.9
A18: Բաժին N 01 | B18: Խումբ N 08 | C18: Դաս N 01 | D18: Կառավարության տարբեր մակարդակների միջեւ իրականացվող ընդհանուր բնույթի տրանսֆերտներ | I18: =I19 -> 187939.9
A19: 1212 32001 | B19: ՀՀ մարզերում առաջնահերթ լուծում պահանջող անհետաձգելի ծրագրերի իրականացում | I19: =I20+I24 -> 187939.9
B20: ՄԱՍ II. ԱՇԽԱՏԱՆՔՆԵՐ | I20: =I21+I22+I23 -> 184630.8
A21: 45221142/501 | B21: Ընդհանուր շինարարական աշխատանքներ | E21: ՀԲՄ | F21: դրամ | G21: =I21*1000 -> 117822000 | H21: 1 | I21: 117822
A22: 45231115/501 | B22: Շինարարական աշխատանքներ գազամուղների համար | E22: ԲՄ | F22: դրամ | G22: =I22*1000 -> 21000000 | H22: 1 | I22: 21000
A23: 45231126/502 | B23: Ոռոգման խողովակաշարերի կառուցման աշխատանքներ | E23: ԲՄ | F23: դրամ | G23: =I23*1000 -> 45808800 | H23: 1 | I23: 45808.8
B24: ՄԱՍ III. ԾԱՌԱՅՈՒԹՅՈՒՆՆԵՐ | I24: =I25+I28+I27+I29+I26+I30 -> 3309.1
A25: 71351540/501 | B25: տեխնիկական հսկողության ծառայություններ | E25: ՀԲՄ | F25: դրամ | G25: =I25*1000 -> 1490000 | H25: 1 | I25: 1490
A26: 71351540/504 | B26: տեխնիկական հսկողության ծառայություններ | E26: ԲՄ | F26: դրամ | G26: =I26*1000 -> 500000 | H26: 1 | I26: 500
A27: 71351540/505 | B27: տեխնիկական հսկողության ծառայություններ | E27: ԲՄ | F27: դրամ | G27: =I27*1000 -> 280000 | H27: 1 | I27: 280
A28: 98111140/ | B28: հեղինակային հսկողության ծառայություններ | E28: ՄԱ | F28: դրամ | G28: =I28*1000 -> 688000 | H28: 1 | I28: 688
A29: 98111140/ | B29: հեղինակային հսկողության ծառայություններ | E29: ՄԱ | F29: դրամ | G29: =I29*1000 -> 168100 | H29: 1 | I29: 168.1
A30: 98111140/ | B30: հեղինակային հսկողության ծառայություններ | E30: ՄԱ | F30: դրամ | G30: =I30*1000 -> 183000 | H30: 1 | I30: 183
A31: ՀՀ Լոռու մարզպետի աշխատակազմ | I31: =I32 -> 615639
A32: Բաժին N 01 | B32: Խումբ N 08 | C32: Դաս N 01 | D32: Կառավարության տարբեր մակարդակների միջեւ իրականացվող ընդհանուր բնույթի տրանսֆերտներ | I32: =I33 -> 615639
A33: 1212 32001 | B33: ՀՀ մարզերում առաջնահերթ լուծում պահանջող անհետաձգելի ծրագրերի իրականացում | I33: =I34+I37 -> 615639
B34: ՄԱՍ II. ԱՇԽԱՏԱՆՔՆԵՐ | I34: =I35+I36 -> 609162
A35: 45461100/501 | B35: շենքերի, շինությունների ընթացիկ նորոգման աշխատանքներ | E35: ԳՀ | F35: դրամ | G35: =I35*1000 -> 17700000 | H35: 1 | I35: 17700
A36: 45231160/501 | B36: շինարարական աշխատանքներ մայրուղիների-ճանապարհների համար | E36: ՀԲՄ | F36: դրամ | G36: =I36*1000 -> 591462000 | H36: 1 | I36: 591462
B37: ՄԱՍ III. ԾԱՌԱՅՈՒԹՅՈՒՆՆԵՐ | I37: =I38+I39 -> 6477
A38: 71351540/1 | B38: տեխնիկական հսկողության ծառայություններ | E38: ԳՀ | F38: դրամ | G38: =I38*1000 -> 1995000 | H38: 1 | I38: 1995
A39: 98111140/1 | B39: հեղինակային հսկողության ծառայություններ | E39: ՄԱ | F39: դրամ | G39: =I39*1000 -> 4482000 | H39: 1 | I39: 4482
A40: ՀՀ Կոտայքի մարզպետի աշխատակազմ | I40: =I41 -> 49978.2
A41: Բաժին N 01 | B41: Խումբ N 08 | C41: Դաս N 01 | D41: Կառավարության տարբեր մակարդակների միջեւ իրականացվող ընդհանուր բնույթի տրանսֆերտներ | I41: =I42 -> 49978.2
A42: 1212 32001 | B42: ՀՀ մարզերում առաջնահերթ լուծում պահանջող անհետաձգելի ծրագրերի իրականացում | I42: =I43+I45 -> 49978.2
...

Sheet 9
J1: Հավելված N 9
F2: ՀՀ կառավարության 2026 թվականի
J3: N ------------ -Ն որոշման
A5: ՀԱՅԱՍՏԱՆԻ ՀԱՆՐԱՊԵՏՈՒԹՅԱՆ 2026 ԹՎԱԿԱՆԻ ՊԵՏԱԿԱՆ ԲՅՈՒՋԵՈՎ ՆԱԽԱՏԵՍՎԱԾ՝ ՀԱՅԱՍՏԱՆԻ ՀԱՆՐԱՊԵՏՈՒԹՅԱՆ ԿԱՌԱՎԱՐՈՒԹՅԱՆ ՊԱՀՈՒՍՏԱՅԻՆ ՖՈՆԴԻՑ ՀԱՏԿԱՑՈՒՄՆԵՐ ԿԱՏԱՐԵԼՈՒ ՎԵՐԱԲԵՐՅԱԼ
I6: հազար դրամներով
A7: Գործառական դասիչը | D7: Ծրագրային դասիչը | F7: Բյուջետային ծախսերի գործառական դասակարգման բաժինների, խմբերի և դասերի, բյուջետային ծրագրերի միջոցառումների, բյուջետային հատկացումների գլխավոր կարգադրիչների անվանումները | G7: Ցուցանիշների փոփոխությունը (ավելացումները նշված են դրական նշանով, իսկ նվազեցումները` փակագծերում)
A8: Բաժին | B8: Խումբ | C8: Դաս | D8: Ծրագիր | E8: Միջոցառում | G8: Առաջին եռամսյակ | H8: Առաջին կիսամյակ | I8: Ինն ամիս | J8: Տարի
F9: ԸՆԴԱՄԵՆԸ ԾԱԽՍԵՐ | G9: =+G11+G39 -> 0 | H9: =+H11+H39 -> 0 | I9: =+I11+I39 -> 0 | J9: =+J11+J39 -> 0
F10: այդ թվում`
F11: ՀՀ տարածքային կառավարման և ենթակառուցվածքների նախարարություն | G11: =G13 -> 2460 | H11: =H13 -> 19920 | I11: =I13 -> 37350.7 | J11: =J13 -> 39810.7
F12: այդ թվում`
A13: 01 | F13: ԸՆԴՀԱՆՈՒՐ ԲՆՈՒՅԹԻ ՀԱՆՐԱՅԻՆ ԾԱՌԱՅՈՒԹՅՈՒՆՆԵՐ | G13: =G15 -> 2460 | H13: =H15 -> 19920 | I13: =I15 -> 37350.7 | J13: =J15 -> 39810.7
F14: այդ թվում`
B15: 08 | F15: Կառավարության տարբեր մակարդակների միջև իրականացվող ընդհանուր բնույթի տրանսֆերտներ | G15: =G17 -> 2460 | H15: =H17 -> 19920 | I15: =I17 -> 37350.7 | J15: =J17 -> 39810.7
F16: այդ թվում`
C17: 01 | F17: Կառավարության տարբեր մակարդակների միջև իրականացվող ընդհանուր բնույթի տրանսֆերտներ | G17: =G21 -> 2460 | H17: =H21 -> 19920 | I17: =I21 -> 37350.7 | J17: =J21 -> 39810.7
F18: այդ թվում`
F19: ՀՀ տարածքային կառավարման և ենթակառուցվածքների նախարարություն | G19: =G21 -> 2460 | H19: =H21 -> 19920 | I19: =I21 -> 37350.7 | J19: =J21 -> 39810.7
F20: այդ թվում`
D21: 1212 | F21: Տարածքային զարգացում | G21: =+G23 -> 2460 | H21: =+H23 -> 19920 | I21: =+I23 -> 37350.7 | J21: =+J23 -> 39810.7
F22: այդ թվում`
E23: 12025 | F23: Մարզերում առաջնահերթ լուծում պահանջող հիմնախնդիրների լուծում | G23: =G32+G25 -> 2460 | H23: =H32+H25 -> 19920 | I23: =I32+I25 -> 37350.7 | J23: =J32+J25 -> 39810.7
F24: այդ թվում` ըստ կատարողների
F25: ՀՀ Գեղարքունիքի մարզպետի աշխատակազմ | G25: =G27 -> 0 | H25: =H27 -> 15000 | I25: =I27 -> 29970.7 | J25: =J27 -> 29970.7
F26: այդ թվում` բյուջետային ծախսերի տնտեսագիտական դասակարգման հոդվածներ
F27: ԸՆԴԱՄԵՆԸ ԾԱԽՍԵՐ | G27: =G28 -> 0 | H27: =H28 -> 15000 | I27: =I28 -> 29970.7 | J27: =J28 -> 29970.7
F28: ԸՆԹԱՑԻԿ ԾԱԽՍԵՐ | G28: =G29 -> 0 | H28: =H29 -> 15000 | I28: =I29 -> 29970.7 | J28: =J29 -> 29970.7
F29: ԴՐԱՄԱՇՆՈՐՀՆԵՐ | G29: =G30 -> 0 | H29: =H30 -> 15000 | I29: =I30 -> 29970.7 | J29: =J30 -> 29970.7
F30: Կապիտալ դրամաշնորհներ պետական հատվածի այլ մակարդակներին | G30: =G31 -> 0 | H30: =H31 -> 15000 | I30: =I31 -> 29970.7 | J30: =J31 -> 29970.7
F31: -Կապիտալ սուբվենցիաներ համայնքներին | G31: 0 | H31: 15000 | I31: 29970.7 | J31: 29970.7
F32: ՀՀ Լոռու մարզպետի աշխատակազմ | G32: =G34 -> 2460 | H32: =H34 -> 4920 | I32: =I34 -> 7380 | J32: =J34 -> 9840
F33: այդ թվում` բյուջետային ծախսերի տնտեսագիտական դասակարգման հոդվածներ
F34: ԸՆԴԱՄԵՆԸ ԾԱԽՍԵՐ | G34: =G35 -> 2460 | H34: =H35 -> 4920 | I34: =I35 -> 7380 | J34: =J35 -> 9840
F35: ԸՆԹԱՑԻԿ ԾԱԽՍԵՐ | G35: =G36 -> 2460 | H35: =H36 -> 4920 | I35: =I36 -> 7380 | J35: =J36 -> 9840
F36: ՍՈՑԻԱԼԱԿԱՆ ՆՊԱՍՏՆԵՐ ԵՎ ԿԵՆՍԱԹՈՇԱԿՆԵՐ | G36: =G37 -> 2460 | H36: =H37 -> 4920 | I36: =I37 -> 7380 | J36: =J37 -> 9840
F37: Սոցիալական օգնության դրամական արտահայտությամբ նպաստներ (բյուջեից) | G37: =G38 -> 2460 | H37: =H38 -> 4920 | I37: =I38 -> 7380 | J37: =J38 -> 9840
F38: -Այլ նպաստներ բյուջեից | G38: 2460 | H38: 4920 | I38: 7380 | J38: =9840 -> 9840
F39: ՀՀ ԿԱՌԱՎԱՐՈՒԹՅՈՒՆ | G39: =+G41 -> -2460 | H39: =+H41 -> -19920 | I39: =+I41 -> -37350.7 | J39: =+J41 -> -39810.7
F40: այդ թվում`
A41: 11 | F41: ՀԻՄՆԱԿԱՆ ԲԱԺԻՆՆԵՐԻՆ ՉԴԱՍՎՈՂ ՊԱՀՈՒՍՏԱՅԻՆ ՖՈՆԴԵՐ | G41: =+G43 -> -2460 | H41: =+H43 -> -19920 | I41: =+I43 -> -37350.7 | J41: =+J43 -> -39810.7
...
