Workbook
Name _tab10: #REF!
Name _tab11: #REF!
Name _tab12: #REF!
Name _tab13: #REF!
Name _tab14: #REF!
Name _tab15: #REF!
Name _tab16: #REF!
Name _tab17: #REF!
Name _tab18: #REF!
Name _tab19: #REF!
Name _tab20: #REF!
Name _tab21: #REF!
Name _tab22: #REF!
Name _tab23: #REF!
Name _tab24: #REF!
Name _tab5: #REF!
Name _tab6: #REF!
Name _tab7: #REF!
Name _tab8: #REF!
Name _tab9: #REF!
Name AgencyCode: #REF!
Name AgencyCode: #REF!
Name AgencyCode: #REF!
Name AgencyCode: #REF!
Name AgencyName: #REF!
Name AgencyName: #REF!
Name AgencyName: #REF!
Name AgencyName: #REF!
Name åû: #REF!
Name åû: #REF!
Name åû: #REF!
Name åû: #REF!
Name davit: #REF!
Name davit: #REF!
Name davit: #REF!
Name davit: #REF!
Name Functional1: #REF!
Name Functional1: #REF!
Name Functional1: #REF!
Name Functional1: #REF!
Name ggg: #REF!
Name ggg: #REF!
Name ggg: #REF!
Name ggg: #REF!
Name hav: #REF!
Name havelvac: #REF!
Name mas: #REF!
Name mas: #REF!
Name mas: #REF!
Name mas: #REF!
Name mass: #REF!
Name mass: #REF!
Name mass: #REF!
Name mass: #REF!
Name PANature: #REF!
Name PANature: #REF!
Name PANature: #REF!
Name PANature: #REF!
Name par_count: #REF!,#REF!,#REF!,#REF!,#REF!,#REF!,#REF!,#REF!,#REF!,#REF!,#REF!,#REF!,#REF!,#REF!,#REF!
Name par_qual: #REF!,#REF!,#REF!,#REF!,#REF!

Sheet 1
J1: Հավելված N 1
F2: ՀՀ կառավարության 2026 թվականի
F3: -----------------ի N -----------Ն որոշման
D5: «ՀԱՅԱՍՏԱՆԻ ՀԱՆՐԱՊԵՏՈՒԹՅԱՆ 2026 ԹՎԱԿԱՆԻ ՊԵՏԱԿԱՆ ԲՅՈՒՋԵԻ ՄԱՍԻՆ» ՀԱՅԱՍՏԱՆԻ ՀԱՆՐԱՊԵՏՈՒԹՅԱՆ ՕՐԵՆՔԻ N 1 ՀԱՎԵԼՎԱԾԻ N 2 ԱՂՅՈՒՍԱԿՈՒՄ ԿԱՏԱՐՎՈՂ ՎԵՐԱԲԱՇԽՈՒՄԸ ԵՎ ՀԱՅԱՍՏԱՆԻ ՀԱՆՐԱՊԵՏՈՒԹՅԱՆ ԿԱՌԱՎԱՐՈՒԹՅԱՆ 2025 ԹՎԱԿԱՆԻ ԴԵԿՏԵՄԲԵՐԻ 25-Ի N 1910-Ն ՈՐՈՇՄԱՆ N 5 ՀԱՎԵԼՎԱԾԻ N 1 ԱՂՅՈՒՍԱԿՈՒՄ ԿԱՏԱՐՎՈՂ ՓՈՓՈԽՈՒԹՅՈՒՆԸ ԵՎ ԼՐԱՑՈՒՄԸ
J6: հազար դրամներով
A7: ԲԳԿ | B7: Ծրագրային դասիչը | D7: ԲԳԿ/Ծրագրի /միջոցառման անվանումը | E7: Ծրագրի նպատակը/Միջոցառման նկարագրությունը | F7: Վերջնական արդյունքի նկարագրությունը/Միջոցառման տեսակը | G7: ='[1]1'!D8 -> Ցուցանիշների փոփոխությունները ավելացումները նշված են դրական նշանով, իսկ նվազեցումները՝ փակագծերում
G8: Առաջին եռամսյակ | H8: Առաջին կիսամյակ | I8: Ինն ամիս | J8: Տարի
B9: Ծրագիր | C9: Միջոցառում
A10: ԸՆԴԱՄԵՆԸ | G10: =G12 -> 0 | H10: =H12 -> 0 | I10: =I12 -> 0 | J10: =J12 -> 0
A11: այդ թվում՝
A12: ՀՀ տարածքային կառավարման և ենթակառուցվածքների նախարարություն | G12: =G13 -> 0 | H12: =H13 -> 0 | I12: =I13 -> 0 | J12: =J13 -> 0
B13: 1157 | D13: Քաղաքային զարգացում | E13: Քաղաքային ենթակառուցվածքների զարգացում | F13: Քաղաքային ենթակառուցվածքների արդիականացում և բարելավում | G13: =G14+G15 -> 0 | H13: =H14+H15 -> 0 | I13: =I14+I15 -> 0 | J13: =J14+J15 -> 0
C14: 1157 - 21002 | D14: Երևանի մետրոպոլիտենի ենթակառուցվածքների կառուցում | E14: Երևանի մետրոպոլիտենի ենթակառուցվածքների կառուցում | F14: Հանրության կողմից անմիջականորեն օգտագործվող ակտիվների հետ կապված միջոցառումներ | H14: -449996 | I14: -449996 | J14: -449996
C15: 1157 - 21038 | D15: Երևանի բուսաբանական այգու տարածքում անտառապուրակի կառուցապատման աշխատանքներ | E15: Երևան քաղաքում անտառապուրակի հիմնում և կանաչ գոտիների արդիականացում | F15: Հանրության կողմից անմիջականորեն օգտագործվող ակտիվների հետ կապված միջոցառումներ | H15: 449996 | I15: 449996 | J15: 449996
D17: ՀԱՅԱՍՏԱՆԻ ՀԱՆՐԱՊԵՏՈՒԹՅԱՆ
D18: ՎԱՐՉԱՊԵՏԻ ԱՇԽԱՏԱԿԱԶՄԻ ՂԵԿԱՎԱՐ՝ | E18: Ա. ՀԱՐՈՒԹՅՈՒՆՅԱՆ

Sheet 2
J1: Հավելված N 2
F2: ՀՀ կառավարության 2026 թվականի
F3: -----------------ի N -----------Ն որոշման
D5: ՀՀԱՅԱՍՏԱՆԻ ՀԱՆՐԱՊԵՏՈՒԹՅԱՆ ԿԱՌԱՎԱՐՈՒԹՅԱՆ 2025 ԹՎԱԿԱՆԻ ԴԵԿՏԵՄԲԵՐԻ 25-Ի N 1910-Ն ՈՐՈՇՄԱՆ NN 3 ԵՎ 4 ՀԱՎԵԼՎԱԾՆԵՐՈՒՄ ԿԱՏԱՐՎՈՂ ՓՈՓՈԽՈՒԹՅՈՒՆԸ ԵՎ ԼՐԱՑՈՒՄԸ
J6: հազար դրամներով
A7: Գործառական դասիչը | D7: Ծրագրային դասիչը | F7: Բյուջետային ծախսերի գործառական դասակարգման բաժինների, խմբերի և դասերի, բյուջետային հատկացումների գլխավոր կարգադրիչների, ծրագրերի, միջոցառումների և միջոցառումները կատարող պետական մարմինների անվանումները | G7: ='[1]1'!D8 -> Ցուցանիշների փոփոխությունները ավելացումները նշված են դրական նշանով, իսկ նվազեցումները՝ փակագծերում
A8: Բաժին | B8: Խումբ | C8: Դաս | D8: Ծրագիր | E8: Միջոցառում | G8: Առաջին եռամսյակ | H8: Առաջին կիսամյակ | I8: Ինն ամիս | J8: Տարի
F9: ԸՆԴԱՄԵՆԸ ԾԱԽՍԵՐ | H9: =H11 -> 0 | I9: =I11 -> 0 | J9: =J11 -> 0
F10: այդ թվում՝
F11: ՀՀ տարածքային կառավարման և ենթակառուցվածքների նախարարություն | H11: =H23+H42 -> 0 | I11: =I23+I42 -> 0 | J11: =J23+J42 -> 0
F12: այդ թվում՝
A13: 04 | F13: ՏՆՏԵՍԱԿԱՆ ՀԱՐԱԲԵՐՈՒԹՅՈՒՆՆԵՐ | H13: =H15 -> -449996 | I13: =I15 -> -449996 | J13: =J15 -> -449996
F14: այդ թվում`
B15: 05 | F15: Տրանսպորտ | H15: =H17 -> -449996 | I15: =I17 -> -449996 | J15: =J17 -> -449996
F16: այդ թվում`
C17: 05 | F17: Խողովակաշարային և այլ տրանսպորտ | H17: =H19 -> -449996 | I17: =I19 -> -449996 | J17: =J19 -> -449996
F18: այդ թվում`
F19: ՀՀ տարածքային կառավարման և ենթակառուցվածքների նախարարություն | H19: =H21 -> -449996 | I19: =I21 -> -449996 | J19: =J21 -> -449996
F20: այդ թվում՝
D21: 1157 | F21: Քաղաքային զարգացում | H21: =H4+H23 -> -449996 | I21: =I4+I23 -> -449996 | J21: =J4+J23 -> -449996
F22: այդ թվում`
E23: 21002 | F23: Երևանի մետրոպոլիտենի ենթակառուցվածքների կառուցում | H23: =H25 -> -449996 | I23: =I25 -> -449996 | J23: =J25 -> -449996
F24: այդ թվում` ըստ կատարողների
F25: ՀՀ տարածքային կառավարման և ենթակառուցվածքների նախարարություն | H25: =H27 -> -449996 | I25: =I27 -> -449996 | J25: =J27 -> -449996
F26: այդ թվում` բյուջետային ծախսերի տնտեսագիտական դասակարգման հոդվածներ
F27: ԸՆԴԱՄԵՆԸ ԾԱԽՍԵՐ | H27: =H28 -> -449996 | I27: =I28 -> -449996 | J27: =J28 -> -449996
F28: ՈՉ ՖԻՆԱՆՍԱԿԱՆ ԱԿՏԻՎՆԵՐԻ ԳԾՈՎ ԾԱԽՍԵՐ | H28: =H29 -> -449996 | I28: =I29 -> -449996 | J28: =J29 -> -449996
F29: ՀԻՄՆԱԿԱՆ ՄԻՋՈՑՆԵՐ | H29: =H30 -> -449996 | I29: =I30 -> -449996 | J29: =J30 -> -449996
F30: ՇԵՆՔԵՐ ԵՎ ՇԻՆՈՒԹՅՈՒՆՆԵՐ | H30: =H31 -> -449996 | I30: =I31 -> -449996 | J30: =J31 -> -449996
F31: - Շենքերի և շինությունների շինարարություն | H31: =-449996 -> -449996 | I31: =-449996 -> -449996 | J31: =-449996 -> -449996
A32: 08 | F32: ՀԱՆԳԻՍՏ, ՄՇԱԿՈՒՅԹ ԵՎ ԿՐՈՆ | H32: =H34 -> 449996 | I32: =I34 -> 449996 | J32: =J34 -> 449996
F33: այդ թվում`
B34: 01 | F34: Հանգստի և սպորտի ծառայություններ | H34: =H36 -> 449996 | I34: =I36 -> 449996 | J34: =J36 -> 449996
F35: այդ թվում`
C36: 01 | F36: Հանգստի և սպորտի ծառայություններ | H36: =H38 -> 449996 | I36: =I38 -> 449996 | J36: =J38 -> 449996
F37: այդ թվում`
F38: ՀՀ տարածքային կառավարման և ենթակառուցվածքների նախարարություն | H38: =H40 -> 449996 | I38: =I40 -> 449996 | J38: =J40 -> 449996
F39: այդ թվում՝
D40: 1157 | F40: Քաղաքային զարգացում | H40: =H42 -> 449996 | I40: =I42 -> 449996 | J40: =J42 -> 449996
F41: այդ թվում`
E42: 21038 | F42: Երևանի բուսաբանական այգու տարածքում անտառապուրակի կառուցապատման աշխատանքներ | H42: 449996 | I42: 449996 | J42: =+J46 -> 449996
F43: այդ թվում` ըստ կատարողների
F44: ՀՀ տարածքային կառավարման և ենթակառուցվածքների նախարարություն | H44: 449996 | I44: 449996 | J44: =+J46 -> 449996
F45: այդ թվում` բյուջետային ծախսերի տնտեսագիտական դասակարգման հոդվածներ
F46: ԸՆԴԱՄԵՆԸ ԾԱԽՍԵՐ | H46: 449996 | I46: 449996 | J46: =+J47 -> 449996
F47: ՈՉ ՖԻՆԱՆՍԱԿԱՆ ԱԿՏԻՎՆԵՐԻ ԳԾՈՎ ԾԱԽՍԵՐ | H47: 449996 | I47: 449996 | J47: =+J48 -> 449996
F48: ՀԻՄՆԱԿԱՆ ՄԻՋՈՑՆԵՐ | H48: 449996 | I48: 449996 | J48: =+J49 -> 449996
F49: ՇԵՆՔԵՐ ԵՎ ՇԻՆՈՒԹՅՈՒՆՆԵՐ | H49: 449996 | I49: 449996 | J49: =+J50 -> 449996
F50: - Շենքերի և շինությունների շինարարություն | H50: 449996 | I50: 449996 | J50: =+'1'!J15 -> 449996
D60: ՀԱՅԱՍՏԱՆԻ ՀԱՆՐԱՊԵՏՈՒԹՅԱՆ
D61: ՎԱՐՉԱՊԵՏԻ ԱՇԽԱՏԱԿԱԶՄԻ
D62: ՂԵԿԱՎԱՐ՝ | F62: Ա. ՀԱՐՈՒԹՅՈՒՆՅԱՆ

Sheet 3
H1: Հավելված N 3
H2: ՀՀ կառավարության 2026 թվականի
H3: ______________ ի ___Ն որոշման
A5: «ՀԱՅԱՍՏԱՆԻ ՀԱՆՐԱՊԵՏՈՒԹՅԱՆ 2026 ԹՎԱԿԱՆԻ ՊԵՏԱԿԱՆ ԲՅՈՒՋԵԻ ՄԱՍԻՆ» ՕՐԵՆՔԻ N 1 ՀԱՎԵԼՎԱԾԻ N 3 ԱՂՅՈՒՍԱԿՈՒՄ ԿԱՏԱՐՎՈՂ ՓՈՓՈԽՈՒԹՅՈՒՆԸ ԵՎ ԼՐԱՑՈՒՄԸ
H7: հազար դրամներով
A8: Ծրագրային դասիչ | C8: Բյուջետային գլխավոր կարգադրիչների, ծրագրերի, միջոցառումների և ուղղությունների անվանումները | D8: Ընդամենը | E8: Ցուցանիշների փոփոխությունը (ավելացումները նշված են դրական նշանով, իսկ նվազեցումները՝ փակագծերում)
E9: այդ թվում՝
A10: Ծրագիր | B10: Միջոցառում | E10: Կառուցման աշխատանքներ | F10: Վերակառուցման, վերանորոգման և վերականգնման աշխատանքներ | G10: Նախագծահե- տազոտական, գեոդեզիա- քարտեզագրա- կան աշխա- տանքներ | H10: Ոչ ֆինանսական այլ ակտիվների ձեռքբերում
C11: ԸՆԴԱՄԵՆԸ | D11: =+D13 -> 0 | E11: =E13 -> 0 | F11: =+F13 -> 0 | G11: =+G13 -> 0
C13: ՀՀ ՏԱՐԱԾՔԱՅԻՆ ԿԱՌԱՎԱՐՄԱՆ ԵՎ ԵՆԹԱԿԱՌՈՒՑՎԱԾՔՆԵՐԻ ՆԱԽԱՐԱՐՈՒԹՅՈՒՆ | D13: =+E13+F13+G13 -> 0 | E13: =+E16+E15 -> 0 | F13: =+F16 -> 0
C14: այդ թվում`
A15: 1157 | B15: 21002 | C15: Երևանի մետրոպոլիտենի ենթակառուցվածքների կառուցում | D15: =+E15+F15 -> -449996 | E15: ='2'!H31 -> -449996
A16: 1157 | B16: 21038 | C16: Երևանի բուսաբանական այգու տարածքում անտառապուրակի կառուցապատման աշխատանքներ | D16: =+E16+F16 -> 449996 | E16: ='2'!H50 -> 449996
B19: ՀԱՅԱՍՏԱՆԻ ՀԱՆՐԱՊԵՏՈՒԹՅԱՆ
B20: ՎԱՐՉԱՊԵՏԻ ԱՇԽԱՏԱԿԱԶՄԻ
C21: ՂԵԿԱՎԱՐ՝ | E21: Ա. ՀԱՐՈՒԹՅՈՒՆՅԱՆ

Sheet 4
G1: Հավելված N 4
C2: ՀՀ կառավարության 2026 թվականի
C3: -----------------ի N -----------Ն որոշման
A5: ԱՅԱՍՏԱՆԻ ՀԱՆՐԱՊԵՏՈՒԹՅԱՆ ԿԱՌԱՎԱՐՈՒԹՅԱՆ 2025 ԹՎԱԿԱՆԻ ԴԵԿՏԵՄԲԵՐԻ 25-Ի N 1910-Ն ՈՐՈՇՄԱՆ N 5 ՀԱՎԵԼՎԱԾԻ N 2 ԱՂՅՈՒՍԱԿՈՒՄ ԿԱՏԱՐՎՈՂ ՓՈՓՈԽՈՒԹՅՈՒՆԸ ԵՎ ԼՐԱՑՈՒՄԸ
G6: հազար դրամներով
A7: Ծրագրային դասիչը | C7: Բյուջետային գլխավոր կարգադրիչների, ծրագրերի, միջոցառումների, միջոցառումները կատարող պետական մարմինների և ուղղությունների անվանումները | D7: Ցուցանիշների փոփոխությունը (ավելացումները նշված են դրական նշանով, իսկ նվազեցումները՝ փակագծերում)
A8: Ծրագիր | B8: Միջոցառում | D8: Առաջին եռամսյակ | E8: Առաջին կիսամյակ | F8: Ինն ամիս | G8: Տարի
C9: ԸՆԴԱՄԵՆԸ ԾԱԽՍԵՐ | D9: =+D11 -> 0 | E9: =+E11 -> 0 | F9: =+F11 -> 0 | G9: =+G11 -> 0
C10: այդ թվում՝
C11: ՀՀ տարածքային կառավարման և ենթակառուցվածքների նախարարություն | D11: =+D16+D13 -> 0 | E11: =+E16+E13 -> 0 | F11: =+F16+F13 -> 0 | G11: =+G16+G13 -> 0
C12: այդ թվում՝
A13: 1157 | B13: 21002 | C13: Երևանի մետրոպոլիտենի ենթակառուցվածքների կառուցում | D13: =+D15 -> 0 | E13: =+E15 -> -449996 | F13: =+F15 -> -449996 | G13: =+G15 -> -449996
C14: այդ թվում` ըստ կատարողների
C15: ՀՀ տարածքային կառավարման և ենթակառուցվածքների նախարարություն | D15: =+'1'!G12 -> 0 | E15: ='2'!H31 -> -449996 | F15: ='2'!I31 -> -449996 | G15: ='2'!J31 -> -449996
A16: 1157 | B16: 21038 | C16: Երևանի բուսաբանական այգու տարածքում անտառապուրակի կառուցապատման աշխատանքներ | D16: =+D18 -> 0 | E16: =+E18 -> 449996 | F16: =+F18 -> 449996 | G16: =+G18 -> 449996
C17: այդ թվում` ըստ կատարողների
C18: ՀՀ տարածքային կառավարման և ենթակառուցվածքների նախարարություն | D18: =+'1'!G15 -> 0 | E18: ='2'!H50 -> 449996 | F18: ='2'!I50 -> 449996 | G18: ='2'!J50 -> 449996
A22: ՀԱՅԱՍՏԱՆԻ ՀԱՆՐԱՊԵՏՈՒԹՅԱՆ
A23: ՎԱՐՉԱՊԵՏԻ ԱՇԽԱՏԱԿԱԶՄԻ
A24: ՂԵԿԱՎԱՐ՝ | C24: Ա. ՀԱՐՈՒԹՅՈՒՆՅԱՆ

Sheet 5
E1: Հավելված N 5
D2: ՀՀ կառավարության 2026 թվականի
D3: ______________ ի ___Ն որոշման
B5: ՀԱՅԱՍՏԱՆԻ ՀԱՆՐԱՊԵՏՈՒԹՅԱՆ ԿԱՌԱՎԱՐՈՒԹՅԱՆ 2025 ԹՎԱԿԱՆԻ ԴԵԿՏԵՄԲԵՐԻ 25-Ի N 1910-Ն ՈՐՈՇՄԱՆ N 8 ՀԱՎԵԼՎԱԾՈՒՄ ԿԱՏԱՐՎՈՂ ՓՈՓՈԽՈՒԹՅՈՒՆԸ ԵՎ ԼՐԱՑՈՒՄԸ
E6: հազար դրամներով
B7: Ծրագրային դասիչը | D7: Ծրագրերի, միջոցառումների անվանումները | E7: Ցուցանիշների փոփոխությունը (ավելացումները նշված են դրական նշանով, իսկ նվազեցումները՝ փակագծերում)
B8: Ծրագիր | C8: Միջոցառում
D9: ԸՆԴԱՄԵՆԸ ԾԱԽՍԵՐ | E9: =E11 -> 0
D10: այդ թվում՝
B11: 1157 | D11: Քաղաքային զարգացում | E11: =+E13+E12 -> 0
C12: 21002 | D12: Երևանի մետրոպոլիտենի ենթակառուցվածքների կառուցում | E12: ='2'!J31 -> -449996
C13: 21038 | D13: =+'3'!C16 -> Երևանի բուսաբանական այգու տարածքում անտառապուրակի կառուցապատման աշխատանքներ | E13: ='2'!J42 -> 449996
B15: ՀԱՅԱՍՏԱՆԻ ՀԱՆՐԱՊԵՏՈՒԹՅԱՆ
B16: ՎԱՐՉԱՊԵՏԻ ԱՇԽԱՏԱԿԱԶՄԻ
C17: ՂԵԿԱՎԱՐ ՝ Ա. ՀԱՐՈՒԹՅՈՒՆՅԱՆ

Sheet 6
M1: Հավելված N 6
M2: ՀՀ կառավարության 2026 թվականի
M3: ______________ ի ___Ն որոշման
A5: ՀԱՅԱՍՏԱՆԻ ՀԱՆՐԱՊԵՏՈՒԹՅԱՆ ԿԱՌԱՎԱՐՈՒԹՅԱՆ 2025 ԹՎԱԿԱՆԻ ԴԵԿՏԵՄԲԵՐԻ25-Ի N 1910-Ն ՈՐՈՇՄԱՆ NN 9 ԵՎ 9.1 ՀԱՎԵԼՎԱԾՆԵՐՈՒՄ ԿԱՏԱՐՎՈՂ ՓՈՓՈԽՈՒԹՅՈՒՆԸ ԵՎ ԼՐԱՑՈՒՄԸ
M6: հազար դրամներով
A7: ԲԳԿ/ԲՍԿ | B7: Ծրագիր | D7: Միջոցառում | H7: Իրականացնողը/ ակտիվն օգտագործողը/ շահառուի ընտրության չափորոշիչը | I7: Արդյունքային չափորոշիչը | J7: Ցուցանիշների փոփոխությունը (ավելացումները նշված են դրական նշանով, իսկ նվազեցումները՝ փակագծերում)
B8: Դասիչը | C8: Անվա-նումը | D8: Դասիչը | E8: Անվա-նումը | F8: Նկարագրու-թյունը | G8: Տեսակը | J8: Առաջին եռամսյակ | K8: Առաջին կիսամյակ | L8: Ինն ամիս | M8: Տարի
A9: ԸՆԴԱՄԵՆԸ | J9: =J10 -> 0 | K9: =K10 -> 0 | L9: =L10 -> 0 | M9: =M10 -> 0
A10: ՀՀ ՏԱՐԱԾՔԱՅԻՆ ԿԱՌԱՎԱՐՄԱՆ ԵՎ ԵՆԹԱԿԱՌՈՒՑՎԱԾՔՆԵՐԻ ՆԱԽԱՐԱՐՈՒԹՅՈՒՆ | J10: =J11 -> 0 | K10: =K11 -> 0 | L10: =L11 -> 0 | M10: =M11 -> 0
B11: 1157 | C11: Քաղաքային զարգացում | J11: =J12+J16 -> 0 | K11: =K12+K16 -> 0 | L11: =L12+L16 -> 0 | M11: =M12+M16 -> 0
D12: 1157 - 21002 | E12: Երևանի մետրոպոլիտենի ենթակառուցվածքների կառուցում | J12: ='2'!G31 -> 0 | K12: ='2'!H31 -> -449996 | L12: ='2'!I31 -> -449996 | M12: ='2'!J31 -> -449996
F13: Երևանի մետրոպոլիտենի ենթակառուցվածքների կառուցում
G14: Հանրության կողմից անմիջականորեն օգտագործվող ակտիվների հետ կապված միջոցառումներ
H15: Շահառուների ընտրության չափանիշները` ՀՀ բնակչություն
D16: 1157 - 21038 | E16: Երևանի բուսաբանական այգու տարածքում անտառապուրակի կառուցապատման աշխատանքներ | J16: ='2'!G42 -> 0 | K16: ='2'!H42 -> 449996 | L16: ='2'!I42 -> 449996 | M16: ='2'!J42 -> 449996
F17: Երևան քաղաքում անտառապուրակի հիմնում և կանաչ գոտիների արդիականացում
G18: Հանրության կողմից անմիջականորեն օգտագործվող ակտիվների հետ կապված միջոցառումներ
H19: Շահառուների ընտրության չափանիշները` ՀՀ բնակչություն
G26: ՀԱՅԱՍՏԱՆԻ ՀԱՆՐԱՊԵՏՈՒԹՅԱՆ
G27: ՎԱՐՉԱՊԵՏԻ ԱՇԽԱՏԱԿԱԶՄԻ
G28: ՂԵԿԱՎԱՐ՝ | I28: Ա. ՀԱՐՈՒԹՅՈՒՆՅԱՆ
