Workbook
Name _1__հայտարարվել_է_նախ_մրցույթ: #REF!
Name AgencyCode: #REF!
Name AgencyName: #REF!
Name åû: #REF!
Name davit: #REF!
Name Functional1: #REF!
Name ggg: #REF!
Name hav: #REF!
Name mas: #REF!
Name mass: #REF!
Name PANature: #REF!
Name PAType: #REF!
Name Performance2: #REF!
Name PerformanceType: #REF!
Name x: #REF!
Name Հավելված: #REF!
Name Մաս: #REF!
Name շախմատիստ: #REF!
Name վֆյգյգ: #REF!

Sheet N 1.
B1: Հավելված N 1
C2: ՀՀ կառավարության 2026 թվականի
C3: -----------------ի N -----------Ն որոշման
A4: «ՀԱՅԱՍՏԱՆԻ ՀԱՆՐԱՊԵՏՈՒԹՅԱՆ 2026 ԹՎԱԿԱՆԻ ՊԵՏԱԿԱՆ ԲՅՈՒՋԵԻ ՄԱՍԻՆ» ՀԱՅԱՍՏԱՆԻ ՀԱՆՐԱՊԵՏՈՒԹՅԱՆ ՕՐԵՆՔԻ 2-ՐԴ ՀՈԴՎԱԾԻ ԱՂՅՈՒՍԱԿՈՒՄ ԿԱՏԱՐՎՈՂ ՓՈՓՈԽՈՒԹՅՈՒՆՆԵՐԸ ԵՎ ԼՐԱՑՈՒՄՆԵՐԸ
B5: (հազար դրամներով)
B6: Ցուցանիշների փոփոխությունները ավելացումները նշված են դրական նշանով
A7: Եկամուտների գծով | B7: 0
A8: Ծախսերի գծով | B8: =+N3.!J10 -> 11015854
A9: Դեֆիցիտը (պակասուրդը) | B9: =+N2.!E11 -> 11015854

Sheet N2.
E1: Հավելված N 2
E2: Աղյուսակ N 1
E3: ՀՀ կառավարության 2026 թվականի
E4: -----------------ի N -----------Ն որոշման
A6: «ՀԱՅԱՍՏԱՆԻ ՀԱՆՐԱՊԵՏՈՒԹՅԱՆ 2026 ԹՎԱԿԱՆԻ ՊԵՏԱԿԱՆ ԲՅՈՒՋԵԻ ՄԱՍԻՆ» ՀԱՅԱՍՏԱՆԻ ՀԱՆՐԱՊԵՏՈՒԹՅԱՆ ՕՐԵՆՔԻ 3-ՐԴ ՀՈԴՎԱԾԻ ԱՂՅՈՒՍԱԿՈՒՄ, N 3 ՀԱՎԵԼՎԱԾԻ N 1 ԱՂՅՈՒՍԱԿՈՒՄ ԵՎ ՀԱՅԱՍՏԱՆԻ ՀԱՆՐԱՊԵՏՈՒԹՅԱՆ ԿԱՌԱՎԱՐՈՒԹՅԱՆ 2025 ԹՎԱԿԱՆԻ ԴԵԿՏԵՄԲԵՐԻ 25-Ի N 1910-Ն ՈՐՈՇՄԱՆ N 1 ՀԱՎԵԼՎԱԾԻ N 1 ԱՂՅՈՒՍԱԿՈՒՄ ԿԱՏԱՐՎՈՂ ՓՈՓՈԽՈՒԹՅՈՒՆՆԵՐԸ ԵՎ ԼՐԱՑՈՒՄՆԵՐԸ
E8: հազար դրամներով
A9: Պետական բյուջեի դեֆիցիտի ֆինանսավորման աղբյուրներն ու դրանց տարրերի անվանումները | B9: Ցուցանիշների փոփոխությունները ավելացումները նշված են դրական նշանով, իսկ նվազեցումները՝ փակագծերում
B10: Առաջին եռամսյակ | C10: Առաջին կիսամյակ | D10: Ինն ամիս | E10: Տարի
A11: ԸՆԴԱՄԵՆԸ | B11: =B13+B52 -> 8857443.6 | C11: =C13+C52 -> 10484882 | D11: =D13+D52 -> 10722643 | E11: =E13+E52 -> 11015854
A12: այդ թվում՝
A13: Ա.Ներքին աղբյուրներ-ընդամենը | B13: =+B15+B21 -> 66239944 | C13: =C15+C21 -> 10484882 | D13: =D15+D21 -> 10722643 | E13: =E15+E21 -> 49270854
A14: այդ թվում՝
A15: 1. Փոխառու զուտ միջոցներ | B15: =B17 -> 0 | C15: =C17 -> 0 | D15: =D17 -> 0 | E15: =E17 -> -16744950
A16: այդ թվում՝
A17: 1.1. Արժեթղթերի (բացառությամբ բաժնետոմսերի և կապիտալում այլ մասնակցության) թողարկումից և տեղաբաշխումից զուտ մուտքեր | B17: =B18 -> 0 | C17: =C18 -> 0 | D17: =D18 -> 0 | E17: =E18 -> -16744950
A18: ՀՀ ֆինանսների նախարարություն | B18: =B20 -> 0 | C18: =C20 -> 0 | D18: =D20 -> 0 | E18: =E20 -> -16744950
A19: որից`
A20: գանձապետական պարտատոմսեր | E20: -16744950
A21: 2. Ֆինանսական զուտ ակտիվներ | B21: =B23+B24+B28+B49 -> 66239944 | C21: =C23+C24+C28+C49 -> 10484882 | D21: =D23+D24+D28+D49 -> 10722643 | E21: =E23+E24+E28+E49 -> 66015804
A22: այդ թվում՝
A23: 2.3. Ելքերի ֆինանսավորմանն ուղղվող պետական բյուջեի տարեսկզբի ազատ մնացորդի միջոցներ | B23: =+N3.!G10 -> 8857443.6 | C23: =+N3.!H10 -> 10484882 | D23: =+N3.!I10 -> 10722643 | E23: =+N3.!J10 -> 11015854
A24: 2.4. Վարկերի և փոխատվությունների տրամադրում | B24: =B26+B27 -> 0 | C24: =C26+C27 -> 0 | D24: =D26+D27 -> 0 | E24: =E26+E27 -> 0
A25: որից`
A26: - արտաքին աղբյուրների աջակցությամբ իրականացվող նպատակային ծրագրերի շրջանակներում ենթավարկերի տրամադրում այդ ծրագրերում ներգրաված տնտեսվարող սուբյեկտներին
A27: - բյուջետային վարկերի տրամադրում տնտեսվարող սուբյեկտներին
A28: 2.5. Տրամադրված վարկերի և փոխատվությունների վերադարձից մուտքեր | B28: =SUM(B29:B48) -> 0 | C28: =SUM(C29:C48) -> 0 | D28: =SUM(D29:D48) -> 0 | E28: =SUM(E29:E48) -> 0
A29: «Հայկական ատոմակայան» ՓԲԸ
A30: «Բարձրավոլտ էլեկտրական ցանցեր» ՓԲԸ
A31: «Երևանի Ջերմաէլեկտրակենտրոն» ՓԲԸ
A32: ՀՀ կենտրոնական բանկից
A33: «ՔոնթուրԳլոբալ Հիդրո Կասկադ» ՓԲԸ-
A34: «Դի ընդ Էյջ Գրուպ» ՍՊԸ
A35: «Երևանի ավտոբուսներ» ՓԲԸ
A36: «Էլեկտրաէներգետիկական համակարգի օպերատոր» ՓԲԸ
A37: «Հայաստանի էլեկտրական ցանցեր» ՓԲԸ
A38: «Կարեն Դեմիրճյանի անվան մետրոպոլիտեն» ՓԲԸ
A39: «Միջազգային էներգետիկ կորպորացիա» ՓԲԸ
A40: Գյուղական ֆինանսավորման կառույց
... A48: Այլ
A49: 2.6.Այլ | B49: =B50+B51 -> 57382500 | C49: =C50+C51 -> 0 | D49: =D50+D51 -> 0 | E49: =E50+E51 -> 54999950
A50: կայունացման դեպոզիտային հաշվի համալրում | B50: 54999950 | C50: 54999950 | D50: 54999950 | E50: 54999950
A51: ժամանակավորապես ազատ միջոցներ | B51: 2382550 | C51: -54999950 | D51: -54999950 | E51: 0
A52: Բ. Արտաքին աղբյուրներ - ընդամենը | B52: =B54+B62 -> -57382500 | C52: =C54+C62 -> 0 | D52: =D54+D62 -> 0 | E52: =E54+E62 -> -38255000
A53: այդ թվում
A54: 1. Փոխառու զուտ միջոցներ | B54: =B56+B60 -> -57382500 | C54: =C56+C60 -> 0 | D54: =D56+D60 -> 0 | E54: =E56+E60 -> -38255000
A55: այդ թվում՝
A56: 1.1. Վարկերի և փոխատվությունների ստացում | B56: =B58+B59 -> -57382500 | C56: =C58+C59 -> 0 | D56: =D58+D59 -> 0 | E56: =E58+E59 -> -38255000
A57: որից`
A58: - նպատակային վարկերի գծով
A59: - բյուջետային աջակցության վարկերի գծով | B59: -57382500 | E59: =-100000*382.55 -> -38255000
A60: 1.2. Ստացված վարկերի և փոխատվությունների մարում
A61: ՀՀ ֆինանսների նախարարություն
A62: 2.Ֆինանսական զուտ ակտիվներ | B62: =+B64 -> 0 | C62: =+C64 -> 0 | D62: =+D64 -> 0 | E62: =+E64 -> 0
A63: այդ թվում՝
A64: 2.3 Բաժնետոմսերի և կապիտալում այլ մասնակցության ձեռքբերում | B64: =+B65+B68 -> 0 | C64: =+C65+C68 -> 0 | D64: =+D65+D68 -> 0 | E64: =+E65+E68 -> 0
A65: ՀՀ ֆինանսների նախարարություն | B65: =B67 -> 0 | C65: =C67 -> 0 | D65: =D67 -> 0 | E65: =E67 -> 0
A66: որից`
A67: Միջազգային ֆինանսական կազմակերպությունների կապիտալում մասնակցության գծով ստանձնած պարտավորությունների կատարում
A68: ՀՀ էկոնոմիկայի նախարարություն | B68: =+B70 -> 0 | C68: =+C70 -> 0 | D68: =+D70 -> 0 | E68: =+E70 -> 0
A69: որից`
A70: ԵՄ-Հայաստան ՓՄՁ Ֆոնդ

Sheet N2.2
J1: Հավելված N 2
J2: Աղյուսակ N 2
J3: ՀՀ կառավարության 2026 թվականի
J4: -----------------ի N -----------Ն որոշման
A5: «ՀԱՅԱՍՏԱՆԻ ՀԱՆՐԱՊԵՏՈՒԹՅԱՆ 2026 ԹՎԱԿԱՆԻ ՊԵՏԱԿԱՆ ԲՅՈՒՋԵԻ ՄԱՍԻՆ» ՕՐԵՆՔԻ N 3 ՀԱՎԵԼՎԱԾԻ N 1.1 ԱՂՅՈՒՍԱԿՈՒՄ ԵՎ ՀԱՅԱՍՏԱՆԻ ՀԱՆՐԱՊԵՏՈՒԹՅԱՆ ԿԱՌԱՎԱՐՈՒԹՅԱՆ 2025 ԹՎԱԿԱՆԻ ԴԵԿՏԵՄԲԵՐԻ 25-Ի N 1910-Ն N 1 ՀԱՎԵԼՎԱԾԻ N 2 ԱՂՅՈՒՍԱԿՈՒՄ ԿԱՏԱՐՎՈՂ ՓՈՓՈԽՈՒԹՅՈՒՆՆԵՐԸ ԵՎ ԼՐԱՑՈՒՄՆԵՐԸ
J6: հազար դրամներով
A7: ԲԳԿ | B7: Ծրագրային դասիչը | D7: ԲԳԿ/Ծրագրի /միջոցառման անվանումը | E7: Ծրագրի նպատակը/Միջոցառման նկարագրույունը | F7: Վերջնական արդյունքի նկարագրությունը/Միջոցառման տեսակը | G7: Ցուցանիշների փոփոխությունները ավելացումները նշված են դրական նշանով իսկ նվազեցումները՝ փակագծերում
G8: Առաջին եռամսյակ | H8: Առաջին կիսամյակ | I8: Ինն ամիս | J8: Տարի
B9: Ծրագիր | C9: Միջոցառում
A10: ԸՆԴԱՄԵՆԸ | G10: =+G12 -> -54999950 | H10: =+H12 -> -54999950 | I10: =+I12 -> -54999950 | J10: =+J12 -> -54999950
A11: ՀՀ ֆինանսների նախարարություն
B12: 1211 | D12: Ֆինանսական պարտավորությունների կատարման ծրագիր | E12: Պետական ֆինանսական պարտավորությունների կատարման ապահովում | F12: Պետական ֆինանսական պարտավորությունների պատշաճ կատարում | G12: =+G13 -> -54999950 | H12: =+H13 -> -54999950 | I12: =+I13 -> -54999950 | J12: =+J13 -> -54999950
C13: 1211-47001 | D13: Կայունացման դեպոզիտային հաշվի համալրում | E13: Կայունացման դեպոզիտային հաշվի համալրում | G13: =+-N2.!B50 -> -54999950 | H13: =+-N2.!C50 -> -54999950 | I13: =+-N2.!D50 -> -54999950 | J13: =+-N2.!E50 -> -54999950

Sheet 2.3
M1: Հավելված N 2
M2: Աղյուսակ N 3
M3: ՀՀ կառավարության 2026 թվականի
M4: -----------------ի N -----------Ն որոշման
A5: ՀԱՅԱՍՏԱՆԻ ՀԱՆՐԱՊԵՏՈՒԹՅԱՆ ԿԱՌԱՎԱՐՈՒԹՅԱՆ 2025 ԹՎԱԿԱՆԻ ԴԵԿՏԵՄԲԵՐԻ 25-Ի N 1910-Ն ՈՐՈՇՄԱՆ N 1 ՀԱՎԵԼՎԱԾՈՒՄ N 5 ԱՂՅՈՒՍԱԿԻ ՓՈՓՈԽՈՒԹՅՈՒՆՆԵՐԸ ԵՎ ԼՐԱՑՈՒՄՆԵՐԸ
M6: հազար դրամներով
A7: ԲԳԿ | B7: Ծրագիր | D7: Միջոցառում | H7: Իրականացնողը/ակտիվն օգտագործողը/ շահառուի ընտրության չափորոշիչը | I7: Արդյունքային չափորոշիչը | J7: Ցուցանիշների փոփոխությունը (ավելացումները նշված են դրական նշանով)
B8: Դասիչը | C8: Անվանումը | D8: Դասիչը | E8: Անվանումը | F8: Նկարագրու-թյունը | G8: Տեսակը | J8: Առաջին եռամսյակ | K8: Առաջին կիսամյակ | L8: Ինն ամիս | M8: Տարի
A9: ԸՆԴԱՄԵՆԸ | J9: =+J10 -> -54999950 | K9: =+K10 -> -54999950 | L9: =+L10 -> -54999950 | M9: =+M10 -> -54999950
A10: ՀՀ ֆինանսների նախարարություն | J10: =+J11 -> -54999950 | K10: =+K11 -> -54999950 | L10: =+L11 -> -54999950 | M10: =+M11 -> -54999950
B11: 1211 | C11: Ֆինանսական պարտավորությունների կատարում | J11: =+J12 -> -54999950 | K11: =+K12 -> -54999950 | L11: =+L12 -> -54999950 | M11: =+M12 -> -54999950
D12: 1211-47001 | E12: Կայունացման դեպոզիտային հաշվի համալրում | J12: =+N2.2!G13 -> -54999950 | K12: =+N2.2!H13 -> -54999950 | L12: =+N2.2!I13 -> -54999950 | M12: =+N2.2!J13 -> -54999950
F13: Կայունացման դեպոզիտային հաշվի համալրում
H15: ՀՀ ֆինանսների նախարարություն

Sheet N3.
J1: Հավելված N 3
B6: «ՀԱՅԱՍՏԱՆԻ ՀԱՆՐԱՊԵՏՈՒԹՅԱՆ 2026 ԹՎԱԿԱՆԻ ՊԵՏԱԿԱՆ ԲՅՈՒՋԵԻ ՄԱՍԻՆ» ՀԱՅԱՍՏԱՆԻ ՀԱՆՐԱՊԵՏՈՒԹՅԱՆ ՕՐԵՆՔԻ N 1 ՀԱՎԵԼՎԱԾԻ N 2 ԱՂՅՈՒՍԱԿՈՒՄ ԿԱՏԱՐՎՈՂ ՎԵՐԱԲԱՇԽՈՒՄԸ ԵՎ ՀԱՅԱՍՏԱՆԻ ՀԱՆՐԱՊԵՏՈՒԹՅԱՆ ԿԱՌԱՎԱՐՈՒԹՅԱՆ 2025 ԹՎԱԿԱՆԻ ԴԵԿՏԵՄԲԵՐԻ 25-Ի N 1910-Ն ՈՐՈՇՄԱՆ N 5 ՀԱՎԵԼՎԱԾԻ N 1 ԱՂՅՈՒՍԱԿՈՒՄ ԿԱՏԱՐՎՈՂ ՓՈՓՈԽՈՒԹՅՈՒՆՆԵՐԸ ԵՎ ԼՐԱՑՈՒՄՆԵՐԸ
J7: հազար դրամներով
A8: ԲԳԿ | B8: Ծրագրային դասիչը | D8: ԲԳԿ/Ծրագրի /միջոցառման անվանումը | E8: Ծրագրի նպատակը/Միջոցառման նկարագրությունը | F8: Վերջնական արդյունքի նկարագրությունը/Միջոցառման տեսակը | G8: Ցուցանիշների փոփոխությունները ավելացումները նշված են դրական նշանով, իսկ նվազեցումները՝ փակագծերում
B9: Ծրագիր | C9: Միջոցառում | G9: Առաջին եռամսյակ | H9: Առաջին կիսամյակ | I9: Ինն ամիս | J9: Տարի
A10: ԸՆԴԱՄԵՆԸ | G10: =+G11+G14+G32+G36+G40+G44+G83+G88+G95+G99+G104+G108 -> 8857443.6 | H10: =+H11+H14+H32+H36+H40+H44+H83+H88+H95+H99+H104+H108 -> 10484882 | I10: =+I11+I14+I32+I36+I40+I44+I83+I88+I95+I99+I104+I108 -> 10722643 | J10: =+J11+J14+J32+J36+J40+J44+J83+J88+J95+J99+J104+J108 -> 11015854
A11: ՀՀ Ազգային ժողով | G11: 16356.6 | H11: 16356.6 | I11: 16356.6 | J11: 16356.6
B12: 1024 | D12: ՀՀ Ազգային ժողովի լիազորությունների իրականացման ապահովում | E12: Օրենսդրական դաշտի ձևավորում և կատարելագործում | F12: Արդյունավետ օրենսդրական դաշտի ապահովում | G12: 16356.6 | H12: 16356.6 | I12: 16356.6 | J12: 16356.6
C13: 1024 - 31001 | D13: Ազգային ժողովի տեխնիկական հագեցվածության բարելավում | E13: Ազգային ժողովի աշխատակազմի աշխատանքային պայմանների բարելավման համար վարչական սարքավորումների ձեռքբերում | F13: Պետական մարմինների կողմից օգտագործվող ոչ ֆինանսական ակտիվների հետ գործառնություններ | G13: 16356.6 | H13: 16356.6 | I13: 16356.6 | J13: 16356.6
A14: ՀՀ տարածքային կառավարման և ենթակառուցվածքների նախարարություն | G14: 2010433.6 | H14: 2655415.2 | I14: 2655415.2 | J14: 2911873.6
B15: 1004 | D15: Ոռոգման համակարգի առողջացում | E15: Ոռոգման ծառայությունների հասանելիության և մատչելիության ապահովում | F15: Ոռոգման ջրի մատակարարման արդյունավետության և հասանելիության բարելավում, կորուստների կրճատում | G15: 35218.1 | H15: 270766.9 | I15: 270766.9 | J15: 270766.9
C16: 1004 - 31002 | D16: Ոռոգման համակարգերի հիմնանորոգում | E16: Ոռոգման համակարգերի հիմնանորոգում | F16: Պետական մարմինների կողմից օգտագործվող ոչ ֆինանսական ակտիվների հետ գործառնություններ | G16: 0 | H16: 235548.8 | I16: 235548.8 | J16: 235548.8
C17: 1004 - 31009 | D17: Օրվա կարգավորման ջրավազանների կառուցում և վերակառուցում | E17: Օրվա կարգավորման ջրավազանների կառուցման և վերակառուցման համար նախագծերի և աշխատանքների ձեռք բերում | F17: Պետական մարմինների կողմից օգտագործվող ոչ ֆինանսական ակտիվների հետ գործառնություններ | G17: 35218.1 | H17: 35218.1 | I17: 35218.1 | J17: 35218.1
B18: 1049 | D18: Ճանապարհային ցանցի բարելավում | E18: Ճանապարհային ցանցի բարելավում և անվտանգ երթևեկության ապահովում | F18: Ճանապարհների ծածկի որակի և փոխադրումների արդյունավետության բարելավում, ճանապարհների վիճակով պայմանավորված պատահարների նվազում | G18: 1539321.9 | H18: 1539321.9 | I18: 1539321.9 | J18: 1539321.9
C19: 1049 - 21001 | D19: Պետական նշանակության ավտոճանապարհների հիմնանորոգում | E19: Միջպետական, հանրապետական և մարզային նշանակության ավտոճոնապարհների քայքայված ծածկի վերանորոգում, մաշված ծածկի փոխարինում | F19: Հանրության կողմից անմիջականորեն օգտագործվող ակտիվների հետ կապված միջոցառումներ | G19: 1481736 | H19: 1481736 | I19: 1481736 | J19: 1481736
C20: 1049 - 21002 | D20: Տրանսպորտային օբյեկտների հիմնանորոգում | E20: Ավտոմոբիլային ճանապարհների վրա գտնվող կամուրջների հիմնանորոգում | F20: Հանրության կողմից անմիջականորեն օգտագործվող ակտիվների հետ կապված միջոցառումներ | G20: 57585.9 | H20: 57585.9 | I20: 57585.9 | J20: 57585.9
B21: 1072 | D21: Ջրամատակարարաման և ջրահեռացման բարելավում | E21: Ջրամատակարարման ծառայությունների հասանելիության և մատչելիության ապահովում | F21: Խմելու ջրի մատակարարման և ջրահեռացման համակարգի բարելավում, կորուստների կրճատում | G21: 40852.1 | H21: 450284.9 | I21: 450284.9 | J21: 706743.3
C22: 1072 - 31008 | D22: Պարտադիր կապիտալ աշխատանքների ծրագրի շրջանակներում ջրամատակարարման և ջրահեռացման ենթակառուցվածքների հիմնանորոգում | E22: Մի շարք համայնքներում ջրամատակարարման և ջրահեռացման համակարգերի կառուցման և վերականգնման աշխատանքներ | F22: Պետական մարմինների կողմից օգտագործվող ոչ ֆինանսական ակտիվների հետ գործառնություններ | G22: 0 | H22: 409432.8 | I22: 409432.8 | J22: 409432.8
C23: 1072 - 31010 | D23: Ջրամատակարարման և ջրահեռացման համակարգի հիմնանորոգում | E23: Ջրամատակարարման և ջրահեռացման համակարգի հիմնանորոգման նախագծերի և աշխատանքների ձեռքբերում | F23: Պետական մարմինների կողմից օգտագործվող ոչ ֆինանսական ակտիվների հետ գործառնություններ | G23: 40852.1 | H23: 40852.1 | I23: 40852.1 | J23: 297310.5
B24: 1079 | D24: Պետական գույքի կառավարում | E24: Պետական գույքի համալիր և արդյունավետ կառավարման ապահովում | F24: Պետական գույքի կառավարման արդյունավետության բարձրացում | G24: 6591.5 | H24: 6591.5 | I24: 6591.5 | J24: 6591.5
C25: 1079 - 31004 | D25: Պետական գույքի կառավարման կոմիտեի ենթակայության շենքերի պայմանների բարելավում | E25: Պետական գույքի կառավարման կոմիտեի ենթակայության շենքերի պայմանների բարելավում (հիմնանորոգում, նախագծանախահաշվային փաստաթղթերի ձեռքբերում և շենքային այլ պայմանների բարելավում) | F25: Պետական մարմինների կողմից օգտագործվող ոչ ֆինանսական ակտիվների հետ գործառնություններ | G25: 6591.5 | H25: 6591.5 | I25: 6591.5 | J25: 6591.5
B26: 1157 | D26: Քաղաքային զարգացում | E26: Քաղաքային ենթակառուցվածքների զարգացում | F26: Քաղաքային ենթակառուցվածքների արդիականացում և բարելավում | G26: 310243.7 | H26: 310243.7 | I26: 310243.7 | J26: 310243.7
C27: 1157 - 21001 | D27: Երևանի մետրոպոլիտենի ենթակառուցվածքների նորոգում | E27: Երևանի մետրոպոլիտենի ենթակառուցվածքների նորոգում | F27: Հանրության կողմից անմիջականորեն օգտագործվող ակտիվների հետ կապված միջոցառումներ | G27: 310243.7 | H27: 310243.7 | I27: 310243.7 | J27: 310243.7
B28: 1212 | D28: Տարածքային զարգացում | E28: Տարածքային համաչափ զարգացման խթանում | F28: ՀՀ համայնքների կառավարման արդյունավետության բարձրացում և տնտեսական գործունեության խթանում | G28: 78206.3 | H28: 78206.3 | I28: 78206.3 | J28: 78206.3
C29: 1212 - 12025 | D29: Մարզերում առաջնահերթ լուծում պահանջող հիմնախնդիրների լուծում | E29: Մարզերում առաջնահերթ լուծում պահանջող ծրագրերի իրականացում, որի արդյունքում լուծում կտրվի բնակչության և համայնքների սոցիալական նշանակություն ունեցող հիմնախնդիրներին: | F29: Տրանսֆերտների տրամադրում | G29: 1280 | H29: 1280 | I29: 1280 | J29: 1280
C30: 1212 - 21001 | D30: Հրետակոծության հետևանքով հասցված վնասների վերականգնման աշխատանքներ | E30: Հրետակոծությունից տուժած ՀՀ սահմանամերձ համայնքների բնակիչների բնակելի տների, շենքշինությունների կենցաղային պայմանների բարելավում, աշակերտների համար ուսումնական | F30: Հանրության կողմից անմիջականորեն օգտագործվող ակտիվների հետ կապված միջոցառումներ | G30: 480 | H30: 480 | I30: 480 | J30: 480
C31: 1212 - 32001 | D31: ՀՀ մարզերում առաջնահերթ լուծում պահանջող անհետաձգելի ծրագրերի իրականացում | E31: ՀՀ մարզերում առաջնահերթ լուծում պահանջող անհետաձգելի ծրագրերի իրականացում, որի արդյունքում լուծում կտրվի մարզային ենթակայության կազմակերպությունների և համայնքային նշանակություն ունեցող հիմնախնդիրներին | F31: Այլ պետական կազմակերպությունների կողմից օգտագործվող ոչ ֆինանսական ակտիվների հետ գործառնություններ | G31: 76446.3 | H31: 76446.3 | I31: 76446.3 | J31: 76446.3
A32: ՀՀ առողջապահության նախարարություն | G32: 1444236 | H32: 1444236 | I32: 1444236 | J32: 1444236
B33: 1126 | D33: Առողջապահության ոլորտում պետական քաղաքականության մշակում, ծրագրերի համակարգում և մոնիտորինգ | E33: Մարդու և հանրության առողջության պահպանում, բնակչության առողջության բարելավում, հիվանդությունների կանխարգելում, հաշմանդամության և մահացության ցուցանիշների նվազեցում | F33: Առողջապահության ոլորտում իրականացվող ծրագրերի ազդեցության և արդյունավետության բարելավում | G33: 1444236 | H33: 1444236 | I33: 1444236 | J33: 1444236
C34: 1126 - 31002 | D34: Առողջապահական կազմակերպությունների վերազինում | E34: Բնակչությանը որակյալ բժշկական օգնության և սպասարկման ծառայություններ մատուցելու նպատակով՛ առողջապահական կազմակերպությունների անհրաժեշտ սարքավորումներով վերազինում | F34: Պետական մարմինների կողմից օգտագործվող ոչ ֆինանսական ակտիվների հետ գործառնություններ | G34: 105214.8 | H34: 105214.8 | I34: 105214.8 | J34: 105214.8
C35: 1126 - 31003 | D35: Առողջապահական կազմակերպությունների կառուցում, վերակառուցում | E35: Բնակչությանը որակյալ բժշկական օգնության և սպասարկման ծառայություններ մատուցելու նպատակով առողջապահական կազմակերպությունների կառուցում, վերակառուցում | F35: Պետական մարմինների կողմից օգտագործվող ոչ ֆինանսական ակտիվների հետ գործառնություններ | G35: 1339021.2 | H35: 1339021.2 | I35: 1339021.2 | J35: 1339021.2
A36: ՀՀ արդարադատության նախարարություն | G36: 29570 | H36: 29570 | I36: 29570 | J36: 29570
B37: 1120 | D37: Քրեակատարողական ծառայություններ | E37: Դատապարտյալների պատժի կատարման և ուղղման համար անհրաժեշտ պայմանների ապահովում | F37: Դատապարտյալների զբաղվածության և իրավունքների պաշտպանություն | G37: 29570 | H37: 29570 | I37: 29570 | J37: 29570
C38: 1120 - 31002 | D38: ՀՀ արդարադատության նախարարության քրեակատարողական ծառայության կարողությունների զարգացում և տեխնիկական հագեցվածության ապահովում | E38: ՀՀ արդարադատության նախարարության քրեակատարողական ծառայության աշխատանքային պայմանների բարելավման համար վարչական սարքավորումների ձեռք բերում | F38: Պետական մարմինների կողմից օգտագործվող ոչ ֆինանսական ակտիվների հետ գործառնություններ | G38: 27120 | H38: 27120 | I38: 27120 | J38: 27120
C39: 1120 - 31003 | D39: Քրեակատարողական հիմմնարկների շենքային պայմանների բարելավում | E39: Քրեակատարողական հիմնարկների շենքերի նորոգում, հիմնանորոգում, կառուցում և նախագծանախահաշվային փաստաթղթերի ձեռքբերում | F39: Պետական մարմինների կողմից օգտագործվող ոչ ֆինանսական ակտիվների հետ գործառնություններ | G39: 2450 | H39: 2450 | I39: 2450 | J39: 2450
A40: ՀՀ շրջակա միջավայրի նախարարություն | G40: 907246.8 | H40: 907246.8 | I40: 907246.8 | J40: 907246.8
B41: 1173 | D41: Անտառների կառավարում | E41: Անտառային տարածքների կայուն կառավարում | F41: Կայուն կառավարվող անտառային տարածքների աճ | G41: 907246.8 | H41: 907246.8 | I41: 907246.8 | J41: 907246.8
C42: 1173 - 31001 | D42: Էկոպարեկային ծառայության տեխնիկական կարողությունների ընդլայնում | E42: Համակարգչային սարքավորումների և գրասենյակային գույքի ձեռքբերում | F42: Պետական մարմինների կողմից օգտագործվող ոչ ֆինանսական ակտիվների հետ գործառնություններ | G42: 14157 | H42: 14157 | I42: 14157 | J42: 14157
C43: 1173 - 31002 | D43: Էկոպարեկային ծառայության տրանսպորտային միջոցներով ապահովվածություն | E43: Ավտոմեքենաների ձեռքբերում | F43: Պետական մարմինների կողմից օգտագործվող ոչ ֆինանսական ակտիվների հետ գործառնություններ | G43: 893089.8 | H43: 893089.8 | I43: 893089.8 | J43: 893089.8
A44: ՀՀ կրթության , գիտության, մշակույթի և սպորտի նախարարություն | G44: =+G45+G47+G50+G52+G54+G56+G58+G60+G62+G67+G70+G74+G76 -> 1875147.1 | H44: =+H45+H47+H50+H52+H54+H56+H58+H60+H62+H67+H70+H74+H76 -> 2765919.2 | I44: =+I45+I47+I50+I52+I54+I56+I58+I60+I62+I67+I70+I74+I76 -> 2864175.5 | J44: =+J45+J47+J50+J52+J54+J56+J58+J60+J62+J67+J70+J74+J76 -> 2864175.5
B45: 1041 | D45: Մեծ նվաճումների սպորտ | E45: Նպաստել Հայաստանում մեծ սպորտի շարունակական զարգացմանը և միջազգային հարթակներում ՀՀ դիրքի բարելավմանը | F45: ՀՀ առաջնությունների ընդլայնում, միջազգային սպորտային միջոցառումներին մասնակցության և նվաճումների ապահովում | G45: 10806.8 | H45: 10806.8 | I45: 10806.8 | J45: 10806.8
C46: 1041 - 32001 | D46: Մանկապատանեկան մարզադպրոցներին, մարզաձևերի ազգային ֆեդերացիաներին և այլ մարզական կազմակերպություններին գույքով ապահովում | E46: Սպորտի զարգացման նպատակով մարզադպրոցներին, ազգային ֆեդերացիաներին և այլ մարզական կազմակերպություններին մարզական և այլ անհրաժեշտ գույքի տրամադրում | F46: Այլ պետական կազմակերպությունների կողմից օգտագործվող ոչ ֆինանսական ակտիվների հետ գործառնություններ | G46: 10806.8 | H46: 10806.8 | I46: 10806.8 | J46: 10806.8
B47: 1045 | D47: Մասնագիտական կրթության և ուսուցման ծրագիր | E47: Աշխատաշուկայի արդի պահանջներին համապատասխան արհեստագործական և միջին մասնագիտական կրթության որակավորում ունեցող մասնագետների պատրաստում, կրթության մատչելիության ապահովում: | F47: Արհեստագործական և միջին մասնագիտական կրթության գրավչության բարձրացում, մատչելի և մրցունակ արհեստագործական և միջին մասնագիտական կրթության ապահովում | G47: 35079.2 | H47: 35079.2 | I47: 35079.2 | J47: 35079.2
C48: 1045 - 32001 | D48: Մասնագիտական ուսումնական հաստատությունների շենքային պայմանների բարելավում | E48: Մասնագիտական ուսումնական հաստատությունների շենքերի հիմնանորոգման և նախագծման (շինարարական աշխատանքներ, ջեռուցման համակարգի ստեղծում, ներքին հարդարում, տարածքի բարեկարգում) աշխատանքների իրականացում | F48: Այլ պետական կազմակերպությունների կողմից օգտագործվող ոչ ֆինանսական ակտիվների հետ գործառնություններ | G48: 2179.8 | H48: 2179.8 | I48: 2179.8 | J48: 2179.8
C49: 1045 - 32005 | D49: Մասնագիտական ուսումնական հաստատությունների շենքերի կառուցում | E49: Մասնագիտական ուսումնական հաստատությունների շենքերի (մասնաշենքերի) կառուցման և նախագծման աշխատանքների իրականացում | F49: Այլ պետական կազմակերպությունների կողմից օգտագործվող ոչ ֆինանսական ակտիվների հետ գործառնություններ | G49: 32899.4 | H49: 32899.4 | I49: 32899.4 | J49: 32899.4
B50: 1075 | D50: Մշակութային ժառանգության ծրագիր | E50: Մշակութային ժառանգության պահպանում, օգտագործում, համալրում և հանրահռչակում | F50: Մշակութային ժառանգության շարունակական պահպանում, մշակութային զբոսաշրջության զարգացում և խթանում | G50: 47846.8 | H50: 47846.8 | I50: 47846.8 | J50: 47846.8
C51: 1075 - 21001 | D51: Հուշարձանների ամրակայում, նորոգում և վերականգնում | E51: Հուշարձանների գիտանախագծային փաստաթղթերի կազմում, հրատապ ուսումնասիրում, վավերագրման և ուսումնասիրման աշխատանքներ, հետախուզում և հնագիտական պեղում, ամրակայում, նորոգում և վերականգնում | F51: Հանրության կողմից անմիջականորեն օգտագործվող ակտիվների հետ կապված միջոցառումներ | G51: 47846.8 | H51: 47846.8 | I51: 47846.8 | J51: 47846.8
B52: 1111 | D52: Բարձրագույն և հետբուհական մասնագիտական կրթության ծրագիր | E52: Ապահովել մատչելի, որակյալ և մրցունակ բարձրագույն և հետբուհական մասնագիտական կրթություն: | F52: Գիտելիքների տնտեսության և գիտության զարգացման արդի պահանջներին համապատասխան բարձրագույն և հետբուհական մասնագիտական որակավորում ունեցող մասնագետների պատրաստում | G52: 3265.8 | H52: 3265.8 | I52: 3265.8 | J52: 3265.8
C53: 1111 - 32001 | D53: Բարձրագույն ուսումնական հաստատությունների և «Զեյթուն» ուսանողական ավան» հիմնադրամի շենքային պայմանների բարելավում | E53: Բարձրագույն ուսումնական հաստատությունների և «Զեյթուն» ուսանողական ավան» հիմնադրամի շենքային պայմանների բարելավում | F53: Այլ պետական կազմակերպությունների կողմից օգտագործվող ոչ ֆինանսական ակտիվների հետ գործառնություններ | G53: 3265.8 | H53: 3265.8 | I53: 3265.8 | J53: 3265.8
B54: 1124 | D54: Գրահրատարակչության և գրադարանների ծրագիր | E54: Նպաստել գրականության զարգացմանը, տարածմանը և հանրահռչակմանը | F54: Գրքի և գրական արտադրանքի բազմազանության և հասանելիության ապահովում, ստեղծագործական գործընթացների խթանում | G54: 1039.2 | H54: 1039.2 | I54: 1039.2 | J54: 1039.2
C55: 1124 - 32001 | D55: Հանրային գրադարանների նյութատեխնիկական բազայի զարգացում | E55: Հանրային գրադարանների նյութատեխնիկական բազայի զարգացում | F55: Այլ պետական կազմակերպությունների կողմից օգտագործվող ոչ ֆինանսական ակտիվների հետ գործառնություններ | G55: 1039.2 | H55: 1039.2 | I55: 1039.2 | J55: 1039.2
B56: 1130 | D56: Կրթության, գիտության, մշակույթի և սպորտի բնագավառի պետական քաղաքականության մշակում, ծրագրերի համակարգում և մոնիտորինգ | E56: Ապահովել համընդհանուր, հավասարապես հասանելի, ներառական և որակյալ կրթություն՛ բավարարելով տնտեսության ու հասարակության պահանջները, լիարժեք ծառայելով ազգային շահերին | F56: Կրթության, գիտության, մշակույթի և սպորտի բնագավառում իրականացվող ծրագրերի ազդեցության և արդյունավետության բարելավում | G56: 4462.9 | H56: 4462.9 | I56: 4462.9 | J56: 4462.9
C57: 1130 - 31001 | D57: ՀՀ կրթության, գիտության, մշակույթի և սպորտի նախարարության կարողությունների զարգացում և տեխնիկական հագեցվածության ապահովում | E57: ՀՀ կրթության, գիտության, մշակույթի և սպորտի նախարարության աշխատանքային պայմանների բարելավման համար վարչական սարքավորումների ձեռք բերում | F57: Պետական մարմինների կողմից օգտագործվող ոչ ֆինանսական ակտիվների հետ գործառնություններ | G57: 4462.9 | H57: 4462.9 | I57: 4462.9 | J57: 4462.9
B58: 1148 | D58: Արտադպրոցական դաստիարակության ծրագիր | E58: Նպաստել հանրակրթական ուսուցման համակարգում ընդգրկված երեխաների ֆիզիկական, հոգևոր և գեղագիտական զարգացմանը, բնապահպանական և կիրառական գիտելիքների ձեռքբերմանը | F58: Ստեղծել պայմաններ սովորողների ազատ ժամանացի կազմակերպան միջոցով նրանց հետաքրքրությունների բացահայտման, ձևավորման և զարգացման համար | G58: 7708.5 | H58: 7708.5 | I58: 7708.5 | J58: 7708.5
C59: 1148 - 32005 | D59: Արտադպրոցական դաստիարակություն իրականացնող կազմակերպությունների շենքային պայմանների բարելավում | E59: Կառույցների տեխնիկական կարողությունների և աշխատանքային միջավայրի բարելավում | F59: Այլ պետական կազմակերպությունների կողմից օգտագործվող ոչ ֆինանսական ակտիվների հետ գործառնություններ | G59: 7708.5 | H59: 7708.5 | I59: 7708.5 | J59: 7708.5
B60: 1162 | D60: Գիտական և գիտատեխնիկական հետազոտությունների ծրագիր | E60: Գիտական և գիտատեխնիկական գործունեության հիմնարար, կիրառական և թեմատիկ հետազոտությունների իրականացում, ենթակառուցվածքի և ազգային արժեք ներկայացնող գիտական օբյեկտների պահպանում և զարգացում, գիտական ներուժի վերարտադրության ապահովում£ | F60: Գիտության և տեխնիկայի զարգացման գերակա ուղղությունների հետազոտությունների իրականացում, գիտական ներուժի զարգացում, ազգային արժեք ներկայացնող գիտական օբյեկտների պահպանում | G60: 52985.5 | H60: 52985.5 | I60: 52985.5 | J60: 52985.5
C61: 1162 - 32004 | D61: Գիտական կենտրոնները ժամանակակից սարքավորումներով վերազինում ու համատեղ օգտագործման գիտական սարքավորումների կենտրոնների ստեղծում | E61: Գիտական կենտրոնները վերազինված են ոլորտային համալիր հետազոտությունների համար անհարժեշտ սարքավորումներով | F61: Այլ պետական կազմակերպությունների կողմից օգտագործվող ոչ ֆինանսական ակտիվների հետ գործառնություններ | G61: 52985.5 | H61: 52985.5 | I61: 52985.5 | J61: 52985.5
B62: 1163 | D62: Մասսայական սպորտ | E62: Բնակչության շրջանում առողջ ապրելակերպի արմատավորում, անհատի բազմակողմանի ու ներդաշնակ զարգացման գործում ֆիզիկական կուլտուրայի և սպորտի դերի բարձրացում | F62: Սպորտի նկատմամբ հետաքրքրվածության և մասնակցության ընդլայնում | G62: 483321.3 | H62: 759104.3 | I62: 784104.3 | J62: 784104.3
C63: 1163 - 12001 | D63: Աջակցություն համայնքներին մարզական հաստատությունների շենքային պայմանների բարելավման համար | E63: Համայնքային ենթակայության մարզական հաստատությունների վերանորոգում և կառուցում | F63: Տրանսֆերտների տրամադրում | G63: 265441 | H63: 516224 | I63: 516224 | J63: 516224
C64: 1163 - 32001 | D64: Մարզական օբյեկտների շինարարություն | E64: Մարզական օբյեկտների շենքերի (մասնաշենքերի) կառուցում (համաշինարարական աշխատանքներ, ջեռուցման համակարգի իրականացում, ներքին հարդարում, տարածքի բարեկարգում) և նախագծում | F64: Այլ պետական կազմակերպությունների կողմից օգտագործվող ոչ ֆինանսական ակտիվների հետ գործառնություններ | G64: 123408.3 | H64: 148408.3 | I64: 173408.3 | J64: 173408.3
C65: 1163 - 32002 | D65: Մարզական օբյեկտների հիմնանորոգում | E65: Մարզական օբյեկտների շենքերի (մասնաշենքերի) հիմնանորոգում (համաշինարարական աշխատանքներ, ջեռուցման համակարգի իրականացում, ներքին հարդարում, տարածքի բարեկարգում) և նախագծում | F65: Այլ պետական կազմակերպությունների կողմից օգտագործվող ոչ ֆինանսական ակտիվների հետ գործառնություններ | G65: 50411.1 | H65: 50411.1 | I65: 50411.1 | J65: 50411.1
C66: 1163 - 32006 | D66: Ֆուտբոլի ենթակառուցվածքների զարգացման նպատակով մարզադաշտերի և մարզադպրոցների կառուցում | E66: Ֆուտբոլի դպրոցների և ՈՒԵՖԱ ստանդարտներով ֆուտբոլի մարզադաշտերի նախագծում և կառուցում | F66: Այլ պետական կազմակերպությունների կողմից օգտագործվող ոչ ֆինանսական ակտիվների հետ գործառնություններ | G66: 44060.9 | H66: 44060.9 | I66: 44060.9 | J66: 44060.9
B67: 1168 | D67: Արվեստների ծրագիր | E67: Նպաստել ազգային հենքի վրա ժամանակակից թատերարվեստի, երաժշտարվեստի, կերպարվեստի և պարարվեստի զարգացմանը և հանրահռչակմանը | F67: Մրցունակ արվեստային արտադրանքի ստեղծում, ստեղծագործական գործընթացների խթանում, արվեստի նոր նախագծերի ներդրում և մշակութային կյանքում հասարակության ներգրավում | G67: 131710.8 | H67: 131710.8 | I67: 131710.8 | J67: 131710.8
C68: 1168 - 32001 | D68: Ներդրումներ թատրոնների և համերգային կազմակերպությունների շենքերի կապիտալ վերանորոգման համար | E68: Թատրոնների և համերգային կազմակերպությունների շենքերի մասնաշենքերի հիմնանորոգում, համաշինարարական աշխատանքներ, ջեռուցման համակարգի իրականացում, ներքին հարդարում, տարածքի բարեկարգում և նախագծում | F68: Այլ պետական կազմակերպությունների կողմից օգտագործվող ոչ ֆինանսական ակտիվների հետ գործառնություններ | G68: 2547 | H68: 2547 | I68: 2547 | J68: 2547
C69: 1168 - 32007 | D69: Թատերահամերգային կազմակերպությունների նյութատեխնիկական բազայի համալրում | E69: Թատերահամերգային կազմակերպությունների համար անհրաժեշտ տեխնիկայի և սարքավորումների ձեռքբերում | F69: Այլ պետական կազմակերպությունների կողմից օգտագործվող ոչ ֆինանսական ակտիվների հետ գործառնություններ | G69: 129163.8 | H69: 129163.8 | I69: 129163.8 | J69: 129163.8
B70: 1183 | D70: Ապահով դպրոց | E70: Դպրոցներին սպառնացող աղետների ռիսկի կառավարման կարողությունների հզորացում, դպրոցի անձնակազմի և աշակերտների անվտանգության ապահովման մակարդակի բարձրացում՛ կիրառելով ներառական և երեխայակենտրոն մոտեցում | F70: Դպրոցական միջավայրի բարելավում | G70: 72676.8 | H70: 72676.8 | I70: 72676.8 | J70: 72676.8
C71: 1183 - 32002 | D71: Կրթական օբյեկտների շենքային ապահովվածության բարելավում | E71: Կրթական օբյեկտների շենքերի (մասնաշենքերի) կառուցում (համաշինարարական աշխատանքներ, ջեռուցման համակարգի իրականացում, ներքին հարդարում, տարածքի բարեկարգում) և նախագծում | F71: Այլ պետական կազմակերպությունների կողմից օգտագործվող ոչ ֆինանսական ակտիվների հետ գործառնություններ | G71: 33857.4 | H71: 33857.4 | I71: 33857.4 | J71: 33857.4
C72: 1183 - 32007 | D72: Հանրակրթական կրթություն իրականացնող ուսումնական հաստատությունների նոր մարզադահլիճների կառուցում | E72: Հանրակրթական ուսուցում իրականացնող ուսումնական հաստատությունների նոր մարզադահլիճների կառուցման նախագծանախահաշվային փաստաթղթերի մշակում | F72: Այլ պետական կազմակերպությունների կողմից օգտագործվող ոչ ֆինանսական ակտիվների հետ գործառնություններ | G72: 37379.4 | H72: 37379.4 | I72: 37379.4 | J72: 37379.4
C73: 1183 - 32009 | D73: Հանրակրթական կրթություն իրականացնող ուսումնական հաստատությունների մարզադահլիճների վերակառուցում | E73: Հանրակրթական ուսուցում իրականացնող ուսումնական հաստատությունների մարզադահլիճների վերակառուցման նախագծանախահաշվային փաստաթղթերի մշակում | F73: Այլ պետական կազմակերպությունների կողմից օգտագործվող ոչ ֆինանսական ակտիվների հետ գործառնություններ | G73: 1440 | H73: 1440 | I73: 1440 | J73: 1440
B74: 1196 | D74: Մարզերի մշակութային զարգացման ծրագիր | E74: Մարզերում մշակութային կյանքի և մշակութաստեղծ գործունեության ակտիվացում | F74: Համայնքներում մշակույթի հասանելիության և մշակութային կյանքին մարզային բնակչության ընդգրկվածության ընդլայնում | G74: 18157.6 | H74: 18157.6 | I74: 18157.6 | J74: 18157.6
C75: 1196 - 12002 | D75: Համայնքային մշակութային-ժամանցային կենտրոնի ստեղծում | E75: Համայնքի մշակութային կյանքի ակտիվացում, հանրային ընթերցանության, գեղագիտական կրթության զարգացում, համայնքի բնակչության որակյալ և բովանդակալից ժամանցի կազմակերպում | F75: Տրանսֆերտների տրամադրում | G75: 18157.6 | H75: 18157.6 | I75: 18157.6 | J75: 18157.6
B76: 1236 | D76: Հանրակրթական և նախադպրոցական հաստատությունների հիմնում, կառուցում, բարելավում | E76: Առնվազն 300 դպրոցի և 500 մանկապարտեզի կառուցման, վերակառուցման, հիմնանորոգման ծրագրերի իրականացում ՀՀ պետական բյուջեի միջոցների շրջանակներում | F76: Կրթական միջավայրի բարելավում | G76: =+G77+G78+G79+G80+G81+G82 -> 1006085.9 | H76: =+H77+H78+H79+H80+H81+H82 -> 1621075 | I76: =+I77+I78+I79+I80+I81+I82 -> 1694331.3 | J76: =+J77+J78+J79+J80+J81+J82 -> 1694331.3
C77: 1236 - 31001 | D77: Հանրակրթական և նախադպրոցական հաստատությունների կառուցման, վերակառուցման, հիմնանորոգման ծրագրերի համակարգման շրջանակներում Հայաստանի տարածքային զարգացման հիմնադրամի կարողությունների զարգացում և տեխնիկական հագեցվածության ապահովում | E77: Հայաստանի տարածքային զարգացման հիմնադրամի աշխատանքային պայմանների բարելավման համար վարչական սարքավորումների ձեռքբերում | F77: Պետական մարմինների կողմից օգտագործվող ոչ ֆինանսական ակտիվների հետ գործառնություններ | G77: 13848 | H77: 13848 | I77: 13848 | J77: 13848
C78: 1236 - 32001 | D78: Մանկապարտեզների նոր շենքերի կառուցում | E78: Նախադպրոցական կրթության հասանելիության ապահովման նպատակով՛ մանկապարտեզների հիմնում, նոր շենքերի (մասնաշենքերի), ներառյալ՛ ,Մոդուլայինե տիպի շենքերի կառուցում և նախագծում | F78: Այլ պետական կազմակերպությունների կողմից օգտագործվող ոչ ֆինանսական ակտիվների հետ գործառնություններ | G78: 913538.2 | H78: 1325836.3 | I78: 1399092.6 | J78: 1399092.6
C79: 1236 - 32002 | D79: Մանկապարտեզների շենքերի վերակառուցում, հիմնանորոգում | E79: Նախադպրոցական կրթության հասանելիության ապահովման նպատակով՛ մանկապարտեզների շենքերի (մասնաշենքերի), վերակառուցում, հիմնանորոգում և նախագծում | F79: Այլ պետական կազմակերպությունների կողմից օգտագործվող ոչ ֆինանսական ակտիվների հետ գործառնություններ | G79: 46935.7 | H79: 46935.7 | I79: 46935.7 | J79: 46935.7
C80: 1236 - 32003 | D80: Հանրակրթական դպրոցների նոր շենքերի կառուցում | E80: ՀՀ մարզերում կրթական որակյալ ծառայությունների հասանելիության ապահովման ծրագրի շրջանակներում հանրակրթական և նախադպրոցական կրթության հասանելիության ապահովման նպատակով կրթական կենտրոնների կառուցում | F80: Այլ պետական կազմակերպությունների կողմից օգտագործվող ոչ ֆինանսական ակտիվների հետ գործառնություններ | G80: 23804 | H80: 23804 | I80: 23804 | J80: 23804
C81: 1236 - 32004 | D81: Հանրակրթական դպրոցների շենքերի վերակառուցում, հիմնանորոգում | E81: Դպրոցական պարտադիր կրթության հասանելիության ապահովման նպատակով՛ հանրակրթական դպրոցների շենքերի (մասնաշենքերի), վերակառուցում, հիմնանորոգում և նախագծում | F81: Այլ պետական կազմակերպությունների կողմից օգտագործվող ոչ ֆինանսական ակտիվների հետ գործառնություններ | G81: 960 | H81: 203651 | I81: 203651 | J81: 203651
C82: 1236 - 32005 | D82: Կրթահամալիրների կառուցում | E82: ՀՀ մարզերում կրթական որակյալ ծառայությունների հասանելիության ապահովման ծրագրի շրջանակներում հանրակրթական և նախադպրոցական կրթության հասանելիության ապահովման նպատակով կրթական կենտրոնների կառուցում | F82: Այլ պետական կազմակերպությունների կողմից օգտագործվող ոչ ֆինանսական ակտիվների հետ գործառնություններ | G82: 7000 | H82: =1135011.2-1128011.2 -> 7000 | I82: =1618444.5-1611444.5 -> 7000 | J82: =1618444.5-1611444.5 -> 7000
A83: ՀՀ աշխատանքի և սոցիալական հարցերի նախարարություն | G83: 140432.8 | H83: 140432.8 | I83: 140432.8 | J83: 140432.8
B84: 1098 | D84: Բնակարանային ապահովում | E84: Հանրապետությունում մշտական բնակության վայր չունեցող անօթևան անձանց բնակարանային ապահովմանն աջակցություն | F84: Հանրապետությունում մշտական բնակության վայր չունեցող անօթևան անձանց բնակարանային ապահովվածության բարելավում | G84: 255.1 | H84: 255.1 | I84: 255.1 | J84: 255.1
C85: 1098 - 21001 | D85: Բնակարանային շինարարություն | E85: Բազմաբնակարան բնակելի շենքերի (մասնաշենքերի) կառուցում, (տեխնիկական և հեղինակային հսկողություն) նախագծահետազոտական փաստաթղթերի ձեռքբերում | F85: Հանրության կողմից անմիջականորեն օգտագործվող ակտիվների հետ կապված միջոցառումներ | G85: 255.1 | H85: 255.1 | I85: 255.1 | J85: 255.1
B86: 1160 | D86: Հաշմանդամություն ունեցող անձանց սոցիալական ներառում | E86: Հաշմանդամություն ունեցող անձանց հիմնական պահանջմունքների և սոցիալական կարիքների բավարարում և սոցիալական ներառում հասարակություն | F86: Հաշմանդամություն ունեցող անձանց մատուցվող սոցիալական ծառայությունների հասցեականության և արդյունավետության բարձրացում | G86: 140177.7 | H86: 140177.7 | I86: 140177.7 | J86: 140177.7
C87: 1160 - 32001 | D87: Մեծամորում հաշմանդամություն ունեցող անձանց համար անկախ կյանքի կենտրոնի կառուցում | E87: Հաշմանդամություն ունեցող անձանց սոցիալական, մասնագիտական ծառայությունների զարգացման և տրամադրման, կենցաղավարման ծրագրերի, տարբեր թերապիաների միջոցով անկախ կյանքի ծառայություններ մատուցելու նպատակով անկախ կյանքի կենտրոնի կառուցում | F87: Այլ պետական կազմակերպությունների կողմից օգտագործվող ոչ ֆինանսական ակտիվների հետ գործառնություններ | G87: 140177.7 | H87: 140177.7 | I87: 140177.7 | J87: 140177.7
A88: ՀՀ բարձր տեխնոլոգիական արդյունաբերության նախարարություն | G88: 1067399.2 | H88: 1085579.2 | I88: 1151579.2 | J88: 1151579.2
B89: 1043 | D89: Բարձր տեխնոլոգիական արդյունաբերության էկոհամակարգի և շուկայի զարգացման ծրագիր | E89: Բարձր տեխնոլոգիաների ենթակառուցվածքների բարելավում | F89: Բարձր տեխնոլոգիաների ոլորտի աճ | G89: 1189.2 | H89: 1189.2 | I89: 1189.2 | J89: 1189.2
C90: 1043 - 21001 | D90: Ինժեներական բիզնես աքսելերատորի շենքի կառուցման և կահավորման շարունակականության ապահովում | E90: Ինժեներական բիզնես աքսելերատորի շենքի կառուցման շարունակականության ապահովման նպատակով շինարարական աշխատանքների իրականացում, ավտոկայանատեղիների կառուցում, տարածքի բարեկարգում և սարքավորումների ձեռքբերում | F90: Հանրության կողմից անմիջականորեն օգտագործվող ակտիվների հետ կապված միջոցառումներ | G90: 1189.2 | H90: 1189.2 | I90: 1189.2 | J90: 1189.2
B91: 1100 | D91: Բարձր տեխնոլոգիական արդյունաբերության բնագավառում պետական քաղաքականության մշակում, ծրագրերի համակարգում և մոնիտորինգ | E91: Բարձր տեխնոլոգիական ոլորտում պետական քաղաքականության մշակում, ծրագրերի համակարգում | F91: Բարձր տեխնոլոգիական արդյունաբերության բնագավառում իրականացվող ծրագրերի ազդեցության և արդյունավետության բարելավում | G91: 1660 | H91: 1660 | I91: 1660 | J91: 1660
C92: 1100 - 31001 | D92: ՀՀ բարձր տեխնոլոգիական արդյունաբերության նախարարության կարողությունների զարգացում և տեխնիկական հագեցվածության ապահովում | E92: ՀՀ բարձր տեխնոլոգիական արդյունաբերության նախարարության աշխատանքային պայմանների բարելավման համար վարչական սարքավորումների ձեռք բերում | F92: Պետական մարմինների կողմից օգտագործվող ոչ ֆինանսական ակտիվների հետ գործառնություններ | G92: 1660 | H92: 1660 | I92: 1660 | J92: 1660
B93: 1235 | D93: Թվային փոխակերպման գործընթացի իրականացում | E93: Պետական մարմինների կողմից իրականացվող թվային փոխակերպման միջոցառումների ֆինանսավորում | F93: Թվային ծառայությունների և համակարգերի ներդրում | G93: 1064550 | H93: 1082730 | I93: 1148730 | J93: 1148730
C94: 1235 - 31001 | D94: Միասնական թվային միջավայրի ձևավորում | E94: Թվային փոխակերպման գործընթացի շրջանակներում թվայնացման համակարգերի ներդրում և կայքերի արդիականացում | F94: Պետական մարմինների կողմից օգտագործվող ոչ ֆինանսական ակտիվների հետ գործառնություններ | G94: 1064550 | H94: 1082730 | I94: 1148730 | J94: 1148730
A95: ՀՀ ֆինանսների նախարարություն | G95: 0 | H95: 0 | I95: 0 | J95: 0
B96: 1108 | D96: Հանրային ֆինանսների կառավարման բնագավառում պետական քաղաքականության մշակում, ծրագրերի համակարգում և մոնիտորինգ | E96: Հարկաբյուջետային քաղաքականության մշակում և իրականացման ապահովում, հանրային ֆինանսների արդյունավետ կառավարում | F96: Հանրային ֆինանսների ձևավորման, բաշխման և օգտագործման արդյունավետության աճ, ֆինանսական կարգապահության բարելավում | G96: 0 | H96: 0 | I96: 0 | J96: 0
C97: 1108 - 11014 | D97: ԵԶԲ աջակցությամբ ՀՀ ֆինանսների նախարարության համար պետական-մասնավոր գործընկերության ոլորտի ինստիտուցիոնալ կարողությունների ամրապնդում | E97: Պետական և մասնավոր հատվածների գործընկերության (ՊՄԳ) կենտրոնի տարածքային զարգացում | F97: Ծառայությունների մատուցում | G97: -4693.9 | H97: -4693.9 | I97: -4693.9 | J97: -4693.9
C98: 1108 - 31003 | D98: ԵԶԲ միջոցներից ,ՀՀ ֆինանսների նախարարության համար պետական-մասնավոր գործընկերության ոլորտի ինստիտուցիոնալ կարողությունների ամրապնդմանն ուղղված տեխնիկական աջակցության տրամադրման մասինե դրամաշնորհային ծրագիր | E98: Տեխնիկական հագեցվածության ապահովում | F98: Պետական մարմինների կողմից օգտագործվող ոչ ֆինանսական ակտիվների հետ գործառնություններ | G98: 4693.9 | H98: 4693.9 | I98: 4693.9 | J98: 4693.9
A99: ՀՀ ներքին գործերի նախարարություն | G99: 1027137.1 | H99: 1027137.1 | I99: 1027137.1 | J99: 1027137.1
B100: 1090 | D100: Փրկարարական ծառայություններ | E100: Արտակարգ իրավիճակների արդյունավետ արձագանք | F100: Արտակարգ իրավիճակների հնարավոր դեպքերի կանխում, դրանց ժամանակին արձագանքում, հետևանքների նվազեցում և բնակչության պաշտպանություն | G100: 43920 | H100: 43920 | I100: 43920 | J100: 43920
C101: 1090 - 31001 | D101: ՀՀ ՆԳՆ փրկարար ծառայության կարիքի բավարարում | E101: ՀՀ ՆԳՆ փրկարար ծառայության նյութատեխնիկական բազայով ապահովում | F101: Պետական մարմինների կողմից օգտագործվող ոչ ֆինանսական ակտիվների հետ գործառնություններ | G101: 43920 | H101: 43920 | I101: 43920 | J101: 43920
B102: 1234 | D102: Ներքին գործերի նախարարության ոլորտի քաղաքականության մշակում, կառավարում, կենտրոնացված միջոցառումներ, մոնիտորինգ և վերահսկողություն | E102: Ներքին գործերի համակարգի՛ ոստիկանության, փրկարարծառայության և քաղաքացիական ծառայությանկազմակերպաիրավական կատարելագործում, դրանցգործունեության նկատմամբ հասարակական կարծիքիբարելավում և վստահության բարձրացում | F102: Արդի մարտահրավերներին դիմակայող, պետական ևհասարակական պահանջարկը բավարարող, թափանցիկ,բարեվարք, հաշվետվողական գործունեության ապահովում | G102: 983217.1 | H102: 983217.1 | I102: 983217.1 | J102: 983217.1
C103: 1234 - 31003 | D103: ՀՀ ՆԳՆ կարիքի բավարարում | E103: ՀՀ ոստիկանության նյութատեխնիկական բազայով ապահովում | F103: Պետական մարմինների կողմից օգտագործվող ոչ ֆինանսական ակտիվների հետ գործառնություններ | G103: 983217.1 | H103: 983217.1 | I103: 983217.1 | J103: 983217.1
A104: ՀՀ ազգային անվտանգության ծառայություն | G104: 190735.5 | H104: 190735.5 | I104: 190735.5 | J104: 190735.5
...

Sheet N4.
A1: Հավելված N 4
H2: ՀՀ կառավարության 2026 թվականի
H3: -----------------ի N -----------Ն որոշման
A5: «ՀԱՅԱՍՏԱՆԻ ՀԱՆՐԱՊԵՏՈՒԹՅԱՆ 2026 ԹՎԱԿԱՆԻ ՊԵՏԱԿԱՆ ԲՅՈՒՋԵԻ ՄԱՍԻՆ» ՀԱՅԱՍՏԱՆԻ ՀԱՆՐԱՊԵՏՈՒԹՅԱՆ ՕՐԵՆՔԻ N 1 ՀԱՎԵԼՎԱԾԻ N 3 ԱՂՅՈՒՍԱԿՈՒՄ ԿԱՏԱՐՎՈՂ ՓՈՓՈԽՈՒԹՅՈՒՆՆԵՐԸ ԵՎ ԼՐԱՑՈՒՄՆԵՐԸ
A7: հազար դրամներով
A8: Ծրագրային դասիչ | C8: Բյուջետային գլխավոր կարգադրիչների, ծրագրերի, միջոցառումների և ուղղությունների անվանումները | D8: Ընդամենը | E8: այդ թվում` Ցուցանիշների փոփոխությունները ավելացումները նշված են դրական նշանով, իսկ նվազեցումները՝ փակագծերում
A9: Ծրագիր | B9: Միջոց առում | E9: Կառուցման աշխատանքներ | F9: Վերակառուցման, վերանորոգման և վերականգնման աշխատանքներ | G9: Նախագծահե- տազոտական, գեոդեզիա- քարտեզագրական աշխատանքներ | H9: Ոչ ֆինանսական այլ ակտիվների ձեռքբերում
C10: ԸՆԴԱՄԵՆԸ | D10: =+D11+D14+D121+D167+D171+D175+D202+D206+D211+D215+D219 -> 11015854 | E10: =+E11+E14+E121+E167+E171+E175+E202+E206+E211+E215+E219 -> 4032357.7 | F10: =+F11+F14+F121+F167+F171+F175+F202+F206+F211+F215+F219 -> 2979101.3 | G10: =+G11+G14+G121+G167+G171+G175+G202+G206+G211+G215+G219 -> 229440.3 | H10: =+H11+H14+H121+H167+H171+H175+H202+H206+H211+H215+H219 -> 3774954.4
C11: ՀՀ Ազգային ժողով | D11: 16356.6 | E11: 0 | F11: 0 | G11: 0 | H11: 16356.6
C12: այդ թվում՛
A13: 1024 | B13: 31001 | C13: Ազգային ժողովի տեխնիկական հագեցվածության բարելավում | D13: 16356.6 | E13: 0 | F13: 0 | G13: 0 | H13: 16356.6
C14: ՀՀ տարածքային կառավարման և ենթակառուցվածքների նախարարություն | D14: =+D16+D23+D30+D73+D84+D98+D102+D103+D104+D108+D112 -> 2911873.6 | E14: =+E16+E23+E30+E73+E84+E98+E102+E103+E104+E108+E112 -> 390569.6 | F14: =+F16+F23+F30+F73+F84+F98+F102+F103+F104+F108+F112 -> 2198992 | G14: =+G16+G23+G30+G73+G84+G98+G102+G103+G104+G108+G112 -> 12068.3 | H14: =+H16+H23+H30+H73+H84+H98+H102+H103+H104+H108+H112 -> 310243.7
C15: այդ թվում՛
A16: 1004 | B16: 31002 | C16: Ոռոգման համակարգերի հիմնանորոգում | D16: =SUM(D18:D22) -> 235548.8 | E16: =SUM(E18:E22) -> 0 | F16: =SUM(F18:F22) -> 235548.8 | G16: =SUM(G18:G22) -> 0 | H16: =SUM(H18:H22) -> 0
C17: այդ թվում՝
C18: Աշտարակի մայր ջրանցքի ՊԿ0+00-ՊԿ20+00 հատվածի վերանորոգում | D18: =SUM(E18:H18) -> 67437.4 | F18: 67437.4
C19: Գետափ-Եղեգնաձոր ջրանցքի հիմնանորոգում | D19: =SUM(E19:H19) -> 20869.3 | F19: 20869.3
C20: «Տավուշ» ՋՕԸ-ի կողմից Զեյթուն N1 պոմպակայանի կարճ գծի հեռացնող ջրանցքի վերակառուցում | D20: =SUM(E20:H20) -> 29911.9 | F20: 29911.9
C21: «Արազափ-1» պոմպակայանի մղման խողովակաշարի հիմնանորոգում | D21: =SUM(E21:H21) -> 55435.4 | F21: 55435.4
C22: ՀՀ Սյունիքի մարզի Որոտանի մայր ջրանցքի Հարթաշենի դյուկերի վթարված մոտ 60գծ.մ. հատվածի կառուցում | D22: =SUM(E22:H22) -> 61894.8 | F22: 61894.8
A23: 1004 | B23: 31009 | C23: Օրվա կարգավորման ջրավազանների կառուցում և վերակառուցում | D23: =SUM(D25:D29) -> 35218.1 | E23: =SUM(E25:E29) -> 35218.1 | F23: =SUM(F25:F29) -> 0 | G23: =SUM(G25:G29) -> 0 | H23: =SUM(H25:H29) -> 0
C24: այդ թվում՝
C25: ՀՀ Լոռու մարզի Ալավերդի համայնքի Այգահատ բնակավայրի վարչական տարածքում 50 հազար խմ ծավալով ՕԿՋ-ի կատուցման | D25: =SUM(E25:H25) -> 716.4 | E25: 716.4
C26: ՀՀ Լոռու մարզի Սպիտակ համայնքի Խնկոյան բնակավայրի պոմպակայանի ՕԿՋ-ի հիմնանորոգում | D26: =SUM(E26:H26) -> 2695.5 | E26: 2695.5
C27: Արազափ 1 պոմպակայանի շուրջ 20 հազ․ խմ ծավալով ՕԿՋ-ի կառուցում | D27: =SUM(E27:H27) -> 17023.9 | E27: 17023.9
C28: Արմաշի պոմպակայանի 3-րդ գոտու ՕԿՋ-ի նորոգում | D28: =SUM(E28:H28) -> 2710 | E28: 2710
C29: Արմաշի պոմպակայանի 4-րդ գոտու ՕԿՋ-ի կառուցում | D29: =SUM(E29:H29) -> 12072.3 | E29: 12072.3
A30: 1049 | B30: 21001 | C30: Պետական նշանակության ավտոճանապարհների հիմնանորոգում | D30: =+D31+D37+D42 -> 1481736 | E30: =+E31+E37+E42 -> 0 | F30: =+F31+F37+F42 -> 1469892.7 | G30: =+G31+G37+G42 -> 11843.3 | H30: =+H31+H37+H42 -> 0
B31: 1 | C31: Միջպետական նշանակության ավտոճանապարհներ, այդ թվում | D31: =SUM(D32:D36) -> 62829.8 | E31: =SUM(E32:E36) -> 0 | F31: =SUM(F32:F36) -> 52340.3 | G31: =SUM(G32:G36) -> 10489.5 | H31: =SUM(H32:H36) -> 0
C32: Մ-1, Երևան-Գյումրի-ՀՀ սահման միջպետական նշանակության ավտոճանապարհի կմ 130+100-կմ134+500 հատվածի հիմնանորոգում | D32: 215 | F32: 215
C33: Մ-3, ՀՀ սահմ/Մարգարա/-Վանաձոր-Տաշիր-ՀՀ սահման Ռյա Թազա բնակավայրով անցնող ջրահեռացման կարգավորում | D33: 409.5 | G33: 409.5
C34: Մ-4 ,Երևան-Սևան-Իջևան-ՀՀ սահման միջպետական նշանակության ավտոճանապարհի Երևան-Դիլիջան հատվածում լուսավորության համակարգի կառուցում | D34: 10080 | G34: 10080
C35: Մ-8,Վանաձոր(Մ-6 հատման կետ)-Դիլիջան միջպետական նշանակության ավտոճանապարհի կմ40+000-կմ42+000 հատվածի հիմնանորոգում | D35: 259.1 | F35: 259.1
C36: Մ-8, Վանաձոր (Մ-6 հատման կետ) - Դիլիջան միջպետական նշանակության ավտոճանապարհի կմ0+236 - կմ6+236 հատվածի (Վանաձոր քաղաքի հատված) հիմնանորոգում | D36: 51866.2 | F36: 51866.2
B37: 2 | C37: Հանրապետական նշանակության ավտոճանապարհներ, այդ թվում | D37: =SUM(D38:D41) -> 321852.6 | E37: =SUM(E38:E41) -> 0 | F37: =SUM(F38:F41) -> 321420.6 | G37: =SUM(G38:G41) -> 432 | H37: =SUM(H38:H41) -> 0
C38: Հ-15, /Մ-5/(Նորապատ) -Արգավանդ –/Մ-3/ (Վարդանաշեն) հանրապետական նշանակության ավտոճանապարհի կմ13+000 - կմ20+000 հատվածի հիմնանորոգում | D38: 45257.1 | F38: 45257.1
C39: Հ-67, /Հ-32/ (Ամասիա) -Բերդաշեն- /Հ-66/ հանրապետական նշանակության ավտոճանապարհի Բերդաշեն բնակավայրով անցնող 1.5 կմ երկարությամբ տարանցիկ հատվածի հիմնանորոգում | D39: 432 | G39: 432
C40: Հ-70, Մ-6 – Աթան հանրապետական նշանակության ավտոճանապարհի կմ0+000 - կմ27+500 հատվածի հիմնանորոգում | D40: 184034.5 | F40: 184034.5
C41: Հ-79 /Մ-10/- Գեղհովիտ-Քարագլուխ-/Մ-2/ հանրապետական նշանակության ավտոճանապարհի (նախկին՝ Մ-10, Սևան-Մարտունի-Գետափ) միջպետական նշանակության ավտոճանապարհի կմ80+590-կմ94+590) կմ14+590 -կմ28+590 հատվածի հիմնանորոգում | D41: 92129 | F41: 92129
B42: 3 | C42: Մարզային նշանակության ավտոճանապարհներ, այդ թվում | D42: =SUM(D43:D72) -> 1097053.6 | E42: =SUM(E43:E72) -> 0 | F42: =SUM(F43:F72) -> 1096131.8 | G42: =SUM(G43:G72) -> 921.8 | H42: =SUM(H43:H72) -> 0
C43: Տ-1-14, /Մ-3/ - Հարթավան - /Հ-4/ ավտոճանապարհի կմ0+000-կմ1+200 հատվածի հիմնանորոգում | D43: 8270.6 | F43: 8270.6
C44: Տ-1-63,/Հ-81/ (Թաթուլ) – Կանաչ - Հակո ավտոճանապարհի կմ0+000 - կմ12+100 հատվածի հիմնանորոգում | D44: 2760 | F44: 2760
C45: Տ-2-21,Հ-8 /Մրգավետ/ - Արևշատ (Տ-2-25) մարզային նշանակության ավտոճանապարհի կմ 4+000-կմ 6+400 հատվածի հիմնանորոգում | D45: 308.9 | G45: 308.9
C46: Տ-2-35, /Տ-2-32/ (Վերին Արտաշատ) - Այգեպատ (Տ-2-42) մարզային նշանակության ավտոճանապարհի կմ0+000-կմ4+300 հատվածի հիմնանորոգում | D46: 553.5 | G46: 553.5
C47: Տ-3-8,/Մ-5/-Մայիսյան/Տ-3-47/ տեղական նշանակության ավտոճանապարհի կմ 0+000-կմ 0+800 հատվածի հիմնանորոգում | D47: 4141.5 | F47: 4141.5
C48: Տ-3-11, /Հ-15/ (Արմավիր գ.) – Նալբանդյան – Գետաշեն – Նոր Կեսարիա – /Մ-5/ ավտոճանապարհի կմ6+000-կմ10+000 հատվածի հիմնանորոգում | D48: 28734.9 | F48: 28734.9 | M48: =1419300.7+50592 -> 1469892.7
C49: Տ-3-16 Արևիկ (Տ-3-50) – /Հ-15/ (գ.Արմավիր) ավտոճանապարհի կմ0+000-կմ3+600 հատվածի հիմնանորոգում | D49: 21518.5 | F49: 21518.5
C50: Տ-3-19, Արևիկ(Տ-3-50)-/Հ-15/(Տանձուտ) ավտոճանապարհի կմ0+000 - կմ3+400 հատվածի հիմնանորոգում | D50: 17687.2 | F50: 17687.2
C51: Տ-3-29, /Մ-5/ (Զվարթնոց թաղամաս) – /Հ-13/ ավտոճանապարհի կմ0+000-կմ4+400 հատվածի հիմնանորոգում | D51: 24002.9 | F51: 24002.9
C52: Տ-3-41, /Մ-3/(Լուսագյուղ)-Ջրառատ ավտոճանապարհի կմ0+500-կմ2+600 հատվածի հիմնանորոգում | D52: 10339.2 | F52: 10339.2
C53: Տ-4-63, /Հ-7/ - Ջիլ մարզային նշանակության ավտոճանապարհի և նորակառույց դպրոց տանող ճանապարհահատվածի հիմնանորոգում | D53: 18753.5 | F53: 18753.5
C54: Տ-5-3,/Մ-7/ (Շիրակամուտ) -Գեղասար - /Տ-5-7/ ավտոմոբիլային ճանապարհի կմ0+000 - կմ 1+400 հատվածի հիմնանորոգում | D54: 9615 | F54: 9615
C55: Տ-5-46, /Մ-6/(Ալավերդի) - Սանահին թաղամաս - Ակներ ավտոճանապարհի կմ0+000 - կմ9+300 և Տ-5-46-ից դեպի Սանահին վանական համալիր տանող հատվածների հիմնանորոգում | D55: 100110.3 | F55: 100110.3
C56: Տ-6-18,/Տ-6-44/ - Երևանի սահման տեղական նշանակության ավտոճանապարհի կմ0+000-կմ 1+100 հատվածի հիմնանորոգում | D56: 14291.9 | F56: 14291.9
C57: Տ-6-29,Երևան (Բագրևանդի փող.) – Ձորաղբյուր (Տ-6-42) ավտոճանապարհի կմ 0+000-կմ 5+200 հատվածի հիմնանորոգում | D57: 39105.8 | F57: 39105.8
C58: Տ-8-13, /Մ-12/ - Վերիշեն - Խոզնավար ավտոճանապարհի կմ0+000 - կմ18+300 հատվածի հիմնանորոգում | D58: 126181.7 | F58: 126181.7
C59: Տ-8-42,/Հ-45/ (Սիսիան) – Աշոտավան – Թասիկ - Արևիս տեղական նշանակության ավտոճանապարհի կմ0+000-կմ10+000 հատվածի հիմնանորոգում | D59: 67380 | F59: 67380
C60: Տ-8-90,/Մ-2/ - Վաղատին- /Մ-2/ տեղական նշանակության ավտոճանապարհի կմ 0+000-կմ 1+500 հատվածի հիմնանորոգում | D60: 19455.2 | F60: 19455.2
C61: Տ-9-31,/Հ-42/ (Զառիթափ)-Գոմք-Կապույտ տեղական նշանակության ավտոճանապարհի կմ 0+600-կմ 8+400 հատվածի հիմնանորոգում | D61: 59.4 | G61: 59.4
C62: Տ-10-9, /Հ-36/ - Չինչին (Տ-10-38) ավտոճանապարհի կմ0+000 - կմ10+000 հատվածի հիմնանորոգում | D62: 71211.8 | F62: 71211.8
C63: Տ-10-34,/Մ-4 /-Լեռնային Հայաստան առողջարան ավտոճանապարհի կմ0+000-կմ2+200 հատվածի հիմնանորոգում | D63: 11758 | F63: 11758
C64: /Մ-12/ - Խնձորեսկ - Ներքին Խնձորեսկ ավտոճանապարհի կմ0+000 - կմ10+100 հատվածի հիմնանորոգում | D64: 113156.6 | F64: 113156.6
C65: ՀՀ Լոռու մարզի Վանաձոր քաղաքի Վարդանանց փողոցի հիմնանորոգում | D65: 35691.4 | F65: 35691.4
C66: ՀՀ Լոռու մարզի դեպի «Թեժ լեռ» հանգստյան տուն տանող ճանապարհի հիմնանորոգում | D66: 3656 | F66: 3656
C67: ՀՀ Լոռու մարզի Ստեփանավան քաղաքի Չարենցի փողոցի 1.725կմ հատվածի և Արևելյան փողոցի 0.120 կմ հատվածի հիմնանորոգում | D67: 36794.3 | F67: 36794.3
C68: ՀՀ Գեղարքունիքի Մարտունի քաղաքի Մյասնիկյան, Գևորգ Զիրոյան և Սայաթ Նովա խաչմերուկից մինչև Ն. Գետաշեն բնակավայրի թիվ 2 միջնակարգ դպրոցի խաչմերուկ ավտոճանապարհի հիմնանորոգում | D68: 589 | F68: 589
C69: ՀՀ Գեղարքունիքի մարզի Մարտունի համայնքի Մարտունի քաղաքի Երևանյան և Մյասնիկյան փողոցների ասֆալտապատում | D69: 2134.7 | F69: 2134.7
C70: Որոտան-Խոտ ավտոճանապարհի վերակառուցում | D70: 258199.8 | F70: 258199.8
C71: Սևքար բնակավայրից Սարիգյուղ բնակավայր միջհամայնքային ճանապարհի ասֆալատապատման աշխատանքներ (Տ-10-1, /Հ-58-Սևքար-/Հ-58/(Սարիգյուղ) | D71: 19512 | F71: 19512
C72: Նոյեմբերյան համայնքի Բագրատաշեն և Դեբեդավան համայնքները միացնող հատվածի ասֆալտապատման աշխատանքներ (Տ-10-40, /Մ6/ (Բագրատաշեն)-Դեբեդավան) | D72: 31080 | F72: 31080
A73: 1049 | B73: 21002 | C73: Տրանսպորտային օբյեկտների հիմնանորոգում | D73: 57585.9 | F73: 57360.9 | G73: 225 | H73: 0
C74: այդ թվում՝
C75: Տ-2-13, Արգավանդ-Հայանիստ-Հովտաշատ-Արմավիրի մարզի սահման տեղական նշանակության ավտոճանապարհի կմ8+600-ում գտնվող կամուրջի վերակառուցում | D75: 1602 | F75: 1602
C76: Տ-3-18, Ակնալիճ(Տ-3-6)-Զարթոնք-Արևիկ(Տ-3-50) ավտոճանապարհի ՊԿ27+96-ում և ՊԿ30+94-ում կամուրջների հիմնանորոգում | D76: 2707.7 | F76: 2707.7
C77: Տ-3-34, Վաղարշապատ (Անդրանիկի փողոց) - Ծաղկունք -Հովտամեջ - Հայթաղ -Արշալույս - /Մ-5/ տեղական նշանակության ավտոճանապարհի կմ1+640-ում գտնվող կամրջի և Տ-3-36, Աղավնատուն (Տ-3-44) - Ամբերդ – Այգեշատ - Դաշտ (Տ-3-64) տեղական նշանակության ավտոճանապարհի կմ2+610-ում գտնվող կամուրջի հիմնանորոգում | D77: 3895.5 | F77: 3895.5
C78: Մ-4, Երևան - Սևան - Իջևան – ՀՀ սահման միջպետական նշանակության ավտոճանապարհի կմ19+800-ում գտնվող կամրջի հիմնանորոգում | D78: 4461.6 | F78: 4461.6
C79: Մ-6,Վանաձոր (Մ-3 հատման կետ) – Ալավերդի - ՀՀ սահման (Բագրատաշեն) միջպետական նշանակության ավտոճանապարհի 43-րդ կմ-ում փլուզված ստորին հենապատի վերակառուցում | D79: 3225 | F79: 3000 | G79: 225
C80: Մ-6 ավտոճանապարհը Ախթալա բնակավայրի հետ կապող պողպատե ֆերմաներով L=39մ թռիչքային կառուցվածքով 2-րդ կամրջի կառուցում | D80: 9586.8 | F80: 9586.8
C81: Հ-6, /Հ-2/ –Նոր Գեղի - Եղվարդի տրանսպորտային հանգույց - /Մ-1/ ավտոճանապարհի Հրազդան գետի վրայի կամրջի վերանորոգում | D81: 20558.6 | F81: 20558.6
C82: Մ-10, Սևան-Մարտունի-Վարդենիս-ՀՀ սահման (նախկին՝ Մ-10, Սևան-Մարտունի-Գետափ-/Մ-2/) միջպետական նշանակության ավտոճանապարհի կմ61+380-ում գտնվող կամրջի հիմնանորոգում | D82: 3925.5 | F82: 3925.5
C83: ՀՀ Լոռու մարզի Վանաձոր քաղաքի Բաղրամյան էստակադայի հիմնանորոգում | D83: 7623.2 | F83: 7623.2
A84: 1072 | B84: 31008 | C84: Պարտադիր կապիտալ աշխատանքների ծրագրի շրջանակներում ջրամատակարարման և ջրահեռացման ենթակառուցվածքների հիմնանորոգում | D84: =SUM(D85:D97) -> 409432.8 | E84: =SUM(E85:E97) -> 0 | F84: =SUM(F85:F97) -> 409432.8 | G84: =SUM(G85:G97) -> 0 | H84: =SUM(H85:H97) -> 0
C85: Նուբարաշեն թաղամասի ջրամատակարարման I գոտու բաշխիչ ցանցի վերակառուցում, գոտիավորում | D85: =SUM(E85:H85) -> 30535 | F85: 30535
C86: Նուբարաշեն թաղամասի ջրամատակարարման II գոտու բաշխիչ ցանցի վերակառուցում, գոտիավորում | D86: =SUM(E86:H86) -> 62569 | F86: 62569
C87: Նուբարաշեն թաղամասի ջրամատակարարման III գոտու բաշխիչ ցանցի վերակառուցում, գոտիավորում | D87: =SUM(E87:H87) -> 73227 | F87: 73227
C88: Նուբարաշեն թաղամասի ջրամատակարարման IV գոտու բաշխիչ ցանցի վերակառուցում, գոտիավորում | D88: =SUM(E88:H88) -> 42263 | F88: 42263
C89: Աջափնյակ վարչական շրջան, Շինարարների, Պարսեղով, Եղիազարյան և հարակից փողոցների ջրամատակարարման ցանցի բարելավում, փաթեթ - 1 | D89: =SUM(E89:H89) -> 27678 | F89: 27678
C90: ք. Երևան, Աջափնյակ վարչական շրջանի Ջանիբեկյան, Բաշինջաղյան, Սիսակյան, Վշտունի և հարակից փողոցների ջրամատակարարման ցանցի բարելավում փաթեթ - 2 | D90: =SUM(E90:H90) -> 40604.2 | F90: 40604.2
C91: Աջափնյակ վարչական շրջանի ջրամատակարարման ցանցի վերակառուցում (գոտի – 3) | D91: =SUM(E91:H91) -> 30397 | F91: 30397
C92: Պռոշյան-Դեմիրճյան-Բաղրամյան փողոցներով պարփակված հատվածի բաշխիչ ցանցի վերակառուցում | D92: =SUM(E92:H92) -> 13580.8 | F92: 13580.8
C93: Կոնդ թաղամասի և Պարոնյան, Ձորափի փողոցների բաշխիչ ցանցի վերակառուցում | D93: =SUM(E93:H93) -> 19069 | F93: 19069
C94: Մալաթիա-Սեբաստիա վարչական շրջանի ջրամատակարարման ցանցի բարելավում | D94: =SUM(E94:H94) -> 32661.6 | F94: 32661.6
C95: Աշտարակ քաղաքի Մ. Մաշտոցի, Լինչի, Հ. Թումանյան, Թամազյան, Գրիբոյեդովի փողոցների և հարակից նրբանցքների ջրամատակարարման բաշխիչ ցանցի վերակառուցում | D95: =SUM(E95:H95) -> 6040 | F95: 6040
C96: Արմավիրի մարզի Ակնալիճ գյուղի բաշխիչ ցանցի վերակառուցում | D96: =SUM(E96:H96) -> 10211.2 | F96: 10211.2
C97: ՀՀ Լոռու մարզի Ալավերդի քաղաքի Սարահարթ թաղամասի բաշխիչ ցանցի վերակառուցում | D97: =SUM(E97:H97) -> 20597 | F97: 20597
A98: 1072 | B98: 31010 | C98: Ջրամատակարարման և ջրահեռացման համակարգի հիմնանորոգում | D98: =SUM(D100:D101) -> 297310.5 | E98: =SUM(E100:E101) -> 297310.5 | F98: =SUM(F100:F101) -> 0 | G98: =SUM(G100:G101) -> 0 | H98: =SUM(H100:H101) -> 0
C99: այդ թվում՝
C100: ՀՀ Սյունիքի մարզի Ագարակ քաղաքի գոյություն ունեցող ջրի մաքրման կայանի հիմնանորոգում, լրացուցիչ նոր կայանի կառուցում | D100: =SUM(E100:H100) -> 256458.4 | E100: 256458.4
C101: Էրեբունի վարչական շրջանում / Մուշական թաղամաս / կոյուղագծի կառուցման աշխատանքներ | D101: =SUM(E101:H101) -> 40852.1 | E101: 40852.1
A102: 1079 | B102: 31004 | C102: Պետական գույքի կառավարման կոմիտեի ենթակայության շենքերի պայմանների բարելավում | D102: 6591.5 | E102: 0 | F102: 6591.5 | G102: 0 | H102: 0
...

Sheet N5.
A1: . | J1: Հավելված N 5
J2: ՀՀ կառավարության 2026 թվականի
J3: -----------------ի N -----------Ն որոշման
A5: ՀԱՅԱՍՏԱՆԻ ՀԱՆՐԱՊԵՏՈՒԹՅԱՆ ԿԱՌԱՎԱՐՈՒԹՅԱՆ 2025 ԹՎԱԿԱՆԻ ԴԵԿՏԵՄԲԵՐԻ 25-Ի N 1910-Ն ՈՐՈՇՄԱՆ N 3 ՀԱՎԵԼՎԱԾՈՒՄ ԿԱՏԱՐՎՈՂ ՓՈՓՈԽՈՒԹՅՈՒՆՆԵՐԸ ԵՎ ԼՐԱՑՈՒՄՆԵՐԸ
I7: հազար դրամներով
A8: Գործառական դասիչը | D8: Ծրագրային դասիչը | F8: Բյուջետային ծախսերի գործառական դասակարգման բաժինների, խմբերի և դասերի, բյուջետային ծրագրերի միջոցառումների, բյուջետային հատկացումների գլխավոր կարգադրիչների անվանումները | G8: այդ թվում` Ցուցանիշների փոփոխությունները ավելացումները նշված են դրական նշանով, իսկ նվազեցումները՝ փակագծերում
A9: Բաժին | B9: Խումբ | C9: Դաս | D9: Ծրագիր | E9: Միջոցա ռում | G9: Առաջին եռամսյակ | H9: Առաջին կիսամյակ | I9: Ինն ամիս | J9: Տարի
A10: 111 | F10: ԸՆԴԱՄԵՆԸ ԾԱԽՍԵՐ | G10: =+G12+G56+G90+G118+G128+G144+G154+G184+G240 -> 8857443.6 | H10: =+H12+H56+H90+H118+H128+H144+H154+H184+H240 -> 10484882 | I10: =+I12+I56+I90+I118+I128+I144+I154+I184+I240 -> 10722643 | J10: =+J12+J56+J90+J118+J128+J144+J154+J184+J240 -> 11015854
F11: այդ թվում`
A12: 01 | F12: ԸՆԴՀԱՆՈՒՐ ԲՆՈՒՅԹԻ ՀԱՆՐԱՅԻՆ ԾԱՌԱՅՈՒԹՅՈՒՆՆԵՐ | G12: 1219879.1 | H12: 1238059.1 | I12: 1304059.1 | J12: 1304059.1
F13: այդ թվում`
B14: 01 | F14: Օրենսդիր և գործադիր մարմիններ, պետական կառավարում, ֆինանսական և հարկաբյուջետային հարաբերություններ, արտաքին հարաբերություններ | G14: 22948.1 | H14: 22948.1 | I14: 22948.1 | J14: 22948.1
F15: այդ թվում`
C16: 01 | F16: Օրենսդիր և գործադիր մարմիններ, պետական կառավարում | G16: 22948.1 | H16: 22948.1 | I16: 22948.1 | J16: 22948.1
F17: այդ թվում`
D18: 1024 | E18: 31001 | F18: Ազգային ժողովի տեխնիկական հագեցվածության բարելավում | G18: 16356.6 | H18: 16356.6 | I18: 16356.6 | J18: 16356.6
F19: ՀՀ Ազգային ժողով | G19: 16356.6 | H19: 16356.6 | I19: 16356.6 | J19: 16356.6
D20: 1079 | E20: 31004 | F20: Պետական գույքի կառավարման կոմիտեի ենթակայության շենքերի պայմանների բարելավում | G20: 6591.5 | H20: 6591.5 | I20: 6591.5 | J20: 6591.5
F21: ՀՀ տարածքային կառավարման և ենթակառուցվածքների նախարարություն | G21: 6591.5 | H21: 6591.5 | I21: 6591.5 | J21: 6591.5
C22: 02 | F22: Ֆինանսական և հարկաբյուջետային հարաբերություններ | G22: 0 | H22: 0 | I22: 0 | J22: 0
F23: այդ թվում`
D24: 1108 | E24: 11014 | F24: ԵԶԲ աջակցությամբ ՀՀ ֆինանսների նախարարության համար պետական-մասնավոր գործընկերության ոլորտի ինստիտուցիոնալ կարողությունների ամրապնդում | G24: -4693.9 | H24: -4693.9 | I24: -4693.9 | J24: -4693.9
F25: ՀՀ ֆինանսների նախարարություն | G25: -4693.9 | H25: -4693.9 | I25: -4693.9 | J25: -4693.9
D26: 1108 | E26: 31003 | F26: ԵԶԲ միջոցներից ,ՀՀ ֆինանսների նախարարության համար պետական-մասնավոր գործընկերության ոլորտի ինստիտուցիոնալ կարողությունների ամրապնդմանն ուղղված տեխնիկական աջակցության տրամադրման մասինե դրամաշնորհային ծրագիր | G26: 4693.9 | H26: 4693.9 | I26: 4693.9 | J26: 4693.9
F27: ՀՀ ֆինանսների նախարարություն | G27: 4693.9 | H27: 4693.9 | I27: 4693.9 | J27: 4693.9
B28: 03 | F28: Ընդհանուր բնույթի ծառայություններ | G28: 1064550 | H28: 1082730 | I28: 1148730 | J28: 1148730
F29: այդ թվում`
C30: 02 | F30: Ծրագրման և վիճակագրական ընդհանուր ծառայություններ | G30: 1064550 | H30: 1082730 | I30: 1148730 | J30: 1148730
F31: այդ թվում`
D32: 1235 | E32: 31001 | F32: Միասնական թվային միջավայրի ձևավորում | G32: 1064550 | H32: 1082730 | I32: 1148730 | J32: 1148730
F33: ՀՀ բարձր տեխնոլոգիական արդյունաբերության նախարարություն | G33: 1064550 | H33: 1082730 | I33: 1148730 | J33: 1148730
B34: 04 | F34: Ընդհանուր բնույթի հետազոտական աշխատանք | G34: 52985.5 | H34: 52985.5 | I34: 52985.5 | J34: 52985.5
F35: այդ թվում`
C36: 01 | F36: Ընդհանուր բնույթի հետազոտական աշխատանք | G36: 52985.5 | H36: 52985.5 | I36: 52985.5 | J36: 52985.5
F37: այդ թվում`
D38: 1162 | E38: 32004 | F38: Գիտական կենտրոնները ժամանակակից սարքավորումներով վերազինում ու համատեղ օգտագործման գիտական սարքավորումների կենտրոնների ստեղծում | G38: 52985.5 | H38: 52985.5 | I38: 52985.5 | J38: 52985.5
F39: ՀՀ կրթության , գիտության, մշակույթի և սպորտի նախարարություն | G39: 52985.5 | H39: 52985.5 | I39: 52985.5 | J39: 52985.5
B40: 06 | F40: Ընդհանուր բնույթի հանրային ծառայություններ (այլ դասերին չպատկանող) | G40: 1189.2 | H40: 1189.2 | I40: 1189.2 | J40: 1189.2
F41: այդ թվում`
C42: 01 | F42: Ընդհանուր բնույթի հանրային ծառայություններ (այլ դասերին չպատկանող) | G42: 1189.2 | H42: 1189.2 | I42: 1189.2 | J42: 1189.2
F43: այդ թվում`
D44: 1043 | E44: 21001 | F44: Ինժեներական բիզնես աքսելերատորի շենքի կառուցման և կահավորման շարունակականության ապահովում | G44: 1189.2 | H44: 1189.2 | I44: 1189.2 | J44: 1189.2
F45: ՀՀ բարձր տեխնոլոգիական արդյունաբերության նախարարություն | G45: 1189.2 | H45: 1189.2 | I45: 1189.2 | J45: 1189.2
B46: 08 | F46: Կառավարության տարբեր մակարդակների միջև իրականացվող ընդհանուր բնույթի տրանսֆերտներ | G46: 78206.3 | H46: 78206.3 | I46: 78206.3 | J46: 78206.3
F47: այդ թվում`
C48: 01 | F48: Կառավարության տարբեր մակարդակների միջև իրականացվող ընդհանուր բնույթի տրանսֆերտներ | G48: 78206.3 | H48: 78206.3 | I48: 78206.3 | J48: 78206.3
F49: այդ թվում`
D50: 1212 | E50: 12025 | F50: Մարզերում առաջնահերթ լուծում պահանջող հիմնախնդիրների լուծում | G50: 1280 | H50: 1280 | I50: 1280 | J50: 1280
F51: ՀՀ տարածքային կառավարման և ենթակառուցվածքների նախարարություն | G51: 1280 | H51: 1280 | I51: 1280 | J51: 1280
D52: 1212 | E52: 21001 | F52: Հրետակոծության հետևանքով հասցված վնասների վերականգնման աշխատանքներ | G52: 480 | H52: 480 | I52: 480 | J52: 480
F53: ՀՀ տարածքային կառավարման և ենթակառուցվածքների նախարարություն | G53: 480 | H53: 480 | I53: 480 | J53: 480
D54: 1212 | E54: 32001 | F54: ՀՀ մարզերում առաջնահերթ լուծում պահանջող անհետաձգելի ծրագրերի իրականացում | G54: 76446.3 | H54: 76446.3 | I54: 76446.3 | J54: 76446.3
F55: ՀՀ տարածքային կառավարման և ենթակառուցվածքների նախարարություն | G55: 76446.3 | H55: 76446.3 | I55: 76446.3 | J55: 76446.3
A56: 03 | F56: ՀԱՍԱՐԱԿԱԿԱՆ ԿԱՐԳ, ԱՆՎՏԱՆԳՈՒԹՅՈՒՆ ԵՎ ԴԱՏԱԿԱՆ ԳՈՐԾՈՒՆԵՈՒԹՅՈՒՆ | G56: 1396191.5 | H56: 1469696.2 | I56: 1543200.9 | J56: 1579953.2
F57: այդ թվում`
B58: 01 | F58: Հասարակական կարգ և անվտանգություն | G58: 1173952.6 | H58: 1173952.6 | I58: 1173952.6 | J58: 1173952.6
F59: այդ թվում`
C60: 01 | F60: Ոստիկանություն | G60: 983217.1 | H60: 983217.1 | I60: 983217.1 | J60: 983217.1
F61: այդ թվում`
D62: 1234 | E62: 31003 | F62: ՀՀ ՆԳՆ կարիքի բավարարում | G62: 983217.1 | H62: 983217.1 | I62: 983217.1 | J62: 983217.1
F63: ՀՀ ներքին գործերի նախարարություն | G63: 983217.1 | H63: 983217.1 | I63: 983217.1 | J63: 983217.1
C64: 02 | F64: Ազգային անվտանգություն | G64: 190735.5 | H64: 190735.5 | I64: 190735.5 | J64: 190735.5
F65: այդ թվում`
D66: 1138 | E66: 31001 | F66: Ազգային անվտանգության համակարգի տեխնիկական հագեցվածության բարելավում | G66: 17750 | H66: 17750 | I66: 17750 | J66: 17750
F67: ՀՀ ազգային անվտանգության ծառայություն | G67: 17750 | H67: 17750 | I67: 17750 | J67: 17750
D68: 1138 | E68: 31002 | F68: Ազգային անվտանգության համակարգի շենքային ապահովվածության բարելավում | G68: 172985.5 | H68: 172985.5 | I68: 172985.5 | J68: 172985.5
F69: ՀՀ ազգային անվտանգության ծառայություն | G69: 172985.5 | H69: 172985.5 | I69: 172985.5 | J69: 172985.5
B70: 02 | F70: Փրկարար ծառայություն | G70: 43920 | H70: 43920 | I70: 43920 | J70: 43920
F71: այդ թվում`
C72: 01 | F72: Փրկարար ծառայություն | G72: 43920 | H72: 43920 | I72: 43920 | J72: 43920
F73: այդ թվում`
D74: 1090 | E74: 31001 | F74: ՀՀ ՆԳՆ փրկարար ծառայության կարիքի բավարարում | G74: 43920 | H74: 43920 | I74: 43920 | J74: 43920
F75: ՀՀ ներքին գործերի նախարարություն | G75: 43920 | H75: 43920 | I75: 43920 | J75: 43920
B76: 05 | F76: Կալանավայրեր | G76: 29570 | H76: 29570 | I76: 29570 | J76: 29570
F77: այդ թվում`
C78: 01 | F78: Կալանավայրեր | G78: 29570 | H78: 29570 | I78: 29570 | J78: 29570
F79: այդ թվում`
D80: 1120 | E80: 31002 | F80: ՀՀ արդարադատության նախարարության քրեակատարողական ծառայության կարողությունների զարգացում և տեխնիկական հագեցվածության ապահովում | G80: 27120 | H80: 27120 | I80: 27120 | J80: 27120
F81: ՀՀ արդարադատության նախարարություն | G81: 27120 | H81: 27120 | I81: 27120 | J81: 27120
D82: 1120 | E82: 31003 | F82: Քրեակատարողական հիմմնարկների շենքային պայմանների բարելավում | G82: 2450 | H82: 2450 | I82: 2450 | J82: 2450
F83: ՀՀ արդարադատության նախարարություն | G83: 2450 | H83: 2450 | I83: 2450 | J83: 2450
B84: 07 | F84: Նախաքննություն | G84: 148748.9 | H84: 222253.6 | I84: 295758.3 | J84: 332510.6
F85: այդ թվում`
C86: 01 | F86: Նախաքննություն | G86: 148748.9 | H86: 222253.6 | I86: 295758.3 | J86: 332510.6
F87: այդ թվում`
D88: 1180 | E88: 31004 | F88: ՀՀ քննչական կոմիտեի շենքային պայմանների բարելավում | G88: 148748.9 | H88: 222253.6 | I88: 295758.3 | J88: 332510.6
F89: ՀՀ քննչական կոմիտե | G89: 148748.9 | H89: 222253.6 | I89: 295758.3 | J89: 332510.6
A90: 04 | F90: ՏՆՏԵՍԱԿԱՆ ՀԱՐԱԲԵՐՈՒԹՅՈՒՆՆԵՐ | G90: 1886443.7 | H90: 2121992.5 | I90: 2121992.5 | J90: 2121992.5
F91: այդ թվում`
B92: 02 | F92: Գյուղատնտեսություն, անտառային տնտեսություն, ձկնորսություն և որսորդություն | G92: 35218.1 | H92: 270766.9 | I92: 270766.9 | J92: 270766.9
F93: այդ թվում`
C94: 04 | F94: Ոռոգում | G94: 35218.1 | H94: 270766.9 | I94: 270766.9 | J94: 270766.9
F95: այդ թվում`
D96: 1004 | E96: 31002 | F96: Ոռոգման համակարգերի հիմնանորոգում | G96: 0 | H96: 235548.8 | I96: 235548.8 | J96: 235548.8
F97: ՀՀ տարածքային կառավարման և ենթակառուցվածքների նախարարություն | G97: 0 | H97: 235548.8 | I97: 235548.8 | J97: 235548.8
D98: 1004 | E98: 31009 | F98: Օրվա կարգավորման ջրավազանների կառուցում և վերակառուցում | G98: 35218.1 | H98: 35218.1 | I98: 35218.1 | J98: 35218.1
F99: ՀՀ տարածքային կառավարման և ենթակառուցվածքների նախարարություն | G99: 35218.1 | H99: 35218.1 | I99: 35218.1 | J99: 35218.1
B100: 05 | F100: Տրանսպորտ | G100: 1849565.6 | H100: 1849565.6 | I100: 1849565.6 | J100: 1849565.6
F101: այդ թվում`
C102: 01 | F102: Ճանապարհային տրանսպորտ | G102: 1539321.9 | H102: 1539321.9 | I102: 1539321.9 | J102: 1539321.9
...

Sheet N6.
G1: Հավելված N 6
F3: ՀՀ կառավարության 2026 թվականի
F4: ______________ ի ___Ն որոշման
A6: ՀԱՅԱՍՏԱՆԻ ՀԱՆՐԱՊԵՏՈՒԹՅԱՆ ԿԱՌԱՎԱՐՈՒԹՅԱՆ 2025 ԹՎԱԿԱՆԻ ԴԵԿՏԵՄԲԵՐԻ 25-Ի N 1910-Ն ՈՐՈՇՄԱՆ NN 4 ՀԱՎԵԼՎԱԾՈՒՄ ԿԱՏԱՐՎՈՂ ՓՈՓՈԽՈՒԹՅՈՒՆՆԵՐԸ ԵՎ ԼՐԱՑՈՒՄՆԵՐԸ
F7: հազար դրամներով
A8: Ծրագրային դասիչը | C8: Բյուջետային հատկացումների գլխավոր կարգադրիչների, ծրագրերի, միջոցառումների և միջոցառումները կատարող պետական մարմինների անվանումները | D8: այդ թվում` այդ թվում` Ցուցանիշների փոփոխությունները ավելացումները նշված են դրական նշանով, իսկ նվազեցումները՝ փակագծերում
A9: Ծրագիր | B9: Միջոց առում | D9: Առաջին եռամսյակ | E9: Առաջին կիսամյակ | F9: Ինն ամիս | G9: Տարի
C10: ԸՆԴԱՄԵՆԸ | D10: =+D12+D25+D170+D207+D229+D251+D561+D585+D634+D685+D708+D656 -> 8857443.6 | E10: =+E12+E25+E170+E207+E229+E251+E561+E585+E634+E685+E708+E656 -> 10484882 | F10: =+F12+F25+F170+F207+F229+F251+F561+F585+F634+F685+F708+F656 -> 10722643 | G10: =+G12+G25+G170+G207+G229+G251+G561+G585+G634+G685+G708+G656 -> 11015854
C11: այդ թվում`
C12: ՀՀ Ազգային ժողով | D12: 16356.6 | E12: 16356.6 | F12: 16356.6 | G12: 16356.6
C13: այդ թվում`
A14: 1024 | C14: ՀՀ Ազգային ժողովի լիազորությունների իրականացման ապահովում | D14: 16356.6 | E14: 16356.6 | F14: 16356.6 | G14: 16356.6
C15: այդ թվում`
B16: 31001 | C16: Ազգային ժողովի տեխնիկական հագեցվածության բարելավում | D16: 16356.6 | E16: 16356.6 | F16: 16356.6 | G16: 16356.6
C17: այդ թվում` ըստ կատարողների
C18: ՀՀ Ազգային ժողով | D18: 16356.6 | E18: 16356.6 | F18: 16356.6 | G18: 16356.6
C19: այդ թվում` բյուջետային ծախսերի տնտեսագիտական դասակարգման հոդվածներ
C20: ԸՆԴԱՄԵՆԸ ԾԱԽՍԵՐ | D20: 16356.6 | E20: 16356.6 | F20: 16356.6 | G20: 16356.6
C21: ՈՉ ՖԻՆԱՆՍԱԿԱՆ ԱԿՏԻՎՆԵՐԻ ԳԾՈՎ ԾԱԽՍԵՐ | D21: 16356.6 | E21: 16356.6 | F21: 16356.6 | G21: 16356.6
C22: ՀԻՄՆԱԿԱՆ ՄԻՋՈՑՆԵՐ | D22: 16356.6 | E22: 16356.6 | F22: 16356.6 | G22: 16356.6
C23: ՄԵՔԵՆԱՆԵՐ ԵՎ ՍԱՐՔԱՎՈՐՈՒՄՆԵՐ | D23: 16356.6 | E23: 16356.6 | F23: 16356.6 | G23: 16356.6
C24: - Վարչական սարքավորումներ | D24: 16356.6 | E24: 16356.6 | F24: 16356.6 | G24: 16356.6
C25: ՀՀ տարածքային կառավարման և ենթակառուցվածքների նախարարություն | D25: 2010433.6 | E25: 2655415.2 | F25: 2655415.2 | G25: 2911873.6
C26: այդ թվում`
A27: 1004 | C27: Ոռոգման համակարգի առողջացում | D27: 35218.1 | E27: 270766.9 | F27: 270766.9 | G27: 270766.9
C28: այդ թվում`
B29: 31002 | C29: Ոռոգման համակարգերի հիմնանորոգում | D29: 0 | E29: 235548.8 | F29: 235548.8 | G29: 235548.8
C30: այդ թվում` ըստ կատարողների
C31: ՀՀ տարածքային կառավարման և ենթակառուցվածքների նախարարության ջրային կոմիտե | D31: 0 | E31: 235548.8 | F31: 235548.8 | G31: 235548.8
C32: այդ թվում` բյուջետային ծախսերի տնտեսագիտական դասակարգման հոդվածներ
C33: ԸՆԴԱՄԵՆԸ ԾԱԽՍԵՐ | D33: 0 | E33: 235548.8 | F33: 235548.8 | G33: 235548.8
C34: ՈՉ ՖԻՆԱՆՍԱԿԱՆ ԱԿՏԻՎՆԵՐԻ ԳԾՈՎ ԾԱԽՍԵՐ | D34: 0 | E34: 235548.8 | F34: 235548.8 | G34: 235548.8
C35: ՀԻՄՆԱԿԱՆ ՄԻՋՈՑՆԵՐ | D35: 0 | E35: 235548.8 | F35: 235548.8 | G35: 235548.8
C36: ՇԵՆՔԵՐ ԵՎ ՇԻՆՈՒԹՅՈՒՆՆԵՐ | D36: 0 | E36: 235548.8 | F36: 235548.8 | G36: 235548.8
C37: - Շենքերի և շինությունների կապիտալ վերանորոգում | D37: 0 | E37: 235548.8 | F37: 235548.8 | G37: 235548.8
B38: 31009 | C38: Օրվա կարգավորման ջրավազանների կառուցում և վերակառուցում | D38: 35218.1 | E38: 35218.1 | F38: 35218.1 | G38: 35218.1
C39: այդ թվում` ըստ կատարողների
C40: ՀՀ տարածքային կառավարման և ենթակառուցվածքների նախարարության ջրային կոմիտե | D40: 35218.1 | E40: 35218.1 | F40: 35218.1 | G40: 35218.1
C41: այդ թվում` բյուջետային ծախսերի տնտեսագիտական դասակարգման հոդվածներ
C42: ԸՆԴԱՄԵՆԸ ԾԱԽՍԵՐ | D42: 35218.1 | E42: 35218.1 | F42: 35218.1 | G42: 35218.1
C43: ՈՉ ՖԻՆԱՆՍԱԿԱՆ ԱԿՏԻՎՆԵՐԻ ԳԾՈՎ ԾԱԽՍԵՐ | D43: 35218.1 | E43: 35218.1 | F43: 35218.1 | G43: 35218.1
C44: ՀԻՄՆԱԿԱՆ ՄԻՋՈՑՆԵՐ | D44: 35218.1 | E44: 35218.1 | F44: 35218.1 | G44: 35218.1
C45: ՇԵՆՔԵՐ ԵՎ ՇԻՆՈՒԹՅՈՒՆՆԵՐ | D45: 35218.1 | E45: 35218.1 | F45: 35218.1 | G45: 35218.1
C46: - Շենքերի և շինությունների շինարարություն | D46: 35218.1 | E46: 35218.1 | F46: 35218.1 | G46: 35218.1
A47: 1049 | C47: Ճանապարհային ցանցի բարելավում | D47: 1539321.9 | E47: 1539321.9 | F47: 1539321.9 | G47: 1539321.9
C48: այդ թվում`
B49: 21001 | C49: Պետական նշանակության ավտոճանապարհների հիմնանորոգում | D49: 1481736 | E49: 1481736 | F49: 1481736 | G49: 1481736
C50: այդ թվում` ըստ կատարողների
C51: ՀՀ տարածքային կառավարման և ենթակառուցվածքների նախարարություն | D51: 1431144 | E51: 1431144 | F51: 1431144 | G51: 1431144
C52: այդ թվում` բյուջետային ծախսերի տնտեսագիտական դասակարգման հոդվածներ
C53: ԸՆԴԱՄԵՆԸ ԾԱԽՍԵՐ | D53: 1431144 | E53: 1431144 | F53: 1431144 | G53: 1431144
C54: ՈՉ ՖԻՆԱՆՍԱԿԱՆ ԱԿՏԻՎՆԵՐԻ ԳԾՈՎ ԾԱԽՍԵՐ | D54: 1431144 | E54: 1431144 | F54: 1431144 | G54: 1431144
C55: ՀԻՄՆԱԿԱՆ ՄԻՋՈՑՆԵՐ | D55: 1431144 | E55: 1431144 | F55: 1431144 | G55: 1431144
C56: ՇԵՆՔԵՐ ԵՎ ՇԻՆՈՒԹՅՈՒՆՆԵՐ | D56: 1419300.7 | E56: 1419300.7 | F56: 1419300.7 | G56: 1419300.7
C57: - Շենքերի և շինությունների կապիտալ վերանորոգում | D57: 1419300.7 | E57: 1419300.7 | F57: 1419300.7 | G57: 1419300.7
C58: ԱՅԼ ՀԻՄՆԱԿԱՆ ՄԻՋՈՑՆԵՐ | D58: 11843.3 | E58: 11843.3 | F58: 11843.3 | G58: 11843.3
C59: - Նախագծահետազոտական ծախսեր | D59: 11843.3 | E59: 11843.3 | F59: 11843.3 | G59: 11843.3
C60: ՀՀ Տավուշի մարզպետի աշխատակազմ | D60: 50592 | E60: 50592 | F60: 50592 | G60: 50592
C61: այդ թվում` բյուջետային ծախսերի տնտեսագիտական դասակարգման հոդվածներ
C62: ԸՆԴԱՄԵՆԸ ԾԱԽՍԵՐ | D62: 50592 | E62: 50592 | F62: 50592 | G62: 50592
C63: ՈՉ ՖԻՆԱՆՍԱԿԱՆ ԱԿՏԻՎՆԵՐԻ ԳԾՈՎ ԾԱԽՍԵՐ | D63: 50592 | E63: 50592 | F63: 50592 | G63: 50592
C64: ՀԻՄՆԱԿԱՆ ՄԻՋՈՑՆԵՐ | D64: 50592 | E64: 50592 | F64: 50592 | G64: 50592
C65: ՇԵՆՔԵՐ ԵՎ ՇԻՆՈՒԹՅՈՒՆՆԵՐ | D65: 50592 | E65: 50592 | F65: 50592 | G65: 50592
C66: - Շենքերի և շինությունների կապիտալ վերանորոգում | D66: 50592 | E66: 50592 | F66: 50592 | G66: 50592
B67: 21002 | C67: Տրանսպորտային օբյեկտների հիմնանորոգում | D67: 57585.9 | E67: 57585.9 | F67: 57585.9 | G67: 57585.9
C68: այդ թվում` ըստ կատարողների
C69: ՀՀ տարածքային կառավարման և ենթակառուցվածքների նախարարություն | D69: 57585.9 | E69: 57585.9 | F69: 57585.9 | G69: 57585.9
C70: այդ թվում` բյուջետային ծախսերի տնտեսագիտական դասակարգման հոդվածներ
C71: ԸՆԴԱՄԵՆԸ ԾԱԽՍԵՐ | D71: 57585.9 | E71: 57585.9 | F71: 57585.9 | G71: 57585.9
C72: ՈՉ ՖԻՆԱՆՍԱԿԱՆ ԱԿՏԻՎՆԵՐԻ ԳԾՈՎ ԾԱԽՍԵՐ | D72: 57585.9 | E72: 57585.9 | F72: 57585.9 | G72: 57585.9
C73: ՀԻՄՆԱԿԱՆ ՄԻՋՈՑՆԵՐ | D73: 57585.9 | E73: 57585.9 | F73: 57585.9 | G73: 57585.9
C74: ՇԵՆՔԵՐ ԵՎ ՇԻՆՈՒԹՅՈՒՆՆԵՐ | D74: 57360.9 | E74: 57360.9 | F74: 57360.9 | G74: 57360.9
C75: - Շենքերի և շինությունների կապիտալ վերանորոգում | D75: 57360.9 | E75: 57360.9 | F75: 57360.9 | G75: 57360.9
C76: ԱՅԼ ՀԻՄՆԱԿԱՆ ՄԻՋՈՑՆԵՐ | D76: 225 | E76: 225 | F76: 225 | G76: 225
C77: - Նախագծահետազոտական ծախսեր | D77: 225 | E77: 225 | F77: 225 | G77: 225
A78: 1072 | C78: Ջրամատակարարաման և ջրահեռացման բարելավում | D78: 40852.1 | E78: 450284.9 | F78: 450284.9 | G78: 706743.3
C79: այդ թվում`
B80: 31008 | C80: Պարտադիր կապիտալ աշխատանքների ծրագրի շրջանակներում ջրամատակարարման և ջրահեռացման ենթակառուցվածքների հիմնանորոգում | D80: 0 | E80: 409432.8 | F80: 409432.8 | G80: 409432.8
C81: այդ թվում` ըստ կատարողների
C82: ՀՀ տարածքային կառավարման և ենթակառուցվածքների նախարարության ջրային կոմիտե | D82: 0 | E82: 409432.8 | F82: 409432.8 | G82: 409432.8
C83: այդ թվում` բյուջետային ծախսերի տնտեսագիտական դասակարգման հոդվածներ
C84: ԸՆԴԱՄԵՆԸ ԾԱԽՍԵՐ | D84: 0 | E84: 409432.8 | F84: 409432.8 | G84: 409432.8
C85: ՈՉ ՖԻՆԱՆՍԱԿԱՆ ԱԿՏԻՎՆԵՐԻ ԳԾՈՎ ԾԱԽՍԵՐ | D85: 0 | E85: 409432.8 | F85: 409432.8 | G85: 409432.8
C86: ՀԻՄՆԱԿԱՆ ՄԻՋՈՑՆԵՐ | D86: 0 | E86: 409432.8 | F86: 409432.8 | G86: 409432.8
C87: ՇԵՆՔԵՐ ԵՎ ՇԻՆՈՒԹՅՈՒՆՆԵՐ | D87: 0 | E87: 409432.8 | F87: 409432.8 | G87: 409432.8
C88: - Շենքերի և շինությունների կապիտալ վերանորոգում | D88: 0 | E88: 409432.8 | F88: 409432.8 | G88: 409432.8
B89: 31010 | C89: Ջրամատակարարման և ջրահեռացման համակարգի հիմնանորոգում | D89: 40852.1 | E89: 40852.1 | F89: 40852.1 | G89: 297310.5
C90: այդ թվում` ըստ կատարողների
C91: ՀՀ տարածքային կառավարման և ենթակառուցվածքների նախարարություն | D91: 40852.1 | E91: 40852.1 | F91: 40852.1 | G91: 40852.1
C92: այդ թվում` բյուջետային ծախսերի տնտեսագիտական դասակարգման հոդվածներ
C93: ԸՆԴԱՄԵՆԸ ԾԱԽՍԵՐ | D93: 40852.1 | E93: 40852.1 | F93: 40852.1 | G93: 40852.1
C94: ՈՉ ՖԻՆԱՆՍԱԿԱՆ ԱԿՏԻՎՆԵՐԻ ԳԾՈՎ ԾԱԽՍԵՐ | D94: 40852.1 | E94: 40852.1 | F94: 40852.1 | G94: 40852.1
C95: ՀԻՄՆԱԿԱՆ ՄԻՋՈՑՆԵՐ | D95: 40852.1 | E95: 40852.1 | F95: 40852.1 | G95: 40852.1
C96: ՇԵՆՔԵՐ ԵՎ ՇԻՆՈՒԹՅՈՒՆՆԵՐ | D96: 40852.1 | E96: 40852.1 | F96: 40852.1 | G96: 40852.1
C97: - Շենքերի և շինությունների շինարարություն | D97: 40852.1 | E97: 40852.1 | F97: 40852.1 | G97: 40852.1
C98: ՀՀ տարածքային կառավարման և ենթակառուցվածքների նախարարության ջրային կոմիտե | D98: 0 | E98: 0 | F98: 0 | G98: 256458.4
C99: այդ թվում` բյուջետային ծախսերի տնտեսագիտական դասակարգման հոդվածներ
C100: ԸՆԴԱՄԵՆԸ ԾԱԽՍԵՐ | D100: 0 | E100: 0 | F100: 0 | G100: 256458.4
C101: ՈՉ ՖԻՆԱՆՍԱԿԱՆ ԱԿՏԻՎՆԵՐԻ ԳԾՈՎ ԾԱԽՍԵՐ | D101: 0 | E101: 0 | F101: 0 | G101: 256458.4
C102: ՀԻՄՆԱԿԱՆ ՄԻՋՈՑՆԵՐ | D102: 0 | E102: 0 | F102: 0 | G102: 256458.4
...

Sheet N7.
A1: Հավելված N 7
F2: ՀՀ կառավարության 2026 թվականի
F3: ______________ ի ___Ն որոշման
A6: ՀԱՅԱՍՏԱՆԻ ՀԱՆՐԱՊԵՏՈՒԹՅԱՆ ԿԱՌԱՎԱՐՈՒԹՅԱՆ 2025 ԹՎԱԿԱՆԻ ԴԵԿՏԵՄԲԵՐԻ 25-Ի N 1910-Ն ՈՐՈՇՄԱՆ N 5 ՀԱՎԵԼՎԱԾԻ N 2 ԱՂՅՈՒՍԱԿՈՒՄ ԿԱՏԱՐՎՈՂ ՓՈՓՈԽՈՒԹՅՈՒՆՆԵՐԸ ԵՎ ԼՐԱՑՈՒՄՆԵՐԸ
A8: հազար դրամներով
A9: Ծրագրային դասիչ | C9: Բյուջետային գլխավոր կարգադրիչների, ծրագրերի, միջոցառումների և ուղղությունների անվանումները | D9: այդ թվում` Ցուցանիշների փոփոխությունները ավելացումները նշված են դրական նշանով, իսկ նվազեցումները՝ փակագծերում)
A10: Ծրագիր | B10: Միջոց առում | D10: Առաջին եռամսյակ | E10: Առաջին կիսամյակ | F10: Ինն ամիս | G10: Տարի
C11: ԸՆԴԱՄԵՆԸ | D11: =+D13+D18+D154+D209+D219+D227+D458+D466+D479+D487+D495 -> 8857443.6 | E11: =+E13+E18+E154+E209+E219+E227+E458+E466+E479+E487+E495 -> 10484882 | F11: =+F13+F18+F154+F209+F219+F227+F458+F466+F479+F487+F495 -> 10722643 | G11: =+G13+G18+G154+G209+G219+G227+G458+G466+G479+G487+G495 -> 11015854
C12: այդ թվում`
C13: ՀՀ Ազգային ժողով | D13: 16356.6 | E13: 16356.6 | F13: 16356.6 | G13: 16356.6
C14: այդ թվում՛
A15: 1024 | B15: 31001 | C15: Ազգային ժողովի տեխնիկական հագեցվածության բարելավում | D15: 16356.6 | E15: 16356.6 | F15: 16356.6 | G15: 16356.6
C16: այդ թվում` ըստ կատարողների
C17: ՀՀ Ազգային ժողով | D17: 16356.6 | E17: 16356.6 | F17: 16356.6 | G17: 16356.6
C18: ՀՀ տարածքային կառավարման և ենթակառուցվածքների նախարարություն | D18: =+D20+D29+D38+D86+D99+D116+D124+D129+D132+D137+D142 -> 2010433.6 | E18: =+E20+E29+E38+E86+E99+E116+E124+E129+E132+E137+E142 -> 2655415.2 | F18: =+F20+F29+F38+F86+F99+F116+F124+F129+F132+F137+F142 -> 2655415.2 | G18: =+G20+G29+G38+G86+G99+G116+G124+G129+G132+G137+G142 -> 2911873.6
C19: այդ թվում՛
A20: 1004 | B20: 31002 | C20: Ոռոգման համակարգերի հիմնանորոգում | D20: =+D22 -> 0 | E20: =+E22 -> 235548.8 | F20: =+F22 -> 235548.8 | G20: =+G22 -> 235548.8
C21: այդ թվում` ըստ կատարողների
C22: ՀՀ տարածքային կառավարման և ենթակառուցվածքների նախարարության ջրային կոմիտե | D22: =SUM(D24:D28) -> 0 | E22: =SUM(E24:E28) -> 235548.8 | F22: =SUM(F24:F28) -> 235548.8 | G22: =SUM(G24:G28) -> 235548.8
C23: այդ թվում՝ ըստ օբյեկտների
C24: Աշտարակի մայր ջրանցքի ՊԿ0+00-ՊԿ20+00 հատվածի վերանորոգում | D24: 0 | E24: 67437.4 | F24: 67437.4 | G24: 67437.4
C25: Գետափ-Եղեգնաձոր ջրանցքի հիմնանորոգում | D25: 0 | E25: 20869.3 | F25: 20869.3 | G25: 20869.3
C26: «Տավուշ» ՋՕԸ-ի կողմից Զեյթուն N1 պոմպակայանի կարճ գծի հեռացնող ջրանցքի վերակառուցում | D26: 0 | E26: 29911.9 | F26: 29911.9 | G26: 29911.9
C27: «Արազափ-1» պոմպակայանի մղման խողովակաշարի հիմնանորոգում | D27: 0 | E27: 55435.4 | F27: 55435.4 | G27: 55435.4
C28: ՀՀ Սյունիքի մարզի Որոտանի մայր ջրանցքի Հարթաշենի դյուկերի վթարված մոտ 60գծ.մ. հատվածի կառուցում | D28: 0 | E28: 61894.8 | F28: 61894.8 | G28: 61894.8
A29: 1004 | B29: 31009 | C29: Օրվա կարգավորման ջրավազանների կառուցում և վերակառուցում | D29: =+D31 -> 35218.1 | E29: =+E31 -> 35218.1 | F29: =+F31 -> 35218.1 | G29: =+G31 -> 35218.1
C30: այդ թվում` ըստ կատարողների
C31: ՀՀ տարածքային կառավարման և ենթակառուցվածքների նախարարության ջրային կոմիտե | D31: =SUM(D33:D37) -> 35218.1 | E31: =SUM(E33:E37) -> 35218.1 | F31: =SUM(F33:F37) -> 35218.1 | G31: =SUM(G33:G37) -> 35218.1
C32: այդ թվում՝ ըստ օբյեկտների
C33: ՀՀ Լոռու մարզի Ալավերդի համայնքի Այգահատ բնակավայրի վարչական տարածքում 50 հազար խմ ծավալով ՕԿՋ-ի կատուցման | D33: 716.4 | E33: 716.4 | F33: 716.4 | G33: 716.4
C34: ՀՀ Լոռու մարզի Սպիտակ համայնքի Խնկոյան բնակավայրի պոմպակայանի ՕԿՋ-ի հիմնանորոգում | D34: 2695.5 | E34: 2695.5 | F34: 2695.5 | G34: 2695.5
C35: Արազափ 1 պոմպակայանի շուրջ 20 հազ․ խմ ծավալով ՕԿՋ-ի կառուցում | D35: 17023.9 | E35: 17023.9 | F35: 17023.9 | G35: 17023.9
C36: Արմաշի պոմպակայանի 3-րդ գոտու ՕԿՋ-ի նորոգում | D36: 2710 | E36: 2710 | F36: 2710 | G36: 2710
C37: Արմաշի պոմպակայանի 4-րդ գոտու ՕԿՋ-ի կառուցում | D37: 12072.3 | E37: 12072.3 | F37: 12072.3 | G37: 12072.3
A38: 1049 | B38: 21001 | C38: Պետական նշանակության ավտոճանապարհների հիմնանորոգում | D38: =+D40 -> 1481736 | E38: =+E40 -> 1481736 | F38: =+F40 -> 1481736 | G38: =+G40 -> 1481736
C39: այդ թվում` ըստ կատարողների
C40: ՀՀ տարածքային կառավարման և ենթակառուցվածքների նախարարություն | D40: =+D42+D48+D53 -> 1481736 | E40: =+E42+E48+E53 -> 1481736 | F40: =+F42+F48+F53 -> 1481736 | G40: =+G42+G48+G53 -> 1481736
C41: այդ թվում՝ ըստ օբյեկտների
B42: 1 | C42: Միջպետական նշանակության ավտոճանապարհներ, այդ թվում | D42: =SUM(D43:D47) -> 62829.8 | E42: =SUM(E43:E47) -> 62829.8 | F42: =SUM(F43:F47) -> 62829.8 | G42: =SUM(G43:G47) -> 62829.8
C43: Մ-1, Երևան-Գյումրի-ՀՀ սահման միջպետական նշանակության ավտոճանապարհի կմ 130+100-կմ134+500 հատվածի հիմնանորոգում | D43: 215 | E43: 215 | F43: 215 | G43: 215
C44: Մ-3, ՀՀ սահմ/Մարգարա/-Վանաձոր-Տաշիր-ՀՀ սահման Ռյա Թազա բնակավայրով անցնող ջրահեռացման կարգավորում | D44: 409.5 | E44: 409.5 | F44: 409.5 | G44: 409.5
C45: Մ-4 ,Երևան-Սևան-Իջևան-ՀՀ սահման միջպետական նշանակության ավտոճանապարհի Երևան-Դիլիջան հատվածում լուսավորության համակարգի կառուցում | D45: 10080 | E45: 10080 | F45: 10080 | G45: 10080
C46: Մ-8,Վանաձոր(Մ-6 հատման կետ)-Դիլիջան միջպետական նշանակության ավտոճանապարհի կմ40+000-կմ42+000 հատվածի հիմնանորոգում | D46: 259.1 | E46: 259.1 | F46: 259.1 | G46: 259.1
C47: Մ-8, Վանաձոր (Մ-6 հատման կետ) - Դիլիջան միջպետական նշանակության ավտոճանապարհի կմ0+236 - կմ6+236 հատվածի (Վանաձոր քաղաքի հատված) հիմնանորոգում | D47: 51866.2 | E47: 51866.2 | F47: 51866.2 | G47: 51866.2
B48: 2 | C48: Հանրապետական նշանակության ավտոճանապարհներ, այդ թվում | D48: =SUM(D49:D52) -> 321852.6 | E48: =SUM(E49:E52) -> 321852.6 | F48: =SUM(F49:F52) -> 321852.6 | G48: =SUM(G49:G52) -> 321852.6
C49: Հ-15, /Մ-5/(Նորապատ) -Արգավանդ –/Մ-3/ (Վարդանաշեն) հանրապետական նշանակության ավտոճանապարհի կմ13+000 - կմ20+000 հատվածի հիմնանորոգում | D49: 45257.1 | E49: 45257.1 | F49: 45257.1 | G49: 45257.1
C50: Հ-67, /Հ-32/ (Ամասիա) -Բերդաշեն- /Հ-66/ հանրապետական նշանակության ավտոճանապարհի Բերդաշեն բնակավայրով անցնող 1.5 կմ երկարությամբ տարանցիկ հատվածի հիմնանորոգում | D50: 432 | E50: 432 | F50: 432 | G50: 432
C51: Հ-70, Մ-6 – Աթան հանրապետական նշանակության ավտոճանապարհի կմ0+000 - կմ27+500 հատվածի հիմնանորոգում | D51: 184034.5 | E51: 184034.5 | F51: 184034.5 | G51: 184034.5
C52: Հ-79 /Մ-10/- Գեղհովիտ-Քարագլուխ-/Մ-2/ հանրապետական նշանակության ավտոճանապարհի (նախկին՝ Մ-10, Սևան-Մարտունի-Գետափ) միջպետական նշանակության ավտոճանապարհի կմ80+590-կմ94+590) կմ14+590 -կմ28+590 հատվածի հիմնանորոգում | D52: 92129 | E52: 92129 | F52: 92129 | G52: 92129
B53: 3 | C53: Մարզային նշանակության ավտոճանապարհներ, այդ թվում | D53: =SUM(D54:D81,D82) -> 1097053.6 | E53: =SUM(E54:E81,E82) -> 1097053.6 | F53: =SUM(F54:F81,F82) -> 1097053.6 | G53: =SUM(G54:G81,G82) -> 1097053.6
C54: Տ-1-14, /Մ-3/ - Հարթավան - /Հ-4/ ավտոճանապարհի կմ0+000-կմ1+200 հատվածի հիմնանորոգում | D54: 8270.6 | E54: 8270.6 | F54: 8270.6 | G54: 8270.6
C55: Տ-1-63,/Հ-81/ (Թաթուլ) – Կանաչ - Հակո ավտոճանապարհի կմ0+000 - կմ12+100 հատվածի հիմնանորոգում | D55: 2760 | E55: 2760 | F55: 2760 | G55: 2760
C56: Տ-2-21,Հ-8 /Մրգավետ/ - Արևշատ (Տ-2-25) մարզային նշանակության ավտոճանապարհի կմ 4+000-կմ 6+400 հատվածի հիմնանորոգում | D56: 308.9 | E56: 308.9 | F56: 308.9 | G56: 308.9
C57: Տ-2-35, /Տ-2-32/ (Վերին Արտաշատ) - Այգեպատ (Տ-2-42) մարզային նշանակության ավտոճանապարհի կմ0+000-կմ4+300 հատվածի հիմնանորոգում | D57: 553.5 | E57: 553.5 | F57: 553.5 | G57: 553.5
C58: Տ-3-8,/Մ-5/-Մայիսյան/Տ-3-47/ տեղական նշանակության ավտոճանապարհի կմ 0+000-կմ 0+800 հատվածի հիմնանորոգում | D58: 4141.5 | E58: 4141.5 | F58: 4141.5 | G58: 4141.5
C59: Տ-3-11, /Հ-15/ (Արմավիր գ.) – Նալբանդյան – Գետաշեն – Նոր Կեսարիա – /Մ-5/ ավտոճանապարհի կմ6+000-կմ10+000 հատվածի հիմնանորոգում | D59: 28734.9 | E59: 28734.9 | F59: 28734.9 | G59: 28734.9
C60: Տ-3-16 Արևիկ (Տ-3-50) – /Հ-15/ (գ.Արմավիր) ավտոճանապարհի կմ0+000-կմ3+600 հատվածի հիմնանորոգում | D60: 21518.5 | E60: 21518.5 | F60: 21518.5 | G60: 21518.5
C61: Տ-3-19, Արևիկ(Տ-3-50)-/Հ-15/(Տանձուտ) ավտոճանապարհի կմ0+000 - կմ3+400 հատվածի հիմնանորոգում | D61: 17687.2 | E61: 17687.2 | F61: 17687.2 | G61: 17687.2
C62: Տ-3-29, /Մ-5/ (Զվարթնոց թաղամաս) – /Հ-13/ ավտոճանապարհի կմ0+000-կմ4+400 հատվածի հիմնանորոգում | D62: 24002.9 | E62: 24002.9 | F62: 24002.9 | G62: 24002.9
C63: Տ-3-41, /Մ-3/(Լուսագյուղ)-Ջրառատ ավտոճանապարհի կմ0+500-կմ2+600 հատվածի հիմնանորոգում | D63: 10339.2 | E63: 10339.2 | F63: 10339.2 | G63: 10339.2
C64: Տ-4-63, /Հ-7/ - Ջիլ մարզային նշանակության ավտոճանապարհի և նորակառույց դպրոց տանող ճանապարհահատվածի հիմնանորոգում | D64: 18753.5 | E64: 18753.5 | F64: 18753.5 | G64: 18753.5
C65: Տ-5-3,/Մ-7/ (Շիրակամուտ) -Գեղասար - /Տ-5-7/ ավտոմոբիլային ճանապարհի կմ0+000 - կմ 1+400 հատվածի հիմնանորոգում | D65: 9615 | E65: 9615 | F65: 9615 | G65: 9615
... C81: Որոտան-Խոտ ավտոճանապարհի վերակառուցում | D81: 258199.8 | E81: 258199.8 | F81: 258199.8 | G81: 258199.8
C82: ՀՀ Տավուշի մարզպետի աշխատակազմ | D82: =SUM(D84:D85) -> 50592 | E82: =SUM(E84:E85) -> 50592 | F82: =SUM(F84:F85) -> 50592 | G82: =SUM(G84:G85) -> 50592
C83: այդ թվում՝ ըստ օբյեկտների
C84: Սևքար բնակավայրից Սարիգյուղ բնակավայր միջհամայնքային ճանապարհի ասֆալատապատման աշխատանքներ (Տ-10-1, /Հ-58-Սևքար-/Հ-58/(Սարիգյուղ) | D84: 19512 | E84: 19512 | F84: 19512 | G84: 19512
C85: Նոյեմբերյան համայնքի Բագրատաշեն և Դեբեդավան համայնքները միացնող հատվածի ասֆալտապատման աշխատանքներ (Տ-10-40, /Մ6/ (Բագրատաշեն)-Դեբեդավան) | D85: 31080 | E85: 31080 | F85: 31080 | G85: 31080
A86: 1049 | B86: 21002 | C86: Տրանսպորտային օբյեկտների հիմնանորոգում | D86: =+D88 -> 57585.9 | E86: =+E88 -> 57585.9 | F86: =+F88 -> 57585.9 | G86: =+G88 -> 57585.9
C87: այդ թվում` ըստ կատարողների
C88: ՀՀ տարածքային կառավարման և ենթակառուցվածքների նախարարություն | D88: =SUM(D90:D98) -> 57585.9 | E88: =SUM(E90:E98) -> 57585.9 | F88: =SUM(F90:F98) -> 57585.9 | G88: =SUM(G90:G98) -> 57585.9
C89: այդ թվում՝ ըստ օբյեկտների
C90: Տ-2-13, Արգավանդ-Հայանիստ-Հովտաշատ-Արմավիրի մարզի սահման տեղական նշանակության ավտոճանապարհի կմ8+600-ում գտնվող կամուրջի վերակառուցում | D90: 1602 | E90: 1602 | F90: 1602 | G90: 1602
C91: Տ-3-18, Ակնալիճ(Տ-3-6)-Զարթոնք-Արևիկ(Տ-3-50) ավտոճանապարհի ՊԿ27+96-ում և ՊԿ30+94-ում կամուրջների հիմնանորոգում | D91: 2707.7 | E91: 2707.7 | F91: 2707.7 | G91: 2707.7
C92: Տ-3-34, Վաղարշապատ (Անդրանիկի փողոց) - Ծաղկունք -Հովտամեջ - Հայթաղ -Արշալույս - /Մ-5/ տեղական նշանակության ավտոճանապարհի կմ1+640-ում գտնվող կամրջի և Տ-3-36, Աղավնատուն (Տ-3-44) - Ամբերդ – Այգեշատ - Դաշտ (Տ-3-64) տեղական նշանակության ավտոճանապարհի կմ2+610-ում գտնվող կամուրջի հիմնանորոգում | D92: 3895.5 | E92: 3895.5 | F92: 3895.5 | G92: 3895.5
C93: Մ-4, Երևան - Սևան - Իջևան – ՀՀ սահման միջպետական նշանակության ավտոճանապարհի կմ19+800-ում գտնվող կամրջի հիմնանորոգում | D93: 4461.6 | E93: 4461.6 | F93: 4461.6 | G93: 4461.6
C94: Մ-6,Վանաձոր (Մ-3 հատման կետ) – Ալավերդի - ՀՀ սահման (Բագրատաշեն) միջպետական նշանակության ավտոճանապարհի 43-րդ կմ-ում փլուզված ստորին հենապատի վերակառուցում | D94: 3225 | E94: 3225 | F94: 3225 | G94: 3225
C95: Մ-6 ավտոճանապարհը Ախթալա բնակավայրի հետ կապող պողպատե ֆերմաներով L=39մ թռիչքային կառուցվածքով 2-րդ կամրջի կառուցում | D95: 9586.8 | E95: 9586.8 | F95: 9586.8 | G95: 9586.8
C96: Հ-6, /Հ-2/ –Նոր Գեղի - Եղվարդի տրանսպորտային հանգույց - /Մ-1/ ավտոճանապարհի Հրազդան գետի վրայի կամրջի վերանորոգում | D96: 20558.6 | E96: 20558.6 | F96: 20558.6 | G96: 20558.6
C97: Մ-10, Սևան-Մարտունի-Վարդենիս-ՀՀ սահման (նախկին՝ Մ-10, Սևան-Մարտունի-Գետափ-/Մ-2/) միջպետական նշանակության ավտոճանապարհի կմ61+380-ում գտնվող կամրջի հիմնանորոգում | D97: 3925.5 | E97: 3925.5 | F97: 3925.5 | G97: 3925.5
C98: ՀՀ Լոռու մարզի Վանաձոր քաղաքի Բաղրամյան էստակադայի հիմնանորոգում | D98: 7623.2 | E98: 7623.2 | F98: 7623.2 | G98: 7623.2
A99: 1072 | B99: 31008 | C99: Պարտադիր կապիտալ աշխատանքների ծրագրի շրջանակներում ջրամատակարարման և ջրահեռացման ենթակառուցվածքների հիմնանորոգում | D99: =+D101 -> 0 | E99: =+E101 -> 409432.8 | F99: =+F101 -> 409432.8 | G99: =+G101 -> 409432.8
C100: այդ թվում` ըստ կատարողների
C101: ՀՀ տարածքային կառավարման և ենթակառուցվածքների նախարարության ջրային կոմիտե | D101: =SUM(D103:D115) -> 0 | E101: =SUM(E103:E115) -> 409432.8 | F101: =SUM(F103:F115) -> 409432.8 | G101: =SUM(G103:G115) -> 409432.8
C102: այդ թվում՝ ըստ օբյեկտների
C103: Նուբարաշեն թաղամասի ջրամատակարարման I գոտու բաշխիչ ցանցի վերակառուցում, գոտիավորում | D103: 0 | E103: 30535 | F103: 30535 | G103: 30535
C104: Նուբարաշեն թաղամասի ջրամատակարարման II գոտու բաշխիչ ցանցի վերակառուցում, գոտիավորում | D104: 0 | E104: 62569 | F104: 62569 | G104: 62569
C105: Նուբարաշեն թաղամասի ջրամատակարարման III գոտու բաշխիչ ցանցի վերակառուցում, գոտիավորում | D105: 0 | E105: 73227 | F105: 73227 | G105: 73227
C106: Նուբարաշեն թաղամասի ջրամատակարարման IV գոտու բաշխիչ ցանցի վերակառուցում, գոտիավորում | D106: 0 | E106: 42263 | F106: 42263 | G106: 42263
C107: Աջափնյակ վարչական շրջան, Շինարարների, Պարսեղով, Եղիազարյան և հարակից փողոցների ջրամատակարարման ցանցի բարելավում, փաթեթ - 1 | D107: 0 | E107: 27678 | F107: 27678 | G107: 27678
C108: ք. Երևան, Աջափնյակ վարչական շրջանի Ջանիբեկյան, Բաշինջաղյան, Սիսակյան, Վշտունի և հարակից փողոցների ջրամատակարարման ցանցի բարելավում փաթեթ - 2 | D108: 0 | E108: 40604.2 | F108: 40604.2 | G108: 40604.2
C109: Աջափնյակ վարչական շրջանի ջրամատակարարման ցանցի վերակառուցում (գոտի – 3) | D109: 0 | E109: 30397 | F109: 30397 | G109: 30397
C110: Պռոշյան-Դեմիրճյան-Բաղրամյան փողոցներով պարփակված հատվածի բաշխիչ ցանցի վերակառուցում | D110: 0 | E110: 13580.8 | F110: 13580.8 | G110: 13580.8
C111: Կոնդ թաղամասի և Պարոնյան, Ձորափի փողոցների բաշխիչ ցանցի վերակառուցում | D111: 0 | E111: 19069 | F111: 19069 | G111: 19069
C112: Մալաթիա-Սեբաստիա վարչական շրջանի ջրամատակարարման ցանցի բարելավում | D112: 0 | E112: 32661.6 | F112: 32661.6 | G112: 32661.6
C113: Աշտարակ քաղաքի Մ. Մաշտոցի, Լինչի, Հ. Թումանյան, Թամազյան, Գրիբոյեդովի փողոցների և հարակից նրբանցքների ջրամատակարարման բաշխիչ ցանցի վերակառուցում | D113: 0 | E113: 6040 | F113: 6040 | G113: 6040
C114: Արմավիրի մարզի Ակնալիճ գյուղի բաշխիչ ցանցի վերակառուցում | D114: 0 | E114: 10211.2 | F114: 10211.2 | G114: 10211.2
C115: ՀՀ Լոռու մարզի Ալավերդի քաղաքի Սարահարթ թաղամասի բաշխիչ ցանցի վերակառուցում | D115: 0 | E115: 20597 | F115: 20597 | G115: 20597
A116: 1072 | B116: 31010 | C116: Ջրամատակարարման և ջրահեռացման համակարգի հիմնանորոգում | D116: =+D118+D121 -> 40852.1 | E116: =+E118+E121 -> 40852.1 | F116: =+F118+F121 -> 40852.1 | G116: =+G118+G121 -> 297310.5
C117: այդ թվում` ըստ կատարողների
C118: ՀՀ տարածքային կառավարման և ենթակառուցվածքների նախարարություն | D118: 40852.1 | E118: 40852.1 | F118: 40852.1 | G118: 40852.1
...

Sheet N 8
O1: Հավելված N 8
O2: ՀՀ կառավարության 2026 թվականի
O3: -----------------ի N -----------Ն որոշման
A5: «ՀԱՅԱՍՏԱՆԻ ՀԱՆՐԱՊԵՏՈՒԹՅԱՆ 2026 ԹՎԱԿԱՆԻ ՊԵՏԱԿԱՆ ԲՅՈՒՋԵԻ ՄԱՍԻՆ» ՕՐԵՆՔԻ N 1 ՀԱՎԵԼՎԱԾԻ N 2 ԱՂՅՈՒՍԱԿՈՒՄ ԿԱՏԱՐՎՈՂ ՎԵՐԱԲԱՇԽՈՒՄԸ, ՀԱՅԱՍՏԱՆԻ ՀԱՆՐԱՊԵՏՈՒԹՅԱՆ ԿԱՌԱՎԱՐՈՒԹՅԱՆ 2025 ԹՎԱԿԱՆԻ ԴԵԿՏԵՄԲԵՐԻ 25-Ի N 1910-Ն ՈՐՈՇՄԱՆ N 5 ՀԱՎԵԼՎԱԾԻ N 4 ԱՂՅՈՒՍԱԿՈՒՄ ԿԱՏԱՐՎՈՂ ՓՈՓՈԽՈՒԹՅՈՒՆՆԵՐԸ
O7: հազար դրամներով
A8: Ծրագրային դասիչը | C8: Բյուջետային հատկացումների գլխավոր կարգադրիչների, ծրագրերի, միջոցառումների և միջոցառումները կատարող պետական մարմինների անվանումները | D8: Ցուցանիշների փոփոխությունները ավելացումները նշված են դրական նշանով, իսկ նվազեցումները՝ փակագծերում
D9: Առաջին եռամսյակ | E9: այդ թվում` | G9: Կիսամյակ | J9: Ինն ամիս | M9: Տարի
D10: Ընդամենը | E10: այդ թվում` | G10: Ընդամենը | H10: այդ թվում` | J10: Ընդամենը | K10: այդ թվում` | M10: Ընդամենը | N10: այդ թվում`
A11: Ծրագիր | B11: Միջոցառում | E11: Դրամաշնորհային միջոցներ | F11: Համաֆինանսավորում | H11: Դրամաշնորհային միջոցներ | I11: Համաֆինանսավորում | K11: Դրամաշնորհային միջոցներ | L11: Համաֆինանսավորում | N11: Դրամաշնորհային միջոցներ | O11: Համաֆինանսավորում
C12: ԸՆԴԱՄԵՆԸ | D12: =+D14 -> 0 | E12: =+E14 -> 0 | F12: =+F14 -> 0 | G12: =+G14 -> 0 | H12: =+H14 -> 0 | I12: =+I14 -> 0 | J12: =+J14 -> 0 | K12: =+K14 -> 0 | ... O12: =+O14 -> 0
C13: այդ թվում`
C14: ԸՆԹԱՑԻԿ ԾԱԽՍԵՐ | D14: =+D15 -> 0 | E14: =+E15 -> 0 | F14: =+F15 -> 0 | G14: =+G15 -> 0 | H14: =+H15 -> 0 | I14: =+I15 -> 0 | J14: =+J15 -> 0 | K14: =+K15 -> 0 | ... O14: =+O15 -> 0
C15: ՀՀ ֆինանսների նախարարություն | D15: =+D17 -> 0 | E15: =+E17 -> 0 | F15: =+F17 -> 0 | G15: =+G17 -> 0 | H15: =+H17 -> 0 | I15: =+I17 -> 0 | J15: =+J17 -> 0 | K15: =+K17 -> 0 | ... O15: =+O17 -> 0
C16: այդ թվում`
A17: 1108 | C17: Հանրային ֆինանսների կառավարման բնագավառում պետական քաղաքականության մշակում, ծրագրերի համակարգում և մոնիտորինգ | D17: =+D19+D28 -> 0 | E17: =+E19+E28 -> 0 | F17: =+F19+F28 -> 0 | G17: =+G19+G28 -> 0 | H17: =+H19+H28 -> 0 | I17: =+I19+I28 -> 0 | J17: =+J19+J28 -> 0 | K17: =+K19+K28 -> 0 | ... O17: =+O19+O28 -> 0
C18: այդ թվում`
B19: 11014 | C19: ԵԶԲ աջակցությամբ ՀՀ ֆինանսների նախարարության համար պետական-մասնավոր գործընկերության ոլորտի ինստիտուցիոնալ կարողությունների ամրապնդում | D19: =+D21 -> -4693.88 | E19: =+E21 -> -3911.5667 | F19: =+F21 -> -782.31333 | G19: =+G21 -> -4693.88 | H19: =+H21 -> -3911.5667 | I19: =+I21 -> -782.31333 | J19: =+J21 -> -4693.88 | K19: =+K21 -> -3911.5667 | ... O19: =+O21 -> -782.31333
C20: այդ թվում` ըստ կատարողների
C21: ՀՀ ֆինանսների նախարարություն | D21: =+D23 -> -4693.88 | E21: =+E23 -> -3911.5667 | F21: =+F23 -> -782.31333 | G21: =+G23 -> -4693.88 | H21: =+H23 -> -3911.5667 | I21: =+I23 -> -782.31333 | J21: =+J23 -> -4693.88 | K21: =+K23 -> -3911.5667 | ... O21: =+O23 -> -782.31333
C22: այդ թվում` բյուջետային ծախսերի տնտեսագիտական դասակարգման հոդվածներ
C23: ԸՆԴԱՄԵՆԸ ԾԱԽՍԵՐ | D23: =+D24 -> -4693.88 | E23: =+E24 -> -3911.5667 | F23: =+F24 -> -782.31333 | G23: =+G24 -> -4693.88 | H23: =+H24 -> -3911.5667 | I23: =+I24 -> -782.31333 | J23: =+J24 -> -4693.88 | K23: =+K24 -> -3911.5667 | ... O23: =+O24 -> -782.31333
C24: ԸՆԹԱՑԻԿ ԾԱԽՍԵՐ | D24: =+D25 -> -4693.88 | E24: =+E25 -> -3911.5667 | F24: =+F25 -> -782.31333 | G24: =+G25 -> -4693.88 | H24: =+H25 -> -3911.5667 | I24: =+I25 -> -782.31333 | J24: =+J25 -> -4693.88 | K24: =+K25 -> -3911.5667 | ... O24: =+O25 -> -782.31333
C25: ԾԱՌԱՅՈՒԹՅՈՒՆՆԵՐԻ ԵՎ ԱՊՐԱՆՔՆԵՐԻ ՁԵՌՔԲԵՐՈՒՄ | D25: =+D27 -> -4693.88 | E25: =+E27 -> -3911.5667 | F25: =+F27 -> -782.31333 | G25: =+G27 -> -4693.88 | H25: =+H27 -> -3911.5667 | I25: =+I27 -> -782.31333 | J25: =+J27 -> -4693.88 | K25: =+K27 -> -3911.5667 | ... O25: =+O27 -> -782.31333
C26: Պայմանագրային այլ ծառայությունների ձեռքբերում | D26: =+D27 -> -4693.88 | E26: =+E27 -> -3911.5667 | F26: =+F27 -> -782.31333 | G26: =+G27 -> -4693.88 | H26: =+H27 -> -3911.5667 | I26: =+I27 -> -782.31333 | J26: =+J27 -> -4693.88 | K26: =+K27 -> -3911.5667 | ... O26: =+O27 -> -782.31333
C27: - Ընդհանուր բնույթի այլ ծառայություններ | D27: -4693.88 | E27: =+D27-F27 -> -3911.5667 | F27: =+D27/6 -> -782.31333 | G27: -4693.88 | H27: =+G27-I27 -> -3911.5667 | I27: =+G27/6 -> -782.31333 | J27: -4693.88 | K27: =+J27-L27 -> -3911.5667 | L27: =+J27/6 -> -782.31333 | M27: -4693.88 | N27: =+M27-O27 -> -3911.5667 | O27: =+M27/6 -> -782.31333
B28: 31003 | C28: ԵԶԲ աջակցությամբ «ՀՀ ֆինանսների նախարարության համար պետական-մասնավոր գործընկերության ոլորտի ինստիտուցիոնալ կարողությունների ամրապնդմանն ուղղված տեխնիկական աջակցության տրամադրման մասին» դրամաշնորհային ծրագրի իրականացում | D28: =+D30 -> 4693.88 | E28: =+E30 -> 3911.5667 | F28: =+F30 -> 782.31333 | G28: =+G30 -> 4693.88 | H28: =+H30 -> 3911.5667 | I28: =+I30 -> 782.31333 | J28: =+J30 -> 4693.88 | K28: =+K30 -> 3911.5667 | ... O28: =+O30 -> 782.31333
C29: այդ թվում` ըստ կատարողների
C30: ՀՀ ֆինանսների նախարարություն | D30: =+D32 -> 4693.88 | E30: =+E32 -> 3911.5667 | F30: =+F32 -> 782.31333 | G30: =+G32 -> 4693.88 | H30: =+H32 -> 3911.5667 | I30: =+I32 -> 782.31333 | J30: =+J32 -> 4693.88 | K30: =+K32 -> 3911.5667 | ... O30: =+O32 -> 782.31333
C31: այդ թվում` բյուջետային ծախսերի տնտեսագիտական դասակարգման հոդվածներ
C32: ԸՆԴԱՄԵՆԸ ԾԱԽՍԵՐ | D32: =+D33 -> 4693.88 | E32: =+E33 -> 3911.5667 | F32: =+F33 -> 782.31333 | G32: =+G33 -> 4693.88 | H32: =+H33 -> 3911.5667 | I32: =+I33 -> 782.31333 | J32: =+J33 -> 4693.88 | K32: =+K33 -> 3911.5667 | ... O32: =+O33 -> 782.31333
C33: ՈՉ ՖԻՆԱՆՍԱԿԱՆ ԱԿՏԻՎՆԵՐԻ ԳԾՈՎ ԾԱԽՍԵՐ | D33: =+D34 -> 4693.88 | E33: =+E34 -> 3911.5667 | F33: =+F34 -> 782.31333 | G33: =+G34 -> 4693.88 | H33: =+H34 -> 3911.5667 | I33: =+I34 -> 782.31333 | J33: =+J34 -> 4693.88 | K33: =+K34 -> 3911.5667 | ... O33: =+O34 -> 782.31333
C34: ՀԻՄՆԱԿԱՆ ՄԻՋՈՑՆԵՐ | D34: =+D35 -> 4693.88 | E34: =+E35 -> 3911.5667 | F34: =+F35 -> 782.31333 | G34: =+G35 -> 4693.88 | H34: =+H35 -> 3911.5667 | I34: =+I35 -> 782.31333 | J34: =+J35 -> 4693.88 | K34: =+K35 -> 3911.5667 | ... O34: =+O35 -> 782.31333
C35: ՄԵՔԵՆԱՆԵՐ ԵՎ ՍԱՐՔԱՎՈՐՈՒՄՆԵՐ | D35: =+D36 -> 4693.88 | E35: =+E36 -> 3911.5667 | F35: =+F36 -> 782.31333 | G35: =+G36 -> 4693.88 | H35: =+H36 -> 3911.5667 | I35: =+I36 -> 782.31333 | J35: =+J36 -> 4693.88 | K35: =+K36 -> 3911.5667 | ... O35: =+O36 -> 782.31333
C36: - Վարչական սարքավորումներ | D36: 4693.88 | E36: =+D36-F36 -> 3911.5667 | F36: =+D36/6 -> 782.31333 | G36: 4693.88 | H36: =+G36-I36 -> 3911.5667 | I36: =+G36/6 -> 782.31333 | J36: 4693.88 | K36: =+J36-L36 -> 3911.5667 | L36: =+J36/6 -> 782.31333 | M36: 4693.88 | N36: =+M36-O36 -> 3911.5667 | O36: =+M36/6 -> 782.31333

Sheet N 9
M1: Հավելված N 9
L2: ՀՀ կառավարության 2026 թվականի
L3: ______________ ի ___Ն որոշման
A6: ՀԱՅԱՍՏԱՆԻ ՀԱՆՐԱՊԵՏՈՒԹՅԱՆ ԿԱՌԱՎԱՐՈՒԹՅԱՆ 2025 ԹՎԱԿԱՆԻ ԴԵԿՏԵՄԲԵՐԻ 25-Ի N 1910-Ն ՈՐՈՇՄԱՆ N 9 ՀԱՎԵԼՎԱԾՈՒՄ ԿԱՏԱՐՎՈՂ ՓՈՓՈԽՈՒԹՅՈՒՆՆԵՐԸ ԵՎ ԼՐԱՑՈՒՄՆԵՐԸ
M8: հազար դրամներով
A9: ԲԳԿ | B9: Ծրագիր | D9: Միջոցառում | H9: Իրականացնողը/ ակտիվն օգտագործողը/ շահառուի ընտրության չափորոշիչը | I9: Արդյունքային չափորոշիչը | J9: Ցուցանիշների փոփոխությունները ավելացումները նշված են դրական նշանով, իսկ նվազեցումները՝ փակագծերում
B10: Դասիչը | C10: Անվանումը | D10: Դասիչը | E10: Անվանումը | F10: Նկարագրությունը | G10: Տեսակը | J10: Առաջին եռամսյակ | K10: Առաջին կիսամյակ | L10: Ինն ամիս | M10: Տարի
A11: ԸՆԴԱՄԵՆԸ | J11: =+J12+J19+J71+J83+J96+J110+J240+J253+J274+J284+J298+J312 -> 8857443.6 | K11: =+K12+K19+K71+K83+K96+K110+K240+K253+K274+K284+K298+K312 -> 10484882 | L11: =+L12+L19+L71+L83+L96+L110+L240+L253+L274+L284+L298+L312 -> 10722643 | M11: =+M12+M19+M71+M83+M96+M110+M240+M253+M274+M284+M298+M312 -> 11015854
A12: ՀՀ Ազգային ժողով | J12: 16356.6 | K12: 16356.6 | L12: 16356.6 | M12: 16356.6
B13: 1024 | C13: ՀՀ Ազգային ժողովի լիազորությունների իրականացման ապահովում | J13: 16356.6 | K13: 16356.6 | L13: 16356.6 | M13: 16356.6
D14: 1024 - 31001 | E14: Ազգային ժողովի տեխնիկական հագեցվածության բարելավում | J14: 16356.6 | K14: 16356.6 | L14: 16356.6 | M14: 16356.6
F15: Ազգային ժողովի աշխատակազմի աշխատանքային պայմանների բարելավման համար վարչական սարքավորումների ձեռքբերում
G16: Պետական մարմինների կողմից օգտագործվող ոչ ֆինանսական ակտիվների հետ գործառնություններ
H17: Ակտիվն օգտագործող կազմակերպության անվանումը` ՀՀ Ազգային ժողով
I18: Գրասենյակային գույքի միավորի քանակ, հատ, լրակազմ | K18: 159 | M18: 159
A19: ՀՀ տարածքային կառավարման և ենթակառուցվածքների նախարարություն | J19: =+J20+J29+J38+J47+J53+J58 -> 2010433.6 | K19: =+K20+K29+K38+K47+K53+K58 -> 2655415.2 | L19: =+L20+L29+L38+L47+L53+L58 -> 2655415.2 | M19: =+M20+M29+M38+M47+M53+M58 -> 2911873.6
B20: 1004 | C20: Ոռոգման համակարգի առողջացում | J20: =+J21+J25 -> 35218.1 | K20: =+K21+K25 -> 270766.9 | L20: =+L21+L25 -> 270766.9 | M20: =+M21+M25 -> 270766.9
D21: 1004 - 31002 | E21: Ոռոգման համակարգերի հիմնանորոգում | J21: 0 | K21: 235548.8 | L21: 235548.8 | M21: 235548.8
F22: Ոռոգման համակարգերի հիմնանորոգում
G23: Պետական մարմինների կողմից օգտագործվող ոչ ֆինանսական ակտիվների հետ գործառնություններ
H24: Ակտիվն օգտագործող կազմակերպության անվանումը` ՀՀ ՏԿԵՆ ջրային կոմիտե
D25: 1004 - 31009 | E25: Օրվա կարգավորման ջրավազանների կառուցում և վերակառուցում | J25: 35218.1 | K25: 35218.1 | L25: 35218.1 | M25: 35218.1
F26: Օրվա կարգավորման ջրավազանների կառուցման և վերակառուցման համար նախագծերի և աշխատանքների ձեռք բերում
G27: Պետական մարմինների կողմից օգտագործվող ոչ ֆինանսական ակտիվների հետ գործառնություններ
H28: Ակտիվն օգտագործող կազմակերպության անվանումը` ՀՀ ՏԿԵՆ ջրային կոմիտե
B29: 1049 | C29: Ճանապարհային ցանցի բարելավում | J29: =+J30+J34 -> 1539321.9 | K29: =+K30+K34 -> 1539321.9 | L29: =+L30+L34 -> 1539321.9 | M29: =+M30+M34 -> 1539321.9
D30: 1049 - 21001 | E30: Պետական նշանակության ավտոճանապարհների հիմնանորոգում | J30: 1481736 | K30: 1481736 | L30: 1481736 | M30: 1481736
F31: Միջպետական, հանրապետական և մարզային նշանակության ավտոճոնապարհների քայքայված ծածկի վերանորոգում, մաշված ծածկի փոխարինում
G32: Հանրության կողմից անմիջականորեն օգտագործվող ակտիվների հետ կապված միջոցառումներ
H33: Միջոցառումն իրականացնողի անվանումը` Մասնագիտացված միավոր
D34: 1049 - 21002 | E34: Տրանսպորտային օբյեկտների հիմնանորոգում | J34: 57585.9 | K34: 57585.9 | L34: 57585.9 | M34: 57585.9
F35: Ավտոմոբիլային ճանապարհների վրա գտնվող կամուրջների հիմնանորոգում
G36: Հանրության կողմից անմիջականորեն օգտագործվող ակտիվների հետ կապված միջոցառումներ
H37: Միջոցառումն իրականացնողի անվանումը` Մասնագիտացված միավոր
B38: 1072 | C38: Ջրամատակարարաման և ջրահեռացման բարելավում | J38: =+J39+J43 -> 40852.1 | K38: =+K39+K43 -> 450284.9 | L38: =+L39+L43 -> 450284.9 | M38: =+M39+M43 -> 706743.3
D39: 1072 - 31008 | E39: Պարտադիր կապիտալ աշխատանքների ծրագրի շրջանակներում ջրամատակարարման և ջրահեռացման ենթակառուցվածքների հիմնանորոգում | J39: 0 | K39: 409432.8 | L39: 409432.8 | M39: 409432.8
F40: Մի շարք համայնքներում ջրամատակարարման և ջրահեռացման համակարգերի կառուցման և վերականգնման աշխատանքներ
G41: Պետական մարմինների կողմից օգտագործվող ոչ ֆինանսական ակտիվների հետ գործառնություններ
H42: Ակտիվն օգտագործող կազմակերպության անվանումը` ՀՀ ՏԿԵՆ ջրային կոմիտե
D43: 1072 - 31010 | E43: Ջրամատակարարման և ջրահեռացման համակարգի հիմնանորոգում | J43: 40852.1 | K43: 40852.1 | L43: 40852.1 | M43: 297310.5
F44: Ջրամատակարարման և ջրահեռացման համակարգի հիմնանորոգման նախագծերի և աշխատանքների ձեռքբերում
G45: Պետական մարմինների կողմից օգտագործվող ոչ ֆինանսական ակտիվների հետ գործառնություններ
H46: Ակտիվն օգտագործող կազմակերպության անվանումը` ՀՀ ՏԿԵՆ ջրային կոմիտե
B47: 1079 | C47: Պետական գույքի կառավարում | J47: 6591.5 | K47: 6591.5 | L47: 6591.5 | M47: 6591.5
D48: 1079 - 31004 | E48: Պետական գույքի կառավարման կոմիտեի ենթակայության շենքերի պայմանների բարելավում | J48: 6591.5 | K48: 6591.5 | L48: 6591.5 | M48: 6591.5
F49: Պետական գույքի կառավարման կոմիտեի ենթակայության շենքերի պայմանների բարելավում (հիմնանորոգում)
G50: Պետական մարմինների կողմից օգտագործվող ոչ ֆինանսական ակտիվների հետ գործառնություններ
H51: ՀՀ տարածքային կառավարման և ենթակառուցվածքների նախարարության պետական գույքի կառավարման կոմիտե
I52: ք. Երևան, Տիգրան Մեծի 4 հասցեում զբաղեցվող տարածքների հիմնանորոգման աշխատանքներ | K52: 1 | M52: 1
B53: 1157 | C53: Քաղաքային զարգացում | J53: 310243.7 | K53: 310243.7 | L53: 310243.7 | M53: 310243.7
D54: 1157 - 21001 | E54: Երևանի մետրոպոլիտենի ենթակառուցվածքների նորոգում | J54: 310243.7 | K54: 310243.7 | L54: 310243.7 | M54: 310243.7
F55: Երևանի մետրոպոլիտենի ենթակառուցվածքների նորոգում
G56: Հանրության կողմից անմիջականորեն օգտագործվող ակտիվների հետ կապված միջոցառումներ
H57: Շահառուների ընտրության չափանիշները` ՀՀ բնակչություն
B58: 1212 | C58: Տարածքային զարգացում | J58: =+J59+J63+J67 -> 78206.3 | K58: =+K59+K63+K67 -> 78206.3 | L58: =+L59+L63+L67 -> 78206.3 | M58: =+M59+M63+M67 -> 78206.3
D59: 1212 - 12025 | E59: Մարզերում առաջնահերթ լուծում պահանջող հիմնախնդիրների լուծում | J59: 1280 | K59: 1280 | L59: 1280 | M59: 1280
F60: Մարզերում առաջնահերթ լուծում պահանջող ծրագրերի իրականացում, որի արդյունքում լուծում կտրվի բնակչության և համայնքների սոցիալական նշանակություն ունեցող հիմնախնդիրներին
G61: Տրանսֆերտների տրամադրում
C62: Քաղաքային զարգացում | H62: Ակտիվն օգտագործող կազմակերպության անվանումը` ՀՀ համայնքներ
D63: 1212 - 21001 | E63: Հրետակոծության հետևանքով հասցված վնասների վերականգնման աշխատանքներ | J63: 480 | K63: 480 | L63: 480 | M63: 480
F64: Հրետակոծության հետևանքների մեղմանն ուղղված աշխատանքների իրականացում
G65: Հանրության կողմից անմիջականորեն օգտագործվող ակտիվների հետ կապված միջոցառումներ
H66: Ակտիվն օգտագործող կազմակերպության անվանումը` ՀՀ համայնքներ
D67: 1212 - 32001 | E67: ՀՀ մարզերում առաջնահերթ լուծում պահանջող անհետաձգելի ծրագրերի իրականացում | J67: 76446.3 | K67: 76446.3 | L67: 76446.3 | M67: 76446.3
F68: ՀՀ մարզերում առաջնահերթ լուծում պահանջող անհետաձգելի ծրագրերի իրականացում, որի արդյունքում լուծում կտրվի մարզային ենթակայության կազմակերպությունների և համայնքային նշանակություն ունեցող հիմնախնդիրներին
G69: Այլ պետական կազմակերպությունների կողմից օգտագործվող ոչ ֆինանսական ակտիվների հետ գործառնություններ
H70: Ակտիվն օգտագործող կազմակերպության անվանումը` ՀՀ համայնքներ
A71: ՀՀ առողջապահության նախարարություն | J71: =+J72 -> 1444236 | K71: =+K72 -> 1444236 | L71: =+L72 -> 1444236 | M71: =+M72 -> 1444236
B72: 1126 | C72: Առողջապահության ոլորտում պետական քաղաքականության մշակում, ծրագրերի համակարգում և մոնիտորինգ | J72: =+J73+J78 -> 1444236 | K72: =+K73+K78 -> 1444236 | L72: =+L73+L78 -> 1444236 | M72: =+M73+M78 -> 1444236
D73: 1126 - 31002 | E73: Առողջապահական կազմակերպությունների վերազինում | J73: 105214.8 | K73: 105214.8 | L73: 105214.8 | M73: 105214.8
F74: Բնակչությանը որակյալ բժշկական օգնության և սպասարկման ծառայություններ մատուցելու նպատակով՛ առողջապահական կազմակերպությունների անհրաժեշտ սարքավորումներով վերազինում
G75: Պետական մարմինների կողմից օգտագործվող ոչ ֆինանսական ակտիվների հետ գործառնություններ
H76: Ակտիվն օգտագործող կազմակերպության անվանումը` Բժշկական կազմակերպություններ
I77: Վերազինվող բուժհաստատությունների քանակ
D78: 1126 - 31003 | E78: Առողջապահական կազմակերպությունների կառուցում, վերակառուցում | J78: 1339021.2 | K78: 1339021.2 | L78: 1339021.2 | M78: 1339021.2
F79: Բնակչությանը որակյալ բժշկական օգնության և սպասարկման ծառայություններ մատուցելու նպատակով առողջապահական կազմակերպությունների կառուցում, վերակառուցում
G80: Պետական մարմինների կողմից օգտագործվող ոչ ֆինանսական ակտիվների հետ գործառնություններ
H81: Ակտիվն օգտագործող կազմակերպության անվանումը` Բժշկական կազմակերպություններ
I82: Նախագծահետազոտական ծախսեր | M82: 3
A83: ՀՀ արդարադատության նախարարություն | J83: 29570 | K83: 29570 | L83: 29570 | M83: 29570
B84: 1120 | C84: Քրեակատարողական ծառայություններ | J84: 29570 | K84: 29570 | L84: 29570 | M84: 29570
D85: 1120 - 31002 | E85: ՀՀ արդարադատության նախարարության քրեակատարողական ծառայության կարողությունների զարգացում և տեխնիկական հագեցվածության ապահովում | J85: 27120 | K85: 27120 | L85: 27120 | M85: 27120
F86: ՀՀ արդարադատության նախարարության քրեակատարողական ծառայության աշխատանքային պայմանների բարելավման համար վարչական սարքավորումների ձեռք բերում
G87: Պետական մարմինների կողմից օգտագործվող ոչ ֆինանսական ակտիվների հետ գործառնություններ
H88: Ակտիվն օգտագործող կազմակերպության անվանումը` Քրեակատարողական ծառայություն
I89: Տեսահսկման համակարգ | K89: 1 | M89: 1
D91: 1120 - 31003 | E91: Քրեակատարողական հիմնարկների շենքային պայմանների բարելավում | J91: 2450 | K91: 2450 | L91: 2450 | M91: 2450
F92: ՀՀ ԱՆ քրեակատարողական յոթ քրեակատարողական հիմնարկների արգելագոտիների պարագծերում էլեկտրոնային հսկողության համակարգերի ներդրման նախագծանախահաշվային փաստաթղթերի կազմման ծառայությունների ձեռքբերում | J92: 2450 | K92: 2450 | L92: 2450 | M92: 2450
G93: Պետական մարմինների կողմից օգտագործվող ոչ ֆինանսական ակտիվների հետ գործառնություններ
H94: Ակտիվն օգտագործող կազմակերպության անվանումը` Քրեակատարողական ծառայություն
A96: ՀՀ շրջակա միջավայրի նախարարություն | J96: =+J98+J104 -> 907246.8 | K96: =+K98+K104 -> 907246.8 | L96: =+L98+L104 -> 907246.8 | M96: =+M98+M104 -> 907246.8
B97: 1173 | C97: Անտառների կառավարում | J97: 14157 | K97: 14157 | L97: 14157 | M97: 14157
D98: 1173 - 31001 | E98: Էկոպարեկային ծառայության տեխնիկական կարողությունների ընդլայնում | J98: 14157 | K98: 14157 | L98: 14157 | M98: 14157
F99: Համակարգչային սարքավորումների և գրասենյակային գույքի ձեռքբերում
G100: Պետական մարմինների կողմից օգտագործվող ոչ ֆինանսական ակտիվների հետ գործառնություններ
H101: Ակտիվն օգտագործող կազմակերպության անվանումը` Շրջակա միջավայրի նախարարության Էկոպարեկային ծառայություն
I102: mobile համակարգ ավտոմոբիլների համար / լրակազմ / | K102: 2 | M102: 2
I103: Շրջակա միջավայրի նախարարության էկոպարեկային ծառայության Տավուշի մարզային վարչության և Կոտայքի և Գեղարքունիքի մարզային վարչության հատուկ նշանակության տրանսպորտային միջոցները հատուկ կահավորման տեխնիկական միջոցներով հագեցվածություն, տոկոս | K103: 100 | M103: 100
D104: 1173-31002 | E104: Էկոպարեկային ծառայության տրանսպորտային միջոցներով ապահովվածություն | J104: 893089.8 | K104: 893089.8 | L104: 893089.8 | M104: 893089.8
F105: Էկոպարեկային ծառայության իրականացման համար տրանսպորտային միջոցների ձեռք բերում
...

Sheet N 10
L1: Հավելված N 10
L2: ՀՀ կառավարության 2026 թվականի
L3: ______________ ի ___Ն որոշման
A6: ՀԱՅԱՍՏԱՆԻ ՀԱՆՐԱՊԵՏՈՒԹՅԱՆ ԿԱՌԱՎԱՐՈՒԹՅԱՆ 2025 ԹՎԱԿԱՆԻ ԴԵԿՏԵՄԲԵՐԻ 25-Ի N 1910-Ն ՈՐՈՇՄԱՆ N 9.1 ՀԱՎԵԼՎԱԾՈՒՄ ԿԱՏԱՐՎՈՂ ՓՈՓՈԽՈՒԹՅՈՒՆՆԵՐԸ ԵՎ ԼՐԱՑՈՒՄՆԵՐԸ
M7: հազար դրամներով
A8: ԲՍԿ | B8: Ծրագիր | D8: Միջոցառում | H8: Իրականացնողը/ ակտիվն օգտագործողը/ շահառուի ընտրության չափորոշիչը | I8: Արդյունքային չափորոշիչը | J8: Ցուցանիշների փոփոխությունները ավելացումները նշված են դրական նշանով, իսկ նվազեցումները՝ փակագծերում
B9: Դասիչը | C9: Անվանումը | D9: Դասիչը | E9: Անվանումը | F9: Նկարագրությունը | G9: Տեսակը | J9: Առաջին եռամսյակ | K9: Առաջին կիսամյակ | L9: Ինն ամիս | M9: Տարի
A10: ԸՆԴԱՄԵՆԸ | J10: =+J11+J18+J49+J67+J167+J180+J190+J204+J223+J229+J243+J250+J259+J335+J346+J360+J367+J377+J383+J389 -> 8857443.6 | K10: =+K11+K18+K49+K67+K167+K180+K190+K204+K223+K229+K243+K250+K259+K335+K346+K360+K367+K377+K383+K389 -> 10484882 | L10: =+L11+L18+L49+L67+L167+L180+L190+L204+L223+L229+L243+L250+L259+L335+L346+L360+L367+L377+L383+L389 -> 10722643 | M10: =+M11+M18+M49+M67+M167+M180+M190+M204+M223+M229+M243+M250+M259+M335+M346+M360+M367+M377+M383+M389 -> 11015854
A11: ՀՀ Ազգային ժողով | J11: 16356.6 | K11: 16356.6 | L11: 16356.6 | M11: 16356.6
B12: 1024 | C12: ՀՀ Ազգային ժողովի լիազորությունների իրականացման ապահովում | J12: 16356.6 | K12: 16356.6 | L12: 16356.6 | M12: 16356.6
D13: 1024 - 31001 | E13: Ազգային ժողովի տեխնիկական հագեցվածության բարելավում | J13: 16356.6 | K13: 16356.6 | L13: 16356.6 | M13: 16356.6
F14: Ազգային ժողովի աշխատակազմի աշխատանքային պայմանների բարելավման համար վարչական սարքավորումների ձեռքբերում
G15: Պետական մարմինների կողմից օգտագործվող ոչ ֆինանսական ակտիվների հետ գործառնություններ
H16: Ակտիվն օգտագործող կազմակերպության անվանումը` ՀՀ Ազգային ժողով
I17: Գրասենյակային գույքի միավորի քանակ, հատ, լրակազմ | K17: 159 | M17: 159
A18: ՀՀ տարածքային կառավարման և ենթակառուցվածքների նախարարություն | J18: =+J19+J24+J33+J38+J43 -> 2136160.2 | K18: =+K19+K24+K33+K38+K43 -> 2386943.2 | L18: =+L19+L24+L33+L38+L43 -> 2386943.2 | M18: =+M19+M24+M33+M38+M43 -> 2386943.2
B19: 1072 | C19: Ջրամատակարարաման և ջրահեռացման բարելավում | J19: =+J20 -> 40852.1 | K19: =+K20 -> 40852.1 | L19: =+L20 -> 40852.1 | M19: =+M20 -> 40852.1
D20: 1072 - 31010 | E20: Ջրամատակարարման և ջրահեռացման համակարգի հիմնանորոգում | J20: 40852.1 | K20: 40852.1 | L20: 40852.1 | M20: 40852.1
F21: Ջրամատակարարման և ջրահեռացման համակարգի հիմնանորոգման նախագծերի և աշխատանքների ձեռքբերում
G22: Պետական մարմինների կողմից օգտագործվող ոչ ֆինանսական ակտիվների հետ գործառնություններ
H23: Ակտիվն օգտագործող կազմակերպության անվանումը` ՀՀ ՏԿԵՆ ջրային կոմիտե
B24: 1049 | C24: Ճանապարհային ցանցի բարելավում | J24: =+J25+J29 -> 1488729.9 | K24: =+K25+K29 -> 1488729.9 | L24: =+L25+L29 -> 1488729.9 | M24: =+M25+M29 -> 1488729.9
D25: 1049 - 21001 | E25: Պետական նշանակության ավտոճանապարհների հիմնանորոգում | J25: 1431144 | K25: 1431144 | L25: 1431144 | M25: 1431144
F26: Միջպետական, հանրապետական և մարզային նշանակության ավտոճոնապարհների քայքայված ծածկի վերանորոգում, մաշված ծածկի փոխարինում
G27: Հանրության կողմից անմիջականորեն օգտագործվող ակտիվների հետ կապված միջոցառումներ
H28: Միջոցառումն իրականացնողի անվանումը` Մասնագիտացված միավոր
D29: 1049 - 21002 | E29: Տրանսպորտային օբյեկտների հիմնանորոգում | J29: 57585.9 | K29: 57585.9 | L29: 57585.9 | M29: 57585.9
F30: Ավտոմոբիլային ճանապարհների վրա գտնվող կամուրջների հիմնանորոգում
G31: Հանրության կողմից անմիջականորեն օգտագործվող ակտիվների հետ կապված միջոցառումներ
H32: Միջոցառումն իրականացնողի անվանումը` Մասնագիտացված միավոր
B33: 1157 | C33: Քաղաքային զարգացում | J33: 310243.7 | K33: 310243.7 | L33: 310243.7 | M33: 310243.7
D34: 1157 - 21001 | E34: Երևանի մետրոպոլիտենի ենթակառուցվածքների նորոգում | J34: 310243.7 | K34: 310243.7 | L34: 310243.7 | M34: 310243.7
F35: Երևանի մետրոպոլիտենի ենթակառուցվածքների նորոգում
G36: Հանրության կողմից անմիջականորեն օգտագործվող ակտիվների հետ կապված միջոցառումներ
H37: Շահառուների ընտրության չափանիշները` ՀՀ բնակչություն
B38: 1163 | C38: Մասսայական սպորտ | J38: 250783 | K38: 501566 | L38: 501566 | M38: 501566
D39: 1163 - 12001 | E39: Աջակցություն համայնքներին մարզական հաստատությունների շենքային պայմանների բարելավման համար | J39: 250783 | K39: 501566 | L39: 501566 | M39: 501566
F40: Համայնքային ենթակայության մարզական հաստատությունների վերանորոգում և կառուցում
G41: Տրանսֆերտների տրամադրում
H42: Շահառուների ընտրության չափորոշիչները` ՀՀ համայնքների ենթակայության մարզական հաստատությունների շենքային պայմանների բարելավման անհրաժեշտությունը
B43: 1236 | C43: Հանրակրթական և նախադպրոցական հաստատությունների հիմնում, կառուցում, բարելավում | J43: =+J44 -> 45551.5 | K43: =+K44 -> 45551.5 | L43: =+L44 -> 45551.5 | M43: =+M44 -> 45551.5
D44: 1236 - 32002 | E44: Մանկապարտեզների շենքերի վերակառուցում, հիմնանորոգում | J44: 45551.5 | K44: 45551.5 | L44: 45551.5 | M44: 45551.5
F45: Նախադպրոցական կրթության հասանելիության ապահովման նպատակով՛ մանկապարտեզների շենքերի (մասնաշենքերի), վերակառուցում, հիմնանորոգում և նախագծում
G46: Այլ պետական կազմակերպությունների կողմից օգտագործվող ոչ ֆինանսական ակտիվների հետ գործառնություններ
H47: Շահառուների ընտրության չափորոշիչները` Նախադպրոցական կրթություն իրականացնող ուսումնական հաստատություններ
I48: Մանկապարտեզների քանակ, որտեղ կատարվում են բակի բարեկարգման աշխատանքներ, հատ | K48: 7 | M48: 7
A49: ՀՀ առողջապահության նախարարություն | J49: =+J50+J61 -> 2076170.7 | K49: =+K50+K61 -> 2076170.7 | L49: =+L50+L61 -> 2076170.7 | M49: =+M50+M61 -> 2076170.7
B50: 1126 | C50: Առողջապահության ոլորտում պետական քաղաքականության մշակում, ծրագրերի համակարգում և մոնիտորինգ | J50: =+J51+J56 -> 1381370.7 | K50: =+K51+K56 -> 1381370.7 | L50: =+L51+L56 -> 1381370.7 | M50: =+M51+M56 -> 1381370.7
D51: 1126 - 31002 | E51: Առողջապահական կազմակերպությունների վերազինում | J51: 105214.8 | K51: 105214.8 | L51: 105214.8 | M51: 105214.8
F52: Բնակչությանը որակյալ բժշկական օգնության և սպասարկման ծառայություններ մատուցելու նպատակով՛ առողջապահական կազմակերպությունների անհրաժեշտ սարքավորումներով վերազինում
G53: Պետական մարմինների կողմից օգտագործվող ոչ ֆինանսական ակտիվների հետ գործառնություններ
H54: Ակտիվն օգտագործող կազմակերպության անվանումը` Բժշկական կազմակերպություններ
D56: 1126 - 31003 | E56: Առողջապահական կազմակերպությունների կառուցում, վերակառուցում | J56: 1276155.9 | K56: 1276155.9 | L56: 1276155.9 | M56: 1276155.9
F57: Բնակչությանը որակյալ բժշկական օգնության և սպասարկման ծառայություններ մատուցելու նպատակով առողջապահական կազմակերպությունների կառուցում, վերակառուցում
G58: Պետական մարմինների կողմից օգտագործվող ոչ ֆինանսական ակտիվների հետ գործառնություններ
H59: Ակտիվն օգտագործող կազմակերպության անվանումը` Բժշկական կազմակերպություններ
I60: Նախագծահետազոտական ծախսեր | M60: 2
B61: 1235 | C61: Թվային փոխակերպման գործընթացի իրականացում | J61: 694800 | K61: 694800 | L61: 694800 | M61: 694800
D62: 1235 - 31001 | E62: Միասնական թվային միջավայրի ձևավորում | J62: 694800 | K62: 694800 | L62: 694800 | M62: 694800
F63: Թվային փոխակերպման գործընթացի շրջանակներում թվայնացման համակարգերի ներդրում և կայքերի արդիականացում
G64: Պետական մարմինների կողմից օգտագործվող ոչ ֆինանսական ակտիվների հետ գործառնություններ
H65: Ակտիվն օգտագործող կազմակերպության անվանումը` ՀՀ առողջապահության նախարարություն
I66: Սերվերային համակարգ | K66: 1 | M66: 1
A67: ՀՀ կրթության , գիտության, մշակույթի և սպորտի նախարարություն | J67: =+J68+J73+J83+J89+J94+J100+J106+J118+J128+J139+J144+J150 -> 1450102.8 | K67: =+K68+K73+K83+K89+K94+K100+K106+K118+K128+K139+K144+K150 -> 1746495.2 | L67: =+L68+L73+L83+L89+L94+L100+L106+L118+L128+L139+L144+L150 -> 1771495.2 | M67: =+M68+M73+M83+M89+M94+M100+M106+M118+M128+M139+M144+M150 -> 1771495.2
B68: 1041 | C68: Մեծ նվաճումների սպորտ | J68: 10806.8 | K68: 10806.8 | L68: 10806.8 | M68: 10806.8
D69: 1041 - 32001 | E69: Մանկապատանեկան մարզադպրոցներին, մարզաձևերի ազգային ֆեդերացիաներին և այլ մարզական կազմակերպություններին գույքով ապահովում | J69: 10806.8 | K69: 10806.8 | L69: 10806.8 | M69: 10806.8
F70: Սպորտի զարգացման նպատակով մարզադպրոցներին, ազգային ֆեդերացիաներին և այլ մարզական կազմակերպություններին մարզական և այլ անհրաժեշտ գույքի տրամադրում
G71: Այլ պետական կազմակերպությունների կողմից օգտագործվող ոչ ֆինանսական ակտիվների հետ գործառնություններ
H72: Ակտիվն օգտագործող կազմակերպության անվանումը` Մարզական կազմակերպություններ
B73: 1045 | C73: Մասնագիտական կրթության և ուսուցման ծրագիր | J73: =+J74+J78 -> 32237 | K73: =+K74+K78 -> 32237 | L73: =+L74+L78 -> 32237 | M73: =+M74+M78 -> 32237
D74: 1045 - 32001 | E74: Մասնագիտական ուսումնական հաստատությունների շենքային պայմանների բարելավում | J74: 237 | K74: 237 | L74: 237 | M74: 237
F75: Մասնագիտական ուսումնական հաստատությունների շենքերի հիմնանորոգման և նախագծման (շինարարական աշխատանքներ, ջեռուցման համակարգի ստեղծում, ներքին հարդարում, տարածքի բարեկարգում) աշխատանքների իրականացում
G76: Այլ պետական կազմակերպությունների կողմից օգտագործվող ոչ ֆինանսական ակտիվների հետ գործառնություններ
H77: Ակտիվն օգտագործող կազմակերպության անվանումը` Մասնագիտական ուսումնական հաստատություններ
D78: 1045 - 32005 | E78: Մասնագիտական ուսումնական հաստատությունների շենքերի կառուցում | J78: 32000 | K78: 32000 | L78: 32000 | M78: 32000
F79: Մասնագիտական ուսումնական հաստատությունների շենքերի (մասնաշենքերի) կառուցման և նախագծման աշխատանքների իրականացում
G80: Այլ պետական կազմակերպությունների կողմից օգտագործվող ոչ ֆինանսական ակտիվների հետ գործառնություններ
H81: Ակտիվն օգտագործող կազմակերպությունների անվանումները` Մասնագիտական ուսումնական հաստատություններ
I82: Նախագծանախահաշվային փաստաթղթերի քանակ, հատ | K82: 1 | M82: 1
B83: 1075 | C83: Մշակութային ժառանգության ծրագիր | J83: 47846.8 | K83: 47846.8 | L83: 47846.8 | M83: 47846.8
D84: 1075 - 21001 | E84: Հուշարձանների ամրակայում, նորոգում և վերականգնում | J84: 47846.8 | K84: 47846.8 | L84: 47846.8 | M84: 47846.8
F85: Հուշարձանների գիտանախագծային փաստաթղթերի կազմում, հրատապ ուսումնասիրում, վավերագրման և ուսումնասիրման աշխատանքներ, հետախուզում և հնագիտական պեղում, ամրակայում, նորոգում և վերականգնում
G86: Հանրության կողմից անմիջականորեն օգտագործվող ակտիվների հետ կապված միջոցառումներ
H87: Ծառայությունը մատուցող կազմակերպության անվանումը` Մասնագիտացված կազմակերպություններ
I88: Հուշարձանների ամրակայման, նորոգման և վերականգնման աշխատանքներ, քանակ | K88: 1 | M88: 1
B89: 1124 | C89: Գրահրատարակչության և գրադարանների ծրագիր | J89: 1039.2 | K89: 1039.2 | L89: 1039.2 | M89: 1039.2
D90: 1124 - 32001 | E90: Հանրային գրադարանների նյութատեխնիկական բազայի զարգացում | J90: 1039.2 | K90: 1039.2 | L90: 1039.2 | M90: 1039.2
F91: Հանրային գրադարանների նյութատեխնիկական բազայի զարգացում
G92: Այլ պետական կազմակերպությունների կողմից օգտագործվող ոչ ֆինանսական ակտիվների հետ գործառնություններ
H93: Ակտիվն օգտագործող կազմակերպության անվանումը` Հանրային գրադարաններ
B94: 1130 | C94: Կրթության, գիտության, մշակույթի և սպորտի բնագավառի պետական քաղաքականության մշակում, ծրագրերի համակարգում և մոնիտորինգ | J94: =+J95 -> 4462.9 | K94: =+K95 -> 4462.9 | L94: =+L95 -> 4462.9 | M94: =+M95 -> 4462.9
D95: 1130 - 31001 | E95: ՀՀ կրթության, գիտության, մշակույթի և սպորտի նախարարության կարողությունների զարգացում և տեխնիկական հագեցվածության ապահովում | J95: 4462.9 | K95: 4462.9 | L95: 4462.9 | M95: 4462.9
F96: ՀՀ կրթության, գիտության, մշակույթի և սպորտի նախարարության աշխատանքային պայմանների բարելավման համար վարչական սարքավորումների ձեռք բերում
G97: Պետական մարմինների կողմից օգտագործվող ոչ ֆինանսական ակտիվների հետ գործառնություններ
H98: Ակտիվն օգտագործող կազմակերպության անվանումը` ՀՀ կրթության, գիտության, մշակույթի և սպորտի նախարարություն
I99: Համակարգչային սարքավորումների քանակ, հատ | K99: 69 | M99: 69
B100: 1148 | C100: Արտադպրոցական դաստիարակության ծրագիր | J100: =+J101 -> 7708.5 | K100: =+K101 -> 7708.5 | L100: =+L101 -> 7708.5 | M100: =+M101 -> 7708.5
D101: 1148 - 32005 | E101: Արտադպրոցական դաստիարակություն իրականացնող կազմակերպությունների շենքային պայմանների բարելավում | J101: 7708.5 | K101: 7708.5 | L101: 7708.5 | M101: 7708.5
F102: Կառույցների տեխնիկական արողությունների և աշխատանքային միջավայրի բարելավում
G103: Այլ պետական կազմակերպությունների կողմից օգտագործվող ոչ ֆինանսական ակտիվների հետ գործառնություններ
...

Sheet N 11.
C1: Հավելված N 11
D2: ՀՀ կառավարության 2026 թվականի
D3: ______________ ի ___Ն որոշման
D5: հազար դրամներով
A6: ՀԱՅԱՍՏԱՆԻ ՀԱՆՐԱՊԵՏՈՒԹՅԱՆ ԿԱՌԱՎԱՐՈՒԹՅԱՆ 2025 ԹՎԱԿԱՆԻ ԴԵԿՏԵՄԲԵՐԻ 25-Ի N 1910-Ն N 8 ՀԱՎԵԼՎԱԾՈՒՄ ԿԱՏԱՐՎՈՂ ԼՐԱՑՈՒՄԸ
A10: Ծրագրային դասիչը | C10: Ծրագրերի, միջոցառումների անվանումները | D10: Ցուցանիշների փոփոխությունը (ավելացումները նշված են դրական նշանով)
A11: Ծրագիր | B11: Միջոցառում
C12: ԸՆԴԱՄԵՆԸ ԾԱԽՍԵՐ | D12: =+D14+D16 -> 351095.8
C13: այդ թվում՝
A14: 1072 | C14: Ջրամատակարարաման և ջրահեռացման բարելավում | D14: =+D15 -> 40852.1
B15: 31010 | C15: Ջրամատակարարման և ջրահեռացման համակարգի հիմնանորոգում | D15: 40852.1
A16: 1157 | C16: Քաղաքային զարգացում | D16: =+D17 -> 310243.7
B17: 21037 | C17: Երևան քաղաքի նախադպրոցական ուսումնական հաստատությունների կառուցման և հիմնանորոգման աշխատանքներ | D17: 310243.7

Sheet N 12
H1: Հավելված N 12
H3: ՀՀ կառավարության 2026 թվականի
H4: ______________ ի ___Ն որոշման
A7: ՀԱՅԱՍՏԱՆԻ ՀԱՆՐԱՊԵՏՈՒԹՅԱՆ ԿԱՌԱՎԱՐՈՒԹՅԱՆ 2025 ԹՎԱԿԱՆԻ ԴԵԿՏԵՄԲԵՐԻ 25-Ի N 1910-Ն N 10 ՀԱՎԵԼՎԱԾՈՒՄ ԿԱՏԱՐՎՈՂ ԼՐԱՑՈՒՄՆԵՐԸ
A11: Կոդը | B11: Անվանումը | E11: Գնման ձևը | F11: Չափման միավորը | G11: Միավորի գինը | H11: Քանակը | I11: Ցուցանիշների փոփոխությունները (ավելացումները նշված են դրական նշանով)
I12: (հազար դրամներով)
A13: ՀՀ Ազգային ժողով
A14: Բաժին N 01 | B14: Խումբ N 01 | C14: Դաս N 01 | D14: Օրենսդիր և գործադիր մարմիններ, պետական կառավարում
B15: ՄԱՍ I. ԱՊՐԱՆՔՆԵՐ | I15: =SUM(I16:I20) -> 16356.6
A16: 39111190 | B16: բազկաթոռներ | E16: ԷԱՃ | F16: հատ | G16: 154200 | H16: 4 | I16: =+G16*H16/1000 -> 616.8
A17: 39111190 | B17: բազկաթոռներ | E17: ԷԱՃ | F17: հատ | G17: 99360 | H17: 5 | I17: =+G17*H17/1000 -> 496.8
A18: 39111190 | B18: բազկաթոռներ | E18: ՀՄԱ | F18: հատ | G18: 131560 | H18: 30 | I18: =+G18*H18/1000 -> 3946.8
A19: 39111190 | B19: բազկաթոռներ | E19: ՀՄԱ | F19: հատ | G19: 131560 | H19: 30 | I19: =+G19*H19/1000 -> 3946.8
A20: 39111190 | B20: բազկաթոռներ | E20: ՀՄԱ | F20: հատ | G20: 81660 | H20: 90 | I20: =+G20*H20/1000 -> 7349.4
A22: ՀՀ տարածքային կառավարման և ենթակառուցվածքների նախարարություն
A23: Բաժին N 04 | B23: Խումբ N 05 | C23: Դաս N 01 | D23: Ճանապարհային տրանսպորտ
A24: 1049 21001 | B24: Պետական նշանակության ավտոճանապարհների հիմնանորոգում
B25: ՄԱՍ III. ԾԱՌԱՅՈՒԹՅՈՒՆՆԵՐ | I25: =I26+I27+I28+I29+I30+I31+I32+I33 -> 6515.936
A26: 71351540/ | B26: տեխնիկական հսկողության ծառայություններ | E26: ՀԲՄ | F26: դրամ | G26: 2760000 | H26: 1 | I26: =+H26*G26/1000 -> 2760
A27: 71351540/ | B27: տեխնիկական հսկողության ծառայություններ | E27: ՀԲՄ | F27: դրամ | G27: 270000 | H27: 1 | I27: =+H27*G27/1000 -> 270
A28: 71351540/ | B28: տեխնիկական հսկողության ծառայություններ | E28: ՀԲՄ | F28: դրամ | G28: 2134636 | H28: 1 | I28: =+H28*G28/1000 -> 2134.636
A29: 71351540/ | B29: տեխնիկական հսկողության ծառայություններ | E29: ԲՄ | F29: դրամ | G29: 215000 | H29: 1 | I29: =+H29*G29/1000 -> 215
A30: 98111140/ | B30: հեղինակային հսկողության ծառայություններ | E30: ՄԱ | F30: դրամ | G30: 158200 | H30: 1 | I30: =+H30*G30/1000 -> 158.2
A31: 98111140/ | B31: հեղինակային հսկողության ծառայություններ | E31: ՄԱ | F31: դրամ | G31: 259100 | H31: 1 | I31: =+H31*G31/1000 -> 259.1
A32: 98111140/ | B32: հեղինակային հսկողության ծառայություններ | E32: ՄԱ | F32: դրամ | G32: 589000 | H32: 1 | I32: =+H32*G32/1000 -> 589
A33: 98111140/ | B33: հեղինակային հսկողության ծառայություններ | E33: ՄԱ | F33: դրամ | G33: 130000 | H33: 1 | I33: =+H33*G33/1000 -> 130
A35: ՀՀ առողջապահության նախարարություն | I35: =+I36 -> 1381370.8
A36: Բաժին 07 | B36: Խումբ 06 | C36: Դաս 02 | D36: Առողջապահություն (այլ դասերին չպատկանող) | I36: =+I37+I43 -> 1381370.8
A37: 1126 31002 | B37: Առողջապահական կազմակերպությունների վերազինում | I37: =+I38 -> 105214.79
B38: ՄԱՍ I. ԱՊՐԱՆՔՆԵՐ | I38: =SUM(I39:I42) -> 105214.79
A39: 33121140 | B39: լսողության չափման սարքեր | E39: ԷԱՃ | F39: հատ | G39: 3468000 | H39: 1 | I39: =G39*H39/1000 -> 3468
A40: 33191120 | B40: բժշկական կահույք | E40: ԷԱՃ | F40: հատ | G40: 156452.8 | H40: 15 | I40: =G40*H40/1000 -> 2346.792
A41: 33111330 | B41: ռենտգեն ախտորոշման համակարգ | E41: ԷԱՃ | F41: հատ | G41: 15500000 | H41: 2 | I41: =G41*H41/1000 -> 31000
A42: 33121260 | B42: ուլտրաձայնային ախտորոշման սարքեր | E42: ԷԱՃ | F42: հատ | G42: 68400000 | H42: 1 | I42: =+G42*H42/1000 -> 68400
A43: 1126 31003 | B43: Առողջապահական կազմակերպությունների կառուցում, վերակառուցում | I43: =+I44+I67 -> 1276156
B44: ՄԱՍ II. ԱՇԽԱՏԱՆՔՆԵՐ | I44: =SUM(I45:I66) -> 1251720.8
A45: 45211250 | B45: առողջապահության հետ կապված շենքերի կառուցման աշխատանքներ | E45: ԳՀ | F45: դրամ | G45: 1507628 | H45: 1 | I45: 1507.628
A46: 45211250/509 | B46: առողջապահության հետ կապված շենքերի կառուցման աշխատանքներ | E46: ՀԲՄ | F46: դրամ | I46: 58422.329
A47: 45211250/504 | B47: առողջապահության հետ կապված շենքերի կառուցման աշխատանքներ | E47: ՀԲՄ | F47: դրամ | I47: 58328.4
A48: 45211250/505 | B48: առողջապահության հետ կապված շենքերի կառուցման աշխատանքներ | E48: ՀԲՄ | F48: դրամ | I48: 60134.854
A49: 45211250/506 | B49: առողջապահության հետ կապված շենքերի կառուցման աշխատանքներ | E49: ՀԲՄ | F49: դրամ | I49: 52859
A50: 45211250/507 | B50: առողջապահության հետ կապված շենքերի կառուցման աշխատանքներ | E50: ՀԲՄ | F50: դրամ | I50: 58374.629
A51: 45211250/508 | B51: առողջապահության հետ կապված շենքերի կառուցման աշխատանքներ | E51: ՀԲՄ | F51: դրամ | I51: 58374.629
A52: 45211250/510 | B52: առողջապահության հետ կապված շենքերի կառուցման աշխատանքներ | E52: ՀԲՄ | F52: դրամ | I52: 52680
A53: 45211250/511 | B53: առողջապահության հետ կապված շենքերի կառուցման աշխատանքներ | E53: ՀԲՄ | F53: դրամ | I53: 52680
A54: 45211250/512 | B54: առողջապահության հետ կապված շենքերի կառուցման աշխատանքներ | E54: ՀԲՄ | F54: դրամ | I54: 52680
A55: 45211250/516 | B55: առողջապահության հետ կապված շենքերի կառուցման աշխատանքներ | E55: ՀԲՄ | F55: դրամ | I55: 56836.7
A56: 45211250/517 | B56: առողջապահության հետ կապված շենքերի կառուցման աշխատանքներ | E56: ՀԲՄ | F56: դրամ | I56: 47821.6
A57: 445211250/521 | B57: առողջապահության հետ կապված շենքերի կառուցման աշխատանքներ | E57: ՀԲՄ | F57: դրամ | I57: 83496.366
... A66: 45451700/3 | B66: վերակառուցման աշխատանքներ | E66: ԲՄ | F66: դրամ | I66: 75492.337
B67: ՄԱՍ III. ԾԱՌԱՅՈՒԹՅՈՒՆՆԵՐ | I67: =SUM(I68:I75) -> 24435.209
A68: 71241200 | B68: նախագծերի պատրաստում, ծախսերի գնահատում | E68: ԳՀ | F68: դրամ | G68: 2256000 | H68: 1 | I68: =+G68*H68/1000 -> 2256
A69: 71241200 | B69: նախագծերի պատրաստում, ծախսերի գնահատում | E69: ԳՀ | F69: դրամ | G69: 9240000 | H69: 1 | I69: =+G69*H69/1000 -> 9240
A70: 71351540 | B70: տեխնիկական հսկողության ծառայություններ | E70: ԳՀ | F70: դրամ | G70: 64000 | H70: 1 | I70: =+G70*H70/1000 -> 64
A71: 71351540/1 | B71: տեխնիկական հսկողության ծառայություններ | E71: ԳՀ | F71: դրամ | I71: 5035.938
A72: 71351540/3 | B72: տեխնիկական հսկողության ծառայություններ | E72: ԳՀ | F72: դրամ | I72: 4524.515
A73: 98111140 | B73: հեղինակային հսկողության ծառայություններ | E73: ՄԱ | F73: դրամ | G73: 8560 | H73: 1 | I73: =+G73*H73/1000 -> 8.56
A74: 98111140/1 | B74: հեղինակային հսկողության ծառայություններ | E74: ՄԱ | F74: դրամ | I74: 1291.4
A75: 98111140/2 | B75: հեղինակային հսկողության ծառայություններ | E75: ՄԱ | F75: դրամ | I75: 2014.796
B76: Բաժին N 01 Խումբ N 03 Դաս N 02 Ծրագրման և վիճակագրական ընդհանուր ծառայություններ
A77: 1235 - 31001 | B77: Միասնական թվային միջավայրի ձևավորում | I77: =I78 -> 694800
B78: ՄԱՍ III. ԾԱՌԱՅՈՒԹՅՈՒՆՆԵՐ | G78: =SUM(I79:I79) -> 694800 | I78: =I79 -> 694800
A79: 48821200 | B79: համակարգչային սերվերներ | E79: ՀԲՄ | F79: դրամ | G79: 694800000 | H79: 1 | I79: =H79*G79/1000 -> 694800
A81: ՀՀ կրթության, գիտության, մշակույթի և սպորտի նախարարություն | I81: =+I82+I92+I96+I101+I111+I123+I140+I147+I152+I179 -> 1401745.6
A82: Բաժին N 08 | B82: Խումբ N 01 | C82: Դաս N 01 | D82: Հանգստի և սպորտի ծառայություններ | I82: =+I83 -> 10806.9
A83: 1041-32001 | B83: Մանկապատանեկան մարզադպրոցներին, մարզաձևերի ազգային ֆեդերացիաներին և այլ մարզական կազմակերպություններին գույքով ապահովում | I83: =+I84 -> 10806.9
B84: ՄԱՍ I. ԱՊՐԱՆՔՆԵՐ | I84: =SUM(I85:I91) -> 10806.9
A85: 37421300 | B85: մարմնամարզական ներքնակներ | E85: ԷԱՃ | F85: հատ | G85: 15230.76 | H85: 26 | I85: =+ROUNDUP(G85*H85/1000,1) -> 396
A86: 37431270 | B86: մարզագունդ (հանտել) | E86: ԷԱՃ | F86: հատ | G86: 119000 | H86: 1 | I86: =+ROUNDUP(G86*H86/1000,1) -> 119
A87: 37451620 | B87: նիզակներ նետման համար | E87: ԷԱՃ | F87: հատ | G87: 37200 | H87: 5 | I87: =+ROUNDUP(G87*H87/1000,1) -> 186
A88: 37451620 | B88: նիզակներ նետման համար | E88: ԷԱՃ | F88: հատ | G88: 37200 | H88: 5 | I88: =+ROUNDUP(G88*H88/1000,1) -> 186
A89: 37421131 | B89: ձյուդոյի տատամի | E89: ԷԱՃ | F89: հատ | G89: 4074576 | H89: 2 | I89: =+ROUNDUP(G89*H89/1000,1) -> 8149.2
A90: 37431282 | B90: ծանրաձողեր | E90: ԷԱՃ | F90: հատ | G90: 318132 | H90: 5 | I90: =+ROUNDUP(G90*H90/1000,1) -> 1590.7
A91: 33191180 | B91: բժշկական թախտեր | E91: ԷԱՃ | F91: հատ | G91: 89999.4 | H91: 2 | I91: =+ROUNDUP(G91*H91/1000,1) -> 180
A92: Բաժին N 08 | B92: Խումբ N 02 | C92: Դաս N 01 | D92: Գրադարաններ | I92: =+I93 -> 1039.3
A93: 1124-32001 | B93: Հանրային գրադարանների նյութատեխնիկական բազայի զարգացում | I93: =+I94 -> 1039.3
B94: ՄԱՍ I. ԱՊՐԱՆՔՆԵՐ | I94: =SUM(I95:I95) -> 1039.3
A95: 30191200 | B95: կռունկաձ―պրոեկտոր | E95: ԷԱՃ | F95: հատ | G95: 259811.1 | H95: 4 | I95: =+ROUNDUP(G95*H95/1000,1) -> 1039.3
A96: Բաժին N 08 | B96: Խումբ N 02 | C96: Դաս N 03 | D96: Մշակույթի տներ, ակումբներ, կենտրոններ | I96: =+I97 -> 18157.6
A97: 1196-12002 | B97: Համայնքային մշակութային-ժամանցային կենտրոնի ստեղծում | I97: =+I98 -> 18157.6
B98: ՄԱՍ III. ԾԱՌԱՅՈՒԹՅՈՒՆՆԵՐ | I98: =SUM(I99:I100) -> 18157.6
A99: 71241200 | B99: նախագծերի պատրաստում, ծախսերի գնահատում | E99: ԳՀ | F99: դրամ | G99: 16685150 | H99: 1 | I99: =+ROUNDUP(G99*H99/1000,1) -> 16685.2
A100: 50531140 | B100: փորձաքննության ծառայություններ | E100: ԳՀ | F100: դրամ | G100: 1472400 | H100: 1 | I100: =+ROUNDUP(G100*H100/1000,1) -> 1472.4
A101: Բաժին N 08 | B101: Խումբ N 02 | C101: Դաս N 05 | D101: Արվեստ | I101: =+I102+I106 -> 131710.9
A102: 1168-32001 | B102: Ներդրումներ թատրոնների և համերգային կազմակերպությունների շենքերի կապիտալ վերանորոգման համար | I102: =+I103 -> 2547
B103: ՄԱՍ III. ԾԱՌԱՅՈՒԹՅՈՒՆՆԵՐ | I103: =SUM(I104:I105) -> 2547
A104: 71351540 | B104: տեխնիկական հսկողության ծառայություններ | E104: ԳՀ | F104: դրամ | G104: 1800000 | H104: 1 | I104: =+ROUNDUP(G104*H104/1000,1) -> 1800
A105: 98111140 | B105: հեղինակային հսկողության ծառայություններ | E105: ՄԱ | F105: դրամ | G105: 747000 | H105: 1 | I105: =+ROUNDUP(G105*H105/1000,1) -> 747
A106: 1168-32007 | B106: Թատերահամերգային կազմակերպությունների նյութատեխնիկական բազայի համալրում | I106: =+I107 -> 129163.9
B107: ՄԱՍ I. ԱՊՐԱՆՔՆԵՐ | I107: =SUM(I108:I110) -> 129163.9
A108: 31521700 | B108: թատրոնի բեմի լուսային համակարգ | E108: ԳՀ | F108: լրակազմ | G108: 35496000 | H108: 1 | I108: =+ROUNDUP(G108*H108/1000,1) -> 35496
A109: 30211200 | B109: դյուրակիր համակարգիչներ | E109: ԷԱՃ | F109: հատ | G109: 445920 | H109: 1 | I109: =+ROUNDUP(G109*H109/1000,1) -> 446
A110: 31521700 | B110: թատրոնի բեմի լուսային համակարգ | E110: ԲՄ | F110: լրակազմ | G110: 93221897 | H110: 1 | I110: =+ROUNDUP(G110*H110/1000,1) -> 93221.9
A111: Բաժին N 08 | B111: Խումբ N 02 | C111: Դաս N 07 | D111: Հուշարձանների և մշակութային արժեքների վերականգնում և պահպանում | I111: =+I112 -> 47846.8
A112: 1075-21001 | B112: Հուշարձանների ամրակայում, նորոգում և վերականգնում | I112: =+I113+I120 -> 47846.8
B113: ՄԱՍ II. ԱՇԽԱՏԱՆՔՆԵՐ | I113: =SUM(I114:I119) -> 39326.8
A114: 45451600-1 | B114: վերականգնողական աշխատանքներ | E114: ԲՄ | F114: դրամ | I114: 18820.9
A115: 45451600-2 | B115: վերականգնողական աշխատանքներ | E115: ԲՄ | F115: դրամ | I115: 3019.5
A116: 45451600-5 | B116: վերականգնողական աշխատանքներ | E116: ՀԲՄ | F116: դրամ | I116: 1906.6
A117: 45451600-7 | B117: վերականգնողական աշխատանքներ | E117: ԲՄ | F117: դրամ | I117: 2305.5
...

Sheet Sheet1

Sheet 0
