Workbook
Name _1__հայտարարվել_է_նախ_մրցույթ: #REF!
Name AgencyCode: #REF!
Name AgencyName: #REF!
Name åû: #REF!
Name davit: #REF!
Name Functional1: #REF!
Name ggg: #REF!
Name hav: #REF!
Name mas: #REF!
Name mass: #REF!
Name PANature: #REF!
Name PAType: #REF!
Name Performance2: #REF!
Name PerformanceType: #REF!
Name x: #REF!
Name Հավելված: #REF!
Name Մաս: #REF!
Name շախմատիստ: #REF!
Name վֆյգյգ: #REF!

Sheet N 1.
B1: Հավելված N 1
C2: ՀՀ կառավարության 2026 թվականի
C3: -----------------ի N -----------Ն որոշման
A4: «ՀԱՅԱՍՏԱՆԻ ՀԱՆՐԱՊԵՏՈՒԹՅԱՆ 2026 ԹՎԱԿԱՆԻ ՊԵՏԱԿԱՆ ԲՅՈՒՋԵԻ ՄԱՍԻՆ» ՀԱՅԱՍՏԱՆԻ ՀԱՆՐԱՊԵՏՈՒԹՅԱՆ ՕՐԵՆՔԻ 2-ՐԴ ՀՈԴՎԱԾԻ ԱՂՅՈՒՍԱԿՈՒՄ ԿԱՏԱՐՎՈՂ ՓՈՓՈԽՈՒԹՅՈՒՆՆԵՐԸ ԵՎ ԼՐԱՑՈՒՄՆԵՐԸ
B5: (հազար դրամներով)
B6: Ցուցանիշների փոփոխությունները ավելացումները նշված են դրական նշանով
A7: Եկամուտների գծով | B7: 0
A8: Ծախսերի գծով | B8: =+N3.!J10 -> 11015854
A9: Դեֆիցիտը (պակասուրդը) | B9: =+N2.!E11 -> 11015854

Sheet N2.
E1: Հավելված N 2
E2: Աղյուսակ N 1
E3: ՀՀ կառավարության 2026 թվականի
E4: -----------------ի N -----------Ն որոշման
A6: «ՀԱՅԱՍՏԱՆԻ ՀԱՆՐԱՊԵՏՈՒԹՅԱՆ 2026 ԹՎԱԿԱՆԻ ՊԵՏԱԿԱՆ ԲՅՈՒՋԵԻ ՄԱՍԻՆ» ՀԱՅԱՍՏԱՆԻ ՀԱՆՐԱՊԵՏՈՒԹՅԱՆ ՕՐԵՆՔԻ 3-ՐԴ ՀՈԴՎԱԾԻ ԱՂՅՈՒՍԱԿՈՒՄ, N 3 ՀԱՎԵԼՎԱԾԻ N 1 ԱՂՅՈՒՍԱԿՈՒՄ ԵՎ ՀԱՅԱՍՏԱՆԻ ՀԱՆՐԱՊԵՏՈՒԹՅԱՆ ԿԱՌԱՎԱՐՈՒԹՅԱՆ 2025 ԹՎԱԿԱՆԻ ԴԵԿՏԵՄԲԵՐԻ 25-Ի N 1910-Ն ՈՐՈՇՄԱՆ N 1 ՀԱՎԵԼՎԱԾԻ N 1 ԱՂՅՈՒՍԱԿՈՒՄ ԿԱՏԱՐՎՈՂ ՓՈՓՈԽՈՒԹՅՈՒՆՆԵՐԸ ԵՎ ԼՐԱՑՈՒՄՆԵՐԸ
E8: հազար դրամներով
A9: Պետական բյուջեի դեֆիցիտի ֆինանսավորման աղբյուրներն ու դրանց տարրերի անվանումները | B9: Ցուցանիշների փոփոխությունները ավելացումները նշված են դրական նշանով, իսկ նվազեցումները՝ փակագծերում
B10: Առաջին եռամսյակ | C10: Առաջին կիսամյակ | D10: Ինն ամիս | E10: Տարի
A11: ԸՆԴԱՄԵՆԸ | B11: =B13+B52 -> 8857443.6 | C11: =C13+C52 -> 10484882 | D11: =D13+D52 -> 10722643 | E11: =E13+E52 -> 11015854
A12: այդ թվում՝
A13: Ա.Ներքին աղբյուրներ-ընդամենը | B13: =+B15+B21 -> 66239944 | C13: =C15+C21 -> 10484882 | D13: =D15+D21 -> 10722643 | E13: =E15+E21 -> 49270854
A14: այդ թվում՝
A15: 1. Փոխառու զուտ միջոցներ | B15: =B17 -> 0 | C15: =C17 -> 0 | D15: =D17 -> 0 | E15: =E17 -> -16744950
A16: այդ թվում՝
A17: 1.1. Արժեթղթերի (բացառությամբ բաժնետոմսերի և կապիտալում այլ մասնակցության) թողարկումից և տեղաբաշխումից զուտ մուտքեր | B17: =B18 -> 0 | C17: =C18 -> 0 | D17: =D18 -> 0 | E17: =E18 -> -16744950
A18: ՀՀ ֆինանսների նախարարություն | B18: =B20 -> 0 | C18: =C20 -> 0 | D18: =D20 -> 0 | E18: =E20 -> -16744950
A19: որից`
A20: գանձապետական պարտատոմսեր | E20: -16744950
A21: 2. Ֆինանսական զուտ ակտիվներ | B21: =B23+B24+B28+B49 -> 66239944 | C21: =C23+C24+C28+C49 -> 10484882 | D21: =D23+D24+D28+D49 -> 10722643 | E21: =E23+E24+E28+E49 -> 66015804
A22: այդ թվում՝
A23: 2.3. Ելքերի ֆինանսավորմանն ուղղվող պետական բյուջեի տարեսկզբի ազատ մնացորդի միջոցներ | B23: =+N3.!G10 -> 8857443.6 | C23: =+N3.!H10 -> 10484882 | D23: =+N3.!I10 -> 10722643 | E23: =+N3.!J10 -> 11015854
A24: 2.4. Վարկերի և փոխատվությունների տրամադրում | B24: =B26+B27 -> 0 | C24: =C26+C27 -> 0 | D24: =D26+D27 -> 0 | E24: =E26+E27 -> 0
A25: որից`
A26: - արտաքին աղբյուրների աջակցությամբ իրականացվող նպատակային ծրագրերի շրջանակներում ենթավարկերի տրամադրում այդ ծրագրերում ներգրաված տնտեսվարող սուբյեկտներին
A27: - բյուջետային վարկերի տրամադրում տնտեսվարող սուբյեկտներին
A28: 2.5. Տրամադրված վարկերի և փոխատվությունների վերադարձից մուտքեր | B28: =SUM(B29:B48) -> 0 | C28: =SUM(C29:C48) -> 0 | D28: =SUM(D29:D48) -> 0 | E28: =SUM(E29:E48) -> 0
A29: «Հայկական ատոմակայան» ՓԲԸ
A30: «Բարձրավոլտ էլեկտրական ցանցեր» ՓԲԸ
A31: «Երևանի Ջերմաէլեկտրակենտրոն» ՓԲԸ
A32: ՀՀ կենտրոնական բանկից
A33: «ՔոնթուրԳլոբալ Հիդրո Կասկադ» ՓԲԸ-
A34: «Դի ընդ Էյջ Գրուպ» ՍՊԸ
A35: «Երևանի ավտոբուսներ» ՓԲԸ
A36: «Էլեկտրաէներգետիկական համակարգի օպերատոր» ՓԲԸ
A37: «Հայաստանի էլեկտրական ցանցեր» ՓԲԸ
A38: «Կարեն Դեմիրճյանի անվան մետրոպոլիտեն» ՓԲԸ
A39: «Միջազգային էներգետիկ կորպորացիա» ՓԲԸ
A40: Գյուղական ֆինանսավորման կառույց
... A48: Այլ
A49: 2.6.Այլ | B49: =B50+B51 -> 57382500 | C49: =C50+C51 -> 0 | D49: =D50+D51 -> 0 | E49: =E50+E51 -> 54999950
...

Sheet N2.2
J1: Հավելված N 2
J2: Աղյուսակ N 2
J3: ՀՀ կառավարության 2026 թվականի
J4: -----------------ի N -----------Ն որոշման
A5: «ՀԱՅԱՍՏԱՆԻ ՀԱՆՐԱՊԵՏՈՒԹՅԱՆ 2026 ԹՎԱԿԱՆԻ ՊԵՏԱԿԱՆ ԲՅՈՒՋԵԻ ՄԱՍԻՆ» ՕՐԵՆՔԻ N 3 ՀԱՎԵԼՎԱԾԻ N 1.1 ԱՂՅՈՒՍԱԿՈՒՄ ԵՎ ՀԱՅԱՍՏԱՆԻ ՀԱՆՐԱՊԵՏՈՒԹՅԱՆ ԿԱՌԱՎԱՐՈՒԹՅԱՆ 2025 ԹՎԱԿԱՆԻ ԴԵԿՏԵՄԲԵՐԻ 25-Ի N 1910-Ն N 1 ՀԱՎԵԼՎԱԾԻ N 2 ԱՂՅՈՒՍԱԿՈՒՄ ԿԱՏԱՐՎՈՂ ՓՈՓՈԽՈՒԹՅՈՒՆՆԵՐԸ ԵՎ ԼՐԱՑՈՒՄՆԵՐԸ
J6: հազար դրամներով
A7: ԲԳԿ | B7: Ծրագրային դասիչը | D7: ԲԳԿ/Ծրագրի /միջոցառման անվանումը | E7: Ծրագրի նպատակը/Միջոցառման նկարագրույունը | F7: Վերջնական արդյունքի նկարագրությունը/Միջոցառման տեսակը | G7: Ցուցանիշների փոփոխությունները ավելացումները նշված են դրական նշանով իսկ նվազեցումները՝ փակագծերում
G8: Առաջին եռամսյակ | H8: Առաջին կիսամյակ | I8: Ինն ամիս | J8: Տարի
B9: Ծրագիր | C9: Միջոցառում
A10: ԸՆԴԱՄԵՆԸ | G10: =+G12 -> -54999950 | H10: =+H12 -> -54999950 | I10: =+I12 -> -54999950 | J10: =+J12 -> -54999950
A11: ՀՀ ֆինանսների նախարարություն
B12: 1211 | D12: Ֆինանսական պարտավորությունների կատարման ծրագիր | E12: Պետական ֆինանսական պարտավորությունների կատարման ապահովում | F12: Պետական ֆինանսական պարտավորությունների պատշաճ կատարում | G12: =+G13 -> -54999950 | H12: =+H13 -> -54999950 | I12: =+I13 -> -54999950 | J12: =+J13 -> -54999950
C13: 1211-47001 | D13: Կայունացման դեպոզիտային հաշվի համալրում | E13: Կայունացման դեպոզիտային հաշվի համալրում | G13: =+-N2.!B50 -> -54999950 | H13: =+-N2.!C50 -> -54999950 | I13: =+-N2.!D50 -> -54999950 | J13: =+-N2.!E50 -> -54999950

Sheet 2.3
M1: Հավելված N 2
M2: Աղյուսակ N 3
M3: ՀՀ կառավարության 2026 թվականի
M4: -----------------ի N -----------Ն որոշման
A5: ՀԱՅԱՍՏԱՆԻ ՀԱՆՐԱՊԵՏՈՒԹՅԱՆ ԿԱՌԱՎԱՐՈՒԹՅԱՆ 2025 ԹՎԱԿԱՆԻ ԴԵԿՏԵՄԲԵՐԻ 25-Ի N 1910-Ն ՈՐՈՇՄԱՆ N 1 ՀԱՎԵԼՎԱԾՈՒՄ N 5 ԱՂՅՈՒՍԱԿԻ ՓՈՓՈԽՈՒԹՅՈՒՆՆԵՐԸ ԵՎ ԼՐԱՑՈՒՄՆԵՐԸ
M6: հազար դրամներով
A7: ԲԳԿ | B7: Ծրագիր | D7: Միջոցառում | H7: Իրականացնողը/ակտիվն օգտագործողը/ շահառուի ընտրության չափորոշիչը | I7: Արդյունքային չափորոշիչը | J7: Ցուցանիշների փոփոխությունը (ավելացումները նշված են դրական նշանով)
B8: Դասիչը | C8: Անվանումը | D8: Դասիչը | E8: Անվանումը | F8: Նկարագրու-թյունը | G8: Տեսակը | J8: Առաջին եռամսյակ | K8: Առաջին կիսամյակ | L8: Ինն ամիս | M8: Տարի
A9: ԸՆԴԱՄԵՆԸ | J9: =+J10 -> -54999950 | K9: =+K10 -> -54999950 | L9: =+L10 -> -54999950 | M9: =+M10 -> -54999950
A10: ՀՀ ֆինանսների նախարարություն | J10: =+J11 -> -54999950 | K10: =+K11 -> -54999950 | L10: =+L11 -> -54999950 | M10: =+M11 -> -54999950
B11: 1211 | C11: Ֆինանսական պարտավորությունների կատարում | J11: =+J12 -> -54999950 | K11: =+K12 -> -54999950 | L11: =+L12 -> -54999950 | M11: =+M12 -> -54999950
D12: 1211-47001 | E12: Կայունացման դեպոզիտային հաշվի համալրում | J12: =+N2.2!G13 -> -54999950 | K12: =+N2.2!H13 -> -54999950 | L12: =+N2.2!I13 -> -54999950 | M12: =+N2.2!J13 -> -54999950
F13: Կայունացման դեպոզիտային հաշվի համալրում
H15: ՀՀ ֆինանսների նախարարություն

Sheet N3.
J1: Հավելված N 3
B6: «ՀԱՅԱՍՏԱՆԻ ՀԱՆՐԱՊԵՏՈՒԹՅԱՆ 2026 ԹՎԱԿԱՆԻ ՊԵՏԱԿԱՆ ԲՅՈՒՋԵԻ ՄԱՍԻՆ» ՀԱՅԱՍՏԱՆԻ ՀԱՆՐԱՊԵՏՈՒԹՅԱՆ ՕՐԵՆՔԻ N 1 ՀԱՎԵԼՎԱԾԻ N 2 ԱՂՅՈՒՍԱԿՈՒՄ ԿԱՏԱՐՎՈՂ ՎԵՐԱԲԱՇԽՈՒՄԸ ԵՎ ՀԱՅԱՍՏԱՆԻ ՀԱՆՐԱՊԵՏՈՒԹՅԱՆ ԿԱՌԱՎԱՐՈՒԹՅԱՆ 2025 ԹՎԱԿԱՆԻ ԴԵԿՏԵՄԲԵՐԻ 25-Ի N 1910-Ն ՈՐՈՇՄԱՆ N 5 ՀԱՎԵԼՎԱԾԻ N 1 ԱՂՅՈՒՍԱԿՈՒՄ ԿԱՏԱՐՎՈՂ ՓՈՓՈԽՈՒԹՅՈՒՆՆԵՐԸ ԵՎ ԼՐԱՑՈՒՄՆԵՐԸ
J7: հազար դրամներով
A8: ԲԳԿ | B8: Ծրագրային դասիչը | D8: ԲԳԿ/Ծրագրի /միջոցառման անվանումը | E8: Ծրագրի նպատակը/Միջոցառման նկարագրությունը | F8: Վերջնական արդյունքի նկարագրությունը/Միջոցառման տեսակը | G8: Ցուցանիշների փոփոխությունները ավելացումները նշված են դրական նշանով, իսկ նվազեցումները՝ փակագծերում
B9: Ծրագիր | C9: Միջոցառում | G9: Առաջին եռամսյակ | H9: Առաջին կիսամյակ | I9: Ինն ամիս | J9: Տարի
A10: ԸՆԴԱՄԵՆԸ | G10: =+G11+G14+G32+G36+G40+G44+G83+G88+G95+G99+G104+G108 -> 8857443.6 | H10: =+H11+H14+H32+H36+H40+H44+H83+H88+H95+H99+H104+H108 -> 10484882 | I10: =+I11+I14+I32+I36+I40+I44+I83+I88+I95+I99+I104+I108 -> 10722643 | J10: =+J11+J14+J32+J36+J40+J44+J83+J88+J95+J99+J104+J108 -> 11015854
A11: ՀՀ Ազգային ժողով | G11: 16356.6 | H11: 16356.6 | I11: 16356.6 | J11: 16356.6
B12: 1024 | D12: ՀՀ Ազգային ժողովի լիազորությունների իրականացման ապահովում | E12: Օրենսդրական դաշտի ձևավորում և կատարելագործում | F12: Արդյունավետ օրենսդրական դաշտի ապահովում | G12: 16356.6 | H12: 16356.6 | I12: 16356.6 | J12: 16356.6
C13: 1024 - 31001 | D13: Ազգային ժողովի տեխնիկական հագեցվածության բարելավում | E13: Ազգային ժողովի աշխատակազմի աշխատանքային պայմանների բարելավման համար վարչական սարքավորումների ձեռքբերում | F13: Պետական մարմինների կողմից օգտագործվող ոչ ֆինանսական ակտիվների հետ գործառնություններ | G13: 16356.6 | H13: 16356.6 | I13: 16356.6 | J13: 16356.6
A14: ՀՀ տարածքային կառավարման և ենթակառուցվածքների նախարարություն | G14: 2010433.6 | H14: 2655415.2 | I14: 2655415.2 | J14: 2911873.6
B15: 1004 | D15: Ոռոգման համակարգի առողջացում | E15: Ոռոգման ծառայությունների հասանելիության և մատչելիության ապահովում | F15: Ոռոգման ջրի մատակարարման արդյունավետության և հասանելիության բարելավում, կորուստների կրճատում | G15: 35218.1 | H15: 270766.9 | I15: 270766.9 | J15: 270766.9
C16: 1004 - 31002 | D16: Ոռոգման համակարգերի հիմնանորոգում | E16: Ոռոգման համակարգերի հիմնանորոգում | F16: Պետական մարմինների կողմից օգտագործվող ոչ ֆինանսական ակտիվների հետ գործառնություններ | G16: 0 | H16: 235548.8 | I16: 235548.8 | J16: 235548.8
C17: 1004 - 31009 | D17: Օրվա կարգավորման ջրավազանների կառուցում և վերակառուցում | E17: Օրվա կարգավորման ջրավազանների կառուցման և վերակառուցման համար նախագծերի և աշխատանքների ձեռք բերում | F17: Պետական մարմինների կողմից օգտագործվող ոչ ֆինանսական ակտիվների հետ գործառնություններ | G17: 35218.1 | H17: 35218.1 | I17: 35218.1 | J17: 35218.1
B18: 1049 | D18: Ճանապարհային ցանցի բարելավում | E18: Ճանապարհային ցանցի բարելավում և անվտանգ երթևեկության ապահովում | F18: Ճանապարհների ծածկի որակի և փոխադրումների արդյունավետության բարելավում, ճանապարհների վիճակով պայմանավորված պատահարների նվազում | G18: 1539321.9 | H18: 1539321.9 | I18: 1539321.9 | J18: 1539321.9
C19: 1049 - 21001 | D19: Պետական նշանակության ավտոճանապարհների հիմնանորոգում | E19: Միջպետական, հանրապետական և մարզային նշանակության ավտոճոնապարհների քայքայված ծածկի վերանորոգում, մաշված ծածկի փոխարինում | F19: Հանրության կողմից անմիջականորեն օգտագործվող ակտիվների հետ կապված միջոցառումներ | G19: 1481736 | H19: 1481736 | I19: 1481736 | J19: 1481736
C20: 1049 - 21002 | D20: Տրանսպորտային օբյեկտների հիմնանորոգում | E20: Ավտոմոբիլային ճանապարհների վրա գտնվող կամուրջների հիմնանորոգում | F20: Հանրության կողմից անմիջականորեն օգտագործվող ակտիվների հետ կապված միջոցառումներ | G20: 57585.9 | H20: 57585.9 | I20: 57585.9 | J20: 57585.9
B21: 1072 | D21: Ջրամատակարարաման և ջրահեռացման բարելավում | E21: Ջրամատակարարման ծառայությունների հասանելիության և մատչելիության ապահովում | F21: Խմելու ջրի մատակարարման և ջրահեռացման համակարգի բարելավում, կորուստների կրճատում | G21: 40852.1 | H21: 450284.9 | I21: 450284.9 | J21: 706743.3
C22: 1072 - 31008 | D22: Պարտադիր կապիտալ աշխատանքների ծրագրի շրջանակներում ջրամատակարարման և ջրահեռացման ենթակառուցվածքների հիմնանորոգում | E22: Մի շարք համայնքներում ջրամատակարարման և ջրահեռացման համակարգերի կառուցման և վերականգնման աշխատանքներ | F22: Պետական մարմինների կողմից օգտագործվող ոչ ֆինանսական ակտիվների հետ գործառնություններ | G22: 0 | H22: 409432.8 | I22: 409432.8 | J22: 409432.8
C23: 1072 - 31010 | D23: Ջրամատակարարման և ջրահեռացման համակարգի հիմնանորոգում | E23: Ջրամատակարարման և ջրահեռացման համակարգի հիմնանորոգման նախագծերի և աշխատանքների ձեռքբերում | F23: Պետական մարմինների կողմից օգտագործվող ոչ ֆինանսական ակտիվների հետ գործառնություններ | G23: 40852.1 | H23: 40852.1 | I23: 40852.1 | J23: 297310.5
B24: 1079 | D24: Պետական գույքի կառավարում | E24: Պետական գույքի համալիր և արդյունավետ կառավարման ապահովում | F24: Պետական գույքի կառավարման արդյունավետության բարձրացում | G24: 6591.5 | H24: 6591.5 | I24: 6591.5 | J24: 6591.5
C25: 1079 - 31004 | D25: Պետական գույքի կառավարման կոմիտեի ենթակայության շենքերի պայմանների բարելավում | E25: Պետական գույքի կառավարման կոմիտեի ենթակայության շենքերի պայմանների բարելավում (հիմնանորոգում, նախագծանախահաշվային փաստաթղթերի ձեռքբերում և շենքային այլ պայմանների բարելավում) | F25: Պետական մարմինների կողմից օգտագործվող ոչ ֆինանսական ակտիվների հետ գործառնություններ | G25: 6591.5 | H25: 6591.5 | I25: 6591.5 | J25: 6591.5
B26: 1157 | D26: Քաղաքային զարգացում | E26: Քաղաքային ենթակառուցվածքների զարգացում | F26: Քաղաքային ենթակառուցվածքների արդիականացում և բարելավում | G26: 310243.7 | H26: 310243.7 | I26: 310243.7 | J26: 310243.7
C27: 1157 - 21001 | D27: Երևանի մետրոպոլիտենի ենթակառուցվածքների նորոգում | E27: Երևանի մետրոպոլիտենի ենթակառուցվածքների նորոգում | F27: Հանրության կողմից անմիջականորեն օգտագործվող ակտիվների հետ կապված միջոցառումներ | G27: 310243.7 | H27: 310243.7 | I27: 310243.7 | J27: 310243.7
B28: 1212 | D28: Տարածքային զարգացում | E28: Տարածքային համաչափ զարգացման խթանում | F28: ՀՀ համայնքների կառավարման արդյունավետության բարձրացում և տնտեսական գործունեության խթանում | G28: 78206.3 | H28: 78206.3 | I28: 78206.3 | J28: 78206.3
C29: 1212 - 12025 | D29: Մարզերում առաջնահերթ լուծում պահանջող հիմնախնդիրների լուծում | E29: Մարզերում առաջնահերթ լուծում պահանջող ծրագրերի իրականացում, որի արդյունքում լուծում կտրվի բնակչության և համայնքների սոցիալական նշանակություն ունեցող հիմնախնդիրներին: | F29: Տրանսֆերտների տրամադրում | G29: 1280 | H29: 1280 | I29: 1280 | J29: 1280
C30: 1212 - 21001 | D30: Հրետակոծության հետևանքով հասցված վնասների վերականգնման աշխատանքներ | E30: Հրետակոծությունից տուժած ՀՀ սահմանամերձ համայնքների բնակիչների բնակելի տների, շենքշինությունների կենցաղային պայմանների բարելավում, աշակերտների համար ուսումնական | F30: Հանրության կողմից անմիջականորեն օգտագործվող ակտիվների հետ կապված միջոցառումներ | G30: 480 | H30: 480 | I30: 480 | J30: 480
C31: 1212 - 32001 | D31: ՀՀ մարզերում առաջնահերթ լուծում պահանջող անհետաձգելի ծրագրերի իրականացում | E31: ՀՀ մարզերում առաջնահերթ լուծում պահանջող անհետաձգելի ծրագրերի իրականացում, որի արդյունքում լուծում կտրվի մարզային ենթակայության կազմակերպությունների և համայնքային նշանակություն ունեցող հիմնախնդիրներին | F31: Այլ պետական կազմակերպությունների կողմից օգտագործվող ոչ ֆինանսական ակտիվների հետ գործառնություններ | G31: 76446.3 | H31: 76446.3 | I31: 76446.3 | J31: 76446.3
A32: ՀՀ առողջապահության նախարարություն | G32: 1444236 | H32: 1444236 | I32: 1444236 | J32: 1444236
B33: 1126 | D33: Առողջապահության ոլորտում պետական քաղաքականության մշակում, ծրագրերի համակարգում և մոնիտորինգ | E33: Մարդու և հանրության առողջության պահպանում, բնակչության առողջության բարելավում, հիվանդությունների կանխարգելում, հաշմանդամության և մահացության ցուցանիշների նվազեցում | F33: Առողջապահության ոլորտում իրականացվող ծրագրերի ազդեցության և արդյունավետության բարելավում | G33: 1444236 | H33: 1444236 | I33: 1444236 | J33: 1444236
C34: 1126 - 31002 | D34: Առողջապահական կազմակերպությունների վերազինում | E34: Բնակչությանը որակյալ բժշկական օգնության և սպասարկման ծառայություններ մատուցելու նպատակով՛ առողջապահական կազմակերպությունների անհրաժեշտ սարքավորումներով վերազինում | F34: Պետական մարմինների կողմից օգտագործվող ոչ ֆինանսական ակտիվների հետ գործառնություններ | G34: 105214.8 | H34: 105214.8 | I34: 105214.8 | J34: 105214.8
C35: 1126 - 31003 | D35: Առողջապահական կազմակերպությունների կառուցում, վերակառուցում | E35: Բնակչությանը որակյալ բժշկական օգնության և սպասարկման ծառայություններ մատուցելու նպատակով առողջապահական կազմակերպությունների կառուցում, վերակառուցում | F35: Պետական մարմինների կողմից օգտագործվող ոչ ֆինանսական ակտիվների հետ գործառնություններ | G35: 1339021.2 | H35: 1339021.2 | I35: 1339021.2 | J35: 1339021.2
A36: ՀՀ արդարադատության նախարարություն | G36: 29570 | H36: 29570 | I36: 29570 | J36: 29570
B37: 1120 | D37: Քրեակատարողական ծառայություններ | E37: Դատապարտյալների պատժի կատարման և ուղղման համար անհրաժեշտ պայմանների ապահովում | F37: Դատապարտյալների զբաղվածության և իրավունքների պաշտպանություն | G37: 29570 | H37: 29570 | I37: 29570 | J37: 29570
C38: 1120 - 31002 | D38: ՀՀ արդարադատության նախարարության քրեակատարողական ծառայության կարողությունների զարգացում և տեխնիկական հագեցվածության ապահովում | E38: ՀՀ արդարադատության նախարարության քրեակատարողական ծառայության աշխատանքային պայմանների բարելավման համար վարչական սարքավորումների ձեռք բերում | F38: Պետական մարմինների կողմից օգտագործվող ոչ ֆինանսական ակտիվների հետ գործառնություններ | G38: 27120 | H38: 27120 | I38: 27120 | J38: 27120
C39: 1120 - 31003 | D39: Քրեակատարողական հիմմնարկների շենքային պայմանների բարելավում | E39: Քրեակատարողական հիմնարկների շենքերի նորոգում, հիմնանորոգում, կառուցում և նախագծանախահաշվային փաստաթղթերի ձեռքբերում | F39: Պետական մարմինների կողմից օգտագործվող ոչ ֆինանսական ակտիվների հետ գործառնություններ | G39: 2450 | H39: 2450 | I39: 2450 | J39: 2450
A40: ՀՀ շրջակա միջավայրի նախարարություն | G40: 907246.8 | H40: 907246.8 | I40: 907246.8 | J40: 907246.8
B41: 1173 | D41: Անտառների կառավարում | E41: Անտառային տարածքների կայուն կառավարում | F41: Կայուն կառավարվող անտառային տարածքների աճ | G41: 907246.8 | H41: 907246.8 | I41: 907246.8 | J41: 907246.8
C42: 1173 - 31001 | D42: Էկոպարեկային ծառայության տեխնիկական կարողությունների ընդլայնում | E42: Համակարգչային սարքավորումների և գրասենյակային գույքի ձեռքբերում | F42: Պետական մարմինների կողմից օգտագործվող ոչ ֆինանսական ակտիվների հետ գործառնություններ | G42: 14157 | H42: 14157 | I42: 14157 | J42: 14157
C43: 1173 - 31002 | D43: Էկոպարեկային ծառայության տրանսպորտային միջոցներով ապահովվածություն | E43: Ավտոմեքենաների ձեռքբերում | F43: Պետական մարմինների կողմից օգտագործվող ոչ ֆինանսական ակտիվների հետ գործառնություններ | G43: 893089.8 | H43: 893089.8 | I43: 893089.8 | J43: 893089.8
A44: ՀՀ կրթության , գիտության, մշակույթի և սպորտի նախարարություն | G44: =+G45+G47+G50+G52+G54+G56+G58+G60+G62+G67+G70+G74+G76 -> 1875147.1 | H44: =+H45+H47+H50+H52+H54+H56+H58+H60+H62+H67+H70+H74+H76 -> 2765919.2 | I44: =+I45+I47+I50+I52+I54+I56+I58+I60+I62+I67+I70+I74+I76 -> 2864175.5 | J44: =+J45+J47+J50+J52+J54+J56+J58+J60+J62+J67+J70+J74+J76 -> 2864175.5
...

Sheet N4.
A1: Հավելված N 4
H2: ՀՀ կառավարության 2026 թվականի
H3: -----------------ի N -----------Ն որոշման
A5: «ՀԱՅԱՍՏԱՆԻ ՀԱՆՐԱՊԵՏՈՒԹՅԱՆ 2026 ԹՎԱԿԱՆԻ ՊԵՏԱԿԱՆ ԲՅՈՒՋԵԻ ՄԱՍԻՆ» ՀԱՅԱՍՏԱՆԻ ՀԱՆՐԱՊԵՏՈՒԹՅԱՆ ՕՐԵՆՔԻ N 1 ՀԱՎԵԼՎԱԾԻ N 3 ԱՂՅՈՒՍԱԿՈՒՄ ԿԱՏԱՐՎՈՂ ՓՈՓՈԽՈՒԹՅՈՒՆՆԵՐԸ ԵՎ ԼՐԱՑՈՒՄՆԵՐԸ
A7: հազար դրամներով
A8: Ծրագրային դասիչ | C8: Բյուջետային գլխավոր կարգադրիչների, ծրագրերի, միջոցառումների և ուղղությունների անվանումները | D8: Ընդամենը | E8: այդ թվում` Ցուցանիշների փոփոխությունները ավելացումները նշված են դրական նշանով, իսկ նվազեցումները՝ փակագծերում
A9: Ծրագիր | B9: Միջոց առում | E9: Կառուցման աշխատանքներ | F9: Վերակառուցման, վերանորոգման և վերականգնման աշխատանքներ | G9: Նախագծահե- տազոտական, գեոդեզիա- քարտեզագրական աշխատանքներ | H9: Ոչ ֆինանսական այլ ակտիվների ձեռքբերում
C10: ԸՆԴԱՄԵՆԸ | D10: =+D11+D14+D121+D167+D171+D175+D202+D206+D211+D215+D219 -> 11015854 | E10: =+E11+E14+E121+E167+E171+E175+E202+E206+E211+E215+E219 -> 4032357.7 | F10: =+F11+F14+F121+F167+F171+F175+F202+F206+F211+F215+F219 -> 2979101.3 | G10: =+G11+G14+G121+G167+G171+G175+G202+G206+G211+G215+G219 -> 229440.3 | H10: =+H11+H14+H121+H167+H171+H175+H202+H206+H211+H215+H219 -> 3774954.4
C11: ՀՀ Ազգային ժողով | D11: 16356.6 | E11: 0 | F11: 0 | G11: 0 | H11: 16356.6
C12: այդ թվում՛
A13: 1024 | B13: 31001 | C13: Ազգային ժողովի տեխնիկական հագեցվածության բարելավում | D13: 16356.6 | E13: 0 | F13: 0 | G13: 0 | H13: 16356.6
C14: ՀՀ տարածքային կառավարման և ենթակառուցվածքների նախարարություն | D14: =+D16+D23+D30+D73+D84+D98+D102+D103+D104+D108+D112 -> 2911873.6 | E14: =+E16+E23+E30+E73+E84+E98+E102+E103+E104+E108+E112 -> 390569.6 | F14: =+F16+F23+F30+F73+F84+F98+F102+F103+F104+F108+F112 -> 2198992 | G14: =+G16+G23+G30+G73+G84+G98+G102+G103+G104+G108+G112 -> 12068.3 | H14: =+H16+H23+H30+H73+H84+H98+H102+H103+H104+H108+H112 -> 310243.7
C15: այդ թվում՛
A16: 1004 | B16: 31002 | C16: Ոռոգման համակարգերի հիմնանորոգում | D16: =SUM(D18:D22) -> 235548.8 | E16: =SUM(E18:E22) -> 0 | F16: =SUM(F18:F22) -> 235548.8 | G16: =SUM(G18:G22) -> 0 | H16: =SUM(H18:H22) -> 0
C17: այդ թվում՝
C18: Աշտարակի մայր ջրանցքի ՊԿ0+00-ՊԿ20+00 հատվածի վերանորոգում | D18: =SUM(E18:H18) -> 67437.4 | F18: 67437.4
C19: Գետափ-Եղեգնաձոր ջրանցքի հիմնանորոգում | D19: =SUM(E19:H19) -> 20869.3 | F19: 20869.3
C20: «Տավուշ» ՋՕԸ-ի կողմից Զեյթուն N1 պոմպակայանի կարճ գծի հեռացնող ջրանցքի վերակառուցում | D20: =SUM(E20:H20) -> 29911.9 | F20: 29911.9
C21: «Արազափ-1» պոմպակայանի մղման խողովակաշարի հիմնանորոգում | D21: =SUM(E21:H21) -> 55435.4 | F21: 55435.4
C22: ՀՀ Սյունիքի մարզի Որոտանի մայր ջրանցքի Հարթաշենի դյուկերի վթարված մոտ 60գծ.մ. հատվածի կառուցում | D22: =SUM(E22:H22) -> 61894.8 | F22: 61894.8
A23: 1004 | B23: 31009 | C23: Օրվա կարգավորման ջրավազանների կառուցում և վերակառուցում | D23: =SUM(D25:D29) -> 35218.1 | E23: =SUM(E25:E29) -> 35218.1 | F23: =SUM(F25:F29) -> 0 | G23: =SUM(G25:G29) -> 0 | H23: =SUM(H25:H29) -> 0
C24: այդ թվում՝
C25: ՀՀ Լոռու մարզի Ալավերդի համայնքի Այգահատ բնակավայրի վարչական տարածքում 50 հազար խմ ծավալով ՕԿՋ-ի կատուցման | D25: =SUM(E25:H25) -> 716.4 | E25: 716.4
C26: ՀՀ Լոռու մարզի Սպիտակ համայնքի Խնկոյան բնակավայրի պոմպակայանի ՕԿՋ-ի հիմնանորոգում | D26: =SUM(E26:H26) -> 2695.5 | E26: 2695.5
C27: Արազափ 1 պոմպակայանի շուրջ 20 հազ․ խմ ծավալով ՕԿՋ-ի կառուցում | D27: =SUM(E27:H27) -> 17023.9 | E27: 17023.9
C28: Արմաշի պոմպակայանի 3-րդ գոտու ՕԿՋ-ի նորոգում | D28: =SUM(E28:H28) -> 2710 | E28: 2710
C29: Արմաշի պոմպակայանի 4-րդ գոտու ՕԿՋ-ի կառուցում | D29: =SUM(E29:H29) -> 12072.3 | E29: 12072.3
A30: 1049 | B30: 21001 | C30: Պետական նշանակության ավտոճանապարհների հիմնանորոգում | D30: =+D31+D37+D42 -> 1481736 | E30: =+E31+E37+E42 -> 0 | F30: =+F31+F37+F42 -> 1469892.7 | G30: =+G31+G37+G42 -> 11843.3 | H30: =+H31+H37+H42 -> 0
B31: 1 | C31: Միջպետական նշանակության ավտոճանապարհներ, այդ թվում | D31: =SUM(D32:D36) -> 62829.8 | E31: =SUM(E32:E36) -> 0 | F31: =SUM(F32:F36) -> 52340.3 | G31: =SUM(G32:G36) -> 10489.5 | H31: =SUM(H32:H36) -> 0
C32: Մ-1, Երևան-Գյումրի-ՀՀ սահման միջպետական նշանակության ավտոճանապարհի կմ 130+100-կմ134+500 հատվածի հիմնանորոգում | D32: 215 | F32: 215
C33: Մ-3, ՀՀ սահմ/Մարգարա/-Վանաձոր-Տաշիր-ՀՀ սահման Ռյա Թազա բնակավայրով անցնող ջրահեռացման կարգավորում | D33: 409.5 | G33: 409.5
C34: Մ-4 ,Երևան-Սևան-Իջևան-ՀՀ սահման միջպետական նշանակության ավտոճանապարհի Երևան-Դիլիջան հատվածում լուսավորության համակարգի կառուցում | D34: 10080 | G34: 10080
C35: Մ-8,Վանաձոր(Մ-6 հատման կետ)-Դիլիջան միջպետական նշանակության ավտոճանապարհի կմ40+000-կմ42+000 հատվածի հիմնանորոգում | D35: 259.1 | F35: 259.1
C36: Մ-8, Վանաձոր (Մ-6 հատման կետ) - Դիլիջան միջպետական նշանակության ավտոճանապարհի կմ0+236 - կմ6+236 հատվածի (Վանաձոր քաղաքի հատված) հիմնանորոգում | D36: 51866.2 | F36: 51866.2
B37: 2 | C37: Հանրապետական նշանակության ավտոճանապարհներ, այդ թվում | D37: =SUM(D38:D41) -> 321852.6 | E37: =SUM(E38:E41) -> 0 | F37: =SUM(F38:F41) -> 321420.6 | G37: =SUM(G38:G41) -> 432 | H37: =SUM(H38:H41) -> 0
C38: Հ-15, /Մ-5/(Նորապատ) -Արգավանդ –/Մ-3/ (Վարդանաշեն) հանրապետական նշանակության ավտոճանապարհի կմ13+000 - կմ20+000 հատվածի հիմնանորոգում | D38: 45257.1 | F38: 45257.1
C39: Հ-67, /Հ-32/ (Ամասիա) -Բերդաշեն- /Հ-66/ հանրապետական նշանակության ավտոճանապարհի Բերդաշեն բնակավայրով անցնող 1.5 կմ երկարությամբ տարանցիկ հատվածի հիմնանորոգում | D39: 432 | G39: 432
C40: Հ-70, Մ-6 – Աթան հանրապետական նշանակության ավտոճանապարհի կմ0+000 - կմ27+500 հատվածի հիմնանորոգում | D40: 184034.5 | F40: 184034.5
C41: Հ-79 /Մ-10/- Գեղհովիտ-Քարագլուխ-/Մ-2/ հանրապետական նշանակության ավտոճանապարհի (նախկին՝ Մ-10, Սևան-Մարտունի-Գետափ) միջպետական նշանակության ավտոճանապարհի կմ80+590-կմ94+590) կմ14+590 -կմ28+590 հատվածի հիմնանորոգում | D41: 92129 | F41: 92129
B42: 3 | C42: Մարզային նշանակության ավտոճանապարհներ, այդ թվում | D42: =SUM(D43:D72) -> 1097053.6 | E42: =SUM(E43:E72) -> 0 | F42: =SUM(F43:F72) -> 1096131.8 | G42: =SUM(G43:G72) -> 921.8 | H42: =SUM(H43:H72) -> 0
...

Sheet N5.
A1: . | J1: Հավելված N 5
J2: ՀՀ կառավարության 2026 թվականի
J3: -----------------ի N -----------Ն որոշման
A5: ՀԱՅԱՍՏԱՆԻ ՀԱՆՐԱՊԵՏՈՒԹՅԱՆ ԿԱՌԱՎԱՐՈՒԹՅԱՆ 2025 ԹՎԱԿԱՆԻ ԴԵԿՏԵՄԲԵՐԻ 25-Ի N 1910-Ն ՈՐՈՇՄԱՆ N 3 ՀԱՎԵԼՎԱԾՈՒՄ ԿԱՏԱՐՎՈՂ ՓՈՓՈԽՈՒԹՅՈՒՆՆԵՐԸ ԵՎ ԼՐԱՑՈՒՄՆԵՐԸ
I7: հազար դրամներով
A8: Գործառական դասիչը | D8: Ծրագրային դասիչը | F8: Բյուջետային ծախսերի գործառական դասակարգման բաժինների, խմբերի և դասերի, բյուջետային ծրագրերի միջոցառումների, բյուջետային հատկացումների գլխավոր կարգադրիչների անվանումները | G8: այդ թվում` Ցուցանիշների փոփոխությունները ավելացումները նշված են դրական նշանով, իսկ նվազեցումները՝ փակագծերում
A9: Բաժին | B9: Խումբ | C9: Դաս | D9: Ծրագիր | E9: Միջոցա ռում | G9: Առաջին եռամսյակ | H9: Առաջին կիսամյակ | I9: Ինն ամիս | J9: Տարի
A10: 111 | F10: ԸՆԴԱՄԵՆԸ ԾԱԽՍԵՐ | G10: =+G12+G56+G90+G118+G128+G144+G154+G184+G240 -> 8857443.6 | H10: =+H12+H56+H90+H118+H128+H144+H154+H184+H240 -> 10484882 | I10: =+I12+I56+I90+I118+I128+I144+I154+I184+I240 -> 10722643 | J10: =+J12+J56+J90+J118+J128+J144+J154+J184+J240 -> 11015854
F11: այդ թվում`
A12: 01 | F12: ԸՆԴՀԱՆՈՒՐ ԲՆՈՒՅԹԻ ՀԱՆՐԱՅԻՆ ԾԱՌԱՅՈՒԹՅՈՒՆՆԵՐ | G12: 1219879.1 | H12: 1238059.1 | I12: 1304059.1 | J12: 1304059.1
F13: այդ թվում`
B14: 01 | F14: Օրենսդիր և գործադիր մարմիններ, պետական կառավարում, ֆինանսական և հարկաբյուջետային հարաբերություններ, արտաքին հարաբերություններ | G14: 22948.1 | H14: 22948.1 | I14: 22948.1 | J14: 22948.1
F15: այդ թվում`
C16: 01 | F16: Օրենսդիր և գործադիր մարմիններ, պետական կառավարում | G16: 22948.1 | H16: 22948.1 | I16: 22948.1 | J16: 22948.1
F17: այդ թվում`
D18: 1024 | E18: 31001 | F18: Ազգային ժողովի տեխնիկական հագեցվածության բարելավում | G18: 16356.6 | H18: 16356.6 | I18: 16356.6 | J18: 16356.6
F19: ՀՀ Ազգային ժողով | G19: 16356.6 | H19: 16356.6 | I19: 16356.6 | J19: 16356.6
D20: 1079 | E20: 31004 | F20: Պետական գույքի կառավարման կոմիտեի ենթակայության շենքերի պայմանների բարելավում | G20: 6591.5 | H20: 6591.5 | I20: 6591.5 | J20: 6591.5
F21: ՀՀ տարածքային կառավարման և ենթակառուցվածքների նախարարություն | G21: 6591.5 | H21: 6591.5 | I21: 6591.5 | J21: 6591.5
C22: 02 | F22: Ֆինանսական և հարկաբյուջետային հարաբերություններ | G22: 0 | H22: 0 | I22: 0 | J22: 0
F23: այդ թվում`
D24: 1108 | E24: 11014 | F24: ԵԶԲ աջակցությամբ ՀՀ ֆինանսների նախարարության համար պետական-մասնավոր գործընկերության ոլորտի ինստիտուցիոնալ կարողությունների ամրապնդում | G24: -4693.9 | H24: -4693.9 | I24: -4693.9 | J24: -4693.9
F25: ՀՀ ֆինանսների նախարարություն | G25: -4693.9 | H25: -4693.9 | I25: -4693.9 | J25: -4693.9
D26: 1108 | E26: 31003 | F26: ԵԶԲ միջոցներից ,ՀՀ ֆինանսների նախարարության համար պետական-մասնավոր գործընկերության ոլորտի ինստիտուցիոնալ կարողությունների ամրապնդմանն ուղղված տեխնիկական աջակցության տրամադրման մասինե դրամաշնորհային ծրագիր | G26: 4693.9 | H26: 4693.9 | I26: 4693.9 | J26: 4693.9
F27: ՀՀ ֆինանսների նախարարություն | G27: 4693.9 | H27: 4693.9 | I27: 4693.9 | J27: 4693.9
B28: 03 | F28: Ընդհանուր բնույթի ծառայություններ | G28: 1064550 | H28: 1082730 | I28: 1148730 | J28: 1148730
F29: այդ թվում`
C30: 02 | F30: Ծրագրման և վիճակագրական ընդհանուր ծառայություններ | G30: 1064550 | H30: 1082730 | I30: 1148730 | J30: 1148730
F31: այդ թվում`
D32: 1235 | E32: 31001 | F32: Միասնական թվային միջավայրի ձևավորում | G32: 1064550 | H32: 1082730 | I32: 1148730 | J32: 1148730
F33: ՀՀ բարձր տեխնոլոգիական արդյունաբերության նախարարություն | G33: 1064550 | H33: 1082730 | I33: 1148730 | J33: 1148730
B34: 04 | F34: Ընդհանուր բնույթի հետազոտական աշխատանք | G34: 52985.5 | H34: 52985.5 | I34: 52985.5 | J34: 52985.5
F35: այդ թվում`
C36: 01 | F36: Ընդհանուր բնույթի հետազոտական աշխատանք | G36: 52985.5 | H36: 52985.5 | I36: 52985.5 | J36: 52985.5
F37: այդ թվում`
D38: 1162 | E38: 32004 | F38: Գիտական կենտրոնները ժամանակակից սարքավորումներով վերազինում ու համատեղ օգտագործման գիտական սարքավորումների կենտրոնների ստեղծում | G38: 52985.5 | H38: 52985.5 | I38: 52985.5 | J38: 52985.5
F39: ՀՀ կրթության , գիտության, մշակույթի և սպորտի նախարարություն | G39: 52985.5 | H39: 52985.5 | I39: 52985.5 | J39: 52985.5
B40: 06 | F40: Ընդհանուր բնույթի հանրային ծառայություններ (այլ դասերին չպատկանող) | G40: 1189.2 | H40: 1189.2 | I40: 1189.2 | J40: 1189.2
F41: այդ թվում`
C42: 01 | F42: Ընդհանուր բնույթի հանրային ծառայություններ (այլ դասերին չպատկանող) | G42: 1189.2 | H42: 1189.2 | I42: 1189.2 | J42: 1189.2
...

Sheet N6.
G1: Հավելված N 6
F3: ՀՀ կառավարության 2026 թվականի
F4: ______________ ի ___Ն որոշման
A6: ՀԱՅԱՍՏԱՆԻ ՀԱՆՐԱՊԵՏՈՒԹՅԱՆ ԿԱՌԱՎԱՐՈՒԹՅԱՆ 2025 ԹՎԱԿԱՆԻ ԴԵԿՏԵՄԲԵՐԻ 25-Ի N 1910-Ն ՈՐՈՇՄԱՆ NN 4 ՀԱՎԵԼՎԱԾՈՒՄ ԿԱՏԱՐՎՈՂ ՓՈՓՈԽՈՒԹՅՈՒՆՆԵՐԸ ԵՎ ԼՐԱՑՈՒՄՆԵՐԸ
F7: հազար դրամներով
A8: Ծրագրային դասիչը | C8: Բյուջետային հատկացումների գլխավոր կարգադրիչների, ծրագրերի, միջոցառումների և միջոցառումները կատարող պետական մարմինների անվանումները | D8: այդ թվում` այդ թվում` Ցուցանիշների փոփոխությունները ավելացումները նշված են դրական նշանով, իսկ նվազեցումները՝ փակագծերում
A9: Ծրագիր | B9: Միջոց առում | D9: Առաջին եռամսյակ | E9: Առաջին կիսամյակ | F9: Ինն ամիս | G9: Տարի
C10: ԸՆԴԱՄԵՆԸ | D10: =+D12+D25+D170+D207+D229+D251+D561+D585+D634+D685+D708+D656 -> 8857443.6 | E10: =+E12+E25+E170+E207+E229+E251+E561+E585+E634+E685+E708+E656 -> 10484882 | F10: =+F12+F25+F170+F207+F229+F251+F561+F585+F634+F685+F708+F656 -> 10722643 | G10: =+G12+G25+G170+G207+G229+G251+G561+G585+G634+G685+G708+G656 -> 11015854
C11: այդ թվում`
C12: ՀՀ Ազգային ժողով | D12: 16356.6 | E12: 16356.6 | F12: 16356.6 | G12: 16356.6
C13: այդ թվում`
A14: 1024 | C14: ՀՀ Ազգային ժողովի լիազորությունների իրականացման ապահովում | D14: 16356.6 | E14: 16356.6 | F14: 16356.6 | G14: 16356.6
C15: այդ թվում`
B16: 31001 | C16: Ազգային ժողովի տեխնիկական հագեցվածության բարելավում | D16: 16356.6 | E16: 16356.6 | F16: 16356.6 | G16: 16356.6
C17: այդ թվում` ըստ կատարողների
C18: ՀՀ Ազգային ժողով | D18: 16356.6 | E18: 16356.6 | F18: 16356.6 | G18: 16356.6
C19: այդ թվում` բյուջետային ծախսերի տնտեսագիտական դասակարգման հոդվածներ
C20: ԸՆԴԱՄԵՆԸ ԾԱԽՍԵՐ | D20: 16356.6 | E20: 16356.6 | F20: 16356.6 | G20: 16356.6
C21: ՈՉ ՖԻՆԱՆՍԱԿԱՆ ԱԿՏԻՎՆԵՐԻ ԳԾՈՎ ԾԱԽՍԵՐ | D21: 16356.6 | E21: 16356.6 | F21: 16356.6 | G21: 16356.6
C22: ՀԻՄՆԱԿԱՆ ՄԻՋՈՑՆԵՐ | D22: 16356.6 | E22: 16356.6 | F22: 16356.6 | G22: 16356.6
C23: ՄԵՔԵՆԱՆԵՐ ԵՎ ՍԱՐՔԱՎՈՐՈՒՄՆԵՐ | D23: 16356.6 | E23: 16356.6 | F23: 16356.6 | G23: 16356.6
C24: - Վարչական սարքավորումներ | D24: 16356.6 | E24: 16356.6 | F24: 16356.6 | G24: 16356.6
C25: ՀՀ տարածքային կառավարման և ենթակառուցվածքների նախարարություն | D25: 2010433.6 | E25: 2655415.2 | F25: 2655415.2 | G25: 2911873.6
C26: այդ թվում`
A27: 1004 | C27: Ոռոգման համակարգի առողջացում | D27: 35218.1 | E27: 270766.9 | F27: 270766.9 | G27: 270766.9
C28: այդ թվում`
B29: 31002 | C29: Ոռոգման համակարգերի հիմնանորոգում | D29: 0 | E29: 235548.8 | F29: 235548.8 | G29: 235548.8
C30: այդ թվում` ըստ կատարողների
C31: ՀՀ տարածքային կառավարման և ենթակառուցվածքների նախարարության ջրային կոմիտե | D31: 0 | E31: 235548.8 | F31: 235548.8 | G31: 235548.8
C32: այդ թվում` բյուջետային ծախսերի տնտեսագիտական դասակարգման հոդվածներ
C33: ԸՆԴԱՄԵՆԸ ԾԱԽՍԵՐ | D33: 0 | E33: 235548.8 | F33: 235548.8 | G33: 235548.8
C34: ՈՉ ՖԻՆԱՆՍԱԿԱՆ ԱԿՏԻՎՆԵՐԻ ԳԾՈՎ ԾԱԽՍԵՐ | D34: 0 | E34: 235548.8 | F34: 235548.8 | G34: 235548.8
C35: ՀԻՄՆԱԿԱՆ ՄԻՋՈՑՆԵՐ | D35: 0 | E35: 235548.8 | F35: 235548.8 | G35: 235548.8
C36: ՇԵՆՔԵՐ ԵՎ ՇԻՆՈՒԹՅՈՒՆՆԵՐ | D36: 0 | E36: 235548.8 | F36: 235548.8 | G36: 235548.8
C37: - Շենքերի և շինությունների կապիտալ վերանորոգում | D37: 0 | E37: 235548.8 | F37: 235548.8 | G37: 235548.8
B38: 31009 | C38: Օրվա կարգավորման ջրավազանների կառուցում և վերակառուցում | D38: 35218.1 | E38: 35218.1 | F38: 35218.1 | G38: 35218.1
C39: այդ թվում` ըստ կատարողների
C40: ՀՀ տարածքային կառավարման և ենթակառուցվածքների նախարարության ջրային կոմիտե | D40: 35218.1 | E40: 35218.1 | F40: 35218.1 | G40: 35218.1
C41: այդ թվում` բյուջետային ծախսերի տնտեսագիտական դասակարգման հոդվածներ
C42: ԸՆԴԱՄԵՆԸ ԾԱԽՍԵՐ | D42: 35218.1 | E42: 35218.1 | F42: 35218.1 | G42: 35218.1
...

Sheet N7.
A1: Հավելված N 7
F2: ՀՀ կառավարության 2026 թվականի
F3: ______________ ի ___Ն որոշման
A6: ՀԱՅԱՍՏԱՆԻ ՀԱՆՐԱՊԵՏՈՒԹՅԱՆ ԿԱՌԱՎԱՐՈՒԹՅԱՆ 2025 ԹՎԱԿԱՆԻ ԴԵԿՏԵՄԲԵՐԻ 25-Ի N 1910-Ն ՈՐՈՇՄԱՆ N 5 ՀԱՎԵԼՎԱԾԻ N 2 ԱՂՅՈՒՍԱԿՈՒՄ ԿԱՏԱՐՎՈՂ ՓՈՓՈԽՈՒԹՅՈՒՆՆԵՐԸ ԵՎ ԼՐԱՑՈՒՄՆԵՐԸ
A8: հազար դրամներով
A9: Ծրագրային դասիչ | C9: Բյուջետային գլխավոր կարգադրիչների, ծրագրերի, միջոցառումների և ուղղությունների անվանումները | D9: այդ թվում` Ցուցանիշների փոփոխությունները ավելացումները նշված են դրական նշանով, իսկ նվազեցումները՝ փակագծերում)
A10: Ծրագիր | B10: Միջոց առում | D10: Առաջին եռամսյակ | E10: Առաջին կիսամյակ | F10: Ինն ամիս | G10: Տարի
C11: ԸՆԴԱՄԵՆԸ | D11: =+D13+D18+D154+D209+D219+D227+D458+D466+D479+D487+D495 -> 8857443.6 | E11: =+E13+E18+E154+E209+E219+E227+E458+E466+E479+E487+E495 -> 10484882 | F11: =+F13+F18+F154+F209+F219+F227+F458+F466+F479+F487+F495 -> 10722643 | G11: =+G13+G18+G154+G209+G219+G227+G458+G466+G479+G487+G495 -> 11015854
C12: այդ թվում`
C13: ՀՀ Ազգային ժողով | D13: 16356.6 | E13: 16356.6 | F13: 16356.6 | G13: 16356.6
C14: այդ թվում՛
A15: 1024 | B15: 31001 | C15: Ազգային ժողովի տեխնիկական հագեցվածության բարելավում | D15: 16356.6 | E15: 16356.6 | F15: 16356.6 | G15: 16356.6
C16: այդ թվում` ըստ կատարողների
C17: ՀՀ Ազգային ժողով | D17: 16356.6 | E17: 16356.6 | F17: 16356.6 | G17: 16356.6
C18: ՀՀ տարածքային կառավարման և ենթակառուցվածքների նախարարություն | D18: =+D20+D29+D38+D86+D99+D116+D124+D129+D132+D137+D142 -> 2010433.6 | E18: =+E20+E29+E38+E86+E99+E116+E124+E129+E132+E137+E142 -> 2655415.2 | F18: =+F20+F29+F38+F86+F99+F116+F124+F129+F132+F137+F142 -> 2655415.2 | G18: =+G20+G29+G38+G86+G99+G116+G124+G129+G132+G137+G142 -> 2911873.6
C19: այդ թվում՛
A20: 1004 | B20: 31002 | C20: Ոռոգման համակարգերի հիմնանորոգում | D20: =+D22 -> 0 | E20: =+E22 -> 235548.8 | F20: =+F22 -> 235548.8 | G20: =+G22 -> 235548.8
C21: այդ թվում` ըստ կատարողների
C22: ՀՀ տարածքային կառավարման և ենթակառուցվածքների նախարարության ջրային կոմիտե | D22: =SUM(D24:D28) -> 0 | E22: =SUM(E24:E28) -> 235548.8 | F22: =SUM(F24:F28) -> 235548.8 | G22: =SUM(G24:G28) -> 235548.8
C23: այդ թվում՝ ըստ օբյեկտների
C24: Աշտարակի մայր ջրանցքի ՊԿ0+00-ՊԿ20+00 հատվածի վերանորոգում | D24: 0 | E24: 67437.4 | F24: 67437.4 | G24: 67437.4
C25: Գետափ-Եղեգնաձոր ջրանցքի հիմնանորոգում | D25: 0 | E25: 20869.3 | F25: 20869.3 | G25: 20869.3
C26: «Տավուշ» ՋՕԸ-ի կողմից Զեյթուն N1 պոմպակայանի կարճ գծի հեռացնող ջրանցքի վերակառուցում | D26: 0 | E26: 29911.9 | F26: 29911.9 | G26: 29911.9
C27: «Արազափ-1» պոմպակայանի մղման խողովակաշարի հիմնանորոգում | D27: 0 | E27: 55435.4 | F27: 55435.4 | G27: 55435.4
C28: ՀՀ Սյունիքի մարզի Որոտանի մայր ջրանցքի Հարթաշենի դյուկերի վթարված մոտ 60գծ.մ. հատվածի կառուցում | D28: 0 | E28: 61894.8 | F28: 61894.8 | G28: 61894.8
A29: 1004 | B29: 31009 | C29: Օրվա կարգավորման ջրավազանների կառուցում և վերակառուցում | D29: =+D31 -> 35218.1 | E29: =+E31 -> 35218.1 | F29: =+F31 -> 35218.1 | G29: =+G31 -> 35218.1
C30: այդ թվում` ըստ կատարողների
C31: ՀՀ տարածքային կառավարման և ենթակառուցվածքների նախարարության ջրային կոմիտե | D31: =SUM(D33:D37) -> 35218.1 | E31: =SUM(E33:E37) -> 35218.1 | F31: =SUM(F33:F37) -> 35218.1 | G31: =SUM(G33:G37) -> 35218.1
C32: այդ թվում՝ ըստ օբյեկտների
C33: ՀՀ Լոռու մարզի Ալավերդի համայնքի Այգահատ բնակավայրի վարչական տարածքում 50 հազար խմ ծավալով ՕԿՋ-ի կատուցման | D33: 716.4 | E33: 716.4 | F33: 716.4 | G33: 716.4
C34: ՀՀ Լոռու մարզի Սպիտակ համայնքի Խնկոյան բնակավայրի պոմպակայանի ՕԿՋ-ի հիմնանորոգում | D34: 2695.5 | E34: 2695.5 | F34: 2695.5 | G34: 2695.5
C35: Արազափ 1 պոմպակայանի շուրջ 20 հազ․ խմ ծավալով ՕԿՋ-ի կառուցում | D35: 17023.9 | E35: 17023.9 | F35: 17023.9 | G35: 17023.9
C36: Արմաշի պոմպակայանի 3-րդ գոտու ՕԿՋ-ի նորոգում | D36: 2710 | E36: 2710 | F36: 2710 | G36: 2710
C37: Արմաշի պոմպակայանի 4-րդ գոտու ՕԿՋ-ի կառուցում | D37: 12072.3 | E37: 12072.3 | F37: 12072.3 | G37: 12072.3
A38: 1049 | B38: 21001 | C38: Պետական նշանակության ավտոճանապարհների հիմնանորոգում | D38: =+D40 -> 1481736 | E38: =+E40 -> 1481736 | F38: =+F40 -> 1481736 | G38: =+G40 -> 1481736
C39: այդ թվում` ըստ կատարողների
C40: ՀՀ տարածքային կառավարման և ենթակառուցվածքների նախարարություն | D40: =+D42+D48+D53 -> 1481736 | E40: =+E42+E48+E53 -> 1481736 | F40: =+F42+F48+F53 -> 1481736 | G40: =+G42+G48+G53 -> 1481736
C41: այդ թվում՝ ըստ օբյեկտների
B42: 1 | C42: Միջպետական նշանակության ավտոճանապարհներ, այդ թվում | D42: =SUM(D43:D47) -> 62829.8 | E42: =SUM(E43:E47) -> 62829.8 | F42: =SUM(F43:F47) -> 62829.8 | G42: =SUM(G43:G47) -> 62829.8
C43: Մ-1, Երևան-Գյումրի-ՀՀ սահման միջպետական նշանակության ավտոճանապարհի կմ 130+100-կմ134+500 հատվածի հիմնանորոգում | D43: 215 | E43: 215 | F43: 215 | G43: 215
...

Sheet N 8
O1: Հավելված N 8
O2: ՀՀ կառավարության 2026 թվականի
O3: -----------------ի N -----------Ն որոշման
A5: «ՀԱՅԱՍՏԱՆԻ ՀԱՆՐԱՊԵՏՈՒԹՅԱՆ 2026 ԹՎԱԿԱՆԻ ՊԵՏԱԿԱՆ ԲՅՈՒՋԵԻ ՄԱՍԻՆ» ՕՐԵՆՔԻ N 1 ՀԱՎԵԼՎԱԾԻ N 2 ԱՂՅՈՒՍԱԿՈՒՄ ԿԱՏԱՐՎՈՂ ՎԵՐԱԲԱՇԽՈՒՄԸ, ՀԱՅԱՍՏԱՆԻ ՀԱՆՐԱՊԵՏՈՒԹՅԱՆ ԿԱՌԱՎԱՐՈՒԹՅԱՆ 2025 ԹՎԱԿԱՆԻ ԴԵԿՏԵՄԲԵՐԻ 25-Ի N 1910-Ն ՈՐՈՇՄԱՆ N 5 ՀԱՎԵԼՎԱԾԻ N 4 ԱՂՅՈՒՍԱԿՈՒՄ ԿԱՏԱՐՎՈՂ ՓՈՓՈԽՈՒԹՅՈՒՆՆԵՐԸ
O7: հազար դրամներով
A8: Ծրագրային դասիչը | C8: Բյուջետային հատկացումների գլխավոր կարգադրիչների, ծրագրերի, միջոցառումների և միջոցառումները կատարող պետական մարմինների անվանումները | D8: Ցուցանիշների փոփոխությունները ավելացումները նշված են դրական նշանով, իսկ նվազեցումները՝ փակագծերում
D9: Առաջին եռամսյակ | E9: այդ թվում` | G9: Կիսամյակ | J9: Ինն ամիս | M9: Տարի
D10: Ընդամենը | E10: այդ թվում` | G10: Ընդամենը | H10: այդ թվում` | J10: Ընդամենը | K10: այդ թվում` | M10: Ընդամենը | N10: այդ թվում`
A11: Ծրագիր | B11: Միջոցառում | E11: Դրամաշնորհային միջոցներ | F11: Համաֆինանսավորում | H11: Դրամաշնորհային միջոցներ | I11: Համաֆինանսավորում | K11: Դրամաշնորհային միջոցներ | L11: Համաֆինանսավորում | N11: Դրամաշնորհային միջոցներ | O11: Համաֆինանսավորում
C12: ԸՆԴԱՄԵՆԸ | D12: =+D14 -> 0 | E12: =+E14 -> 0 | F12: =+F14 -> 0 | G12: =+G14 -> 0 | H12: =+H14 -> 0 | I12: =+I14 -> 0 | J12: =+J14 -> 0 | K12: =+K14 -> 0 | ... O12: =+O14 -> 0
C13: այդ թվում`
C14: ԸՆԹԱՑԻԿ ԾԱԽՍԵՐ | D14: =+D15 -> 0 | E14: =+E15 -> 0 | F14: =+F15 -> 0 | G14: =+G15 -> 0 | H14: =+H15 -> 0 | I14: =+I15 -> 0 | J14: =+J15 -> 0 | K14: =+K15 -> 0 | ... O14: =+O15 -> 0
C15: ՀՀ ֆինանսների նախարարություն | D15: =+D17 -> 0 | E15: =+E17 -> 0 | F15: =+F17 -> 0 | G15: =+G17 -> 0 | H15: =+H17 -> 0 | I15: =+I17 -> 0 | J15: =+J17 -> 0 | K15: =+K17 -> 0 | ... O15: =+O17 -> 0
C16: այդ թվում`
A17: 1108 | C17: Հանրային ֆինանսների կառավարման բնագավառում պետական քաղաքականության մշակում, ծրագրերի համակարգում և մոնիտորինգ | D17: =+D19+D28 -> 0 | E17: =+E19+E28 -> 0 | F17: =+F19+F28 -> 0 | G17: =+G19+G28 -> 0 | H17: =+H19+H28 -> 0 | I17: =+I19+I28 -> 0 | J17: =+J19+J28 -> 0 | K17: =+K19+K28 -> 0 | ... O17: =+O19+O28 -> 0
C18: այդ թվում`
B19: 11014 | C19: ԵԶԲ աջակցությամբ ՀՀ ֆինանսների նախարարության համար պետական-մասնավոր գործընկերության ոլորտի ինստիտուցիոնալ կարողությունների ամրապնդում | D19: =+D21 -> -4693.88 | E19: =+E21 -> -3911.5667 | F19: =+F21 -> -782.31333 | G19: =+G21 -> -4693.88 | H19: =+H21 -> -3911.5667 | I19: =+I21 -> -782.31333 | J19: =+J21 -> -4693.88 | K19: =+K21 -> -3911.5667 | ... O19: =+O21 -> -782.31333
C20: այդ թվում` ըստ կատարողների
C21: ՀՀ ֆինանսների նախարարություն | D21: =+D23 -> -4693.88 | E21: =+E23 -> -3911.5667 | F21: =+F23 -> -782.31333 | G21: =+G23 -> -4693.88 | H21: =+H23 -> -3911.5667 | I21: =+I23 -> -782.31333 | J21: =+J23 -> -4693.88 | K21: =+K23 -> -3911.5667 | ... O21: =+O23 -> -782.31333
C22: այդ թվում` բյուջետային ծախսերի տնտեսագիտական դասակարգման հոդվածներ
C23: ԸՆԴԱՄԵՆԸ ԾԱԽՍԵՐ | D23: =+D24 -> -4693.88 | E23: =+E24 -> -3911.5667 | F23: =+F24 -> -782.31333 | G23: =+G24 -> -4693.88 | H23: =+H24 -> -3911.5667 | I23: =+I24 -> -782.31333 | J23: =+J24 -> -4693.88 | K23: =+K24 -> -3911.5667 | ... O23: =+O24 -> -782.31333
C24: ԸՆԹԱՑԻԿ ԾԱԽՍԵՐ | D24: =+D25 -> -4693.88 | E24: =+E25 -> -3911.5667 | F24: =+F25 -> -782.31333 | G24: =+G25 -> -4693.88 | H24: =+H25 -> -3911.5667 | I24: =+I25 -> -782.31333 | J24: =+J25 -> -4693.88 | K24: =+K25 -> -3911.5667 | ... O24: =+O25 -> -782.31333
C25: ԾԱՌԱՅՈՒԹՅՈՒՆՆԵՐԻ ԵՎ ԱՊՐԱՆՔՆԵՐԻ ՁԵՌՔԲԵՐՈՒՄ | D25: =+D27 -> -4693.88 | E25: =+E27 -> -3911.5667 | F25: =+F27 -> -782.31333 | G25: =+G27 -> -4693.88 | H25: =+H27 -> -3911.5667 | I25: =+I27 -> -782.31333 | J25: =+J27 -> -4693.88 | K25: =+K27 -> -3911.5667 | ... O25: =+O27 -> -782.31333
C26: Պայմանագրային այլ ծառայությունների ձեռքբերում | D26: =+D27 -> -4693.88 | E26: =+E27 -> -3911.5667 | F26: =+F27 -> -782.31333 | G26: =+G27 -> -4693.88 | H26: =+H27 -> -3911.5667 | I26: =+I27 -> -782.31333 | J26: =+J27 -> -4693.88 | K26: =+K27 -> -3911.5667 | ... O26: =+O27 -> -782.31333
C27: - Ընդհանուր բնույթի այլ ծառայություններ | D27: -4693.88 | E27: =+D27-F27 -> -3911.5667 | F27: =+D27/6 -> -782.31333 | G27: -4693.88 | H27: =+G27-I27 -> -3911.5667 | I27: =+G27/6 -> -782.31333 | J27: -4693.88 | K27: =+J27-L27 -> -3911.5667 | L27: =+J27/6 -> -782.31333 | M27: -4693.88 | N27: =+M27-O27 -> -3911.5667 | O27: =+M27/6 -> -782.31333
B28: 31003 | C28: ԵԶԲ աջակցությամբ «ՀՀ ֆինանսների նախարարության համար պետական-մասնավոր գործընկերության ոլորտի ինստիտուցիոնալ կարողությունների ամրապնդմանն ուղղված տեխնիկական աջակցության տրամադրման մասին» դրամաշնորհային ծրագրի իրականացում | D28: =+D30 -> 4693.88 | E28: =+E30 -> 3911.5667 | F28: =+F30 -> 782.31333 | G28: =+G30 -> 4693.88 | H28: =+H30 -> 3911.5667 | I28: =+I30 -> 782.31333 | J28: =+J30 -> 4693.88 | K28: =+K30 -> 3911.5667 | ... O28: =+O30 -> 782.31333
C29: այդ թվում` ըստ կատարողների
C30: ՀՀ ֆինանսների նախարարություն | D30: =+D32 -> 4693.88 | E30: =+E32 -> 3911.5667 | F30: =+F32 -> 782.31333 | G30: =+G32 -> 4693.88 | H30: =+H32 -> 3911.5667 | I30: =+I32 -> 782.31333 | J30: =+J32 -> 4693.88 | K30: =+K32 -> 3911.5667 | ... O30: =+O32 -> 782.31333
C31: այդ թվում` բյուջետային ծախսերի տնտեսագիտական դասակարգման հոդվածներ
C32: ԸՆԴԱՄԵՆԸ ԾԱԽՍԵՐ | D32: =+D33 -> 4693.88 | E32: =+E33 -> 3911.5667 | F32: =+F33 -> 782.31333 | G32: =+G33 -> 4693.88 | H32: =+H33 -> 3911.5667 | I32: =+I33 -> 782.31333 | J32: =+J33 -> 4693.88 | K32: =+K33 -> 3911.5667 | ... O32: =+O33 -> 782.31333
C33: ՈՉ ՖԻՆԱՆՍԱԿԱՆ ԱԿՏԻՎՆԵՐԻ ԳԾՈՎ ԾԱԽՍԵՐ | D33: =+D34 -> 4693.88 | E33: =+E34 -> 3911.5667 | F33: =+F34 -> 782.31333 | G33: =+G34 -> 4693.88 | H33: =+H34 -> 3911.5667 | I33: =+I34 -> 782.31333 | J33: =+J34 -> 4693.88 | K33: =+K34 -> 3911.5667 | ... O33: =+O34 -> 782.31333
C34: ՀԻՄՆԱԿԱՆ ՄԻՋՈՑՆԵՐ | D34: =+D35 -> 4693.88 | E34: =+E35 -> 3911.5667 | F34: =+F35 -> 782.31333 | G34: =+G35 -> 4693.88 | H34: =+H35 -> 3911.5667 | I34: =+I35 -> 782.31333 | J34: =+J35 -> 4693.88 | K34: =+K35 -> 3911.5667 | ... O34: =+O35 -> 782.31333
C35: ՄԵՔԵՆԱՆԵՐ ԵՎ ՍԱՐՔԱՎՈՐՈՒՄՆԵՐ | D35: =+D36 -> 4693.88 | E35: =+E36 -> 3911.5667 | F35: =+F36 -> 782.31333 | G35: =+G36 -> 4693.88 | H35: =+H36 -> 3911.5667 | I35: =+I36 -> 782.31333 | J35: =+J36 -> 4693.88 | K35: =+K36 -> 3911.5667 | ... O35: =+O36 -> 782.31333
C36: - Վարչական սարքավորումներ | D36: 4693.88 | E36: =+D36-F36 -> 3911.5667 | F36: =+D36/6 -> 782.31333 | G36: 4693.88 | H36: =+G36-I36 -> 3911.5667 | I36: =+G36/6 -> 782.31333 | J36: 4693.88 | K36: =+J36-L36 -> 3911.5667 | L36: =+J36/6 -> 782.31333 | M36: 4693.88 | N36: =+M36-O36 -> 3911.5667 | O36: =+M36/6 -> 782.31333

Sheet N 9
M1: Հավելված N 9
L2: ՀՀ կառավարության 2026 թվականի
L3: ______________ ի ___Ն որոշման
A6: ՀԱՅԱՍՏԱՆԻ ՀԱՆՐԱՊԵՏՈՒԹՅԱՆ ԿԱՌԱՎԱՐՈՒԹՅԱՆ 2025 ԹՎԱԿԱՆԻ ԴԵԿՏԵՄԲԵՐԻ 25-Ի N 1910-Ն ՈՐՈՇՄԱՆ N 9 ՀԱՎԵԼՎԱԾՈՒՄ ԿԱՏԱՐՎՈՂ ՓՈՓՈԽՈՒԹՅՈՒՆՆԵՐԸ ԵՎ ԼՐԱՑՈՒՄՆԵՐԸ
M8: հազար դրամներով
A9: ԲԳԿ | B9: Ծրագիր | D9: Միջոցառում | H9: Իրականացնողը/ ակտիվն օգտագործողը/ շահառուի ընտրության չափորոշիչը | I9: Արդյունքային չափորոշիչը | J9: Ցուցանիշների փոփոխությունները ավելացումները նշված են դրական նշանով, իսկ նվազեցումները՝ փակագծերում
B10: Դասիչը | C10: Անվանումը | D10: Դասիչը | E10: Անվանումը | F10: Նկարագրությունը | G10: Տեսակը | J10: Առաջին եռամսյակ | K10: Առաջին կիսամյակ | L10: Ինն ամիս | M10: Տարի
A11: ԸՆԴԱՄԵՆԸ | J11: =+J12+J19+J71+J83+J96+J110+J240+J253+J274+J284+J298+J312 -> 8857443.6 | K11: =+K12+K19+K71+K83+K96+K110+K240+K253+K274+K284+K298+K312 -> 10484882 | L11: =+L12+L19+L71+L83+L96+L110+L240+L253+L274+L284+L298+L312 -> 10722643 | M11: =+M12+M19+M71+M83+M96+M110+M240+M253+M274+M284+M298+M312 -> 11015854
A12: ՀՀ Ազգային ժողով | J12: 16356.6 | K12: 16356.6 | L12: 16356.6 | M12: 16356.6
B13: 1024 | C13: ՀՀ Ազգային ժողովի լիազորությունների իրականացման ապահովում | J13: 16356.6 | K13: 16356.6 | L13: 16356.6 | M13: 16356.6
D14: 1024 - 31001 | E14: Ազգային ժողովի տեխնիկական հագեցվածության բարելավում | J14: 16356.6 | K14: 16356.6 | L14: 16356.6 | M14: 16356.6
F15: Ազգային ժողովի աշխատակազմի աշխատանքային պայմանների բարելավման համար վարչական սարքավորումների ձեռքբերում
G16: Պետական մարմինների կողմից օգտագործվող ոչ ֆինանսական ակտիվների հետ գործառնություններ
H17: Ակտիվն օգտագործող կազմակերպության անվանումը` ՀՀ Ազգային ժողով
I18: Գրասենյակային գույքի միավորի քանակ, հատ, լրակազմ | K18: 159 | M18: 159
A19: ՀՀ տարածքային կառավարման և ենթակառուցվածքների նախարարություն | J19: =+J20+J29+J38+J47+J53+J58 -> 2010433.6 | K19: =+K20+K29+K38+K47+K53+K58 -> 2655415.2 | L19: =+L20+L29+L38+L47+L53+L58 -> 2655415.2 | M19: =+M20+M29+M38+M47+M53+M58 -> 2911873.6
B20: 1004 | C20: Ոռոգման համակարգի առողջացում | J20: =+J21+J25 -> 35218.1 | K20: =+K21+K25 -> 270766.9 | L20: =+L21+L25 -> 270766.9 | M20: =+M21+M25 -> 270766.9
D21: 1004 - 31002 | E21: Ոռոգման համակարգերի հիմնանորոգում | J21: 0 | K21: 235548.8 | L21: 235548.8 | M21: 235548.8
F22: Ոռոգման համակարգերի հիմնանորոգում
G23: Պետական մարմինների կողմից օգտագործվող ոչ ֆինանսական ակտիվների հետ գործառնություններ
H24: Ակտիվն օգտագործող կազմակերպության անվանումը` ՀՀ ՏԿԵՆ ջրային կոմիտե
D25: 1004 - 31009 | E25: Օրվա կարգավորման ջրավազանների կառուցում և վերակառուցում | J25: 35218.1 | K25: 35218.1 | L25: 35218.1 | M25: 35218.1
F26: Օրվա կարգավորման ջրավազանների կառուցման և վերակառուցման համար նախագծերի և աշխատանքների ձեռք բերում
G27: Պետական մարմինների կողմից օգտագործվող ոչ ֆինանսական ակտիվների հետ գործառնություններ
H28: Ակտիվն օգտագործող կազմակերպության անվանումը` ՀՀ ՏԿԵՆ ջրային կոմիտե
B29: 1049 | C29: Ճանապարհային ցանցի բարելավում | J29: =+J30+J34 -> 1539321.9 | K29: =+K30+K34 -> 1539321.9 | L29: =+L30+L34 -> 1539321.9 | M29: =+M30+M34 -> 1539321.9
D30: 1049 - 21001 | E30: Պետական նշանակության ավտոճանապարհների հիմնանորոգում | J30: 1481736 | K30: 1481736 | L30: 1481736 | M30: 1481736
F31: Միջպետական, հանրապետական և մարզային նշանակության ավտոճոնապարհների քայքայված ծածկի վերանորոգում, մաշված ծածկի փոխարինում
G32: Հանրության կողմից անմիջականորեն օգտագործվող ակտիվների հետ կապված միջոցառումներ
H33: Միջոցառումն իրականացնողի անվանումը` Մասնագիտացված միավոր
D34: 1049 - 21002 | E34: Տրանսպորտային օբյեկտների հիմնանորոգում | J34: 57585.9 | K34: 57585.9 | L34: 57585.9 | M34: 57585.9
F35: Ավտոմոբիլային ճանապարհների վրա գտնվող կամուրջների հիմնանորոգում
G36: Հանրության կողմից անմիջականորեն օգտագործվող ակտիվների հետ կապված միջոցառումներ
H37: Միջոցառումն իրականացնողի անվանումը` Մասնագիտացված միավոր
B38: 1072 | C38: Ջրամատակարարաման և ջրահեռացման բարելավում | J38: =+J39+J43 -> 40852.1 | K38: =+K39+K43 -> 450284.9 | L38: =+L39+L43 -> 450284.9 | M38: =+M39+M43 -> 706743.3
D39: 1072 - 31008 | E39: Պարտադիր կապիտալ աշխատանքների ծրագրի շրջանակներում ջրամատակարարման և ջրահեռացման ենթակառուցվածքների հիմնանորոգում | J39: 0 | K39: 409432.8 | L39: 409432.8 | M39: 409432.8
F40: Մի շարք համայնքներում ջրամատակարարման և ջրահեռացման համակարգերի կառուցման և վերականգնման աշխատանքներ
G41: Պետական մարմինների կողմից օգտագործվող ոչ ֆինանսական ակտիվների հետ գործառնություններ
H42: Ակտիվն օգտագործող կազմակերպության անվանումը` ՀՀ ՏԿԵՆ ջրային կոմիտե
D43: 1072 - 31010 | E43: Ջրամատակարարման և ջրահեռացման համակարգի հիմնանորոգում | J43: 40852.1 | K43: 40852.1 | L43: 40852.1 | M43: 297310.5
...

Sheet N 10
L1: Հավելված N 10
L2: ՀՀ կառավարության 2026 թվականի
L3: ______________ ի ___Ն որոշման
A6: ՀԱՅԱՍՏԱՆԻ ՀԱՆՐԱՊԵՏՈՒԹՅԱՆ ԿԱՌԱՎԱՐՈՒԹՅԱՆ 2025 ԹՎԱԿԱՆԻ ԴԵԿՏԵՄԲԵՐԻ 25-Ի N 1910-Ն ՈՐՈՇՄԱՆ N 9.1 ՀԱՎԵԼՎԱԾՈՒՄ ԿԱՏԱՐՎՈՂ ՓՈՓՈԽՈՒԹՅՈՒՆՆԵՐԸ ԵՎ ԼՐԱՑՈՒՄՆԵՐԸ
M7: հազար դրամներով
A8: ԲՍԿ | B8: Ծրագիր | D8: Միջոցառում | H8: Իրականացնողը/ ակտիվն օգտագործողը/ շահառուի ընտրության չափորոշիչը | I8: Արդյունքային չափորոշիչը | J8: Ցուցանիշների փոփոխությունները ավելացումները նշված են դրական նշանով, իսկ նվազեցումները՝ փակագծերում
B9: Դասիչը | C9: Անվանումը | D9: Դասիչը | E9: Անվանումը | F9: Նկարագրությունը | G9: Տեսակը | J9: Առաջին եռամսյակ | K9: Առաջին կիսամյակ | L9: Ինն ամիս | M9: Տարի
A10: ԸՆԴԱՄԵՆԸ | J10: =+J11+J18+J49+J67+J167+J180+J190+J204+J223+J229+J243+J250+J259+J335+J346+J360+J367+J377+J383+J389 -> 8857443.6 | K10: =+K11+K18+K49+K67+K167+K180+K190+K204+K223+K229+K243+K250+K259+K335+K346+K360+K367+K377+K383+K389 -> 10484882 | L10: =+L11+L18+L49+L67+L167+L180+L190+L204+L223+L229+L243+L250+L259+L335+L346+L360+L367+L377+L383+L389 -> 10722643 | M10: =+M11+M18+M49+M67+M167+M180+M190+M204+M223+M229+M243+M250+M259+M335+M346+M360+M367+M377+M383+M389 -> 11015854
A11: ՀՀ Ազգային ժողով | J11: 16356.6 | K11: 16356.6 | L11: 16356.6 | M11: 16356.6
B12: 1024 | C12: ՀՀ Ազգային ժողովի լիազորությունների իրականացման ապահովում | J12: 16356.6 | K12: 16356.6 | L12: 16356.6 | M12: 16356.6
D13: 1024 - 31001 | E13: Ազգային ժողովի տեխնիկական հագեցվածության բարելավում | J13: 16356.6 | K13: 16356.6 | L13: 16356.6 | M13: 16356.6
F14: Ազգային ժողովի աշխատակազմի աշխատանքային պայմանների բարելավման համար վարչական սարքավորումների ձեռքբերում
G15: Պետական մարմինների կողմից օգտագործվող ոչ ֆինանսական ակտիվների հետ գործառնություններ
H16: Ակտիվն օգտագործող կազմակերպության անվանումը` ՀՀ Ազգային ժողով
I17: Գրասենյակային գույքի միավորի քանակ, հատ, լրակազմ | K17: 159 | M17: 159
A18: ՀՀ տարածքային կառավարման և ենթակառուցվածքների նախարարություն | J18: =+J19+J24+J33+J38+J43 -> 2136160.2 | K18: =+K19+K24+K33+K38+K43 -> 2386943.2 | L18: =+L19+L24+L33+L38+L43 -> 2386943.2 | M18: =+M19+M24+M33+M38+M43 -> 2386943.2
B19: 1072 | C19: Ջրամատակարարաման և ջրահեռացման բարելավում | J19: =+J20 -> 40852.1 | K19: =+K20 -> 40852.1 | L19: =+L20 -> 40852.1 | M19: =+M20 -> 40852.1
D20: 1072 - 31010 | E20: Ջրամատակարարման և ջրահեռացման համակարգի հիմնանորոգում | J20: 40852.1 | K20: 40852.1 | L20: 40852.1 | M20: 40852.1
F21: Ջրամատակարարման և ջրահեռացման համակարգի հիմնանորոգման նախագծերի և աշխատանքների ձեռքբերում
G22: Պետական մարմինների կողմից օգտագործվող ոչ ֆինանսական ակտիվների հետ գործառնություններ
H23: Ակտիվն օգտագործող կազմակերպության անվանումը` ՀՀ ՏԿԵՆ ջրային կոմիտե
B24: 1049 | C24: Ճանապարհային ցանցի բարելավում | J24: =+J25+J29 -> 1488729.9 | K24: =+K25+K29 -> 1488729.9 | L24: =+L25+L29 -> 1488729.9 | M24: =+M25+M29 -> 1488729.9
D25: 1049 - 21001 | E25: Պետական նշանակության ավտոճանապարհների հիմնանորոգում | J25: 1431144 | K25: 1431144 | L25: 1431144 | M25: 1431144
F26: Միջպետական, հանրապետական և մարզային նշանակության ավտոճոնապարհների քայքայված ծածկի վերանորոգում, մաշված ծածկի փոխարինում
G27: Հանրության կողմից անմիջականորեն օգտագործվող ակտիվների հետ կապված միջոցառումներ
H28: Միջոցառումն իրականացնողի անվանումը` Մասնագիտացված միավոր
D29: 1049 - 21002 | E29: Տրանսպորտային օբյեկտների հիմնանորոգում | J29: 57585.9 | K29: 57585.9 | L29: 57585.9 | M29: 57585.9
F30: Ավտոմոբիլային ճանապարհների վրա գտնվող կամուրջների հիմնանորոգում
G31: Հանրության կողմից անմիջականորեն օգտագործվող ակտիվների հետ կապված միջոցառումներ
H32: Միջոցառումն իրականացնողի անվանումը` Մասնագիտացված միավոր
B33: 1157 | C33: Քաղաքային զարգացում | J33: 310243.7 | K33: 310243.7 | L33: 310243.7 | M33: 310243.7
D34: 1157 - 21001 | E34: Երևանի մետրոպոլիտենի ենթակառուցվածքների նորոգում | J34: 310243.7 | K34: 310243.7 | L34: 310243.7 | M34: 310243.7
F35: Երևանի մետրոպոլիտենի ենթակառուցվածքների նորոգում
G36: Հանրության կողմից անմիջականորեն օգտագործվող ակտիվների հետ կապված միջոցառումներ
H37: Շահառուների ընտրության չափանիշները` ՀՀ բնակչություն
B38: 1163 | C38: Մասսայական սպորտ | J38: 250783 | K38: 501566 | L38: 501566 | M38: 501566
D39: 1163 - 12001 | E39: Աջակցություն համայնքներին մարզական հաստատությունների շենքային պայմանների բարելավման համար | J39: 250783 | K39: 501566 | L39: 501566 | M39: 501566
F40: Համայնքային ենթակայության մարզական հաստատությունների վերանորոգում և կառուցում
G41: Տրանսֆերտների տրամադրում
H42: Շահառուների ընտրության չափորոշիչները` ՀՀ համայնքների ենթակայության մարզական հաստատությունների շենքային պայմանների բարելավման անհրաժեշտությունը
...

Sheet N 11.
C1: Հավելված N 11
D2: ՀՀ կառավարության 2026 թվականի
D3: ______________ ի ___Ն որոշման
D5: հազար դրամներով
A6: ՀԱՅԱՍՏԱՆԻ ՀԱՆՐԱՊԵՏՈՒԹՅԱՆ ԿԱՌԱՎԱՐՈՒԹՅԱՆ 2025 ԹՎԱԿԱՆԻ ԴԵԿՏԵՄԲԵՐԻ 25-Ի N 1910-Ն N 8 ՀԱՎԵԼՎԱԾՈՒՄ ԿԱՏԱՐՎՈՂ ԼՐԱՑՈՒՄԸ
A10: Ծրագրային դասիչը | C10: Ծրագրերի, միջոցառումների անվանումները | D10: Ցուցանիշների փոփոխությունը (ավելացումները նշված են դրական նշանով)
A11: Ծրագիր | B11: Միջոցառում
C12: ԸՆԴԱՄԵՆԸ ԾԱԽՍԵՐ | D12: =+D14+D16 -> 351095.8
C13: այդ թվում՝
A14: 1072 | C14: Ջրամատակարարաման և ջրահեռացման բարելավում | D14: =+D15 -> 40852.1
B15: 31010 | C15: Ջրամատակարարման և ջրահեռացման համակարգի հիմնանորոգում | D15: 40852.1
A16: 1157 | C16: Քաղաքային զարգացում | D16: =+D17 -> 310243.7
B17: 21037 | C17: Երևան քաղաքի նախադպրոցական ուսումնական հաստատությունների կառուցման և հիմնանորոգման աշխատանքներ | D17: 310243.7

Sheet N 12
H1: Հավելված N 12
H3: ՀՀ կառավարության 2026 թվականի
H4: ______________ ի ___Ն որոշման
A7: ՀԱՅԱՍՏԱՆԻ ՀԱՆՐԱՊԵՏՈՒԹՅԱՆ ԿԱՌԱՎԱՐՈՒԹՅԱՆ 2025 ԹՎԱԿԱՆԻ ԴԵԿՏԵՄԲԵՐԻ 25-Ի N 1910-Ն N 10 ՀԱՎԵԼՎԱԾՈՒՄ ԿԱՏԱՐՎՈՂ ԼՐԱՑՈՒՄՆԵՐԸ
A11: Կոդը | B11: Անվանումը | E11: Գնման ձևը | F11: Չափման միավորը | G11: Միավորի գինը | H11: Քանակը | I11: Ցուցանիշների փոփոխությունները (ավելացումները նշված են դրական նշանով)
I12: (հազար դրամներով)
A13: ՀՀ Ազգային ժողով
A14: Բաժին N 01 | B14: Խումբ N 01 | C14: Դաս N 01 | D14: Օրենսդիր և գործադիր մարմիններ, պետական կառավարում
B15: ՄԱՍ I. ԱՊՐԱՆՔՆԵՐ | I15: =SUM(I16:I20) -> 16356.6
A16: 39111190 | B16: բազկաթոռներ | E16: ԷԱՃ | F16: հատ | G16: 154200 | H16: 4 | I16: =+G16*H16/1000 -> 616.8
A17: 39111190 | B17: բազկաթոռներ | E17: ԷԱՃ | F17: հատ | G17: 99360 | H17: 5 | I17: =+G17*H17/1000 -> 496.8
A18: 39111190 | B18: բազկաթոռներ | E18: ՀՄԱ | F18: հատ | G18: 131560 | H18: 30 | I18: =+G18*H18/1000 -> 3946.8
A19: 39111190 | B19: բազկաթոռներ | E19: ՀՄԱ | F19: հատ | G19: 131560 | H19: 30 | I19: =+G19*H19/1000 -> 3946.8
A20: 39111190 | B20: բազկաթոռներ | E20: ՀՄԱ | F20: հատ | G20: 81660 | H20: 90 | I20: =+G20*H20/1000 -> 7349.4
A22: ՀՀ տարածքային կառավարման և ենթակառուցվածքների նախարարություն
A23: Բաժին N 04 | B23: Խումբ N 05 | C23: Դաս N 01 | D23: Ճանապարհային տրանսպորտ
A24: 1049 21001 | B24: Պետական նշանակության ավտոճանապարհների հիմնանորոգում
B25: ՄԱՍ III. ԾԱՌԱՅՈՒԹՅՈՒՆՆԵՐ | I25: =I26+I27+I28+I29+I30+I31+I32+I33 -> 6515.936
A26: 71351540/ | B26: տեխնիկական հսկողության ծառայություններ | E26: ՀԲՄ | F26: դրամ | G26: 2760000 | H26: 1 | I26: =+H26*G26/1000 -> 2760
A27: 71351540/ | B27: տեխնիկական հսկողության ծառայություններ | E27: ՀԲՄ | F27: դրամ | G27: 270000 | H27: 1 | I27: =+H27*G27/1000 -> 270
A28: 71351540/ | B28: տեխնիկական հսկողության ծառայություններ | E28: ՀԲՄ | F28: դրամ | G28: 2134636 | H28: 1 | I28: =+H28*G28/1000 -> 2134.636
A29: 71351540/ | B29: տեխնիկական հսկողության ծառայություններ | E29: ԲՄ | F29: դրամ | G29: 215000 | H29: 1 | I29: =+H29*G29/1000 -> 215
A30: 98111140/ | B30: հեղինակային հսկողության ծառայություններ | E30: ՄԱ | F30: դրամ | G30: 158200 | H30: 1 | I30: =+H30*G30/1000 -> 158.2
A31: 98111140/ | B31: հեղինակային հսկողության ծառայություններ | E31: ՄԱ | F31: դրամ | G31: 259100 | H31: 1 | I31: =+H31*G31/1000 -> 259.1
A32: 98111140/ | B32: հեղինակային հսկողության ծառայություններ | E32: ՄԱ | F32: դրամ | G32: 589000 | H32: 1 | I32: =+H32*G32/1000 -> 589
A33: 98111140/ | B33: հեղինակային հսկողության ծառայություններ | E33: ՄԱ | F33: դրամ | G33: 130000 | H33: 1 | I33: =+H33*G33/1000 -> 130
A35: ՀՀ առողջապահության նախարարություն | I35: =+I36 -> 1381370.8
A36: Բաժին 07 | B36: Խումբ 06 | C36: Դաս 02 | D36: Առողջապահություն (այլ դասերին չպատկանող) | I36: =+I37+I43 -> 1381370.8
A37: 1126 31002 | B37: Առողջապահական կազմակերպությունների վերազինում | I37: =+I38 -> 105214.79
B38: ՄԱՍ I. ԱՊՐԱՆՔՆԵՐ | I38: =SUM(I39:I42) -> 105214.79
A39: 33121140 | B39: լսողության չափման սարքեր | E39: ԷԱՃ | F39: հատ | G39: 3468000 | H39: 1 | I39: =G39*H39/1000 -> 3468
A40: 33191120 | B40: բժշկական կահույք | E40: ԷԱՃ | F40: հատ | G40: 156452.8 | H40: 15 | I40: =G40*H40/1000 -> 2346.792
A41: 33111330 | B41: ռենտգեն ախտորոշման համակարգ | E41: ԷԱՃ | F41: հատ | G41: 15500000 | H41: 2 | I41: =G41*H41/1000 -> 31000
A42: 33121260 | B42: ուլտրաձայնային ախտորոշման սարքեր | E42: ԷԱՃ | F42: հատ | G42: 68400000 | H42: 1 | I42: =+G42*H42/1000 -> 68400
A43: 1126 31003 | B43: Առողջապահական կազմակերպությունների կառուցում, վերակառուցում | I43: =+I44+I67 -> 1276156
B44: ՄԱՍ II. ԱՇԽԱՏԱՆՔՆԵՐ | I44: =SUM(I45:I66) -> 1251720.8
A45: 45211250 | B45: առողջապահության հետ կապված շենքերի կառուցման աշխատանքներ | E45: ԳՀ | F45: դրամ | G45: 1507628 | H45: 1 | I45: 1507.628
A46: 45211250/509 | B46: առողջապահության հետ կապված շենքերի կառուցման աշխատանքներ | E46: ՀԲՄ | F46: դրամ | I46: 58422.329
A47: 45211250/504 | B47: առողջապահության հետ կապված շենքերի կառուցման աշխատանքներ | E47: ՀԲՄ | F47: դրամ | I47: 58328.4
A48: 45211250/505 | B48: առողջապահության հետ կապված շենքերի կառուցման աշխատանքներ | E48: ՀԲՄ | F48: դրամ | I48: 60134.854
...

Sheet Sheet1

Sheet 0
