Workbook
Name _1__հայտարարվել_է_նախ_մրցույթ: #REF!
Name AgencyCode: #REF!
Name AgencyName: #REF!
Name åû: #REF!
Name davit: #REF!
Name Functional1: #REF!
Name ggg: #REF!
Name hav: #REF!
Name mas: #REF!
Name mass: #REF!
Name PANature: #REF!
Name PAType: #REF!
Name Performance2: #REF!
Name PerformanceType: #REF!
Name x: #REF!
Name Հավելված: #REF!
Name Մաս: #REF!
Name շախմատիստ: #REF!
Name վֆյգյգ: #REF!

Sheet N2
E1: Հավելված N 2
E3: ՀՀ կառավարության 2026 թվականի
E4: -----------------ի N -----------Ն որոշման
A6: ՀԱՅԱՍՏԱՆԻ ՀԱՆՐԱՊԵՏՈՒԹՅԱՆ ԿԱՌԱՎԱՐՈՒԹՅԱՆ 2025 ԹՎԱԿԱՆԻ ԴԵԿՏԵՄԲԵՐԻ 25-Ի N 1910-Ն ՈՐՈՇՄԱՆ N 1 ՀԱՎԵԼՎԱԾԻ N 1 ԱՂՅՈՒՍԱԿՈՒՄ ԿԱՏԱՐՎՈՂ ՓՈՓՈԽՈՒԹՅՈՒՆՆԵՐԸ
E8: հազար դրամներով
A9: Պետական բյուջեի դեֆիցիտի ֆինանսավորման աղբյուրներն ու դրանց տարրերի անվանումները | B9: Ցուցանիշների փոփոխությունները ավելացումները նշված են դրական նշանով, իսկ նվազեցումները՝ փակագծերում
B10: Առաջին եռամսյակ | C10: Առաջին կիսամյակ | D10: Ինն ամիս | E10: Տարի
A11: ԸՆԴԱՄԵՆԸ | B11: =B13 -> 6000000 | C11: =C13 -> 4200000 | D11: =D13 -> 2400000 | E11: =E13 -> 0
A12: այդ թվում՝
A13: Ա.Ներքին աղբյուրներ-ընդամենը | B13: =+B15 -> 6000000 | C13: =+C15 -> 4200000 | D13: =+D15 -> 2400000 | E13: =+E15 -> 0
A14: այդ թվում՝
A15: 2. Ֆինանսական զուտ ակտիվներ | B15: =+B17+B21+B42 -> 6000000 | C15: =+C17+C21+C42 -> 4200000 | D15: =+D17+D21+D42 -> 2400000 | E15: =+E17+E21+E42 -> 0
A16: այդ թվում՝
A17: 2.4. Վարկերի և փոխատվությունների տրամադրում | B17: =B19+B20 -> 0 | C17: =C19+C20 -> 0 | D17: =D19+D20 -> 0 | E17: =E19+E20 -> 0
A18: որից`
A19: - արտաքին աղբյուրների աջակցությամբ իրականացվող նպատակային ծրագրերի շրջանակներում ենթավարկերի տրամադրում այդ ծրագրերում ներգրաված տնտեսվարող սուբյեկտներին
A20: - բյուջետային վարկերի տրամադրում տնտեսվարող սուբյեկտներին
A21: 2.5. Տրամադրված վարկերի և փոխատվությունների վերադարձից մուտքեր | B21: =SUM(B22:B41) -> 0 | C21: =SUM(C22:C41) -> 0 | D21: =SUM(D22:D41) -> 0 | E21: =SUM(E22:E41) -> 0
A22: «Հայկական ատոմակայան» ՓԲԸ
A23: «Բարձրավոլտ էլեկտրական ցանցեր» ՓԲԸ
A24: «Երևանի Ջերմաէլեկտրակենտրոն» ՓԲԸ
A25: ՀՀ կենտրոնական բանկից
A26: «ՔոնթուրԳլոբալ Հիդրո Կասկադ» ՓԲԸ-
A27: «Դի ընդ Էյջ Գրուպ» ՍՊԸ
A28: «Երևանի ավտոբուսներ» ՓԲԸ
A29: «Էլեկտրաէներգետիկական համակարգի օպերատոր» ՓԲԸ
A30: «Հայաստանի էլեկտրական ցանցեր» ՓԲԸ
A31: «Կարեն Դեմիրճյանի անվան մետրոպոլիտեն» ՓԲԸ
A32: «Միջազգային էներգետիկ կորպորացիա» ՓԲԸ
A33: Գյուղական ֆինանսավորման կառույց
... A41: Այլ
A42: 2.6.Այլ | B42: =+B43 -> 6000000 | C42: =+C43 -> 4200000 | D42: =+D43 -> 2400000 | E42: =+E43 -> 0
A43: ժամանակավորապես ազատ միջոցներ | B43: =+'N3'!G10 -> 6000000 | C43: =+'N3'!H10 -> 4200000 | D43: =+'N3'!I10 -> 2400000 | E43: =+'N3'!J10 -> 0
A44: 1.2. Ստացված վարկերի և փոխատվությունների մարում
A45: ՀՀ ֆինանսների նախարարություն
A46: 2.Ֆինանսական զուտ ակտիվներ | B46: =+B48 -> 0 | C46: =+C48 -> 0 | D46: =+D48 -> 0 | E46: =+E48 -> 0
A47: այդ թվում՝
A48: 2.3 Բաժնետոմսերի և կապիտալում այլ մասնակցության ձեռքբերում | B48: =+B49+B52 -> 0 | C48: =+C49+C52 -> 0 | D48: =+D49+D52 -> 0 | E48: =+E49+E52 -> 0
A49: ՀՀ ֆինանսների նախարարություն | B49: =B51 -> 0 | C49: =C51 -> 0 | D49: =D51 -> 0 | E49: =E51 -> 0
A50: որից`
...

Sheet N3
J1: Հավելված N 3
K2: ՀՀ կառավարության 2026 թվականի
K3: -----------------ի N -----------Ն որոշման
B6: «ՀԱՅԱՍՏԱՆԻ ՀԱՆՐԱՊԵՏՈՒԹՅԱՆ 2026 ԹՎԱԿԱՆԻ ՊԵՏԱԿԱՆ ԲՅՈՒՋԵԻ ՄԱՍԻՆ» ՀԱՅԱՍՏԱՆԻ ՀԱՆՐԱՊԵՏՈՒԹՅԱՆ ՕՐԵՆՔԻ N 1 ՀԱՎԵԼՎԱԾԻ N 2 ԱՂՅՈՒՍԱԿՈՒՄ ԿԱՏԱՐՎՈՂ ՎԵՐԱԲԱՇԽՈՒՄԸ ԵՎ ՀԱՅԱՍՏԱՆԻ ՀԱՆՐԱՊԵՏՈՒԹՅԱՆ ԿԱՌԱՎԱՐՈՒԹՅԱՆ 2025 ԹՎԱԿԱՆԻ ԴԵԿՏԵՄԲԵՐԻ 25-Ի N 1910-Ն ՈՐՈՇՄԱՆ N 5 ՀԱՎԵԼՎԱԾԻ N 1 ԱՂՅՈՒՍԱԿՈՒՄ ԿԱՏԱՐՎՈՂ ՓՈՓՈԽՈՒԹՅՈՒՆՆԵՐԸ ԵՎ ԼՐԱՑՈՒՄՆԵՐԸ
J7: հազար դրամներով
A8: ԲԳԿ | B8: Ծրագրային դասիչը | D8: ԲԳԿ/Ծրագրի /միջոցառման անվանումը | E8: Ծրագրի նպատակը/Միջոցառման նկարագրությունը | F8: Վերջնական արդյունքի նկարագրությունը/Միջոցառման տեսակը | G8: Ցուցանիշների փոփոխությունները ավելացումները նշված են դրական նշանով, իսկ նվազեցումները՝ փակագծերում
B9: Ծրագիր | C9: Միջոցառում | G9: Առաջին եռամսյակ | H9: Առաջին կիսամյակ | I9: Ինն ամիս | J9: Տարի
A10: ԸՆԴԱՄԵՆԸ | G10: =+G86 -> 6000000 | H10: =+H86 -> 4200000 | I10: =+I86 -> 2400000 | J10: =+J86 -> 0
A11: Հանրապետության նախագահի աշխատակազմ | G11: 64042.5 | H11: 64042.5 | I11: 64042.5 | J11: 64042.5
B12: 1154 | D12: Հանրապետության նախագահի լիազորությունների իրականացման ապահովում | E12: Աջակցել Հանրապետության նախագահի լիազորությունների իրականացման ապահովմանը | F12: ՀՀ նախագահի Սահմանադրությամբ սահմանված լիազորությունների իրականացման ապահովումը | G12: 64042.5 | H12: 64042.5 | I12: 64042.5 | J12: 64042.5
C13: 1154 - 11006 | D13: Պետական կառավարման մարմինների կատարողականի գնահատում եվ խրախուսում | E13: Պետական մարմնի գործունեության առաջնահերթությունների սահմանում, կատարողականի գնահատման հիման վրա՛ խրախուսման միջոցով արդյունավետության բարձրացում | F13: Ծառայությունների մատուցում | G13: 64042.5 | H13: 64042.5 | I13: 64042.5 | J13: 64042.5
A14: ՀՀ Ազգային ժողով | G14: 667094.7 | H14: 667094.7 | I14: 667094.7 | J14: 667094.7
B15: 1024 | D15: ՀՀ Ազգային ժողովի լիազորությունների իրականացման ապահովում | E15: Օրենսդրական դաշտի ձևավորում և կատարելագործում | F15: Արդյունավետ օրենսդրական դաշտի ապահովում | G15: 667094.7 | H15: 667094.7 | I15: 667094.7 | J15: 667094.7
C16: 1024 - 11005 | D16: Պետական կառավարման մարմինների կատարողականի գնահատում եվ խրախուսում | E16: Պետական մարմնի գործունեության առաջնահերթությունների սահմանում, կատարողականի գնահատման հիման վրա՛ խրախուսման միջոցով արդյունավետության բարձրացում | F16: Ծառայությունների մատուցում | G16: 667094.7 | H16: 667094.7 | I16: 667094.7 | J16: 667094.7
A17: ՀՀ վարչապետի աշխատակազմ | G17: 663633.2 | H17: 663633.2 | I17: 663633.2 | J17: 663633.2
B18: 1136 | D18: ՀՀ Վարչապետի լիազորությունների իրականացման ապահովում | E18: Աջակցել կառավարության, վարչապետի և փոխվարչապետերի գործունեությանը | F18: ՀՀ կառավարության և վարչապետի որոշումների ու հանձնարարականների կատարման վերահսկողության ապահովում | G18: 663633.2 | H18: 663633.2 | I18: 663633.2 | J18: 663633.2
C19: 1136 - 11025 | D19: Պետական կառավարման մարմինների կատարողականի գնահատում եվ խրախուսում | E19: Պետական մարմնի գործունեության առաջնահերթությունների սահմանում, կատարողականի գնահատման հիման վրա՛ խրախուսման միջոցով արդյունավետության բարձրացում | F19: Ծառայությունների մատուցում | G19: 663633.2 | H19: 663633.2 | I19: 663633.2 | J19: 663633.2
A20: ՀՀ տարածքային կառավարման և ենթակառուցվածքների նախարարություն | G20: 623994.4 | H20: 623994.4 | I20: 623994.4 | J20: 623994.4
B21: 1001 | D21: Տարածքային կառավարման ոլորտում քաղաքականության մշակում, ծրագրերի համակարգում և մոնիտորինգի իրականացում | E21: Տարածքային կառավարման բնագավառում պետական արդյունավետ քաղաքականության մշակման և իրականացման ապահովում | F21: Տարածքային կառավարման քաղաքականության իրագործմանն ուղղված ծրագրերի ազդեցության և արդյունավետության բարելավում | G21: 623994.4 | H21: 623994.4 | I21: 623994.4 | J21: 623994.4
C22: 1001 - 11007 | D22: Պետական կառավարման մարմինների կատարողականի գնահատում եվ խրախուսում | E22: Պետական մարմնի գործունեության առաջնահերթությունների սահմանում, կատարողականի գնահատման հիման վրա՛ խրախուսման միջոցով արդյունավետության բարձրացում | F22: Ծառայությունների մատուցում | G22: 623994.4 | H22: 623994.4 | I22: 623994.4 | J22: 623994.4
A23: ՀՀ առողջապահության նախարարություն | G23: 113588.8 | H23: 113588.8 | I23: 113588.8 | J23: 113588.8
B24: 1126 | D24: Առողջապահության ոլորտում պետական քաղաքականության մշակում, ծրագրերի համակարգում և մոնիտորինգ | E24: Մարդու և հանրության առողջության պահպանում, բնակչության առողջության բարելավում, հիվանդությունների կանխարգելում, հաշմանդամության և մահացության ցուցանիշների նվազեցում | F24: Առողջապահության ոլորտում իրականացվող ծրագրերի ազդեցության և արդյունավետության բարելավում | G24: 113588.8 | H24: 113588.8 | I24: 113588.8 | J24: 113588.8
C25: 1126 - 11009 | D25: Պետական կառավարման մարմինների կատարողականի գնահատում եվ խրախուսում | E25: Պետական մարմնի գործունեության առաջնահերթությունների սահմանում, կատարողականի գնահատման հիման վրա՛ խրախուսման միջոցով արդյունավետության բարձրացում | F25: Ծառայությունների մատուցում | G25: 113588.8 | H25: 113588.8 | I25: 113588.8 | J25: 113588.8
A26: ՀՀ արդարադատության նախարարություն | G26: 297788.8 | H26: 297788.8 | I26: 297788.8 | J26: 297788.8
B27: 1057 | D27: Արդարադատության ոլորտում քաղաքականության մշակում, ծրագրերի համակարգում, խորհրդատվության և մոնիտորինգի իրականացում | E27: Արդարադատության ոլորտում քաղաքականության, խորհրդատվության, մոնիտորինգի, գնման և աջակցության իրականացում | F27: Արդարադատության քաղաքականության իրագործմանն ուղղված ծրագրերի արդյունավետության բարելավում | G27: 297788.8 | H27: 297788.8 | I27: 297788.8 | J27: 297788.8
C28: 1057 - 11011 | D28: Պետական կառավարման մարմինների կատարողականի գնահատում եվ խրախուսում | E28: Պետական մարմնի գործունեության առաջնահերթությունների սահմանում, կատարողականի գնահատման հիման վրա՛ խրախուսման միջոցով արդյունավետության բարձրացում | F28: Ծառայությունների մատուցում | G28: 297788.8 | H28: 297788.8 | I28: 297788.8 | J28: 297788.8
A29: ՀՀ էկոնոմիկայի նախարարություն | G29: 224802.3 | H29: 224802.3 | I29: 224802.3 | J29: 224802.3
B30: 1058 | D30: Էկոնոմիկայի ոլորտում պետական քաղաքականության մշակում, ծրագրերի համակարգում և մոնիտորինգ | E30: Էկոնոմիկայի ոլորտում պետական արդյունավետ քաղաքականության մշակման և իրականացման ապահովում | F30: Էկոնոմիկայի ոլորտում իրականացվող ծրագրերի ազդեցության և արդյունավետության բարելավում | G30: 224802.3 | H30: 224802.3 | I30: 224802.3 | J30: 224802.3
C31: 1058 - 11009 | D31: Պետական կառավարման մարմինների կատարողականի գնահատում եվ խրախուսում | E31: Պետական մարմնի գործունեության առաջնահերթությունների սահմանում, կատարողականի գնահատման հիման վրա՛ խրախուսման միջոցով արդյունավետության բարձրացում | F31: Ծառայությունների մատուցում | G31: 224802.3 | H31: 224802.3 | I31: 224802.3 | J31: 224802.3
A32: ՀՀ արտաքին գործերի նախարարություն | G32: 176199.2 | H32: 176199.2 | I32: 176199.2 | J32: 176199.2
B33: 1061 | D33: Արտաքին գործերի ոլորտում Կառավարության քաղաքականության մշակում և իրականացում | E33: Հայաստանի Հանրապետության ինքնիշխանության և պետական շահերի պաշտպանություն | F33: Տարածաշրջանային խաղաղության և կայունության հաստատում, գործընկերների հետ համագործակցության խթանում և հարաբերությունների կարգավորում, ԼՂ-ից բռնի տեղահանվածների կարիքների հասցեագրում | G33: 176199.2 | H33: 176199.2 | I33: 176199.2 | J33: 176199.2
C34: 1061 - 11010 | D34: Պետական կառավարման մարմինների կատարողականի գնահատում եվ խրախուսում | E34: Պետական մարմնի գործունեության առաջնահերթությունների սահմանում, կատարողականի գնահատման հիման վրա՛ խրախուսման միջոցով արդյունավետության բարձրացում | F34: Ծառայությունների մատուցում | G34: 176199.2 | H34: 176199.2 | I34: 176199.2 | J34: 176199.2
A35: ՀՀ շրջակա միջավայրի նախարարություն | G35: 147316.3 | H35: 147316.3 | I35: 147316.3 | J35: 147316.3
B36: 1071 | D36: Շրջակա միջավայրի ոլորտում պետական քաղաքականության մշակում, ծրագրերի համակարգում և մոնիտորինգ | E36: Շրջակա միջավայրի պահպանությանն ուղղված պետական քաղաքականության մշակում և իրականացում | F36: Շրջակա միջավայրի պահպանությանն ուղղված օրենսդրական դաշտի բարելավում, իրականացվող ծրագրերի ազդեցության և արդյունավետության աճ | G36: 147316.3 | H36: 147316.3 | I36: 147316.3 | J36: 147316.3
C37: 1071 - 11006 | D37: Պետական կառավարման մարմինների կատարողականի գնահատում եվ խրախուսում | E37: Պետական մարմնի գործունեության առաջնահերթությունների սահմանում, կատարողականի գնահատման հիման վրա՛ խրախուսման միջոցով արդյունավետության բարձրացում | F37: Ծառայությունների մատուցում | G37: 147316.3 | H37: 147316.3 | I37: 147316.3 | J37: 147316.3
A38: ՀՀ կրթության, գիտության, մշակույթի և սպորտի նախարարություն | G38: 216373.6 | H38: 216373.6 | I38: 216373.6 | J38: 216373.6
B39: 1130 | D39: Կրթության, գիտության, մշակույթի և սպորտի բնագավառի պետական քաղաքականության մշակում, ծրագրերի համակարգում և մոնիտորինգ | E39: Ապահովել համընդհանուր, հավասարապես հասանելի, ներառական և որակյալ կրթություն՛ բավարարելով տնտեսության ու հասարակության պահանջները, լիարժեք ծառայելով ազգային շահերին | F39: Կրթության, գիտության, մշակույթի և սպորտի բնագավառում իրականացվող ծրագրերի ազդեցության և արդյունավետության բարելավում | G39: 216373.6 | H39: 216373.6 | I39: 216373.6 | J39: 216373.6
C40: 1130 - 11010 | D40: Պետական կառավարման մարմինների կատարողականի գնահատում եվ խրախուսում | E40: Պետական մարմնի գործունեության առաջնահերթությունների սահմանում, կատարողականի գնահատման հիման վրա՛ խրախուսման միջոցով արդյունավետության բարձրացում | F40: Ծառայությունների մատուցում | G40: 216373.6 | H40: 216373.6 | I40: 216373.6 | J40: 216373.6
A41: ՀՀ պաշտպանության նախարարություն | G41: 275529.4 | H41: 275529.4 | I41: 275529.4 | J41: 275529.4
B42: 1169 | D42: ՀՀ պաշտպանության ապահովում | E42: ՀՀ ԶՈւ ռազմավարական ծավալումն ապահովող մարտական պատրաստականության պահպանում, արտաքին թշնամուց ՀՀ պետական սահմանների պաշտպանության ապահովում | F42: ՀՀ ԶՈւ ռազմավարական ծավալումն ապահովող մարտական պատրաստականության պահպանում | G42: 275529.4 | H42: 275529.4 | I42: 275529.4 | J42: 275529.4
...

Sheet N 4
A1: . | J1: Հավելված N 4
J2: ՀՀ կառավարության 2026 թվականի
J3: -----------------ի N -----------Ն որոշման
A5: ՀԱՅԱՍՏԱՆԻ ՀԱՆՐԱՊԵՏՈՒԹՅԱՆ ԿԱՌԱՎԱՐՈՒԹՅԱՆ 2025 ԹՎԱԿԱՆԻ ԴԵԿՏԵՄԲԵՐԻ 25-Ի N 1910-Ն ՈՐՈՇՄԱՆ N 3 ՀԱՎԵԼՎԱԾՈՒՄ ԿԱՏԱՐՎՈՂ ՓՈՓՈԽՈՒԹՅՈՒՆՆԵՐԸ ԵՎ ԼՐԱՑՈՒՄՆԵՐԸ
I7: հազար դրամներով
A8: Գործառական դասիչը | D8: Ծրագրային դասիչը | F8: Բյուջետային ծախսերի գործառական դասակարգման բաժինների, խմբերի և դասերի, բյուջետային ծրագրերի միջոցառումների, բյուջետային հատկացումների գլխավոր կարգադրիչների անվանումները | G8: Ցուցանիշների փոփոխությունները ավելացումները նշված են դրական նշանով, իսկ նվազեցումները՝ փակագծերում
A9: Բաժին | B9: Խումբ | C9: Դաս | D9: Ծրագիր | E9: Միջոցա ռում | G9: Առաջին եռամսյակ | H9: Առաջին կիսամյակ | I9: Ինն ամիս | J9: Տարի
F10: ԸՆԴԱՄԵՆԸ ԾԱԽՍԵՐ | G10: =+'N3'!G10 -> 6000000 | H10: =+'N3'!H10 -> 4200000 | I10: =+'N3'!I10 -> 2400000 | J10: =+'N3'!J10 -> 0
F11: այդ թվում`
A12: 01 | F12: ԸՆԴՀԱՆՈՒՐ ԲՆՈՒՅԹԻ ՀԱՆՐԱՅԻՆ ԾԱՌԱՅՈՒԹՅՈՒՆՆԵՐ | G12: 2871405.2 | H12: 2871405.2 | I12: 2871405.2 | J12: 2871405.2
F13: այդ թվում`
B14: 01 | F14: Օրենսդիր և գործադիր մարմիններ, պետական կառավարում, ֆինանսական և հարկաբյուջետային հարաբերություններ, արտաքին հարաբերություններ | G14: 2725235.3 | H14: 2725235.3 | I14: 2725235.3 | J14: 2725235.3
F15: այդ թվում`
C16: 01 | F16: Օրենսդիր և գործադիր մարմիններ, պետական կառավարում | G16: 2383389 | H16: 2383389 | I16: 2383389 | J16: 2383389
F17: այդ թվում`
D18: 1001 | E18: 11007 | F18: Պետական կառավարման մարմինների կատարողականի գնահատում եվ խրախուսում | G18: 623994.4 | H18: 623994.4 | I18: 623994.4 | J18: 623994.4
F19: ՀՀ տարածքային կառավարման և ենթակառուցվածքների նախարարություն | G19: 623994.4 | H19: 623994.4 | I19: 623994.4 | J19: 623994.4
D20: 1024 | E20: 11005 | F20: Պետական կառավարման մարմինների կատարողականի գնահատում եվ խրախուսում | G20: 667094.7 | H20: 667094.7 | I20: 667094.7 | J20: 667094.7
F21: ՀՀ Ազգային ժողով | G21: 667094.7 | H21: 667094.7 | I21: 667094.7 | J21: 667094.7
D22: 1057 | E22: 11011 | F22: Պետական կառավարման մարմինների կատարողականի գնահատում եվ խրախուսում | G22: 297788.8 | H22: 297788.8 | I22: 297788.8 | J22: 297788.8
F23: ՀՀ արդարադատության նախարարություն | G23: 297788.8 | H23: 297788.8 | I23: 297788.8 | J23: 297788.8
D24: 1136 | E24: 11025 | F24: Պետական կառավարման մարմինների կատարողականի գնահատում եվ խրախուսում | G24: 663633.2 | H24: 663633.2 | I24: 663633.2 | J24: 663633.2
F25: ՀՀ վարչապետի աշխատակազմ | G25: 663633.2 | H25: 663633.2 | I25: 663633.2 | J25: 663633.2
D26: 1154 | E26: 11006 | F26: Պետական կառավարման մարմինների կատարողականի գնահատում եվ խրախուսում | G26: 64042.5 | H26: 64042.5 | I26: 64042.5 | J26: 64042.5
F27: Հանրապետության նախագահի աշխատակազմ | G27: 64042.5 | H27: 64042.5 | I27: 64042.5 | J27: 64042.5
D28: 1203 | E28: 11002 | F28: Պետական կառավարման մարմինների կատարողականի գնահատում եվ խրախուսում | G28: 66835.4 | H28: 66835.4 | I28: 66835.4 | J28: 66835.4
F29: ՀՀ պետական վերահսկողական ծառայություն | G29: 66835.4 | H29: 66835.4 | I29: 66835.4 | J29: 66835.4
C30: 02 | F30: Ֆինանսական և հարկաբյուջետային հարաբերություններ | G30: 165647.1 | H30: 165647.1 | I30: 165647.1 | J30: 165647.1
F31: այդ թվում`
D32: 1023 | E32: 11016 | F32: Պետական կառավարման մարմինների կատարողականի գնահատում եվ խրախուսում | G32: 48973.3 | H32: 48973.3 | I32: 48973.3 | J32: 48973.3
F33: ՀՀ պետական եկամուտների կոմիտե | G33: 48973.3 | H33: 48973.3 | I33: 48973.3 | J33: 48973.3
D34: 1108 | E34: 11015 | F34: Պետական կառավարման մարմինների կատարողականի գնահատում եվ խրախուսում | G34: 116673.8 | H34: 116673.8 | I34: 116673.8 | J34: 116673.8
F35: ՀՀ ֆինանսների նախարարություն | G35: 116673.8 | H35: 116673.8 | I35: 116673.8 | J35: 116673.8
C36: 03 | F36: Արտաքին հարաբերություններ | G36: 176199.2 | H36: 176199.2 | I36: 176199.2 | J36: 176199.2
F37: այդ թվում`
D38: 1061 | E38: 11010 | F38: Պետական կառավարման մարմինների կատարողականի գնահատում եվ խրախուսում | G38: 176199.2 | H38: 176199.2 | I38: 176199.2 | J38: 176199.2
F39: ՀՀ արտաքին գործերի նախարարություն | G39: 176199.2 | H39: 176199.2 | I39: 176199.2 | J39: 176199.2
B40: 03 | F40: Ընդհանուր բնույթի ծառայություններ | G40: 54335.2 | H40: 54335.2 | I40: 54335.2 | J40: 54335.2
F41: այդ թվում`
C42: 02 | F42: Ծրագրման և վիճակագրական ընդհանուր ծառայություններ | G42: 54335.2 | H42: 54335.2 | I42: 54335.2 | J42: 54335.2
...

Sheet N5.
G1: Հավելված N 5
F3: ՀՀ կառավարության 2026 թվականի
F4: ______________ ի ___Ն որոշման
A6: ՀԱՅԱՍՏԱՆԻ ՀԱՆՐԱՊԵՏՈՒԹՅԱՆ ԿԱՌԱՎԱՐՈՒԹՅԱՆ 2025 ԹՎԱԿԱՆԻ ԴԵԿՏԵՄԲԵՐԻ 25-Ի N 1910-Ն ՈՐՈՇՄԱՆ N 4 ՀԱՎԵԼՎԱԾՈՒՄ ԿԱՏԱՐՎՈՂ ՓՈՓՈԽՈՒԹՅՈՒՆՆԵՐԸ ԵՎ ԼՐԱՑՈՒՄՆԵՐԸ
F7: հազար դրամներով
A8: Ծրագրային դասիչը | C8: Բյուջետային հատկացումների գլխավոր կարգադրիչների, ծրագրերի, միջոցառումների և միջոցառումները կատարող պետական մարմինների անվանումները | D8: Ցուցանիշների փոփոխությունները ավելացումները նշված են դրական նշանով, իսկ նվազեցումները՝ փակագծերում)
A9: Ծրագիր | B9: Միջոց առում | D9: Առաջին եռամսյակ | E9: Առաջին կիսամյակ | F9: Ինն ամիս | G9: Տարի
C10: ԸՆԴԱՄԵՆԸ | D10: =+'N 4'!G10 -> 6000000 | E10: =+'N 4'!H10 -> 4200000 | F10: =+'N 4'!I10 -> 2400000 | G10: =+'N 4'!J10 -> 0
C11: այդ թվում`
C12: Հանրապետության նախագահի աշխատակազմ | D12: 64042.5 | E12: 64042.5 | F12: 64042.5 | G12: 64042.5
C13: այդ թվում`
A14: 1154 | C14: Հանրապետության նախագահի լիազորությունների իրականացման ապահովում | D14: 64042.5 | E14: 64042.5 | F14: 64042.5 | G14: 64042.5
C15: այդ թվում`
B16: 11006 | C16: Պետական կառավարման մարմինների կատարողականի գնահատում եվ խրախուսում | D16: 64042.5 | E16: 64042.5 | F16: 64042.5 | G16: 64042.5
C17: այդ թվում` ըստ կատարողների
C18: Հանրապետության նախագահի աշխատակազմ | D18: 64042.5 | E18: 64042.5 | F18: 64042.5 | G18: 64042.5
C19: այդ թվում` բյուջետային ծախսերի տնտեսագիտական դասակարգման հոդվածներ
C20: ԸՆԴԱՄԵՆԸ ԾԱԽՍԵՐ | D20: 64042.5 | E20: 64042.5 | F20: 64042.5 | G20: 64042.5
C21: ԸՆԹԱՑԻԿ ԾԱԽՍԵՐ | D21: 64042.5 | E21: 64042.5 | F21: 64042.5 | G21: 64042.5
C22: ԱՇԽԱՏԱՆՔԻ ՎԱՐՁԱՏՐՈՒԹՅՈՒՆ | D22: 64042.5 | E22: 64042.5 | F22: 64042.5 | G22: 64042.5
C23: Դրամով վճարվող աշխատավարձեր և հավելավճարներ | D23: 64042.5 | E23: 64042.5 | F23: 64042.5 | G23: 64042.5
C24: - Պարգևատրումներ, դրամական խրախուսումներ և հատուկ վճարներ | D24: 64042.5 | E24: 64042.5 | F24: 64042.5 | G24: 64042.5
C25: ՀՀ Ազգային ժողով | D25: 667094.7 | E25: 667094.7 | F25: 667094.7 | G25: 667094.7
C26: այդ թվում`
A27: 1024 | C27: ՀՀ Ազգային ժողովի լիազորությունների իրականացման ապահովում | D27: 667094.7 | E27: 667094.7 | F27: 667094.7 | G27: 667094.7
C28: այդ թվում`
B29: 11005 | C29: Պետական կառավարման մարմինների կատարողականի գնահատում եվ խրախուսում | D29: 667094.7 | E29: 667094.7 | F29: 667094.7 | G29: 667094.7
C30: այդ թվում` ըստ կատարողների
C31: ՀՀ Ազգային ժողով | D31: 667094.7 | E31: 667094.7 | F31: 667094.7 | G31: 667094.7
C32: այդ թվում` բյուջետային ծախսերի տնտեսագիտական դասակարգման հոդվածներ
C33: ԸՆԴԱՄԵՆԸ ԾԱԽՍԵՐ | D33: 667094.7 | E33: 667094.7 | F33: 667094.7 | G33: 667094.7
C34: ԸՆԹԱՑԻԿ ԾԱԽՍԵՐ | D34: 667094.7 | E34: 667094.7 | F34: 667094.7 | G34: 667094.7
C35: ԱՇԽԱՏԱՆՔԻ ՎԱՐՁԱՏՐՈՒԹՅՈՒՆ | D35: 667094.7 | E35: 667094.7 | F35: 667094.7 | G35: 667094.7
C36: Դրամով վճարվող աշխատավարձեր և հավելավճարներ | D36: 667094.7 | E36: 667094.7 | F36: 667094.7 | G36: 667094.7
C37: - Պարգևատրումներ, դրամական խրախուսումներ և հատուկ վճարներ | D37: 667094.7 | E37: 667094.7 | F37: 667094.7 | G37: 667094.7
C38: ՀՀ վարչապետի աշխատակազմ | D38: 663633.2 | E38: 663633.2 | F38: 663633.2 | G38: 663633.2
C39: այդ թվում`
A40: 1136 | C40: ՀՀ Վարչապետի լիազորությունների իրականացման ապահովում | D40: 663633.2 | E40: 663633.2 | F40: 663633.2 | G40: 663633.2
C41: այդ թվում`
B42: 11025 | C42: Պետական կառավարման մարմինների կատարողականի գնահատում եվ խրախուսում | D42: 663633.2 | E42: 663633.2 | F42: 663633.2 | G42: 663633.2
...

Sheet N 6.
M1: Հավելված N 6
L2: ՀՀ կառավարության 2026 թվականի
L3: ______________ ի ___Ն որոշման
A6: ՀԱՅԱՍՏԱՆԻ ՀԱՆՐԱՊԵՏՈՒԹՅԱՆ ԿԱՌԱՎԱՐՈՒԹՅԱՆ 2025 ԹՎԱԿԱՆԻ ԴԵԿՏԵՄԲԵՐԻ 25-Ի N 1910-Ն ՈՐՈՇՄԱՆ N 9 ՀԱՎԵԼՎԱԾՈՒՄ ԿԱՏԱՐՎՈՂ ՓՈՓՈԽՈՒԹՅՈՒՆՆԵՐԸ ԵՎ ԼՐԱՑՈՒՄՆԵՐԸ
M8: հազար դրամներով
A9: ԲԳԿ | B9: Ծրագիր | D9: Միջոցառում | H9: Իրականացնողը/ ակտիվն օգտագործողը/ շահառուի ընտրության չափորոշիչը | I9: Արդյունքային չափորոշիչը | J9: Ցուցանիշների փոփոխությունները ավելացումները նշված են դրական նշանով, իսկ նվազեցումները՝ փակագծերում
B10: Դասիչը | C10: Անվանումը | D10: Դասիչը | E10: Անվանումը | F10: Նկարագրությունը | G10: Տեսակը | J10: Առաջին եռամսյակ | K10: Առաջին կիսամյակ | L10: Ինն ամիս | M10: Տարի
A11: ԸՆԴԱՄԵՆԸ | J11: =+'N3'!G10 -> 6000000 | K11: =+'N3'!H10 -> 4200000 | L11: =+'N3'!I10 -> 2400000 | M11: =+'N3'!J10 -> 0
A12: Հանրապետության նախագահի աշխատակազմ | J12: 64042.5 | K12: 64042.5 | L12: 64042.5 | M12: 64042.5
B13: 1154 | C13: Հանրապետության նախագահի լիազորությունների իրականացման ապահովում | J13: 64042.5 | K13: 64042.5 | L13: 64042.5 | M13: 64042.5
D14: 1154 - 11006 | E14: Պետական կառավարման մարմինների կատարողականի գնահատում և խրախուսում | J14: 64042.5 | K14: 64042.5 | L14: 64042.5 | M14: 64042.5
F15: Պետական մարմնի գործունեության առաջնահերթությունների սահմանում, կատարողականի գնահատման հիման վրա՝ խրախուսման միջոցով արդյունավետության բարձրացում
G16: Ծառայությունների մատուցում
H17: Ծառայությունը մատուցողի անվանումը` Հանրապետության նախագահի աշխատակազմ
A18: ՀՀ Ազգային ժողով | J18: 667094.7 | K18: 667094.7 | L18: 667094.7 | M18: 667094.7
B19: 1024 | C19: ՀՀ Ազգային ժողովի լիազորությունների իրականացման ապահովում | J19: 667094.7 | K19: 667094.7 | L19: 667094.7 | M19: 667094.7
D20: 1024 - 11005 | E20: Պետական կառավարման մարմինների կատարողականի գնահատում և խրախուսում | J20: 667094.7 | K20: 667094.7 | L20: 667094.7 | M20: 667094.7
F21: Պետական մարմնի գործունեության առաջնահերթությունների սահմանում, կատարողականի գնահատման հիման վրա՝ խրախուսման միջոցով արդյունավետության բարձրացում
G22: Ծառայությունների մատուցում
H23: Ծառայությունը մատուցողի անվանումը` ՀՀ Ազգային ժողով
A24: ՀՀ վարչապետի աշխատակազմ | J24: 663633.2 | K24: 663633.2 | L24: 663633.2 | M24: 663633.2
B25: 1136 | C25: ՀՀ Վարչապետի լիազորությունների իրականացման ապահովում | J25: 663633.2 | K25: 663633.2 | L25: 663633.2 | M25: 663633.2
D26: 1136 - 11025 | E26: Պետական կառավարման մարմինների կատարողականի գնահատում և խրախուսում | J26: 663633.2 | K26: 663633.2 | L26: 663633.2 | M26: 663633.2
F27: Պետական մարմնի գործունեության առաջնահերթությունների սահմանում, կատարողականի գնահատման հիման վրա՝ խրախուսման միջոցով արդյունավետության բարձրացում
G28: Ծառայությունների մատուցում
H29: Ծառայությունը մատուցողի անվանումը` ՀՀ վարչապետի աշխատակազմ
A30: ՀՀ տարածքային կառավարման և ենթակառուցվածքների նախարարություն | J30: 623994.4 | K30: 623994.4 | L30: 623994.4 | M30: 623994.4
B31: 1001 | C31: Տարածքային կառավարման ոլորտում քաղաքականության մշակում, ծրագրերի համակարգում և մոնիտորինգի իրականացում | J31: 623994.4 | K31: 623994.4 | L31: 623994.4 | M31: 623994.4
D32: 1001 - 11007 | E32: Պետական կառավարման մարմինների կատարողականի գնահատում և խրախուսում | J32: 623994.4 | K32: 623994.4 | L32: 623994.4 | M32: 623994.4
F33: Պետական մարմնի գործունեության առաջնահերթությունների սահմանում, կատարողականի գնահատման հիման վրա՝ խրախուսման միջոցով արդյունավետության բարձրացում
G34: Ծառայությունների մատուցում
H35: Ծառայությունը մատուցողի անվանումը` ՀՀ տարածքային կառավարման և ենթակառուցվածքների նախարարություն
A36: ՀՀ առողջապահության նախարարություն | J36: 113588.8 | K36: 113588.8 | L36: 113588.8 | M36: 113588.8
B37: 1126 | C37: Առողջապահության ոլորտում պետական քաղաքականության մշակում, ծրագրերի համակարգում և մոնիտորինգ | J37: 113588.8 | K37: 113588.8 | L37: 113588.8 | M37: 113588.8
D38: 1126 - 11009 | E38: Պետական կառավարման մարմինների կատարողականի գնահատում և խրախուսում | J38: 113588.8 | K38: 113588.8 | L38: 113588.8 | M38: 113588.8
F39: Պետական մարմնի գործունեության առաջնահերթությունների սահմանում, կատարողականի գնահատման հիման վրա՝ խրախուսման միջոցով արդյունավետության բարձրացում
G40: Ծառայությունների մատուցում
H41: Ծառայությունը մատուցողի անվանումը` ՀՀ առողջապահության նախարարություն
A42: ՀՀ արդարադատության նախարարություն | J42: 297788.8 | K42: 297788.8 | L42: 297788.8 | M42: 297788.8
B43: 1057 | C43: Արդարադատության ոլորտում քաղաքականության մշակում, ծրագրերի համակարգում, խորհրդատվության և մոնիտորինգի իրականացում | J43: 297788.8 | K43: 297788.8 | L43: 297788.8 | M43: 297788.8
...

Sheet N 7
M1: Հավելված N 7
L2: ՀՀ կառավարության 2026 թվականի
L3: ______________ ի ___Ն որոշման
A6: ՀԱՅԱՍՏԱՆԻ ՀԱՆՐԱՊԵՏՈՒԹՅԱՆ ԿԱՌԱՎԱՐՈՒԹՅԱՆ 2025 ԹՎԱԿԱՆԻ ԴԵԿՏԵՄԲԵՐԻ 25-Ի N 1910-Ն ՈՐՈՇՄԱՆ N 9.1 ՀԱՎԵԼՎԱԾՈՒՄ ԿԱՏԱՐՎՈՂ ՓՈՓՈԽՈՒԹՅՈՒՆՆԵՐԸ ԵՎ ԼՐԱՑՈՒՄՆԵՐԸ
M8: հազար դրամներով
A9: ԲՍԿ | B9: Ծրագիր | D9: Միջոցառում | H9: Իրականացնողը/ ակտիվն օգտագործողը/ շահառուի ընտրության չափորոշիչը | I9: Արդյունքային չափորոշիչը | J9: Ցուցանիշների փոփոխությունները ավելացումները նշված են դրական նշանով, իսկ նվազեցումները՝ փակագծերում
B10: Դասիչը | C10: Անվանումը | D10: Դասիչը | E10: Անվանումը | F10: Նկարագրությունը | G10: Տեսակը | J10: Առաջին եռամսյակ | K10: Առաջին կիսամյակ | L10: Ինն ամիս | M10: Տարի
A11: ԸՆԴԱՄԵՆԸ | J11: =+'N3'!G10 -> 6000000 | K11: =+'N3'!H10 -> 4200000 | L11: =+'N3'!I10 -> 2400000 | M11: =+'N3'!J10 -> 0
A12: Հանրապետության նախագահի աշխատակազմ | J12: 64042.5 | K12: 64042.5 | L12: 64042.5 | M12: 64042.5
B13: 1154 | C13: Հանրապետության նախագահի լիազորությունների իրականացման ապահովում | J13: 64042.5 | K13: 64042.5 | L13: 64042.5 | M13: 64042.5
D14: 1154 - 11006 | E14: Պետական կառավարման մարմինների կատարողականի գնահատում և խրախուսում | J14: 64042.5 | K14: 64042.5 | L14: 64042.5 | M14: 64042.5
F15: Պետական մարմնի գործունեության առաջնահերթությունների սահմանում, կատարողականի գնահատման հիման վրա՝ խրախուսման միջոցով արդյունավետության բարձրացում
G16: Ծառայությունների մատուցում
H17: Ծառայությունը մատուցողի անվանումը` Հանրապետության նախագահի աշխատակազմ
A18: ՀՀ Ազգային ժողով | J18: 667094.7 | K18: 667094.7 | L18: 667094.7 | M18: 667094.7
B19: 1024 | C19: ՀՀ Ազգային ժողովի լիազորությունների իրականացման ապահովում | J19: 667094.7 | K19: 667094.7 | L19: 667094.7 | M19: 667094.7
D20: 1024 - 11005 | E20: Պետական կառավարման մարմինների կատարողականի գնահատում և խրախուսում | J20: 667094.7 | K20: 667094.7 | L20: 667094.7 | M20: 667094.7
F21: Պետական մարմնի գործունեության առաջնահերթությունների սահմանում, կատարողականի գնահատման հիման վրա՝ խրախուսման միջոցով արդյունավետության բարձրացում
G22: Ծառայությունների մատուցում
H23: Ծառայությունը մատուցողի անվանումը` ՀՀ Ազգային ժողով
A24: ՀՀ վարչապետի աշխատակազմ | J24: 663633.2 | K24: 663633.2 | L24: 663633.2 | M24: 663633.2
B25: 1136 | C25: ՀՀ Վարչապետի լիազորությունների իրականացման ապահովում | J25: 663633.2 | K25: 663633.2 | L25: 663633.2 | M25: 663633.2
D26: 1136 - 11025 | E26: Պետական կառավարման մարմինների կատարողականի գնահատում և խրախուսում | J26: 663633.2 | K26: 663633.2 | L26: 663633.2 | M26: 663633.2
F27: Պետական մարմնի գործունեության առաջնահերթությունների սահմանում, կատարողականի գնահատման հիման վրա՝ խրախուսման միջոցով արդյունավետության բարձրացում
G28: Ծառայությունների մատուցում
H29: Ծառայությունը մատուցողի անվանումը` ՀՀ վարչապետի աշխատակազմ
A30: ՀՀ տարածքային կառավարման և ենթակառուցվածքների նախարարություն | J30: 623994.4 | K30: 623994.4 | L30: 623994.4 | M30: 623994.4
B31: 1001 | C31: Տարածքային կառավարման ոլորտում քաղաքականության մշակում, ծրագրերի համակարգում և մոնիտորինգի իրականացում | J31: 623994.4 | K31: 623994.4 | L31: 623994.4 | M31: 623994.4
D32: 1001 - 11007 | E32: Պետական կառավարման մարմինների կատարողականի գնահատում և խրախուսում | J32: 623994.4 | K32: 623994.4 | L32: 623994.4 | M32: 623994.4
F33: Պետական մարմնի գործունեության առաջնահերթությունների սահմանում, կատարողականի գնահատման հիման վրա՝ խրախուսման միջոցով արդյունավետության բարձրացում
G34: Ծառայությունների մատուցում
H35: Ծառայությունը մատուցողի անվանումը` ՀՀ տարածքային կառավարման և ենթակառուցվածքների նախարարություն
A36: ՀՀ առողջապահության նախարարություն | J36: 113588.8 | K36: 113588.8 | L36: 113588.8 | M36: 113588.8
B37: 1126 | C37: Առողջապահության ոլորտում պետական քաղաքականության մշակում, ծրագրերի համակարգում և մոնիտորինգ | J37: 113588.8 | K37: 113588.8 | L37: 113588.8 | M37: 113588.8
D38: 1126 - 11009 | E38: Պետական կառավարման մարմինների կատարողականի գնահատում և խրախուսում | J38: 113588.8 | K38: 113588.8 | L38: 113588.8 | M38: 113588.8
F39: Պետական մարմնի գործունեության առաջնահերթությունների սահմանում, կատարողականի գնահատման հիման վրա՝ խրախուսման միջոցով արդյունավետության բարձրացում
G40: Ծառայությունների մատուցում
H41: Ծառայությունը մատուցողի անվանումը` ՀՀ առողջապահության նախարարություն
A42: ՀՀ արդարադատության նախարարություն | J42: 297788.8 | K42: 297788.8 | L42: 297788.8 | M42: 297788.8
B43: 1057 | C43: Արդարադատության ոլորտում քաղաքականության մշակում, ծրագրերի համակարգում, խորհրդատվության և մոնիտորինգի իրականացում | J43: 297788.8 | K43: 297788.8 | L43: 297788.8 | M43: 297788.8
...
