Workbook
Name _1__հայտարարվել_է_նախ_մրցույթ: #REF!
Name AgencyCode: #REF!
Name AgencyName: #REF!
Name åû: #REF!
Name davit: #REF!
Name Functional1: #REF!
Name ggg: #REF!
Name hav: #REF!
Name mas: #REF!
Name mass: #REF!
Name PANature: #REF!
Name PAType: #REF!
Name Performance2: #REF!
Name PerformanceType: #REF!
Name x: #REF!
Name Հավելված: #REF!
Name Մաս: #REF!
Name շախմատիստ: #REF!
Name վֆյգյգ: #REF!

Sheet N2
E1: Հավելված N 2
E3: ՀՀ կառավարության 2026 թվականի
E4: -----------------ի N -----------Ն որոշման
A6: ՀԱՅԱՍՏԱՆԻ ՀԱՆՐԱՊԵՏՈՒԹՅԱՆ ԿԱՌԱՎԱՐՈՒԹՅԱՆ 2025 ԹՎԱԿԱՆԻ ԴԵԿՏԵՄԲԵՐԻ 25-Ի N 1910-Ն ՈՐՈՇՄԱՆ N 1 ՀԱՎԵԼՎԱԾԻ N 1 ԱՂՅՈՒՍԱԿՈՒՄ ԿԱՏԱՐՎՈՂ ՓՈՓՈԽՈՒԹՅՈՒՆՆԵՐԸ
E8: հազար դրամներով
A9: Պետական բյուջեի դեֆիցիտի ֆինանսավորման աղբյուրներն ու դրանց տարրերի անվանումները | B9: Ցուցանիշների փոփոխությունները ավելացումները նշված են դրական նշանով, իսկ նվազեցումները՝ փակագծերում
B10: Առաջին եռամսյակ | C10: Առաջին կիսամյակ | D10: Ինն ամիս | E10: Տարի
A11: ԸՆԴԱՄԵՆԸ | B11: =B13 -> 6000000 | C11: =C13 -> 4200000 | D11: =D13 -> 2400000 | E11: =E13 -> 0
A12: այդ թվում՝
A13: Ա.Ներքին աղբյուրներ-ընդամենը | B13: =+B15 -> 6000000 | C13: =+C15 -> 4200000 | D13: =+D15 -> 2400000 | E13: =+E15 -> 0
A14: այդ թվում՝
A15: 2. Ֆինանսական զուտ ակտիվներ | B15: =+B17+B21+B42 -> 6000000 | C15: =+C17+C21+C42 -> 4200000 | D15: =+D17+D21+D42 -> 2400000 | E15: =+E17+E21+E42 -> 0
A16: այդ թվում՝
A17: 2.4. Վարկերի և փոխատվությունների տրամադրում | B17: =B19+B20 -> 0 | C17: =C19+C20 -> 0 | D17: =D19+D20 -> 0 | E17: =E19+E20 -> 0
A18: որից`
A19: - արտաքին աղբյուրների աջակցությամբ իրականացվող նպատակային ծրագրերի շրջանակներում ենթավարկերի տրամադրում այդ ծրագրերում ներգրաված տնտեսվարող սուբյեկտներին
A20: - բյուջետային վարկերի տրամադրում տնտեսվարող սուբյեկտներին
A21: 2.5. Տրամադրված վարկերի և փոխատվությունների վերադարձից մուտքեր | B21: =SUM(B22:B41) -> 0 | C21: =SUM(C22:C41) -> 0 | D21: =SUM(D22:D41) -> 0 | E21: =SUM(E22:E41) -> 0
A22: «Հայկական ատոմակայան» ՓԲԸ
A23: «Բարձրավոլտ էլեկտրական ցանցեր» ՓԲԸ
A24: «Երևանի Ջերմաէլեկտրակենտրոն» ՓԲԸ
A25: ՀՀ կենտրոնական բանկից
A26: «ՔոնթուրԳլոբալ Հիդրո Կասկադ» ՓԲԸ-
A27: «Դի ընդ Էյջ Գրուպ» ՍՊԸ
A28: «Երևանի ավտոբուսներ» ՓԲԸ
A29: «Էլեկտրաէներգետիկական համակարգի օպերատոր» ՓԲԸ
A30: «Հայաստանի էլեկտրական ցանցեր» ՓԲԸ
A31: «Կարեն Դեմիրճյանի անվան մետրոպոլիտեն» ՓԲԸ
A32: «Միջազգային էներգետիկ կորպորացիա» ՓԲԸ
A33: Գյուղական ֆինանսավորման կառույց
... A41: Այլ
A42: 2.6.Այլ | B42: =+B43 -> 6000000 | C42: =+C43 -> 4200000 | D42: =+D43 -> 2400000 | E42: =+E43 -> 0
A43: ժամանակավորապես ազատ միջոցներ | B43: =+'N3'!G10 -> 6000000 | C43: =+'N3'!H10 -> 4200000 | D43: =+'N3'!I10 -> 2400000 | E43: =+'N3'!J10 -> 0
A44: 1.2. Ստացված վարկերի և փոխատվությունների մարում
A45: ՀՀ ֆինանսների նախարարություն
A46: 2.Ֆինանսական զուտ ակտիվներ | B46: =+B48 -> 0 | C46: =+C48 -> 0 | D46: =+D48 -> 0 | E46: =+E48 -> 0
A47: այդ թվում՝
A48: 2.3 Բաժնետոմսերի և կապիտալում այլ մասնակցության ձեռքբերում | B48: =+B49+B52 -> 0 | C48: =+C49+C52 -> 0 | D48: =+D49+D52 -> 0 | E48: =+E49+E52 -> 0
A49: ՀՀ ֆինանսների նախարարություն | B49: =B51 -> 0 | C49: =C51 -> 0 | D49: =D51 -> 0 | E49: =E51 -> 0
A50: որից`
A51: Միջազգային ֆինանսական կազմակերպությունների կապիտալում մասնակցության գծով ստանձնած պարտավորությունների կատարում
A52: ՀՀ էկոնոմիկայի նախարարություն | B52: =+B54 -> 0 | C52: =+C54 -> 0 | D52: =+D54 -> 0 | E52: =+E54 -> 0
A53: որից`
A54: ԵՄ-Հայաստան ՓՄՁ Ֆոնդ

Sheet N3
J1: Հավելված N 3
K2: ՀՀ կառավարության 2026 թվականի
K3: -----------------ի N -----------Ն որոշման
B6: «ՀԱՅԱՍՏԱՆԻ ՀԱՆՐԱՊԵՏՈՒԹՅԱՆ 2026 ԹՎԱԿԱՆԻ ՊԵՏԱԿԱՆ ԲՅՈՒՋԵԻ ՄԱՍԻՆ» ՀԱՅԱՍՏԱՆԻ ՀԱՆՐԱՊԵՏՈՒԹՅԱՆ ՕՐԵՆՔԻ N 1 ՀԱՎԵԼՎԱԾԻ N 2 ԱՂՅՈՒՍԱԿՈՒՄ ԿԱՏԱՐՎՈՂ ՎԵՐԱԲԱՇԽՈՒՄԸ ԵՎ ՀԱՅԱՍՏԱՆԻ ՀԱՆՐԱՊԵՏՈՒԹՅԱՆ ԿԱՌԱՎԱՐՈՒԹՅԱՆ 2025 ԹՎԱԿԱՆԻ ԴԵԿՏԵՄԲԵՐԻ 25-Ի N 1910-Ն ՈՐՈՇՄԱՆ N 5 ՀԱՎԵԼՎԱԾԻ N 1 ԱՂՅՈՒՍԱԿՈՒՄ ԿԱՏԱՐՎՈՂ ՓՈՓՈԽՈՒԹՅՈՒՆՆԵՐԸ ԵՎ ԼՐԱՑՈՒՄՆԵՐԸ
J7: հազար դրամներով
A8: ԲԳԿ | B8: Ծրագրային դասիչը | D8: ԲԳԿ/Ծրագրի /միջոցառման անվանումը | E8: Ծրագրի նպատակը/Միջոցառման նկարագրությունը | F8: Վերջնական արդյունքի նկարագրությունը/Միջոցառման տեսակը | G8: Ցուցանիշների փոփոխությունները ավելացումները նշված են դրական նշանով, իսկ նվազեցումները՝ փակագծերում
B9: Ծրագիր | C9: Միջոցառում | G9: Առաջին եռամսյակ | H9: Առաջին կիսամյակ | I9: Ինն ամիս | J9: Տարի
A10: ԸՆԴԱՄԵՆԸ | G10: =+G86 -> 6000000 | H10: =+H86 -> 4200000 | I10: =+I86 -> 2400000 | J10: =+J86 -> 0
A11: Հանրապետության նախագահի աշխատակազմ | G11: 64042.5 | H11: 64042.5 | I11: 64042.5 | J11: 64042.5
B12: 1154 | D12: Հանրապետության նախագահի լիազորությունների իրականացման ապահովում | E12: Աջակցել Հանրապետության նախագահի լիազորությունների իրականացման ապահովմանը | F12: ՀՀ նախագահի Սահմանադրությամբ սահմանված լիազորությունների իրականացման ապահովումը | G12: 64042.5 | H12: 64042.5 | I12: 64042.5 | J12: 64042.5
C13: 1154 - 11006 | D13: Պետական կառավարման մարմինների կատարողականի գնահատում եվ խրախուսում | E13: Պետական մարմնի գործունեության առաջնահերթությունների սահմանում, կատարողականի գնահատման հիման վրա՛ խրախուսման միջոցով արդյունավետության բարձրացում | F13: Ծառայությունների մատուցում | G13: 64042.5 | H13: 64042.5 | I13: 64042.5 | J13: 64042.5
A14: ՀՀ Ազգային ժողով | G14: 667094.7 | H14: 667094.7 | I14: 667094.7 | J14: 667094.7
B15: 1024 | D15: ՀՀ Ազգային ժողովի լիազորությունների իրականացման ապահովում | E15: Օրենսդրական դաշտի ձևավորում և կատարելագործում | F15: Արդյունավետ օրենսդրական դաշտի ապահովում | G15: 667094.7 | H15: 667094.7 | I15: 667094.7 | J15: 667094.7
C16: 1024 - 11005 | D16: Պետական կառավարման մարմինների կատարողականի գնահատում եվ խրախուսում | E16: Պետական մարմնի գործունեության առաջնահերթությունների սահմանում, կատարողականի գնահատման հիման վրա՛ խրախուսման միջոցով արդյունավետության բարձրացում | F16: Ծառայությունների մատուցում | G16: 667094.7 | H16: 667094.7 | I16: 667094.7 | J16: 667094.7
A17: ՀՀ վարչապետի աշխատակազմ | G17: 663633.2 | H17: 663633.2 | I17: 663633.2 | J17: 663633.2
B18: 1136 | D18: ՀՀ Վարչապետի լիազորությունների իրականացման ապահովում | E18: Աջակցել կառավարության, վարչապետի և փոխվարչապետերի գործունեությանը | F18: ՀՀ կառավարության և վարչապետի որոշումների ու հանձնարարականների կատարման վերահսկողության ապահովում | G18: 663633.2 | H18: 663633.2 | I18: 663633.2 | J18: 663633.2
C19: 1136 - 11025 | D19: Պետական կառավարման մարմինների կատարողականի գնահատում եվ խրախուսում | E19: Պետական մարմնի գործունեության առաջնահերթությունների սահմանում, կատարողականի գնահատման հիման վրա՛ խրախուսման միջոցով արդյունավետության բարձրացում | F19: Ծառայությունների մատուցում | G19: 663633.2 | H19: 663633.2 | I19: 663633.2 | J19: 663633.2
A20: ՀՀ տարածքային կառավարման և ենթակառուցվածքների նախարարություն | G20: 623994.4 | H20: 623994.4 | I20: 623994.4 | J20: 623994.4
B21: 1001 | D21: Տարածքային կառավարման ոլորտում քաղաքականության մշակում, ծրագրերի համակարգում և մոնիտորինգի իրականացում | E21: Տարածքային կառավարման բնագավառում պետական արդյունավետ քաղաքականության մշակման և իրականացման ապահովում | F21: Տարածքային կառավարման քաղաքականության իրագործմանն ուղղված ծրագրերի ազդեցության և արդյունավետության բարելավում | G21: 623994.4 | H21: 623994.4 | I21: 623994.4 | J21: 623994.4
C22: 1001 - 11007 | D22: Պետական կառավարման մարմինների կատարողականի գնահատում եվ խրախուսում | E22: Պետական մարմնի գործունեության առաջնահերթությունների սահմանում, կատարողականի գնահատման հիման վրա՛ խրախուսման միջոցով արդյունավետության բարձրացում | F22: Ծառայությունների մատուցում | G22: 623994.4 | H22: 623994.4 | I22: 623994.4 | J22: 623994.4
A23: ՀՀ առողջապահության նախարարություն | G23: 113588.8 | H23: 113588.8 | I23: 113588.8 | J23: 113588.8
B24: 1126 | D24: Առողջապահության ոլորտում պետական քաղաքականության մշակում, ծրագրերի համակարգում և մոնիտորինգ | E24: Մարդու և հանրության առողջության պահպանում, բնակչության առողջության բարելավում, հիվանդությունների կանխարգելում, հաշմանդամության և մահացության ցուցանիշների նվազեցում | F24: Առողջապահության ոլորտում իրականացվող ծրագրերի ազդեցության և արդյունավետության բարելավում | G24: 113588.8 | H24: 113588.8 | I24: 113588.8 | J24: 113588.8
C25: 1126 - 11009 | D25: Պետական կառավարման մարմինների կատարողականի գնահատում եվ խրախուսում | E25: Պետական մարմնի գործունեության առաջնահերթությունների սահմանում, կատարողականի գնահատման հիման վրա՛ խրախուսման միջոցով արդյունավետության բարձրացում | F25: Ծառայությունների մատուցում | G25: 113588.8 | H25: 113588.8 | I25: 113588.8 | J25: 113588.8
A26: ՀՀ արդարադատության նախարարություն | G26: 297788.8 | H26: 297788.8 | I26: 297788.8 | J26: 297788.8
B27: 1057 | D27: Արդարադատության ոլորտում քաղաքականության մշակում, ծրագրերի համակարգում, խորհրդատվության և մոնիտորինգի իրականացում | E27: Արդարադատության ոլորտում քաղաքականության, խորհրդատվության, մոնիտորինգի, գնման և աջակցության իրականացում | F27: Արդարադատության քաղաքականության իրագործմանն ուղղված ծրագրերի արդյունավետության բարելավում | G27: 297788.8 | H27: 297788.8 | I27: 297788.8 | J27: 297788.8
C28: 1057 - 11011 | D28: Պետական կառավարման մարմինների կատարողականի գնահատում եվ խրախուսում | E28: Պետական մարմնի գործունեության առաջնահերթությունների սահմանում, կատարողականի գնահատման հիման վրա՛ խրախուսման միջոցով արդյունավետության բարձրացում | F28: Ծառայությունների մատուցում | G28: 297788.8 | H28: 297788.8 | I28: 297788.8 | J28: 297788.8
A29: ՀՀ էկոնոմիկայի նախարարություն | G29: 224802.3 | H29: 224802.3 | I29: 224802.3 | J29: 224802.3
B30: 1058 | D30: Էկոնոմիկայի ոլորտում պետական քաղաքականության մշակում, ծրագրերի համակարգում և մոնիտորինգ | E30: Էկոնոմիկայի ոլորտում պետական արդյունավետ քաղաքականության մշակման և իրականացման ապահովում | F30: Էկոնոմիկայի ոլորտում իրականացվող ծրագրերի ազդեցության և արդյունավետության բարելավում | G30: 224802.3 | H30: 224802.3 | I30: 224802.3 | J30: 224802.3
C31: 1058 - 11009 | D31: Պետական կառավարման մարմինների կատարողականի գնահատում եվ խրախուսում | E31: Պետական մարմնի գործունեության առաջնահերթությունների սահմանում, կատարողականի գնահատման հիման վրա՛ խրախուսման միջոցով արդյունավետության բարձրացում | F31: Ծառայությունների մատուցում | G31: 224802.3 | H31: 224802.3 | I31: 224802.3 | J31: 224802.3
A32: ՀՀ արտաքին գործերի նախարարություն | G32: 176199.2 | H32: 176199.2 | I32: 176199.2 | J32: 176199.2
B33: 1061 | D33: Արտաքին գործերի ոլորտում Կառավարության քաղաքականության մշակում և իրականացում | E33: Հայաստանի Հանրապետության ինքնիշխանության և պետական շահերի պաշտպանություն | F33: Տարածաշրջանային խաղաղության և կայունության հաստատում, գործընկերների հետ համագործակցության խթանում և հարաբերությունների կարգավորում, ԼՂ-ից բռնի տեղահանվածների կարիքների հասցեագրում | G33: 176199.2 | H33: 176199.2 | I33: 176199.2 | J33: 176199.2
C34: 1061 - 11010 | D34: Պետական կառավարման մարմինների կատարողականի գնահատում եվ խրախուսում | E34: Պետական մարմնի գործունեության առաջնահերթությունների սահմանում, կատարողականի գնահատման հիման վրա՛ խրախուսման միջոցով արդյունավետության բարձրացում | F34: Ծառայությունների մատուցում | G34: 176199.2 | H34: 176199.2 | I34: 176199.2 | J34: 176199.2
A35: ՀՀ շրջակա միջավայրի նախարարություն | G35: 147316.3 | H35: 147316.3 | I35: 147316.3 | J35: 147316.3
B36: 1071 | D36: Շրջակա միջավայրի ոլորտում պետական քաղաքականության մշակում, ծրագրերի համակարգում և մոնիտորինգ | E36: Շրջակա միջավայրի պահպանությանն ուղղված պետական քաղաքականության մշակում և իրականացում | F36: Շրջակա միջավայրի պահպանությանն ուղղված օրենսդրական դաշտի բարելավում, իրականացվող ծրագրերի ազդեցության և արդյունավետության աճ | G36: 147316.3 | H36: 147316.3 | I36: 147316.3 | J36: 147316.3
C37: 1071 - 11006 | D37: Պետական կառավարման մարմինների կատարողականի գնահատում եվ խրախուսում | E37: Պետական մարմնի գործունեության առաջնահերթությունների սահմանում, կատարողականի գնահատման հիման վրա՛ խրախուսման միջոցով արդյունավետության բարձրացում | F37: Ծառայությունների մատուցում | G37: 147316.3 | H37: 147316.3 | I37: 147316.3 | J37: 147316.3
A38: ՀՀ կրթության, գիտության, մշակույթի և սպորտի նախարարություն | G38: 216373.6 | H38: 216373.6 | I38: 216373.6 | J38: 216373.6
B39: 1130 | D39: Կրթության, գիտության, մշակույթի և սպորտի բնագավառի պետական քաղաքականության մշակում, ծրագրերի համակարգում և մոնիտորինգ | E39: Ապահովել համընդհանուր, հավասարապես հասանելի, ներառական և որակյալ կրթություն՛ բավարարելով տնտեսության ու հասարակության պահանջները, լիարժեք ծառայելով ազգային շահերին | F39: Կրթության, գիտության, մշակույթի և սպորտի բնագավառում իրականացվող ծրագրերի ազդեցության և արդյունավետության բարելավում | G39: 216373.6 | H39: 216373.6 | I39: 216373.6 | J39: 216373.6
C40: 1130 - 11010 | D40: Պետական կառավարման մարմինների կատարողականի գնահատում եվ խրախուսում | E40: Պետական մարմնի գործունեության առաջնահերթությունների սահմանում, կատարողականի գնահատման հիման վրա՛ խրախուսման միջոցով արդյունավետության բարձրացում | F40: Ծառայությունների մատուցում | G40: 216373.6 | H40: 216373.6 | I40: 216373.6 | J40: 216373.6
A41: ՀՀ պաշտպանության նախարարություն | G41: 275529.4 | H41: 275529.4 | I41: 275529.4 | J41: 275529.4
B42: 1169 | D42: ՀՀ պաշտպանության ապահովում | E42: ՀՀ ԶՈւ ռազմավարական ծավալումն ապահովող մարտական պատրաստականության պահպանում, արտաքին թշնամուց ՀՀ պետական սահմանների պաշտպանության ապահովում | F42: ՀՀ ԶՈւ ռազմավարական ծավալումն ապահովող մարտական պատրաստականության պահպանում | G42: 275529.4 | H42: 275529.4 | I42: 275529.4 | J42: 275529.4
C43: 1169 - 11011 | D43: Պետական կառավարման մարմինների կատարողականի գնահատում եվ խրախուսում | E43: Պետական մարմնի գործունեության առաջնահերթությունների սահմանում, կատարողականի գնահատման հիման վրա՛ խրախուսման միջոցով արդյունավետության բարձրացում | F43: Ծառայությունների մատուցում | G43: 275529.4 | H43: 275529.4 | I43: 275529.4 | J43: 275529.4
A44: ՀՀ աշխատանքի և սոցիալական հարցերի նախարարություն | G44: 176538.1 | H44: 176538.1 | I44: 176538.1 | J44: 176538.1
B45: 1117 | D45: Սոցիալական պաշտպանության բնագավառում պետական քաղաքականության մշակում, ծրագրերի համակարգում և մոնիթորինգ | E45: Աղքատության մեղմման և անհավասարության նվազեցման, աշխատաշուկայի պահանջարկի և գործազրկության անհմպ. կրճատման, զբաղվածության աճի, ժողովրդագրական իրավիճակի բարելավման և քաղաքացիների սոց.իրավունքի իրացմանն ուղղված քաղաքականության մշակմ. և իրականացմ. ապահովում | F45: Սոցիալական պաշտպանության ոլորտում իրականացվող ծրագրերի ազդեցության և արդյունավետության բարելավում | G45: 176538.1 | H45: 176538.1 | I45: 176538.1 | J45: 176538.1
C46: 1117 - 11013 | D46: Պետական կառավարման մարմինների կատարողականի գնահատում եվ խրախուսում | E46: Պետական մարմնի գործունեության առաջնահերթությունների սահմանում, կատարողականի գնահատման հիման վրա՛ խրախուսման միջոցով արդյունավետության բարձրացում | F46: Ծառայությունների մատուցում | G46: 176538.1 | H46: 176538.1 | I46: 176538.1 | J46: 176538.1
A47: ՀՀ բարձր տեխնոլոգիական արդյունաբերության նախարարություն | G47: 116961.8 | H47: 116961.8 | I47: 116961.8 | J47: 116961.8
B48: 1100 | D48: Բարձր տեխնոլոգիական արդյունաբերության բնագավառում պետական քաղաքականության մշակում, ծրագրերի համակարգում և մոնիտորինգ | E48: Բարձր տեխնոլոգիական ոլորտում պետական քաղաքականության մշակում, ծրագրերի համակարգում | F48: Բարձր տեխնոլոգիական արդյունաբերության բնագավառում իրականացվող ծրագրերի ազդեցության և արդյունավետության բարելավում | G48: 116961.8 | H48: 116961.8 | I48: 116961.8 | J48: 116961.8
C49: 1100 - 11007 | D49: Պետական կառավարման մարմինների կատարողականի գնահատում եվ խրախուսում | E49: Պետական մարմնի գործունեության առաջնահերթությունների սահմանում, կատարողականի գնահատման հիման վրա՛ խրախուսման միջոցով արդյունավետության բարձրացում | F49: Ծառայությունների մատուցում | G49: 116961.8 | H49: 116961.8 | I49: 116961.8 | J49: 116961.8
A50: ՀՀ ֆինանսների նախարարություն | G50: 116673.8 | H50: 116673.8 | I50: 116673.8 | J50: 116673.8
B51: 1108 | D51: Հանրային ֆինանսների կառավարման բնագավառում պետական քաղաքականության մշակում, ծրագրերի համակարգում և մոնիտորինգ | E51: Հարկաբյուջետային քաղաքականության մշակում և իրականացման ապահովում, հանրային ֆինանսների արդյունավետ կառավարում | F51: Հանրային ֆինանսների ձևավորման, բաշխման և օգտագործման արդյունավետության աճ, ֆինանսական կարգապահության բարելավում | G51: 116673.8 | H51: 116673.8 | I51: 116673.8 | J51: 116673.8
C52: 1108 - 11015 | D52: Պետական կառավարման մարմինների կատարողականի գնահատում եվ խրախուսում | E52: Պետական մարմնի գործունեության առաջնահերթությունների սահմանում, կատարողականի գնահատման հիման վրա՛ խրախուսման միջոցով արդյունավետության բարձրացում | F52: Ծառայությունների մատուցում | G52: 116673.8 | H52: 116673.8 | I52: 116673.8 | J52: 116673.8
A53: ՀՀ ներքին գործերի նախարարություն | G53: 252196 | H53: 252196 | I53: 252196 | J53: 252196
B54: 1234 | D54: Ներքին գործերի նախարարության ոլորտի քաղաքականության մշակում, կառավարում, կենտրոնացված միջոցառումներ, մոնիտորինգ և վերահսկողություն | E54: Ներքին գործերի համակարգի՛ ոստիկանության, փրկարարծառայության և քաղաքացիական ծառայությանկազմակերպաիրավական կատարելագործում, դրանցգործունեության նկատմամբ հասարակական կարծիքիբարելավում և վստահության բարձրացում | F54: Արդի մարտահրավերներին դիմակայող, պետական ևհասարակական պահանջարկը բավարարող, թափանցիկ,բարեվարք, հաշվետվողական գործունեության ապահովում | G54: 252196 | H54: 252196 | I54: 252196 | J54: 252196
C55: 1234 - 11023 | D55: Պետական կառավարման մարմինների կատարողականի գնահատում եվ խրախուսում | E55: Պետական մարմնի գործունեության առաջնահերթությունների սահմանում, կատարողականի գնահատման հիման վրա՛ խրախուսման միջոցով արդյունավետության բարձրացում | F55: Ծառայությունների մատուցում | G55: 252196 | H55: 252196 | I55: 252196 | J55: 252196
A56: ՀՀ վիճակագրական կոմիտե | G56: 54335.2 | H56: 54335.2 | I56: 54335.2 | J56: 54335.2
B57: 1143 | D57: Ազգային պաշտոնական վիճակագրության արտադրություն և տարածում | E57: Տնտեսական և հասարակական գործընթացների վերաբերյալ պաշտոնական վիճակագրության մշակում, արտադրում ու տարածում | F57: Նախատեսված ժամկետներով և պարբերականությամբ ամբողջական, համադրելի, արդիական և օգտատերերին հավասար մատչելիությամբ հասանելի պաշտոնական վիճակագրության ապահովում | G57: 54335.2 | H57: 54335.2 | I57: 54335.2 | J57: 54335.2
C58: 1143 - 11014 | D58: Պետական կառավարման մարմինների կատարողականի գնահատում եվ խրախուսում | E58: Պետական մարմնի գործունեության առաջնահերթությունների սահմանում, կատարողականի գնահատման հիման վրա՛ խրախուսման միջոցով արդյունավետության բարձրացում | F58: Ծառայությունների մատուցում | G58: 54335.2 | H58: 54335.2 | I58: 54335.2 | J58: 54335.2
A59: ՀՀ կադաստրի կոմիտե | G59: 91834.7 | H59: 91834.7 | I59: 91834.7 | J59: 91834.7
B60: 1012 | D60: Անշարժ գույքի կադաստրի վարման բնագավառում պետական քաղաքականության իրականացում | E60: Անշարժ գույքի պետական միասնական կադաստրի համակարգի զարգացում և պետության կողմից անշարժ գույքի նկատմամբ իրավունքների ճանաչում, երաշխավորում և պաշտպանություն | F60: Անշարժ գույքի կադաստրի արդյունավետ համակարգի ապահովում և սեփականության իրավունքի պաշտպանություն | G60: 91834.7 | H60: 91834.7 | I60: 91834.7 | J60: 91834.7
C61: 1012 - 11006 | D61: Պետական կառավարման մարմինների կատարողականի գնահատում եվ խրախուսում | E61: Պետական մարմնի գործունեության առաջնահերթությունների սահմանում, կատարողականի գնահատման հիման վրա՛ խրախուսման միջոցով արդյունավետության բարձրացում | F61: Ծառայությունների մատուցում | G61: 91834.7 | H61: 91834.7 | I61: 91834.7 | J61: 91834.7
A62: ՀՀ պետական եկամուտների կոմիտե | G62: 48973.3 | H62: 48973.3 | I62: 48973.3 | J62: 48973.3
B63: 1023 | D63: Հարկային և մաքսային ծառայություններ | E63: Հարկային և մաքսային միասնական պետական քաղաքականության իրականացում, հարկային և մաքսային օրենսդրության ամբողջական և համահավասար կիրառում | F63: Արդյունավետ հարկային և մաքսային հսկողության իրականացում, պետական բյուջեի եկամուտների ապահովում | G63: 48973.3 | H63: 48973.3 | I63: 48973.3 | J63: 48973.3
C64: 1023 - 11016 | D64: Պետական կառավարման մարմինների կատարողականի գնահատում եվ խրախուսում | E64: Պետական մարմնի գործունեության առաջնահերթությունների սահմանում, կատարողականի գնահատման հիման վրա՛ խրախուսման միջոցով արդյունավետության բարձրացում | F64: Ծառայությունների մատուցում | G64: 48973.3 | H64: 48973.3 | I64: 48973.3 | J64: 48973.3
A65: ՀՀ ազգային անվտանգության ծառայություն | G65: 41227.9 | H65: 41227.9 | I65: 41227.9 | J65: 41227.9
B66: 1138 | D66: Ազգային անվտանգություն | E66: Ներքին և արտաքին սպառնալիքներից անձի, հասարակության ու պետության անվտանգության ապահովում | F66: Այլ պետությունների կողմից հետախուզական գործունեության կասեցում,պետական սահմանի անձեռնամխելիության ապահովում, կոռուպցիոն ռիսկերի շեշտակի նվազեցում | G66: 41227.9 | H66: 41227.9 | I66: 41227.9 | J66: 41227.9
C67: 1138 - 11006 | D67: Պետական կառավարման մարմինների կատարողականի գնահատում եվ խրախուսում | E67: Պետական մարմնի գործունեության առաջնահերթությունների սահմանում, կատարողականի գնահատման հիման վրա՛ խրախուսման միջոցով արդյունավետության բարձրացում | F67: Ծառայությունների մատուցում | G67: 41227.9 | H67: 41227.9 | I67: 41227.9 | J67: 41227.9
A68: ՀՀ միջուկային անվտանգության կարգավորման կոմիտե | G68: 20261.7 | H68: 20261.7 | I68: 20261.7 | J68: 20261.7
B69: 1054 | D69: Միջուկային և ճառագայթային անվտանգության կարգավորում | E69: Ատոմային էներգիայի օգտագործման բնագավառի անվտանգության պետական կարգավորում | F69: Բնակչության, ատոմային էներգիայի օգտագործման օբյեկտների անձնակազմի, շրջակա միջավայրի պաշտպանություն իոնացնող ճառագայթման հնարավոր վնասակար ազդեցությունից | G69: 20261.7 | H69: 20261.7 | I69: 20261.7 | J69: 20261.7
C70: 1054 - 11004 | D70: Պետական կառավարման մարմինների կատարողականի գնահատում եվ խրախուսում | E70: Պետական մարմնի գործունեության առաջնահերթությունների սահմանում, կատարողականի գնահատման հիման վրա՛ խրախուսման միջոցով արդյունավետության բարձրացում | F70: Ծառայությունների մատուցում | G70: 20261.7 | H70: 20261.7 | I70: 20261.7 | J70: 20261.7
A71: ՀՀ պետական պահպանության ծառայություն | G71: 30245.5 | H71: 30245.5 | I71: 30245.5 | J71: 30245.5
B72: 1036 | D72: Պետական պահպանության ապահովում | E72: Հատուկ պետական պաշտպանության ենթակա օբյեկտների անվտանգության ապահովում | F72: Պետական պահպանության ենթակա օբեկտների անվտանգության խախտման դեպքերի կրճատում | G72: 30245.5 | H72: 30245.5 | I72: 30245.5 | J72: 30245.5
C73: 1036 - 11005 | D73: Պետական կառավարման մարմինների կատարողականի գնահատում եվ խրախուսում | E73: Պետական մարմնի գործունեության առաջնահերթությունների սահմանում, կատարողականի գնահատման հիման վրա՛ խրախուսման միջոցով արդյունավետության բարձրացում | F73: Ծառայությունների մատուցում | G73: 30245.5 | H73: 30245.5 | I73: 30245.5 | J73: 30245.5
A74: ՀՀ քաղաքաշինության կոմիտե | G74: 75110.8 | H74: 75110.8 | I74: 75110.8 | J74: 75110.8
B75: 1103 | D75: Քաղաքաշինության և ճարտարապետության բնագավառում պետական քաղաքականության իրականացում և կանոնակարգում | E75: Քաղաքաշինության և ճարտարապետության բնագավառում պետական քաղաքականության մշակմանն աջակցություն և իրականացման ապահովում | F75: Քաղաքաշինության գործունեության կանոնակարգում, քաղաքաշինական տեղեկատվական համակարգի ձևավորում և քաղաքաշինության բնագավառում պետական ծրագրերի իրականացման ապահովում | G75: 75110.8 | H75: 75110.8 | I75: 75110.8 | J75: 75110.8
C76: 1103 - 11011 | D76: Պետական կառավարման մարմինների կատարողականի գնահատում եվ խրախուսում | E76: Պետական մարմնի գործունեության առաջնահերթությունների սահմանում, կատարողականի գնահատման հիման վրա՛ խրախուսման միջոցով արդյունավետության բարձրացում | F76: Ծառայությունների մատուցում | G76: 75110.8 | H76: 75110.8 | I76: 75110.8 | J76: 75110.8
A77: ՀՀ պետական վերահսկողական ծառայություն | G77: 66835.4 | H77: 66835.4 | I77: 66835.4 | J77: 66835.4
B78: 1203 | D78: Պետական վերահսկողական ծառայություններ | E78: Վերահսկվող օբյեկտի գործունեության, ինչպես նաև պետական միջոցների կառավարման և ձևավորման արդյունավետության ու օրինականության նկատմամբ պետական վերահսողության ապահովում | F78: ՀՀ պետական միջոցների կառավարման, ձևավորման և օգտագործման արդյունավետության և օրինականության գնահատում | G78: 66835.4 | H78: 66835.4 | I78: 66835.4 | J78: 66835.4
C79: 1203 - 11002 | D79: Պետական կառավարման մարմինների կատարողականի գնահատում եվ խրախուսում | E79: Պետական մարմնի գործունեության առաջնահերթությունների սահմանում, կատարողականի գնահատման հիման վրա՛ խրախուսման միջոցով արդյունավետության բարձրացում | F79: Ծառայությունների մատուցում | G79: 66835.4 | H79: 66835.4 | I79: 66835.4 | J79: 66835.4
A80: ՀՀ արտաքին հետախուզության ծառայություն | G80: 68631.2 | H80: 68631.2 | I80: 68631.2 | J80: 68631.2
B81: 1237 | D81: Արտաքին հետախուզություն | E81: Արտաքին սպառնալիքներից անձի, հասարակության և պետության պաշտպանությանը, ՀՀ կենսական շահերին առչնվող տեղեկատվության ստացում և մշակում | F81: ՀՀ արտաքին քաղաքականության, ռազմաքաղաքական, տնտեսական, գիտատեխնիկական, շրջակա միջավայի պահպանության ու կենսական այլ ոլորտներում պետական քաղաքականության իրականացման աջակցություն | G81: 68631.2 | H81: 68631.2 | I81: 68631.2 | J81: 68631.2
C82: 1237 - 11002 | D82: Պետական կառավարման մարմինների կատարողականի գնահատում եվ խրախուսում | E82: Պետական մարմնի գործունեության առաջնահերթությունների սահմանում, կատարողականի գնահատման հիման վրա՛ խրախուսման միջոցով արդյունավետության բարձրացում | F82: Ծառայությունների մատուցում | G82: 68631.2 | H82: 68631.2 | I82: 68631.2 | J82: 68631.2
A83: ՀՀ կառավարություն | G83: =+G84 -> 1369811.4 | H83: =+H84 -> -430188.6 | I83: =+I84 -> -2230188.6 | J83: =+J84 -> -4630188.6
B84: 1139 | D84: ՀՀ կառավարության պահուստային ֆոնդ | E84: Պետական բյուջեում չկանխատեսված, ինչպես նաեւ բյուջետային երաշխիքների ապահովման ծախսերի ֆինանսավորման ապահովում | F84: Պահուստային ֆոնդի կառավարման արդյունավետության և թափանցիկության ապահովում | G84: =+G85+G86 -> 1369811.4 | H84: =+H85+H86 -> -430188.6 | I84: =+I85+I86 -> -2230188.6 | J84: =+J85+J86 -> -4630188.6
C85: 1139 - 11001 | D85: ՀՀ կառավարության պահուստային ֆոնդ | E85: ՀՀ պետական բյուջեում նախատեսված ելքերի լրացուցիչ ֆինանսավորման, պետական բյուջեում չկանխատեսված ելքերի, ինչպես նաև բյուջետային երաշխիքների ապահովման ելքերի ֆինանսավորման ապահովում | F85: Ծառայությունների մատուցում | G85: -4630188.6 | H85: -4630188.6 | I85: -4630188.6 | J85: -4630188.6
C86: 1139 - 11001 | D86: ՀՀ կառավարության պահուստային ֆոնդ | E86: ՀՀ պետական բյուջեում նախատեսված ելքերի լրացուցիչ ֆինանսավորման, պետական բյուջեում չկանխատեսված ելքերի, ինչպես նաև բյուջետային երաշխիքների ապահովման ելքերի ֆինանսավորման ապահովում | F86: Ծառայությունների մատուցում | G86: 6000000 | H86: 4200000 | I86: 2400000 | J86: 0

Sheet N 4
A1: . | J1: Հավելված N 4
J2: ՀՀ կառավարության 2026 թվականի
J3: -----------------ի N -----------Ն որոշման
A5: ՀԱՅԱՍՏԱՆԻ ՀԱՆՐԱՊԵՏՈՒԹՅԱՆ ԿԱՌԱՎԱՐՈՒԹՅԱՆ 2025 ԹՎԱԿԱՆԻ ԴԵԿՏԵՄԲԵՐԻ 25-Ի N 1910-Ն ՈՐՈՇՄԱՆ N 3 ՀԱՎԵԼՎԱԾՈՒՄ ԿԱՏԱՐՎՈՂ ՓՈՓՈԽՈՒԹՅՈՒՆՆԵՐԸ ԵՎ ԼՐԱՑՈՒՄՆԵՐԸ
I7: հազար դրամներով
A8: Գործառական դասիչը | D8: Ծրագրային դասիչը | F8: Բյուջետային ծախսերի գործառական դասակարգման բաժինների, խմբերի և դասերի, բյուջետային ծրագրերի միջոցառումների, բյուջետային հատկացումների գլխավոր կարգադրիչների անվանումները | G8: Ցուցանիշների փոփոխությունները ավելացումները նշված են դրական նշանով, իսկ նվազեցումները՝ փակագծերում
A9: Բաժին | B9: Խումբ | C9: Դաս | D9: Ծրագիր | E9: Միջոցա ռում | G9: Առաջին եռամսյակ | H9: Առաջին կիսամյակ | I9: Ինն ամիս | J9: Տարի
F10: ԸՆԴԱՄԵՆԸ ԾԱԽՍԵՐ | G10: =+'N3'!G10 -> 6000000 | H10: =+'N3'!H10 -> 4200000 | I10: =+'N3'!I10 -> 2400000 | J10: =+'N3'!J10 -> 0
F11: այդ թվում`
A12: 01 | F12: ԸՆԴՀԱՆՈՒՐ ԲՆՈՒՅԹԻ ՀԱՆՐԱՅԻՆ ԾԱՌԱՅՈՒԹՅՈՒՆՆԵՐ | G12: 2871405.2 | H12: 2871405.2 | I12: 2871405.2 | J12: 2871405.2
F13: այդ թվում`
B14: 01 | F14: Օրենսդիր և գործադիր մարմիններ, պետական կառավարում, ֆինանսական և հարկաբյուջետային հարաբերություններ, արտաքին հարաբերություններ | G14: 2725235.3 | H14: 2725235.3 | I14: 2725235.3 | J14: 2725235.3
F15: այդ թվում`
C16: 01 | F16: Օրենսդիր և գործադիր մարմիններ, պետական կառավարում | G16: 2383389 | H16: 2383389 | I16: 2383389 | J16: 2383389
F17: այդ թվում`
D18: 1001 | E18: 11007 | F18: Պետական կառավարման մարմինների կատարողականի գնահատում եվ խրախուսում | G18: 623994.4 | H18: 623994.4 | I18: 623994.4 | J18: 623994.4
F19: ՀՀ տարածքային կառավարման և ենթակառուցվածքների նախարարություն | G19: 623994.4 | H19: 623994.4 | I19: 623994.4 | J19: 623994.4
D20: 1024 | E20: 11005 | F20: Պետական կառավարման մարմինների կատարողականի գնահատում եվ խրախուսում | G20: 667094.7 | H20: 667094.7 | I20: 667094.7 | J20: 667094.7
F21: ՀՀ Ազգային ժողով | G21: 667094.7 | H21: 667094.7 | I21: 667094.7 | J21: 667094.7
D22: 1057 | E22: 11011 | F22: Պետական կառավարման մարմինների կատարողականի գնահատում եվ խրախուսում | G22: 297788.8 | H22: 297788.8 | I22: 297788.8 | J22: 297788.8
F23: ՀՀ արդարադատության նախարարություն | G23: 297788.8 | H23: 297788.8 | I23: 297788.8 | J23: 297788.8
D24: 1136 | E24: 11025 | F24: Պետական կառավարման մարմինների կատարողականի գնահատում եվ խրախուսում | G24: 663633.2 | H24: 663633.2 | I24: 663633.2 | J24: 663633.2
F25: ՀՀ վարչապետի աշխատակազմ | G25: 663633.2 | H25: 663633.2 | I25: 663633.2 | J25: 663633.2
D26: 1154 | E26: 11006 | F26: Պետական կառավարման մարմինների կատարողականի գնահատում եվ խրախուսում | G26: 64042.5 | H26: 64042.5 | I26: 64042.5 | J26: 64042.5
F27: Հանրապետության նախագահի աշխատակազմ | G27: 64042.5 | H27: 64042.5 | I27: 64042.5 | J27: 64042.5
D28: 1203 | E28: 11002 | F28: Պետական կառավարման մարմինների կատարողականի գնահատում եվ խրախուսում | G28: 66835.4 | H28: 66835.4 | I28: 66835.4 | J28: 66835.4
F29: ՀՀ պետական վերահսկողական ծառայություն | G29: 66835.4 | H29: 66835.4 | I29: 66835.4 | J29: 66835.4
C30: 02 | F30: Ֆինանսական և հարկաբյուջետային հարաբերություններ | G30: 165647.1 | H30: 165647.1 | I30: 165647.1 | J30: 165647.1
F31: այդ թվում`
D32: 1023 | E32: 11016 | F32: Պետական կառավարման մարմինների կատարողականի գնահատում եվ խրախուսում | G32: 48973.3 | H32: 48973.3 | I32: 48973.3 | J32: 48973.3
F33: ՀՀ պետական եկամուտների կոմիտե | G33: 48973.3 | H33: 48973.3 | I33: 48973.3 | J33: 48973.3
D34: 1108 | E34: 11015 | F34: Պետական կառավարման մարմինների կատարողականի գնահատում եվ խրախուսում | G34: 116673.8 | H34: 116673.8 | I34: 116673.8 | J34: 116673.8
F35: ՀՀ ֆինանսների նախարարություն | G35: 116673.8 | H35: 116673.8 | I35: 116673.8 | J35: 116673.8
C36: 03 | F36: Արտաքին հարաբերություններ | G36: 176199.2 | H36: 176199.2 | I36: 176199.2 | J36: 176199.2
F37: այդ թվում`
D38: 1061 | E38: 11010 | F38: Պետական կառավարման մարմինների կատարողականի գնահատում եվ խրախուսում | G38: 176199.2 | H38: 176199.2 | I38: 176199.2 | J38: 176199.2
F39: ՀՀ արտաքին գործերի նախարարություն | G39: 176199.2 | H39: 176199.2 | I39: 176199.2 | J39: 176199.2
B40: 03 | F40: Ընդհանուր բնույթի ծառայություններ | G40: 54335.2 | H40: 54335.2 | I40: 54335.2 | J40: 54335.2
F41: այդ թվում`
C42: 02 | F42: Ծրագրման և վիճակագրական ընդհանուր ծառայություններ | G42: 54335.2 | H42: 54335.2 | I42: 54335.2 | J42: 54335.2
F43: այդ թվում`
D44: 1143 | E44: 11014 | F44: Պետական կառավարման մարմինների կատարողականի գնահատում եվ խրախուսում | G44: 54335.2 | H44: 54335.2 | I44: 54335.2 | J44: 54335.2
F45: ՀՀ վիճակագրական կոմիտե | G45: 54335.2 | H45: 54335.2 | I45: 54335.2 | J45: 54335.2
B46: 06 | F46: Ընդհանուր բնույթի հանրային ծառայություններ (այլ դասերին չպատկանող) | G46: 91834.7 | H46: 91834.7 | I46: 91834.7 | J46: 91834.7
F47: այդ թվում`
C48: 01 | F48: Ընդհանուր բնույթի հանրային ծառայություններ (այլ դասերին չպատկանող) | G48: 91834.7 | H48: 91834.7 | I48: 91834.7 | J48: 91834.7
F49: այդ թվում`
D50: 1012 | E50: 11006 | F50: Պետական կառավարման մարմինների կատարողականի գնահատում եվ խրախուսում | G50: 91834.7 | H50: 91834.7 | I50: 91834.7 | J50: 91834.7
F51: ՀՀ կադաստրի կոմիտե | G51: 91834.7 | H51: 91834.7 | I51: 91834.7 | J51: 91834.7
A52: 02 | F52: ՊԱՇՏՊԱՆՈՒԹՅՈՒՆ | G52: 275529.4 | H52: 275529.4 | I52: 275529.4 | J52: 275529.4
F53: այդ թվում`
B54: 01 | F54: Ռազմական պաշտպանություն | G54: 275529.4 | H54: 275529.4 | I54: 275529.4 | J54: 275529.4
F55: այդ թվում`
C56: 01 | F56: Ռազմական պաշտպանություն | G56: 275529.4 | H56: 275529.4 | I56: 275529.4 | J56: 275529.4
F57: այդ թվում`
D58: 1169 | E58: 11011 | F58: Պետական կառավարման մարմինների կատարողականի գնահատում եվ խրախուսում | G58: 275529.4 | H58: 275529.4 | I58: 275529.4 | J58: 275529.4
F59: ՀՀ պաշտպանության նախարարություն | G59: 275529.4 | H59: 275529.4 | I59: 275529.4 | J59: 275529.4
A60: 03 | F60: ՀԱՍԱՐԱԿԱԿԱՆ ԿԱՐԳ, ԱՆՎՏԱՆԳՈՒԹՅՈՒՆ ԵՎ ԴԱՏԱԿԱՆ ԳՈՐԾՈՒՆԵՈՒԹՅՈՒՆ | G60: 392300.6 | H60: 392300.6 | I60: 392300.6 | J60: 392300.6
F61: այդ թվում`
B62: 01 | F62: Հասարակական կարգ և անվտանգություն | G62: 392300.6 | H62: 392300.6 | I62: 392300.6 | J62: 392300.6
F63: այդ թվում`
C64: 01 | F64: Ոստիկանություն | G64: 252196 | H64: 252196 | I64: 252196 | J64: 252196
F65: այդ թվում`
D66: 1234 | E66: 11023 | F66: Պետական կառավարման մարմինների կատարողականի գնահատում եվ խրախուսում | G66: 252196 | H66: 252196 | I66: 252196 | J66: 252196
F67: ՀՀ ներքին գործերի նախարարություն | G67: 252196 | H67: 252196 | I67: 252196 | J67: 252196
C68: 02 | F68: Ազգային անվտանգություն | G68: 109859.1 | H68: 109859.1 | I68: 109859.1 | J68: 109859.1
F69: այդ թվում`
D70: 1138 | E70: 11006 | F70: Պետական կառավարման մարմինների կատարողականի գնահատում եվ խրախուսում | G70: 41227.9 | H70: 41227.9 | I70: 41227.9 | J70: 41227.9
F71: ՀՀ ազգային անվտանգության ծառայություն | G71: 41227.9 | H71: 41227.9 | I71: 41227.9 | J71: 41227.9
D72: 1237 | E72: 11002 | F72: Պետական կառավարման մարմինների կատարողականի գնահատում եվ խրախուսում | G72: 68631.2 | H72: 68631.2 | I72: 68631.2 | J72: 68631.2
F73: ՀՀ արտաքին հետախուզության ծառայություն | G73: 68631.2 | H73: 68631.2 | I73: 68631.2 | J73: 68631.2
C74: 03 | F74: Պետական պահպանություն | G74: 30245.5 | H74: 30245.5 | I74: 30245.5 | J74: 30245.5
F75: այդ թվում`
D76: 1036 | E76: 11005 | F76: Պետական կառավարման մարմինների կատարողականի գնահատում եվ խրախուսում | G76: 30245.5 | H76: 30245.5 | I76: 30245.5 | J76: 30245.5
F77: ՀՀ պետական պահպանության ծառայություն | G77: 30245.5 | H77: 30245.5 | I77: 30245.5 | J77: 30245.5
A78: 04 | F78: ՏՆՏԵՍԱԿԱՆ ՀԱՐԱԲԵՐՈՒԹՅՈՒՆՆԵՐ | G78: 362025.8 | H78: 362025.8 | I78: 362025.8 | J78: 362025.8
F79: այդ թվում`
B80: 01 | F80: Ընդհանուր բնույթի տնտեսական, առևտրային և աշխատանքի գծով հարաբերություններ | G80: 224802.3 | H80: 224802.3 | I80: 224802.3 | J80: 224802.3
F81: այդ թվում`
C82: 01 | F82: Ընդհանուր բնույթի տնտեսական և առևտրային հարաբերություններ | G82: 224802.3 | H82: 224802.3 | I82: 224802.3 | J82: 224802.3
F83: այդ թվում`
D84: 1058 | E84: 11009 | F84: Պետական կառավարման մարմինների կատարողականի գնահատում եվ խրախուսում | G84: 224802.3 | H84: 224802.3 | I84: 224802.3 | J84: 224802.3
F85: ՀՀ էկոնոմիկայի նախարարություն | G85: 224802.3 | H85: 224802.3 | I85: 224802.3 | J85: 224802.3
B86: 03 | F86: Վառելիք և էներգետիկա | G86: 20261.7 | H86: 20261.7 | I86: 20261.7 | J86: 20261.7
F87: այդ թվում`
C88: 03 | F88: Միջուկային վառելիք | G88: 20261.7 | H88: 20261.7 | I88: 20261.7 | J88: 20261.7
F89: այդ թվում`
D90: 1054 | E90: 11004 | F90: Պետական կառավարման մարմինների կատարողականի գնահատում եվ խրախուսում | G90: 20261.7 | H90: 20261.7 | I90: 20261.7 | J90: 20261.7
F91: ՀՀ միջուկային անվտանգության կարգավորման կոմիտե | G91: 20261.7 | H91: 20261.7 | I91: 20261.7 | J91: 20261.7
B92: 09 | F92: Տնտեսական հարաբերություններ (այլ դասերին չպատկանող) | G92: 116961.8 | H92: 116961.8 | I92: 116961.8 | J92: 116961.8
F93: այդ թվում`
C94: 01 | F94: Տնտեսական հարաբերություններ (այլ դասերին չպատկանող) | G94: 116961.8 | H94: 116961.8 | I94: 116961.8 | J94: 116961.8
F95: այդ թվում`
D96: 1100 | E96: 11007 | F96: Պետական կառավարման մարմինների կատարողականի գնահատում եվ խրախուսում | G96: 116961.8 | H96: 116961.8 | I96: 116961.8 | J96: 116961.8
F97: ՀՀ բարձր տեխնոլոգիական արդյունաբերության նախարարություն | G97: 116961.8 | H97: 116961.8 | I97: 116961.8 | J97: 116961.8
A98: 05 | F98: ՇՐՋԱԿԱ ՄԻՋԱՎԱՅՐԻ ՊԱՇՏՊԱՆՈՒԹՅՈՒՆ | G98: 147316.3 | H98: 147316.3 | I98: 147316.3 | J98: 147316.3
F99: այդ թվում`
B100: 06 | F100: Շրջակա միջավայրի պաշտպանություն (այլ դասերին չպատկանող) | G100: 147316.3 | H100: 147316.3 | I100: 147316.3 | J100: 147316.3
F101: այդ թվում`
C102: 01 | F102: Շրջակա միջավայրի պաշտպանություն (այլ դասերին չպատկանող) | G102: 147316.3 | H102: 147316.3 | I102: 147316.3 | J102: 147316.3
...

Sheet N5.
G1: Հավելված N 5
F3: ՀՀ կառավարության 2026 թվականի
F4: ______________ ի ___Ն որոշման
A6: ՀԱՅԱՍՏԱՆԻ ՀԱՆՐԱՊԵՏՈՒԹՅԱՆ ԿԱՌԱՎԱՐՈՒԹՅԱՆ 2025 ԹՎԱԿԱՆԻ ԴԵԿՏԵՄԲԵՐԻ 25-Ի N 1910-Ն ՈՐՈՇՄԱՆ N 4 ՀԱՎԵԼՎԱԾՈՒՄ ԿԱՏԱՐՎՈՂ ՓՈՓՈԽՈՒԹՅՈՒՆՆԵՐԸ ԵՎ ԼՐԱՑՈՒՄՆԵՐԸ
F7: հազար դրամներով
A8: Ծրագրային դասիչը | C8: Բյուջետային հատկացումների գլխավոր կարգադրիչների, ծրագրերի, միջոցառումների և միջոցառումները կատարող պետական մարմինների անվանումները | D8: Ցուցանիշների փոփոխությունները ավելացումները նշված են դրական նշանով, իսկ նվազեցումները՝ փակագծերում)
A9: Ծրագիր | B9: Միջոց առում | D9: Առաջին եռամսյակ | E9: Առաջին կիսամյակ | F9: Ինն ամիս | G9: Տարի
C10: ԸՆԴԱՄԵՆԸ | D10: =+'N 4'!G10 -> 6000000 | E10: =+'N 4'!H10 -> 4200000 | F10: =+'N 4'!I10 -> 2400000 | G10: =+'N 4'!J10 -> 0
C11: այդ թվում`
C12: Հանրապետության նախագահի աշխատակազմ | D12: 64042.5 | E12: 64042.5 | F12: 64042.5 | G12: 64042.5
C13: այդ թվում`
A14: 1154 | C14: Հանրապետության նախագահի լիազորությունների իրականացման ապահովում | D14: 64042.5 | E14: 64042.5 | F14: 64042.5 | G14: 64042.5
C15: այդ թվում`
B16: 11006 | C16: Պետական կառավարման մարմինների կատարողականի գնահատում եվ խրախուսում | D16: 64042.5 | E16: 64042.5 | F16: 64042.5 | G16: 64042.5
C17: այդ թվում` ըստ կատարողների
C18: Հանրապետության նախագահի աշխատակազմ | D18: 64042.5 | E18: 64042.5 | F18: 64042.5 | G18: 64042.5
C19: այդ թվում` բյուջետային ծախսերի տնտեսագիտական դասակարգման հոդվածներ
C20: ԸՆԴԱՄԵՆԸ ԾԱԽՍԵՐ | D20: 64042.5 | E20: 64042.5 | F20: 64042.5 | G20: 64042.5
C21: ԸՆԹԱՑԻԿ ԾԱԽՍԵՐ | D21: 64042.5 | E21: 64042.5 | F21: 64042.5 | G21: 64042.5
C22: ԱՇԽԱՏԱՆՔԻ ՎԱՐՁԱՏՐՈՒԹՅՈՒՆ | D22: 64042.5 | E22: 64042.5 | F22: 64042.5 | G22: 64042.5
C23: Դրամով վճարվող աշխատավարձեր և հավելավճարներ | D23: 64042.5 | E23: 64042.5 | F23: 64042.5 | G23: 64042.5
C24: - Պարգևատրումներ, դրամական խրախուսումներ և հատուկ վճարներ | D24: 64042.5 | E24: 64042.5 | F24: 64042.5 | G24: 64042.5
C25: ՀՀ Ազգային ժողով | D25: 667094.7 | E25: 667094.7 | F25: 667094.7 | G25: 667094.7
C26: այդ թվում`
A27: 1024 | C27: ՀՀ Ազգային ժողովի լիազորությունների իրականացման ապահովում | D27: 667094.7 | E27: 667094.7 | F27: 667094.7 | G27: 667094.7
C28: այդ թվում`
B29: 11005 | C29: Պետական կառավարման մարմինների կատարողականի գնահատում եվ խրախուսում | D29: 667094.7 | E29: 667094.7 | F29: 667094.7 | G29: 667094.7
C30: այդ թվում` ըստ կատարողների
C31: ՀՀ Ազգային ժողով | D31: 667094.7 | E31: 667094.7 | F31: 667094.7 | G31: 667094.7
C32: այդ թվում` բյուջետային ծախսերի տնտեսագիտական դասակարգման հոդվածներ
C33: ԸՆԴԱՄԵՆԸ ԾԱԽՍԵՐ | D33: 667094.7 | E33: 667094.7 | F33: 667094.7 | G33: 667094.7
C34: ԸՆԹԱՑԻԿ ԾԱԽՍԵՐ | D34: 667094.7 | E34: 667094.7 | F34: 667094.7 | G34: 667094.7
C35: ԱՇԽԱՏԱՆՔԻ ՎԱՐՁԱՏՐՈՒԹՅՈՒՆ | D35: 667094.7 | E35: 667094.7 | F35: 667094.7 | G35: 667094.7
C36: Դրամով վճարվող աշխատավարձեր և հավելավճարներ | D36: 667094.7 | E36: 667094.7 | F36: 667094.7 | G36: 667094.7
C37: - Պարգևատրումներ, դրամական խրախուսումներ և հատուկ վճարներ | D37: 667094.7 | E37: 667094.7 | F37: 667094.7 | G37: 667094.7
C38: ՀՀ վարչապետի աշխատակազմ | D38: 663633.2 | E38: 663633.2 | F38: 663633.2 | G38: 663633.2
C39: այդ թվում`
A40: 1136 | C40: ՀՀ Վարչապետի լիազորությունների իրականացման ապահովում | D40: 663633.2 | E40: 663633.2 | F40: 663633.2 | G40: 663633.2
C41: այդ թվում`
B42: 11025 | C42: Պետական կառավարման մարմինների կատարողականի գնահատում եվ խրախուսում | D42: 663633.2 | E42: 663633.2 | F42: 663633.2 | G42: 663633.2
C43: այդ թվում` ըստ կատարողների
C44: ՀՀ վարչապետի աշխատակազմ | D44: 663633.2 | E44: 663633.2 | F44: 663633.2 | G44: 663633.2
C45: այդ թվում` բյուջետային ծախսերի տնտեսագիտական դասակարգման հոդվածներ
C46: ԸՆԴԱՄԵՆԸ ԾԱԽՍԵՐ | D46: 663633.2 | E46: 663633.2 | F46: 663633.2 | G46: 663633.2
C47: ԸՆԹԱՑԻԿ ԾԱԽՍԵՐ | D47: 663633.2 | E47: 663633.2 | F47: 663633.2 | G47: 663633.2
C48: ԱՇԽԱՏԱՆՔԻ ՎԱՐՁԱՏՐՈՒԹՅՈՒՆ | D48: 663633.2 | E48: 663633.2 | F48: 663633.2 | G48: 663633.2
C49: Դրամով վճարվող աշխատավարձեր և հավելավճարներ | D49: 663633.2 | E49: 663633.2 | F49: 663633.2 | G49: 663633.2
C50: - Պարգևատրումներ, դրամական խրախուսումներ և հատուկ վճարներ | D50: 663633.2 | E50: 663633.2 | F50: 663633.2 | G50: 663633.2
C51: ՀՀ տարածքային կառավարման և ենթակառուցվածքների նախարարություն | D51: 623994.4 | E51: 623994.4 | F51: 623994.4 | G51: 623994.4
C52: այդ թվում`
A53: 1001 | C53: Տարածքային կառավարման ոլորտում քաղաքականության մշակում, ծրագրերի համակարգում և մոնիտորինգի իրականացում | D53: 623994.4 | E53: 623994.4 | F53: 623994.4 | G53: 623994.4
C54: այդ թվում`
B55: 11007 | C55: Պետական կառավարման մարմինների կատարողականի գնահատում եվ խրախուսում | D55: 623994.4 | E55: 623994.4 | F55: 623994.4 | G55: 623994.4
C56: այդ թվում` ըստ կատարողների
C57: ՀՀ տարածքային կառավարման և ենթակառուցվածքների նախարարություն | D57: 623994.4 | E57: 623994.4 | F57: 623994.4 | G57: 623994.4
C58: այդ թվում` բյուջետային ծախսերի տնտեսագիտական դասակարգման հոդվածներ
C59: ԸՆԴԱՄԵՆԸ ԾԱԽՍԵՐ | D59: 623994.4 | E59: 623994.4 | F59: 623994.4 | G59: 623994.4
C60: ԸՆԹԱՑԻԿ ԾԱԽՍԵՐ | D60: 623994.4 | E60: 623994.4 | F60: 623994.4 | G60: 623994.4
C61: ԱՇԽԱՏԱՆՔԻ ՎԱՐՁԱՏՐՈՒԹՅՈՒՆ | D61: 623994.4 | E61: 623994.4 | F61: 623994.4 | G61: 623994.4
C62: Դրամով վճարվող աշխատավարձեր և հավելավճարներ | D62: 623994.4 | E62: 623994.4 | F62: 623994.4 | G62: 623994.4
C63: - Պարգևատրումներ, դրամական խրախուսումներ և հատուկ վճարներ | D63: 623994.4 | E63: 623994.4 | F63: 623994.4 | G63: 623994.4
C64: ՀՀ առողջապահության նախարարություն | D64: 113588.8 | E64: 113588.8 | F64: 113588.8 | G64: 113588.8
C65: այդ թվում`
A66: 1126 | C66: Առողջապահության ոլորտում պետական քաղաքականության մշակում, ծրագրերի համակարգում և մոնիտորինգ | D66: 113588.8 | E66: 113588.8 | F66: 113588.8 | G66: 113588.8
C67: այդ թվում`
B68: 11009 | C68: Պետական կառավարման մարմինների կատարողականի գնահատում եվ խրախուսում | D68: 113588.8 | E68: 113588.8 | F68: 113588.8 | G68: 113588.8
C69: այդ թվում` ըստ կատարողների
C70: ՀՀ առողջապահության նախարարություն | D70: 113588.8 | E70: 113588.8 | F70: 113588.8 | G70: 113588.8
C71: այդ թվում` բյուջետային ծախսերի տնտեսագիտական դասակարգման հոդվածներ
C72: ԸՆԴԱՄԵՆԸ ԾԱԽՍԵՐ | D72: 113588.8 | E72: 113588.8 | F72: 113588.8 | G72: 113588.8
C73: ԸՆԹԱՑԻԿ ԾԱԽՍԵՐ | D73: 113588.8 | E73: 113588.8 | F73: 113588.8 | G73: 113588.8
C74: ԱՇԽԱՏԱՆՔԻ ՎԱՐՁԱՏՐՈՒԹՅՈՒՆ | D74: 113588.8 | E74: 113588.8 | F74: 113588.8 | G74: 113588.8
C75: Դրամով վճարվող աշխատավարձեր և հավելավճարներ | D75: 113588.8 | E75: 113588.8 | F75: 113588.8 | G75: 113588.8
C76: - Պարգևատրումներ, դրամական խրախուսումներ և հատուկ վճարներ | D76: 113588.8 | E76: 113588.8 | F76: 113588.8 | G76: 113588.8
C77: ՀՀ արդարադատության նախարարություն | D77: 297788.8 | E77: 297788.8 | F77: 297788.8 | G77: 297788.8
C78: այդ թվում`
A79: 1057 | C79: Արդարադատության ոլորտում քաղաքականության մշակում, ծրագրերի համակարգում, խորհրդատվության և մոնիտորինգի իրականացում | D79: 297788.8 | E79: 297788.8 | F79: 297788.8 | G79: 297788.8
C80: այդ թվում`
B81: 11011 | C81: Պետական կառավարման մարմինների կատարողականի գնահատում եվ խրախուսում | D81: 297788.8 | E81: 297788.8 | F81: 297788.8 | G81: 297788.8
C82: այդ թվում` ըստ կատարողների
C83: ՀՀ արդարադատության նախարարություն | D83: 297788.8 | E83: 297788.8 | F83: 297788.8 | G83: 297788.8
C84: այդ թվում` բյուջետային ծախսերի տնտեսագիտական դասակարգման հոդվածներ
C85: ԸՆԴԱՄԵՆԸ ԾԱԽՍԵՐ | D85: 297788.8 | E85: 297788.8 | F85: 297788.8 | G85: 297788.8
C86: ԸՆԹԱՑԻԿ ԾԱԽՍԵՐ | D86: 297788.8 | E86: 297788.8 | F86: 297788.8 | G86: 297788.8
C87: ԱՇԽԱՏԱՆՔԻ ՎԱՐՁԱՏՐՈՒԹՅՈՒՆ | D87: 297788.8 | E87: 297788.8 | F87: 297788.8 | G87: 297788.8
C88: Դրամով վճարվող աշխատավարձեր և հավելավճարներ | D88: 297788.8 | E88: 297788.8 | F88: 297788.8 | G88: 297788.8
C89: - Պարգևատրումներ, դրամական խրախուսումներ և հատուկ վճարներ | D89: 297788.8 | E89: 297788.8 | F89: 297788.8 | G89: 297788.8
C90: ՀՀ էկոնոմիկայի նախարարություն | D90: 224802.3 | E90: 224802.3 | F90: 224802.3 | G90: 224802.3
C91: այդ թվում`
A92: 1058 | C92: Էկոնոմիկայի ոլորտում պետական քաղաքականության մշակում, ծրագրերի համակարգում և մոնիտորինգ | D92: 224802.3 | E92: 224802.3 | F92: 224802.3 | G92: 224802.3
C93: այդ թվում`
B94: 11009 | C94: Պետական կառավարման մարմինների կատարողականի գնահատում եվ խրախուսում | D94: 224802.3 | E94: 224802.3 | F94: 224802.3 | G94: 224802.3
C95: այդ թվում` ըստ կատարողների
C96: ՀՀ էկոնոմիկայի նախարարություն | D96: 224802.3 | E96: 224802.3 | F96: 224802.3 | G96: 224802.3
C97: այդ թվում` բյուջետային ծախսերի տնտեսագիտական դասակարգման հոդվածներ
C98: ԸՆԴԱՄԵՆԸ ԾԱԽՍԵՐ | D98: 224802.3 | E98: 224802.3 | F98: 224802.3 | G98: 224802.3
C99: ԸՆԹԱՑԻԿ ԾԱԽՍԵՐ | D99: 224802.3 | E99: 224802.3 | F99: 224802.3 | G99: 224802.3
C100: ԱՇԽԱՏԱՆՔԻ ՎԱՐՁԱՏՐՈՒԹՅՈՒՆ | D100: 224802.3 | E100: 224802.3 | F100: 224802.3 | G100: 224802.3
C101: Դրամով վճարվող աշխատավարձեր և հավելավճարներ | D101: 224802.3 | E101: 224802.3 | F101: 224802.3 | G101: 224802.3
C102: - Պարգևատրումներ, դրամական խրախուսումներ և հատուկ վճարներ | D102: 224802.3 | E102: 224802.3 | F102: 224802.3 | G102: 224802.3
...

Sheet N 6.
M1: Հավելված N 6
L2: ՀՀ կառավարության 2026 թվականի
L3: ______________ ի ___Ն որոշման
A6: ՀԱՅԱՍՏԱՆԻ ՀԱՆՐԱՊԵՏՈՒԹՅԱՆ ԿԱՌԱՎԱՐՈՒԹՅԱՆ 2025 ԹՎԱԿԱՆԻ ԴԵԿՏԵՄԲԵՐԻ 25-Ի N 1910-Ն ՈՐՈՇՄԱՆ N 9 ՀԱՎԵԼՎԱԾՈՒՄ ԿԱՏԱՐՎՈՂ ՓՈՓՈԽՈՒԹՅՈՒՆՆԵՐԸ ԵՎ ԼՐԱՑՈՒՄՆԵՐԸ
M8: հազար դրամներով
A9: ԲԳԿ | B9: Ծրագիր | D9: Միջոցառում | H9: Իրականացնողը/ ակտիվն օգտագործողը/ շահառուի ընտրության չափորոշիչը | I9: Արդյունքային չափորոշիչը | J9: Ցուցանիշների փոփոխությունները ավելացումները նշված են դրական նշանով, իսկ նվազեցումները՝ փակագծերում
B10: Դասիչը | C10: Անվանումը | D10: Դասիչը | E10: Անվանումը | F10: Նկարագրությունը | G10: Տեսակը | J10: Առաջին եռամսյակ | K10: Առաջին կիսամյակ | L10: Ինն ամիս | M10: Տարի
A11: ԸՆԴԱՄԵՆԸ | J11: =+'N3'!G10 -> 6000000 | K11: =+'N3'!H10 -> 4200000 | L11: =+'N3'!I10 -> 2400000 | M11: =+'N3'!J10 -> 0
A12: Հանրապետության նախագահի աշխատակազմ | J12: 64042.5 | K12: 64042.5 | L12: 64042.5 | M12: 64042.5
B13: 1154 | C13: Հանրապետության նախագահի լիազորությունների իրականացման ապահովում | J13: 64042.5 | K13: 64042.5 | L13: 64042.5 | M13: 64042.5
D14: 1154 - 11006 | E14: Պետական կառավարման մարմինների կատարողականի գնահատում և խրախուսում | J14: 64042.5 | K14: 64042.5 | L14: 64042.5 | M14: 64042.5
F15: Պետական մարմնի գործունեության առաջնահերթությունների սահմանում, կատարողականի գնահատման հիման վրա՝ խրախուսման միջոցով արդյունավետության բարձրացում
G16: Ծառայությունների մատուցում
H17: Ծառայությունը մատուցողի անվանումը` Հանրապետության նախագահի աշխատակազմ
A18: ՀՀ Ազգային ժողով | J18: 667094.7 | K18: 667094.7 | L18: 667094.7 | M18: 667094.7
B19: 1024 | C19: ՀՀ Ազգային ժողովի լիազորությունների իրականացման ապահովում | J19: 667094.7 | K19: 667094.7 | L19: 667094.7 | M19: 667094.7
D20: 1024 - 11005 | E20: Պետական կառավարման մարմինների կատարողականի գնահատում և խրախուսում | J20: 667094.7 | K20: 667094.7 | L20: 667094.7 | M20: 667094.7
F21: Պետական մարմնի գործունեության առաջնահերթությունների սահմանում, կատարողականի գնահատման հիման վրա՝ խրախուսման միջոցով արդյունավետության բարձրացում
G22: Ծառայությունների մատուցում
H23: Ծառայությունը մատուցողի անվանումը` ՀՀ Ազգային ժողով
A24: ՀՀ վարչապետի աշխատակազմ | J24: 663633.2 | K24: 663633.2 | L24: 663633.2 | M24: 663633.2
B25: 1136 | C25: ՀՀ Վարչապետի լիազորությունների իրականացման ապահովում | J25: 663633.2 | K25: 663633.2 | L25: 663633.2 | M25: 663633.2
D26: 1136 - 11025 | E26: Պետական կառավարման մարմինների կատարողականի գնահատում և խրախուսում | J26: 663633.2 | K26: 663633.2 | L26: 663633.2 | M26: 663633.2
F27: Պետական մարմնի գործունեության առաջնահերթությունների սահմանում, կատարողականի գնահատման հիման վրա՝ խրախուսման միջոցով արդյունավետության բարձրացում
G28: Ծառայությունների մատուցում
H29: Ծառայությունը մատուցողի անվանումը` ՀՀ վարչապետի աշխատակազմ
A30: ՀՀ տարածքային կառավարման և ենթակառուցվածքների նախարարություն | J30: 623994.4 | K30: 623994.4 | L30: 623994.4 | M30: 623994.4
B31: 1001 | C31: Տարածքային կառավարման ոլորտում քաղաքականության մշակում, ծրագրերի համակարգում և մոնիտորինգի իրականացում | J31: 623994.4 | K31: 623994.4 | L31: 623994.4 | M31: 623994.4
D32: 1001 - 11007 | E32: Պետական կառավարման մարմինների կատարողականի գնահատում և խրախուսում | J32: 623994.4 | K32: 623994.4 | L32: 623994.4 | M32: 623994.4
F33: Պետական մարմնի գործունեության առաջնահերթությունների սահմանում, կատարողականի գնահատման հիման վրա՝ խրախուսման միջոցով արդյունավետության բարձրացում
G34: Ծառայությունների մատուցում
H35: Ծառայությունը մատուցողի անվանումը` ՀՀ տարածքային կառավարման և ենթակառուցվածքների նախարարություն
A36: ՀՀ առողջապահության նախարարություն | J36: 113588.8 | K36: 113588.8 | L36: 113588.8 | M36: 113588.8
B37: 1126 | C37: Առողջապահության ոլորտում պետական քաղաքականության մշակում, ծրագրերի համակարգում և մոնիտորինգ | J37: 113588.8 | K37: 113588.8 | L37: 113588.8 | M37: 113588.8
D38: 1126 - 11009 | E38: Պետական կառավարման մարմինների կատարողականի գնահատում և խրախուսում | J38: 113588.8 | K38: 113588.8 | L38: 113588.8 | M38: 113588.8
F39: Պետական մարմնի գործունեության առաջնահերթությունների սահմանում, կատարողականի գնահատման հիման վրա՝ խրախուսման միջոցով արդյունավետության բարձրացում
G40: Ծառայությունների մատուցում
H41: Ծառայությունը մատուցողի անվանումը` ՀՀ առողջապահության նախարարություն
A42: ՀՀ արդարադատության նախարարություն | J42: 297788.8 | K42: 297788.8 | L42: 297788.8 | M42: 297788.8
B43: 1057 | C43: Արդարադատության ոլորտում քաղաքականության մշակում, ծրագրերի համակարգում, խորհրդատվության և մոնիտորինգի իրականացում | J43: 297788.8 | K43: 297788.8 | L43: 297788.8 | M43: 297788.8
D44: 1057 - 11011 | E44: Պետական կառավարման մարմինների կատարողականի գնահատում և խրախուսում | J44: 297788.8 | K44: 297788.8 | L44: 297788.8 | M44: 297788.8
F45: Պետական մարմնի գործունեության առաջնահերթությունների սահմանում, կատարողականի գնահատման հիման վրա՝ խրախուսման միջոցով արդյունավետության բարձրացում
G46: Ծառայությունների մատուցում
H47: Ծառայությունը մատուցողի անվանումը` ՀՀ արդարադատության նախարարություն
A48: ՀՀ էկոնոմիկայի նախարարություն | J48: 224802.3 | K48: 224802.3 | L48: 224802.3 | M48: 224802.3
B49: 1058 | C49: Էկոնոմիկայի ոլորտում պետական քաղաքականության մշակում, ծրագրերի համակարգում և մոնիտորինգ | J49: 224802.3 | K49: 224802.3 | L49: 224802.3 | M49: 224802.3
D50: 1058 - 11009 | E50: Պետական կառավարման մարմինների կատարողականի գնահատում և խրախուսում | J50: 224802.3 | K50: 224802.3 | L50: 224802.3 | M50: 224802.3
F51: Պետական մարմնի գործունեության առաջնահերթությունների սահմանում, կատարողականի գնահատման հիման վրա՝ խրախուսման միջոցով արդյունավետության բարձրացում
G52: Ծառայությունների մատուցում
H53: Ծառայությունը մատուցողի անվանումը` ՀՀ էկոնոմիկայի նախարարություն
A54: ՀՀ արտաքին գործերի նախարարություն | J54: 176199.2 | K54: 176199.2 | L54: 176199.2 | M54: 176199.2
B55: 1061 | C55: Արտաքին գործերի ոլորտում Կառավարության քաղաքականության մշակում և իրականացում | J55: 176199.2 | K55: 176199.2 | L55: 176199.2 | M55: 176199.2
D56: 1061 - 11010 | E56: Պետական կառավարման մարմինների կատարողականի գնահատում և խրախուսում | J56: 176199.2 | K56: 176199.2 | L56: 176199.2 | M56: 176199.2
F57: Պետական մարմնի գործունեության առաջնահերթությունների սահմանում, կատարողականի գնահատման հիման վրա՝ խրախուսման միջոցով արդյունավետության բարձրացում
G58: Ծառայությունների մատուցում
H59: Ծառայությունը մատուցողի անվանումը` ՀՀ արտաքին գործերի նախարարություն
A60: ՀՀ շրջակա միջավայրի նախարարություն | J60: 147316.3 | K60: 147316.3 | L60: 147316.3 | M60: 147316.3
B61: 1071 | C61: Շրջակա միջավայրի ոլորտում պետական քաղաքականության մշակում, ծրագրերի համակարգում և մոնիտորինգ | J61: 147316.3 | K61: 147316.3 | L61: 147316.3 | M61: 147316.3
D62: 1071 - 11006 | E62: Պետական կառավարման մարմինների կատարողականի գնահատում և խրախուսում | J62: 147316.3 | K62: 147316.3 | L62: 147316.3 | M62: 147316.3
F63: Պետական մարմնի գործունեության առաջնահերթությունների սահմանում, կատարողականի գնահատման հիման վրա՝ խրախուսման միջոցով արդյունավետության բարձրացում
G64: Ծառայությունների մատուցում
H65: Ծառայությունը մատուցողի անվանումը` Շրջակա միջավայրի նախարարություն
A66: ՀՀ կրթության, գիտության, մշակույթի և սպորտի նախարարություն | J66: 216373.6 | K66: 216373.6 | L66: 216373.6 | M66: 216373.6
B67: 1130 | C67: Կրթության, գիտության, մշակույթի և սպորտի բնագավառի պետական քաղաքականության մշակում, ծրագրերի համակարգում և մոնիտորինգ | J67: 216373.6 | K67: 216373.6 | L67: 216373.6 | M67: 216373.6
D68: 1130 - 11010 | E68: Պետական կառավարման մարմինների կատարողականի գնահատում և խրախուսում | J68: 216373.6 | K68: 216373.6 | L68: 216373.6 | M68: 216373.6
F69: Պետական մարմնի գործունեության առաջնահերթությունների սահմանում, կատարողականի գնահատման հիման վրա՝ խրախուսման միջոցով արդյունավետության բարձրացում
G70: Ծառայությունների մատուցում
H71: Ծառայությունը մատուցողի անվանումը` ՀՀ կրթության, գիտության, մշակույթի և սպորտի նախարարություն
A72: ՀՀ պաշտպանության նախարարություն | J72: 275529.4 | K72: 275529.4 | L72: 275529.4 | M72: 275529.4
B73: 1169 | C73: ՀՀ պաշտպանության ապահովում | J73: 275529.4 | K73: 275529.4 | L73: 275529.4 | M73: 275529.4
D74: 1169 - 11011 | E74: Պետական կառավարման մարմինների կատարողականի գնահատում և խրախուսում | J74: 275529.4 | K74: 275529.4 | L74: 275529.4 | M74: 275529.4
F75: Պետական մարմնի գործունեության առաջնահերթությունների սահմանում, կատարողականի գնահատման հիման վրա՝ խրախուսման միջոցով արդյունավետության բարձրացում
G76: Ծառայությունների մատուցում
H77: Ծառայությունը մատուցողի անվանումը` ՀՀ պաշտպանության նախարարություն
A78: ՀՀ աշխատանքի և սոցիալական հարցերի նախարարություն | J78: 176538.1 | K78: 176538.1 | L78: 176538.1 | M78: 176538.1
B79: 1117 | C79: Սոցիալական պաշտպանության բնագավառում պետական քաղաքականության մշակում, ծրագրերի համակարգում և մոնիթորինգ | J79: 176538.1 | K79: 176538.1 | L79: 176538.1 | M79: 176538.1
D80: 1117 - 11013 | E80: Պետական կառավարման մարմինների կատարողականի գնահատում և խրախուսում | J80: 176538.1 | K80: 176538.1 | L80: 176538.1 | M80: 176538.1
F81: Պետական մարմնի գործունեության առաջնահերթությունների սահմանում, կատարողականի գնահատման հիման վրա՝ խրախուսման միջոցով արդյունավետության բարձրացում
G82: Ծառայությունների մատուցում
H83: Ծառայությունը մատուցողի անվանումը` ՀՀ աշխատանքի և սոցիալական հարցերի նախարարություն
A84: ՀՀ բարձր տեխնոլոգիական արդյունաբերության նախարարություն | J84: 116961.8 | K84: 116961.8 | L84: 116961.8 | M84: 116961.8
B85: 1100 | C85: Բարձր տեխնոլոգիական արդյունաբերության բնագավառում պետական քաղաքականության մշակում, ծրագրերի համակարգում և մոնիտորինգ | J85: 116961.8 | K85: 116961.8 | L85: 116961.8 | M85: 116961.8
D86: 1100 - 11007 | E86: Պետական կառավարման մարմինների կատարողականի գնահատում և խրախուսում | J86: 116961.8 | K86: 116961.8 | L86: 116961.8 | M86: 116961.8
F87: Պետական մարմնի գործունեության առաջնահերթությունների սահմանում, կատարողականի գնահատման հիման վրա՝ խրախուսման միջոցով արդյունավետության բարձրացում
G88: Ծառայությունների մատուցում
H89: Ծառայությունը մատուցողի անվանումը` ՀՀ բարձր տեխնոլոգիական արդյունաբերության նախարարություն
A90: ՀՀ ֆինանսների նախարարություն | J90: 116673.8 | K90: 116673.8 | L90: 116673.8 | M90: 116673.8
B91: 1108 | C91: Հանրային ֆինանսների կառավարման բնագավառում պետական քաղաքականության մշակում, ծրագրերի համակարգում և մոնիտորինգ | J91: 116673.8 | K91: 116673.8 | L91: 116673.8 | M91: 116673.8
D92: 1108 - 11015 | E92: Պետական կառավարման մարմինների կատարողականի գնահատում և խրախուսում | J92: 116673.8 | K92: 116673.8 | L92: 116673.8 | M92: 116673.8
F93: Պետական մարմնի գործունեության առաջնահերթությունների սահմանում, կատարողականի գնահատման հիման վրա՝ խրախուսման միջոցով արդյունավետության բարձրացում
G94: Ծառայությունների մատուցում
H95: Ծառայությունը մատուցողի անվանումը` ՀՀ ֆինանսների նախարարության
A96: ՀՀ ներքին գործերի նախարարություն | J96: 252196 | K96: 252196 | L96: 252196 | M96: 252196
B97: 1234 | C97: Ներքին գործերի նախարարության ոլորտի քաղաքականության մշակում, կառավարում, կենտրոնացված միջոցառումներ, մոնիտորինգ և վերահսկողություն | J97: 252196 | K97: 252196 | L97: 252196 | M97: 252196
D98: 1234 - 11023 | E98: Պետական կառավարման մարմինների կատարողականի գնահատում և խրախուսում | J98: 252196 | K98: 252196 | L98: 252196 | M98: 252196
F99: Պետական մարմնի գործունեության առաջնահերթությունների սահմանում, կատարողականի գնահատման հիման վրա՝ խրախուսման միջոցով արդյունավետության բարձրացում
G100: Ծառայությունների մատուցում
A101: ՀՀ վիճակագրական կոմիտե | J101: 54335.2 | K101: 54335.2 | L101: 54335.2 | M101: 54335.2
B102: 1143 | C102: Ազգային պաշտոնական վիճակագրության արտադրություն և տարածում | J102: 54335.2 | K102: 54335.2 | L102: 54335.2 | M102: 54335.2
D103: 1143 - 11014 | E103: Պետական կառավարման մարմինների կատարողականի գնահատում և խրախուսում | J103: 54335.2 | K103: 54335.2 | L103: 54335.2 | M103: 54335.2
...

Sheet N 7
M1: Հավելված N 7
L2: ՀՀ կառավարության 2026 թվականի
L3: ______________ ի ___Ն որոշման
A6: ՀԱՅԱՍՏԱՆԻ ՀԱՆՐԱՊԵՏՈՒԹՅԱՆ ԿԱՌԱՎԱՐՈՒԹՅԱՆ 2025 ԹՎԱԿԱՆԻ ԴԵԿՏԵՄԲԵՐԻ 25-Ի N 1910-Ն ՈՐՈՇՄԱՆ N 9.1 ՀԱՎԵԼՎԱԾՈՒՄ ԿԱՏԱՐՎՈՂ ՓՈՓՈԽՈՒԹՅՈՒՆՆԵՐԸ ԵՎ ԼՐԱՑՈՒՄՆԵՐԸ
M8: հազար դրամներով
A9: ԲՍԿ | B9: Ծրագիր | D9: Միջոցառում | H9: Իրականացնողը/ ակտիվն օգտագործողը/ շահառուի ընտրության չափորոշիչը | I9: Արդյունքային չափորոշիչը | J9: Ցուցանիշների փոփոխությունները ավելացումները նշված են դրական նշանով, իսկ նվազեցումները՝ փակագծերում
B10: Դասիչը | C10: Անվանումը | D10: Դասիչը | E10: Անվանումը | F10: Նկարագրությունը | G10: Տեսակը | J10: Առաջին եռամսյակ | K10: Առաջին կիսամյակ | L10: Ինն ամիս | M10: Տարի
A11: ԸՆԴԱՄԵՆԸ | J11: =+'N3'!G10 -> 6000000 | K11: =+'N3'!H10 -> 4200000 | L11: =+'N3'!I10 -> 2400000 | M11: =+'N3'!J10 -> 0
A12: Հանրապետության նախագահի աշխատակազմ | J12: 64042.5 | K12: 64042.5 | L12: 64042.5 | M12: 64042.5
B13: 1154 | C13: Հանրապետության նախագահի լիազորությունների իրականացման ապահովում | J13: 64042.5 | K13: 64042.5 | L13: 64042.5 | M13: 64042.5
D14: 1154 - 11006 | E14: Պետական կառավարման մարմինների կատարողականի գնահատում և խրախուսում | J14: 64042.5 | K14: 64042.5 | L14: 64042.5 | M14: 64042.5
F15: Պետական մարմնի գործունեության առաջնահերթությունների սահմանում, կատարողականի գնահատման հիման վրա՝ խրախուսման միջոցով արդյունավետության բարձրացում
G16: Ծառայությունների մատուցում
H17: Ծառայությունը մատուցողի անվանումը` Հանրապետության նախագահի աշխատակազմ
A18: ՀՀ Ազգային ժողով | J18: 667094.7 | K18: 667094.7 | L18: 667094.7 | M18: 667094.7
B19: 1024 | C19: ՀՀ Ազգային ժողովի լիազորությունների իրականացման ապահովում | J19: 667094.7 | K19: 667094.7 | L19: 667094.7 | M19: 667094.7
D20: 1024 - 11005 | E20: Պետական կառավարման մարմինների կատարողականի գնահատում և խրախուսում | J20: 667094.7 | K20: 667094.7 | L20: 667094.7 | M20: 667094.7
F21: Պետական մարմնի գործունեության առաջնահերթությունների սահմանում, կատարողականի գնահատման հիման վրա՝ խրախուսման միջոցով արդյունավետության բարձրացում
G22: Ծառայությունների մատուցում
H23: Ծառայությունը մատուցողի անվանումը` ՀՀ Ազգային ժողով
A24: ՀՀ վարչապետի աշխատակազմ | J24: 663633.2 | K24: 663633.2 | L24: 663633.2 | M24: 663633.2
B25: 1136 | C25: ՀՀ Վարչապետի լիազորությունների իրականացման ապահովում | J25: 663633.2 | K25: 663633.2 | L25: 663633.2 | M25: 663633.2
D26: 1136 - 11025 | E26: Պետական կառավարման մարմինների կատարողականի գնահատում և խրախուսում | J26: 663633.2 | K26: 663633.2 | L26: 663633.2 | M26: 663633.2
F27: Պետական մարմնի գործունեության առաջնահերթությունների սահմանում, կատարողականի գնահատման հիման վրա՝ խրախուսման միջոցով արդյունավետության բարձրացում
G28: Ծառայությունների մատուցում
H29: Ծառայությունը մատուցողի անվանումը` ՀՀ վարչապետի աշխատակազմ
A30: ՀՀ տարածքային կառավարման և ենթակառուցվածքների նախարարություն | J30: 623994.4 | K30: 623994.4 | L30: 623994.4 | M30: 623994.4
B31: 1001 | C31: Տարածքային կառավարման ոլորտում քաղաքականության մշակում, ծրագրերի համակարգում և մոնիտորինգի իրականացում | J31: 623994.4 | K31: 623994.4 | L31: 623994.4 | M31: 623994.4
D32: 1001 - 11007 | E32: Պետական կառավարման մարմինների կատարողականի գնահատում և խրախուսում | J32: 623994.4 | K32: 623994.4 | L32: 623994.4 | M32: 623994.4
F33: Պետական մարմնի գործունեության առաջնահերթությունների սահմանում, կատարողականի գնահատման հիման վրա՝ խրախուսման միջոցով արդյունավետության բարձրացում
G34: Ծառայությունների մատուցում
H35: Ծառայությունը մատուցողի անվանումը` ՀՀ տարածքային կառավարման և ենթակառուցվածքների նախարարություն
A36: ՀՀ առողջապահության նախարարություն | J36: 113588.8 | K36: 113588.8 | L36: 113588.8 | M36: 113588.8
B37: 1126 | C37: Առողջապահության ոլորտում պետական քաղաքականության մշակում, ծրագրերի համակարգում և մոնիտորինգ | J37: 113588.8 | K37: 113588.8 | L37: 113588.8 | M37: 113588.8
D38: 1126 - 11009 | E38: Պետական կառավարման մարմինների կատարողականի գնահատում և խրախուսում | J38: 113588.8 | K38: 113588.8 | L38: 113588.8 | M38: 113588.8
F39: Պետական մարմնի գործունեության առաջնահերթությունների սահմանում, կատարողականի գնահատման հիման վրա՝ խրախուսման միջոցով արդյունավետության բարձրացում
G40: Ծառայությունների մատուցում
H41: Ծառայությունը մատուցողի անվանումը` ՀՀ առողջապահության նախարարություն
A42: ՀՀ արդարադատության նախարարություն | J42: 297788.8 | K42: 297788.8 | L42: 297788.8 | M42: 297788.8
B43: 1057 | C43: Արդարադատության ոլորտում քաղաքականության մշակում, ծրագրերի համակարգում, խորհրդատվության և մոնիտորինգի իրականացում | J43: 297788.8 | K43: 297788.8 | L43: 297788.8 | M43: 297788.8
D44: 1057 - 11011 | E44: Պետական կառավարման մարմինների կատարողականի գնահատում և խրախուսում | J44: 297788.8 | K44: 297788.8 | L44: 297788.8 | M44: 297788.8
F45: Պետական մարմնի գործունեության առաջնահերթությունների սահմանում, կատարողականի գնահատման հիման վրա՝ խրախուսման միջոցով արդյունավետության բարձրացում
G46: Ծառայությունների մատուցում
H47: Ծառայությունը մատուցողի անվանումը` ՀՀ արդարադատության նախարարություն
A48: ՀՀ էկոնոմիկայի նախարարություն | J48: 224802.3 | K48: 224802.3 | L48: 224802.3 | M48: 224802.3
B49: 1058 | C49: Էկոնոմիկայի ոլորտում պետական քաղաքականության մշակում, ծրագրերի համակարգում և մոնիտորինգ | J49: 224802.3 | K49: 224802.3 | L49: 224802.3 | M49: 224802.3
D50: 1058 - 11009 | E50: Պետական կառավարման մարմինների կատարողականի գնահատում և խրախուսում | J50: 224802.3 | K50: 224802.3 | L50: 224802.3 | M50: 224802.3
F51: Պետական մարմնի գործունեության առաջնահերթությունների սահմանում, կատարողականի գնահատման հիման վրա՝ խրախուսման միջոցով արդյունավետության բարձրացում
G52: Ծառայությունների մատուցում
H53: Ծառայությունը մատուցողի անվանումը` ՀՀ էկոնոմիկայի նախարարություն
A54: ՀՀ արտաքին գործերի նախարարություն | J54: 176199.2 | K54: 176199.2 | L54: 176199.2 | M54: 176199.2
B55: 1061 | C55: Արտաքին գործերի ոլորտում Կառավարության քաղաքականության մշակում և իրականացում | J55: 176199.2 | K55: 176199.2 | L55: 176199.2 | M55: 176199.2
D56: 1061 - 11010 | E56: Պետական կառավարման մարմինների կատարողականի գնահատում և խրախուսում | J56: 176199.2 | K56: 176199.2 | L56: 176199.2 | M56: 176199.2
F57: Պետական մարմնի գործունեության առաջնահերթությունների սահմանում, կատարողականի գնահատման հիման վրա՝ խրախուսման միջոցով արդյունավետության բարձրացում
G58: Ծառայությունների մատուցում
H59: Ծառայությունը մատուցողի անվանումը` ՀՀ արտաքին գործերի նախարարություն
A60: ՀՀ շրջակա միջավայրի նախարարություն | J60: 147316.3 | K60: 147316.3 | L60: 147316.3 | M60: 147316.3
B61: 1071 | C61: Շրջակա միջավայրի ոլորտում պետական քաղաքականության մշակում, ծրագրերի համակարգում և մոնիտորինգ | J61: 147316.3 | K61: 147316.3 | L61: 147316.3 | M61: 147316.3
D62: 1071 - 11006 | E62: Պետական կառավարման մարմինների կատարողականի գնահատում և խրախուսում | J62: 147316.3 | K62: 147316.3 | L62: 147316.3 | M62: 147316.3
F63: Պետական մարմնի գործունեության առաջնահերթությունների սահմանում, կատարողականի գնահատման հիման վրա՝ խրախուսման միջոցով արդյունավետության բարձրացում
G64: Ծառայությունների մատուցում
H65: Ծառայությունը մատուցողի անվանումը` Շրջակա միջավայրի նախարարություն
A66: ՀՀ կրթության, գիտության, մշակույթի և սպորտի նախարարություն | J66: 216373.6 | K66: 216373.6 | L66: 216373.6 | M66: 216373.6
B67: 1130 | C67: Կրթության, գիտության, մշակույթի և սպորտի բնագավառի պետական քաղաքականության մշակում, ծրագրերի համակարգում և մոնիտորինգ | J67: 216373.6 | K67: 216373.6 | L67: 216373.6 | M67: 216373.6
D68: 1130 - 11010 | E68: Պետական կառավարման մարմինների կատարողականի գնահատում և խրախուսում | J68: 216373.6 | K68: 216373.6 | L68: 216373.6 | M68: 216373.6
F69: Պետական մարմնի գործունեության առաջնահերթությունների սահմանում, կատարողականի գնահատման հիման վրա՝ խրախուսման միջոցով արդյունավետության բարձրացում
G70: Ծառայությունների մատուցում
H71: Ծառայությունը մատուցողի անվանումը` ՀՀ կրթության, գիտության, մշակույթի և սպորտի նախարարություն
A72: ՀՀ պաշտպանության նախարարություն | J72: 275529.4 | K72: 275529.4 | L72: 275529.4 | M72: 275529.4
B73: 1169 | C73: ՀՀ պաշտպանության ապահովում | J73: 275529.4 | K73: 275529.4 | L73: 275529.4 | M73: 275529.4
D74: 1169 - 11011 | E74: Պետական կառավարման մարմինների կատարողականի գնահատում և խրախուսում | J74: 275529.4 | K74: 275529.4 | L74: 275529.4 | M74: 275529.4
F75: Պետական մարմնի գործունեության առաջնահերթությունների սահմանում, կատարողականի գնահատման հիման վրա՝ խրախուսման միջոցով արդյունավետության բարձրացում
G76: Ծառայությունների մատուցում
H77: Ծառայությունը մատուցողի անվանումը` ՀՀ պաշտպանության նախարարություն
A78: ՀՀ աշխատանքի և սոցիալական հարցերի նախարարություն | J78: 176538.1 | K78: 176538.1 | L78: 176538.1 | M78: 176538.1
B79: 1117 | C79: Սոցիալական պաշտպանության բնագավառում պետական քաղաքականության մշակում, ծրագրերի համակարգում և մոնիթորինգ | J79: 176538.1 | K79: 176538.1 | L79: 176538.1 | M79: 176538.1
D80: 1117 - 11013 | E80: Պետական կառավարման մարմինների կատարողականի գնահատում և խրախուսում | J80: 176538.1 | K80: 176538.1 | L80: 176538.1 | M80: 176538.1
F81: Պետական մարմնի գործունեության առաջնահերթությունների սահմանում, կատարողականի գնահատման հիման վրա՝ խրախուսման միջոցով արդյունավետության բարձրացում
G82: Ծառայությունների մատուցում
H83: Ծառայությունը մատուցողի անվանումը` ՀՀ աշխատանքի և սոցիալական հարցերի նախարարություն
A84: ՀՀ բարձր տեխնոլոգիական արդյունաբերության նախարարություն | J84: 116961.8 | K84: 116961.8 | L84: 116961.8 | M84: 116961.8
B85: 1100 | C85: Բարձր տեխնոլոգիական արդյունաբերության բնագավառում պետական քաղաքականության մշակում, ծրագրերի համակարգում և մոնիտորինգ | J85: 116961.8 | K85: 116961.8 | L85: 116961.8 | M85: 116961.8
D86: 1100 - 11007 | E86: Պետական կառավարման մարմինների կատարողականի գնահատում և խրախուսում | J86: 116961.8 | K86: 116961.8 | L86: 116961.8 | M86: 116961.8
F87: Պետական մարմնի գործունեության առաջնահերթությունների սահմանում, կատարողականի գնահատման հիման վրա՝ խրախուսման միջոցով արդյունավետության բարձրացում
G88: Ծառայությունների մատուցում
H89: Ծառայությունը մատուցողի անվանումը` ՀՀ բարձր տեխնոլոգիական արդյունաբերության նախարարություն
A90: ՀՀ ֆինանսների նախարարություն | J90: 116673.8 | K90: 116673.8 | L90: 116673.8 | M90: 116673.8
B91: 1108 | C91: Հանրային ֆինանսների կառավարման բնագավառում պետական քաղաքականության մշակում, ծրագրերի համակարգում և մոնիտորինգ | J91: 116673.8 | K91: 116673.8 | L91: 116673.8 | M91: 116673.8
D92: 1108 - 11015 | E92: Պետական կառավարման մարմինների կատարողականի գնահատում և խրախուսում | J92: 116673.8 | K92: 116673.8 | L92: 116673.8 | M92: 116673.8
F93: Պետական մարմնի գործունեության առաջնահերթությունների սահմանում, կատարողականի գնահատման հիման վրա՝ խրախուսման միջոցով արդյունավետության բարձրացում
G94: Ծառայությունների մատուցում
H95: Ծառայությունը մատուցողի անվանումը` ՀՀ ֆինանսների նախարարության
A96: ՀՀ ներքին գործերի նախարարություն | J96: 252196 | K96: 252196 | L96: 252196 | M96: 252196
B97: 1234 | C97: Ներքին գործերի նախարարության ոլորտի քաղաքականության մշակում, կառավարում, կենտրոնացված միջոցառումներ, մոնիտորինգ և վերահսկողություն | J97: 252196 | K97: 252196 | L97: 252196 | M97: 252196
D98: 1234 - 11023 | E98: Պետական կառավարման մարմինների կատարողականի գնահատում և խրախուսում | J98: 252196 | K98: 252196 | L98: 252196 | M98: 252196
F99: Պետական մարմնի գործունեության առաջնահերթությունների սահմանում, կատարողականի գնահատման հիման վրա՝ խրախուսման միջոցով արդյունավետության բարձրացում
G100: Ծառայությունների մատուցում
A101: ՀՀ վիճակագրական կոմիտե | J101: 54335.2 | K101: 54335.2 | L101: 54335.2 | M101: 54335.2
B102: 1143 | C102: Ազգային պաշտոնական վիճակագրության արտադրություն և տարածում | J102: 54335.2 | K102: 54335.2 | L102: 54335.2 | M102: 54335.2
D103: 1143 - 11014 | E103: Պետական կառավարման մարմինների կատարողականի գնահատում և խրախուսում | J103: 54335.2 | K103: 54335.2 | L103: 54335.2 | M103: 54335.2
...
