Workbook
Name _tab10: #REF!
Name _tab10: #REF!
Name _tab10: #REF!
Name _tab10: #REF!
Name _tab10: #REF!
Name _tab11: #REF!
Name _tab11: #REF!
Name _tab11: #REF!
Name _tab11: #REF!
Name _tab11: #REF!
Name _tab12: #REF!
Name _tab12: #REF!
Name _tab12: #REF!
Name _tab12: #REF!
Name _tab12: #REF!
Name _tab13: #REF!
Name _tab13: #REF!
Name _tab13: #REF!
Name _tab13: #REF!
Name _tab13: #REF!
Name _tab14: #REF!
Name _tab14: #REF!
Name _tab14: #REF!
Name _tab14: #REF!
Name _tab14: #REF!
Name _tab15: #REF!
Name _tab15: #REF!
Name _tab15: #REF!
Name _tab15: #REF!
Name _tab15: #REF!
Name _tab16: #REF!
Name _tab16: #REF!
Name _tab16: #REF!
Name _tab16: #REF!
Name _tab16: #REF!
Name _tab17: #REF!
Name _tab17: #REF!
Name _tab17: #REF!
Name _tab17: #REF!
Name _tab17: #REF!
Name _tab18: #REF!
Name _tab18: #REF!
Name _tab18: #REF!
Name _tab18: #REF!
Name _tab18: #REF!
Name _tab19: #REF!
Name _tab19: #REF!
Name _tab19: #REF!
Name _tab19: #REF!
Name _tab19: #REF!
Name _tab20: #REF!
Name _tab20: #REF!
Name _tab20: #REF!
Name _tab20: #REF!
Name _tab20: #REF!
Name _tab21: #REF!
Name _tab21: #REF!
Name _tab21: #REF!
Name _tab21: #REF!
Name _tab21: #REF!

Sheet 1
F1: Հավելված N 1
E2: ՀՀ կառավարության 2026 թվականի
F3: ___________ -ի N _______ -Ն որոշման
B7: «ՀԱՅԱՍՏԱՆԻ ՀԱՆՐԱՊԵՏՈՒԹՅԱՆ 2026 ԹՎԱԿԱՆԻ ՊԵՏԱԿԱՆ ԲՅՈՒՋԵԻ ՄԱՍԻՆ» ՕՐԵՆՔԻ N 1 ՀԱՎԵԼՎԱԾԻ N 2 ԱՂՅՈՒՍԱԿՈՒՄ ԵՎ ՀԱՅԱՍՏԱՆԻ ՀԱՆՐԱՊԵՏՈՒԹՅԱՆ ԿԱՌԱՎԱՐՈՒԹՅԱՆ 2025 ԹՎԱԿԱՆԻ ԴԵԿՏԵՄԲԵՐԻ 25-Ի N 1910-Ն ՈՐՈՇՄԱՆ N 5 ՀԱՎԵԼՎԱԾԻ N 1 ԱՂՅՈՒՍԱԿՈՒՄ ԿԱՏԱՐՎՈՂ ՓՈՓՈԽՈՒԹՅՈՒՆՆԵՐՆ ՈՒ ԼՐԱՑՈՒՄՆԵՐԸ
H8: հազար դրամներով
B9: Ծրագրային դասիչը | D9: Բյուջետային հատկացումների գլխավոր կարգադրիչների, ծրագրերի և միջոցառումների անվանումները | E9: Ցուցանիշների փոփոխությունը (ավելացումները նշված են դրական նշանով, իսկ նվազեցումները՝ փակագծերում)
E10: առաջին եռամսյակ | F10: առաջին կիսամյակ | G10: ինն ամիս | H10: տարի
B11: ծրագիր | C11: միջոցառում
D12: Ընդամենը | E12: =E13+E27 -> 0 | F12: =F13+F27 -> 0 | G12: =G13+G27 -> 0 | H12: =H13+H27 -> 0
D13: ՀՀ պաշտպանության նախարարություն | E13: =E15 -> 27189 | F13: =F15 -> 108756 | G13: =G15 -> 190323 | H13: =H15 -> 271890
B14: 1169 | D14: Ծրագրի անվանումը՝
D15: ՀՀ պաշտպանության ապահովում | E15: =E21 -> 27189 | F15: =F21 -> 108756 | G15: =G21 -> 190323 | H15: =H21 -> 271890
D16: Ծրագրի նպատակը՝
D17: ՀՀ ԶՈւ ռազմավարական ծավալումն ապահովող մարտական պատրաստականության պահպանում՝ արտաքին թշնամուց ՀՀ պետական սահմանների պաշտպանության ապահովում
D18: Վերջնական արդյունքի նկարագրությունը՝
D19: ՀՀ ԶՈւ ռազմավարական ծավալումն ապահովող մարտական պատրաստականության պահպանում
B20: Ծրագրի միջոցառումներ
C21: 11007 | D21: Միջոցառման անվանումը՝ | E21: ='2'!H19 -> 27189 | F21: ='2'!I19 -> 108756 | G21: ='2'!J19 -> 190323 | H21: ='2'!K19 -> 271890
D22: Երկրապահ կամավորականների գործունեության ապահովում
D23: Միջոցառման նկարագրությունը՝
D24: Երկրապահ կամավորականների 2026թ. գործունեության ապահովում
D25: Միջոցառման տեսակը
D26: Ծառայությունների մատուցում
D27: ՀՀ կառավարություն | E27: =+E28 -> -27189 | F27: =+F28 -> -108756 | G27: =+G28 -> -190323 | H27: =+H28 -> -271890
B28: 1139 | D28: Ծրագրի անվանումը` | E28: =E35 -> -27189 | F28: =F35 -> -108756 | G28: =G35 -> -190323 | H28: =H35 -> -271890
D29: ՀՀ կառավարության պահուստային ֆոնդ
D30: Ծրագրի նպատակը`
D31: Պետական բյուջեում չկանխատեսված, ինչպես նաեւ բյուջետային երաշխիքների ապահովման ծախսերի ֆինանսավորման ապահովում
D32: Վերջնական արդյունքի նկարագրությունը`
D33: Պահուստային ֆոնդի կառավարման արդյունավետության և թափանցիկության ապահովում
B34: Ծրագրի միջոցառումներ
C35: 11001 | D35: Միջոցառման անվանումը` | E35: ='2'!H38 -> -27189 | F35: ='2'!I38 -> -108756 | G35: ='2'!J38 -> -190323 | H35: ='2'!K38 -> -271890
D36: ՀՀ կառավարության պահուստային ֆոնդ
D37: Միջոցառման նկարագրությունը`
D38: ՀՀ պետական բյուջեում նախատեսված ելքերի լրացուցիչ ֆինանսավորման, պետական բյուջեում չկանխատեսված ելքերի, ինչպես նաև բյուջետային երաշխիքների ապահովման ելքերի ֆինանսավորման ապահովում
D39: Միջոցառման տեսակը
D40: Ծառայությունների մատուցում

Sheet 2
I1: Հավելված N 2
H2: ՀՀ կառավարության 2026 թվականի
I3: ___________ -ի N _______ -Ն որոշման
B5: ՀԱՅԱՍՏԱՆԻ ՀԱՆՐԱՊԵՏՈՒԹՅԱՆ ԿԱՌԱՎԱՐՈՒԹՅԱՆ 2025 ԹՎԱԿԱՆԻ ԴԵԿՏԵՄԲԵՐԻ 25-Ի N 1910-Ն ՈՐՈՇՄԱՆ NN 3 և 4 ՀԱՎԵԼՎԱԾՆԵՐՈՒՄ ԿԱՏԱՐՎՈՂ ՓՈՓՈԽՈՒԹՅՈՒՆՆԵՐՆ ՈՒ ԼՐԱՑՈՒՄՆԵՐԸ
K6: հազար դրամներով
B7: Գործառական դասիչը | E7: Ծրագրային դասիչը | G7: Բյուջետային ծախսերի գործառական դասակարգման բաժինների, խմբերի և դասերի, բյուջետային ծրագրերի միջոցառումների, բյուջետային հատկացումների գլխավոր կարգադրիչների անվանումները | H7: Ցուցանիշների փոփոխությունը (ավելացումները նշված են դրական նշանով, իսկ նվազեցումները՝ փակագծերում)
B8: բաժին | C8: խումբ | D8: դաս | E8: ծրագիր | F8: միջոցառում | H8: առաջին եռամսյակ | I8: առաջին կիսամյակ | J8: ինն ամիս | K8: տարի
G9: ԸՆԴԱՄԵՆԸ ԾԱԽՍԵՐ | H9: =H11+H28 -> 0 | I9: =I11+I28 -> 0 | J9: =J11+J28 -> 0 | K9: =K11+K28 -> 0
G10: այդ թվում՝
B11: 02 | G11: ՊԱՇՏՊԱՆՈՒԹՅՈՒՆ | H11: =+H13 -> 27189 | I11: =+I13 -> 108756 | J11: =+J13 -> 190323 | K11: =+K13 -> 271890
G12: այդ թվում`
C13: 01 | G13: Ռազմական պաշտպանություն | H13: =+H15 -> 27189 | I13: =+I15 -> 108756 | J13: =+J15 -> 190323 | K13: =+K15 -> 271890
G14: այդ թվում`
D15: 01 | G15: Ռազմական պաշտպանություն | H15: =+H17 -> 27189 | I15: =+I17 -> 108756 | J15: =+J17 -> 190323 | K15: =+K17 -> 271890
G16: այդ թվում`
G17: ՀՀ պաշտպանության նախարարություն | H17: =+H18 -> 27189 | I17: =+I18 -> 108756 | J17: =+J18 -> 190323 | K17: =+K18 -> 271890
E18: 1169 | G18: ՀՀ պաշտպանության ապահովում | H18: =+H19 -> 27189 | I18: =+I19 -> 108756 | J18: =J19 -> 190323 | K18: =K19 -> 271890
F19: 11007 | G19: Երկրապահ կամավորականների գործունեության ապահովում | H19: =+H21 -> 27189 | I19: =+I21 -> 108756 | J19: =+J21 -> 190323 | K19: =+K21 -> 271890
G20: այդ թվում` ըստ կատարողների
G21: ՀՀ պաշտպանության նախարարություն | H21: =+H23 -> 27189 | I21: =+I23 -> 108756 | J21: =+J23 -> 190323 | K21: =+K23 -> 271890
G22: այդ թվում` բյուջետային ծախսերի տնտեսագիտական դասակարգման հոդվածներ
G23: ԸՆԴԱՄԵՆԸ ԾԱԽՍԵՐ | H23: =+H24 -> 27189 | I23: =+I24 -> 108756 | J23: =+J24 -> 190323 | K23: =+K24 -> 271890
G24: ԸՆԹԱՑԻԿ ԾԱԽՍԵՐ | H24: =+H25 -> 27189 | I24: =+I25 -> 108756 | J24: =+J25 -> 190323 | K24: =+K25 -> 271890
G25: ԴՐԱՄԱՇՆՈՐՀՆԵՐ | H25: =+H26 -> 27189 | I25: =+I26 -> 108756 | J25: =J26 -> 190323 | K25: =K26 -> 271890
G26: Ընթացիկ դրամաշնորհներ պետական հատվածի այլ մակարդակներին | H26: =+H27 -> 27189 | I26: =+I27 -> 108756 | J26: =+J27 -> 190323 | K26: =+K27 -> 271890
G27: - Այլ ընթացիկ դրամաշնորհներ | H27: 27189 | I27: 108756 | J27: 190323 | K27: 271890
B28: 11 | G28: ՀԻՄՆԱԿԱՆ ԲԱԺԻՆՆԵՐԻՆ ՉԴԱՍՎՈՂ ՊԱՀՈՒՍՏԱՅԻՆ ՖՈՆԴԵՐ | H28: =H30 -> -27189 | I28: =I30 -> -108756 | J28: =J30 -> -190323 | K28: =K30 -> -271890
G29: այդ թվում`
C30: 01 | G30: ՀՀ կառավարության և համայնքների պահուստային ֆոնդ | H30: =H32 -> -27189 | I30: =I32 -> -108756 | J30: =J32 -> -190323 | K30: =K32 -> -271890
G31: այդ թվում`
D32: 01 | G32: ՀՀ կառավարության պահուստային ֆոնդ | H32: =H34 -> -27189 | I32: =I34 -> -108756 | J32: =J34 -> -190323 | K32: =K34 -> -271890
G33: այդ թվում`
G34: ՀՀ կառավարություն | H34: =H36 -> -27189 | I34: =I36 -> -108756 | J34: =J36 -> -190323 | K34: =K36 -> -271890
G35: այդ թվում`
E36: 1139 | G36: ՀՀ կառավարության պահուստային ֆոնդ | H36: =H38+H47 -> -27189 | I36: =I38+I47 -> -108756 | J36: =J38+J47 -> -190323 | K36: =K38+K47 -> -271890
G37: այդ թվում`
F38: 11001 | G38: ՀՀ կառավարության պահուստային ֆոնդ | H38: =H40 -> -27189 | I38: =I40 -> -108756 | J38: =J40 -> -190323 | K38: =K40 -> -271890
G39: այդ թվում` ըստ կատարողների
G40: ՀՀ կառավարություն | H40: =H42 -> -27189 | I40: =I42 -> -108756 | J40: =J42 -> -190323 | K40: =K42 -> -271890
G41: այդ թվում` բյուջետային ծախսերի տնտեսագիտական դասակարգման հոդվածներ
G42: ԸՆԴԱՄԵՆԸ ԾԱԽՍԵՐ | H42: =H43 -> -27189 | I42: =I43 -> -108756 | J42: =J43 -> -190323 | K42: =K43 -> -271890
G43: ԸՆԹԱՑԻԿ ԾԱԽՍԵՐ | H43: =H44 -> -27189 | I43: =I44 -> -108756 | J43: =J44 -> -190323 | K43: =K44 -> -271890
G44: ԱՅԼ ԾԱԽՍԵՐ | H44: =H45 -> -27189 | I44: =I45 -> -108756 | J44: =J45 -> -190323 | K44: =K45 -> -271890
G45: ԱՅԼ ԾԱԽՍԵՐ | H45: =H46 -> -27189 | I45: =I46 -> -108756 | J45: =J46 -> -190323 | K45: =K46 -> -271890
G46: - Պահուստային միջոցներ | H46: -27189 | I46: -108756 | J46: -190323 | K46: -271890

Sheet 3
H1: Հավելված N 3
H2: ՀՀ կառավարության 2026 թվականի
G3: ___________ -ի N _______ -Ն որոշման
B5: ՀԱՅԱՍՏԱՆԻ ՀԱՆՐԱՊԵՏՈՒԹՅԱՆ ԿԱՌԱՎԱՐՈՒԹՅԱՆ 2025 ԹՎԱԿԱՆԻ ԴԵԿՏԵՄԲԵՐԻ 25-Ի N 1910-Ն ՈՐՈՇՄԱՆ N 5 ՀԱՎԵԼՎԱԾԻ N 7 ԱՂՅՈՒՍԱԿՈՒՄ ԿԱՏԱՐՎՈՂ ՓՈՓՈԽՈՒԹՅՈՒՆՆԵՐՆ ՈՒ ԼՐԱՑՈՒՄՆԵՐԸ
H6: հազար դրամներով
B7: Ծրագրային դասիչ | D7: Բյուջետային հատկացումների գլխավոր կարգադրիչների, ծրագրերի, միջոցառումների, ծախսային ուղղությունների անվանումները | G7: Միջոցառումները կատարող պետական մարմինների և դրամաշնորհ ստացող տնտեսվարող սուբյեկտների անվանումները | H7: Ցուցանիշների փոփոխությունը (ավելացումները նշված են դրական նշանով)
B8: ծրագիր | C8: միջոցառում
B9: ՀՀ պաշտպանության նախարարություն | H9: =H10 -> 271890
B10: 1169 | C10: ՀՀ պաշտպանության ապահովում | H10: =H11 -> 271890
C11: 11007 | D11: Երկրապահ կամավորականների գործունեության ապահովում | G11: ՀՀ պաշտպանության նախարարություն | H11: =H12 -> 271890
G12: «Երկրապահ կամավորականների միություն» ՀԿ | H12: =+'2'!K27 -> 271890

Sheet 4
N1: Հավելված N 4
N2: ՀՀ կառավարության 2026 թվականի
K3: ___________ -ի N _______ -Ն որոշման
B5: ՀԱՅԱՍՏԱՆԻ ՀԱՆՐԱՊԵՏՈՒԹՅԱՆ ԿԱՌԱՎԱՐՈՒԹՅԱՆ 2025 ԹՎԱԿԱՆԻ ԴԵԿՏԵՄԲԵՐԻ 25-Ի N 1910-Ն ՈՐՈՇՄԱՆ
B6: N 9 ՀԱՎԵԼՎԱԾՈՒՄ ԿԱՏԱՐՎՈՂ ՓՈՓՈԽՈՒԹՅՈՒՆՆԵՐՆ ՈՒ ԼՐԱՑՈՒՄՆԵՐԸ
N7: հազար դրամներով
B8: ԲԳԿ | C8: Ծրագիր | E8: Միջոցառում | I8: Իրականացնողը/ ակտիվն օգտագործողը/ շահառուի ընտրության չափորոշիչը | J8: Արդյունքային չափորոշիչը | K8: Ցուցանիշների փոփոխությունը (ավելացումները նշված են դրական նշանով, իսկ նվազեցումները՝ փակագծերում)
C9: Դասիչը | D9: Անվա-նումը | E9: Դասիչը | F9: Անվա-նումը | G9: Նկարագրու-թյունը | H9: Տեսակը | K9: առաջին եռամսյակ | L9: առաջին կիսամյակ | M9: ինն ամիս | N9: տարի
B10: ԸՆԴԱՄԵՆԸ | K10: =K11+K18 -> 0 | L10: =L11+L18 -> 0 | M10: =M11+M18 -> 0 | N10: =N11+N18 -> 0
B11: ՀՀ պաշտպանության նախարարություն | K11: =K12 -> 27189 | L11: =L12 -> 108756 | M11: =M12 -> 190323 | N11: =N12 -> 271890
C12: 1169 | D12: ՀՀ պաշտպանության ապահովում | K12: ='2'!H18 -> 27189 | L12: ='2'!I18 -> 108756 | M12: ='2'!J18 -> 190323 | N12: ='2'!K18 -> 271890
E13: 1169 - 11007 | F13: Երկրապահ կամավորականների գործունեության ապահովում | K13: =+K12 -> 27189 | L13: =+L12 -> 108756 | M13: =+M12 -> 190323 | N13: =+N12 -> 271890
G14: Երկրապահ կամավորականների 2026թ. գործունեության ապահովում
H15: Ծառայությունների մատուցում
I16: Ծառայությունը մատուցողի անվանումը` ՀՀ պաշտպանության նախարարություն
J17: Չի սահմանվում
B18: ՀՀ կառավարություն | K18: =K19 -> -27189 | L18: =L19 -> -108756 | M18: =M19 -> -190323 | N18: =N19 -> -271890
C19: 1139 | D19: ՀՀ կառավարության պահուստային ֆոնդ | K19: =K20 -> -27189 | L19: =L20 -> -108756 | M19: =M20 -> -190323 | N19: =N20 -> -271890
E20: 1139 - 11001 | F20: ՀՀ կառավարության պահուստային ֆոնդ | K20: -27189 | L20: =+K20*4 -> -108756 | M20: =7*K20 -> -190323 | N20: -271890
G21: ՀՀ պետական բյուջեում նախատեսված ելքերի լրացուցիչ ֆինանսավորման, պետական բյուջեում չկանխատեսված ելքերի, ինչպես նաև բյուջետային երաշխիքների ապահովման ելքերի ֆինանսավորման ապահովում
H22: Ծառայությունների մատուցում
I23: Ծառայությունը մատուցողի անվանումը` ՀՀ կառավարություն

Sheet 5
N1: Հավելված N 5
N2: ՀՀ կառավարության 2026 թվականի
K3: ___________ -ի N _______ -Ն որոշման
B5: ՀԱՅԱՍՏԱՆԻ ՀԱՆՐԱՊԵՏՈՒԹՅԱՆ ԿԱՌԱՎԱՐՈՒԹՅԱՆ 2025 ԹՎԱԿԱՆԻ ԴԵԿՏԵՄԲԵՐԻ 25-Ի N 1910-Ն ՈՐՈՇՄԱՆ
B6: N 9.1 ՀԱՎԵԼՎԱԾՈՒՄ ԿԱՏԱՐՎՈՂ ՓՈՓՈԽՈՒԹՅՈՒՆՆԵՐՆ ՈՒ ԼՐԱՑՈՒՄՆԵՐԸ
N7: հազար դրամներով
B8: ԲՍԿ | C8: Ծրագիր | E8: Միջոցառում | I8: Իրականացնողը/ ակտիվն օգտագործողը/ շահառուի ընտրության չափորոշիչը | J8: Արդյունքային չափորոշիչը | K8: Ցուցանիշների փոփոխությունը (ավելացումները նշված են դրական նշանով, իսկ նվազեցումները՝ փակագծերում)
C9: Դասիչը | D9: Անվա-նումը | E9: Դասիչը | F9: Անվա-նումը | G9: Նկարագրու-թյունը | H9: Տեսակը | K9: առաջին եռամսյակ | L9: առաջին կիսամյակ | M9: ինն ամիս | N9: տարի
B10: ԸՆԴԱՄԵՆԸ | K10: =K11+K18 -> 0 | L10: =L11+L18 -> 0 | M10: =M11+M18 -> 0 | N10: =N11+N18 -> 0
B11: ՀՀ պաշտպանության նախարարություն | K11: =K12 -> 27189 | L11: =L12 -> 108756 | M11: =M12 -> 190323 | N11: =N12 -> 271890
C12: 1169 | D12: ՀՀ պաշտպանության ապահովում | K12: ='2'!H18 -> 27189 | L12: ='2'!I18 -> 108756 | M12: ='2'!J18 -> 190323 | N12: ='2'!K18 -> 271890
E13: 1169 - 11007 | F13: Երկրապահ կամավորականների գործունեության ապահովում | K13: =+K12 -> 27189 | L13: =+L12 -> 108756 | M13: =+M12 -> 190323 | N13: =+N12 -> 271890
G14: Երկրապահ կամավորականների 2026թ. գործունեության ապահովում
H15: Ծառայությունների մատուցում
I16: Ծառայությունը մատուցողի անվանումը` ՀՀ պաշտպանության նախարարություն
J17: Չի սահմանվում
B18: ՀՀ կառավարություն | K18: =K19 -> -27189 | L18: =L19 -> -108756 | M18: =M19 -> -190323 | N18: =N19 -> -271890
C19: 1139 | D19: ՀՀ կառավարության պահուստային ֆոնդ | K19: =K20 -> -27189 | L19: =L20 -> -108756 | M19: =M20 -> -190323 | N19: =N20 -> -271890
E20: 1139 - 11001 | F20: ՀՀ կառավարության պահուստային ֆոնդ | K20: ='2'!H36 -> -27189 | L20: ='2'!I36 -> -108756 | M20: ='2'!J36 -> -190323 | N20: ='2'!K36 -> -271890
G21: ՀՀ պետական բյուջեում նախատեսված ելքերի լրացուցիչ ֆինանսավորման, պետական բյուջեում չկանխատեսված ելքերի, ինչպես նաև բյուջետային երաշխիքների ապահովման ելքերի ֆինանսավորման ապահովում
H22: Ծառայությունների մատուցում
I23: Ծառայությունը մատուցողի անվանումը` ՀՀ կառավարություն

Sheet Sheet1
A1: 4239 | B1: 20939.6
A2: 4252 | B2: 4001.2
A3: 4261 | B3: 24221.5
A4: 4264 | B4: 658398.2
A5: 4267 | B5: 51113.2
A6: 4269 | B6: 58135.2
A7: 5121 | B7: 34800
A8: 5122 | B8: 30780.6
A9: 5129 | B9: 165718.2
A10: 5132 | B10: 33.2
