Workbook
Name _tab10: #REF!
Name _tab11: #REF!
Name _tab12: #REF!
Name _tab13: #REF!
Name _tab14: #REF!
Name _tab15: #REF!
Name _tab16: #REF!
Name _tab17: #REF!
Name _tab18: #REF!
Name _tab19: #REF!
Name _tab20: #REF!
Name _tab21: #REF!
Name _tab22: #REF!
Name _tab23: #REF!
Name _tab24: #REF!
Name _tab5: #REF!
Name _tab6: #REF!
Name _tab7: #REF!
Name _tab8: #REF!
Name _tab9: #REF!
Name AgencyCode: #REF!
Name AgencyName: #REF!
Name åû: #REF!
Name davit: #REF!
Name EUR: '[1]1. 2060-Ն 28.12.2024 արտ'!$W$2
Name fff: #REF!
Name Functional1: #REF!
Name ggg: #REF!
Name h: #REF!
Name mas: #REF!
Name mass: #REF!
Name PANature: #REF!
Name par_count: #REF!,#REF!,#REF!,#REF!,#REF!,#REF!,#REF!,#REF!,#REF!,#REF!,#REF!,#REF!,#REF!,#REF!,#REF!
Name par_qual: #REF!,#REF!,#REF!,#REF!,#REF!
Name par_time: #REF!,#REF!,#REF!,#REF!
Name par2.12s: #REF!
Name par2.4s: #REF!,#REF!,#REF!,#REF!,#REF!,#REF!,#REF!,#REF!,#REF!,#REF!,#REF!,#REF!,#REF!,#REF!,#REF!,#REF!
Name par2.5s: #REF!,#REF!
Name par2.6s: #REF!,#REF!,#REF!,#REF!
Name par2.7s: #REF!,#REF!
Name par2.9s: #REF!,#REF!,#REF!,#REF!,#REF!,#REF!,#REF!,#REF!,#REF!,#REF!,#REF!,#REF!,#REF!,#REF!,#REF!,#REF!
Name par4.10s: #REF!,#REF!
Name par4.11d: #REF!,#REF!,#REF!,#REF!,#REF!
Name par4.12d: #REF!
Name par4.13s: #REF!
Name par4.14: #REF!,#REF!,#REF!,#REF!,#REF!,#REF!
Name par4.15: #REF!,#REF!,#REF!
Name par4.16: #REF!,#REF!,#REF!
Name par4.17: #REF!,#REF!,#REF!,#REF!
Name par4.18d: #REF!,#REF!
Name par4.19s: #REF!
Name par4.20f: #REF!
Name par4.21f: #REF!
Name par4.22: #REF!
Name par4.4: #REF!
Name par4.5: #REF!
Name par4.6s: #REF!
Name par4.7s: #REF!
Name par4.8: #REF!,#REF!,#REF!,#REF!,#REF!
Name par4.9: #REF!,#REF!,#REF!,#REF!,#REF!,#REF!

Sheet ..
C1: Հավելված N 1
C2: ՀՀ կառավարության 2025 թվականի
C3: ______________ ի ___Ն որոշման
B5: «ՀԱՅԱՍՏԱՆԻ ՀԱՆՐԱՊԵՏՈՒԹՅԱՆ 2025 ԹՎԱԿԱՆԻ ՊԵՏԱԿԱՆ ԲՅՈՒՋԵԻ ՄԱՍԻՆ» ՕՐԵՆՔԻ N 2 ՀՈԴՎԱԾԻ ԱՂՅՈՒՍԱԿՈՒՄ ԿԱՏԱՐՎՈՂ ՓՈՓՈԽՈՒԹՅՈՒՆՆԵՐԸ
C8: Ցուցանիշների փոփոխությունը (նվազեցումները նշված են փակագծերում)
C9: Տարի
B10: 1. Եկամուտների գծով | C10: =+'...'!D10 -> #REF!
B11: 2. Ծախսերի գծով | C11: =+'2'!K8 -> 0
B12: 3. Դեֆիցիտը (պակասուրդը) | C12: =-C10+C11 -> #REF!

Sheet ...
D1: Հավելված N 2
D2: ՀՀ կառավարության 2025 թվականի
D3: ______________ ի ___Ն որոշման
B5: «ՀԱՅԱՍՏԱՆԻ ՀԱՆՐԱՊԵՏՈՒԹՅԱՆ 2025 ԹՎԱԿԱՆԻ ՊԵՏԱԿԱՆ ԲՅՈՒՋԵԻ ՄԱՍԻՆ» ՕՐԵՆՔԻ N 6 ՀՈԴՎԱԾԻ ԱՂՅՈՒՍԱԿՈՒՄ ԵՎ ՀԱՅԱՍՏԱՆԻ ՀԱՆՐԱՊԵՏՈՒԹՅԱՆ ԿԱՌԱՎԱՐՈՒԹՅԱՆ 2024 ԹՎԱԿԱՆԻ ԴԵԿՏԵՄԲԵՐԻ 27-Ի N 2060-Ն ՈՐՈՇՄԱՆ N 2 ՀԱՎԵԼՎԱԾՈՒՄ ԿԱՏԱՐՎՈՂ ՓՈՓՈԽՈՒԹՅՈՒՆՆԵՐԸ
D7: հազար դրամներով
B8: Եկամտատեսակ | C8: Ցուցանիշների փոփոխությունը (նվազեցումները նշված են փակագծերում)
C9: Ինն ամիս | D9: Տարի
B10: ՊԵՏԱԿԱՆ ԲՅՈՒՋԵԻ ԵԿԱՄՈՒՏՆԵՐ | C10: =+C12 -> #REF! | D10: =+D12 -> #REF!
B11: այդ թվում`
B12: Պաշտոնական դրամաշնորհներ | C12: =+#REF! -> #REF! | D12: =+#REF! -> #REF!

Sheet 1
J1: Հավելված N 1
K2: ՀՀ կառավարության 2026 թվականի
K3: ______________ ի ___Ն որոշման
B5: «ՀԱՅԱUՏԱՆԻ ՀԱՆՐԱՊԵՏՈՒԹՅԱՆ 2026 ԹՎԱԿԱՆԻ ՊԵՏԱԿԱՆ ԲՅՈՒՋԵԻ ՄԱUԻՆ» OՐԵՆՔԻ N 1 ՀԱՎԵԼՎԱԾԻ N 2 ԱՂՅՈՒՍԱԿՈՒՄ ԿԱՏԱՐՎՈՂ ՎԵՐԱԲԱՇԽՈՒՄԸ ԵՎ ՀԱՅԱՍՏԱՆԻ ՀԱՆՐԱՊԵՏՈՒԹՅԱՆ ԿԱՌԱՎԱՐՈՒԹՅԱՆ 2025 ԹՎԱԿԱՆԻ ԴԵԿՏԵՄԲԵՐԻ 25-Ի N 1910-Ն ՈՐՈՇՄԱՆ N 5 ՀԱՎԵԼՎԱԾԻ N 1 ԱՂՅՈՒՍԱԿՈՒՄ ԿԱՏԱՐՎՈՂ ՓՈՓՈԽՈՒԹՅՈՒՆՆԵՐԸ ԵՎ ԼՐԱՑՈՒՄՆԵՐԸ
J6: հազար դրամներով
B7: ԲԳԿ | C7: Ծրագրային դասիչը | E7: ԲԳԿ/Ծրագրի /միջոցառման անվանումը | F7: Ծրագրի նպատակը/Միջոցառման նկարագրությունը | G7: Վերջնական արդյունքի նկարագրությունը/Միջոցառման տեսակը | H7: Ցուցանիշների փոփոխությունը (ավելացումները նշված են դրական նշանով, իսկ նվազեցումները՝ փակագծերում)
H8: Առաջին եռամսյակ | I8: Առաջին կիսամյակ | J8: Ինն ամիս | K8: Տարի
C9: Ծրագիր | D9: Միջոցառում
B10: ԸՆԴԱՄԵՆԸ | H10: =H11+H23 -> 0 | I10: =I11+I23 -> 0 | J10: =J11+J23 -> 0 | K10: =K11+K23 -> 0
B11: ՀՀ տարածքային կառավարման և ենթակառուցվածքների նախարարություն | H11: =H12+H15+H17+H23+H20 -> 0 | I11: =I12+I15+I17+I23+I20 -> 0 | J11: =J12+J15+J17+J23+J20 -> 0 | K11: =K12+K15+K17+K23+K20 -> 0
C12: 1004 | E12: Ոռոգման համակարգի առողջացում | F12: Ոռոգման ծառայությունների հասանելիության և մատչելիության ապահովում | G12: Ոռոգման ջրի մատակարարման արդյունավետության և հասանելիության բարելավում, կորուստների կրճատում | H12: 62838.5 | I12: 62838.5 | J12: 0 | K12: 0
D13: 1004 - 12002 | E13: Գերմանիայի զարգացման բանկի աջակցությամբ իրականացվող Ախուրյան գետի ջրային ռեսուրսների ինտեգրված կառավարման փուլ 1 ծրագրով Ջրաձոր գյուղի վերաբնակեցման համար ենթակառուցվածքների և բնակելի տների կառուցում | F13: Գերմանիայի զարգացման բանկի աջակցությամբ իրականացվող Ախուրյան գետի ջրային ռեսուրսների ինտեգրված կառավարման փուլ 1 ծրագիր | G13: Տրանսֆերտների տրամադրում | H13: 0 | I13: 0 | J13: -62838.5 | K13: -62838.5
D14: 1004 - 31005 | E14: =+'4.'!D26 -> Եվրասիական զարգացման բանկի աջակցությամբ իրականացվող ոռոգման համակարգերի զարգացման ծրագրի շրջանակներում ջրային տնտեսության ենթակառուցվածքների հիմնանորոգում | F14: Եվրասիական զարգացման բանկի աջակցությամբ իրականացվող ոռոգման համակարգերի զարգացման ծրագիր | G14: Պետական մարմինների կողմից օգտագործվող ոչ ֆինանսական ակտիվների հետ գործառնություններ | H14: 62838.5 | I14: 62838.5 | J14: 62838.5 | K14: 62838.5
C15: 1167 | E15: Էլեկտրաէներգետիկ համակարգի զարգացման ծրագիր | F15: Նպաստել էլեկտրաէներգետիկ համակարգի հուսալիության բարձրացմանը և էլեկտրաէներգիայի անխափան մատակարարման ապահովմանը | G15: Հուսալի և անվտանգ էլեկտրամատակարարման ապահովում | H15: -62838.5 | I15: -62838.5 | J15: 0 | K15: 0
D16: 1167 - 11007 | E16: Հայաստանի Հանրապետությունում նոր ատոմային էներգաբլոկի (էներգաբլոկների) կառուցման ծրագրի կառավարում | F16: Հայաստանի Հանրապետությունում նոր ատոմային էներգաբլոկի (էներգաբլոկների) կառուցման աշխատանքների նախապատրաստում և իրականացում | G16: Ծառայությունների մատուցում | H16: -62838.5 | I16: -62838.5 | J16: 0 | K16: 0
C17: 1212 | E17: Տարածքային զարգացում | F17: Տարածքային համաչափ զարգացման խթանում | G17: ՀՀ համայնքների կառավարման արդյունավետության բարձրացում և տնտեսական գործունեության խթանում | H17: =H18+H19 -> -720 | I17: =I18+I19 -> -720 | J17: =J18+J19 -> -720 | K17: =K18+K19 -> -720
D18: 1212-12030 | E18: Լեռնային Ղարաբաղից Հայաստանի Հանրապետություն բռնի տեղահանված անձանց համար առաջնային անհրաժեշտության ապրանքների և ծառայությունների տրամադրում | F18: Լեռնային Ղարաբաղից Հայաստանի Հանրապետություն բռնի տեղահանված անձանց պարենային և ոչ պարենային ապրանքներով ապահովում և հյուրանոցային ծախսերի փոխհատուցում | G18: Տրանսֆերտների տրամադրում | H18: ='2'!H22 -> 6721.3 | I18: ='2'!I22 -> 6721.3 | J18: ='2'!J22 -> 6721.3 | K18: ='2'!K22 -> 6721.3
D19: 1212 - 32001 | E19: ՀՀ մարզերում առաջնահերթ լուծում պահանջող անհետաձգելի ծրագրերի իրականացում | F19: ՀՀ մարզերում առաջնահերթ լուծում պահանջող անհետաձգելի ծրագրերի իրականացում, որի արդյունքում լուծում կտրվի մարզային ենթակայության կազմակերպությունների և համայնքային նշանակություն ունեցող հիմնախնդիրներին | G19: Այլ պետական կազմակերպությունների կողմից օգտագործվող ոչ ֆինանսական ակտիվների հետ գործառնություններ | H19: ='2'!H40 -> -7441.3 | I19: ='2'!I40 -> -7441.3 | J19: ='2'!J40 -> -7441.3 | K19: ='2'!K40 -> -7441.3
B20: ՀՀ Կոտայքի մարզպետի աշխատակազմ | H20: =H21 -> 720 | I20: =I21 -> 720 | J20: =J21 -> 720 | K20: =K21 -> 720
C21: 1037 | E21: ՀՀ Կոտայքի մարզում տարածքային պետական կառավարում | F21: ՀՀ Կոտայքի մարզում պետական քաղաքականության իրականացման ապահովում | G21: ՀՀ Կոտայքի մարզում իրականացվող պետական ծրագրերի արդյունավետության և հասցեականության բարելավում, հետադարձ կապի ապահովում | H21: =H22 -> 720 | I21: =I22 -> 720 | J21: =J22 -> 720 | K21: =K22 -> 720
D22: 1037 - 11001 | E22: ՀՀ Կոտայքի մարզպետի աշխատակազմի կողմից տարածքային պետական կառավարման ապահովում | F22: Մարզպետի աշխատակազմի ենթակայության հիմնարկների կառավարում, կրթության, ճանապարհաշինության, քաղաքաշինության և այլ ոլորտներում հասարակական պատվերի տեղաբաշխում, տնտեսության և սոցիալական տարբեր ոլորտներում մարզային միջոցառումների համակարգում | G22: Ծառայությունների մատուցում | H22: ='2'!H102 -> 720 | I22: ='2'!I102 -> 720 | J22: ='2'!J102 -> 720 | K22: ='2'!K102 -> 720
B23: ՀՀ կառավարություն | H23: 0 | I23: =I24 -> 0 | J23: =J24 -> 0 | K23: =K24 -> 0
C24: 1139 | E24: ՀՀ կառավարության պահուստային ֆոնդ | F24: Պետական բյուջեում չկանխատեսված, ինչպես նաեւ բյուջետային երաշխիքների ապահովման ծախսերի ֆինանսավորման ապահովում | G24: Պահուստային ֆոնդի կառավարման արդյունավետության և թափանցիկության ապահովում | H24: =H25+H26 -> 0 | I24: =I25+I26 -> 0 | J24: =J25+J26 -> 0 | K24: =K25+K26 -> 0
D25: 1139 - 11001 | E25: ՀՀ կառավարության պահուստային ֆոնդ | F25: ՀՀ պետական բյուջեում նախատեսված ելքերի լրացուցիչ ֆինանսավորման, պետական բյուջեում չկանխատեսված ելքերի, ինչպես նաև բյուջետային երաշխիքների ապահովման ելքերի ֆինանսավորման ապահովում | G25: Ծառայությունների մատուցում | H25: =-H26 -> -70279.8 | I25: =-I26 -> -70279.8 | J25: =-J26 -> -70279.8 | K25: =-K26 -> -70279.8
D26: 1139 - 11001 | E26: ՀՀ կառավարության պահուստային ֆոնդ | F26: ՀՀ պետական բյուջեում նախատեսված ելքերի լրացուցիչ ֆինանսավորման, պետական բյուջեում չկանխատեսված ելքերի, ինչպես նաև բյուջետային երաշխիքների ապահովման ելքերի ֆինանսավորման ապահովում | G26: Ծառայությունների մատուցում | H26: =-H19+H14 -> 70279.8 | I26: =-I19+I14 -> 70279.8 | J26: =-J19+J14 -> 70279.8 | K26: =-K19+K14 -> 70279.8
D32: ՀԱՅԱՍՏԱՆԻ ՀԱՆՐԱՊԵՏՈՒԹՅԱՆ ՎԱՐՉԱՊԵՏԻ ԱՇԽԱՏԱԿԱԶՄԻ ՂԵԿԱՎԱՐ՝ | F32: Ա.ՀԱՐՈՒԹՅՈՒՆՅԱՆ

Sheet 2
B1: Հավելված N 2
B2: ՀՀ կառավարության 2026 թվականի
B3: -ի N -Ն որոշման
B4: ՀԱՅԱՍՏԱՆԻ ՀԱՆՐԱՊԵՏՈՒԹՅԱՆ ԿԱՌԱՎԱՐՈՒԹՅԱՆ 2025 ԹՎԱԿԱՆԻ ԴԵԿՏԵՄԲԵՐԻ 25-Ի N 1910-Ն ՈՐՈՇՄԱՆ N 3 ԵՎ N 4 ՀԱՎԵԼՎԱԾՆԵՐՈՒՄ ԿԱՏԱՐՎՈՂ ՓՈՓՈԽՈՒԹՅՈՒՆՆԵՐԸ ԵՎ ԼՐԱՑՈՒՄՆԵՐԸ
J5: հազար դրամներով
B6: Գործառական դասիչը | E6: Ծրագրային դասիչը | G6: Բյուջետային ծախսերի գործառական դասակարգման բաժինների, խմբերի և դասերի, բյուջետային ծրագրերի միջոցառումների, բյուջետային հատկացումների գլխավոր կարգադրիչների անվանումները | H6: Ցուցանիշների փոփոխությունը (ավելացումները նշված են դրական նշանով, իսկ նվազեցումները՝ փակագծերում)
B7: Բաժին | C7: Խումբ | D7: Դաս | E7: Ծրագիր | F7: Միջոցառում | H7: Առաջին եռամսյակ | I7: Առաջին կիսամյակ | J7: Ինն ամիս | K7: Տարի
G8: ԸՆԴԱՄԵՆԸ ԾԱԽՍԵՐ | H8: =H10+H92+H113 -> 0 | I8: =I10+I92+I113 -> 0 | J8: =J10+J92+J113 -> 0 | K8: =K10+K92+K113 -> 0
G9: այդ թվում`
G10: ՀՀ տարածքային կառավարման և ենթակառուցվածքների նախարարություն | H10: =H12+H49 -> -720 | I10: =I12+I49 -> -720 | J10: =J12+J49 -> -720 | K10: =K12+K49 -> -720
G11: այդ թվում`
B12: 01 | G12: ԸՆԴՀԱՆՈՒՐ ԲՆՈՒՅԹԻ ՀԱՆՐԱՅԻՆ ԾԱՌԱՅՈՒԹՅՈՒՆՆԵՐ | H12: =H14 -> -720 | I12: =I14 -> -720 | J12: =J14 -> -720 | K12: =K14 -> -720
G13: այդ թվում`
C14: 08 | G14: Կառավարության տարբեր մակարդակների միջև իրականացվող ընդհանուր բնույթի տրանսֆերտներ | H14: =H16 -> -720 | I14: =I16 -> -720 | J14: =J16 -> -720 | K14: =K16 -> -720
G15: այդ թվում`
D16: 01 | G16: Կառավարության տարբեր մակարդակների միջև իրականացվող ընդհանուր բնույթի տրանսֆերտներ | H16: =H20 -> -720 | I16: =I20 -> -720 | J16: =J20 -> -720 | K16: =K20 -> -720
G17: այդ թվում`
G18: ՀՀ տարածքային կառավարման և ենթակառուցվածքների նախարարություն | H18: =H20 -> -720 | I18: =I20 -> -720 | J18: =J20 -> -720 | K18: =K20 -> -720
G19: այդ թվում`
E20: 1212 | G20: Տարածքային զարգացում | H20: =H22+H40 -> -720 | I20: =I22+I40 -> -720 | J20: =J22+J40 -> -720 | K20: =K22+K40 -> -720
G21: այդ թվում`
F22: 12030 | G22: Լեռնային Ղարաբաղից Հայաստանի Հանրապետություն բռնի տեղահանված անձանց համար առաջնային անհրաժեշտության ապրանքների և ծառայությունների տրամադրում | H22: =H24+H33 -> 6721.3 | I22: =I24+I33 -> 6721.3 | J22: =J24+J33 -> 6721.3 | K22: =K24+K33 -> 6721.3
G23: այդ թվում` ըստ կատարողների
G24: ՀՀ Կոտայքի մարզպետի աշխատակազմ | H24: =H26 -> 6281.7 | I24: =I26 -> 6281.7 | J24: =J26 -> 6281.7 | K24: =K26 -> 6281.7
G25: այդ թվում` բյուջետային ծախսերի տնտեսագիտական դասակարգման հոդվածներ
G26: ԸՆԴԱՄԵՆԸ ԾԱԽՍԵՐ | H26: =H27 -> 6281.7 | I26: =I27 -> 6281.7 | J26: =J27 -> 6281.7 | K26: =K27 -> 6281.7
G27: ԸՆԹԱՑԻԿ ԾԱԽՍԵՐ | H27: =H28 -> 6281.7 | I27: =I28 -> 6281.7 | J27: =J28 -> 6281.7 | K27: =K28 -> 6281.7
G28: ԾԱՌԱՅՈՒԹՅՈՒՆՆԵՐԻ ԵՎ ԱՊՐԱՆՔՆԵՐԻ ՁԵՌՔԲԵՐՈՒՄ | H28: =H29+H31 -> 6281.7 | I28: =I29+I31 -> 6281.7 | J28: =J29+J31 -> 6281.7 | K28: =K29+K31 -> 6281.7
G29: Պայմանագրային այլ ծառայությունների ձեռքբերում | H29: =H30 -> 5952 | I29: =I30 -> 5952 | J29: =J30 -> 5952 | K29: =K30 -> 5952
G30: - Ընդհանուր բնույթի այլ ծառայություններ | H30: 5952 | I30: =H30 -> 5952 | J30: =I30 -> 5952 | K30: =J30 -> 5952
G31: Նյութեր (Ապրանքներ) | H31: =H32 -> 329.7 | I31: =I32 -> 329.7 | J31: =J32 -> 329.7 | K31: =K32 -> 329.7
G32: - Գրասենյակային նյութեր և հագուստ | H32: =329.7 -> 329.7 | I32: =329.7 -> 329.7 | J32: =329.7 -> 329.7 | K32: =329.7 -> 329.7
G33: ՀՀ Սյունիքի մարզպետի աշխատակազմ | H33: =H35 -> 439.6 | I33: =I35 -> 439.6 | J33: =J35 -> 439.6 | K33: =K35 -> 439.6
G34: այդ թվում` բյուջետային ծախսերի տնտեսագիտական դասակարգման հոդվածներ
G35: ԸՆԴԱՄԵՆԸ ԾԱԽՍԵՐ | H35: =H36 -> 439.6 | I35: =I36 -> 439.6 | J35: =J36 -> 439.6 | K35: =K36 -> 439.6
G36: ԸՆԹԱՑԻԿ ԾԱԽՍԵՐ | H36: =H37 -> 439.6 | I36: =I37 -> 439.6 | J36: =J37 -> 439.6 | K36: =K37 -> 439.6
G37: ԾԱՌԱՅՈՒԹՅՈՒՆՆԵՐԻ ԵՎ ԱՊՐԱՆՔՆԵՐԻ ՁԵՌՔԲԵՐՈՒՄ | H37: =H38 -> 439.6 | I37: =I38 -> 439.6 | J37: =J38 -> 439.6 | K37: =K38 -> 439.6
G38: Պայմանագրային այլ ծառայությունների ձեռքբերում | H38: =H39 -> 439.6 | I38: =I39 -> 439.6 | J38: =J39 -> 439.6 | K38: =K39 -> 439.6
G39: - Կենցաղային և հանրային սննդի ծառայություններ | H39: 439.6 | I39: =H39 -> 439.6 | J39: =I39 -> 439.6 | K39: =J39 -> 439.6
F40: 32001 | G40: ՀՀ մարզերում առաջնահերթ լուծում պահանջող անհետաձգելի ծրագրերի իրականացում | H40: =H42 -> -7441.3 | I40: =I42 -> -7441.3 | J40: =J42 -> -7441.3 | K40: =K42 -> -7441.3
G41: այդ թվում` ըստ կատարողների
G42: ՀՀ կառավարություն | H42: =H44 -> -7441.3 | I42: =I44 -> -7441.3 | J42: =J44 -> -7441.3 | K42: =K44 -> -7441.3
G43: այդ թվում` բյուջետային ծախսերի տնտեսագիտական դասակարգման հոդվածներ
G44: ԸՆԴԱՄԵՆԸ ԾԱԽՍԵՐ | H44: =H45 -> -7441.3 | I44: =I45 -> -7441.3 | J44: =J45 -> -7441.3 | K44: =K45 -> -7441.3
G45: ՈՉ ՖԻՆԱՆՍԱԿԱՆ ԱԿՏԻՎՆԵՐԻ ԳԾՈՎ ԾԱԽՍԵՐ | H45: =H46 -> -7441.3 | I45: =I46 -> -7441.3 | J45: =J46 -> -7441.3 | K45: =K46 -> -7441.3
G46: ՀԻՄՆԱԿԱՆ ՄԻՋՈՑՆԵՐ | H46: =H47 -> -7441.3 | I46: =I47 -> -7441.3 | J46: =J47 -> -7441.3 | K46: =K47 -> -7441.3
G47: ՇԵՆՔԵՐ ԵՎ ՇԻՆՈՒԹՅՈՒՆՆԵՐ | H47: =H48 -> -7441.3 | I47: =I48 -> -7441.3 | J47: =J48 -> -7441.3 | K47: =K48 -> -7441.3
G48: - Շենքերի և շինությունների կապիտալ վերանորոգում | H48: =-H33-H24-H104 -> -7441.3 | I48: =H48 -> -7441.3 | J48: =I48 -> -7441.3 | K48: =J48 -> -7441.3
B49: 04 | G49: ՏՆՏԵՍԱԿԱՆ ՀԱՐԱԲԵՐՈՒԹՅՈՒՆՆԵՐ | H49: =H51+H77 -> 0 | I49: =I51+I77 -> 0 | J49: =J51+J77 -> 0 | K49: =K51+K77 -> 0
G50: այդ թվում`
C51: 02 | G51: Գյուղատնտեսություն, անտառային տնտեսություն, ձկնորսություն և որսորդություն | H51: 62838.5 | I51: 62838.5 | J51: 0 | K51: 0
G52: այդ թվում`
D53: 04 | G53: Ոռոգում | H53: 62838.5 | I53: 62838.5 | J53: 0 | K53: 0
G54: այդ թվում`
G55: ՀՀ տարածքային կառավարման և ենթակառուցվածքների նախարարություն | H55: 62838.5 | I55: 62838.5 | J55: 0 | K55: 0
G56: այդ թվում`
E57: 1004 | G57: Ոռոգման համակարգի առողջացում | H57: 62838.5 | I57: 62838.5 | J57: 0 | K57: 0
G58: այդ թվում`
F59: 12002 | G59: Գերմանիայի զարգացման բանկի աջակցությամբ իրականացվող Ախուրյան գետի ջրային ռեսուրսների ինտեգրված կառավարման փուլ 1 ծրագրով Ջրաձոր գյուղի վերաբնակեցման համար ենթակառուցվածքների և բնակելի տների կառուցում | H59: 0 | I59: 0 | J59: -62838.5 | K59: -62838.5
G60: այդ թվում` ըստ կատարողների
G61: ՀՀ տարածքային կառավարման և ենթակառուցվածքների նախարարության ջրային կոմիտե | H61: 0 | I61: 0 | J61: -62838.5 | K61: -62838.5
G62: այդ թվում` բյուջետային ծախսերի տնտեսագիտական դասակարգման հոդվածներ
G63: ԸՆԴԱՄԵՆԸ ԾԱԽՍԵՐ | H63: 0 | I63: 0 | J63: -62838.5 | K63: -62838.5
G64: ՈՉ ՖԻՆԱՆՍԱԿԱՆ ԱԿՏԻՎՆԵՐԻ ԳԾՈՎ ԾԱԽՍԵՐ | H64: 0 | I64: 0 | J64: -62838.5 | K64: -62838.5
G65: ՀԻՄՆԱԿԱՆ ՄԻՋՈՑՆԵՐ | H65: 0 | I65: 0 | J65: -62838.5 | K65: -62838.5
G66: ՇԵՆՔԵՐ ԵՎ ՇԻՆՈՒԹՅՈՒՆՆԵՐ | H66: 0 | I66: 0 | J66: -62838.5 | K66: -62838.5
G67: - Շենքերի և շինությունների շինարարություն | H67: 0 | I67: 0 | J67: -62838.5 | K67: -62838.5
F68: 31005 | G68: Եվրասիական զարգացման բանկի աջակցությամբ իրականացվող ոռոգման համակարգերի զարգացման ծրագրի շրջանակներում ջրային տնտեսության ենթակառուցվածքների հիմնանորոգում | H68: 62838.5 | I68: 62838.5 | J68: 62838.5 | K68: 62838.5
G69: այդ թվում` ըստ կատարողների
G70: ՀՀ տարածքային կառավարման և ենթակառուցվածքների նախարարության ջրային կոմիտե | H70: 62838.5 | I70: 62838.5 | J70: 62838.5 | K70: 62838.5
G71: այդ թվում` բյուջետային ծախսերի տնտեսագիտական դասակարգման հոդվածներ
G72: ԸՆԴԱՄԵՆԸ ԾԱԽՍԵՐ | H72: 62838.5 | I72: 62838.5 | J72: 62838.5 | K72: 62838.5
G73: ՈՉ ՖԻՆԱՆՍԱԿԱՆ ԱԿՏԻՎՆԵՐԻ ԳԾՈՎ ԾԱԽՍԵՐ | H73: 62838.5 | I73: 62838.5 | J73: 62838.5 | K73: 62838.5
G74: ՀԻՄՆԱԿԱՆ ՄԻՋՈՑՆԵՐ | H74: 62838.5 | I74: 62838.5 | J74: 62838.5 | K74: 62838.5
G75: ՇԵՆՔԵՐ ԵՎ ՇԻՆՈՒԹՅՈՒՆՆԵՐ | H75: 62838.5 | I75: 62838.5 | J75: 62838.5 | K75: 62838.5
G76: - Շենքերի և շինությունների շինարարություն | H76: 62838.5 | I76: 62838.5 | J76: 62838.5 | K76: 62838.5
C77: 03 | G77: Վառելիք և էներգետիկա | H77: -62838.5 | I77: -62838.5 | J77: 0 | K77: 0
G78: այդ թվում`
D79: 05 | G79: Էլեկտրաէներգիա | H79: -62838.5 | I79: -62838.5 | J79: 0 | K79: 0
G80: այդ թվում`
E81: 1167 | G81: Էլեկտրաէներգետիկ համակարգի զարգացման ծրագիր | H81: -62838.5 | I81: -62838.5 | J81: 0 | K81: 0
G82: այդ թվում`
F83: 11007 | G83: Հայաստանի Հանրապետությունում նոր ատոմային էներգաբլոկի (էներգաբլոկների) կառուցման ծրագրի կառավարում | H83: -62838.5 | I83: -62838.5 | J83: 0 | K83: 0
G84: այդ թվում` ըստ կատարողների
G85: ՀՀ տարածքային կառավարման և ենթակառուցվածքների նախարարություն | H85: -62838.5 | I85: -62838.5 | J85: 0 | K85: 0
G86: այդ թվում` բյուջետային ծախսերի տնտեսագիտական դասակարգման հոդվածներ
G87: ԸՆԴԱՄԵՆԸ ԾԱԽՍԵՐ | H87: -62838.5 | I87: -62838.5 | J87: 0 | K87: 0
G88: ԸՆԹԱՑԻԿ ԾԱԽՍԵՐ | H88: -62838.5 | I88: -62838.5 | J88: 0 | K88: 0
G89: ԴՐԱՄԱՇՆՈՐՀՆԵՐ | H89: -62838.5 | I89: -62838.5 | J89: 0 | K89: 0
G90: Ընթացիկ դրամաշնորհներ պետական հատվածի այլ մակարդակներին | H90: -62838.5 | I90: -62838.5 | J90: 0 | K90: 0
G91: - Այլ ընթացիկ դրամաշնորհներ | H91: -62838.5 | I91: -62838.5 | J91: 0 | K91: 0
G92: ՀՀ Կոտայքի մարզպետի աշխատակազմ | H92: =H94 -> 720 | I92: =I94 -> 720 | J92: =J94 -> 720 | K92: =K94 -> 720
G93: այդ թվում`
B94: 01 | G94: ԸՆԴՀԱՆՈՒՐ ԲՆՈՒՅԹԻ ՀԱՆՐԱՅԻՆ ԾԱՌԱՅՈՒԹՅՈՒՆՆԵՐ | H94: =H96 -> 720 | I94: =I96 -> 720 | J94: =J96 -> 720 | K94: =K96 -> 720
G95: այդ թվում`
C96: 01 | G96: Օրենսդիր և գործադիր մարմիններ, պետական կառավարում, ֆինանսական և հարկաբյուջետային հարաբերություններ, արտաքին հարաբերություններ | H96: =H98 -> 720 | I96: =I98 -> 720 | J96: =J98 -> 720 | K96: =K98 -> 720
G97: այդ թվում`
D98: 01 | G98: Օրենսդիր և գործադիր մարմիններ, պետական կառավարում | H98: =H102 -> 720 | I98: =I102 -> 720 | J98: =J102 -> 720 | K98: =K102 -> 720
G99: այդ թվում`
G100: ՀՀ Կոտայքի մարզպետի աշխատակազմ | H100: =H102 -> 720 | I100: =I102 -> 720 | J100: =J102 -> 720 | K100: =K102 -> 720
...

Sheet 3.
I1: Հավելված N 3
I2: ՀՀ կառավարության 2026 թվականի
I3: ______________ ի ___Ն որոշման
B5: «ՀԱՅԱՍՏԱՆԻ ՀԱՆՐԱՊԵՏՈՒԹՅԱՆ 2026 ԹՎԱԿԱՆԻ ՊԵՏԱԿԱՆ ԲՅՈՒՋԵԻ ՄԱՍԻՆ» ՕՐԵՆՔԻ N 1 ՀԱՎԵԼՎԱԾԻ N 3 ԱՂՅՈՒՍԱԿՈՒՄ ԿԱՏԱՐՎՈՂ ՓՈՓՈԽՈՒԹՅՈՒՆԸ
H6: հազար դրամներով
B7: Ծրագրային դասիչ | D7: Բյուջետային գլխավոր կարգադրիչների, ծրագրերի, միջոցառումների և ուղղությունների անվանումները | E7: Ցուցանիշների փոփոխությունը ( նվազեցումները նշված են փակագծերում)
E8: Ընդամենը, | F8: այդ թվում՝
B9: Ծրագիր | C9: Միջոցառում | F9: Կառուցման աշխատանքներ | G9: Վերակառուցման, վերանորոգման և վերականգնման աշխատանքներ | H9: Նախագծահե- տազոտական, գեոդեզիա- քարտեզագրա- կան աշխա- տանքներ | I9: Ոչ ֆինանսական այլ ակտիվների ձեռքբերում
D10: ԸՆԴԱՄԵՆԸ | E10: =+F10+G10+H10+I10 -> -7441.3 | F10: =+F12 -> 0 | G10: =+G12 -> -7441.3 | H10: 0 | I10: 0
D11: այդ թվում՝
D12: ՀՀ ՏԱՐԱԾՔԱՅԻՆ ԿԱՌԱՎԱՐՄԱՆ ԵՎ ԵՆԹԱԿԱՌՈՒՑՎԱԾՔՆԵՐԻ ՆԱԽԱՐԱՐՈՒԹՅՈՒՆ | E12: =F12+G12+H12+I12 -> -7441.3 | F12: =+F14 -> 0 | G12: =+G14 -> -7441.3 | H12: 0 | I12: 0
D13: այդ թվում`
B14: 1212 | C14: 32001 | D14: ՀՀ մարզերում առաջնահերթ լուծում պահանջող անհետաձգելի ծրագրերի իրականացում | E14: =+F14+G14+H14+I14 -> -7441.3 | F14: =F16 -> 0 | G14: =G16 -> -7441.3 | H14: =H16 -> 0 | I14: =I16 -> 0
D15: այդ թվում`
D16: ՀՀ կառավարություն | E16: =F16+G16+H16+I16 -> -7441.3 | F16: 0 | G16: ='2'!K40 -> -7441.3 | H16: 0 | I16: 0
D19: ՀԱՅԱՍՏԱՆԻ ՀԱՆՐԱՊԵՏՈՒԹՅԱՆ
D20: ՎԱՐՉԱՊԵՏԻ ԱՇԽԱՏԱԿԱԶՄԻ ՂԵԿԱՎԱՐ ՝
D21: Ա. ՀԱՐՈՒԹՅՈՒՆՅԱՆ

Sheet 4.
P1: Հավելված N4
N2: ՀՀ կառավարության 2026 թվականի
N3: ______________ ի ___Ն որոշման
B5: «ՀԱՅԱUՏԱՆԻ ՀԱՆՐԱՊԵՏՈՒԹՅԱՆ 2025 ԹՎԱԿԱՆԻ ՊԵՏԱԿԱՆ ԲՅՈՒՋԵԻ ՄԱUԻՆ» OՐԵՆՔԻ N 1 ՀԱՎԵԼՎԱԾԻ N 4 ԱՂՅՈՒՍԱԿՈՒՄ ԵՎ ՀԱՅԱՍՏԱՆԻ ՀԱՆՐԱՊԵՏՈՒԹՅԱՆ ԿԱՌԱՎԱՐՈՒԹՅԱՆ 2025 ԹՎԱԿԱՆԻ ԴԵԿՏԵՄԲԵՐԻ 25-Ի N 1910-Ն ՈՐՈՇՄԱՆ N 5 ՀԱՎԵԼՎԱԾԻ N 3 ԱՂՅՈՒՍԱԿՈՒՄ ԿԱՏԱՐՎՈՂ ՓՈՓՈԽՈՒԹՅՈՒՆԸ ԵՎ ԼՐԱՑՈՒՄԸ
O6: հազար դրամներով
B7: Ծրագրային դասիչը | D7: Բյուջետային գլխավոր կարգադրիչների, ծրագրերի և միջոցառումների անվանումները | E7: Ցուցանիշների փոփոխությունը (ավելացումները նշված են դրական նշանով, իսկ նվազեցումները` փակագծերում)
E8: Առաջին եռամսյակ | H8: Առաջին կիսամյակ | K8: Ինն ամիս | N8: Տարի
E9: Ընդամենը | F9: այդ թվում` | H9: Ընդամենը | I9: այդ թվում` | K9: Ընդամենը | L9: այդ թվում` | N9: Ընդամենը | O9: այդ թվում`
B10: Ծրագիր | C10: Միջոցառում | F10: Վարկային միջոցներ | G10: Համաֆինան սավորում | I10: Վարկային միջոցներ | J10: Համաֆինան սավորում | L10: Վարկային միջոցներ | M10: Համաֆինան սավորում | O10: Վարկային միջոցներ | P10: Համաֆինան սավորում
D11: ԸՆԴԱՄԵՆԸ | E11: 62838.5 | F11: 0 | G11: 62838.5 | H11: 62838.5 | I11: 0 | J11: 62838.5 | K11: 0 | L11: 0 | M11: 0 | N11: 0 | O11: 0 | P11: 0
D12: այդ թվում`
D13: ՈՉ ՖԻՆԱՆՍԱԿԱՆ ԱԿՏԻՎՆԵՐԻ ԳԾՈՎ ԾԱԽՍԵՐ | E13: 62838.5 | F13: 0 | G13: 62838.5 | H13: 62838.5 | I13: 0 | J13: 62838.5 | K13: 0 | L13: 0 | M13: 0 | N13: 0 | O13: 0 | P13: 0
D14: ՀՀ ՏԱՐԱԾՔԱՅԻՆ ԿԱՌԱՎԱՐՄԱՆ ԵՎ ԵՆԹԱԿԱՌՈՒՑՎԱԾՔՆԵՐԻ ՆԱԽԱՐԱՐՈՒԹՅՈՒՆ | E14: 62838.5 | F14: 0 | G14: 62838.5 | H14: 62838.5 | I14: 0 | J14: 62838.5 | K14: 0 | L14: 0 | M14: 0 | N14: 0 | O14: 0 | P14: 0
B15: 1004 | D15: Ոռոգման համակարգի առողջացում | E15: 62838.5 | F15: 0 | G15: 62838.5 | H15: 62838.5 | I15: 0 | J15: 62838.5 | K15: 0 | L15: 0 | M15: 0 | N15: 0 | O15: 0 | P15: 0
D16: այդ թվում`
C17: 12002 | D17: Գերմանիայի զարգացման բանկի աջակցությամբ իրականացվող Ախուրյան գետի ջրային ռեսուրսների ինտեգրված կառավարման փուլ 1 ծրագրով Ջրաձոր գյուղի վերաբնակեցման համար ենթակառուցվածքների և բնակելի տների կառուցում | E17: 0 | F17: 0 | G17: 0 | H17: 0 | I17: 0 | J17: 0 | K17: -62838.5 | L17: 0 | M17: -62838.5 | N17: -62838.5 | O17: 0 | P17: -62838.5
D18: այդ թվում` ըստ կատարողների
D19: ՀՀ տարածքային կառավարման և ենթակառուցվածքների նախարարության ջրային կոմիտե | E19: 0 | F19: 0 | G19: 0 | H19: 0 | I19: 0 | J19: 0 | K19: -62838.5 | L19: 0 | M19: -62838.5 | N19: -62838.5 | O19: 0 | P19: -62838.5
D20: այդ թվում` բյուջետային ծախսերի տնտեսագիտական դասակարգման հոդվածներ
D21: ԸՆԴԱՄԵՆԸ ԾԱԽՍԵՐ | E21: 0 | F21: 0 | G21: 0 | H21: 0 | I21: 0 | J21: 0 | K21: -62838.5 | L21: 0 | M21: -62838.5 | N21: -62838.5 | O21: 0 | P21: -62838.5
D22: ՈՉ ՖԻՆԱՆՍԱԿԱՆ ԱԿՏԻՎՆԵՐԻ ԳԾՈՎ ԾԱԽՍԵՐ | E22: 0 | F22: 0 | G22: 0 | H22: 0 | I22: 0 | J22: 0 | K22: -62838.5 | L22: 0 | M22: -62838.5 | N22: -62838.5 | O22: 0 | P22: -62838.5
D23: ՀԻՄՆԱԿԱՆ ՄԻՋՈՑՆԵՐ | E23: 0 | F23: 0 | G23: 0 | H23: 0 | I23: 0 | J23: 0 | K23: -62838.5 | L23: 0 | M23: -62838.5 | N23: -62838.5 | O23: 0 | P23: -62838.5
D24: ՇԵՆՔԵՐ ԵՎ ՇԻՆՈՒԹՅՈՒՆՆԵՐ | E24: 0 | F24: 0 | G24: 0 | H24: 0 | I24: 0 | J24: 0 | K24: -62838.5 | L24: 0 | M24: -62838.5 | N24: -62838.5 | O24: 0 | P24: -62838.5
D25: - Շենքերի և շինությունների շինարարություն | E25: 0 | H25: 0 | K25: -62838.5 | M25: -62838.5 | N25: -62838.5 | P25: -62838.5
C26: 31005 | D26: Եվրասիական զարգացման բանկի աջակցությամբ իրականացվող ոռոգման համակարգերի զարգացման ծրագրի շրջանակներում ջրային տնտեսության ենթակառուցվածքների հիմնանորոգում | E26: 62838.5 | F26: 0 | G26: 62838.5 | H26: 62838.5 | I26: 0 | J26: 62838.5 | K26: 62838.5 | L26: 0 | M26: 62838.5 | N26: 62838.5 | O26: 0 | P26: 62838.5
D27: այդ թվում` ըստ կատարողների
D28: ՀՀ տարածքային կառավարման և ենթակառուցվածքների նախարարության ջրային կոմիտե | E28: 62838.5 | F28: 0 | G28: 62838.5 | H28: 62838.5 | I28: 0 | J28: 62838.5 | K28: 62838.5 | L28: 0 | M28: 62838.5 | N28: 62838.5 | O28: 0 | P28: 62838.5
D29: այդ թվում` բյուջետային ծախսերի տնտեսագիտական դասակարգման հոդվածներ
D30: ԸՆԴԱՄԵՆԸ ԾԱԽՍԵՐ | E30: 62838.5 | F30: 0 | G30: 62838.5 | H30: 62838.5 | I30: 0 | J30: 62838.5 | K30: 62838.5 | L30: 0 | M30: 62838.5 | N30: 62838.5 | O30: 0 | P30: 62838.5
D31: ՈՉ ՖԻՆԱՆՍԱԿԱՆ ԱԿՏԻՎՆԵՐԻ ԳԾՈՎ ԾԱԽՍԵՐ | E31: 62838.5 | F31: 0 | G31: 62838.5 | H31: 62838.5 | I31: 0 | J31: 62838.5 | K31: 62838.5 | L31: 0 | M31: 62838.5 | N31: 62838.5 | O31: 0 | P31: 62838.5
D32: ՀԻՄՆԱԿԱՆ ՄԻՋՈՑՆԵՐ | E32: 62838.5 | F32: 0 | G32: 62838.5 | H32: 62838.5 | I32: 0 | J32: 62838.5 | K32: 62838.5 | L32: 0 | M32: 62838.5 | N32: 62838.5 | O32: 0 | P32: 62838.5
D33: ՇԵՆՔԵՐ ԵՎ ՇԻՆՈՒԹՅՈՒՆՆԵՐ | E33: 62838.5 | F33: 0 | G33: 62838.5 | H33: 62838.5 | I33: 0 | J33: 62838.5 | K33: 62838.5 | L33: 0 | M33: 62838.5 | N33: 62838.5 | O33: 0 | P33: 62838.5
D34: - Շենքերի և շինությունների շինարարություն | E34: 62838.5 | F34: 0 | G34: 62838.5 | H34: 62838.5 | I34: 0 | J34: 62838.5 | K34: 62838.5 | L34: 0 | M34: 62838.5 | N34: 62838.5 | O34: 0 | P34: 62838.5
D36: ՀԱՅԱՍՏԱՆԻ ՀԱՆՐԱՊԵՏՈՒԹՅԱՆ ՎԱՐՉԱՊԵՏԻ ԱՇԽԱՏԱԿԱԶՄԻ ՂԵԿԱՎԱՐ՝ | F36: Ա.ՀԱՐՈՒԹՅՈՒՆՅԱՆ

Sheet 5.
H1: Հավելված 5
H2: ՀՀ կառավարության 2026 թվականի
H3: ______________ ի ___Ն որոշման
B5: ՀԱՅԱՍՏԱՆԻ ՀԱՆՐԱՊԵՏՈՒԹՅԱՆ ԿԱՌԱՎԱՐՈՒԹՅԱՆ 2025 ԹՎԱԿԱՆԻ ԴԵԿՏԵՄԲԵՐԻ 25-Ի N 1910-Ն ՈՐՈՇՄԱՆ N 5 ՀԱՎԵԼՎԱԾԻ N 2 ԱՂՅՈՒՍԱԿՈՒՄ ԿԱՏԱՐՎՈՂ ՓՈՓՈԽՈՒԹՅՈՒՆԸ
G7: հազար դրամներով
B8: Ծրագրային դասիչը | D8: Բյուջետային գլխավոր կարգադրիչների, ծրագրերի, միջոցառումների և ուղղությունների անվանումները | E8: Ցուցանիշների փոփոխությունը ( նվազեցումները նշված են փակագծերում)
B9: Ծրագիր | C9: Միջոցառում | E9: Առաջին եռամսյակ | F9: Առաջին կիսամյակ | G9: Ինն ամիս | H9: Տարի
D10: ԸՆԴԱՄԵՆԸ | E10: =E12 -> -7441.3 | F10: =F12 -> -7441.3 | G10: =G12 -> -7441.3 | H10: =H12 -> -7441.3
D11: այդ թվում՝
D12: ՀՀ ՏԱՐԱԾՔԱՅԻՆ ԿԱՌԱՎԱՐՄԱՆ ԵՎ ԵՆԹԱԿԱՌՈՒՑՎԱԾՔՆԵՐԻ ՆԱԽԱՐԱՐՈՒԹՅՈՒՆ | E12: =E14 -> -7441.3 | F12: =F14 -> -7441.3 | G12: =G14 -> -7441.3 | H12: =H14 -> -7441.3
D13: այդ թվում`
B14: 1212 | C14: 32001 | D14: ՀՀ մարզերում առաջնահերթ լուծում պահանջող անհետաձգելի ծրագրերի իրականացում | E14: =E16 -> -7441.3 | F14: =F16 -> -7441.3 | G14: =G16 -> -7441.3 | H14: =H16 -> -7441.3
D15: այդ թվում` ըստ կատարողների
D16: ՀՀ կառավարություն | E16: ='2'!H40 -> -7441.3 | F16: ='2'!I40 -> -7441.3 | G16: ='2'!J40 -> -7441.3 | H16: ='2'!K40 -> -7441.3
C20: ՀԱՅԱՍՏԱՆԻ ՀԱՆՐԱՊԵՏՈՒԹՅԱՆ
C21: ՎԱՐՉԱՊԵՏԻ ԱՇԽԱՏԱԿԱԶՄԻ
D22: ՂԵԿԱՎԱՐ՝ Ա. ՀԱՐՈՒԹՅՈՒՆՅԱՆ

Sheet 6.
A1: Հավելված N 6
A2: ՀՀ կառավարության 2026 թվականի
A3: -ի N -Ն որոշման
A5: ՀԱՅԱՍՏԱՆԻ ՀԱՆՐԱՊԵՏՈՒԹՅԱՆ ԿԱՌԱՎԱՐՈՒԹՅԱՆ 2025 ԹՎԱԿԱՆԻ ԴԵԿՏԵՄԲԵՐԻ 25-Ի N 1910-Ն ՈՐՈՇՄԱՆ N 9 ՀԱՎԵԼՎԱԾՈՒՄ ԿԱՏԱՐՎՈՂ ՓՈՓՈԽՈՒԹՅՈՒՆՆԵՐԸ ԵՎ ԼՐԱՑՈՒՄՆԵՐԸ
M6: հազար դրամներով
A7: ԲԳԿ | B7: Ծրագիր | D7: Միջոցառում | H7: Իրականացնողը/ ակտիվն օգտագործողը/ շահառուի ընտրության չափորոշիչը | I7: Արդյունքային չափորոշիչը | J7: Ցուցանիշների փոփոխությունը (ավելացումները նշված են դրական նշանով, իսկ նվազեցումները՝ փակագծերում)
B8: Դասիչը | C8: Անվա-նումը | D8: Դասիչը | E8: Անվա-նումը | F8: Նկարագրու-թյունը | G8: Տեսակը | J8: Առաջին եռամսյակ | K8: Առաջին կիսամյակ | L8: Ինն ամիս | M8: Տարի
A9: ԸՆԴԱՄԵՆԸ | J9: =J10+J35+J41 -> 0 | K9: =K10+K35+K41 -> 0 | L9: =L10+L35+L41 -> 0 | M9: =M10+M35+M41 -> 0 | O9: =+L9-'2'!J8 -> 0 | P9: =+M9-'2'!K8 -> 0
A10: ՀՀ տարածքային կառավարման և ենթակառուցվածքների նախարարություն | J10: =J11+J20+J25 -> -720 | K10: =K11+K20+K25 -> -720 | L10: =L11+L20+L25 -> -720 | M10: =M11+M20+M25 -> -720
B11: 1004 | C11: Ոռոգման համակարգի առողջացում | J11: =J12+J16 -> 62838.5 | K11: =K12+K16 -> 62838.5 | L11: =L12+L16 -> 0 | M11: =M12+M16 -> 0 | O11: =+'2'!J57 -> 0 | P11: =+'2'!K57 -> 0
D12: 1004 - 12002 | E12: Գերմանիայի զարգացման բանկի աջակցությամբ իրականացվող Ախուրյան գետի ջրային ռեսուրսների ինտեգրված կառավարման փուլ 1 ծրագրով Ջրաձոր գյուղի վերաբնակեցման համար ենթակառուցվածքների և բնակելի տների կառուցում | J12: 0 | K12: 0 | L12: ='2'!J59 -> -62838.5 | M12: ='2'!K59 -> -62838.5
F13: Գերմանիայի զարգացման բանկի աջակցությամբ իրականացվող Ախուրյան գետի ջրային ռեսուրսների ինտեգրված կառավարման փուլ 1 ծրագիր
G14: Տրանսֆերտների տրամադրում
H15: Շահառուների ընտրության չափորոշիչները` Տրանսֆերտների տրամադրում
D16: 1004 - 31005 | E16: =+'4.'!D26 -> Եվրասիական զարգացման բանկի աջակցությամբ իրականացվող ոռոգման համակարգերի զարգացման ծրագրի շրջանակներում ջրային տնտեսության ենթակառուցվածքների հիմնանորոգում | J16: ='2'!H68 -> 62838.5 | K16: ='2'!I68 -> 62838.5 | L16: ='2'!J68 -> 62838.5 | M16: ='2'!K68 -> 62838.5 | O16: =+#REF!-#REF! -> #REF! | P16: =+#REF!-#REF! -> #REF!
F17: Եվրասիական զարգացման բանկի աջակցությամբ իրականացվող ոռոգման համակարգերի զարգացման ծրագիր
G18: Պետական մարմինների կողմից օգտագործվող ոչ ֆինանսական ակտիվների հետ գործառնություններ
H19: Ակտիվն օգտագործող կազմակերպության անվանումը` Մասնագիտացված միավոր
B20: 1167 | C20: Էլեկտրաէներգետիկ համակարգի զարգացման ծրագիր | J20: =J21 -> -62838.5 | K20: =K21 -> -62838.5 | L20: =L21 -> 0 | M20: =M21 -> 0
D21: 1167 - 11007 | E21: Հայաստանի Հանրապետությունում նոր ատոմային էներգաբլոկի (էներգաբլոկների) կառուցման ծրագրի կառավարում | J21: ='2'!H83 -> -62838.5 | K21: ='2'!I83 -> -62838.5 | L21: ='2'!J83 -> 0 | M21: ='2'!K83 -> 0
F22: Հայաստանի Հանրապետությունում նոր ատոմային էներգաբլոկի (էներգաբլոկների) կառուցման աշխատանքների նախապատրաստում և իրականացում
G23: Ծառայությունների մատուցում
H24: Ծառայությունը մատուցողի անվանումը` «Նոր ատոմային էներգաբլոկի կառուցում» ՓԲԸ
B25: 1212 | C25: Տարածքային զարգացում | J25: =J26+J31 -> -720 | K25: =K26+K31 -> -720 | L25: =L26+L31 -> -720 | M25: =M26+M31 -> -720
D26: 1212-12030 | E26: Լեռնային Ղարաբաղից Հայաստանի Հանրապետություն բռնի տեղահանված անձանց համար առաջնային անհրաժեշտության ապրանքների և ծառայությունների տրամադրում | J26: ='1'!H18 -> 6721.3 | K26: ='1'!I18 -> 6721.3 | L26: ='1'!J18 -> 6721.3 | M26: ='1'!K18 -> 6721.3
F27: Լեռնային Ղարաբաղից Հայաստանի Հանրապետություն բռնի տեղահանված անձանց պարենային և ոչ պարենային ապրանքներով ապահովում և հյուրանոցային ծախսերի փոխհատուցում
G28: Տրանսֆերտների տրամադրում
H29: Աջակցության կարիք ունեցող ֆիզիկական անձինք
I30: Աջակցություն ստացող բռնի տեղահանված անձանց թիվ | K30: 47 | M30: 47
D31: 1212 - 32001 | E31: ՀՀ մարզերում առաջնահերթ լուծում պահանջող անհետաձգելի ծրագրերի իրականացում | J31: ='2'!H40 -> -7441.3 | K31: ='2'!I40 -> -7441.3 | L31: ='2'!J40 -> -7441.3 | M31: ='2'!K40 -> -7441.3
F32: ՀՀ մարզերում առաջնահերթ լուծում պահանջող անհետաձգելի ծրագրերի իրականացում, որի արդյունքում լուծում կտրվի մարզային ենթակայության կազմակերպությունների և համայնքային նշանակություն ունեցող հիմնախնդիրներին
G33: Այլ պետական կազմակերպությունների կողմից օգտագործվող ոչ ֆինանսական ակտիվների հետ գործառնություններ
H34: Ակտիվն օգտագործող կազմակերպության անվանումը` ՀՀ համայնքներ
A35: ՀՀ Կոտայքի մարզպետի աշխատակազմ | J35: =J36 -> 720 | K35: =K36 -> 720 | L35: =L36 -> 720 | M35: =M36 -> 720
B36: 1037 | C36: ՀՀ Կոտայքի մարզում տարածքային պետական կառավարում | J36: =J37 -> 720 | K36: =K37 -> 720 | L36: =L37 -> 720 | M36: =M37 -> 720
D37: 1037 - 11001 | E37: ՀՀ Կոտայքի մարզպետի աշխատակազմի կողմից տարածքային պետական կառավարման ապահովում | J37: ='1'!H21 -> 720 | K37: ='1'!I21 -> 720 | L37: ='1'!J21 -> 720 | M37: ='1'!K21 -> 720
F38: Մարզպետի աշխատակազմի ենթակայության հիմնարկների կառավարում, կրթության, ճանապարհաշինության, քաղաքաշինության և այլ ոլորտներում հասարակական պատվերի տեղաբաշխում, տնտեսության և սոցիալական տարբեր ոլորտներում մարզային միջոցառումների համակարգում
G39: Ծառայությունների մատուցում
H40: Ծառայությունը մատուցողի անվանումը` ՀՀ Կոտայքի մարզպետի աշխատակազմ
A41: ՀՀ կառավարություն | J41: 0 | K41: 0 | L41: 0 | M41: 0
B42: 1139 | C42: ՀՀ կառավարության պահուստային ֆոնդ | J42: 0 | K42: 0 | L42: 0 | M42: 0
D43: 1139 - 11001 | E43: ՀՀ կառավարության պահուստային ֆոնդ | J43: =-J47 -> -70279.8 | K43: =-K47 -> -70279.8 | L43: =-L47 -> -70279.8 | M43: =-M47 -> -70279.8
F44: ՀՀ պետական բյուջեում նախատեսված ելքերի լրացուցիչ ֆինանսավորման, պետական բյուջեում չկանխատեսված ելքերի, ինչպես նաև բյուջետային երաշխիքների ապահովման ելքերի ֆինանսավորման ապահովում
G45: Ծառայությունների մատուցում
H46: Ծառայությունը մատուցողի անվանումը` ՀՀ կառավարություն
D47: 1139 - 11001 | E47: ՀՀ կառավարության պահուստային ֆոնդ | J47: ='2'!H133 -> 70279.8 | K47: ='2'!I133 -> 70279.8 | L47: ='2'!J133 -> 70279.8 | M47: ='2'!K133 -> 70279.8
F48: ՀՀ պետական բյուջեում նախատեսված ելքերի լրացուցիչ ֆինանսավորման, պետական բյուջեում չկանխատեսված ելքերի, ինչպես նաև բյուջետային երաշխիքների ապահովման ելքերի ֆինանսավորման ապահովում
G49: Ծառայությունների մատուցում
H50: Ծառայությունը մատուցողի անվանումը` ՀՀ կառավարություն
B52: ՀԱՅԱՍՏԱՆԻ ՀԱՆՐԱՊԵՏՈՒԹՅԱՆ ՎԱՐՉԱՊԵՏԻ ԱՇԽԱՏԱԿԱԶՄԻ ՂԵԿԱՎԱՐ՝ | E52: Ա.ՀԱՐՈՒԹՅՈՒՆՅԱՆ

Sheet 7.
B1: Հավելված N 7
B2: ՀՀ կառավարության 2026 թվականի
B3: -ի N -Ն որոշման
B5: ՀԱՅԱՍՏԱՆԻ ՀԱՆՐԱՊԵՏՈՒԹՅԱՆ ԿԱՌԱՎԱՐՈՒԹՅԱՆ 2025 ԹՎԱԿԱՆԻ ԴԵԿՏԵՄԲԵՐԻ 25-Ի N 1910-Ն ՈՐՈՇՄԱՆ N 9.1 ՀԱՎԵԼՎԱԾՈՒՄ ԿԱՏԱՐՎՈՂ ՓՈՓՈԽՈՒԹՅՈՒՆՆԵՐԸ ԵՎ ԼՐԱՑՈՒՄՆԵՐԸ
N6: հազար դրամներով
B7: ԲՍԿ | C7: Ծրագիր | E7: Միջոցառում | I7: Իրականացնողը/ ակտիվն օգտագործողը/ շահառուի ընտրության չափորոշիչը | J7: Արդյունքային չափորոշիչը | K7: Ցուցանիշների փոփոխությունը (ավելացումները նշված են դրական նշանով, իսկ նվազեցումները՝ փակագծերում)
C8: Դասիչը | D8: Անվանումը | E8: Դասիչը | F8: Անվանումը | G8: Նկարագրությունը | H8: Տեսակը | K8: Առաջին եռամսյակ | L8: Առաջին կիսամյակ | M8: Ինն ամիս | N8: Տարի
B9: ԸՆԴԱՄԵՆԸ | K9: =K10+K16+K45+K38+K26 -> 0 | L9: =L10+L16+L45+L38+L26 -> 0 | M9: =M10+M16+M45+M38+M26 -> 0 | N9: =N10+N16+N45+N38+N26 -> 0 | P9: =+M9-'6.'!L9 -> 0 | Q9: =+N9-'6.'!M9 -> 0
B10: ՀՀ տարածքային կառավարման և ենթակառուցվածքների նախարարություն | K10: =K11 -> -62838.5 | L10: =L11 -> -62838.5 | M10: =M11 -> 0 | N10: =N11 -> 0
C11: 1167 | D11: Էլեկտրաէներգետիկ համակարգի զարգացման ծրագիր | K11: =K12 -> -62838.5 | L11: =L12 -> -62838.5 | M11: =M12 -> 0 | N11: =N12 -> 0
E12: 1167 - 11007 | F12: Հայաստանի Հանրապետությունում նոր ատոմային էներգաբլոկի (էներգաբլոկների) կառուցման ծրագրի կառավարում | K12: ='1'!H16 -> -62838.5 | L12: ='1'!I16 -> -62838.5 | M12: ='1'!J16 -> 0 | N12: ='1'!K16 -> 0
G13: Հայաստանի Հանրապետությունում նոր ատոմային էներգաբլոկի (էներգաբլոկների) կառուցման աշխատանքների նախապատրաստում և իրականացում
H14: Ծառայությունների մատուցում
I15: Ծառայությունը մատուցողի անվանումը` «Նոր ատոմային էներգաբլոկի կառուցում» ՓԲԸ
B16: ՀՀ տարածքային կառավարման և ենթակառուցվածքների նախարարության ջրային կոմիտե | K16: =K17 -> 62838.5 | L16: =L17 -> 62838.5 | M16: =M17 -> 0 | N16: =N17 -> 0
C17: 1004 | D17: Ոռոգման համակարգի առողջացում | K17: =K18+K22 -> 62838.5 | L17: =L18+L22 -> 62838.5 | M17: =M18+M22 -> 0 | N17: =N18+N22 -> 0 | P17: =+'2'!#REF! -> #REF! | Q17: =+'2'!#REF! -> #REF!
E18: 1004 - 12002 | F18: Գերմանիայի զարգացման բանկի աջակցությամբ իրականացվող Ախուրյան գետի ջրային ռեսուրսների ինտեգրված կառավարման փուլ 1 ծրագրով Ջրաձոր գյուղի վերաբնակեցման համար ենթակառուցվածքների և բնակելի տների կառուցում | K18: 0 | L18: 0 | M18: ='2'!K65 -> -62838.5 | N18: ='6.'!M12 -> -62838.5 | P18: =+#REF!-#REF! -> #REF! | Q18: =+#REF!-#REF! -> #REF!
G19: Գերմանիայի զարգացման բանկի աջակցությամբ իրականացվող Ախուրյան գետի ջրային ռեսուրսների ինտեգրված կառավարման փուլ 1 ծրագիր
H20: Տրանսֆերտների տրամադրում
I21: Շահառուների ընտրության չափորոշիչները` Տրանսֆերտների տրամադրում
E22: 1004 - 31005 | F22: Եվրասիական զարգացման բանկի աջակցությամբ իրականացվող ոռոգման համակարգերի զարգացման ծրագրի շրջանակներում ջրային տնտեսության ենթակառուցվածքների հիմնանորոգում | K22: =+'6.'!J16 -> 62838.5 | L22: =+'6.'!K16 -> 62838.5 | M22: =+'6.'!L16 -> 62838.5 | N22: =+'6.'!M16 -> 62838.5 | P22: =+#REF!-#REF! -> #REF! | Q22: =+#REF!-#REF! -> #REF!
G23: Եվրասիական զարգացման բանկի աջակցությամբ իրականացվող ոռոգման համակարգերի զարգացման ծրագիր
H24: Պետական մարմինների կողմից օգտագործվող ոչ ֆինանսական ակտիվների հետ գործառնություններ
I25: Ակտիվն օգտագործող կազմակերպության անվանումը` Մասնագիտացված միավոր
B26: ՀՀ Կոտայքի մարզպետի աշխատակազմ | K26: =K27+K32 -> 7001.7 | L26: =L27+L32 -> 7001.7 | M26: =M27+M32 -> 7001.7 | N26: =N27+N32 -> 7001.7
C27: 1037 | D27: ՀՀ Կոտայքի մարզում տարածքային պետական կառավարում | K27: =K28 -> 720 | L27: =L28 -> 720 | M27: =M28 -> 720 | N27: =N28 -> 720
E28: 1037 - 11001 | F28: ՀՀ Կոտայքի մարզպետի աշխատակազմի կողմից տարածքային պետական կառավարման ապահովում | K28: ='6.'!J37 -> 720 | L28: ='6.'!K37 -> 720 | M28: ='6.'!L37 -> 720 | N28: ='6.'!M37 -> 720
G29: Մարզպետի աշխատակազմի ենթակայության հիմնարկների կառավարում, կրթության, ճանապարհաշինության, քաղաքաշինության և այլ ոլորտներում հասարակական պատվերի տեղաբաշխում, տնտեսության և սոցիալական տարբեր ոլորտներում մարզային միջոցառումների համակարգում
H30: Ծառայությունների մատուցում
I31: Ծառայությունը մատուցողի անվանումը` ՀՀ Կոտայքի մարզպետի աշխատակազմ
C32: 1212 | D32: Տարածքային զարգացում | K32: =K33 -> 6281.7 | L32: =L33 -> 6281.7 | M32: =M33 -> 6281.7 | N32: =N33 -> 6281.7
E33: 1212-12030 | F33: Լեռնային Ղարաբաղից Հայաստանի Հանրապետություն բռնի տեղահանված անձանց համար առաջնային անհրաժեշտության ապրանքների և ծառայությունների տրամադրում | K33: ='2'!H24 -> 6281.7 | L33: ='2'!I24 -> 6281.7 | M33: ='2'!J24 -> 6281.7 | N33: ='2'!K24 -> 6281.7
G34: Լեռնային Ղարաբաղից Հայաստանի Հանրապետություն բռնի տեղահանված անձանց պարենային և ոչ պարենային ապրանքներով ապահովում և հյուրանոցային ծախսերի փոխհատուցում
H35: Տրանսֆերտների տրամադրում
I36: Աջակցության կարիք ունեցող ֆիզիկական անձինք
J37: Աջակցություն ստացող բռնի տեղահանված անձանց թիվ | L37: 7 | N37: 7
B38: ՀՀ Սյունիքի մարզպետի աշխատակազմ | K38: =K39 -> 439.6 | L38: =L39 -> 439.6 | M38: =M39 -> 439.6 | N38: =N39 -> 439.6
C39: 1212 | D39: Տարածքային զարգացում | K39: =K40 -> 439.6 | L39: =L40 -> 439.6 | M39: =M40 -> 439.6 | N39: =N40 -> 439.6
E40: 1212-12030 | F40: Լեռնային Ղարաբաղից Հայաստանի Հանրապետություն բռնի տեղահանված անձանց համար առաջնային անհրաժեշտության ապրանքների և ծառայությունների տրամադրում | K40: ='2'!H33 -> 439.6 | L40: ='2'!I33 -> 439.6 | M40: ='2'!J33 -> 439.6 | N40: ='2'!K33 -> 439.6
G41: Լեռնային Ղարաբաղից Հայաստանի Հանրապետություն բռնի տեղահանված անձանց պարենային և ոչ պարենային ապրանքներով ապահովում և հյուրանոցային ծախսերի փոխհատուցում
H42: Տրանսֆերտների տրամադրում
I43: Աջակցության կարիք ունեցող ֆիզիկական անձինք
J44: Աջակցություն ստացող բռնի տեղահանված անձանց թիվ | L44: 40 | N44: 40
B45: ՀՀ կառավարություն | K45: =K46+K55 -> -7441.3 | L45: =L46+L55 -> -7441.3 | M45: =M46+M55 -> -7441.3 | N45: =N46+N55 -> -7441.3
C46: 1139 | D46: ՀՀ կառավարության պահուստային ֆոնդ | K46: =K47+K51 -> 0 | L46: =L47+L51 -> 0 | M46: =M47+M51 -> 0 | N46: =N47+N51 -> 0
E47: 1139 - 11001 | F47: ՀՀ կառավարության պահուստային ֆոնդ | K47: ='6.'!J43 -> -70279.8 | L47: ='6.'!K43 -> -70279.8 | M47: ='6.'!L43 -> -70279.8 | N47: ='6.'!M43 -> -70279.8
G48: ՀՀ պետական բյուջեում նախատեսված ելքերի լրացուցիչ ֆինանսավորման, պետական բյուջեում չկանխատեսված ելքերի, ինչպես նաև բյուջետային երաշխիքների ապահովման ելքերի ֆինանսավորման ապահովում
H49: Ծառայությունների մատուցում
I50: Ծառայությունը մատուցողի անվանումը` ՀՀ կառավարություն
E51: 1139 - 11001 | F51: ՀՀ կառավարության պահուստային ֆոնդ | K51: ='6.'!J47 -> 70279.8 | L51: ='6.'!K47 -> 70279.8 | M51: ='6.'!L47 -> 70279.8 | N51: ='6.'!M47 -> 70279.8
G52: ՀՀ պետական բյուջեում նախատեսված ելքերի լրացուցիչ ֆինանսավորման, պետական բյուջեում չկանխատեսված ելքերի, ինչպես նաև բյուջետային երաշխիքների ապահովման ելքերի ֆինանսավորման ապահովում
H53: Ծառայությունների մատուցում
I54: Ծառայությունը մատուցողի անվանումը` ՀՀ կառավարություն
C55: 1212 | D55: Տարածքային զարգացում | K55: =K56 -> -7441.3 | L55: =L56 -> -7441.3 | M55: =M56 -> -7441.3 | N55: =N56 -> -7441.3
E56: 1212 - 32001 | F56: ՀՀ մարզերում առաջնահերթ լուծում պահանջող անհետաձգելի ծրագրերի իրականացում | K56: ='1'!H19 -> -7441.3 | L56: ='1'!I19 -> -7441.3 | M56: ='1'!J19 -> -7441.3 | N56: ='1'!K19 -> -7441.3
G57: ՀՀ մարզերում առաջնահերթ լուծում պահանջող անհետաձգելի ծրագրերի իրականացում, որի արդյունքում լուծում կտրվի մարզային ենթակայության կազմակերպությունների և համայնքային նշանակություն ունեցող հիմնախնդիրներին
H58: Այլ պետական կազմակերպությունների կողմից օգտագործվող ոչ ֆինանսական ակտիվների հետ գործառնություններ
I59: Ակտիվն օգտագործող կազմակերպության անվանումը` ՀՀ համայնքներ
B63: ՀԱՅԱՍՏԱՆԻ ՀԱՆՐԱՊԵՏՈՒԹՅԱՆ ՎԱՐՉԱՊԵՏԻ ԱՇԽԱՏԱԿԱԶՄԻ ՂԵԿԱՎԱՐ՝ | E63: Ա.ՀԱՐՈՒԹՅՈՒՆՅԱՆ

Sheet 8..
E1: Հավելված N 8
B2: ՀՀ կառավարության 2026 թվականի
B3: ______________ ի ___Ն որոշման
B5: ՀԱՅԱՍՏԱՆԻ ՀԱՆՐԱՊԵՏՈՒԹՅԱՆ ԿԱՌԱՎԱՐՈՒԹՅԱՆ 2025 ԹՎԱԿԱՆԻ ԴԵԿՏԵՄԲԵՐԻ 25-Ի N 1910-Ն ՈՐՈՇՄԱՆ N 10 ՀԱՎԵԼՎԱԾՈՒՄ ԿԱՏԱՐՎՈՂ ԼՐԱՑՈՒՄՆԵՐԸ
B7: Կոդը | C7: Անվանումը | F7: Գնման ձևը | G7: Չափման միավորը | H7: Միավորի գինը | I7: Ցուցանիշների փոփոխությունը (ավելացումները նշված են դրական նշանով)
I8: Քանակը | J8: Գումարը (հազար դրամով)
B9: 1 | C9: 2 | F9: 3 | G9: 4 | H9: 5 | I9: 6 | J9: 7
B10: ԸՆԴԱՄԵՆԸ | J10: =J11+J17 -> 6721.3
B11: ՀՀ Սյունիքի մարզպետի աշխատակազմ | J11: =J12 -> 439.6
B12: Բաժին N 01 | C12: Խումբ N 08 | D12: Դաս N 01 | E12: Կառավարության տարբեր մակարդակների միջեւ իրականացվող ընդհանուր բնույթի տրանսֆերտներ | J12: =J13 -> 439.6
B13: 1212/12030 | C13: Լեռնային Ղարաբաղից Հայաստանի Հանրապետություն բռնի տեղահանված անձանց համար առաջնային անհրաժեշտության ապրանքների և ծառայությունների տրամադրում | J13: =J14 -> 439.6
C14: ՄԱՍ III. ԾԱՌԱՅՈՒԹՅՈՒՆՆԵՐ | J14: =J15 -> 439.6
B15: 55521400/1 | C15: Ճաշկերույթների կազմակերպում | F15: ՀՄԱ | G15: դրամ | H15: =J15*1000 -> 439600 | I15: 1 | J15: ='2'!K39 -> 439.6
B16: ՀՀ Կոտայքի մարզպետի աշխատակազմ | J16: =J17 -> 6281.7
B17: Բաժին N 01 | C17: Խումբ N 08 | D17: Դաս N 01 | E17: Կառավարության տարբեր մակարդակների միջեւ իրականացվող ընդհանուր բնույթի տրանսֆերտներ | J17: =J18 -> 6281.7
B18: 1212/12030 | C18: Լեռնային Ղարաբաղից Հայաստանի Հանրապետություն բռնի տեղահանված անձանց համար առաջնային անհրաժեշտության ապրանքների և ծառայությունների տրամադրում | J18: =J19 -> 6281.7
C19: ՄԱՍ III. ԾԱՌԱՅՈՒԹՅՈՒՆՆԵՐ | J19: =J20+J21 -> 6281.7
B20: 55111300/1 | C20: Այլ հյուրանոցային ծառայություններ | F20: ՀՄԱ | G20: դրամ | H20: =J20*1000 -> 5952000 | I20: 1 | J20: ='2'!K30 -> 5952
B21: 55911100/1 | C21: Մանրածախ առևտրի ծառայություններ | F21: ՀՄԱ | G21: դրամ | H21: =J21*1000 -> 329700 | I21: 1 | J21: ='2'!K31 -> 329.7
C27: ՀԱՅԱՍՏԱՆԻ ՀԱՆՐԱՊԵՏՈՒԹՅԱՆ ՎԱՐՉԱՊԵՏԻ ԱՇԽԱՏԱԿԱԶՄԻ ՂԵԿԱՎԱՐ | H27: Ա.ՀԱՐՈՒԹՅՈՒՆՅԱՆ

Sheet 9.
J1: Հավելված N 9
F2: ՀՀ կառավարության 2026 թվականի
J3: N ------------ -Ն որոշման
A4: ՀԱՅԱՍՏԱՆԻ ՀԱՆՐԱՊԵՏՈՒԹՅԱՆ 2026 ԹՎԱԿԱՆԻ ՊԵՏԱԿԱՆ ԲՅՈՒՋԵՈՎ ՆԱԽԱՏԵՍՎԱԾ՝ ՀԱՅԱՍՏԱՆԻ ՀԱՆՐԱՊԵՏՈՒԹՅԱՆ ԿԱՌԱՎԱՐՈՒԹՅԱՆ ՊԱՀՈՒՍՏԱՅԻՆ ՖՈՆԴԻՑ ՀԱՏԿԱՑՈՒՄՆԵՐ ԿԱՏԱՐԵԼՈՒ ՎԵՐԱԲԵՐՅԱԼ
J6: հազար դրամներով
A7: Գործառական դասիչը | D7: Ծրագրային դասիչը | F7: Բյուջետային հատկացումների գլխավոր կարգադրիչների, ծրագրերի, միջոցառումների և միջոցառումները կատարող պետական մարմինների անվանումները | G7: Ցուցանիշների փոփոխությունը (ավելացումները նշված են դրական նշանով, իսկ նվազեցումները` փակագծերում)
A8: Բաժին | B8: Խումբ | C8: Դաս | D8: Ծրագիր | E8: Միջոցառում | G8: Առաջին եռամսյակ | H8: Առաջին կիսամյակ | I8: Ինն ամիս | J8: Տարի
F9: ԸՆԴԱՄԵՆԸ | G9: =G11+G81+G60 -> 0 | H9: =H11+H81+H60 -> 0 | I9: =I11+I81+I60 -> 0 | J9: =J11+J81+J60 -> 0
F10: այդ թվում՝
F11: ՀՀ տարածքային կառավարման և ենթակառուցվածքների նախարարություն | G11: =G13+G41 -> 69559.8 | H11: =H13+H41 -> 69559.8 | I11: =I13+I41 -> 69559.8 | J11: =J13+J41 -> 69559.8
F12: այդ թվում`
A13: 01 | F13: ԸՆԴՀԱՆՈՒՐ ԲՆՈՒՅԹԻ ՀԱՆՐԱՅԻՆ ԾԱՌԱՅՈՒԹՅՈՒՆՆԵՐ | G13: =G15 -> 6721.3 | H13: =H15 -> 6721.3 | I13: =I15 -> 6721.3 | J13: =J15 -> 6721.3
F14: այդ թվում`
B15: 08 | F15: Կառավարության տարբեր մակարդակների միջև իրականացվող ընդհանուր բնույթի տրանսֆերտներ | G15: =G17 -> 6721.3 | H15: =H17 -> 6721.3 | I15: =I17 -> 6721.3 | J15: =J17 -> 6721.3
F16: այդ թվում`
C17: 01 | F17: Կառավարության տարբեր մակարդակների միջև իրականացվող ընդհանուր բնույթի տրանսֆերտներ | G17: =G21 -> 6721.3 | H17: =H21 -> 6721.3 | I17: =I21 -> 6721.3 | J17: =J21 -> 6721.3
F18: այդ թվում`
F19: ՀՀ տարածքային կառավարման և ենթակառուցվածքների նախարարություն | G19: =G21 -> 6721.3 | H19: =H21 -> 6721.3 | I19: =I21 -> 6721.3 | J19: =J21 -> 6721.3
F20: այդ թվում`
D21: 1212 | F21: Տարածքային զարգացում | G21: =G23 -> 6721.3 | H21: =H23 -> 6721.3 | I21: =I23 -> 6721.3 | J21: =J23 -> 6721.3
F22: այդ թվում`
E23: 12030 | F23: Լեռնային Ղարաբաղից Հայաստանի Հանրապետություն բռնի տեղահանված անձանց համար առաջնային անհրաժեշտության ապրանքների և ծառայությունների տրամադրում | G23: =G25+G34 -> 6721.3 | H23: =H25+H34 -> 6721.3 | I23: =I25+I34 -> 6721.3 | J23: =J25+J34 -> 6721.3
F24: այդ թվում` ըստ կատարողների
F25: ՀՀ Կոտայքի մարզպետի աշխատակազմ | G25: =G27 -> 6281.7 | H25: =H27 -> 6281.7 | I25: =I27 -> 6281.7 | J25: =J27 -> 6281.7
F26: այդ թվում` բյուջետային ծախսերի տնտեսագիտական դասակարգման հոդվածներ
F27: ԸՆԴԱՄԵՆԸ ԾԱԽՍԵՐ | G27: =G28 -> 6281.7 | H27: =H28 -> 6281.7 | I27: =I28 -> 6281.7 | J27: =J28 -> 6281.7
F28: ԸՆԹԱՑԻԿ ԾԱԽՍԵՐ | G28: =G29 -> 6281.7 | H28: =H29 -> 6281.7 | I28: =I29 -> 6281.7 | J28: =J29 -> 6281.7
F29: ԾԱՌԱՅՈՒԹՅՈՒՆՆԵՐԻ ԵՎ ԱՊՐԱՆՔՆԵՐԻ ՁԵՌՔԲԵՐՈՒՄ | G29: =G30+G32 -> 6281.7 | H29: =H30+H32 -> 6281.7 | I29: =I30+I32 -> 6281.7 | J29: =J30+J32 -> 6281.7
F30: Պայմանագրային այլ ծառայությունների ձեռքբերում | G30: =G31 -> 5952 | H30: =H31 -> 5952 | I30: =I31 -> 5952 | J30: =J31 -> 5952
F31: - Ընդհանուր բնույթի այլ ծառայություններ | G31: 5952 | H31: =G31 -> 5952 | I31: =H31 -> 5952 | J31: =I31 -> 5952
F32: Նյութեր (Ապրանքներ) | G32: =G33 -> 329.7 | H32: =H33 -> 329.7 | I32: =I33 -> 329.7 | J32: =J33 -> 329.7
F33: - Գրասենյակային նյութեր և հագուստ | G33: =329.7 -> 329.7 | H33: =329.7 -> 329.7 | I33: =329.7 -> 329.7 | J33: =329.7 -> 329.7
F34: ՀՀ Սյունիքի մարզպետի աշխատակազմ | G34: =G36 -> 439.6 | H34: =H36 -> 439.6 | I34: =I36 -> 439.6 | J34: =J36 -> 439.6
F35: այդ թվում` բյուջետային ծախսերի տնտեսագիտական դասակարգման հոդվածներ
F36: ԸՆԴԱՄԵՆԸ ԾԱԽՍԵՐ | G36: =G37 -> 439.6 | H36: =H37 -> 439.6 | I36: =I37 -> 439.6 | J36: =J37 -> 439.6
F37: ԸՆԹԱՑԻԿ ԾԱԽՍԵՐ | G37: =G38 -> 439.6 | H37: =H38 -> 439.6 | I37: =I38 -> 439.6 | J37: =J38 -> 439.6
F38: ԾԱՌԱՅՈՒԹՅՈՒՆՆԵՐԻ ԵՎ ԱՊՐԱՆՔՆԵՐԻ ՁԵՌՔԲԵՐՈՒՄ | G38: =G39 -> 439.6 | H38: =H39 -> 439.6 | I38: =I39 -> 439.6 | J38: =J39 -> 439.6
F39: Պայմանագրային այլ ծառայությունների ձեռքբերում | G39: =G40 -> 439.6 | H39: =H40 -> 439.6 | I39: =I40 -> 439.6 | J39: =J40 -> 439.6
F40: - Կենցաղային և հանրային սննդի ծառայություններ | G40: 439.6 | H40: =G40 -> 439.6 | I40: =H40 -> 439.6 | J40: =I40 -> 439.6
A41: 04 | F41: ՏՆՏԵՍԱԿԱՆ ՀԱՐԱԲԵՐՈՒԹՅՈՒՆՆԵՐ | G41: 62838.5 | H41: 62838.5 | I41: 62838.5 | J41: 62838.5
F42: այդ թվում`
B43: 02 | F43: Գյուղատնտեսություն, անտառային տնտեսություն, ձկնորսություն և որսորդություն | G43: 62838.5 | H43: 62838.5 | I43: 62838.5 | J43: 62838.5
F44: այդ թվում`
C45: 04 | F45: Ոռոգում | G45: 62838.5 | H45: 62838.5 | I45: 62838.5 | J45: 62838.5
F46: այդ թվում`
F47: ՀՀ տարածքային կառավարման և ենթակառուցվածքների նախարարություն | G47: 62838.5 | H47: 62838.5 | I47: 62838.5 | J47: 62838.5
F48: այդ թվում`
D49: 1004 | F49: Ոռոգման համակարգի առողջացում | G49: 62838.5 | H49: 62838.5 | I49: 62838.5 | J49: 62838.5
F50: այդ թվում`
E51: 31005 | F51: Եվրասիական զարգացման բանկի աջակցությամբ իրականացվող ոռոգման համակարգերի զարգացման ծրագրի շրջանակներում ջրային տնտեսության ենթակառուցվածքների հիմնանորոգում | G51: 62838.5 | H51: 62838.5 | I51: 62838.5 | J51: 62838.5
F52: այդ թվում` ըստ կատարողների
F53: ՀՀ տարածքային կառավարման և ենթակառուցվածքների նախարարության ջրային կոմիտե | G53: 62838.5 | H53: 62838.5 | I53: 62838.5 | J53: 62838.5
F54: այդ թվում` բյուջետային ծախսերի տնտեսագիտական դասակարգման հոդվածներ
F55: ԸՆԴԱՄԵՆԸ ԾԱԽՍԵՐ | G55: 62838.5 | H55: 62838.5 | I55: 62838.5 | J55: 62838.5
F56: ՈՉ ՖԻՆԱՆՍԱԿԱՆ ԱԿՏԻՎՆԵՐԻ ԳԾՈՎ ԾԱԽՍԵՐ | G56: 62838.5 | H56: 62838.5 | I56: 62838.5 | J56: 62838.5
F57: ՀԻՄՆԱԿԱՆ ՄԻՋՈՑՆԵՐ | G57: 62838.5 | H57: 62838.5 | I57: 62838.5 | J57: 62838.5
F58: ՇԵՆՔԵՐ ԵՎ ՇԻՆՈՒԹՅՈՒՆՆԵՐ | G58: 62838.5 | H58: 62838.5 | I58: 62838.5 | J58: 62838.5
F59: - Շենքերի և շինությունների շինարարություն | G59: 62838.5 | H59: 62838.5 | I59: 62838.5 | J59: 62838.5
F60: ՀՀ Կոտայքի մարզպետի աշխատակազմ | G60: =G62 -> 720 | H60: =H62 -> 720 | I60: =I62 -> 720 | J60: =J62 -> 720
F61: այդ թվում`
A62: 01 | F62: ԸՆԴՀԱՆՈՒՐ ԲՆՈՒՅԹԻ ՀԱՆՐԱՅԻՆ ԾԱՌԱՅՈՒԹՅՈՒՆՆԵՐ | G62: =G64 -> 720 | H62: =H64 -> 720 | I62: =I64 -> 720 | J62: =J64 -> 720
F63: այդ թվում`
B64: 01 | F64: Օրենսդիր և գործադիր մարմիններ, պետական կառավարում, ֆինանսական և հարկաբյուջետային հարաբերություններ, արտաքին հարաբերություններ | G64: =G66 -> 720 | H64: =H66 -> 720 | I64: =I66 -> 720 | J64: =J66 -> 720
F65: այդ թվում`
C66: 01 | F66: Օրենսդիր և գործադիր մարմիններ, պետական կառավարում | G66: =G70 -> 720 | H66: =H70 -> 720 | I66: =I70 -> 720 | J66: =J70 -> 720
F67: այդ թվում`
F68: ՀՀ Կոտայքի մարզպետի աշխատակազմ | G68: =G70 -> 720 | H68: =H70 -> 720 | I68: =I70 -> 720 | J68: =J70 -> 720
F69: այդ թվում`
D70: 1037 | F70: ՀՀ Կոտայքի մարզում տարածքային պետական կառավարում | G70: =G72 -> 720 | H70: =H72 -> 720 | I70: =I72 -> 720 | J70: =J72 -> 720
F71: այդ թվում`
E72: 11001 | F72: ՀՀ Կոտայքի մարզպետի աշխատակազմի կողմից տարածքային պետական կառավարման ապահովում | G72: =G74 -> 720 | H72: =H74 -> 720 | I72: =I74 -> 720 | J72: =J74 -> 720
F73: այդ թվում` ըստ կատարողների
F74: ՀՀ Կոտայքի մարզպետի աշխատակազմ | G74: =G76 -> 720 | H74: =H76 -> 720 | I74: =I76 -> 720 | J74: =J76 -> 720
F75: այդ թվում` բյուջետային ծախսերի տնտեսագիտական դասակարգման հոդվածներ
F76: ԸՆԴԱՄԵՆԸ ԾԱԽՍԵՐ | G76: =G77 -> 720 | H76: =H77 -> 720 | I76: =I77 -> 720 | J76: =J77 -> 720
F77: ԸՆԹԱՑԻԿ ԾԱԽՍԵՐ | G77: =G78 -> 720 | H77: =H78 -> 720 | I77: =I78 -> 720 | J77: =J78 -> 720
F78: ՍՈՑԻԱԼԱԿԱՆ ՆՊԱՍՏՆԵՐ ԵՎ ԿԵՆՍԱԹՈՇԱԿՆԵՐ | G78: =G79 -> 720 | H78: =H79 -> 720 | I78: =I79 -> 720 | J78: =J79 -> 720
F79: Սոցիալական օգնության դրամական արտահայտությամբ նպաստներ (բյուջեից) | G79: =G80 -> 720 | H79: =H80 -> 720 | I79: =I80 -> 720 | J79: =J80 -> 720
F80: - Այլ նպաստներ բյուջեից | G80: 720 | H80: =G80 -> 720 | I80: =H80 -> 720 | J80: =I80 -> 720
F81: ՀՀ կառավարություն | G81: =G83 -> -70279.8 | H81: =H83 -> -70279.8 | I81: =I83 -> -70279.8 | J81: =J83 -> -70279.8
F82: այդ թվում`
A83: 11 | F83: ՀԻՄՆԱԿԱՆ ԲԱԺԻՆՆԵՐԻՆ ՉԴԱՍՎՈՂ ՊԱՀՈՒՍՏԱՅԻՆ ՖՈՆԴԵՐ | G83: =G85 -> -70279.8 | H83: =H85 -> -70279.8 | I83: =I85 -> -70279.8 | J83: =J85 -> -70279.8
F84: այդ թվում`
B85: 01 | F85: ՀՀ կառավարության և համայնքների պահուստային ֆոնդ | G85: =G87 -> -70279.8 | H85: =H87 -> -70279.8 | I85: =I87 -> -70279.8 | J85: =J87 -> -70279.8
F86: այդ թվում`
C87: 01 | F87: ՀՀ կառավարության պահուստային ֆոնդ | G87: =G89 -> -70279.8 | H87: =H89 -> -70279.8 | I87: =I89 -> -70279.8 | J87: =J89 -> -70279.8
F88: այդ թվում`
F89: ՀՀ կառավարություն | G89: =G91 -> -70279.8 | H89: =H91 -> -70279.8 | I89: =I91 -> -70279.8 | J89: =J91 -> -70279.8
F90: այդ թվում`
D91: 1139 | F91: ՀՀ կառավարության պահուստային ֆոնդ | G91: =G93 -> -70279.8 | H91: =H93 -> -70279.8 | I91: =I93 -> -70279.8 | J91: =J93 -> -70279.8
F92: այդ թվում`
E93: 11001 | F93: ՀՀ կառավարության պահուստային ֆոնդ | G93: =G95 -> -70279.8 | H93: =H95 -> -70279.8 | I93: =I95 -> -70279.8 | J93: =J95 -> -70279.8
F94: այդ թվում` ըստ կատարողների
F95: ՀՀ կառավարություն | G95: =G97 -> -70279.8 | H95: =H97 -> -70279.8 | I95: =I97 -> -70279.8 | J95: =J97 -> -70279.8
F96: այդ թվում` բյուջետային ծախսերի տնտեսագիտական դասակարգման հոդվածների
F97: ԸՆԴԱՄԵՆԸ ԾԱԽՍԵՐ | G97: =G98 -> -70279.8 | H97: =H98 -> -70279.8 | I97: =I98 -> -70279.8 | J97: =J98 -> -70279.8
F98: ԸՆԹԱՑԻԿ ԾԱԽՍԵՐ | G98: =G99 -> -70279.8 | H98: =H99 -> -70279.8 | I98: =I99 -> -70279.8 | J98: =J99 -> -70279.8
F99: ԱՅԼ ԾԱԽՍԵՐ | G99: =G100 -> -70279.8 | H99: =H100 -> -70279.8 | I99: =I100 -> -70279.8 | J99: =J100 -> -70279.8
F100: Պահուստային միջոցներ | G100: =-G72-G11 -> -70279.8 | H100: =G100 -> -70279.8 | I100: =H100 -> -70279.8 | J100: =I100 -> -70279.8
B103: ՀԱՅԱՍՏԱՆԻ ՀԱՆՐԱՊԵՏՈՒԹՅԱՆ
...

Sheet 8
A1: Հավելված N 8
A2: ՀՀ կառավարության 2026 թվականի
A3: -ի N -Ն որոշման
A5: ՀԱՅԱՍՏԱՆԻ ՀԱՆՐԱՊԵՏՈՒԹՅԱՆ ԿԱՌԱՎԱՐՈՒԹՅԱՆ ՊԱՀՈՒՍՏԱՅԻՆ ՖՈՆԴԻՑ ԿԱՏԱՐՎՈՂ ՀԱՏԿԱՑՈՒՄԸ
I6: հազար դրամներով
A8: Գործառական դասիչը | D8: Ծրագրային դասիչը | F8: Բյուջետային ծախսերի գործառական դասակարգման բաժինների, խմբերի և դասերի, բյուջետային ծրագրերի միջոցառումների, բյուջետային հատկացումների գլխավոր կարգադրիչների անվանումները | G8: Ցուցանիշների փոփոխությունը (ավելացումները նշված են դրական նշանով, իսկ նվազեցումները՝ փակագծերում)
G9: Առաջին եռամսյակ | H9: Առաջին կիսամյակ | I9: Ինն ամիս | J9: Տարի
A10: Բաժին | B10: Խումբ | C10: Դաս | D10: Ծրագիր | E10: Միջոցառում
F11: ԸՆԴԱՄԵՆԸ ԾԱԽՍԵՐ | G11: =G13+G33 -> #REF! | H11: =H13+H33 -> #REF! | I11: =I13+I33 -> #REF! | J11: =J13+J33 -> #REF!
F12: այդ թվում`
F13: ՀՀ կառավարություն | G13: =G15 -> #REF! | H13: =H15 -> #REF! | I13: =I15 -> #REF! | J13: =J15 -> #REF!
F14: այդ թվում`
A15: 11 | F15: ՀԻՄՆԱԿԱՆ ԲԱԺԻՆՆԵՐԻՆ ՉԴԱՍՎՈՂ ՊԱՀՈՒՍՏԱՅԻՆ ՖՈՆԴԵՐ | G15: =G17 -> #REF! | H15: =H17 -> #REF! | I15: =I17 -> #REF! | J15: =J17 -> #REF!
F16: այդ թվում`
B17: 01 | F17: ՀՀ կառավարության և համայնքների պահուստային ֆոնդ | G17: =G19 -> #REF! | H17: =H19 -> #REF! | I17: =I19 -> #REF! | J17: =J19 -> #REF!
F18: այդ թվում`
C19: 01 | F19: ՀՀ կառավարության պահուստային ֆոնդ | G19: =G21 -> #REF! | H19: =H21 -> #REF! | I19: =I21 -> #REF! | J19: =J21 -> #REF!
F20: այդ թվում`
F21: ՀՀ կառավարություն | G21: =G23 -> #REF! | H21: =H23 -> #REF! | I21: =I23 -> #REF! | J21: =J23 -> #REF!
F22: այդ թվում`
D23: 1139 | F23: ՀՀ կառավարության պահուստային ֆոնդ | G23: =G25 -> #REF! | H23: =H25 -> #REF! | I23: =I25 -> #REF! | J23: =J25 -> #REF!
F24: այդ թվում`
E25: 11001 | F25: ՀՀ կառավարության պահուստային ֆոնդ | G25: =G27 -> #REF! | H25: =H27 -> #REF! | I25: =I27 -> #REF! | J25: =J27 -> #REF!
F26: այդ թվում` ըստ կատարողների
F27: ՀՀ կառավարություն | G27: =G29 -> #REF! | H27: =H29 -> #REF! | I27: =I29 -> #REF! | J27: =J29 -> #REF!
F28: այդ թվում` բյուջետային ծախսերի տնտեսագիտական դասակարգման հոդվածներ
F29: ԸՆԴԱՄԵՆԸ ԾԱԽՍԵՐ | G29: =G30 -> #REF! | H29: =H30 -> #REF! | I29: =I30 -> #REF! | J29: =J30 -> #REF!
F30: ԸՆԹԱՑԻԿ ԾԱԽՍԵՐ | G30: =G31 -> #REF! | H30: =H31 -> #REF! | I30: =I31 -> #REF! | J30: =J31 -> #REF!
F31: ԱՅԼ ԾԱԽՍԵՐ | G31: =G32 -> #REF! | H31: =H32 -> #REF! | I31: =I32 -> #REF! | J31: =J32 -> #REF!
F32: Պահուստային միջոցներ | G32: =-G33 -> #REF! | H32: =-H33 -> #REF! | I32: =-I33 -> #REF! | J32: =-J33 -> #REF!
F33: ՀՀ տարածքային կառավարման և ենթակառուցվածքների նախարարություն | G33: =G71+G35 -> #REF! | H33: =H71+H35 -> #REF! | I33: =I71+I35 -> #REF! | J33: =J71+J35 -> #REF!
F34: այդ թվում`
A35: 04 | F35: ՏՆՏԵՍԱԿԱՆ ՀԱՐԱԲԵՐՈՒԹՅՈՒՆՆԵՐ | G35: =+G37+G54 -> #REF! | H35: =+H37+H54 -> #REF! | I35: =+I37+I54 -> #REF! | J35: =+J37+J54 -> #REF!
F36: այդ թվում`
B37: 02 | F37: Գյուղատնտեսություն, անտառային տնտեսություն, ձկնորսություն և որսորդություն | G37: =G39 -> 62838.5 | H37: =H39 -> 62838.5 | I37: =I39 -> 62838.5 | J37: =J39 -> 62838.5
F38: այդ թվում`
C39: 04 | F39: Ոռոգում | G39: =G43+G103 -> 62838.5 | H39: =H43+H103 -> 62838.5 | I39: =I43+I103 -> 62838.5 | J39: =J43+J103 -> 62838.5
F40: այդ թվում`
F41: ՀՀ տարածքային կառավարման և ենթակառուցվածքների նախարարություն | G41: =G43 -> 62838.5 | H41: =H43 -> 62838.5 | I41: =I43 -> 62838.5 | J41: =J43 -> 62838.5
F42: այդ թվում`
D43: 1004 | F43: Ոռոգման համակարգի առողջացում | G43: =+G45 -> 62838.5 | H43: =+H45 -> 62838.5 | I43: =+I45 -> 62838.5 | J43: =+J45 -> 62838.5
F44: այդ թվում`
E45: =+'2'!F68 -> 31005 | F45: =+'2'!G68 -> Եվրասիական զարգացման բանկի աջակցությամբ իրականացվող ոռոգման համակարգերի զարգացման ծրագրի շրջանակներում ջրային տնտեսության ենթակառուցվածքների հիմնանորոգում | G45: =+G47 -> 62838.5 | H45: =+H47 -> 62838.5 | I45: =+I47 -> 62838.5 | J45: =+J47 -> 62838.5
F46: այդ թվում` ըստ կատարողների
F47: ՀՀ տարածքային կառավարման և ենթակառուցվածքների նախարարության ջրային կոմիտե | G47: =+G49 -> 62838.5 | H47: =+H49 -> 62838.5 | I47: =+I49 -> 62838.5 | J47: =+J49 -> 62838.5
F48: այդ թվում` բյուջետային ծախսերի տնտեսագիտական դասակարգման հոդվածներ
F49: ԸՆԴԱՄԵՆԸ ԾԱԽՍԵՐ | G49: =+G50 -> 62838.5 | H49: =+H50 -> 62838.5 | I49: =+I50 -> 62838.5 | J49: =+J50 -> 62838.5
F50: ՈՉ ՖԻՆԱՆՍԱԿԱՆ ԱԿՏԻՎՆԵՐԻ ԳԾՈՎ ԾԱԽՍԵՐ | G50: =+G51 -> 62838.5 | H50: =+H51 -> 62838.5 | I50: =+I51 -> 62838.5 | J50: =+J51 -> 62838.5
F51: ՀԻՄՆԱԿԱՆ ՄԻՋՈՑՆԵՐ | G51: =+G52 -> 62838.5 | H51: =+H52 -> 62838.5 | I51: =+I52 -> 62838.5 | J51: =+J52 -> 62838.5
F52: ՇԵՆՔԵՐ ԵՎ ՇԻՆՈՒԹՅՈՒՆՆԵՐ | G52: =+G53 -> 62838.5 | H52: =+H53 -> 62838.5 | I52: =+I53 -> 62838.5 | J52: =+J53 -> 62838.5
F53: - Շենքերի և շինությունների շինարարություն | G53: =+'4.'!E34 -> 62838.5 | H53: =+'4.'!H34 -> 62838.5 | I53: =+'4.'!K34 -> 62838.5 | J53: =+'4.'!N34 -> 62838.5
B54: 09 | F54: Տնտեսական հարաբերություններ (այլ դասերին չպատկանող) | G54: =+G56 -> #REF! | H54: =+H56 -> #REF! | I54: =+I56 -> #REF! | J54: =+J56 -> #REF!
F55: այդ թվում`
C56: 01 | F56: Տնտեսական հարաբերություններ (այլ դասերին չպատկանող) | G56: =+G58 -> #REF! | H56: =+H58 -> #REF! | I56: =+I58 -> #REF! | J56: =+J58 -> #REF!
F57: այդ թվում`
F58: ՀՀ տարածքային կառավարման և ենթակառուցվածքների նախարարություն | G58: =+G60 -> #REF! | H58: =+H60 -> #REF! | I58: =+I60 -> #REF! | J58: =+J60 -> #REF!
F59: այդ թվում`
D60: =+'4.'!#REF! -> #REF! | F60: =+'4.'!#REF! -> #REF! | G60: =+G62 -> #REF! | H60: =+H62 -> #REF! | I60: =+I62 -> #REF! | J60: =+J62 -> #REF!
F61: այդ թվում`
E62: =+'4.'!#REF! -> #REF! | F62: =+'4.'!#REF! -> #REF! | G62: =+G64 -> #REF! | H62: =+H64 -> #REF! | I62: =+I64 -> #REF! | J62: =+J64 -> #REF!
F63: այդ թվում` ըստ կատարողների
F64: ՀՀ տարածքային կառավարման և ենթակառուցվածքների նախարարություն | G64: =+G66 -> #REF! | H64: =+H66 -> #REF! | I64: =+I66 -> #REF! | J64: =+J66 -> #REF!
F65: այդ թվում` բյուջետային ծախսերի տնտեսագիտական դասակարգման հոդվածներ
F66: ԸՆԴԱՄԵՆԸ ԾԱԽՍԵՐ | G66: =+G67 -> #REF! | H66: =+H67 -> #REF! | I66: =+I67 -> #REF! | J66: =+J67 -> #REF!
F67: ՈՉ ՖԻՆԱՆՍԱԿԱՆ ԱԿՏԻՎՆԵՐԻ ԳԾՈՎ ԾԱԽՍԵՐ | G67: =+G68 -> #REF! | H67: =+H68 -> #REF! | I67: =+I68 -> #REF! | J67: =+J68 -> #REF!
F68: ՀԻՄՆԱԿԱՆ ՄԻՋՈՑՆԵՐ | G68: =+G69 -> #REF! | H68: =+H69 -> #REF! | I68: =+I69 -> #REF! | J68: =+J69 -> #REF!
F69: ՇԵՆՔԵՐ ԵՎ ՇԻՆՈՒԹՅՈՒՆՆԵՐ | G69: =+G70 -> #REF! | H69: =+H70 -> #REF! | I69: =+I70 -> #REF! | J69: =+J70 -> #REF!
F70: - Շենքերի և շինությունների շինարարություն | G70: =+'4.'!#REF! -> #REF! | H70: =+'4.'!#REF! -> #REF! | I70: =+'4.'!#REF! -> #REF! | J70: =+'4.'!#REF! -> #REF!
A71: 06 | F71: ԲՆԱԿԱՐԱՆԱՅԻՆ ՇԻՆԱՐԱՐՈՒԹՅՈՒՆ ԵՎ ԿՈՄՈՒՆԱԼ ԾԱՌԱՅՈՒԹՅՈՒՆՆԵՐ | G71: =G73 -> #REF! | H71: =H73 -> #REF! | I71: =I73 -> #REF! | J71: =J73 -> #REF!
F72: այդ թվում`
B73: 03 | F73: Ջրամատակարարում | G73: =G75 -> #REF! | H73: =H75 -> #REF! | I73: =I75 -> #REF! | J73: =J75 -> #REF!
F74: այդ թվում`
C75: 01 | F75: Ջրամատակարարում | G75: =G79+G113 -> #REF! | H75: =H79+H113 -> #REF! | I75: =I79+I113 -> #REF! | J75: =J79+J113 -> #REF!
F76: այդ թվում`
F77: =F91 -> #REF! | G77: =G79 -> #REF! | H77: =H79 -> #REF! | I77: =I79 -> #REF! | J77: =J79 -> #REF!
F78: այդ թվում`
D79: 1072 | F79: Ջրամատակարարաման և ջրահեռացման բարելավում | G79: =+G81+G89 -> #REF! | H79: =+H81+H89 -> #REF! | I79: =+I81+I89 -> #REF! | J79: =+J81+J89 -> #REF!
F80: այդ թվում`
E81: =+#REF! -> #REF! | F81: =+#REF! -> #REF! | G81: =G83 -> #REF! | H81: =H83 -> #REF! | I81: =I83 -> #REF! | J81: =J83 -> #REF!
F82: այդ թվում` ըստ կատարողների
F83: ՀՀ տարածքային կառավարման և ենթակառուցվածքների նախարարություն | G83: =G85 -> #REF! | H83: =H85 -> #REF! | I83: =I85 -> #REF! | J83: =J85 -> #REF!
F84: այդ թվում` բյուջետային ծախսերի տնտեսագիտական դասակարգման հոդվածներ
F85: ԸՆԴԱՄԵՆԸ ԾԱԽՍԵՐ | G85: =G86 -> #REF! | H85: =H86 -> #REF! | I85: =I86 -> #REF! | J85: =J86 -> #REF!
F86: ԸՆԹԱՑԻԿ ԾԱԽՍԵՐ | G86: =G87 -> #REF! | H86: =H87 -> #REF! | I86: =I87 -> #REF! | J86: =J87 -> #REF!
F87: ԱՅԼ ԾԱԽՍԵՐ | G87: =G88 -> #REF! | H87: =H88 -> #REF! | I87: =I88 -> #REF! | J87: =J88 -> #REF!
F88: Այլ ծախսեր | G88: =+#REF! -> #REF! | H88: =+G88 -> #REF! | I88: =+H88 -> #REF! | J88: =+#REF! -> #REF!
E89: =+#REF! -> #REF! | F89: =+#REF! -> #REF! | G89: =G91 -> #REF! | H89: =H91 -> #REF! | I89: =I91 -> #REF! | J89: =J91 -> #REF!
F90: այդ թվում` ըստ կատարողների
F91: =+#REF! -> #REF! | G91: =G93 -> #REF! | H91: =H93 -> #REF! | I91: =I93 -> #REF! | J91: =J93 -> #REF!
F92: այդ թվում` բյուջետային ծախսերի տնտեսագիտական դասակարգման հոդվածներ
F93: ԸՆԴԱՄԵՆԸ ԾԱԽՍԵՐ | G93: =G94 -> #REF! | H93: =H94 -> #REF! | I93: =I94 -> #REF! | J93: =J94 -> #REF!
F94: ԸՆԹԱՑԻԿ ԾԱԽՍԵՐ | G94: =G95 -> #REF! | H94: =H95 -> #REF! | I94: =I95 -> #REF! | J94: =J95 -> #REF!
F95: ԴՐԱՄԱՇՆՈՐՀՆԵՐ | G95: =G97 -> #REF! | H95: =H97 -> #REF! | I95: =I97 -> #REF! | J95: =+J96 -> #REF!
F96: Կապիտալ դրամաշնորհներ պետական հատվածի այլ մակարդակներին | G96: =+G97 -> #REF! | H96: =+H97 -> #REF! | I96: =+I97 -> #REF! | J96: =+J97 -> #REF!
F97: - Այլ կապիտալ դրամաշնորհներ | G97: =+#REF! -> #REF! | H97: =+G97 -> #REF! | I97: =+H97 -> #REF! | J97: =+#REF! -> #REF!
