Workbook
Name _tab10: #REF!
Name _tab11: #REF!
Name _tab12: #REF!
Name _tab13: #REF!
Name _tab14: #REF!
Name _tab15: #REF!
Name _tab16: #REF!
Name _tab17: #REF!
Name _tab18: #REF!
Name _tab19: #REF!
Name _tab20: #REF!
Name _tab21: #REF!
Name _tab22: #REF!
Name _tab22222: #REF!
Name _tab23: #REF!
Name _tab24: #REF!
Name _tab5: #REF!
Name _tab6: #REF!
Name _tab7: #REF!
Name _tab8: #REF!
Name _tab9: #REF!
Name aaaaaaaaaaaa: #REF!
Name hhhh: #REF!
Name hunvar: #REF!,#REF!,#REF!,#REF!,#REF!,#REF!,#REF!,#REF!,#REF!,#REF!,#REF!,#REF!,#REF!,#REF!,#REF!
Name hunvar: #REF!,#REF!,#REF!,#REF!,#REF!,#REF!,#REF!,#REF!,#REF!,#REF!,#REF!,#REF!,#REF!,#REF!,#REF!
Name par_count: #REF!,#REF!,#REF!,#REF!,#REF!,#REF!,#REF!,#REF!,#REF!,#REF!,#REF!,#REF!,#REF!,#REF!,#REF!
Name par_qual: #REF!,#REF!,#REF!,#REF!,#REF!
Name par_qual: #REF!,#REF!,#REF!,#REF!,#REF!
Name par_time: #REF!,#REF!,#REF!,#REF!
Name par_time: #REF!,#REF!,#REF!,#REF!
Name par2.12s: #REF!
Name par2.12s: #REF!
Name par2.4s: #REF!,#REF!,#REF!,#REF!,#REF!,#REF!,#REF!,#REF!,#REF!,#REF!,#REF!,#REF!,#REF!,#REF!,#REF!,#REF!
Name par2.5s: #REF!,#REF!
Name par2.5s: #REF!,#REF!
Name par2.6s: #REF!,#REF!,#REF!,#REF!
Name par2.6s: #REF!,#REF!,#REF!,#REF!
Name par2.7s: #REF!,#REF!
Name par2.7s: #REF!,#REF!
Name par2.9s: #REF!,#REF!,#REF!,#REF!,#REF!,#REF!,#REF!,#REF!,#REF!,#REF!,#REF!,#REF!,#REF!,#REF!,#REF!,#REF!
Name par2.9s: #REF!,#REF!,#REF!,#REF!,#REF!,#REF!,#REF!,#REF!,#REF!,#REF!,#REF!,#REF!,#REF!,#REF!,#REF!,#REF!
Name par4.10s: #REF!,#REF!
Name par4.10s: #REF!,#REF!
Name par4.11d: #REF!,#REF!,#REF!,#REF!,#REF!
Name par4.11d: #REF!,#REF!,#REF!,#REF!,#REF!
Name par4.12d: #REF!
Name par4.12d: #REF!
Name par4.13s: #REF!
Name par4.14: #REF!,#REF!,#REF!,#REF!,#REF!,#REF!
Name par4.14: #REF!,#REF!,#REF!,#REF!,#REF!,#REF!
Name par4.15: #REF!,#REF!,#REF!
Name par4.15: #REF!,#REF!,#REF!
Name par4.16: #REF!,#REF!,#REF!
Name par4.17: #REF!,#REF!,#REF!,#REF!
Name par4.17: #REF!,#REF!,#REF!,#REF!
Name par4.18d: #REF!,#REF!
Name par4.18d: #REF!,#REF!
Name par4.19s: #REF!
Name par4.19s: #REF!
Name par4.20f: #REF!

Sheet 1
B1: Հավելված № 1
B2: ՀՀ կառավարության 2026 թվականի
B3: __________ «____» -ի
B4: N_____ -Ն որոշման
A5: «ՀԱՅԱՍՏԱՆԻ ՀԱՆՐԱՊԵՏՈՒԹՅԱՆ 2026 ԹՎԱԿԱՆԻ ՊԵՏԱԿԱՆ ԲՅՈՒՋԵԻ ՄԱՍԻՆ» ՀԱՅԱՍՏԱՆԻ ՀԱՆՐԱՊԵՏՈՒԹՅԱՆ ՕՐԵՆՔԻ № 1 ՀԱՎԵԼՎԱԾԻ № 1 ԱՂՅՈՒՍԱԿՈՒՄ ԿԱՏԱՐՎՈՂ ԿԱՏԱՐՎՈՂ ՓՈՓՈԽՈՒԹՅՈՒՆՆԵՐԸ
C6: (հազար դրամներով)
A7: Ծրագրային դասիչը | B7: Ծրագրի անվանումը | C7: Ցուցանիշների փոփոխությունները (ավելացումը նշված է դրական նշանով, իսկ նվազեցումը` փակագծերում)
A8: ԸՆԴԱՄԵՆԸ | C8: =SUM(C9:C13) -> 0
A9: 1003 | B9: Հանրային առողջության պահպանում | C9: =+'2'!J11 -> -299922
A10: 1188 | B10: Դեղապահովում | C10: =+'2'!J17 -> -100078
A11: 1200 | B11: Մոր և մանկան առողջության պահպանում | C11: =+'2'!J19 -> 2500000
A12: 1207 | B12: Սոցիալապես անապահով և առանձին խմբերի անձանց բժշկական օգնություն | C12: =+'2'!J29 -> 400000
A13: 1139 | B13: ՀՀ կառավարության պահուստային ֆոնդ | C13: =+'2'!J38 -> -2500000

Sheet 2
A1: Հավելված № 2
A2: ՀՀ կառավարության 2026 թվականի
A3: __________ «____» -ի
A4: N_____ -Ն որոշման
A5: «ՀԱՅԱՍՏԱՆԻ ՀԱՆՐԱՊԵՏՈՒԹՅԱՆ 2026 ԹՎԱԿԱՆԻ ՊԵՏԱԿԱՆ ԲՅՈՒՋԵԻ ՄԱՍԻՆ» ՀԱՅԱՍՏԱՆԻ ՀԱՆՐԱՊԵՏՈՒԹՅԱՆ ՕՐԵՆՔԻ № 1 ՀԱՎԵԼՎԱԾԻ № 2 ԱՂՅՈՒՍԱԿՈՒՄ ԿԱՏԱՐՎՈՂ ՎԵՐԱԲԱՇԽՈՒՄԸ ԵՎ ՀԱՅԱՍՏԱՆԻ ՀԱՆՐԱՊԵՏՈՒԹՅԱՆ ԿԱՌԱՎԱՐՈՒԹՅԱՆ 2025 ԹՎԱԿԱՆԻ ԴԵԿՏԵՄԲԵՐԻ 25-Ի № 1910-Ն ՈՐՈՇՄԱՆ № 5 ՀԱՎԵԼՎԱԾԻ № 1 ԱՂՅՈՒՍԱԿՈՒՄ ԿԱՏԱՐՎՈՂ ՓՈՓՈԽՈՒԹՅՈՒՆՆԵՐԸ
A6: (հազար դրամներով)
A7: ԲԳԿ | B7: Ծրագրային դասիչը | D7: ԲԳԿ/Ծրագրի /միջոցառման անվանումը | E7: Ծրագրի նպատակը/Միջոցառման նկարագրությունը | F7: Վերջնական արդյունքի նկարագրությունը/Միջոցառման տեսակը | G7: Ցուցանիշների փոփոխությունները (ավելացումները նշված են դրական նշանով, իսկ նվազեցումները` փակագծերում)
B8: Ծրագիր | C8: Միջոցառում | G8: Առաջին եռամսյակ | H8: Առաջին կիսամյակ | I8: Ինն ամիս | J8: Տարի
A9: ԸՆԴԱՄԵՆԸ | G9: =+G10+G36 -> 0 | H9: =+H10+H36 -> 0 | I9: =+I10+I36 -> 0 | J9: =+J10+J36 -> 0
A10: ՀՀ առողջապահության նախարարություն | G10: =+G13+G15+G19+G22+G24+G29+G34+G11+G17 -> 1640000 | H10: =+H13+H15+H19+H22+H24+H29+H34+H11+H17 -> 2500000 | I10: =+I13+I15+I19+I22+I24+I29+I34+I11+I17 -> 2500000 | J10: =+J13+J15+J19+J22+J24+J29+J34+J11+J17 -> 2500000
B11: 1003 | D11: Հանրային առողջության պահպանում | E11: Մարդու օրգանիզմի վրա շրջակա միջավայրի վնասակար և վտանգավոր գործոնների ազդեցության բացառում և նվազեցում, կառավարելի վարակիչ հիվանդությունների դեմ պայքար: | F11: Բնակչության սանիտարահամաճարակային անվտանգության և վարակիչ հիվանդությունների նկատմամբ բնակչության անընկալության ապահովում: Հանրապետությունում արյան, արյան բաղադրամասերի և արյան պատրաստուկների անհրաժեշտ քանակության ապահովում | G11: =+G12 -> -76352.7 | H11: =+H12 -> -299922 | I11: =+I12 -> -299922 | J11: =+J12 -> -299922
C12: 1003 - 11002 | D12: Իմունականխարգելման ազգային ծրագիր | E12: Բնակչության շրջանում կառավարելի վարակիչ հիվանդությունների իմունականխարգելում` կառավարելի վարակիչ հիվանդություններով հիվանդացության նվազեցման և մահվան դեպքերի կանխման, ինչպես նաև բնակչության կոլեկտիվ անընկալության ապահովման նպատակով | F12: Ծառայությունների մատուցում | G12: -76352.7 | H12: -299922 | I12: -299922 | J12: -299922
B13: 1099 | D13: Առողջության առաջնային պահպանում | E13: Բնակչությանը մատչելի և որակյալ առաջնային բժշկական օգնության և սպասարկման տրամադրում, առողջության վատթարացման ռիսկի գործոնների վերհանում և դրանց հնարավոր անբարենպաստ ազդեցության կանխարգելում | F13: Առողջության առաջնային պահպանման օղակում ցուցաբերվող բժշկական օգնության որակի, հիվանդությունների վաղ հայտնաբերման և կանխարգելման մակարդակի բարելավում, առողջապահական ծառայությունների վերաբերյալ իրազեկվածության և դրանց նկատմամբ պահանջարկի ավելացում | G13: =+G14 -> 850000 | H13: =+H14 -> 440000 | I13: =+I14 -> 0 | J13: =+J14 -> 0
C14: 1099 - 11001 | D14: Առողջության առաջնային պահպանման բժշկական օգնության ծառայություններ | E14: Առողջության առաջնային պահպանման օղակում հիվանդությունների կանխարգելում, ախտորոշում, բուժում, լաբորատոր-գործիքային հետազոտություններ (այդ թվում զինապարտներին, հղիներին) առանձին հիվանդություների դիսպանսեր հսկողություն | F14: Ծառայությունների մատուցում | G14: 850000 | H14: 440000 | I14: 0 | J14: 0
B15: 1142 | D15: Դատաբժշկական և ախտաբանաանատոմիական ծառայություններ | E15: Պաթանատոմիական կանխորոշումների հիման վրա ախտորոշման և բուժման արդյունավետության բարձրացում | F15: Մահերի պատճառների բացահայտում | G15: =+G16 -> 55000 | H15: =+H16 -> 35000 | I15: =+I16 -> 0 | J15: =+J16 -> 0
C16: 1142 - 11001 | D16: Դատաբժշկական և ախտաբանաանատոմիական բժշկական օգնության ծառայություններ | E16: Հանրապետության ուժային մարմինների որոշումների հիման վրա դատաբժշկական և գենետիկ փորձաքննությունների ապահովում` մահերի պատճառների վերհանման փորձաքննություններ: Մանկական մահերի պատճառների բացահայտում` մանկամահացության մակարդակը նվազեցնելու նպատակով | F16: Ծառայությունների մատուցում | G16: 55000 | H16: 35000 | I16: 0 | J16: 0
B17: 1188 | D17: Դեղապահովում | E17: Դեղերի անվտանգության, արդյունավետության և որակի ապահովում, ՀՀ հիմնական դեղերի ցանկում առկա կենսականորեն անհրաժեշտ դեղերի ֆիզիկական և տնտեսական մատչելիության բարձրացում | F17: Հանրապետությունում առանձին հիվանդություններով տառապող անձանց առանցքային նշանակության դեղորայքի մատչելիության բարձրացում | G17: =+G18 -> -80000 | H17: =+H18 -> -100078 | I17: =+I18 -> -100078 | J17: =+J18 -> -100078
C18: 1188 - 12001 | D18: Դեղորայքի տրամադրում ամբուլատոր-պոլիկլինիկական, հիվանդանոցային բուժօգնություն ստացողներին և հատուկ խմբերում ընդգրկված ֆիզիկական անձանց | E18: Կենտրոնացված կարգով դեղորայքի ձեռքբերում հիվանդանոցային բուժօգնություն ստացողներին և հատուկ խմբերում ընդգրկված ֆիզիկական անձանց տրամադրելու նպատակով | F18: Տրանսֆերտների տրամադրում | G18: -80000 | H18: -100078 | I18: -100078 | J18: -100078
B19: 1200 | D19: Մոր և մանկան առողջության պահպանում | E19: Մոր և մանկան առողջության պահպանում, կանանց և երեխաներին մատուցվող բժշկական ծառայությունների մատչելիության և որակի բարելավում | F19: Մանկական և մայրական մահացության և հիվանդացության կրճատում, կանանց վերարտադրողական առողջության բարելավում | G19: =+G20+G21 -> 1985000 | H19: =+H20+H21 -> 3314000 | I19: =+I20+I21 -> 2900000 | J19: =+J20+J21 -> 2500000
C20: 1200 - 11001 | D20: Մանկաբարձական բժշկական օգնության ծառայություններ | E20: Մանկաբարձական բժշկական օգնության համալիր միջոցառումների իրականացում, հղիության ախտաբանական ընթացքի բժշկական օգնություն և ծննդօգնություն | F20: Ծառայությունների մատուցում | G20: 345000 | H20: 814000 | I20: 400000 | J20: 0
C21: 1200 - 11003 | D21: Երեխաներին բժշկական օգնության ծառայություններ | E21: Երեխաների հիվանդանոցային, արտահիվանդանոցային վերականգնողական բուժօգնության իրականացում: Նորածինների հիվանդությունների վաղ հայտնաբերման սքրինգների իրականացման ծառայություններ | F21: Ծառայությունների մատուցում | G21: 1640000 | H21: 2500000 | I21: 2500000 | J21: 2500000
B22: 1201 | D22: Շտապ բժշկական օգնություն | E22: Մարդու կյանքին և առողջությանը վտանգ սպառնացող վիճակներում որակյալ շտապ բժշկական օգնության ծառայությունների տրամադրում | F22: Շտապ օգնության համակարգի պատրաստվածության բարելավում, արձագանքման արագության, հասանելիության և բժշկական օգնության ծառայությունների որակի բարելավում | G22: =+G23 -> 90000 | H22: 0 | I22: =+I23 -> 0 | J22: =+J23 -> 0
C23: 1201 - 11001 | D23: Շտապ բժշկական օգնության ծառայություններ | E23: Շտապ բժշկական օգնության իրականացում | F23: Ծառայությունների մատուցում | G23: 90000 | H23: 0 | I23: 0 | J23: 0
B24: 1202 | D24: Ոչ վարակիչ հիվանդությունների բժշկական օգնության ապահովում | E24: Ոչ վարակիչ հիվանդությունների (մասնավորապես՛ սիրտանոթային, շաքարային դիաբետի և չարորակ նորագոյացությունների) բուժման արդյունավետության բարձրացում | F24: Ոչ վարակիչ հիվանդություններով պայմանավորված հիվանդացության և մահացության նվազեցում | G24: =+G25+G26+G27+G28 -> -1906647.3 | H24: =+H25+H26+H27+H28 -> -3321980 | I24: =+I25+I26+I27+I28 -> -406490.9 | J24: =+J25+J26+J27+J28 -> 0
C25: 1202 - 11002 | D25: Անհետաձգելի բժշկական օգնություն՛ այդ թվում սրտի վիրահատություններ | E25: Անհետաձգելի բուժօգնության իրականացում` ԱՆ կողմից հաստատված հիվանդությունների, վիճակների ցանկի համաձայն՛ այդ թվում սրտի վիրահատություններ | F25: Ծառայությունների մատուցում | G25: 560000 | H25: 710000 | I25: 255661.4 | J25: 0
C26: 1202 - 11003 | D26: Հոգեկան առողջության խնդիրներ և կախվածություն (թմրաբանական) ունեցող պացիենտների բժշկական օգնության ծառայություններ | E26: Հոգեկան առողջության խնդիրներ և կախվածություն (թմրաբանական) ունեցող պացիենտների բուժում և շարունակական հսկողության համալիր միջոցառումների իրականացում | F26: Ծառայությունների մատուցում | G26: 180000 | H26: 230000 | I26: 0 | J26: 0
C27: 1202 - 11004 | D27: Ուռուցքաբանական և արյունաբանական հիվանդությունների բժշկական օգնության ծառայություններ | E27: Ուռուցքաբանական և արյունաբանական հիվանդների բուժում և շարունակական հսկողության համալիր միջոցառումների իրականացում | F27: Ծառայությունների մատուցում | G27: 380000 | H27: 910000 | I27: 323791 | J27: 0
C28: 1202 - 11006 | D28: Առողջության համընդհանուր ապահովագրության ներդրմանն ուղղված լրացուցիչ միջոցառումներ | E28: Առողջության համընդհանուր ապահովագրության համակարգի ներդրում և Հիմնադրամի ընթացիկ գործունեության ապահովում | F28: Ծառայությունների մատուցում | G28: -3026647.3 | H28: -5171980 | I28: -985943.3 | J28: 0
B29: 1207 | D29: Սոցիալապես անապահով և առանձին խմբերի անձանց բժշկական օգնություն | E29: Սոցիալապես անապահով և հատուկ խմբերում ընդգրկված անձանց բժշկական օգնության հասանելիության և մատչելիության մակարդակի բարձրացում, հիվանդանոցային որակյալ բժշկական օգնության ապահովում | F29: Սոցիալապես անապահով և հատուկ խմբերում ընդգրկված անձանց բժշկական օգնության հասանելիության և մատչելիության բարձրացում, ծառայությունների մատուցման հասցեականության բարելավում | G29: =+G30+G31+G32+G33 -> 698000 | H29: =+H30+H31+H32+H33 -> 2432980 | I29: =+I30+I31+I32+I33 -> 406490.9 | J29: =+J30+J31+J32+J33 -> 400000
C30: 1207 - 11001 | D30: Սոցիալապես անապահով և հատուկ խմբերում ընդգրկվածներին բժշկական օգնության ծառայություններ | E30: Բնակչության սոցիալապես անապահով և հատուկ խմբերում ընդգրկվածների բժշկական օգնության իրականացում` ՀՀ կառավարության որոշմամբ հաստատված բնակչության խմբերի և ծառայությունների ցանկի համաձայն | F30: Ծառայությունների մատուցում | G30: 300000 | H30: 1720000 | I30: 0 | J30: 0
C31: 1207 - 11002 | D31: Ստոմատոլոգիական բժշկական օգնության ծառայություններ | E31: Ստոմատոլոգիական բժշկական օգնության համալիր միջոցառումների (հետազոտում, ախտորոշում, բուժում) իրականացում սոցիալապես անապահով ու հատուկ խմբերում ընդգրկվածներին | F31: Ծառայությունների մատուցում | G31: 8000 | H31: 12980 | I31: 6490.9 | J31: 0
C32: 1207 - 11003 | D32: Զինծառայողներին, ինչպես նաև փրկարար ծառայողներին և նրանց ընտանիքի անդամներին բժշկական օգնության ծառայություններ | E32: Զինծառայողներին, նրանց հավասարեցված անձանց, ինչպես նաև փրկարար ծառայողներին և նրանց ընտանիքի անդամներին բժշկական օգնության իրականացում (հետազոտում, ախտորոշում, բուժում) | F32: Ծառայությունների մատուցում | G32: 185000 | H32: 300000 | I32: 0 | J32: 0
C33: 1207 - 11007 | D33: Փոխպատվաստման ծառայություններ | E33: Մարդու օրգանների և ոսկրածուծի փոխպատվաստման ծառայությունների իրականացում | F33: Ծառայությունների մատուցում | G33: 205000 | H33: 400000 | I33: 400000 | J33: 400000
B34: 1208 | D34: Վարակիչ հիվանդությունների կանխարգելման ծրագիր | E34: Վարակիչ և բնակչության համար մեծ ռիսկ ներկայացնող հիվանդությունների (մալարիա, տուբերկուլյոզ, ՄԻԱՎ/ՁԻԱՀ և այլն) վաղ հայտնաբերում, արդյունվետ հակազդում և բժշկական օգնության ապահովում: | F34: Վարակի փոխանցման, վարակիչ հիվանդություններով պայմանավորված հիվանդացության և մահացության նվազեցում | G34: =+G35 -> 25000 | H34: =+H35 -> 0 | I34: =+I35 -> 0 | J34: =+J35 -> 0
C35: 1208 - 11003 | D35: Աղիքային և այլ ինֆեկցիոն հիվանդությունների բժշկական օգնության ծառայություններ այդ թվում ՄԻԱՎ/ՁԻԱՀ-ի կանխարգելման և բուժօգնության ծառայություններ | E35: Աղիքային և այլ ինֆեկցիոն հիվանդությունների վաղ հայտնաբերմանն ուղղված ախտորոշիչ հետազոտություններ, հիվանդների բուժում, ՄԻԱՎ/ՁԻԱՀ հիվանդության կանխարգելում,ախտորոշում, բուժում և հիվանդների դիսպանսերային հսկողություն, քարոզչություն | F35: Ծառայությունների մատուցում | G35: 25000 | H35: 0 | I35: 0 | J35: 0
A36: ՀՀ կառավարություն | G36: =+G37 -> -1640000 | H36: =+H37 -> -2500000 | I36: =+I37 -> -2500000 | J36: =+J37 -> -2500000
B37: 1139 | D37: ՀՀ կառավարության պահուստային ֆոնդ | E37: Պետական բյուջեում չկանխատեսված, ինչպես նաեւ բյուջետային երաշխիքների ապահովման ծախսերի ֆինանսավորման ապահովում | F37: Պահուստային ֆոնդի կառավարման արդյունավետության և թափանցիկության ապահովում | G37: =+G38 -> -1640000 | H37: =+H38 -> -2500000 | I37: =+I38 -> -2500000 | J37: =+J38 -> -2500000
C38: 1139 - 11001 | D38: ՀՀ կառավարության պահուստային ֆոնդ | E38: ՀՀ պետական բյուջեում նախատեսված ելքերի լրացուցիչ ֆինանսավորման, պետական բյուջեում չկանխատեսված ելքերի, ինչպես նաև բյուջետային երաշխիքների ապահովման ելքերի ֆինանսավորման ապահովում | F38: Ծառայությունների մատուցում | G38: =+-G21 -> -1640000 | H38: =+-H21 -> -2500000 | I38: =+-I21 -> -2500000 | J38: =+-J21 -> -2500000

Sheet 3
A1: Հավելված № 3
A2: ՀՀ կառավարության 2026 թվականի
A3: __________ «____» -ի
A4: N_____ -Ն որոշման
A5: ՀԱՅԱՍՏԱՆԻ ՀԱՆՐԱՊԵՏՈՒԹՅԱՆ ԿԱՌԱՎԱՐՈՒԹՅԱՆ 2025 ԹՎԱԿԱՆԻ ԴԵԿՏԵՄԲԵՐԻ 25-Ի № 1910-Ն ՈՐՈՇՄԱՆ №№ 3 և 4 ՀԱՎԵԼՎԱԾՆԵՐՈՒՄ ԿԱՏԱՐՎՈՂ ՓՈՓՈԽՈՒԹՅՈՒՆՆԵՐԸ
A6: (հազար դրամներով)
A7: Գործառական դասիչը | D7: Ծրագրային դասիչը | F7: Բյուջետային հատկացումների գլխավոր կարգադրիչների, ծրագրերի, միջոցառումների և միջոցառումները կատարող պետական մարմինների անվանումները | G7: Ցուցանիշների փոփոխությունները (ավելացումները նշված են դրական նշանով, իսկ նվազեցումները` փակագծերում)
A8: բաժին | B8: խումբ | C8: դաս | D8: Ծրագիր | E8: Միջոցառում | G8: Առաջին եռամսյակ | H8: Առաջին կիսամյակ | I8: Ինն ամիս | J8: Տարի
A9: ԸՆԴԱՄԵՆԸ | G9: =+G10+G218 -> 0 | H9: =+H10+H218 -> 0 | I9: =+I10+I218 -> 0 | J9: =+J10+J218 -> 0
A10: 07 | F10: ԱՌՈՂՋԱՊԱՀՈՒԹՅՈՒՆ | G10: =+G12+G29+G61+G184+G201 -> 1640000 | H10: =+H12+H29+H61+H184+H201 -> 2500000 | I10: =+I12+I29+I61+I184+I201 -> 2500000 | J10: =+J12+J29+J61+J184+J201 -> 2500000
F11: այդ թվում՝
B12: 01 | F12: Բժշկական ապրանքներ, սարքեր և սարքավորումներ | G12: =+G14 -> -80000 | H12: =+H14 -> -100078 | I12: =+I14 -> -100078 | J12: =+J14 -> -100078
F13: այդ թվում`
C14: 01 | F14: Դեղագործական ապրանքներ | G14: =+G16 -> -80000 | H14: =+H16 -> -100078 | I14: =+I16 -> -100078 | J14: =+J16 -> -100078
F15: այդ թվում`
F16: ՀՀ առողջապահության նախարարություն | G16: =+G18 -> -80000 | H16: =+H18 -> -100078 | I16: =+I18 -> -100078 | J16: =+J18 -> -100078
F17: այդ թվում`
D18: 1188 | F18: Դեղապահովում | G18: =+G20 -> -80000 | H18: =+H20 -> -100078 | I18: =+I20 -> -100078 | J18: =+J20 -> -100078
F19: այդ թվում`
E20: 12001 | F20: Դեղորայքի տրամադրում ամբուլատոր-պոլիկլինիկական, հիվանդանոցային բուժօգնություն ստացողներին և հատուկ խմբերում ընդգրկված ֆիզիկական անձանց | G20: =+G22 -> -80000 | H20: =+H22 -> -100078 | I20: =+I22 -> -100078 | J20: =+J22 -> -100078
F21: այդ թվում` ըստ կատարողների
F22: ՀՀ առողջապահության նախարարություն | G22: =+G24 -> -80000 | H22: =+H24 -> -100078 | I22: =+I24 -> -100078 | J22: =+J24 -> -100078
F23: այդ թվում` բյուջետային ծախսերի տնտեսագիտական դասակարգման հոդվածներ
F24: ԸՆԴԱՄԵՆԸ ԾԱԽՍԵՐ | G24: =+G25 -> -80000 | H24: =+H25 -> -100078 | I24: =+I25 -> -100078 | J24: =+J25 -> -100078
F25: ԸՆԹԱՑԻԿ ԾԱԽՍԵՐ | G25: =+G26 -> -80000 | H25: =+H26 -> -100078 | I25: =+I26 -> -100078 | J25: =+J26 -> -100078
F26: ԾԱՌԱՅՈՒԹՅՈՒՆՆԵՐԻ ԵՎ ԱՊՐԱՆՔՆԵՐԻ ՁԵՌՔԲԵՐՈՒՄ | G26: =+G27 -> -80000 | H26: =+H27 -> -100078 | I26: =+I27 -> -100078 | J26: =+J27 -> -100078
F27: Նյութեր (Ապրանքներ) | G27: =+G28 -> -80000 | H27: =+H28 -> -100078 | I27: =+I28 -> -100078 | J27: =+J28 -> -100078
F28: - Առողջապահական և լաբորատոր նյութեր | G28: =+'2'!G18 -> -80000 | H28: =+'2'!H18 -> -100078 | I28: =+'2'!I18 -> -100078 | J28: =+'2'!J18 -> -100078
B29: 02 | F29: Արտահիվանդանոցային ծառայություններ | G29: =+G31+G46 -> 940000 | H29: =+H31+H46 -> 440000 | I29: =+I31+I46 -> 0 | J29: =+J31+J46 -> 0
F30: այդ թվում`
C31: 01 | F31: Ընդհանուր բնույթի բժշկական ծառայություններ | G31: =+G33 -> 850000 | H31: =+H33 -> 440000 | I31: =+I33 -> 0 | J31: =+J33 -> 0
F32: այդ թվում`
F33: ՀՀ առողջապահության նախարարություն | G33: =+G35 -> 850000 | H33: =+H35 -> 440000 | I33: =+I35 -> 0 | J33: =+J35 -> 0
F34: այդ թվում`
D35: 1099 | F35: Առողջության առաջնային պահպանում | G35: =+G37 -> 850000 | H35: =+H37 -> 440000 | I35: =+I37 -> 0 | J35: =+J37 -> 0
F36: այդ թվում`
E37: 11001 | F37: Առողջության առաջնային պահպանման բժշկական օգնության ծառայություններ | G37: =+G39 -> 850000 | H37: =+H39 -> 440000 | I37: =+I39 -> 0 | J37: =+J39 -> 0
F38: այդ թվում` ըստ կատարողների
F39: ՀՀ առողջապահության նախարարություն | G39: =+G41 -> 850000 | H39: =+H41 -> 440000 | I39: =+I41 -> 0 | J39: =+J41 -> 0
F40: այդ թվում` բյուջետային ծախսերի տնտեսագիտական դասակարգման հոդվածներ
...

Sheet 4
A1: Հավելված № 4
A2: ՀՀ կառավարության 2026 թվականի
A3: __________ «____» -ի
A4: N_____ -Ն որոշման
A5: ՀԱՅԱՍՏԱՆԻ ՀԱՆՐԱՊԵՏՈՒԹՅԱՆ ԿԱՌԱՎԱՐՈՒԹՅԱՆ 2025 ԹՎԱԿԱՆԻ ԴԵԿՏԵՄԲԵՐԻ 25-Ի № 1910-Ն ՈՐՈՇՄԱՆ № 5 ՀԱՎԵԼՎԱԾԻ № 7 ԱՂՅՈՒՍԱԿՈՒՄԿԱՏԱՐՎՈՂ ՓՈՓՈԽՈՒԹՅՈՒՆՆԵՐԸ
E6: (հազար դրամներով)
A7: Ծրագրային դասիչ | C7: Բյուջետային հատկացումների գլխավոր կարգադրիչների, ծրագրերի, միջոցառումների, ծախսային ուղղությունների անվանումները | D7: Միջոցառումները կատարող պետական մարմինների և դրամաշնորհ ստացող տնտեսվարող սուբյեկտների անվանումները | E7: Ցուցանիշների փոփոխությունները` ավելացումները նշված են դրական նշանով
A8: Ծրագիր | B8: Միջոցառում | E8: Տարի
A9: 1 | B9: 2 | C9: 3 | D9: 4 | E9: 5
A10: ՀՀ առողջապահության նախարարություն | E10: =+E11 -> -299922
A11: 1003 | B11: Հանրային առողջության պահպանում | E11: =+E12 -> -299922
B12: 11002 | C12: Իմունականխարգելման ազգային ծրագիր | D12: ՀՀ առողջապահության նախարարություն | E12: =+E13 -> -299922
D13: «Հիվանդությունների վերահսկման և կանխարգելման ազգային կենտրոն» ՊՈԱԿ | E13: =+'2'!J12 -> -299922

Sheet 5
B1: Հավելված № 5
B2: ՀՀ կառավարության 2026 թվականի
B3: __________ «____» -ի
B4: N_____ -Ն որոշման
B5: ՀԱՅԱՍՏԱՆԻ ՀԱՆՐԱՊԵՏՈՒԹՅԱՆ ԿԱՌԱՎԱՐՈՒԹՅԱՆ 2025 ԹՎԱԿԱՆԻ ԴԵԿՏԵՄԲԵՐԻ 25-Ի № 1910-Ն ՈՐՈՇՄԱՆ № 9 ՀԱՎԵԼՎԱԾՈՒՄ ԿԱՏԱՐՎՈՂ ՓՈՓՈԽՈՒԹՅՈՒՆՆԵՐԸ
A6: (հազար դրամներով)
A7: ԲԳԿ | B7: Ծրագիր | D7: Միջոցառում | H7: Իրականացնողը/ ակտիվն օգտագործողը/ շահառուի ընտրության չափորոշիչը | I7: Արդյունքային չափորոշիչը | J7: Ցուցանիշների փոփոխությունները (ավելացումները նշված են դրական նշանով, իսկ նվազեցումները` փակագծերում)
B8: Դասիչը | C8: Անվանումը | D8: Դասիչը | E8: Անվանումը | F8: Նկարագրությունը | G8: Տեսակը | J8: Առաջին եռամսյակ | K8: Առաջին կիսամյակ | L8: Ինն ամիս | M8: Տարի
A9: ԸՆԴԱՄԵՆԸ | J9: =+J10+J104 -> 0 | K9: =+K10+K104 -> 0 | L9: =+L10+L104 -> 0 | M9: =+M10+M104 -> 0
A10: ՀՀ առողջապահության նախարարություն | J10: =+J11+J16+J22+J27+J32+J45+J50+J75+J98 -> 1640000 | K10: =+K11+K16+K22+K27+K32+K45+K50+K75+K98 -> 2500000 | L10: =+L11+L16+L22+L27+L32+L45+L50+L75+L98 -> 2500000 | M10: =+M11+M16+M22+M27+M32+M45+M50+M75+M98 -> 2500000
B11: 1003 | C11: Հանրային առողջության պահպանում | J11: =+J12 -> -76352.7 | K11: =+K12 -> -299922 | L11: =+L12 -> -299922 | M11: =+M12 -> -299922
D12: 1003 - 11002 | E12: Իմունականխարգելման ազգային ծրագիր | J12: =+'2'!G12 -> -76352.7 | K12: =+'2'!H12 -> -299922 | L12: =+'2'!I12 -> -299922 | M12: =+'2'!J12 -> -299922
F13: Բնակչության շրջանում կառավարելի վարակիչ հիվանդությունների իմունականխարգելում` կառավարելի վարակիչ հիվանդություններով հիվանդացության նվազեցման և մահվան դեպքերի կանխման, ինչպես նաև բնակչության կոլեկտիվ անընկալության ապահովման նպատակով
G14: Ծառայությունների մատուցում
H15: Ծառայությունը մատուցողի անվանումը` Մասնագիտացված կազմակերպություն
B16: 1099 | C16: Առողջության առաջնային պահպանում | J16: =+J17 -> 850000 | K16: =+K17 -> 440000 | L16: =+L17 -> 0 | M16: =+M17 -> 0
D17: 1099 - 11001 | E17: Առողջության առաջնային պահպանման բժշկական օգնության ծառայություններ | J17: =+'2'!G14 -> 850000 | K17: =+'2'!H14 -> 440000 | L17: =+'2'!I14 -> 0 | M17: =+'2'!J14 -> 0
F18: Առողջության առաջնային պահպանման օղակում հիվանդությունների կանխարգելում, ախտորոշում, բուժում, լաբորատոր-գործիքային հետազոտություններ (այդ թվում զինապարտներին, հղիներին) առանձին հիվանդություների դիսպանսեր հսկողություն
G19: Ծառայությունների մատուցում
H20: Ծառայությունը մատուցողի անվանումը` ՀՀ գնումների մասին օրենսդրությանը համապատասխան ընտրված կազմակերպություններ
I21: Հղիների նախածննդյան և հետծննդյան հսկողության ընթացքում իրականացվող լաբորատոր-գործիքային ախտորոշիչ հետազոտությունների թիվ, հատ | K21: 43400
B22: 1142 | C22: Դատաբժշկական և ախտաբանաանատոմիական ծառայություններ | J22: =+J23 -> 55000 | K22: =+K23 -> 35000 | L22: =+L23 -> 0 | M22: =+M23 -> 0
D23: 1142 - 11001 | E23: Դատաբժշկական և ախտաբանաանատոմիական բժշկական օգնության ծառայություններ | J23: =+'2'!G16 -> 55000 | K23: =+'2'!H16 -> 35000 | L23: =+'2'!I16 -> 0 | M23: =+'2'!J16 -> 0
F24: Հանրապետության ուժային մարմինների որոշումների հիման վրա դատաբժշկական և գենետիկ փորձաքննությունների ապահովում` մահերի պատճառների վերհանման փորձաքննություններ: Մանկական մահերի պատճառների բացահայտում` մանկամահացության մակարդակը նվազեցնելու նպատակով
G25: Ծառայությունների մատուցում
H26: Ծառայությունը մատուցողի անվանումը` Մասնագիտացված կազմակերպություն (ներ)
B27: 1188 | C27: Դեղապահովում | J27: =+J28 -> -80000 | K27: =+K28 -> -100078 | L27: =+L28 -> -100078 | M27: =+M28 -> -100078
D28: 1188 - 12001 | E28: Դեղորայքի տրամադրում ամբուլատոր-պոլիկլինիկական, հիվանդանոցային բուժօգնություն ստացողներին և հատուկ խմբերում ընդգրկված ֆիզիկական անձանց | J28: =+'2'!G18 -> -80000 | K28: =+'2'!H18 -> -100078 | L28: =+'2'!I18 -> -100078 | M28: =+'2'!J18 -> -100078
F29: Կենտրոնացված կարգով դեղորայքի ձեռքբերում հիվանդանոցային բուժօգնություն ստացողներին և հատուկ խմբերում ընդգրկված ֆիզիկական անձանց տրամադրելու նպատակով
G30: Տրանսֆերտների տրամադրում
H31: Շահառուների ընտրության չափորոշիչները` Ամբուլատոր-պոլիկլինիկական, հիվանդանոցային բուժօգնություն ստացողներ և հատուկ խմբերում ընդգրկված ֆիզիկական անձինք
B32: 1200 | C32: Մոր և մանկան առողջության պահպանում | J32: =+J33+J38 -> 1985000 | K32: =+K33+K38 -> 3314000 | L32: =+L33+L38 -> 2900000 | M32: =+M33+M38 -> 2500000
D33: 1200 - 11001 | E33: Մանկաբարձական բժշկական օգնության ծառայություններ | J33: =+'2'!G20 -> 345000 | K33: =+'2'!H20 -> 814000 | L33: =+'2'!I20 -> 400000 | M33: =+'2'!J20 -> 0
F34: Մանկաբարձական բժշկական օգնության համալիր միջոցառումների իրականացում, հղիության ախտաբանական ընթացքի բժշկական օգնություն և ծննդօգնություն
G35: Ծառայությունների մատուցում
H36: Ծառայությունը մատուցողի անվանումը` ՀՀ գնումների մասին օրենսդրությանը համապատասխան ընտրված կազմակերպություններ
I37: Ծնունդների թիվ, հատ, որից | K37: 4200
D38: 1200 - 11003 | E38: Երեխաներին բժշկական օգնության ծառայություններ | J38: =+'2'!G21 -> 1640000 | K38: =+'2'!H21 -> 2500000 | L38: =+'2'!I21 -> 2500000 | M38: =+'2'!J21 -> 2500000
F39: Երեխաների հիվանդանոցային, արտահիվանդանոցային վերականգնողական բուժօգնության իրականացում: Նորածինների հիվանդությունների վաղ հայտնաբերման սքրինգների իրականացման ծառայություններ
G40: Ծառայությունների մատուցում
...

Sheet 6
B1: Հավելված № 6
B2: ՀՀ կառավարության 2026 թվականի
B3: __________ «____» -ի
B4: N_____ -Ն որոշման
B5: ՀԱՅԱՍՏԱՆԻ ՀԱՆՐԱՊԵՏՈՒԹՅԱՆ ԿԱՌԱՎԱՐՈՒԹՅԱՆ 2025 ԹՎԱԿԱՆԻ ԴԵԿՏԵՄԲԵՐԻ 25-Ի № 1910-Ն ՈՐՈՇՄԱՆ № 9.1 ՀԱՎԵԼՎԱԾՈՒՄ ԿԱՏԱՐՎՈՂ ՓՈՓՈԽՈՒԹՅՈՒՆՆԵՐԸ
A6: (հազար դրամներով)
A7: ԲՍԿ | B7: Ծրագիր | D7: Միջոցառում | H7: Իրականացնողը/ ակտիվն օգտագործողը/ շահառուի ընտրության չափորոշիչը | I7: Արդյունքային չափորոշիչը | J7: Ցուցանիշների փոփոխությունները (ավելացումները նշված են դրական նշանով, իսկ նվազեցումները` փակագծերում)
B8: Դասիչը | C8: Անվանումը | D8: Դասիչը | E8: Անվանումը | F8: Նկարագրությունը | G8: Տեսակը | J8: Առաջին եռամսյակ | K8: Առաջին կիսամյակ | L8: Ինն ամիս | M8: Տարի
A9: ԸՆԴԱՄԵՆԸ | J9: =+J10+J104 -> 0 | K9: =+K10+K104 -> 0 | L9: =+L10+L104 -> 0 | M9: =+M10+M104 -> 0
A10: ՀՀ առողջապահության նախարարություն | J10: =+J11+J16+J22+J27+J32+J45+J50+J75+J98 -> 1640000 | K10: =+K11+K16+K22+K27+K32+K45+K50+K75+K98 -> 2500000 | L10: =+L11+L16+L22+L27+L32+L45+L50+L75+L98 -> 2500000 | M10: =+M11+M16+M22+M27+M32+M45+M50+M75+M98 -> 2500000
B11: 1003 | C11: Հանրային առողջության պահպանում | J11: =+J12 -> -76352.7 | K11: =+K12 -> -299922 | L11: =+L12 -> -299922 | M11: =+M12 -> -299922
D12: 1003 - 11002 | E12: Իմունականխարգելման ազգային ծրագիր | J12: =+'2'!G12 -> -76352.7 | K12: =+'2'!H12 -> -299922 | L12: =+'2'!I12 -> -299922 | M12: =+'2'!J12 -> -299922
F13: Բնակչության շրջանում կառավարելի վարակիչ հիվանդությունների իմունականխարգելում` կառավարելի վարակիչ հիվանդություններով հիվանդացության նվազեցման և մահվան դեպքերի կանխման, ինչպես նաև բնակչության կոլեկտիվ անընկալության ապահովման նպատակով
G14: Ծառայությունների մատուցում
H15: Ծառայությունը մատուցողի անվանումը` Մասնագիտացված կազմակերպություն
B16: 1099 | C16: Առողջության առաջնային պահպանում | J16: =+J17 -> 850000 | K16: =+K17 -> 440000 | L16: =+L17 -> 0 | M16: =+M17 -> 0
D17: 1099 - 11001 | E17: Առողջության առաջնային պահպանման բժշկական օգնության ծառայություններ | J17: =+'2'!G14 -> 850000 | K17: =+'2'!H14 -> 440000 | L17: =+'2'!I14 -> 0 | M17: =+'2'!J14 -> 0
F18: Առողջության առաջնային պահպանման օղակում հիվանդությունների կանխարգելում, ախտորոշում, բուժում, լաբորատոր-գործիքային հետազոտություններ (այդ թվում զինապարտներին, հղիներին) առանձին հիվանդություների դիսպանսեր հսկողություն
G19: Ծառայությունների մատուցում
H20: Ծառայությունը մատուցողի անվանումը` ՀՀ գնումների մասին օրենսդրությանը համապատասխան ընտրված կազմակերպություններ
I21: Հղիների նախածննդյան և հետծննդյան հսկողության ընթացքում իրականացվող լաբորատոր-գործիքային ախտորոշիչ հետազոտությունների թիվ, հատ | K21: 43400
B22: 1142 | C22: Դատաբժշկական և ախտաբանաանատոմիական ծառայություններ | J22: =+J23 -> 55000 | K22: =+K23 -> 35000 | L22: =+L23 -> 0 | M22: =+M23 -> 0
D23: 1142 - 11001 | E23: Դատաբժշկական և ախտաբանաանատոմիական բժշկական օգնության ծառայություններ | J23: =+'2'!G16 -> 55000 | K23: =+'2'!H16 -> 35000 | L23: =+'2'!I16 -> 0 | M23: =+'2'!J16 -> 0
F24: Հանրապետության ուժային մարմինների որոշումների հիման վրա դատաբժշկական և գենետիկ փորձաքննությունների ապահովում` մահերի պատճառների վերհանման փորձաքննություններ: Մանկական մահերի պատճառների բացահայտում` մանկամահացության մակարդակը նվազեցնելու նպատակով
G25: Ծառայությունների մատուցում
H26: Ծառայությունը մատուցողի անվանումը` Մասնագիտացված կազմակերպություն (ներ)
B27: 1188 | C27: Դեղապահովում | J27: =+J28 -> -80000 | K27: =+K28 -> -100078 | L27: =+L28 -> -100078 | M27: =+M28 -> -100078
D28: 1188 - 12001 | E28: Դեղորայքի տրամադրում ամբուլատոր-պոլիկլինիկական, հիվանդանոցային բուժօգնություն ստացողներին և հատուկ խմբերում ընդգրկված ֆիզիկական անձանց | J28: =+'2'!G18 -> -80000 | K28: =+'2'!H18 -> -100078 | L28: =+'2'!I18 -> -100078 | M28: =+'2'!J18 -> -100078
F29: Կենտրոնացված կարգով դեղորայքի ձեռքբերում հիվանդանոցային բուժօգնություն ստացողներին և հատուկ խմբերում ընդգրկված ֆիզիկական անձանց տրամադրելու նպատակով
G30: Տրանսֆերտների տրամադրում
H31: Շահառուների ընտրության չափորոշիչները` Ամբուլատոր-պոլիկլինիկական, հիվանդանոցային բուժօգնություն ստացողներ և հատուկ խմբերում ընդգրկված ֆիզիկական անձինք
B32: 1200 | C32: Մոր և մանկան առողջության պահպանում | J32: =+J33+J38 -> 1985000 | K32: =+K33+K38 -> 3314000 | L32: =+L33+L38 -> 2900000 | M32: =+M33+M38 -> 2500000
D33: 1200 - 11001 | E33: Մանկաբարձական բժշկական օգնության ծառայություններ | J33: =+'2'!G20 -> 345000 | K33: =+'2'!H20 -> 814000 | L33: =+'2'!I20 -> 400000 | M33: =+'2'!J20 -> 0
F34: Մանկաբարձական բժշկական օգնության համալիր միջոցառումների իրականացում, հղիության ախտաբանական ընթացքի բժշկական օգնություն և ծննդօգնություն
G35: Ծառայությունների մատուցում
H36: Ծառայությունը մատուցողի անվանումը` ՀՀ գնումների մասին օրենսդրությանը համապատասխան ընտրված կազմակերպություններ
I37: Ծնունդների թիվ, հատ, որից | K37: 4200
D38: 1200 - 11003 | E38: Երեխաներին բժշկական օգնության ծառայություններ | J38: =+'2'!G21 -> 1640000 | K38: =+'2'!H21 -> 2500000 | L38: =+'2'!I21 -> 2500000 | M38: =+'2'!J21 -> 2500000
F39: Երեխաների հիվանդանոցային, արտահիվանդանոցային վերականգնողական բուժօգնության իրականացում: Նորածինների հիվանդությունների վաղ հայտնաբերման սքրինգների իրականացման ծառայություններ
G40: Ծառայությունների մատուցում
...

Sheet 7
A1: Հավելված № 7
A2: ՀՀ կառավարության 2026 թվականի
A3: __________ «____» -ի
A4: N_____ -Ն որոշման
A5: ՀԱՅԱՍՏԱՆԻ ՀԱՆՐԱՊԵՏՈՒԹՅԱՆ ԿԱՌԱՎԱՐՈՒԹՅԱՆ 2025 ԹՎԱԿԱՆԻ ԴԵԿՏԵՄԲԵՐԻ 25-Ի № 1910-Ն ՈՐՈՇՄԱՆ № 10 ՀԱՎԵԼՎԱԾՈՒՄ ԿԱՏԱՐՎՈՂ ՓՈՓՈԽՈՒԹՅՈՒՆՆԵՐԸ
A6: Կոդը | B6: Անվանումը | E6: Գնման ձևը | F6: Չափի միավորը | G6: Միավորի գինը | H6: Քանակը | I6: Ցուցանիշների փոփոխությունը (նվազեցումները` փակագծերում) (հազ. դրամ)
A8: Ընդամենը | I8: =+I9 -> -100078.03
A9: ՀՀ առողջապահության նախարարություն | I9: =+I10 -> -100078.03
A10: Բաժին 07 | B10: Խումբ 01 | C10: Դաս 01 | D10: Դեղագործական ապրանքներ | I10: =+I11 -> -100078.03
A11: 1188 12001 | B11: Դեղորայքի տրամադրում ամբուլատոր-պոլիկլինիկական, հիվանդանոցային բուժօգնություն ստացողներին և հատուկ խմբերում ընդգրկված ֆիզիկական անձանց | I11: =SUM(I13:I42) -> -100078.03
B12: ՄԱՍ I. ԱՊՐԱՆՔՆԵՐ
A13: 33611140-1 | B13: օնդանսետրոն a04aa01 | E13: ԷԱՃ | F13: հատ | G13: 258.78 | H13: -4000 | I13: =G13*H13/1000 -> -1035.12
A14: 33651224-1 | B14: մեթոտրեքսատ l01ba01, l04ax03 | E14: ԷԱՃ | F14: հատ | G14: 4200 | H14: -42 | I14: =G14*H14/1000 -> -176.4
A15: 33651226-1 | B15: բլեոմիցին l01dc01 | E15: ԷԱՃ | F15: հատ | G15: 13345.82 | H15: -41.99 | I15: =G15*H15/1000 -> -560.39098
A16: 33651227-1 | B16: դակարբազին l01ax04 | E16: ԷԱՃ | F16: հատ | G16: 6000 | H16: -158 | I16: =G16*H16/1000 -> -948
A17: 33651228-1 | B17: դակտինոմիցին l01da01 | E17: ԷԱՃ | F17: հատ | G17: 20500 | H17: -84 | I17: =G17*H17/1000 -> -1722
A18: 33651229-1 | B18: դաունոռուբիցին l01db02 | E18: ԷԱՃ | F18: հատ | G18: 10930.34 | H18: -315 | I18: =G18*H18/1000 -> -3443.0571
A19: 33651230-1 | B19: դօքսոռուբիցին l01db01 | E19: ԷԱՃ | F19: հատ | G19: 6383.9 | H19: -204 | I19: =G19*H19/1000 -> -1302.3156
A20: 33651231-1 | B20: էտոպոզիդ l01cb01 | E20: ԷԱՃ | F20: հատ | G20: 2790.7 | H20: -392 | I20: =G20*H20/1000 -> -1093.9544
A21: 33651232-1 | B21: կարբոպլատին l01xa02 | E21: ԷԱՃ | F21: հատ | G21: 8613 | H21: -179 | I21: =G21*H21/1000 -> -1541.727
A22: 33651232-2 | B22: կարբոպլատին l01xa02 | E22: ԷԱՃ | F22: հատ | G22: 16495.2 | H22: -42 | I22: =G22*H22/1000 -> -692.7984
A23: 33651234-1 | B23: մերկապտոպուրին l01bb02 | E23: ԷԱՃ | F23: հատ | G23: 177 | H23: -13000 | I23: =G23*H23/1000 -> -2301
A24: 33651237-1 | B24: վինկրիստին l01ca02 | E24: ԷԱՃ | F24: հատ | G24: 5059.02 | H24: -1400 | I24: =G24*H24/1000 -> -7082.628
... A42: 33691176-7 | B42: այլ դեղորայք | E42: ԷԱՃ | F42: հատ | G42: 5475.69 | H42: -5330 | I42: =G42*H42/1000 -> -29185.428

Sheet 8
A1: Հավելված № 8
A2: ՀՀ կառավարության 2026 թվականի
A3: __________ «____» -ի
A4: N_____ -Ն որոշման
A5: ՀԱՅԱՍՏԱՆԻ ՀԱՆՐԱՊԵՏՈՒԹՅԱՆ 2026 ԹՎԱԿԱՆԻ ՊԵՏԱԿԱՆ ԲՅՈՒՋԵՈՎ ՆԱԽԱՏԵՍՎԱԾ՝ ՀԱՅԱՍՏԱՆԻ ՀԱՆՐԱՊԵՏՈՒԹՅԱՆ ԿԱՌԱՎԱՐՈՒԹՅԱՆ ՊԱՀՈՒՍՏԱՅԻՆ ՖՈՆԴԻՑ ՀԱՏԿԱՑՈՒՄՆԵՐ ԿԱՏԱՐԵԼՈՒ ՎԵՐԱԲԵՐՅԱԼ
A6: (հազար դրամներով)
A7: Գործառական դասիչը | D7: Ծրագրային դասիչը | F7: Բյուջետային հատկացումների գլխավոր կարգադրիչների, ծրագրերի, միջոցառումների և միջոցառումները կատարող պետական մարմինների անվանումները | G7: Ցուցանիշների փոփոխությունները (ավելացումները նշված են դրական նշանով, իսկ նվազեցումները` փակագծերում)
A8: բաժին | B8: խումբ | C8: դաս | D8: Ծրագիր | E8: Միջոցառում | G8: Առաջին եռամսյակ | H8: Առաջին կիսամյակ | I8: Ինն ամիս | J8: Տարի
A9: ԸՆԴԱՄԵՆԸ | G9: =+G10+G29 -> 0 | H9: =+H10+H29 -> 0 | I9: =+I10+I29 -> 0 | J9: =+J10+J29 -> 0
A10: 07 | F10: ԱՌՈՂՋԱՊԱՀՈՒԹՅՈՒՆ | G10: =+G12 -> 1640000 | H10: =+H12 -> 2500000 | I10: =+I12 -> 2500000 | J10: =+J12 -> 2500000
F11: այդ թվում՝
B12: 03 | F12: Հիվանդանոցային ծառայություններ | G12: =+G14 -> 1640000 | H12: =+H14 -> 2500000 | I12: =+I14 -> 2500000 | J12: =+J14 -> 2500000
F13: այդ թվում`
C14: 03 | F14: Մոր և մանկան բժշկական ծառայություններ | G14: =+G16 -> 1640000 | H14: =+H16 -> 2500000 | I14: =+I16 -> 2500000 | J14: =+J16 -> 2500000
F15: այդ թվում`
F16: ՀՀ առողջապահության նախարարություն | G16: =+G18 -> 1640000 | H16: =+H18 -> 2500000 | I16: =+I18 -> 2500000 | J16: =+J18 -> 2500000
F17: այդ թվում`
D18: 1200 | F18: Մոր և մանկան առողջության պահպանում | G18: =+G20 -> 1640000 | H18: =+H20 -> 2500000 | I18: =+I20 -> 2500000 | J18: =+J20 -> 2500000
F19: այդ թվում`
E20: 11003 | F20: Երեխաներին բժշկական օգնության ծառայություններ | G20: =+G22 -> 1640000 | H20: =+H22 -> 2500000 | I20: =+I22 -> 2500000 | J20: =+J22 -> 2500000
F21: այդ թվում` ըստ կատարողների
F22: ՀՀ առողջապահության նախարարություն | G22: =+G24 -> 1640000 | H22: =+H24 -> 2500000 | I22: =+I24 -> 2500000 | J22: =+J24 -> 2500000
F23: այդ թվում` բյուջետային ծախսերի տնտեսագիտական դասակարգման հոդվածներ
F24: ԸՆԴԱՄԵՆԸ ԾԱԽՍԵՐ | G24: =+G25 -> 1640000 | H24: =+H25 -> 2500000 | I24: =+I25 -> 2500000 | J24: =+J25 -> 2500000
F25: ԸՆԹԱՑԻԿ ԾԱԽՍԵՐ | G25: =+G26 -> 1640000 | H25: =+H26 -> 2500000 | I25: =+I26 -> 2500000 | J25: =+J26 -> 2500000
F26: ՍՈՑԻԱԼԱԿԱՆ ՆՊԱՍՏՆԵՐ ԵՎ ԿԵՆՍԱԹՈՇԱԿՆԵՐ | G26: =+G27 -> 1640000 | H26: =+H27 -> 2500000 | I26: =+I27 -> 2500000 | J26: =+J27 -> 2500000
F27: Սոցիալական օգնության դրամական արտահայտությամբ նպաստներ (բյուջեից) | G27: =+G28 -> 1640000 | H27: =+H28 -> 2500000 | I27: =+I28 -> 2500000 | J27: =+J28 -> 2500000
F28: - Այլ նպաստներ բյուջեից | G28: =+'2'!G21 -> 1640000 | H28: =+'2'!H21 -> 2500000 | I28: =+'2'!I21 -> 2500000 | J28: =+'2'!J21 -> 2500000
A29: 11 | F29: ՀԻՄՆԱԿԱՆ ԲԱԺԻՆՆԵՐԻՆ ՉԴԱՍՎՈՂ ՊԱՀՈՒՍՏԱՅԻՆ ՖՈՆԴԵՐ | G29: =+G31 -> -1640000 | H29: =+H31 -> -2500000 | I29: =+I31 -> -2500000 | J29: =+J31 -> -2500000
F30: այդ թվում`
B31: 01 | F31: ՀՀ կառավարության և համայնքների պահուստային ֆոնդ | G31: =+G33 -> -1640000 | H31: =+H33 -> -2500000 | I31: =+I33 -> -2500000 | J31: =+J33 -> -2500000
F32: այդ թվում`
C33: 01 | F33: ՀՀ կառավարության պահուստային ֆոնդ | G33: =+G35 -> -1640000 | H33: =+H35 -> -2500000 | I33: =+I35 -> -2500000 | J33: =+J35 -> -2500000
F34: այդ թվում`
F35: ՀՀ կառավարություն | G35: =+G37 -> -1640000 | H35: =+H37 -> -2500000 | I35: =+I37 -> -2500000 | J35: =+J37 -> -2500000
F36: այդ թվում`
D37: 1139 | F37: ՀՀ կառավարության պահուստային ֆոնդ | G37: =+G39 -> -1640000 | H37: =+H39 -> -2500000 | I37: =+I39 -> -2500000 | J37: =+J39 -> -2500000
F38: այդ թվում`
E39: 11001 | F39: ՀՀ կառավարության պահուստային ֆոնդ | G39: =+G41 -> -1640000 | H39: =+H41 -> -2500000 | I39: =+I41 -> -2500000 | J39: =+J41 -> -2500000
F40: այդ թվում` ըստ կատարողների
...
