Workbook
Name _tab10: #REF!
Name _tab11: #REF!
Name _tab12: #REF!
Name _tab13: #REF!
Name _tab14: #REF!
Name _tab15: #REF!
Name _tab16: #REF!
Name _tab17: #REF!
Name _tab18: #REF!
Name _tab19: #REF!
Name _tab20: #REF!
Name _tab21: #REF!
Name _tab22: #REF!
Name _tab22222: #REF!
Name _tab23: #REF!
Name _tab24: #REF!
Name _tab5: #REF!
Name _tab6: #REF!
Name _tab7: #REF!
Name _tab8: #REF!
Name _tab9: #REF!
Name aaaaaaaaaaaa: #REF!
Name hhhh: #REF!
Name hunvar: #REF!,#REF!,#REF!,#REF!,#REF!,#REF!,#REF!,#REF!,#REF!,#REF!,#REF!,#REF!,#REF!,#REF!,#REF!
Name hunvar: #REF!,#REF!,#REF!,#REF!,#REF!,#REF!,#REF!,#REF!,#REF!,#REF!,#REF!,#REF!,#REF!,#REF!,#REF!
Name par_count: #REF!,#REF!,#REF!,#REF!,#REF!,#REF!,#REF!,#REF!,#REF!,#REF!,#REF!,#REF!,#REF!,#REF!,#REF!
Name par_qual: #REF!,#REF!,#REF!,#REF!,#REF!
Name par_qual: #REF!,#REF!,#REF!,#REF!,#REF!
Name par_time: #REF!,#REF!,#REF!,#REF!
Name par_time: #REF!,#REF!,#REF!,#REF!
Name par2.12s: #REF!
Name par2.12s: #REF!
Name par2.4s: #REF!,#REF!,#REF!,#REF!,#REF!,#REF!,#REF!,#REF!,#REF!,#REF!,#REF!,#REF!,#REF!,#REF!,#REF!,#REF!
Name par2.5s: #REF!,#REF!
Name par2.5s: #REF!,#REF!
Name par2.6s: #REF!,#REF!,#REF!,#REF!
Name par2.6s: #REF!,#REF!,#REF!,#REF!
Name par2.7s: #REF!,#REF!
Name par2.7s: #REF!,#REF!
Name par2.9s: #REF!,#REF!,#REF!,#REF!,#REF!,#REF!,#REF!,#REF!,#REF!,#REF!,#REF!,#REF!,#REF!,#REF!,#REF!,#REF!
Name par2.9s: #REF!,#REF!,#REF!,#REF!,#REF!,#REF!,#REF!,#REF!,#REF!,#REF!,#REF!,#REF!,#REF!,#REF!,#REF!,#REF!
Name par4.10s: #REF!,#REF!
Name par4.10s: #REF!,#REF!
Name par4.11d: #REF!,#REF!,#REF!,#REF!,#REF!
Name par4.11d: #REF!,#REF!,#REF!,#REF!,#REF!
Name par4.12d: #REF!
Name par4.12d: #REF!
Name par4.13s: #REF!
Name par4.14: #REF!,#REF!,#REF!,#REF!,#REF!,#REF!
Name par4.14: #REF!,#REF!,#REF!,#REF!,#REF!,#REF!
Name par4.15: #REF!,#REF!,#REF!
Name par4.15: #REF!,#REF!,#REF!
Name par4.16: #REF!,#REF!,#REF!
Name par4.17: #REF!,#REF!,#REF!,#REF!
Name par4.17: #REF!,#REF!,#REF!,#REF!
Name par4.18d: #REF!,#REF!
Name par4.18d: #REF!,#REF!
Name par4.19s: #REF!
Name par4.19s: #REF!
Name par4.20f: #REF!

Sheet 1
B1: Հավելված № 1
B2: ՀՀ կառավարության 2026 թվականի
B3: __________ «____» -ի
B4: N_____ -Ն որոշման
A5: «ՀԱՅԱՍՏԱՆԻ ՀԱՆՐԱՊԵՏՈՒԹՅԱՆ 2026 ԹՎԱԿԱՆԻ ՊԵՏԱԿԱՆ ԲՅՈՒՋԵԻ ՄԱՍԻՆ» ՀԱՅԱՍՏԱՆԻ ՀԱՆՐԱՊԵՏՈՒԹՅԱՆ ՕՐԵՆՔԻ № 1 ՀԱՎԵԼՎԱԾԻ № 1 ԱՂՅՈՒՍԱԿՈՒՄ ԿԱՏԱՐՎՈՂ ԿԱՏԱՐՎՈՂ ՓՈՓՈԽՈՒԹՅՈՒՆՆԵՐԸ
C6: (հազար դրամներով)
A7: Ծրագրային դասիչը | B7: Ծրագրի անվանումը | C7: Ցուցանիշների փոփոխությունները (ավելացումը նշված է դրական նշանով, իսկ նվազեցումը` փակագծերում)
A8: ԸՆԴԱՄԵՆԸ | C8: =SUM(C9:C13) -> 0
A9: 1003 | B9: Հանրային առողջության պահպանում | C9: =+'2'!J11 -> -299922
A10: 1188 | B10: Դեղապահովում | C10: =+'2'!J17 -> -100078
A11: 1200 | B11: Մոր և մանկան առողջության պահպանում | C11: =+'2'!J19 -> 2500000
A12: 1207 | B12: Սոցիալապես անապահով և առանձին խմբերի անձանց բժշկական օգնություն | C12: =+'2'!J29 -> 400000
A13: 1139 | B13: ՀՀ կառավարության պահուստային ֆոնդ | C13: =+'2'!J38 -> -2500000

Sheet 2
A1: Հավելված № 2
A2: ՀՀ կառավարության 2026 թվականի
A3: __________ «____» -ի
A4: N_____ -Ն որոշման
A5: «ՀԱՅԱՍՏԱՆԻ ՀԱՆՐԱՊԵՏՈՒԹՅԱՆ 2026 ԹՎԱԿԱՆԻ ՊԵՏԱԿԱՆ ԲՅՈՒՋԵԻ ՄԱՍԻՆ» ՀԱՅԱՍՏԱՆԻ ՀԱՆՐԱՊԵՏՈՒԹՅԱՆ ՕՐԵՆՔԻ № 1 ՀԱՎԵԼՎԱԾԻ № 2 ԱՂՅՈՒՍԱԿՈՒՄ ԿԱՏԱՐՎՈՂ ՎԵՐԱԲԱՇԽՈՒՄԸ ԵՎ ՀԱՅԱՍՏԱՆԻ ՀԱՆՐԱՊԵՏՈՒԹՅԱՆ ԿԱՌԱՎԱՐՈՒԹՅԱՆ 2025 ԹՎԱԿԱՆԻ ԴԵԿՏԵՄԲԵՐԻ 25-Ի № 1910-Ն ՈՐՈՇՄԱՆ № 5 ՀԱՎԵԼՎԱԾԻ № 1 ԱՂՅՈՒՍԱԿՈՒՄ ԿԱՏԱՐՎՈՂ ՓՈՓՈԽՈՒԹՅՈՒՆՆԵՐԸ
A6: (հազար դրամներով)
A7: ԲԳԿ | B7: Ծրագրային դասիչը | D7: ԲԳԿ/Ծրագրի /միջոցառման անվանումը | E7: Ծրագրի նպատակը/Միջոցառման նկարագրությունը | F7: Վերջնական արդյունքի նկարագրությունը/Միջոցառման տեսակը | G7: Ցուցանիշների փոփոխությունները (ավելացումները նշված են դրական նշանով, իսկ նվազեցումները` փակագծերում)
B8: Ծրագիր | C8: Միջոցառում | G8: Առաջին եռամսյակ | H8: Առաջին կիսամյակ | I8: Ինն ամիս | J8: Տարի
A9: ԸՆԴԱՄԵՆԸ | G9: =+G10+G36 -> 0 | H9: =+H10+H36 -> 0 | I9: =+I10+I36 -> 0 | J9: =+J10+J36 -> 0
A10: ՀՀ առողջապահության նախարարություն | G10: =+G13+G15+G19+G22+G24+G29+G34+G11+G17 -> 1640000 | H10: =+H13+H15+H19+H22+H24+H29+H34+H11+H17 -> 2500000 | I10: =+I13+I15+I19+I22+I24+I29+I34+I11+I17 -> 2500000 | J10: =+J13+J15+J19+J22+J24+J29+J34+J11+J17 -> 2500000
B11: 1003 | D11: Հանրային առողջության պահպանում | E11: Մարդու օրգանիզմի վրա շրջակա միջավայրի վնասակար և վտանգավոր գործոնների ազդեցության բացառում և նվազեցում, կառավարելի վարակիչ հիվանդությունների դեմ պայքար: | F11: Բնակչության սանիտարահամաճարակային անվտանգության և վարակիչ հիվանդությունների նկատմամբ բնակչության անընկալության ապահովում: Հանրապետությունում արյան, արյան բաղադրամասերի և արյան պատրաստուկների անհրաժեշտ քանակության ապահովում | G11: =+G12 -> -76352.7 | H11: =+H12 -> -299922 | I11: =+I12 -> -299922 | J11: =+J12 -> -299922
C12: 1003 - 11002 | D12: Իմունականխարգելման ազգային ծրագիր | E12: Բնակչության շրջանում կառավարելի վարակիչ հիվանդությունների իմունականխարգելում` կառավարելի վարակիչ հիվանդություններով հիվանդացության նվազեցման և մահվան դեպքերի կանխման, ինչպես նաև բնակչության կոլեկտիվ անընկալության ապահովման նպատակով | F12: Ծառայությունների մատուցում | G12: -76352.7 | H12: -299922 | I12: -299922 | J12: -299922
B13: 1099 | D13: Առողջության առաջնային պահպանում | E13: Բնակչությանը մատչելի և որակյալ առաջնային բժշկական օգնության և սպասարկման տրամադրում, առողջության վատթարացման ռիսկի գործոնների վերհանում և դրանց հնարավոր անբարենպաստ ազդեցության կանխարգելում | F13: Առողջության առաջնային պահպանման օղակում ցուցաբերվող բժշկական օգնության որակի, հիվանդությունների վաղ հայտնաբերման և կանխարգելման մակարդակի բարելավում, առողջապահական ծառայությունների վերաբերյալ իրազեկվածության և դրանց նկատմամբ պահանջարկի ավելացում | G13: =+G14 -> 850000 | H13: =+H14 -> 440000 | I13: =+I14 -> 0 | J13: =+J14 -> 0
C14: 1099 - 11001 | D14: Առողջության առաջնային պահպանման բժշկական օգնության ծառայություններ | E14: Առողջության առաջնային պահպանման օղակում հիվանդությունների կանխարգելում, ախտորոշում, բուժում, լաբորատոր-գործիքային հետազոտություններ (այդ թվում զինապարտներին, հղիներին) առանձին հիվանդություների դիսպանսեր հսկողություն | F14: Ծառայությունների մատուցում | G14: 850000 | H14: 440000 | I14: 0 | J14: 0
B15: 1142 | D15: Դատաբժշկական և ախտաբանաանատոմիական ծառայություններ | E15: Պաթանատոմիական կանխորոշումների հիման վրա ախտորոշման և բուժման արդյունավետության բարձրացում | F15: Մահերի պատճառների բացահայտում | G15: =+G16 -> 55000 | H15: =+H16 -> 35000 | I15: =+I16 -> 0 | J15: =+J16 -> 0
C16: 1142 - 11001 | D16: Դատաբժշկական և ախտաբանաանատոմիական բժշկական օգնության ծառայություններ | E16: Հանրապետության ուժային մարմինների որոշումների հիման վրա դատաբժշկական և գենետիկ փորձաքննությունների ապահովում` մահերի պատճառների վերհանման փորձաքննություններ: Մանկական մահերի պատճառների բացահայտում` մանկամահացության մակարդակը նվազեցնելու նպատակով | F16: Ծառայությունների մատուցում | G16: 55000 | H16: 35000 | I16: 0 | J16: 0
B17: 1188 | D17: Դեղապահովում | E17: Դեղերի անվտանգության, արդյունավետության և որակի ապահովում, ՀՀ հիմնական դեղերի ցանկում առկա կենսականորեն անհրաժեշտ դեղերի ֆիզիկական և տնտեսական մատչելիության բարձրացում | F17: Հանրապետությունում առանձին հիվանդություններով տառապող անձանց առանցքային նշանակության դեղորայքի մատչելիության բարձրացում | G17: =+G18 -> -80000 | H17: =+H18 -> -100078 | I17: =+I18 -> -100078 | J17: =+J18 -> -100078
C18: 1188 - 12001 | D18: Դեղորայքի տրամադրում ամբուլատոր-պոլիկլինիկական, հիվանդանոցային բուժօգնություն ստացողներին և հատուկ խմբերում ընդգրկված ֆիզիկական անձանց | E18: Կենտրոնացված կարգով դեղորայքի ձեռքբերում հիվանդանոցային բուժօգնություն ստացողներին և հատուկ խմբերում ընդգրկված ֆիզիկական անձանց տրամադրելու նպատակով | F18: Տրանսֆերտների տրամադրում | G18: -80000 | H18: -100078 | I18: -100078 | J18: -100078
B19: 1200 | D19: Մոր և մանկան առողջության պահպանում | E19: Մոր և մանկան առողջության պահպանում, կանանց և երեխաներին մատուցվող բժշկական ծառայությունների մատչելիության և որակի բարելավում | F19: Մանկական և մայրական մահացության և հիվանդացության կրճատում, կանանց վերարտադրողական առողջության բարելավում | G19: =+G20+G21 -> 1985000 | H19: =+H20+H21 -> 3314000 | I19: =+I20+I21 -> 2900000 | J19: =+J20+J21 -> 2500000
C20: 1200 - 11001 | D20: Մանկաբարձական բժշկական օգնության ծառայություններ | E20: Մանկաբարձական բժշկական օգնության համալիր միջոցառումների իրականացում, հղիության ախտաբանական ընթացքի բժշկական օգնություն և ծննդօգնություն | F20: Ծառայությունների մատուցում | G20: 345000 | H20: 814000 | I20: 400000 | J20: 0
C21: 1200 - 11003 | D21: Երեխաներին բժշկական օգնության ծառայություններ | E21: Երեխաների հիվանդանոցային, արտահիվանդանոցային վերականգնողական բուժօգնության իրականացում: Նորածինների հիվանդությունների վաղ հայտնաբերման սքրինգների իրականացման ծառայություններ | F21: Ծառայությունների մատուցում | G21: 1640000 | H21: 2500000 | I21: 2500000 | J21: 2500000
B22: 1201 | D22: Շտապ բժշկական օգնություն | E22: Մարդու կյանքին և առողջությանը վտանգ սպառնացող վիճակներում որակյալ շտապ բժշկական օգնության ծառայությունների տրամադրում | F22: Շտապ օգնության համակարգի պատրաստվածության բարելավում, արձագանքման արագության, հասանելիության և բժշկական օգնության ծառայությունների որակի բարելավում | G22: =+G23 -> 90000 | H22: 0 | I22: =+I23 -> 0 | J22: =+J23 -> 0
C23: 1201 - 11001 | D23: Շտապ բժշկական օգնության ծառայություններ | E23: Շտապ բժշկական օգնության իրականացում | F23: Ծառայությունների մատուցում | G23: 90000 | H23: 0 | I23: 0 | J23: 0
B24: 1202 | D24: Ոչ վարակիչ հիվանդությունների բժշկական օգնության ապահովում | E24: Ոչ վարակիչ հիվանդությունների (մասնավորապես՛ սիրտանոթային, շաքարային դիաբետի և չարորակ նորագոյացությունների) բուժման արդյունավետության բարձրացում | F24: Ոչ վարակիչ հիվանդություններով պայմանավորված հիվանդացության և մահացության նվազեցում | G24: =+G25+G26+G27+G28 -> -1906647.3 | H24: =+H25+H26+H27+H28 -> -3321980 | I24: =+I25+I26+I27+I28 -> -406490.9 | J24: =+J25+J26+J27+J28 -> 0
C25: 1202 - 11002 | D25: Անհետաձգելի բժշկական օգնություն՛ այդ թվում սրտի վիրահատություններ | E25: Անհետաձգելի բուժօգնության իրականացում` ԱՆ կողմից հաստատված հիվանդությունների, վիճակների ցանկի համաձայն՛ այդ թվում սրտի վիրահատություններ | F25: Ծառայությունների մատուցում | G25: 560000 | H25: 710000 | I25: 255661.4 | J25: 0
C26: 1202 - 11003 | D26: Հոգեկան առողջության խնդիրներ և կախվածություն (թմրաբանական) ունեցող պացիենտների բժշկական օգնության ծառայություններ | E26: Հոգեկան առողջության խնդիրներ և կախվածություն (թմրաբանական) ունեցող պացիենտների բուժում և շարունակական հսկողության համալիր միջոցառումների իրականացում | F26: Ծառայությունների մատուցում | G26: 180000 | H26: 230000 | I26: 0 | J26: 0
C27: 1202 - 11004 | D27: Ուռուցքաբանական և արյունաբանական հիվանդությունների բժշկական օգնության ծառայություններ | E27: Ուռուցքաբանական և արյունաբանական հիվանդների բուժում և շարունակական հսկողության համալիր միջոցառումների իրականացում | F27: Ծառայությունների մատուցում | G27: 380000 | H27: 910000 | I27: 323791 | J27: 0
C28: 1202 - 11006 | D28: Առողջության համընդհանուր ապահովագրության ներդրմանն ուղղված լրացուցիչ միջոցառումներ | E28: Առողջության համընդհանուր ապահովագրության համակարգի ներդրում և Հիմնադրամի ընթացիկ գործունեության ապահովում | F28: Ծառայությունների մատուցում | G28: -3026647.3 | H28: -5171980 | I28: -985943.3 | J28: 0
B29: 1207 | D29: Սոցիալապես անապահով և առանձին խմբերի անձանց բժշկական օգնություն | E29: Սոցիալապես անապահով և հատուկ խմբերում ընդգրկված անձանց բժշկական օգնության հասանելիության և մատչելիության մակարդակի բարձրացում, հիվանդանոցային որակյալ բժշկական օգնության ապահովում | F29: Սոցիալապես անապահով և հատուկ խմբերում ընդգրկված անձանց բժշկական օգնության հասանելիության և մատչելիության բարձրացում, ծառայությունների մատուցման հասցեականության բարելավում | G29: =+G30+G31+G32+G33 -> 698000 | H29: =+H30+H31+H32+H33 -> 2432980 | I29: =+I30+I31+I32+I33 -> 406490.9 | J29: =+J30+J31+J32+J33 -> 400000
C30: 1207 - 11001 | D30: Սոցիալապես անապահով և հատուկ խմբերում ընդգրկվածներին բժշկական օգնության ծառայություններ | E30: Բնակչության սոցիալապես անապահով և հատուկ խմբերում ընդգրկվածների բժշկական օգնության իրականացում` ՀՀ կառավարության որոշմամբ հաստատված բնակչության խմբերի և ծառայությունների ցանկի համաձայն | F30: Ծառայությունների մատուցում | G30: 300000 | H30: 1720000 | I30: 0 | J30: 0
C31: 1207 - 11002 | D31: Ստոմատոլոգիական բժշկական օգնության ծառայություններ | E31: Ստոմատոլոգիական բժշկական օգնության համալիր միջոցառումների (հետազոտում, ախտորոշում, բուժում) իրականացում սոցիալապես անապահով ու հատուկ խմբերում ընդգրկվածներին | F31: Ծառայությունների մատուցում | G31: 8000 | H31: 12980 | I31: 6490.9 | J31: 0
C32: 1207 - 11003 | D32: Զինծառայողներին, ինչպես նաև փրկարար ծառայողներին և նրանց ընտանիքի անդամներին բժշկական օգնության ծառայություններ | E32: Զինծառայողներին, նրանց հավասարեցված անձանց, ինչպես նաև փրկարար ծառայողներին և նրանց ընտանիքի անդամներին բժշկական օգնության իրականացում (հետազոտում, ախտորոշում, բուժում) | F32: Ծառայությունների մատուցում | G32: 185000 | H32: 300000 | I32: 0 | J32: 0
C33: 1207 - 11007 | D33: Փոխպատվաստման ծառայություններ | E33: Մարդու օրգանների և ոսկրածուծի փոխպատվաստման ծառայությունների իրականացում | F33: Ծառայությունների մատուցում | G33: 205000 | H33: 400000 | I33: 400000 | J33: 400000
B34: 1208 | D34: Վարակիչ հիվանդությունների կանխարգելման ծրագիր | E34: Վարակիչ և բնակչության համար մեծ ռիսկ ներկայացնող հիվանդությունների (մալարիա, տուբերկուլյոզ, ՄԻԱՎ/ՁԻԱՀ և այլն) վաղ հայտնաբերում, արդյունվետ հակազդում և բժշկական օգնության ապահովում: | F34: Վարակի փոխանցման, վարակիչ հիվանդություններով պայմանավորված հիվանդացության և մահացության նվազեցում | G34: =+G35 -> 25000 | H34: =+H35 -> 0 | I34: =+I35 -> 0 | J34: =+J35 -> 0
C35: 1208 - 11003 | D35: Աղիքային և այլ ինֆեկցիոն հիվանդությունների բժշկական օգնության ծառայություններ այդ թվում ՄԻԱՎ/ՁԻԱՀ-ի կանխարգելման և բուժօգնության ծառայություններ | E35: Աղիքային և այլ ինֆեկցիոն հիվանդությունների վաղ հայտնաբերմանն ուղղված ախտորոշիչ հետազոտություններ, հիվանդների բուժում, ՄԻԱՎ/ՁԻԱՀ հիվանդության կանխարգելում,ախտորոշում, բուժում և հիվանդների դիսպանսերային հսկողություն, քարոզչություն | F35: Ծառայությունների մատուցում | G35: 25000 | H35: 0 | I35: 0 | J35: 0
A36: ՀՀ կառավարություն | G36: =+G37 -> -1640000 | H36: =+H37 -> -2500000 | I36: =+I37 -> -2500000 | J36: =+J37 -> -2500000
B37: 1139 | D37: ՀՀ կառավարության պահուստային ֆոնդ | E37: Պետական բյուջեում չկանխատեսված, ինչպես նաեւ բյուջետային երաշխիքների ապահովման ծախսերի ֆինանսավորման ապահովում | F37: Պահուստային ֆոնդի կառավարման արդյունավետության և թափանցիկության ապահովում | G37: =+G38 -> -1640000 | H37: =+H38 -> -2500000 | I37: =+I38 -> -2500000 | J37: =+J38 -> -2500000
C38: 1139 - 11001 | D38: ՀՀ կառավարության պահուստային ֆոնդ | E38: ՀՀ պետական բյուջեում նախատեսված ելքերի լրացուցիչ ֆինանսավորման, պետական բյուջեում չկանխատեսված ելքերի, ինչպես նաև բյուջետային երաշխիքների ապահովման ելքերի ֆինանսավորման ապահովում | F38: Ծառայությունների մատուցում | G38: =+-G21 -> -1640000 | H38: =+-H21 -> -2500000 | I38: =+-I21 -> -2500000 | J38: =+-J21 -> -2500000

Sheet 3
A1: Հավելված № 3
A2: ՀՀ կառավարության 2026 թվականի
A3: __________ «____» -ի
A4: N_____ -Ն որոշման
A5: ՀԱՅԱՍՏԱՆԻ ՀԱՆՐԱՊԵՏՈՒԹՅԱՆ ԿԱՌԱՎԱՐՈՒԹՅԱՆ 2025 ԹՎԱԿԱՆԻ ԴԵԿՏԵՄԲԵՐԻ 25-Ի № 1910-Ն ՈՐՈՇՄԱՆ №№ 3 և 4 ՀԱՎԵԼՎԱԾՆԵՐՈՒՄ ԿԱՏԱՐՎՈՂ ՓՈՓՈԽՈՒԹՅՈՒՆՆԵՐԸ
A6: (հազար դրամներով)
A7: Գործառական դասիչը | D7: Ծրագրային դասիչը | F7: Բյուջետային հատկացումների գլխավոր կարգադրիչների, ծրագրերի, միջոցառումների և միջոցառումները կատարող պետական մարմինների անվանումները | G7: Ցուցանիշների փոփոխությունները (ավելացումները նշված են դրական նշանով, իսկ նվազեցումները` փակագծերում)
A8: բաժին | B8: խումբ | C8: դաս | D8: Ծրագիր | E8: Միջոցառում | G8: Առաջին եռամսյակ | H8: Առաջին կիսամյակ | I8: Ինն ամիս | J8: Տարի
A9: ԸՆԴԱՄԵՆԸ | G9: =+G10+G218 -> 0 | H9: =+H10+H218 -> 0 | I9: =+I10+I218 -> 0 | J9: =+J10+J218 -> 0
A10: 07 | F10: ԱՌՈՂՋԱՊԱՀՈՒԹՅՈՒՆ | G10: =+G12+G29+G61+G184+G201 -> 1640000 | H10: =+H12+H29+H61+H184+H201 -> 2500000 | I10: =+I12+I29+I61+I184+I201 -> 2500000 | J10: =+J12+J29+J61+J184+J201 -> 2500000
F11: այդ թվում՝
B12: 01 | F12: Բժշկական ապրանքներ, սարքեր և սարքավորումներ | G12: =+G14 -> -80000 | H12: =+H14 -> -100078 | I12: =+I14 -> -100078 | J12: =+J14 -> -100078
F13: այդ թվում`
C14: 01 | F14: Դեղագործական ապրանքներ | G14: =+G16 -> -80000 | H14: =+H16 -> -100078 | I14: =+I16 -> -100078 | J14: =+J16 -> -100078
F15: այդ թվում`
F16: ՀՀ առողջապահության նախարարություն | G16: =+G18 -> -80000 | H16: =+H18 -> -100078 | I16: =+I18 -> -100078 | J16: =+J18 -> -100078
F17: այդ թվում`
D18: 1188 | F18: Դեղապահովում | G18: =+G20 -> -80000 | H18: =+H20 -> -100078 | I18: =+I20 -> -100078 | J18: =+J20 -> -100078
F19: այդ թվում`
E20: 12001 | F20: Դեղորայքի տրամադրում ամբուլատոր-պոլիկլինիկական, հիվանդանոցային բուժօգնություն ստացողներին և հատուկ խմբերում ընդգրկված ֆիզիկական անձանց | G20: =+G22 -> -80000 | H20: =+H22 -> -100078 | I20: =+I22 -> -100078 | J20: =+J22 -> -100078
F21: այդ թվում` ըստ կատարողների
F22: ՀՀ առողջապահության նախարարություն | G22: =+G24 -> -80000 | H22: =+H24 -> -100078 | I22: =+I24 -> -100078 | J22: =+J24 -> -100078
F23: այդ թվում` բյուջետային ծախսերի տնտեսագիտական դասակարգման հոդվածներ
F24: ԸՆԴԱՄԵՆԸ ԾԱԽՍԵՐ | G24: =+G25 -> -80000 | H24: =+H25 -> -100078 | I24: =+I25 -> -100078 | J24: =+J25 -> -100078
F25: ԸՆԹԱՑԻԿ ԾԱԽՍԵՐ | G25: =+G26 -> -80000 | H25: =+H26 -> -100078 | I25: =+I26 -> -100078 | J25: =+J26 -> -100078
F26: ԾԱՌԱՅՈՒԹՅՈՒՆՆԵՐԻ ԵՎ ԱՊՐԱՆՔՆԵՐԻ ՁԵՌՔԲԵՐՈՒՄ | G26: =+G27 -> -80000 | H26: =+H27 -> -100078 | I26: =+I27 -> -100078 | J26: =+J27 -> -100078
F27: Նյութեր (Ապրանքներ) | G27: =+G28 -> -80000 | H27: =+H28 -> -100078 | I27: =+I28 -> -100078 | J27: =+J28 -> -100078
F28: - Առողջապահական և լաբորատոր նյութեր | G28: =+'2'!G18 -> -80000 | H28: =+'2'!H18 -> -100078 | I28: =+'2'!I18 -> -100078 | J28: =+'2'!J18 -> -100078
B29: 02 | F29: Արտահիվանդանոցային ծառայություններ | G29: =+G31+G46 -> 940000 | H29: =+H31+H46 -> 440000 | I29: =+I31+I46 -> 0 | J29: =+J31+J46 -> 0
F30: այդ թվում`
C31: 01 | F31: Ընդհանուր բնույթի բժշկական ծառայություններ | G31: =+G33 -> 850000 | H31: =+H33 -> 440000 | I31: =+I33 -> 0 | J31: =+J33 -> 0
F32: այդ թվում`
F33: ՀՀ առողջապահության նախարարություն | G33: =+G35 -> 850000 | H33: =+H35 -> 440000 | I33: =+I35 -> 0 | J33: =+J35 -> 0
F34: այդ թվում`
D35: 1099 | F35: Առողջության առաջնային պահպանում | G35: =+G37 -> 850000 | H35: =+H37 -> 440000 | I35: =+I37 -> 0 | J35: =+J37 -> 0
F36: այդ թվում`
E37: 11001 | F37: Առողջության առաջնային պահպանման բժշկական օգնության ծառայություններ | G37: =+G39 -> 850000 | H37: =+H39 -> 440000 | I37: =+I39 -> 0 | J37: =+J39 -> 0
F38: այդ թվում` ըստ կատարողների
F39: ՀՀ առողջապահության նախարարություն | G39: =+G41 -> 850000 | H39: =+H41 -> 440000 | I39: =+I41 -> 0 | J39: =+J41 -> 0
F40: այդ թվում` բյուջետային ծախսերի տնտեսագիտական դասակարգման հոդվածներ
F41: ԸՆԴԱՄԵՆԸ ԾԱԽՍԵՐ | G41: =+G42 -> 850000 | H41: =+H42 -> 440000 | I41: =+I42 -> 0 | J41: =+J42 -> 0
F42: ԸՆԹԱՑԻԿ ԾԱԽՍԵՐ | G42: =+G43 -> 850000 | H42: =+H43 -> 440000 | I42: =+I43 -> 0 | J42: =+J43 -> 0
F43: ՍՈՑԻԱԼԱԿԱՆ ՆՊԱՍՏՆԵՐ ԵՎ ԿԵՆՍԱԹՈՇԱԿՆԵՐ | G43: =+G44 -> 850000 | H43: =+H44 -> 440000 | I43: =+I44 -> 0 | J43: =+J44 -> 0
F44: Սոցիալական օգնության դրամական արտահայտությամբ նպաստներ (բյուջեից) | G44: =+G45 -> 850000 | H44: =+H45 -> 440000 | I44: =+I45 -> 0 | J44: =+J45 -> 0
F45: - Այլ նպաստներ բյուջեից | G45: =+'2'!G14 -> 850000 | H45: =+'2'!H14 -> 440000 | I45: =+'2'!I14 -> 0 | J45: =+'2'!J14 -> 0
C46: 04 | F46: Պարաբժշկական ծառայություններ | G46: =+G48 -> 90000 | H46: =+H48 -> 0 | I46: =+I48 -> 0 | J46: =+J48 -> 0
F47: այդ թվում`
F48: ՀՀ առողջապահության նախարարություն | G48: =+G50 -> 90000 | H48: =+H50 -> 0 | I48: =+I50 -> 0 | J48: =+J50 -> 0
F49: այդ թվում`
D50: 1201 | F50: Շտապ բժշկական օգնություն | G50: =+G52 -> 90000 | H50: =+H52 -> 0 | I50: =+I52 -> 0 | J50: =+J52 -> 0
F51: այդ թվում`
E52: 11001 | F52: Շտապ բժշկական օգնության ծառայություններ | G52: =+G54 -> 90000 | H52: =+H54 -> 0 | I52: =+I54 -> 0 | J52: =+J54 -> 0
F53: այդ թվում` ըստ կատարողների
F54: ՀՀ առողջապահության նախարարություն | G54: =+G56 -> 90000 | H54: =+H56 -> 0 | I54: =+I56 -> 0 | J54: =+J56 -> 0
F55: այդ թվում` բյուջետային ծախսերի տնտեսագիտական դասակարգման հոդվածներ
F56: ԸՆԴԱՄԵՆԸ ԾԱԽՍԵՐ | G56: =+G57 -> 90000 | H56: =+H57 -> 0 | I56: =+I57 -> 0 | J56: =+J57 -> 0
F57: ԸՆԹԱՑԻԿ ԾԱԽՍԵՐ | G57: =+G58 -> 90000 | H57: =+H58 -> 0 | I57: =+I58 -> 0 | J57: =+J58 -> 0
F58: ՍՈՑԻԱԼԱԿԱՆ ՆՊԱՍՏՆԵՐ ԵՎ ԿԵՆՍԱԹՈՇԱԿՆԵՐ | G58: =+G59 -> 90000 | H58: =+H59 -> 0 | I58: =+I59 -> 0 | J58: =+J59 -> 0
F59: Սոցիալական օգնության դրամական արտահայտությամբ նպաստներ (բյուջեից) | G59: =+G60 -> 90000 | H59: =+H60 -> 0 | I59: =+I60 -> 0 | J59: =+J60 -> 0
F60: - Այլ նպաստներ բյուջեից | G60: =+'2'!G23 -> 90000 | H60: =+'2'!H23 -> 0 | I60: =+'2'!I23 -> 0 | J60: =+'2'!J23 -> 0
B61: 03 | F61: Հիվանդանոցային ծառայություններ | G61: =+G63+G125+G160 -> 801352.7 | H61: =+H63+H125+H160 -> 2425000 | I61: =+I63+I125+I160 -> 2900000 | J61: =+J63+J125+J160 -> 2900000
F62: այդ թվում`
C63: 01 | F63: Ընդհանուր բնույթի հիվանդանոցային ծառայություններ | G63: =+G67+G87 -> -1768647.3 | H63: =+H67+H87 -> -2029000 | I63: =+I67+I87 -> -323791 | J63: =+J67+J87 -> 400000
F64: այդ թվում`
F65: ՀՀ առողջապահության նախարարություն | G65: =+G67 -> -2466647.3 | H65: =+H67 -> -4461980 | I65: =+I67 -> -730281.9 | J65: =+J67 -> 0
F66: այդ թվում`
D67: 1202 | F67: Ոչ վարակիչ հիվանդությունների բժշկական օգնության ապահովում | G67: =+G69+G78 -> -2466647.3 | H67: =+H69+H78 -> -4461980 | I67: =+I69+I78 -> -730281.9 | J67: =+J69+J78 -> 0
F68: այդ թվում`
E69: 11002 | F69: Անհետաձգելի բժշկական օգնություն՛ այդ թվում սրտի վիրահատություններ | G69: =+G71 -> 560000 | H69: =+H71 -> 710000 | I69: =+I71 -> 255661.4 | J69: =+J71 -> 0
F70: այդ թվում` ըստ կատարողների
F71: ՀՀ առողջապահության նախարարություն | G71: =+G73 -> 560000 | H71: =+H73 -> 710000 | I71: =+I73 -> 255661.4 | J71: =+J73 -> 0
F72: այդ թվում` բյուջետային ծախսերի տնտեսագիտական դասակարգման հոդվածներ
F73: ԸՆԴԱՄԵՆԸ ԾԱԽՍԵՐ | G73: =+G74 -> 560000 | H73: =+H74 -> 710000 | I73: =+I74 -> 255661.4 | J73: =+J74 -> 0
F74: ԸՆԹԱՑԻԿ ԾԱԽՍԵՐ | G74: =+G75 -> 560000 | H74: =+H75 -> 710000 | I74: =+I75 -> 255661.4 | J74: =+J75 -> 0
F75: ՍՈՑԻԱԼԱԿԱՆ ՆՊԱՍՏՆԵՐ ԵՎ ԿԵՆՍԱԹՈՇԱԿՆԵՐ | G75: =+G76 -> 560000 | H75: =+H76 -> 710000 | I75: =+I76 -> 255661.4 | J75: =+J76 -> 0
F76: Սոցիալական օգնության դրամական արտահայտությամբ նպաստներ (բյուջեից) | G76: =+G77 -> 560000 | H76: =+H77 -> 710000 | I76: =+I77 -> 255661.4 | J76: =+J77 -> 0
F77: - Այլ նպաստներ բյուջեից | G77: =+'2'!G25 -> 560000 | H77: =+'2'!H25 -> 710000 | I77: =+'2'!I25 -> 255661.4 | J77: =+'2'!J25 -> 0
E78: 11006 | F78: Առողջության համընդհանուր ապահովագրության ներդրմանն ուղղված լրացուցիչ միջոցառումներ | G78: =+G80 -> -3026647.3 | H78: =+H80 -> -5171980 | I78: =+I80 -> -985943.3 | J78: =+J80 -> 0
F79: այդ թվում` ըստ կատարողների
F80: ՀՀ առողջապահության նախարարություն | G80: =+G82 -> -3026647.3 | H80: =+H82 -> -5171980 | I80: =+I82 -> -985943.3 | J80: =+J82 -> 0
F81: այդ թվում` բյուջետային ծախսերի տնտեսագիտական դասակարգման հոդվածներ
F82: ԸՆԴԱՄԵՆԸ ԾԱԽՍԵՐ | G82: =+G83 -> -3026647.3 | H82: =+H83 -> -5171980 | I82: =+I83 -> -985943.3 | J82: =+J83 -> 0
F83: ԸՆԹԱՑԻԿ ԾԱԽՍԵՐ | G83: =+G84 -> -3026647.3 | H83: =+H84 -> -5171980 | I83: =+I84 -> -985943.3 | J83: =+J84 -> 0
F84: ՍՈՑԻԱԼԱԿԱՆ ՆՊԱՍՏՆԵՐ ԵՎ ԿԵՆՍԱԹՈՇԱԿՆԵՐ | G84: =+G85 -> -3026647.3 | H84: =+H85 -> -5171980 | I84: =+I85 -> -985943.3 | J84: =+J85 -> 0
F85: Սոցիալական օգնության դրամական արտահայտությամբ նպաստներ (բյուջեից) | G85: =+G86 -> -3026647.3 | H85: =+H86 -> -5171980 | I85: =+I86 -> -985943.3 | J85: =+J86 -> 0
F86: - Այլ նպաստներ բյուջեից | G86: =+'2'!G28 -> -3026647.3 | H86: =+'2'!H28 -> -5171980 | I86: =+'2'!I28 -> -985943.3 | J86: =+'2'!J28 -> 0
D87: 1207 | F87: Սոցիալապես անապահով և առանձին խմբերի անձանց բժշկական օգնություն | G87: =+G89+G98+G116+G107 -> 698000 | H87: =+H89+H98+H116+H107 -> 2432980 | I87: =+I89+I98+I116+I107 -> 406490.9 | J87: =+J89+J98+J116+J107 -> 400000
F88: այդ թվում`
E89: 11001 | F89: Սոցիալապես անապահով և հատուկ խմբերում ընդգրկվածներին բժշկական օգնության ծառայություններ | G89: =+G91 -> 300000 | H89: =+H91 -> 1720000 | I89: =+I91 -> 0 | J89: =+J91 -> 0
F90: այդ թվում` ըստ կատարողների
F91: ՀՀ առողջապահության նախարարություն | G91: =+G93 -> 300000 | H91: =+H93 -> 1720000 | I91: =+I93 -> 0 | J91: =+J93 -> 0
F92: այդ թվում` բյուջետային ծախսերի տնտեսագիտական դասակարգման հոդվածներ
F93: ԸՆԴԱՄԵՆԸ ԾԱԽՍԵՐ | G93: =+G94 -> 300000 | H93: =+H94 -> 1720000 | I93: =+I94 -> 0 | J93: =+J94 -> 0
F94: ԸՆԹԱՑԻԿ ԾԱԽՍԵՐ | G94: =+G95 -> 300000 | H94: =+H95 -> 1720000 | I94: =+I95 -> 0 | J94: =+J95 -> 0
F95: ՍՈՑԻԱԼԱԿԱՆ ՆՊԱՍՏՆԵՐ ԵՎ ԿԵՆՍԱԹՈՇԱԿՆԵՐ | G95: =+G96 -> 300000 | H95: =+H96 -> 1720000 | I95: =+I96 -> 0 | J95: =+J96 -> 0
F96: Սոցիալական օգնության դրամական արտահայտությամբ նպաստներ (բյուջեից) | G96: =+G97 -> 300000 | H96: =+H97 -> 1720000 | I96: =+I97 -> 0 | J96: =+J97 -> 0
F97: - Այլ նպաստներ բյուջեից | G97: =+'2'!G30 -> 300000 | H97: =+'2'!H30 -> 1720000 | I97: =+'2'!I30 -> 0 | J97: =+'2'!J30 -> 0
E98: 11002 | F98: Ստոմատոլոգիական բժշկական օգնության ծառայություններ | G98: =+G100 -> 8000 | H98: =+H100 -> 12980 | I98: =+I100 -> 6490.9 | J98: =+J100 -> 0
F99: այդ թվում` ըստ կատարողների
F100: ՀՀ առողջապահության նախարարություն | G100: =+G102 -> 8000 | H100: =+H102 -> 12980 | I100: =+I102 -> 6490.9 | J100: =+J102 -> 0
...

Sheet 4
A1: Հավելված № 4
A2: ՀՀ կառավարության 2026 թվականի
A3: __________ «____» -ի
A4: N_____ -Ն որոշման
A5: ՀԱՅԱՍՏԱՆԻ ՀԱՆՐԱՊԵՏՈՒԹՅԱՆ ԿԱՌԱՎԱՐՈՒԹՅԱՆ 2025 ԹՎԱԿԱՆԻ ԴԵԿՏԵՄԲԵՐԻ 25-Ի № 1910-Ն ՈՐՈՇՄԱՆ № 5 ՀԱՎԵԼՎԱԾԻ № 7 ԱՂՅՈՒՍԱԿՈՒՄԿԱՏԱՐՎՈՂ ՓՈՓՈԽՈՒԹՅՈՒՆՆԵՐԸ
E6: (հազար դրամներով)
A7: Ծրագրային դասիչ | C7: Բյուջետային հատկացումների գլխավոր կարգադրիչների, ծրագրերի, միջոցառումների, ծախսային ուղղությունների անվանումները | D7: Միջոցառումները կատարող պետական մարմինների և դրամաշնորհ ստացող տնտեսվարող սուբյեկտների անվանումները | E7: Ցուցանիշների փոփոխությունները` ավելացումները նշված են դրական նշանով
A8: Ծրագիր | B8: Միջոցառում | E8: Տարի
A9: 1 | B9: 2 | C9: 3 | D9: 4 | E9: 5
A10: ՀՀ առողջապահության նախարարություն | E10: =+E11 -> -299922
A11: 1003 | B11: Հանրային առողջության պահպանում | E11: =+E12 -> -299922
B12: 11002 | C12: Իմունականխարգելման ազգային ծրագիր | D12: ՀՀ առողջապահության նախարարություն | E12: =+E13 -> -299922
D13: «Հիվանդությունների վերահսկման և կանխարգելման ազգային կենտրոն» ՊՈԱԿ | E13: =+'2'!J12 -> -299922

Sheet 5
B1: Հավելված № 5
B2: ՀՀ կառավարության 2026 թվականի
B3: __________ «____» -ի
B4: N_____ -Ն որոշման
B5: ՀԱՅԱՍՏԱՆԻ ՀԱՆՐԱՊԵՏՈՒԹՅԱՆ ԿԱՌԱՎԱՐՈՒԹՅԱՆ 2025 ԹՎԱԿԱՆԻ ԴԵԿՏԵՄԲԵՐԻ 25-Ի № 1910-Ն ՈՐՈՇՄԱՆ № 9 ՀԱՎԵԼՎԱԾՈՒՄ ԿԱՏԱՐՎՈՂ ՓՈՓՈԽՈՒԹՅՈՒՆՆԵՐԸ
A6: (հազար դրամներով)
A7: ԲԳԿ | B7: Ծրագիր | D7: Միջոցառում | H7: Իրականացնողը/ ակտիվն օգտագործողը/ շահառուի ընտրության չափորոշիչը | I7: Արդյունքային չափորոշիչը | J7: Ցուցանիշների փոփոխությունները (ավելացումները նշված են դրական նշանով, իսկ նվազեցումները` փակագծերում)
B8: Դասիչը | C8: Անվանումը | D8: Դասիչը | E8: Անվանումը | F8: Նկարագրությունը | G8: Տեսակը | J8: Առաջին եռամսյակ | K8: Առաջին կիսամյակ | L8: Ինն ամիս | M8: Տարի
A9: ԸՆԴԱՄԵՆԸ | J9: =+J10+J104 -> 0 | K9: =+K10+K104 -> 0 | L9: =+L10+L104 -> 0 | M9: =+M10+M104 -> 0
A10: ՀՀ առողջապահության նախարարություն | J10: =+J11+J16+J22+J27+J32+J45+J50+J75+J98 -> 1640000 | K10: =+K11+K16+K22+K27+K32+K45+K50+K75+K98 -> 2500000 | L10: =+L11+L16+L22+L27+L32+L45+L50+L75+L98 -> 2500000 | M10: =+M11+M16+M22+M27+M32+M45+M50+M75+M98 -> 2500000
B11: 1003 | C11: Հանրային առողջության պահպանում | J11: =+J12 -> -76352.7 | K11: =+K12 -> -299922 | L11: =+L12 -> -299922 | M11: =+M12 -> -299922
D12: 1003 - 11002 | E12: Իմունականխարգելման ազգային ծրագիր | J12: =+'2'!G12 -> -76352.7 | K12: =+'2'!H12 -> -299922 | L12: =+'2'!I12 -> -299922 | M12: =+'2'!J12 -> -299922
F13: Բնակչության շրջանում կառավարելի վարակիչ հիվանդությունների իմունականխարգելում` կառավարելի վարակիչ հիվանդություններով հիվանդացության նվազեցման և մահվան դեպքերի կանխման, ինչպես նաև բնակչության կոլեկտիվ անընկալության ապահովման նպատակով
G14: Ծառայությունների մատուցում
H15: Ծառայությունը մատուցողի անվանումը` Մասնագիտացված կազմակերպություն
B16: 1099 | C16: Առողջության առաջնային պահպանում | J16: =+J17 -> 850000 | K16: =+K17 -> 440000 | L16: =+L17 -> 0 | M16: =+M17 -> 0
D17: 1099 - 11001 | E17: Առողջության առաջնային պահպանման բժշկական օգնության ծառայություններ | J17: =+'2'!G14 -> 850000 | K17: =+'2'!H14 -> 440000 | L17: =+'2'!I14 -> 0 | M17: =+'2'!J14 -> 0
F18: Առողջության առաջնային պահպանման օղակում հիվանդությունների կանխարգելում, ախտորոշում, բուժում, լաբորատոր-գործիքային հետազոտություններ (այդ թվում զինապարտներին, հղիներին) առանձին հիվանդություների դիսպանսեր հսկողություն
G19: Ծառայությունների մատուցում
H20: Ծառայությունը մատուցողի անվանումը` ՀՀ գնումների մասին օրենսդրությանը համապատասխան ընտրված կազմակերպություններ
I21: Հղիների նախածննդյան և հետծննդյան հսկողության ընթացքում իրականացվող լաբորատոր-գործիքային ախտորոշիչ հետազոտությունների թիվ, հատ | K21: 43400
B22: 1142 | C22: Դատաբժշկական և ախտաբանաանատոմիական ծառայություններ | J22: =+J23 -> 55000 | K22: =+K23 -> 35000 | L22: =+L23 -> 0 | M22: =+M23 -> 0
D23: 1142 - 11001 | E23: Դատաբժշկական և ախտաբանաանատոմիական բժշկական օգնության ծառայություններ | J23: =+'2'!G16 -> 55000 | K23: =+'2'!H16 -> 35000 | L23: =+'2'!I16 -> 0 | M23: =+'2'!J16 -> 0
F24: Հանրապետության ուժային մարմինների որոշումների հիման վրա դատաբժշկական և գենետիկ փորձաքննությունների ապահովում` մահերի պատճառների վերհանման փորձաքննություններ: Մանկական մահերի պատճառների բացահայտում` մանկամահացության մակարդակը նվազեցնելու նպատակով
G25: Ծառայությունների մատուցում
H26: Ծառայությունը մատուցողի անվանումը` Մասնագիտացված կազմակերպություն (ներ)
B27: 1188 | C27: Դեղապահովում | J27: =+J28 -> -80000 | K27: =+K28 -> -100078 | L27: =+L28 -> -100078 | M27: =+M28 -> -100078
D28: 1188 - 12001 | E28: Դեղորայքի տրամադրում ամբուլատոր-պոլիկլինիկական, հիվանդանոցային բուժօգնություն ստացողներին և հատուկ խմբերում ընդգրկված ֆիզիկական անձանց | J28: =+'2'!G18 -> -80000 | K28: =+'2'!H18 -> -100078 | L28: =+'2'!I18 -> -100078 | M28: =+'2'!J18 -> -100078
F29: Կենտրոնացված կարգով դեղորայքի ձեռքբերում հիվանդանոցային բուժօգնություն ստացողներին և հատուկ խմբերում ընդգրկված ֆիզիկական անձանց տրամադրելու նպատակով
G30: Տրանսֆերտների տրամադրում
H31: Շահառուների ընտրության չափորոշիչները` Ամբուլատոր-պոլիկլինիկական, հիվանդանոցային բուժօգնություն ստացողներ և հատուկ խմբերում ընդգրկված ֆիզիկական անձինք
B32: 1200 | C32: Մոր և մանկան առողջության պահպանում | J32: =+J33+J38 -> 1985000 | K32: =+K33+K38 -> 3314000 | L32: =+L33+L38 -> 2900000 | M32: =+M33+M38 -> 2500000
D33: 1200 - 11001 | E33: Մանկաբարձական բժշկական օգնության ծառայություններ | J33: =+'2'!G20 -> 345000 | K33: =+'2'!H20 -> 814000 | L33: =+'2'!I20 -> 400000 | M33: =+'2'!J20 -> 0
F34: Մանկաբարձական բժշկական օգնության համալիր միջոցառումների իրականացում, հղիության ախտաբանական ընթացքի բժշկական օգնություն և ծննդօգնություն
G35: Ծառայությունների մատուցում
H36: Ծառայությունը մատուցողի անվանումը` ՀՀ գնումների մասին օրենսդրությանը համապատասխան ընտրված կազմակերպություններ
I37: Ծնունդների թիվ, հատ, որից | K37: 4200
D38: 1200 - 11003 | E38: Երեխաներին բժշկական օգնության ծառայություններ | J38: =+'2'!G21 -> 1640000 | K38: =+'2'!H21 -> 2500000 | L38: =+'2'!I21 -> 2500000 | M38: =+'2'!J21 -> 2500000
F39: Երեխաների հիվանդանոցային, արտահիվանդանոցային վերականգնողական բուժօգնության իրականացում: Նորածինների հիվանդությունների վաղ հայտնաբերման սքրինգների իրականացման ծառայություններ
G40: Ծառայությունների մատուցում
H41: Ծառայությունը մատուցողի անվանումը` ՀՀ գնումների մասին օրենսդրությանը համապատասխան ընտրված կազմակերպություններ
I42: Երեխաների բժշկական օգնության գծով ծառայություններից օգտվելու դեպքերի թիվ, հատ | K42: 6670 | M42: 6670
I43: Մտավոր, հոգեկան (վարքագծային), լսողական, ֆիզիկական (շարժողական) և զարգացման այլ խանգարումներով երեխաների վերականգնողական բուժման գծով ծառայություններից օգտվելու դեպքերի թիվ, հատ | K43: 35300 | M43: 35300
I44: Նորածնային սքրինինգների իրականացում (բնածին հիպոթիրեոզի, ֆենիլկետոնուրիայի, լսողության, տեսողության և կոնքազդրային հոդի) սքրինինգների թիվ, հատ | K44: 36900 | M44: 36900
B45: 1201 | C45: Շտապ բժշկական օգնություն | J45: =+J46 -> 90000 | K45: =+K46 -> 0 | L45: =+L46 -> 0 | M45: =+M46 -> 0
D46: 1201 - 11001 | E46: Շտապ բժշկական օգնության ծառայություններ | J46: =+'2'!G23 -> 90000 | K46: =+'2'!H23 -> 0 | L46: =+'2'!I23 -> 0 | M46: =+'2'!J23 -> 0
F47: Շտապ բժշկական օգնության իրականացում
G48: Ծառայությունների մատուցում
H49: Ծառայությունը մատուցողի անվանումը` ՀՀ գնումների մասին օրենսդրությանը համապատասխան ընտրված կազմակերպություններ
B50: 1202 | C50: Ոչ վարակիչ հիվանդությունների բժշկական օգնության ապահովում | J50: =+J51+J59+J64+J70 -> -1906647.3 | K50: =+K51+K59+K64+K70 -> -3321980 | L50: =+L51+L59+L64+L70 -> -406490.9 | M50: =+M51+M59+M64+M70 -> 0
D51: 1202 - 11002 | E51: Անհետաձգելի բժշկական օգնություն՛ այդ թվում սրտի վիրահատություններ | J51: =+'2'!G25 -> 560000 | K51: =+'2'!H25 -> 710000 | L51: =+'2'!I25 -> 255661.4 | M51: =+'2'!J25 -> 0
F52: Անհետաձգելի բուժօգնության իրականացում` ԱՆ կողմից հաստատված հիվանդությունների, վիճակների ցանկի համաձայն՛ այդ թվում սրտի վիրահատություններ
G53: Ծառայությունների մատուցում
H54: Ծառայությունը մատուցողի անվանումը` ՀՀ գնումների մասին օրենսդրությանը համապատասխան ընտրված կազմակերպություններ
I55: Անհետաձգելի բժշկական օգնություն | K55: 3400
I56: Գլխուղեղի սուր կամ ենթասուր իշեմիկ ինսուլտի բուժում | K56: 80
I57: Հիվանդանոցային պայմաններում արտահիվանդանոցային բժշկական օգնություն (emergency) | K57: 4800
I58: Սրտի անհետաձգելի վիրահատություններ | K58: 730 | M58: 324
D59: 1202 - 11003 | E59: Հոգեկան առողջության խնդիրներ և կախվածություն (թմրաբանական) ունեցող պացիենտների բժշկական օգնության ծառայություններ | J59: =+'2'!G26 -> 180000 | K59: =+'2'!H26 -> 230000 | L59: =+'2'!I26 -> 0 | M59: =+'2'!J26 -> 0
F60: Հոգեկան առողջության խնդիրներ և կախվածություն (թմրաբանական) ունեցող պացիենտների բուժում և շարունակական հսկողության համալիր միջոցառումների իրականացում
G61: Ծառայությունների մատուցում
H62: Ծառայությունը մատուցողի անվանումը` ՀՀ գնումների մասին օրենսդրությանը համապատասխան ընտրված կազմակերպություններ
I63: Հոգեկան առողջության խնդիրներ և կախվածություն (թմրաբանական) ունեցող պացիենտների բժշկական օգնության գծով ծառայություններից օգտվելու դեպքերի թիվ, հատ | K63: 1300
D64: 1202 - 11004 | E64: Ուռուցքաբանական և արյունաբանական հիվանդությունների բժշկական օգնության ծառայություններ | J64: =+'2'!G27 -> 380000 | K64: =+'2'!H27 -> 910000 | L64: =+'2'!I27 -> 323791 | M64: =+'2'!J27 -> 0
F65: Ուռուցքաբանական և արյունաբանական հիվանդների բուժում և շարունակական հսկողության համալիր միջոցառումների իրականացում
G66: Ծառայությունների մատուցում
H67: Ծառայությունը մատուցողի անվանումը` ՀՀ գնումների մասին օրենսդրությանը համապատասխան ընտրված կազմակերպություններ
I68: Ուռուցքաբանական հիվանդությունների բժշկական օգնության ծառայություններ | K68: 1900
I69: Ուռուցքաբանական հիվանդությունների վիրահատական բժշկական օգնության ծառայություններ | K69: 900
D70: 1202 - 11006 | E70: Առողջության համընդհանուր ապահովագրության ներդրմանն ուղղված լրացուցիչ միջոցառումներ | J70: =+'2'!G28 -> -3026647.3 | K70: =+'2'!H28 -> -5171980 | L70: =+'2'!I28 -> -985943.3 | M70: =+'2'!J28 -> 0
F71: Առողջության համընդհանուր ապահովագրության համակարգի ներդրում և Հիմնադրամի ընթացիկ գործունեության ապահովում
G72: Ծառայությունների մատուցում
H73: Ծառայությունը մատուցողի անվանումը` ՀՀ գնումների մասին օրենսդրությանը համապատասխան ընտրված կազմակերպություններ
B75: 1207 | C75: Սոցիալապես անապահով և առանձին խմբերի անձանց բժշկական օգնություն | J75: =+J76+J84+J88+J93 -> 698000 | K75: =+K76+K84+K88+K93 -> 2432980 | L75: =+L76+L84+L88+L93 -> 406490.9 | M75: =+M76+M84+M88+M93 -> 400000
D76: 1207 - 11001 | E76: Սոցիալապես անապահով և հատուկ խմբերում ընդգրկվածներին բժշկական օգնության ծառայություններ | J76: =+'2'!G30 -> 300000 | K76: =+'2'!H30 -> 1720000 | L76: =+'2'!I30 -> 0 | M76: =+'2'!J30 -> 0
F77: Բնակչության սոցիալապես անապահով և հատուկ խմբերում ընդգրկվածների բժշկական օգնության իրականացում` ՀՀ կառավարության որոշմամբ հաստատված բնակչության խմբերի և ծառայությունների ցանկի համաձայն
G78: Ծառայությունների մատուցում
H79: Ծառայությունը մատուցողի անվանումը` ՀՀ գնումների մասին օրենսդրությանը համապատասխան ընտրված կազմակերպություններ
I80: Սոցիալապես անապահով և հատուկ խմբերում ընդգրկվածներին բժշկական օգնության ծառայություններ | K80: 8500 | M80: 1235
I81: Սոցիալապես անապահով և հատուկ խմբերում ընդգրկվածների սրտի վիրահատություններ | K81: 700 | M81: 47
I82: Արտահիվանդանոցային դժվարամատչելի ախտորոշիչ հետազոտություններ | K82: 5200
I83: Վերականգնողական բժշկական օգնություն | K83: 1100 | M83: 818
D84: 1207 - 11002 | E84: Ստոմատոլոգիական բժշկական օգնության ծառայություններ | J84: =+'2'!G31 -> 8000 | K84: =+'2'!H31 -> 12980 | L84: =+'2'!I31 -> 6490.9 | M84: =+'2'!J31 -> 0
F85: Ստոմատոլոգիական բժշկական օգնության համալիր միջոցառումների (հետազոտում, ախտորոշում, բուժում) իրականացում սոցիալապես անապահով ու հատուկ խմբերում ընդգրկվածներին
G86: Ծառայությունների մատուցում
H87: Ծառայությունը մատուցողի անվանումը` ՀՀ գնումների մասին օրենսդրությանը համապատասխան ընտրված կազմակերպություններ
D88: 1207 - 11003 | E88: Զինծառայողներին, ինչպես նաև փրկարար ծառայողներին և նրանց ընտանիքի անդամներին բժշկական օգնության ծառայություններ | J88: =+'2'!G32 -> 185000 | K88: =+'2'!H32 -> 300000 | L88: =+'2'!I32 -> 0 | M88: =+'2'!J32 -> 0
F89: Զինծառայողներին, նրանց հավասարեցված անձանց, ինչպես նաև փրկարար ծառայողներին և նրանց ընտանիքի անդամներին բժշկական օգնության իրականացում (հետազոտում, ախտորոշում, բուժում)
G90: Ծառայությունների մատուցում
H91: Ծառայությունը մատուցողի անվանումը` ՀՀ գնումների մասին օրենսդրությանը համապատասխան ընտրված կազմակերպություններ
I92: Բժշկական օգնության գծով ծառայություններից օգտվելու դեպքերի թիվ, հատ | K92: 2900
D93: 1207 - 11007 | E93: Փոխպատվաստման ծառայություններ | J93: =+'2'!G33 -> 205000 | K93: =+'2'!H33 -> 400000 | L93: =+'2'!I33 -> 400000 | M93: =+'2'!J33 -> 400000
F94: Մարդու օրգանների և ոսկրածուծի փոխպատվաստման ծառայությունների իրականացում
G95: Ծառայությունների մատուցում
H96: Ծառայությունը մատուցողի անվանումը` ՀՀ գնումների մասին օրենսդրությանը համապատասխան ընտրված կազմակերպություններ
I97: Փոխպատվաստման ծառայություններ | K97: 30 | M97: 25
B98: 1208 | C98: Վարակիչ հիվանդությունների կանխարգելման ծրագիր | J98: =+J99 -> 25000 | K98: =+K99 -> 0 | L98: =+L99 -> 0 | M98: =+M99 -> 0
D99: 1208 - 11003 | E99: Աղիքային և այլ ինֆեկցիոն հիվանդությունների բժշկական օգնության ծառայություններ այդ թվում ՄԻԱՎ/ՁԻԱՀ-ի կանխարգելման և բուժօգնության ծառայություններ | J99: =+'2'!G35 -> 25000 | K99: =+'2'!H35 -> 0 | L99: =+'2'!I35 -> 0 | M99: =+'2'!J35 -> 0
F100: Աղիքային և այլ ինֆեկցիոն հիվանդությունների վաղ հայտնաբերմանն ուղղված ախտորոշիչ հետազոտություններ, հիվանդների բուժում, ՄԻԱՎ/ՁԻԱՀ հիվանդության կանխարգելում,ախտորոշում, բուժում և հիվանդների դիսպանսերային հսկողություն, քարոզչություն
G101: Ծառայությունների մատուցում
...

Sheet 6
B1: Հավելված № 6
B2: ՀՀ կառավարության 2026 թվականի
B3: __________ «____» -ի
B4: N_____ -Ն որոշման
B5: ՀԱՅԱՍՏԱՆԻ ՀԱՆՐԱՊԵՏՈՒԹՅԱՆ ԿԱՌԱՎԱՐՈՒԹՅԱՆ 2025 ԹՎԱԿԱՆԻ ԴԵԿՏԵՄԲԵՐԻ 25-Ի № 1910-Ն ՈՐՈՇՄԱՆ № 9.1 ՀԱՎԵԼՎԱԾՈՒՄ ԿԱՏԱՐՎՈՂ ՓՈՓՈԽՈՒԹՅՈՒՆՆԵՐԸ
A6: (հազար դրամներով)
A7: ԲՍԿ | B7: Ծրագիր | D7: Միջոցառում | H7: Իրականացնողը/ ակտիվն օգտագործողը/ շահառուի ընտրության չափորոշիչը | I7: Արդյունքային չափորոշիչը | J7: Ցուցանիշների փոփոխությունները (ավելացումները նշված են դրական նշանով, իսկ նվազեցումները` փակագծերում)
B8: Դասիչը | C8: Անվանումը | D8: Դասիչը | E8: Անվանումը | F8: Նկարագրությունը | G8: Տեսակը | J8: Առաջին եռամսյակ | K8: Առաջին կիսամյակ | L8: Ինն ամիս | M8: Տարի
A9: ԸՆԴԱՄԵՆԸ | J9: =+J10+J104 -> 0 | K9: =+K10+K104 -> 0 | L9: =+L10+L104 -> 0 | M9: =+M10+M104 -> 0
A10: ՀՀ առողջապահության նախարարություն | J10: =+J11+J16+J22+J27+J32+J45+J50+J75+J98 -> 1640000 | K10: =+K11+K16+K22+K27+K32+K45+K50+K75+K98 -> 2500000 | L10: =+L11+L16+L22+L27+L32+L45+L50+L75+L98 -> 2500000 | M10: =+M11+M16+M22+M27+M32+M45+M50+M75+M98 -> 2500000
B11: 1003 | C11: Հանրային առողջության պահպանում | J11: =+J12 -> -76352.7 | K11: =+K12 -> -299922 | L11: =+L12 -> -299922 | M11: =+M12 -> -299922
D12: 1003 - 11002 | E12: Իմունականխարգելման ազգային ծրագիր | J12: =+'2'!G12 -> -76352.7 | K12: =+'2'!H12 -> -299922 | L12: =+'2'!I12 -> -299922 | M12: =+'2'!J12 -> -299922
F13: Բնակչության շրջանում կառավարելի վարակիչ հիվանդությունների իմունականխարգելում` կառավարելի վարակիչ հիվանդություններով հիվանդացության նվազեցման և մահվան դեպքերի կանխման, ինչպես նաև բնակչության կոլեկտիվ անընկալության ապահովման նպատակով
G14: Ծառայությունների մատուցում
H15: Ծառայությունը մատուցողի անվանումը` Մասնագիտացված կազմակերպություն
B16: 1099 | C16: Առողջության առաջնային պահպանում | J16: =+J17 -> 850000 | K16: =+K17 -> 440000 | L16: =+L17 -> 0 | M16: =+M17 -> 0
D17: 1099 - 11001 | E17: Առողջության առաջնային պահպանման բժշկական օգնության ծառայություններ | J17: =+'2'!G14 -> 850000 | K17: =+'2'!H14 -> 440000 | L17: =+'2'!I14 -> 0 | M17: =+'2'!J14 -> 0
F18: Առողջության առաջնային պահպանման օղակում հիվանդությունների կանխարգելում, ախտորոշում, բուժում, լաբորատոր-գործիքային հետազոտություններ (այդ թվում զինապարտներին, հղիներին) առանձին հիվանդություների դիսպանսեր հսկողություն
G19: Ծառայությունների մատուցում
H20: Ծառայությունը մատուցողի անվանումը` ՀՀ գնումների մասին օրենսդրությանը համապատասխան ընտրված կազմակերպություններ
I21: Հղիների նախածննդյան և հետծննդյան հսկողության ընթացքում իրականացվող լաբորատոր-գործիքային ախտորոշիչ հետազոտությունների թիվ, հատ | K21: 43400
B22: 1142 | C22: Դատաբժշկական և ախտաբանաանատոմիական ծառայություններ | J22: =+J23 -> 55000 | K22: =+K23 -> 35000 | L22: =+L23 -> 0 | M22: =+M23 -> 0
D23: 1142 - 11001 | E23: Դատաբժշկական և ախտաբանաանատոմիական բժշկական օգնության ծառայություններ | J23: =+'2'!G16 -> 55000 | K23: =+'2'!H16 -> 35000 | L23: =+'2'!I16 -> 0 | M23: =+'2'!J16 -> 0
F24: Հանրապետության ուժային մարմինների որոշումների հիման վրա դատաբժշկական և գենետիկ փորձաքննությունների ապահովում` մահերի պատճառների վերհանման փորձաքննություններ: Մանկական մահերի պատճառների բացահայտում` մանկամահացության մակարդակը նվազեցնելու նպատակով
G25: Ծառայությունների մատուցում
H26: Ծառայությունը մատուցողի անվանումը` Մասնագիտացված կազմակերպություն (ներ)
B27: 1188 | C27: Դեղապահովում | J27: =+J28 -> -80000 | K27: =+K28 -> -100078 | L27: =+L28 -> -100078 | M27: =+M28 -> -100078
D28: 1188 - 12001 | E28: Դեղորայքի տրամադրում ամբուլատոր-պոլիկլինիկական, հիվանդանոցային բուժօգնություն ստացողներին և հատուկ խմբերում ընդգրկված ֆիզիկական անձանց | J28: =+'2'!G18 -> -80000 | K28: =+'2'!H18 -> -100078 | L28: =+'2'!I18 -> -100078 | M28: =+'2'!J18 -> -100078
F29: Կենտրոնացված կարգով դեղորայքի ձեռքբերում հիվանդանոցային բուժօգնություն ստացողներին և հատուկ խմբերում ընդգրկված ֆիզիկական անձանց տրամադրելու նպատակով
G30: Տրանսֆերտների տրամադրում
H31: Շահառուների ընտրության չափորոշիչները` Ամբուլատոր-պոլիկլինիկական, հիվանդանոցային բուժօգնություն ստացողներ և հատուկ խմբերում ընդգրկված ֆիզիկական անձինք
B32: 1200 | C32: Մոր և մանկան առողջության պահպանում | J32: =+J33+J38 -> 1985000 | K32: =+K33+K38 -> 3314000 | L32: =+L33+L38 -> 2900000 | M32: =+M33+M38 -> 2500000
D33: 1200 - 11001 | E33: Մանկաբարձական բժշկական օգնության ծառայություններ | J33: =+'2'!G20 -> 345000 | K33: =+'2'!H20 -> 814000 | L33: =+'2'!I20 -> 400000 | M33: =+'2'!J20 -> 0
F34: Մանկաբարձական բժշկական օգնության համալիր միջոցառումների իրականացում, հղիության ախտաբանական ընթացքի բժշկական օգնություն և ծննդօգնություն
G35: Ծառայությունների մատուցում
H36: Ծառայությունը մատուցողի անվանումը` ՀՀ գնումների մասին օրենսդրությանը համապատասխան ընտրված կազմակերպություններ
I37: Ծնունդների թիվ, հատ, որից | K37: 4200
D38: 1200 - 11003 | E38: Երեխաներին բժշկական օգնության ծառայություններ | J38: =+'2'!G21 -> 1640000 | K38: =+'2'!H21 -> 2500000 | L38: =+'2'!I21 -> 2500000 | M38: =+'2'!J21 -> 2500000
F39: Երեխաների հիվանդանոցային, արտահիվանդանոցային վերականգնողական բուժօգնության իրականացում: Նորածինների հիվանդությունների վաղ հայտնաբերման սքրինգների իրականացման ծառայություններ
G40: Ծառայությունների մատուցում
H41: Ծառայությունը մատուցողի անվանումը` ՀՀ գնումների մասին օրենսդրությանը համապատասխան ընտրված կազմակերպություններ
I42: Երեխաների բժշկական օգնության գծով ծառայություններից օգտվելու դեպքերի թիվ, հատ | K42: 6670 | M42: 6670
I43: Մտավոր, հոգեկան (վարքագծային), լսողական, ֆիզիկական (շարժողական) և զարգացման այլ խանգարումներով երեխաների վերականգնողական բուժման գծով ծառայություններից օգտվելու դեպքերի թիվ, հատ | K43: 35300 | M43: 35300
I44: Նորածնային սքրինինգների իրականացում (բնածին հիպոթիրեոզի, ֆենիլկետոնուրիայի, լսողության, տեսողության և կոնքազդրային հոդի) սքրինինգների թիվ, հատ | K44: 36900 | M44: 36900
B45: 1201 | C45: Շտապ բժշկական օգնություն | J45: =+J46 -> 90000 | K45: =+K46 -> 0 | L45: =+L46 -> 0 | M45: =+M46 -> 0
D46: 1201 - 11001 | E46: Շտապ բժշկական օգնության ծառայություններ | J46: =+'2'!G23 -> 90000 | K46: =+'2'!H23 -> 0 | L46: =+'2'!I23 -> 0 | M46: =+'2'!J23 -> 0
F47: Շտապ բժշկական օգնության իրականացում
G48: Ծառայությունների մատուցում
H49: Ծառայությունը մատուցողի անվանումը` ՀՀ գնումների մասին օրենսդրությանը համապատասխան ընտրված կազմակերպություններ
B50: 1202 | C50: Ոչ վարակիչ հիվանդությունների բժշկական օգնության ապահովում | J50: =+J51+J59+J64+J70 -> -1906647.3 | K50: =+K51+K59+K64+K70 -> -3321980 | L50: =+L51+L59+L64+L70 -> -406490.9 | M50: =+M51+M59+M64+M70 -> 0
D51: 1202 - 11002 | E51: Անհետաձգելի բժշկական օգնություն՛ այդ թվում սրտի վիրահատություններ | J51: =+'2'!G25 -> 560000 | K51: =+'2'!H25 -> 710000 | L51: =+'2'!I25 -> 255661.4 | M51: =+'2'!J25 -> 0
F52: Անհետաձգելի բուժօգնության իրականացում` ԱՆ կողմից հաստատված հիվանդությունների, վիճակների ցանկի համաձայն՛ այդ թվում սրտի վիրահատություններ
G53: Ծառայությունների մատուցում
H54: Ծառայությունը մատուցողի անվանումը` ՀՀ գնումների մասին օրենսդրությանը համապատասխան ընտրված կազմակերպություններ
I55: Անհետաձգելի բժշկական օգնություն | K55: 3400
I56: Գլխուղեղի սուր կամ ենթասուր իշեմիկ ինսուլտի բուժում | K56: 80
I57: Հիվանդանոցային պայմաններում արտահիվանդանոցային բժշկական օգնություն (emergency) | K57: 4800
I58: Սրտի անհետաձգելի վիրահատություններ | K58: 730 | M58: 324
D59: 1202 - 11003 | E59: Հոգեկան առողջության խնդիրներ և կախվածություն (թմրաբանական) ունեցող պացիենտների բժշկական օգնության ծառայություններ | J59: =+'2'!G26 -> 180000 | K59: =+'2'!H26 -> 230000 | L59: =+'2'!I26 -> 0 | M59: =+'2'!J26 -> 0
F60: Հոգեկան առողջության խնդիրներ և կախվածություն (թմրաբանական) ունեցող պացիենտների բուժում և շարունակական հսկողության համալիր միջոցառումների իրականացում
G61: Ծառայությունների մատուցում
H62: Ծառայությունը մատուցողի անվանումը` ՀՀ գնումների մասին օրենսդրությանը համապատասխան ընտրված կազմակերպություններ
I63: Հոգեկան առողջության խնդիրներ և կախվածություն (թմրաբանական) ունեցող պացիենտների բժշկական օգնության գծով ծառայություններից օգտվելու դեպքերի թիվ, հատ | K63: 1300
D64: 1202 - 11004 | E64: Ուռուցքաբանական և արյունաբանական հիվանդությունների բժշկական օգնության ծառայություններ | J64: =+'2'!G27 -> 380000 | K64: =+'2'!H27 -> 910000 | L64: =+'2'!I27 -> 323791 | M64: =+'2'!J27 -> 0
F65: Ուռուցքաբանական և արյունաբանական հիվանդների բուժում և շարունակական հսկողության համալիր միջոցառումների իրականացում
G66: Ծառայությունների մատուցում
H67: Ծառայությունը մատուցողի անվանումը` ՀՀ գնումների մասին օրենսդրությանը համապատասխան ընտրված կազմակերպություններ
I68: Ուռուցքաբանական հիվանդությունների բժշկական օգնության ծառայություններ | K68: 1900
I69: Ուռուցքաբանական հիվանդությունների վիրահատական բժշկական օգնության ծառայություններ | K69: 900
D70: 1202 - 11006 | E70: Առողջության համընդհանուր ապահովագրության ներդրմանն ուղղված լրացուցիչ միջոցառումներ | J70: =+'2'!G28 -> -3026647.3 | K70: =+'2'!H28 -> -5171980 | L70: =+'2'!I28 -> -985943.3 | M70: =+'2'!J28 -> 0
F71: Առողջության համընդհանուր ապահովագրության համակարգի ներդրում և Հիմնադրամի ընթացիկ գործունեության ապահովում
G72: Ծառայությունների մատուցում
H73: Ծառայությունը մատուցողի անվանումը` ՀՀ գնումների մասին օրենսդրությանը համապատասխան ընտրված կազմակերպություններ
B75: 1207 | C75: Սոցիալապես անապահով և առանձին խմբերի անձանց բժշկական օգնություն | J75: =+J76+J84+J88+J93 -> 698000 | K75: =+K76+K84+K88+K93 -> 2432980 | L75: =+L76+L84+L88+L93 -> 406490.9 | M75: =+M76+M84+M88+M93 -> 400000
D76: 1207 - 11001 | E76: Սոցիալապես անապահով և հատուկ խմբերում ընդգրկվածներին բժշկական օգնության ծառայություններ | J76: =+'2'!G30 -> 300000 | K76: =+'2'!H30 -> 1720000 | L76: =+'2'!I30 -> 0 | M76: =+'2'!J30 -> 0
F77: Բնակչության սոցիալապես անապահով և հատուկ խմբերում ընդգրկվածների բժշկական օգնության իրականացում` ՀՀ կառավարության որոշմամբ հաստատված բնակչության խմբերի և ծառայությունների ցանկի համաձայն
G78: Ծառայությունների մատուցում
H79: Ծառայությունը մատուցողի անվանումը` ՀՀ գնումների մասին օրենսդրությանը համապատասխան ընտրված կազմակերպություններ
I80: Սոցիալապես անապահով և հատուկ խմբերում ընդգրկվածներին բժշկական օգնության ծառայություններ | K80: 8500 | M80: 1235
I81: Սոցիալապես անապահով և հատուկ խմբերում ընդգրկվածների սրտի վիրահատություններ | K81: 700 | M81: 47
I82: Արտահիվանդանոցային դժվարամատչելի ախտորոշիչ հետազոտություններ | K82: 5200
I83: Վերականգնողական բժշկական օգնություն | K83: 1100 | M83: 818
D84: 1207 - 11002 | E84: Ստոմատոլոգիական բժշկական օգնության ծառայություններ | J84: =+'2'!G31 -> 8000 | K84: =+'2'!H31 -> 12980 | L84: =+'2'!I31 -> 6490.9 | M84: =+'2'!J31 -> 0
F85: Ստոմատոլոգիական բժշկական օգնության համալիր միջոցառումների (հետազոտում, ախտորոշում, բուժում) իրականացում սոցիալապես անապահով ու հատուկ խմբերում ընդգրկվածներին
G86: Ծառայությունների մատուցում
H87: Ծառայությունը մատուցողի անվանումը` ՀՀ գնումների մասին օրենսդրությանը համապատասխան ընտրված կազմակերպություններ
D88: 1207 - 11003 | E88: Զինծառայողներին, ինչպես նաև փրկարար ծառայողներին և նրանց ընտանիքի անդամներին բժշկական օգնության ծառայություններ | J88: =+'2'!G32 -> 185000 | K88: =+'2'!H32 -> 300000 | L88: =+'2'!I32 -> 0 | M88: =+'2'!J32 -> 0
F89: Զինծառայողներին, նրանց հավասարեցված անձանց, ինչպես նաև փրկարար ծառայողներին և նրանց ընտանիքի անդամներին բժշկական օգնության իրականացում (հետազոտում, ախտորոշում, բուժում)
G90: Ծառայությունների մատուցում
H91: Ծառայությունը մատուցողի անվանումը` ՀՀ գնումների մասին օրենսդրությանը համապատասխան ընտրված կազմակերպություններ
I92: Բժշկական օգնության գծով ծառայություններից օգտվելու դեպքերի թիվ, հատ | K92: 2900
D93: 1207 - 11007 | E93: Փոխպատվաստման ծառայություններ | J93: =+'2'!G33 -> 205000 | K93: =+'2'!H33 -> 400000 | L93: =+'2'!I33 -> 400000 | M93: =+'2'!J33 -> 400000
F94: Մարդու օրգանների և ոսկրածուծի փոխպատվաստման ծառայությունների իրականացում
G95: Ծառայությունների մատուցում
H96: Ծառայությունը մատուցողի անվանումը` ՀՀ գնումների մասին օրենսդրությանը համապատասխան ընտրված կազմակերպություններ
I97: Փոխպատվաստման ծառայություններ | K97: 30 | M97: 25
B98: 1208 | C98: Վարակիչ հիվանդությունների կանխարգելման ծրագիր | J98: =+J99 -> 25000 | K98: =+K99 -> 0 | L98: =+L99 -> 0 | M98: =+M99 -> 0
D99: 1208 - 11003 | E99: Աղիքային և այլ ինֆեկցիոն հիվանդությունների բժշկական օգնության ծառայություններ այդ թվում ՄԻԱՎ/ՁԻԱՀ-ի կանխարգելման և բուժօգնության ծառայություններ | J99: =+'2'!G35 -> 25000 | K99: =+'2'!H35 -> 0 | L99: =+'2'!I35 -> 0 | M99: =+'2'!J35 -> 0
F100: Աղիքային և այլ ինֆեկցիոն հիվանդությունների վաղ հայտնաբերմանն ուղղված ախտորոշիչ հետազոտություններ, հիվանդների բուժում, ՄԻԱՎ/ՁԻԱՀ հիվանդության կանխարգելում,ախտորոշում, բուժում և հիվանդների դիսպանսերային հսկողություն, քարոզչություն
G101: Ծառայությունների մատուցում
...

Sheet 7
A1: Հավելված № 7
A2: ՀՀ կառավարության 2026 թվականի
A3: __________ «____» -ի
A4: N_____ -Ն որոշման
A5: ՀԱՅԱՍՏԱՆԻ ՀԱՆՐԱՊԵՏՈՒԹՅԱՆ ԿԱՌԱՎԱՐՈՒԹՅԱՆ 2025 ԹՎԱԿԱՆԻ ԴԵԿՏԵՄԲԵՐԻ 25-Ի № 1910-Ն ՈՐՈՇՄԱՆ № 10 ՀԱՎԵԼՎԱԾՈՒՄ ԿԱՏԱՐՎՈՂ ՓՈՓՈԽՈՒԹՅՈՒՆՆԵՐԸ
A6: Կոդը | B6: Անվանումը | E6: Գնման ձևը | F6: Չափի միավորը | G6: Միավորի գինը | H6: Քանակը | I6: Ցուցանիշների փոփոխությունը (նվազեցումները` փակագծերում) (հազ. դրամ)
A8: Ընդամենը | I8: =+I9 -> -100078.03
A9: ՀՀ առողջապահության նախարարություն | I9: =+I10 -> -100078.03
A10: Բաժին 07 | B10: Խումբ 01 | C10: Դաս 01 | D10: Դեղագործական ապրանքներ | I10: =+I11 -> -100078.03
A11: 1188 12001 | B11: Դեղորայքի տրամադրում ամբուլատոր-պոլիկլինիկական, հիվանդանոցային բուժօգնություն ստացողներին և հատուկ խմբերում ընդգրկված ֆիզիկական անձանց | I11: =SUM(I13:I42) -> -100078.03
B12: ՄԱՍ I. ԱՊՐԱՆՔՆԵՐ
A13: 33611140-1 | B13: օնդանսետրոն a04aa01 | E13: ԷԱՃ | F13: հատ | G13: 258.78 | H13: -4000 | I13: =G13*H13/1000 -> -1035.12
A14: 33651224-1 | B14: մեթոտրեքսատ l01ba01, l04ax03 | E14: ԷԱՃ | F14: հատ | G14: 4200 | H14: -42 | I14: =G14*H14/1000 -> -176.4
A15: 33651226-1 | B15: բլեոմիցին l01dc01 | E15: ԷԱՃ | F15: հատ | G15: 13345.82 | H15: -41.99 | I15: =G15*H15/1000 -> -560.39098
A16: 33651227-1 | B16: դակարբազին l01ax04 | E16: ԷԱՃ | F16: հատ | G16: 6000 | H16: -158 | I16: =G16*H16/1000 -> -948
A17: 33651228-1 | B17: դակտինոմիցին l01da01 | E17: ԷԱՃ | F17: հատ | G17: 20500 | H17: -84 | I17: =G17*H17/1000 -> -1722
A18: 33651229-1 | B18: դաունոռուբիցին l01db02 | E18: ԷԱՃ | F18: հատ | G18: 10930.34 | H18: -315 | I18: =G18*H18/1000 -> -3443.0571
A19: 33651230-1 | B19: դօքսոռուբիցին l01db01 | E19: ԷԱՃ | F19: հատ | G19: 6383.9 | H19: -204 | I19: =G19*H19/1000 -> -1302.3156
A20: 33651231-1 | B20: էտոպոզիդ l01cb01 | E20: ԷԱՃ | F20: հատ | G20: 2790.7 | H20: -392 | I20: =G20*H20/1000 -> -1093.9544
A21: 33651232-1 | B21: կարբոպլատին l01xa02 | E21: ԷԱՃ | F21: հատ | G21: 8613 | H21: -179 | I21: =G21*H21/1000 -> -1541.727
A22: 33651232-2 | B22: կարբոպլատին l01xa02 | E22: ԷԱՃ | F22: հատ | G22: 16495.2 | H22: -42 | I22: =G22*H22/1000 -> -692.7984
A23: 33651234-1 | B23: մերկապտոպուրին l01bb02 | E23: ԷԱՃ | F23: հատ | G23: 177 | H23: -13000 | I23: =G23*H23/1000 -> -2301
A24: 33651237-1 | B24: վինկրիստին l01ca02 | E24: ԷԱՃ | F24: հատ | G24: 5059.02 | H24: -1400 | I24: =G24*H24/1000 -> -7082.628
... A42: 33691176-7 | B42: այլ դեղորայք | E42: ԷԱՃ | F42: հատ | G42: 5475.69 | H42: -5330 | I42: =G42*H42/1000 -> -29185.428

Sheet 8
A1: Հավելված № 8
A2: ՀՀ կառավարության 2026 թվականի
A3: __________ «____» -ի
A4: N_____ -Ն որոշման
A5: ՀԱՅԱՍՏԱՆԻ ՀԱՆՐԱՊԵՏՈՒԹՅԱՆ 2026 ԹՎԱԿԱՆԻ ՊԵՏԱԿԱՆ ԲՅՈՒՋԵՈՎ ՆԱԽԱՏԵՍՎԱԾ՝ ՀԱՅԱՍՏԱՆԻ ՀԱՆՐԱՊԵՏՈՒԹՅԱՆ ԿԱՌԱՎԱՐՈՒԹՅԱՆ ՊԱՀՈՒՍՏԱՅԻՆ ՖՈՆԴԻՑ ՀԱՏԿԱՑՈՒՄՆԵՐ ԿԱՏԱՐԵԼՈՒ ՎԵՐԱԲԵՐՅԱԼ
A6: (հազար դրամներով)
A7: Գործառական դասիչը | D7: Ծրագրային դասիչը | F7: Բյուջետային հատկացումների գլխավոր կարգադրիչների, ծրագրերի, միջոցառումների և միջոցառումները կատարող պետական մարմինների անվանումները | G7: Ցուցանիշների փոփոխությունները (ավելացումները նշված են դրական նշանով, իսկ նվազեցումները` փակագծերում)
A8: բաժին | B8: խումբ | C8: դաս | D8: Ծրագիր | E8: Միջոցառում | G8: Առաջին եռամսյակ | H8: Առաջին կիսամյակ | I8: Ինն ամիս | J8: Տարի
A9: ԸՆԴԱՄԵՆԸ | G9: =+G10+G29 -> 0 | H9: =+H10+H29 -> 0 | I9: =+I10+I29 -> 0 | J9: =+J10+J29 -> 0
A10: 07 | F10: ԱՌՈՂՋԱՊԱՀՈՒԹՅՈՒՆ | G10: =+G12 -> 1640000 | H10: =+H12 -> 2500000 | I10: =+I12 -> 2500000 | J10: =+J12 -> 2500000
F11: այդ թվում՝
B12: 03 | F12: Հիվանդանոցային ծառայություններ | G12: =+G14 -> 1640000 | H12: =+H14 -> 2500000 | I12: =+I14 -> 2500000 | J12: =+J14 -> 2500000
F13: այդ թվում`
C14: 03 | F14: Մոր և մանկան բժշկական ծառայություններ | G14: =+G16 -> 1640000 | H14: =+H16 -> 2500000 | I14: =+I16 -> 2500000 | J14: =+J16 -> 2500000
F15: այդ թվում`
F16: ՀՀ առողջապահության նախարարություն | G16: =+G18 -> 1640000 | H16: =+H18 -> 2500000 | I16: =+I18 -> 2500000 | J16: =+J18 -> 2500000
F17: այդ թվում`
D18: 1200 | F18: Մոր և մանկան առողջության պահպանում | G18: =+G20 -> 1640000 | H18: =+H20 -> 2500000 | I18: =+I20 -> 2500000 | J18: =+J20 -> 2500000
F19: այդ թվում`
E20: 11003 | F20: Երեխաներին բժշկական օգնության ծառայություններ | G20: =+G22 -> 1640000 | H20: =+H22 -> 2500000 | I20: =+I22 -> 2500000 | J20: =+J22 -> 2500000
F21: այդ թվում` ըստ կատարողների
F22: ՀՀ առողջապահության նախարարություն | G22: =+G24 -> 1640000 | H22: =+H24 -> 2500000 | I22: =+I24 -> 2500000 | J22: =+J24 -> 2500000
F23: այդ թվում` բյուջետային ծախսերի տնտեսագիտական դասակարգման հոդվածներ
F24: ԸՆԴԱՄԵՆԸ ԾԱԽՍԵՐ | G24: =+G25 -> 1640000 | H24: =+H25 -> 2500000 | I24: =+I25 -> 2500000 | J24: =+J25 -> 2500000
F25: ԸՆԹԱՑԻԿ ԾԱԽՍԵՐ | G25: =+G26 -> 1640000 | H25: =+H26 -> 2500000 | I25: =+I26 -> 2500000 | J25: =+J26 -> 2500000
F26: ՍՈՑԻԱԼԱԿԱՆ ՆՊԱՍՏՆԵՐ ԵՎ ԿԵՆՍԱԹՈՇԱԿՆԵՐ | G26: =+G27 -> 1640000 | H26: =+H27 -> 2500000 | I26: =+I27 -> 2500000 | J26: =+J27 -> 2500000
F27: Սոցիալական օգնության դրամական արտահայտությամբ նպաստներ (բյուջեից) | G27: =+G28 -> 1640000 | H27: =+H28 -> 2500000 | I27: =+I28 -> 2500000 | J27: =+J28 -> 2500000
F28: - Այլ նպաստներ բյուջեից | G28: =+'2'!G21 -> 1640000 | H28: =+'2'!H21 -> 2500000 | I28: =+'2'!I21 -> 2500000 | J28: =+'2'!J21 -> 2500000
A29: 11 | F29: ՀԻՄՆԱԿԱՆ ԲԱԺԻՆՆԵՐԻՆ ՉԴԱՍՎՈՂ ՊԱՀՈՒՍՏԱՅԻՆ ՖՈՆԴԵՐ | G29: =+G31 -> -1640000 | H29: =+H31 -> -2500000 | I29: =+I31 -> -2500000 | J29: =+J31 -> -2500000
F30: այդ թվում`
B31: 01 | F31: ՀՀ կառավարության և համայնքների պահուստային ֆոնդ | G31: =+G33 -> -1640000 | H31: =+H33 -> -2500000 | I31: =+I33 -> -2500000 | J31: =+J33 -> -2500000
F32: այդ թվում`
C33: 01 | F33: ՀՀ կառավարության պահուստային ֆոնդ | G33: =+G35 -> -1640000 | H33: =+H35 -> -2500000 | I33: =+I35 -> -2500000 | J33: =+J35 -> -2500000
F34: այդ թվում`
F35: ՀՀ կառավարություն | G35: =+G37 -> -1640000 | H35: =+H37 -> -2500000 | I35: =+I37 -> -2500000 | J35: =+J37 -> -2500000
F36: այդ թվում`
D37: 1139 | F37: ՀՀ կառավարության պահուստային ֆոնդ | G37: =+G39 -> -1640000 | H37: =+H39 -> -2500000 | I37: =+I39 -> -2500000 | J37: =+J39 -> -2500000
F38: այդ թվում`
E39: 11001 | F39: ՀՀ կառավարության պահուստային ֆոնդ | G39: =+G41 -> -1640000 | H39: =+H41 -> -2500000 | I39: =+I41 -> -2500000 | J39: =+J41 -> -2500000
F40: այդ թվում` ըստ կատարողների
F41: ՀՀ կառավարություն | G41: =+G42 -> -1640000 | H41: =+H42 -> -2500000 | I41: =+I42 -> -2500000 | J41: =+J42 -> -2500000
F42: այդ թվում` բյուջետային ծախսերի տնտեսագիտական դասակարգման հոդվածներ | G42: =+G43 -> -1640000 | H42: =+H43 -> -2500000 | I42: =+I43 -> -2500000 | J42: =+J43 -> -2500000
F43: ԸՆԴԱՄԵՆԸ ԾԱԽՍԵՐ | G43: =+G44 -> -1640000 | H43: =+H44 -> -2500000 | I43: =+I44 -> -2500000 | J43: =+J44 -> -2500000
F44: ԸՆԹԱՑԻԿ ԾԱԽՍԵՐ | G44: =+G45 -> -1640000 | H44: =+H45 -> -2500000 | I44: =+I45 -> -2500000 | J44: =+J45 -> -2500000
F45: ԱՅԼ ԾԱԽՍԵՐ | G45: =+G46 -> -1640000 | H45: =+H46 -> -2500000 | I45: =+I46 -> -2500000 | J45: =+J46 -> -2500000
F46: - Պահուստային միջոցներ | G46: =+'2'!G38 -> -1640000 | H46: =+'2'!H38 -> -2500000 | I46: =+'2'!I38 -> -2500000 | J46: =+'2'!J38 -> -2500000
