Workbook
Name _tab10: #REF!
Name _tab11: #REF!
Name _tab12: #REF!
Name _tab13: #REF!
Name _tab14: #REF!
Name _tab15: #REF!
Name _tab16: #REF!
Name _tab17: #REF!
Name _tab18: #REF!
Name _tab19: #REF!
Name _tab20: #REF!
Name _tab21: #REF!
Name _tab22: #REF!
Name _tab23: #REF!
Name _tab24: #REF!
Name _tab5: #REF!
Name _tab6: #REF!
Name _tab7: #REF!
Name _tab8: #REF!
Name _tab9: #REF!
Name AgencyCode: #REF!
Name AgencyName: #REF!
Name åû: #REF!
Name davit: #REF!
Name EUR: '[1]1. 2060-Ն 28.12.2024 արտ'!$W$2
Name fff: #REF!
Name Functional1: #REF!
Name ggg: #REF!
Name h: #REF!
Name mas: #REF!
Name mass: #REF!
Name PANature: #REF!
Name par_count: #REF!,#REF!,#REF!,#REF!,#REF!,#REF!,#REF!,#REF!,#REF!,#REF!,#REF!,#REF!,#REF!,#REF!,#REF!
Name par_qual: #REF!,#REF!,#REF!,#REF!,#REF!
Name par_time: #REF!,#REF!,#REF!,#REF!
Name par2.12s: #REF!
Name par2.4s: #REF!,#REF!,#REF!,#REF!,#REF!,#REF!,#REF!,#REF!,#REF!,#REF!,#REF!,#REF!,#REF!,#REF!,#REF!,#REF!
Name par2.5s: #REF!,#REF!
Name par2.6s: #REF!,#REF!,#REF!,#REF!
Name par2.7s: #REF!,#REF!
Name par2.9s: #REF!,#REF!,#REF!,#REF!,#REF!,#REF!,#REF!,#REF!,#REF!,#REF!,#REF!,#REF!,#REF!,#REF!,#REF!,#REF!
Name par4.10s: #REF!,#REF!
Name par4.11d: #REF!,#REF!,#REF!,#REF!,#REF!
Name par4.12d: #REF!
Name par4.13s: #REF!
Name par4.14: #REF!,#REF!,#REF!,#REF!,#REF!,#REF!
Name par4.15: #REF!,#REF!,#REF!
Name par4.16: #REF!,#REF!,#REF!
Name par4.17: #REF!,#REF!,#REF!,#REF!
Name par4.18d: #REF!,#REF!
Name par4.19s: #REF!
Name par4.20f: #REF!
Name par4.21f: #REF!
Name par4.22: #REF!
Name par4.4: #REF!
Name par4.5: #REF!
Name par4.6s: #REF!
Name par4.7s: #REF!
Name par4.8: #REF!,#REF!,#REF!,#REF!,#REF!
Name par4.9: #REF!,#REF!,#REF!,#REF!,#REF!,#REF!

Sheet ..
C1: Հավելված N 1
C2: ՀՀ կառավարության 2025 թվականի
C3: ______________ ի ___Ն որոշման
B5: «ՀԱՅԱՍՏԱՆԻ ՀԱՆՐԱՊԵՏՈՒԹՅԱՆ 2025 ԹՎԱԿԱՆԻ ՊԵՏԱԿԱՆ ԲՅՈՒՋԵԻ ՄԱՍԻՆ» ՕՐԵՆՔԻ N 2 ՀՈԴՎԱԾԻ ԱՂՅՈՒՍԱԿՈՒՄ ԿԱՏԱՐՎՈՂ ՓՈՓՈԽՈՒԹՅՈՒՆՆԵՐԸ
C8: Ցուցանիշների փոփոխությունը (նվազեցումները նշված են փակագծերում)
C9: Տարի
B10: 1. Եկամուտների գծով | C10: =+'...'!D10 -> #REF!
B11: 2. Ծախսերի գծով | C11: =+'2'!J8 -> 0
B12: 3. Դեֆիցիտը (պակասուրդը) | C12: =-C10+C11 -> #REF!

Sheet ...
D1: Հավելված N 2
D2: ՀՀ կառավարության 2025 թվականի
D3: ______________ ի ___Ն որոշման
B5: «ՀԱՅԱՍՏԱՆԻ ՀԱՆՐԱՊԵՏՈՒԹՅԱՆ 2025 ԹՎԱԿԱՆԻ ՊԵՏԱԿԱՆ ԲՅՈՒՋԵԻ ՄԱՍԻՆ» ՕՐԵՆՔԻ N 6 ՀՈԴՎԱԾԻ ԱՂՅՈՒՍԱԿՈՒՄ ԵՎ ՀԱՅԱՍՏԱՆԻ ՀԱՆՐԱՊԵՏՈՒԹՅԱՆ ԿԱՌԱՎԱՐՈՒԹՅԱՆ 2024 ԹՎԱԿԱՆԻ ԴԵԿՏԵՄԲԵՐԻ 27-Ի N 2060-Ն ՈՐՈՇՄԱՆ N 2 ՀԱՎԵԼՎԱԾՈՒՄ ԿԱՏԱՐՎՈՂ ՓՈՓՈԽՈՒԹՅՈՒՆՆԵՐԸ
D7: հազար դրամներով
B8: Եկամտատեսակ | C8: Ցուցանիշների փոփոխությունը (նվազեցումները նշված են փակագծերում)
C9: Ինն ամիս | D9: Տարի
B10: ՊԵՏԱԿԱՆ ԲՅՈՒՋԵԻ ԵԿԱՄՈՒՏՆԵՐ | C10: =+C12 -> #REF! | D10: =+D12 -> #REF!
B11: այդ թվում`
B12: Պաշտոնական դրամաշնորհներ | C12: =+#REF! -> #REF! | D12: =+#REF! -> #REF!

Sheet 1
I1: Հավելված N 1
J2: ՀՀ կառավարության 2026 թվականի
J3: ______________ ի ___Ն որոշման
A5: «ՀԱՅԱUՏԱՆԻ ՀԱՆՐԱՊԵՏՈՒԹՅԱՆ 2026 ԹՎԱԿԱՆԻ ՊԵՏԱԿԱՆ ԲՅՈՒՋԵԻ ՄԱUԻՆ» OՐԵՆՔԻ N 1 ՀԱՎԵԼՎԱԾԻ N 2 ԱՂՅՈՒՍԱԿՈՒՄ ԿԱՏԱՐՎՈՂ ՎԵՐԱԲԱՇԽՈՒՄԸ ԵՎ ՀԱՅԱՍՏԱՆԻ ՀԱՆՐԱՊԵՏՈՒԹՅԱՆ ԿԱՌԱՎԱՐՈՒԹՅԱՆ 2025 ԹՎԱԿԱՆԻ ԴԵԿՏԵՄԲԵՐԻ 25-Ի N 1910-Ն ՈՐՈՇՄԱՆ N 5 ՀԱՎԵԼՎԱԾԻ N 1 ԱՂՅՈՒՍԱԿՈՒՄ ԿԱՏԱՐՎՈՂ ՓՈՓՈԽՈՒԹՅՈՒՆՆԵՐԸ ԵՎ ԼՐԱՑՈՒՄՆԵՐԸ
I6: հազար դրամներով
A7: ԲԳԿ | B7: Ծրագրային դասիչը | D7: ԲԳԿ/Ծրագրի /միջոցառման անվանումը | E7: Ծրագրի նպատակը/Միջոցառման նկարագրությունը | F7: Վերջնական արդյունքի նկարագրությունը/Միջոցառման տեսակը | G7: Ցուցանիշների փոփոխությունը (ավելացումները նշված են դրական նշանով, իսկ նվազեցումները՝ փակագծերում)
G8: Առաջին եռամսյակ | H8: Առաջին կիսամյակ | I8: Ինն ամիս | J8: Տարի
B9: Ծրագիր | C9: Միջոցառում
A10: ԸՆԴԱՄԵՆԸ | G10: 0 | H10: 0 | I10: 0 | J10: 0
A11: ՀՀ տարածքային կառավարման և ենթակառուցվածքների նախարարություն | G11: 0 | H11: 0 | I11: 0 | J11: 0
B12: 1004 | D12: Ոռոգման համակարգի առողջացում | E12: Ոռոգման ծառայությունների հասանելիության և մատչելիության ապահովում | F12: Ոռոգման ջրի մատակարարման արդյունավետության և հասանելիության բարելավում, կորուստների կրճատում | G12: 158850 | H12: 166350 | I12: 56068 | J12: 718
C13: 1004 - 11007 | D13: Գերմանիայի զարգացման վարկերի բանկի աջակցությամբ իրականացվող Ախուրյան գետի ջրային ռեսուրսների ինտեգրացված կառավարում ծրագրի խորհրդատվություն և կառավարում | E13: Գերմանիայի զարգացման վարկերի բանկի աջակցությամբ իրականացվող Ախուրյան գետի ջրային ռեսուրսների ինտեգրացված կառավարում ծրագրի համակարգում և ղեկավարում | F13: Ծառայությունների մատուցում | G13: 4000 | H13: 10000 | I13: 16000 | J13: 22000
C14: 1004 - 11011 | D14: Զարգացման ֆրանսիական գործակալության աջակցությամբ իրականացվող ոռոգման ոլորտի ֆինանսական կայունության և ոռոգման կառավարման կարողությունների բարելավման դրամաշնորհային ծրագրի խորհրդատվություն և կառավարում | E14: Զարգացման ֆրանսիական գործակալության աջակցությամբ իրականացվող ոռոգման ոլորտի ֆինանսական կայունության և ոռոգման կառավարման կարողություննրի բարելավման ծրագրի համակարգում և ղեկավարում | F14: Ծառայությունների մատուցում | G14: 154850 | H14: 156350 | I14: 157350 | J14: 93229.6
C15: 1004 - 12002 | D15: Գերմանիայի զարգացման բանկի աջակցությամբ իրականացվող Ախուրյան գետի ջրային ռեսուրսների ինտեգրված կառավարման փուլ 1 ծրագրով Ջրաձոր գյուղի վերաբնակեցման համար ենթակառուցվածքների և բնակելի տների կառուցում | E15: Գերմանիայի զարգացման բանկի աջակցությամբ իրականացվող Ախուրյան գետի ջրային ռեսուրսների ինտեգրված կառավարման փուլ 1 ծրագիր | F15: Տրանսֆերտների տրամադրում | G15: 0 | H15: 0 | I15: -101119 | J15: -101119
C16: 1004 - 31004 | D16: Գերմանիայի զարգացման վարկերի բանկի աջակցությամբ իրականացվող Ախուրյան գետի ջրային ռեսուրսների ինտեգրված կառավարման ծրագրի շրջանակներում ջրային տնտեսության ենթակառուցվածքների հիմնանորոգում | E16: Գերմանիայի զարգացման վարկերի բանկի աջակցությամբ իրականացվող Ախուրյան գետի ջրային ռեսուրսների ինտեգրված կառավարման ծրագիր | F16: Պետական մարմինների կողմից օգտագործվող ոչ ֆինանսական ակտիվների հետ գործառնություններ | G16: 0 | H16: 0 | I16: -16163 | J16: -13392.6
B17: 1019 | D17: Սոցիալական ներդրումների և տեղական զարգացման ծրագիր | E17: Նպաստել տարածքներում բնակչության նյութական և ոչ նյութական բարեկեցության աճին | F17: Համայնքային և միջհամայնքային ենթակառուցվածքների և որակի հասանելիության բարելավում, ինստիտուցիոնալ և ֆինանասական կարողությունների հզորացում | G17: 18163 | H17: 18163 | I17: 18163 | J17: 18163
C18: 1019 - 12004 | D18: Համաշխարհային բանկի աջակցությամբ իրականացվող Սոցիալական ներդրումների և տեղական զարգացման ծրագրի լրացուցիչ ֆինանսավորման վարկի շրջանակներում ՀՀ համայնքային և միջհամայնքային ենթակառուցվածքների որակի, օգտագործման և հասանելիության բարելավում: | E18: Ջրագծերի, առողջապահության, կրթության օբյեկտների, մշակույթային տների, ծերանոցների, մանկատների, հատուկ դպրոցների, մանկապարտզների և կոյուղու օբյեկտնրի հիմն. և շինարարություն., գույքի և սարքավորումների տրամադրում շահառու ենթածրագրերի համար: | F18: Տրանսֆերտների տրամադրում | G18: 18163 | H18: 18163 | I18: 18163 | J18: 18163
B19: 1049 | D19: Ճանապարհային ցանցի բարելավում | E19: Ճանապարհային ցանցի բարելավում և անվտանգ երթևեկության ապահովում | F19: Ճանապարհների ծածկի որակի և փոխադրումների արդյունավետության բարելավում, ճանապարհների վիճակով պայմանավորված պատահարների նվազում | G19: 0 | H19: 0 | I19: 0 | J19: 0
C20: 1049 - 11012 | D20: Կայունացման և զարգացման Եվրասիական հիմնադրամի աջակցությամբ իրականացվող Հյուսիս-հարավ միջանցքի Քաջարան Ագարակ 32 կմ հատվածի կառուցման համակարգում և կառավարում | E20: Խորհրդատվական ծառայություններ, Ֆինանսական աուդիտ և պահպանման ծախսեր | F20: Ծառայությունների մատուցում | G20: 0 | H20: 200000 | I20: 200000 | J20: 200000
C21: 1049 - 11016 | D21: Ասիական զարգացման բանկի աջակցությամբ իրականացվող Հյուսիս-հարավ ճանապարհային միջանցքի զարգացման ծրագրի Սիսիան-Քաջարան 60կմ-ի Հյուսիսային ենթահատվածի համակարգում և կառավարում | E21: Խորհրդատվական ծառայություններ և պահպանման ծախսեր | F21: Ծառայությունների մատուցում | G21: 0 | H21: -200000 | I21: -200000 | J21: -200000
B22: 1072 | D22: Ջրամատակարարաման և ջրահեռացման բարելավում | E22: Ջրամատակարարման ծառայությունների հասանելիության և մատչելիության ապահովում | F22: Խմելու ջրի մատակարարման և ջրահեռացման համակարգի բարելավում, կորուստների կրճատում | G22: -73731 | H22: -75231 | I22: -74231 | J22: -18881
C23: 1072 - 12001 | D23: Գերմանիայի զարգացման և Եվրոպական միության հարևանության ներդրումային բանկի աջակցությամբ իրականացվող ջրամատակարարման և ջրահեռացման ենթակառուցվածքների դրամաշնորհային ծրագիր` երրորդ փուլ | E23: 579 գյուղական բնակավայրերից ընտրված որոշ համայնքների ջրամատակարարման և ջրահեռացման համակարգերի հատվածների հրատապ վերականգնման աշխատանքների իրականացում ինչպես նաև՛ Արմավիրի կեղտաջրերի մաքրման կայանի կառուցում | F23: Տրանսֆերտների տրամադրում | G23: -174850 | H23: -176350 | I23: -175350 | J23: -120000
C24: 1072 - 12004 | D24: Մաքրման կայանների պահպանություն | E24: Մաքրման կայանների պահպանության նպատակով համապատասխան ծառայությունների ձեռքբերում | F24: Տրանսֆերտների տրամադրում | G24: 5125.9 | H24: 5125.9 | I24: 5125.9 | J24: 5125.9
C25: 1072 - 31015 | D25: Ջրամատակարարման և ջրահեռացման համակարգերի հիմնանորոգում որոշ վայրերում | E25: Ջրամատակարարման և ջրահեռացման համակարգի հիմնանորոգման աշխատանքների ձեռքբերում | F25: Տրանսֆերտների տրամադրում | G25: 95993.1 | H25: 95993.1 | I25: 95993.1 | J25: 95993.1
B26: 1167 | D26: Էլեկտրաէներգետիկ համակարգի զարգացման ծրագիր | E26: Նպաստել էլեկտրաէներգետիկ համակարգի հուսալիության բարձրացմանը և էլեկտրաէներգիայի անխափան մատակարարման ապահովմանը | F26: Հուսալի և անվտանգ էլեկտրամատակարարման ապահովում | G26: -103282 | H26: -109282 | I26: 0 | J26: 0
C27: 1167 - 11007 | D27: Հայաստանի Հանրապետությունում նոր ատոմային էներգաբլոկի (էներգաբլոկների) կառուցման ծրագրի կառավարում | E27: Հայաստանի Հանրապետությունում նոր ատոմային էներգաբլոկի (էներգաբլոկների) կառուցման աշխատանքների նախապատրաստում և իրականացում | F27: Ծառայությունների մատուցում | G27: -103282 | H27: -109282 | I27: 0 | J27: 0
A28: ՀՀ կառավարություն | G28: 0 | H28: 0 | I28: 0 | J28: 0
B29: 1139 | D29: ՀՀ կառավարության պահուստային ֆոնդ | E29: Պետական բյուջեում չկանխատեսված, ինչպես նաեւ բյուջետային երաշխիքների ապահովման ծախսերի ֆինանսավորման ապահովում | F29: Պահուստային ֆոնդի կառավարման արդյունավետության և թափանցիկության ապահովում | G29: 0 | H29: 0 | I29: 0 | J29: 0
C30: 1139 - 11001 | D30: ՀՀ կառավարության պահուստային ֆոնդ | E30: ՀՀ պետական բյուջեում նախատեսված ելքերի լրացուցիչ ֆինանսավորման, պետական բյուջեում չկանխատեսված ելքերի, ինչպես նաև բյուջետային երաշխիքների ապահովման ելքերի ֆինանսավորման ապահովում | F30: Ծառայությունների մատուցում | G30: 119282 | H30: 119282 | I30: 119282 | J30: 119282
C31: 1139 - 11001 | D31: ՀՀ կառավարության պահուստային ֆոնդ | E31: ՀՀ պետական բյուջեում նախատեսված ելքերի լրացուցիչ ֆինանսավորման, պետական բյուջեում չկանխատեսված ելքերի, ինչպես նաև բյուջետային երաշխիքների ապահովման ելքերի ֆինանսավորման ապահովում | F31: Ծառայությունների մատուցում | G31: -119282 | H31: -119282 | I31: -119282 | J31: -119282
C34: ՀԱՅԱՍՏԱՆԻ ՀԱՆՐԱՊԵՏՈՒԹՅԱՆ ՎԱՐՉԱՊԵՏԻ ԱՇԽԱՏԱԿԱԶՄԻ ՂԵԿԱՎԱՐ՝ | E34: Ա.ՀԱՐՈՒԹՅՈՒՆՅԱՆ

Sheet 2
A1: Հավելված N 2
A2: ՀՀ կառավարության 2026 թվականի
A3: -ի N -Ն որոշման
A4: ՀԱՅԱՍՏԱՆԻ ՀԱՆՐԱՊԵՏՈՒԹՅԱՆ ԿԱՌԱՎԱՐՈՒԹՅԱՆ 2025 ԹՎԱԿԱՆԻ ԴԵԿՏԵՄԲԵՐԻ 25-Ի N 1910-Ն ՈՐՈՇՄԱՆ N 3 ԵՎ N 4 ՀԱՎԵԼՎԱԾՆԵՐՈՒՄ ԿԱՏԱՐՎՈՂ ՓՈՓՈԽՈՒԹՅՈՒՆՆԵՐԸ ԵՎ ԼՐԱՑՈՒՄՆԵՐԸ
I5: հազար դրամներով
A6: Գործառական դասիչը | D6: Ծրագրային դասիչը | F6: Բյուջետային ծախսերի գործառական դասակարգման բաժինների, խմբերի և դասերի, բյուջետային ծրագրերի միջոցառումների, բյուջետային հատկացումների գլխավոր կարգադրիչների անվանումները | G6: Ցուցանիշների փոփոխությունը (ավելացումները նշված են դրական նշանով, իսկ նվազեցումները՝ փակագծերում)
A7: Բաժին | B7: Խումբ | C7: Դաս | D7: Ծրագիր | E7: Միջոցառում | G7: Առաջին եռամսյակ | H7: Առաջին կիսամյակ | I7: Ինն ամիս | J7: Տարի
F8: ԸՆԴԱՄԵՆԸ ԾԱԽՍԵՐ | G8: =G10+G166 -> 0 | H8: =H10+H166 -> 0 | I8: =I10+I166 -> 0 | J8: =J10+J166 -> 0
F9: այդ թվում`
F10: ՀՀ տարածքային կառավարման և ենթակառուցվածքների նախարարություն | G10: =G12+G127 -> 0 | H10: =H12+H127 -> 0 | I10: =I12+I127 -> 0 | J10: =J12+J127 -> 0
F11: այդ թվում`
A12: 04 | F12: ՏՆՏԵՍԱԿԱՆ ՀԱՐԱԲԵՐՈՒԹՅՈՒՆՆԵՐ | G12: 73731 | H12: 75231 | I12: 74231 | J12: 18881
F13: այդ թվում`
B14: 02 | F14: Գյուղատնտեսություն, անտառային տնտեսություն, ձկնորսություն և որսորդություն | G14: 158850 | H14: 166350 | I14: 56068 | J14: 718
F15: այդ թվում`
C16: 04 | F16: Ոռոգում | G16: 158850 | H16: 166350 | I16: 56068 | J16: 718
F17: այդ թվում`
F18: ՀՀ տարածքային կառավարման և ենթակառուցվածքների նախարարություն | G18: 158850 | H18: 166350 | I18: 56068 | J18: 718
F19: այդ թվում`
D20: 1004 | F20: Ոռոգման համակարգի առողջացում | G20: 158850 | H20: 166350 | I20: 56068 | J20: 718
F21: այդ թվում`
E22: 11007 | F22: Գերմանիայի զարգացման վարկերի բանկի աջակցությամբ իրականացվող Ախուրյան գետի ջրային ռեսուրսների ինտեգրացված կառավարում ծրագրի խորհրդատվություն և կառավարում | G22: 4000 | H22: 10000 | I22: 16000 | J22: 22000
F23: այդ թվում` ըստ կատարողների
F24: ՀՀ տարածքային կառավարման և ենթակառուցվածքների նախարարության ջրային կոմիտե | G24: 4000 | H24: 10000 | I24: 16000 | J24: 22000
F25: այդ թվում` բյուջետային ծախսերի տնտեսագիտական դասակարգման հոդվածներ
F26: ԸՆԴԱՄԵՆԸ ԾԱԽՍԵՐ | G26: 4000 | H26: 10000 | I26: 16000 | J26: 22000
F27: ԸՆԹԱՑԻԿ ԾԱԽՍԵՐ | G27: 4000 | H27: 10000 | I27: 16000 | J27: 22000
F28: ԱՅԼ ԾԱԽՍԵՐ | G28: 4000 | H28: 10000 | I28: 16000 | J28: 22000
F29: Այլ ծախսեր | G29: 4000 | H29: 10000 | I29: 16000 | J29: 22000
E30: 11010 | F30: Գերմանիայի զարգացման վարկերի բանկի աջակցությամբ իրականացվող Ախուրյան գետի ջրային ռեսուրսների ինտեգրացված կառավարում փուլ 1 ծրագրով Ջրաձոր գյուղի վերաբնակեցման գործողությունների խորհրդատվություն և կառավարում | G30: 0 | H30: 0 | I30: 0 | J30: 0
F31: այդ թվում` ըստ կատարողների | H31: 0 | I31: 0 | J31: 0
F32: ՀՀ տարածքային կառավարման և ենթակառուցվածքների նախարարության ջրային կոմիտե | G32: 0 | H32: 0 | I32: 0 | J32: 0
F33: այդ թվում` բյուջետային ծախսերի տնտեսագիտական դասակարգման հոդվածներ | G33: 0 | H33: 0 | I33: 0 | J33: 0
F34: ԸՆԴԱՄԵՆԸ ԾԱԽՍԵՐ | G34: 0 | H34: 0 | I34: 0 | J34: 0
F35: ԸՆԹԱՑԻԿ ԾԱԽՍԵՐ | G35: 0 | H35: 0 | I35: 0 | J35: 0
F36: ԴՐԱՄԱՇՆՈՐՀՆԵՐ | G36: -23175 | H36: -23175 | I36: -23175 | J36: -23175
F37: Ընթացիկ դրամաշնորհներ պետական հատվածի այլ մակարդակներին | G37: -23175 | H37: -23175 | I37: -23175 | J37: -23175
F38: - Այլ ընթացիկ դրամաշնորհներ | G38: -23175 | H38: -23175 | I38: -23175 | J38: -23175
F39: ԱՅԼ ԾԱԽՍԵՐ | G39: 23175 | H39: 23175 | I39: 23175 | J39: 23175
F40: Այլ ծախսեր | G40: 23175 | H40: 23175 | I40: 23175 | J40: 23175
...

Sheet 3
O1: Հավելված N 3
M2: ՀՀ կառավարության 2026 թվականի
M3: ______________ ի ___Ն որոշման
A5: «ՀԱՅԱUՏԱՆԻ ՀԱՆՐԱՊԵՏՈՒԹՅԱՆ 2025 ԹՎԱԿԱՆԻ ՊԵՏԱԿԱՆ ԲՅՈՒՋԵԻ ՄԱUԻՆ» OՐԵՆՔԻ N 1 ՀԱՎԵԼՎԱԾԻ N 4 ԱՂՅՈՒՍԱԿՈՒՄ ԵՎ ՀԱՅԱՍՏԱՆԻ ՀԱՆՐԱՊԵՏՈՒԹՅԱՆ ԿԱՌԱՎԱՐՈՒԹՅԱՆ 2025 ԹՎԱԿԱՆԻ ԴԵԿՏԵՄԲԵՐԻ 25-Ի N 1910-Ն ՈՐՈՇՄԱՆ N 5 ՀԱՎԵԼՎԱԾԻ N 3 ԱՂՅՈՒՍԱԿՈՒՄ ԿԱՏԱՐՎՈՂ ՓՈՓՈԽՈՒԹՅՈՒՆԸ ԵՎ ԼՐԱՑՈՒՄԸ
N6: հազար դրամներով
A7: Ծրագրային դասիչը | C7: Բյուջետային գլխավոր կարգադրիչների, ծրագրերի և միջոցառումների անվանումները | D7: Ցուցանիշների փոփոխությունը (ավելացումները նշված են դրական նշանով, իսկ նվազեցումները` փակագծերում)
D8: Առաջին եռամսյակ | G8: Առաջին կիսամյակ | J8: Ինն ամիս | M8: Տարի
D9: Ընդամենը | E9: այդ թվում` | G9: Ընդամենը | H9: այդ թվում` | J9: Ընդամենը | K9: այդ թվում` | M9: Ընդամենը | N9: այդ թվում`
A10: Ծրագիր | B10: Միջոցառում | E10: Վարկային միջոցներ | F10: Համաֆինան սավորում | H10: Վարկային միջոցներ | I10: Համաֆինան սավորում | K10: Վարկային միջոցներ | L10: Համաֆինան սավորում | N10: Վարկային միջոցներ | O10: Համաֆինան սավորում
C11: ԸՆԴԱՄԵՆԸ | D11: 22163 | E11: 0 | F11: 22163 | G11: 28163 | H11: 0 | I11: 28163 | J11: -83119 | K11: 0 | L11: -83119 | M11: -74348.6 | N11: 0 | O11: -74348.6
C12: այդ թվում`
C13: ԸՆԹԱՑԻԿ ԾԱԽՍԵՐ | D13: 4000 | E13: 0 | F13: 4000 | G13: 10000 | H13: 0 | I13: 10000 | J13: 16000 | K13: 0 | L13: 16000 | M13: 22000 | N13: 0 | O13: 22000
C14: ՈՉ ՖԻՆԱՆՍԱԿԱՆ ԱԿՏԻՎՆԵՐԻ ԳԾՈՎ ԾԱԽՍԵՐ | D14: 18163 | E14: 0 | F14: 18163 | G14: 18163 | H14: 0 | I14: 18163 | J14: -99119 | K14: 0 | L14: -99119 | M14: -96348.6 | N14: 0 | O14: -96348.6
C15: ՀՀ ՏԱՐԱԾՔԱՅԻՆ ԿԱՌԱՎԱՐՄԱՆ ԵՎ ԵՆԹԱԿԱՌՈՒՑՎԱԾՔՆԵՐԻ ՆԱԽԱՐԱՐՈՒԹՅՈՒՆ | D15: 22163 | E15: 0 | F15: 22163 | G15: 28163 | H15: 0 | I15: 28163 | J15: -83119 | K15: 0 | L15: -83119 | M15: -74348.6 | N15: 0 | O15: -74348.6
A16: 1004 | C16: Ոռոգման համակարգի առողջացում | D16: 4000 | E16: 0 | F16: 4000 | G16: 10000 | H16: 0 | I16: 10000 | J16: -101282 | K16: 0 | L16: -101282 | M16: -92511.6 | N16: 0 | O16: -92511.6
C17: այդ թվում`
B18: 11007 | C18: Գերմանիայի զարգացման վարկերի բանկի աջակցությամբ իրականացվող Ախուրյան գետի ջրային ռեսուրսների ինտեգրացված կառավարում ծրագրի խորհրդատվություն և կառավարում | D18: 4000 | E18: 0 | F18: 4000 | G18: 10000 | H18: 0 | I18: 10000 | J18: 16000 | K18: 0 | L18: 16000 | M18: 22000 | N18: 0 | O18: 22000
C19: այդ թվում` ըստ կատարողների
C20: ՀՀ տարածքային կառավարման և ենթակառուցվածքների նախարարության ջրային կոմիտե | D20: 4000 | E20: 0 | F20: 4000 | G20: 10000 | H20: 0 | I20: 10000 | J20: 16000 | K20: 0 | L20: 16000 | M20: 22000 | N20: 0 | O20: 22000
C21: այդ թվում` բյուջետային ծախսերի տնտեսագիտական դասակարգման հոդվածներ
C22: ԸՆԴԱՄԵՆԸ ԾԱԽՍԵՐ | D22: 4000 | E22: 0 | F22: 4000 | G22: 10000 | H22: 0 | I22: 10000 | J22: 16000 | K22: 0 | L22: 16000 | M22: 22000 | N22: 0 | O22: 22000
C23: ԸՆԹԱՑԻԿ ԾԱԽՍԵՐ | D23: 4000 | E23: 0 | F23: 4000 | G23: 10000 | H23: 0 | I23: 10000 | J23: 16000 | K23: 0 | L23: 16000 | M23: 22000 | N23: 0 | O23: 22000
C24: ԱՅԼ ԾԱԽՍԵՐ | D24: 4000 | E24: 0 | F24: 4000 | G24: 10000 | H24: 0 | I24: 10000 | J24: 16000 | K24: 0 | L24: 16000 | M24: 22000 | N24: 0 | O24: 22000
C25: Այլ ծախսեր | D25: 4000 | E25: 0 | F25: 4000 | G25: 10000 | H25: 0 | I25: 10000 | J25: 16000 | K25: 0 | L25: 16000 | M25: 22000 | N25: 0 | O25: 22000
B26: 11010 | C26: Գերմանիայի զարգացման վարկերի բանկի աջակցությամբ իրականացվող Ախուրյան գետի ջրային ռեսուրսների ինտեգրացված կառավարում փուլ 1 ծրագրով Ջրաձոր գյուղի վերաբնակեցման գործողությունների խորհրդատվություն և կառավարում | D26: 0 | F26: 0 | G26: 0 | I26: 0 | J26: 0 | L26: 0 | M26: 0 | O26: 0
C27: այդ թվում` ըստ կատարողների | D27: 0 | G27: 0 | J27: 0 | M27: 0
C28: ՀՀ տարածքային կառավարման և ենթակառուցվածքների նախարարության ջրային կոմիտե | D28: 0 | F28: 0 | G28: 0 | I28: 0 | J28: 0 | L28: 0 | M28: 0 | O28: 0
C29: այդ թվում` բյուջետային ծախսերի տնտեսագիտական դասակարգման հոդվածներ
C30: ԸՆԴԱՄԵՆԸ ԾԱԽՍԵՐ | D30: 0 | E30: 0 | F30: 0 | G30: 0 | H30: 0 | I30: 0 | J30: 0 | K30: 0 | L30: 0 | M30: 0 | N30: 0 | O30: 0
C31: ԸՆԹԱՑԻԿ ԾԱԽՍԵՐ | D31: 0 | E31: 0 | F31: 0 | G31: 0 | H31: 0 | I31: 0 | J31: 0 | K31: 0 | L31: 0 | M31: 0 | N31: 0 | O31: 0
C32: ԴՐԱՄԱՇՆՈՐՀՆԵՐ | D32: -23175 | E32: 0 | F32: -23175 | G32: -23175 | H32: 0 | I32: -23175 | J32: -23175 | K32: 0 | L32: -23175 | M32: -23175 | N32: 0 | O32: -23175
C33: Ընթացիկ դրամաշնորհներ պետական հատվածի այլ մակարդակներին | D33: -23175 | E33: 0 | F33: -23175 | G33: -23175 | H33: 0 | I33: -23175 | J33: -23175 | K33: 0 | L33: -23175 | M33: -23175 | N33: 0 | O33: -23175
C34: - Այլ ընթացիկ դրամաշնորհներ | D34: -23175 | E34: 0 | F34: -23175 | G34: -23175 | H34: 0 | I34: -23175 | J34: -23175 | K34: 0 | L34: -23175 | M34: -23175 | N34: 0 | O34: -23175
C35: ԱՅԼ ԾԱԽՍԵՐ | D35: 23175 | E35: 0 | F35: 23175 | G35: 23175 | H35: 0 | I35: 23175 | J35: 23175 | K35: 0 | L35: 23175 | M35: 23175 | N35: 0 | O35: 23175
C36: Այլ ծախսեր | D36: 23175 | E36: 0 | F36: 23175 | G36: 23175 | H36: 0 | I36: 23175 | J36: 23175 | K36: 0 | L36: 23175 | M36: 23175 | N36: 0 | O36: 23175
B37: 12002 | C37: Գերմանիայի զարգացման բանկի աջակցությամբ իրականացվող Ախուրյան գետի ջրային ռեսուրսների ինտեգրված կառավարման փուլ 1 ծրագրով Ջրաձոր գյուղի վերաբնակեցման համար ենթակառուցվածքների և բնակելի տների կառուցում | D37: 0 | E37: 0 | F37: 0 | G37: 0 | H37: 0 | I37: 0 | J37: -101119 | K37: 0 | L37: -101119 | M37: -101119 | N37: 0 | O37: -101119
C38: այդ թվում` ըստ կատարողների
C39: ՀՀ տարածքային կառավարման և ենթակառուցվածքների նախարարության ջրային կոմիտե | D39: 0 | E39: 0 | F39: 0 | G39: 0 | H39: 0 | I39: 0 | J39: -101119 | K39: 0 | L39: -101119 | M39: -101119 | N39: 0 | O39: -101119
C40: այդ թվում` բյուջետային ծախսերի տնտեսագիտական դասակարգման հոդվածներ
C41: ԸՆԴԱՄԵՆԸ ԾԱԽՍԵՐ | D41: 0 | E41: 0 | F41: 0 | G41: 0 | H41: 0 | I41: 0 | J41: -101119 | K41: 0 | L41: -101119 | M41: -101119 | N41: 0 | O41: -101119
...

Sheet 4
O1: Հավելված N 4
M2: ՀՀ կառավարության 2026 թվականի
M3: ______________ ի ___Ն որոշման
A5: «ՀԱՅԱUՏԱՆԻ ՀԱՆՐԱՊԵՏՈՒԹՅԱՆ 2025 ԹՎԱԿԱՆԻ ՊԵՏԱԿԱՆ ԲՅՈՒՋԵԻ ՄԱUԻՆ» OՐԵՆՔԻ N 1 ՀԱՎԵԼՎԱԾԻ N 5 ԱՂՅՈՒՍԱԿՈՒՄ ԵՎ ՀԱՅԱՍՏԱՆԻ ՀԱՆՐԱՊԵՏՈՒԹՅԱՆ ԿԱՌԱՎԱՐՈՒԹՅԱՆ 2025 ԹՎԱԿԱՆԻ ԴԵԿՏԵՄԲԵՐԻ 25-Ի N 1910-Ն ՈՐՈՇՄԱՆ N 5 ՀԱՎԵԼՎԱԾԻ N 4 ԱՂՅՈՒՍԱԿՈՒՄ ԿԱՏԱՐՎՈՂ ՓՈՓՈԽՈՒԹՅՈՒՆՆԵՐԸ ԵՎ ԼՐԱՑՈՒՄՆԵՐԸ
N6: հազար դրամներով
A7: Ծրագրային դասիչը | C7: Բյուջետային գլխավոր կարգադրիչների, ծրագրերի և միջոցառումների անվանումները | D7: Ցուցանիշների փոփոխությունը (ավելացումները նշված են դրական նշանով, իսկ նվազեցումները` փակագծերում)
D8: Առաջին եռամսյակ | E8: այդ թվում` | G8: Առաջին կիսամյակ | J8: Ինն ամիս | M8: Տարի
D9: Ընդամենը | E9: այդ թվում` | G9: Ընդամենը | H9: այդ թվում` | J9: Ընդամենը | K9: այդ թվում` | M9: Ընդամենը | N9: այդ թվում`
A10: Ծրագիր | B10: Միջոցառում | E10: Դրամաշնորհային միջոցներ | F10: Համաֆինանսավորում | H10: Դրամաշնորհային միջոցներ | I10: Համաֆինանսավորում | K10: Դրամաշնորհային միջոցներ | L10: Համաֆինանսավորում | N10: Դրամաշնորհային միջոցներ | O10: Համաֆինանսավորում
C11: ԸՆԴԱՄԵՆԸ | D11: -20000 | E11: 0 | F11: -20000 | G11: -20000 | H11: 0 | I11: -20000 | J11: -18000 | K11: 0 | L11: -18000 | M11: -26770.4 | N11: 0 | O11: -26770.4
C12: այդ թվում`
C13: ԸՆԹԱՑԻԿ ԾԱԽՍԵՐ | D13: 154850 | E13: 154850 | F13: 0 | G13: 156350 | H13: 154850 | I13: 1500 | J13: 157350 | K13: 154850 | L13: 2500 | M13: 93229.6 | N13: 100000 | O13: -6770.4
C14: ՈՉ ՖԻՆԱՆՍԱԿԱՆ ԱԿՏԻՎՆԵՐԻ ԳԾՈՎ ԾԱԽՍԵՐ | D14: -174850 | E14: -154850 | F14: -20000 | G14: -176350 | H14: -154850 | I14: -21500 | J14: -175350 | K14: -154850 | L14: -20500 | M14: -120000 | N14: -100000 | O14: -20000
C15: ՀՀ ՏԱՐԱԾՔԱՅԻՆ ԿԱՌԱՎԱՐՄԱՆ ԵՎ ԵՆԹԱԿԱՌՈՒՑՎԱԾՔՆԵՐԻ ՆԱԽԱՐԱՐՈՒԹՅՈՒՆ | D15: -20000 | E15: 0 | F15: -20000 | G15: -20000 | H15: 0 | I15: -20000 | J15: -18000 | K15: 0 | L15: -18000 | M15: -26770.4 | N15: 0 | O15: -26770.4
A16: 1004 | C16: Ոռոգման համակարգի առողջացում | D16: 154850 | E16: 154850 | F16: 0 | G16: 156350 | H16: 154850 | I16: 1500 | J16: 157350 | K16: 154850 | L16: 2500 | M16: 93229.6 | N16: 100000 | O16: -6770.4
C17: այդ թվում`
B18: 11011 | C18: Զարգացման ֆրանսիական գործակալության աջակցությամբ իրականացվող ոռոգման ոլորտի ֆինանսական կայունության և ոռոգման կառավարման կարողությունների բարելավման դրամաշնորհային ծրագրի խորհրդատվություն և կառավարում | D18: 154850 | E18: 154850 | F18: 0 | G18: 156350 | H18: 154850 | I18: 1500 | J18: 157350 | K18: 154850 | L18: 2500 | M18: 93229.6 | N18: 100000 | O18: -6770.4
C19: այդ թվում` ըստ կատարողների
C20: ՀՀ տարածքային կառավարման և ենթակառուցվածքների նախարարության ջրային կոմիտե | D20: 154850 | E20: 154850 | F20: 0 | G20: 156350 | H20: 154850 | I20: 1500 | J20: 157350 | K20: 154850 | L20: 2500 | M20: 93229.6 | N20: 100000 | O20: -6770.4
C21: այդ թվում` բյուջետային ծախսերի տնտեսագիտական դասակարգման հոդվածներ
C22: ԸՆԴԱՄԵՆԸ ԾԱԽՍԵՐ | D22: 154850 | E22: 154850 | F22: 0 | G22: 156350 | H22: 154850 | I22: 1500 | J22: 157350 | K22: 154850 | L22: 2500 | M22: 93229.6 | N22: 100000 | O22: -6770.4
C23: ԸՆԹԱՑԻԿ ԾԱԽՍԵՐ | D23: 154850 | E23: 154850 | F23: 0 | G23: 156350 | H23: 154850 | I23: 1500 | J23: 157350 | K23: 154850 | L23: 2500 | M23: 93229.6 | N23: 100000 | O23: -6770.4
C24: ԱՅԼ ԾԱԽՍԵՐ | D24: 154850 | E24: 154850 | F24: 0 | G24: 156350 | H24: 154850 | I24: 1500 | J24: 157350 | K24: 154850 | L24: 2500 | M24: 93229.6 | N24: 100000 | O24: -6770.4
C25: Այլ ծախսեր | D25: 154850 | E25: 154850 | F25: 0 | G25: 156350 | H25: 154850 | I25: 1500 | J25: 157350 | K25: 154850 | L25: 2500 | M25: 93229.6 | N25: 100000 | O25: -6770.4
A26: 1072 | C26: Ջրամատակարարաման և ջրահեռացման բարելավում | D26: -174850 | E26: -154850 | F26: -20000 | G26: -176350 | H26: -154850 | I26: -21500 | J26: -175350 | K26: -154850 | L26: -20500 | M26: -120000 | N26: -100000 | O26: -20000
C27: այդ թվում`
B28: 12001 | C28: Գերմանիայի զարգացման և Եվրոպական միության հարևանության ներդրումային բանկի աջակցությամբ իրականացվող ջրամատակարարման և ջրահեռացման ենթակառուցվածքների դրամաշնորհային ծրագիր` երրորդ փուլ | D28: -174850 | E28: -154850 | F28: -20000 | G28: -176350 | H28: -154850 | I28: -21500 | J28: -175350 | K28: -154850 | L28: -20500 | M28: -120000 | N28: -100000 | O28: -20000
C29: այդ թվում` ըստ կատարողների
C30: ՀՀ տարածքային կառավարման և ենթակառուցվածքների նախարարության ջրային կոմիտե | D30: -174850 | E30: -154850 | F30: -20000 | G30: -176350 | H30: -154850 | I30: -21500 | J30: -175350 | K30: -154850 | L30: -20500 | M30: -120000 | N30: -100000 | O30: -20000
C31: այդ թվում` բյուջետային ծախսերի տնտեսագիտական դասակարգման հոդվածներ
C32: ԸՆԴԱՄԵՆԸ ԾԱԽՍԵՐ | D32: -174850 | E32: -154850 | F32: -20000 | G32: -176350 | H32: -154850 | I32: -21500 | J32: -175350 | K32: -154850 | L32: -20500 | M32: -120000 | N32: -100000 | O32: -20000
C33: ՈՉ ՖԻՆԱՆՍԱԿԱՆ ԱԿՏԻՎՆԵՐԻ ԳԾՈՎ ԾԱԽՍԵՐ | D33: -174850 | E33: -154850 | F33: -20000 | G33: -176350 | H33: -154850 | I33: -21500 | J33: -175350 | K33: -154850 | L33: -20500 | M33: -120000 | N33: -100000 | O33: -20000
C34: ՀԻՄՆԱԿԱՆ ՄԻՋՈՑՆԵՐ | D34: -174850 | E34: -154850 | F34: -20000 | G34: -176350 | H34: -154850 | I34: -21500 | J34: -237350 | K34: -204850 | L34: -32500 | M34: -223500 | N34: -187000 | O34: -36500
C35: ՇԵՆՔԵՐ ԵՎ ՇԻՆՈՒԹՅՈՒՆՆԵՐ | D35: -174850 | E35: -154850 | F35: -20000 | G35: -176350 | H35: -154850 | I35: -21500 | J35: -237350 | K35: -204850 | L35: -32500 | M35: -223500 | N35: -187000 | O35: -36500
C36: - Շենքերի և շինությունների շինարարություն | D36: -174850 | E36: -154850 | F36: -20000 | G36: -176350 | H36: -154850 | I36: -21500 | J36: -237350 | K36: -204850 | L36: -32500 | M36: -223500 | N36: -187000 | O36: -36500
C37: ԱՅԼ ՀԻՄՆԱԿԱՆ ՄԻՋՈՑՆԵՐ | D37: 0 | E37: 0 | F37: 0 | G37: 0 | H37: 0 | I37: 0 | J37: 62000 | K37: 50000 | L37: 12000 | M37: 103500 | N37: 87000 | O37: 16500
C38: - Նախագծահետազոտական ծախսեր | D38: 0 | E38: 0 | F38: 0 | G38: 0 | H38: 0 | I38: 0 | J38: 62000 | K38: 50000 | L38: 12000 | M38: 103500 | N38: 87000 | O38: 16500
C41: ՀԱՅԱՍՏԱՆԻ ՀԱՆՐԱՊԵՏՈՒԹՅԱՆ ՎԱՐՉԱՊԵՏԻ ԱՇԽԱՏԱԿԱԶՄԻ ՂԵԿԱՎԱՐ՝ | E41: Ա.ՀԱՐՈՒԹՅՈՒՆՅԱՆ

Sheet 5.
H1: Հավելված N 5
H2: ՀՀ կառավարության 2026 թվականի
B3: -ի N -Ն որոշման
B6: ՀԱՅԱՍՏԱՆԻ ՀԱՆՐԱՊԵՏՈՒԹՅԱՆ ԿԱՌԱՎԱՐՈՒԹՅԱՆ 2025 ԹՎԱԿԱՆԻ ԴԵԿՏԵՄԲԵՐԻ 25-Ի N 1910-Ն ՈՐՈՇՄԱՆ N 5 ՀԱՎԵԼՎԱԾԻ N 7 ԱՂՅՈՒՍԱԿՈՒՄ ԿԱՏԱՐՎՈՂ ԼՐԱՑՈՒՄՆԵՐԸ
H8: հազար դրամներով
B9: Ծրագրային դասիչ | D9: Բյուջետային հատկացումների գլխավոր կարգադրիչների, ծրագրերի, միջոցառումների, ծախսային ուղղությունների անվանումները | G9: Միջոցառումները կատարող պետական մարմինների և դրամաշնորհ ստացող տնտեսվարող սուբյեկտների անվանումները | H9: Ցուցանիշների փոփոխությունը (ավելացումները նշված են դրական նշանով)
B10: Ծրագիր | C10: Միջոցառում | H10: Տարի
B11: 1 | C11: 2 | D11: 3 | G11: 4 | H11: 5
B12: ՀՀ տարածքային կառավարման և ենթակառուցվածքների նախարարություն | H12: 101119
B13: 1072 | C13: Ջրամատակարարաման և ջրահեռացման բարելավում | H13: 101119
C14: 12004 | D14: Մաքրման կայանների պահպանություն | G14: ՀՀ տարածքային կառավարման և ենթակառուցվածքների նախարարություն | H14: 5125.9
G15: Հայաստանի տարածքային զարգացման հիմնադրամ | H15: 5125.9
C16: 31015 | D16: Ջրամատակարարման և ջրահեռացման համակարգերի հիմնանորոգում որոշ վայրերում | G16: ՀՀ տարածքային կառավարման և ենթակառուցվածքների նախարարություն | H16: 95993.1
G17: Հայաստանի տարածքային զարգացման հիմնադրամ | H17: 95993.1

Sheet 6.
B1: Հավելված N 6
B2: ՀՀ կառավարության 2026 թվականի
B3: -ի N -Ն որոշման
B5: ՀԱՅԱՍՏԱՆԻ ՀԱՆՐԱՊԵՏՈՒԹՅԱՆ ԿԱՌԱՎԱՐՈՒԹՅԱՆ 2025 ԹՎԱԿԱՆԻ ԴԵԿՏԵՄԲԵՐԻ 25-Ի N 1910-Ն ՈՐՈՇՄԱՆ N 9 ՀԱՎԵԼՎԱԾՈՒՄ ԿԱՏԱՐՎՈՂ ՓՈՓՈԽՈՒԹՅՈՒՆՆԵՐԸ ԵՎ ԼՐԱՑՈՒՄՆԵՐԸ
N6: հազար դրամներով
B7: ԲԳԿ | C7: Ծրագիր | E7: Միջոցառում | I7: Իրականացնողը/ ակտիվն օգտագործողը/ շահառուի ընտրության չափորոշիչը | J7: Արդյունքային չափորոշիչը | K7: Ցուցանիշների փոփոխությունը (ավելացումները նշված են դրական նշանով, իսկ նվազեցումները՝ փակագծերում)
C8: Դասիչը | D8: Անվա-նումը | E8: Դասիչը | F8: Անվա-նումը | G8: Նկարագրու-թյունը | H8: Տեսակը | K8: Առաջին եռամսյակ | L8: Առաջին կիսամյակ | M8: Ինն ամիս | N8: Տարի
B9: ԸՆԴԱՄԵՆԸ | K9: 0 | L9: 0 | M9: 0 | N9: 0 | P9: =+M9-'2'!I8 -> 0 | Q9: =+N9-'2'!J8 -> 0
B10: ՀՀ տարածքային կառավարման և ենթակառուցվածքների նախարարություն | K10: 0 | L10: 0 | M10: 0 | N10: 0
C11: 1004 | D11: Ոռոգման համակարգի առողջացում | K11: 158850 | L11: 166350 | M11: 56068 | N11: 718 | P11: =+'2'!I20 -> 56068 | Q11: =+'2'!J20 -> 718
E12: 1004 - 11007 | F12: Գերմանիայի զարգացման վարկերի բանկի աջակցությամբ իրականացվող Ախուրյան գետի ջրային ռեսուրսների ինտեգրացված կառավարում ծրագրի խորհրդատվություն և կառավարում | K12: 4000 | L12: 10000 | M12: 16000 | N12: 22000
G13: Գերմանիայի զարգացման վարկերի բանկի աջակցությամբ իրականացվող Ախուրյան գետի ջրային ռեսուրսների ինտեգրացված կառավարում ծրագրի համակարգում և ղեկավարում
H14: Ծառայությունների մատուցում
I15: Ծառայությունը մատուցողի անվանումը` Մասնագիտացված միավոր
J16: Կառավարվող/վերահսկվող խորհրդատվական պայմանագրերի քանակը, հատ | L16: 1 | N16: 1
E17: 1004 - 11011 | F17: Զարգացման ֆրանսիական գործակալության աջակցությամբ իրականացվող ոռոգման ոլորտի ֆինանսական կայունության և ոռոգման կառավարման կարողությունների բարելավման դրամաշնորհային ծրագրի խորհրդատվություն և կառավարում | K17: ='1'!G14 -> 154850 | L17: ='1'!H14 -> 156350 | M17: ='1'!I14 -> 157350 | N17: ='1'!J14 -> 93229.6
G18: Զարգացման ֆրանսիական գործակալության աջակցությամբ իրականացվող ոռոգման ոլորտի ֆինանսական կայունության և ոռոգման կառավարման կարողություննրի բարելավման ծրագրի համակարգում և ղեկավարում
H19: Ծառայությունների մատուցում
I20: Ծառայությունը մատուցողի անվանումը` Մասնագիտացված միավոր
E21: 1004 - 12002 | F21: Գերմանիայի զարգացման բանկի աջակցությամբ իրականացվող Ախուրյան գետի ջրային ռեսուրսների ինտեգրված կառավարման փուլ 1 ծրագրով Ջրաձոր գյուղի վերաբնակեցման համար ենթակառուցվածքների և բնակելի տների կառուցում | K21: ='1'!G15 -> 0 | L21: ='1'!H15 -> 0 | M21: ='1'!I15 -> -101119 | N21: ='1'!J15 -> -101119
G22: Գերմանիայի զարգացման բանկի աջակցությամբ իրականացվող Ախուրյան գետի ջրային ռեսուրսների ինտեգրված կառավարման փուլ 1 ծրագիր
H23: Տրանսֆերտների տրամադրում
I24: Շահառուների ընտրության չափորոշիչները` Տրանսֆերտների տրամադրում
E25: 1004 - 31004 | F25: Գերմանիայի զարգացման վարկերի բանկի աջակցությամբ իրականացվող Ախուրյան գետի ջրային ռեսուրսների ինտեգրված կառավարման ծրագրի շրջանակներում ջրային տնտեսության ենթակառուցվածքների հիմնանորոգում | K25: ='1'!G16 -> 0 | L25: ='1'!H16 -> 0 | M25: ='1'!I16 -> -16163 | N25: ='1'!J16 -> -13392.6
G26: Գերմանիայի զարգացման վարկերի բանկի աջակցությամբ իրականացվող Ախուրյան գետի ջրային ռեսուրսների ինտեգրված կառավարման ծրագիր
H27: Պետական մարմինների կողմից օգտագործվող ոչ ֆինանսական ակտիվների հետ գործառնություններ
I28: Ակտիվն օգտագործող կազմակերպության անվանումը` Մասնագիտացված միավոր
C29: 1019 | D29: Սոցիալական ներդրումների և տեղական զարգացման ծրագիր | K29: =K30 -> 18163 | L29: =L30 -> 18163 | M29: =M30 -> 18163 | N29: =N30 -> 18163
E30: 1019 - 12004 | F30: Համաշխարհային բանկի աջակցությամբ իրականացվող Սոցիալական ներդրումների և տեղական զարգացման ծրագրի լրացուցիչ ֆինանսավորման վարկի շրջանակներում ՀՀ համայնքային և միջհամայնքային ենթակառուցվածքների որակի, օգտագործման և հասանելիության բարելավում | K30: ='1'!G18 -> 18163 | L30: ='1'!H18 -> 18163 | M30: ='1'!I18 -> 18163 | N30: ='1'!J18 -> 18163
G31: Ջրագծերի, առողջապահության, կրթության օբյեկտների, մշակույթային տների, ծերանոցների, մանկատների, հատուկ դպրոցների, մանկապարտզների և կոյուղու օբյեկտների հիմն. և շինարարություն., գույքի և սարքավորումների տրամադրում շահառու ենթածրագրերի համար
H32: Տրանսֆերտների տրամադրում
I33: Շահառուների ընտրության չափորոշիչները` Մասնագիտացված միավոր
C34: 1049 | D34: Ճանապարհային ցանցի բարելավում | K34: 0 | L34: 0 | M34: 0 | N34: 0
E35: 1049 - 11012 | F35: Կայունացման և զարգացման Եվրասիական հիմնադրամի աջակցությամբ իրականացվող Հյուսիս-հարավ միջանցքի Քաջարան Ագարակ 32 կմ հատվածի կառուցման համակարգում և կառավարում | K35: 0 | L35: 200000 | M35: 200000 | N35: 200000
G36: Խորհրդատվական ծառայություններ, Ֆինանսական աուդիտ և պահպանման ծախսեր
H37: Ծառայությունների մատուցում
I38: Ծառայությունը մատուցողի անվանումը` Մասնագիտացված միավոր
J39: Ուղղիչ գործողությունների պլան, հատ | L39: 1 | N39: 1
E40: 1049 - 11016 | F40: Ասիական զարգացման բանկի աջակցությամբ իրականացվող Հյուսիս-հարավ ճանապարհային միջանցքի զարգացման ծրագրի Սիսիան-Քաջարան 60կմ-ի Հյուսիսային ենթահատվածի համակարգում և կառավարում | K40: ='2'!G101 -> 0 | L40: ='2'!H101 -> -200000 | M40: ='2'!I101 -> -200000 | N40: ='2'!J101 -> -200000
G41: Խորհրդատվական ծառայություններ և պահպանման ծախսեր
...

Sheet 7
A1: Հավելված N 7
A2: ՀՀ կառավարության 2026 թվականի
A3: -ի N -Ն որոշման
A5: ՀԱՅԱՍՏԱՆԻ ՀԱՆՐԱՊԵՏՈՒԹՅԱՆ ԿԱՌԱՎԱՐՈՒԹՅԱՆ 2025 ԹՎԱԿԱՆԻ ԴԵԿՏԵՄԲԵՐԻ 25-Ի N 1910-Ն ՈՐՈՇՄԱՆ N 9.1 ՀԱՎԵԼՎԱԾՈՒՄ ԿԱՏԱՐՎՈՂ ՓՈՓՈԽՈՒԹՅՈՒՆՆԵՐԸ ԵՎ ԼՐԱՑՈՒՄՆԵՐԸ
M6: հազար դրամներով
A7: ԲՍԿ | B7: Ծրագիր | D7: Միջոցառում | H7: Իրականացնողը/ ակտիվն օգտագործողը/ շահառուի ընտրության չափորոշիչը | I7: Արդյունքային չափորոշիչը | J7: Ցուցանիշների փոփոխությունը (ավելացումները նշված են դրական նշանով, իսկ նվազեցումները՝ փակագծերում)
B8: Դասիչը | C8: Անվանումը | D8: Դասիչը | E8: Անվանումը | F8: Նկարագրությունը | G8: Տեսակը | J8: Առաջին եռամսյակ | K8: Առաջին կիսամյակ | L8: Ինն ամիս | M8: Տարի
A9: ԸՆԴԱՄԵՆԸ | J9: 0 | K9: 0 | L9: 0 | M9: 0 | O9: =+L9-'6.'!M9 -> 0 | P9: =+M9-'6.'!N9 -> 0
A10: ՀՀ տարածքային կառավարման և ենթակառուցվածքների նախարարություն | J10: 16000 | K10: 10000 | L10: 119282 | M10: 119282
B11: 1019 | C11: Սոցիալական ներդրումների և տեղական զարգացման ծրագիր | J11: 18163 | K11: 18163 | L11: 18163 | M11: 18163
D12: 1019 - 12004 | E12: Համաշխարհային բանկի աջակցությամբ իրականացվող Սոցիալական ներդրումների և տեղական զարգացման ծրագրի լրացուցիչ ֆինանսավորման վարկի շրջանակներում ՀՀ համայնքային և միջհամայնքային ենթակառուցվածքների որակի, օգտագործման և հասանելիության բարելավում | J12: 18163 | K12: 18163 | L12: 18163 | M12: 18163
F13: Ջրագծերի, առողջապահության, կրթության օբյեկտների, մշակույթային տների, ծերանոցների, մանկատների, հատուկ դպրոցների, մանկապարտզների և կոյուղու օբյեկտների հիմն. և շինարարություն., գույքի և սարքավորումների տրամադրում շահառու ենթածրագրերի համար
G14: Տրանսֆերտների տրամադրում
H15: Շահառուների ընտրության չափորոշիչները` Մասնագիտացված միավոր
B16: 1072 | C16: Ջրամատակարարաման և ջրահեռացման բարելավում | J16: =J17+J22 -> 101119 | K16: =K17+K22 -> 101119 | L16: =L17+L22 -> 101119 | M16: =M17+M22 -> 101119
D17: 1072 - 12004 | E17: Մաքրման կայանների պահպանություն | J17: ='6.'!K51 -> 5125.9 | K17: ='6.'!L51 -> 5125.9 | L17: ='6.'!M51 -> 5125.9 | M17: ='6.'!N51 -> 5125.9
F18: Մաքրման կայանների պահպանության նպատակով համապատասխան ծառայությունների ձեռքբերում
G19: Տրանսֆերտների տրամադրում
H20: Շահառուների ընտրության չափորոշիչները` Մասնագիտացված միավոր
I21: Կառավարվող/վերահսկվող խորհրդատվական պայմանագրերի քանակ, հատ | K21: 1 | M21: 1
D22: 1072 - 31015 | E22: Ջրամատակարարման և ջրահեռացման համակարգերի հիմնանորոգում որոշ վայրերում | J22: ='2'!G157 -> 95993.1 | K22: ='2'!H157 -> 95993.1 | L22: ='2'!I157 -> 95993.1 | M22: ='2'!J157 -> 95993.1
F23: Ջրամատակարարման և ջրահեռացման համակարգի հիմնանորոգման աշխատանքների ձեռքբերում
G24: Տրանսֆերտների տրամադրում
H25: Շահառուների ընտրության չափորոշիչները` Մասնագիտացված միավոր
I26: Կառուցվող ջրամատակարարման համակարգի երկարությունը, կմ | K26: 1 | M26: 1
B27: 1049 | C27: Ճանապարհային ցանցի բարելավում | J27: =J28+J33 -> 0 | K27: =K28+K33 -> 0 | L27: =L28+L33 -> 0 | M27: =M28+M33 -> 0
D28: 1049 - 11012 | E28: Կայունացման և զարգացման Եվրասիական հիմնադրամի աջակցությամբ իրականացվող Հյուսիս-հարավ միջանցքի Քաջարան Ագարակ 32 կմ հատվածի կառուցման համակարգում և կառավարում | J28: ='2'!G92 -> 0 | K28: ='2'!H92 -> 200000 | L28: ='2'!I92 -> 200000 | M28: ='2'!J92 -> 200000
F29: Խորհրդատվական ծառայություններ, Ֆինանսական աուդիտ և պահպանման ծախսեր
G30: Ծառայությունների մատուցում
H31: Ծառայությունը մատուցողի անվանումը` Մասնագիտացված միավոր
I32: Ուղղիչ գործողությունների պլան, հատ | K32: 1 | M32: 1
D33: 1049 - 11016 | E33: Ասիական զարգացման բանկի աջակցությամբ իրականացվող Հյուսիս-հարավ ճանապարհային միջանցքի զարգացման ծրագրի Սիսիան-Քաջարան 60կմ-ի Հյուսիսային ենթահատվածի համակարգում և կառավարում | J33: ='6.'!K40 -> 0 | K33: ='6.'!L40 -> -200000 | L33: ='6.'!M40 -> -200000 | M33: ='6.'!N40 -> -200000
F34: Խորհրդատվական ծառայություններ և պահպանման ծախսեր
G35: Ծառայությունների մատուցում
H36: Ծառայությունը մատուցողի անվանումը` Մասնագիտացված միավոր
I37: Հողերի օտարման ավարտվծության աստիճան, տոկոս | K37: -9.4 | M37: =K37 -> -9.4
B38: 1167 | C38: Էլեկտրաէներգետիկ համակարգի զարգացման ծրագիր | J38: -103282 | K38: -109282 | L38: 0 | M38: 0
D39: 1167 - 11007 | E39: Հայաստանի Հանրապետությունում նոր ատոմային էներգաբլոկի (էներգաբլոկների) կառուցման ծրագրի կառավարում | J39: -103282 | K39: -109282 | L39: 0 | M39: 0
F40: Հայաստանի Հանրապետությունում նոր ատոմային էներգաբլոկի (էներգաբլոկների) կառուցման աշխատանքների նախապատրաստում և իրականացում
G41: Ծառայությունների մատուցում
...

Sheet 8.
J1: Հավելված N 8
F2: ՀՀ կառավարության 2026 թվականի
J3: N ------------ -Ն որոշման
A4: ՀԱՅԱՍՏԱՆԻ ՀԱՆՐԱՊԵՏՈՒԹՅԱՆ 2026 ԹՎԱԿԱՆԻ ՊԵՏԱԿԱՆ ԲՅՈՒՋԵՈՎ ՆԱԽԱՏԵՍՎԱԾ՝ ՀԱՅԱՍՏԱՆԻ ՀԱՆՐԱՊԵՏՈՒԹՅԱՆ ԿԱՌԱՎԱՐՈՒԹՅԱՆ ՊԱՀՈՒՍՏԱՅԻՆ ՖՈՆԴԻՑ ՀԱՏԿԱՑՈՒՄՆԵՐ ԿԱՏԱՐԵԼՈՒ ՎԵՐԱԲԵՐՅԱԼ
J6: հազար դրամներով
A7: Գործառական դասիչը | D7: Ծրագրային դասիչը | F7: Բյուջետային հատկացումների գլխավոր կարգադրիչների, ծրագրերի, միջոցառումների և միջոցառումները կատարող պետական մարմինների անվանումները | G7: Ցուցանիշների փոփոխությունը (ավելացումները նշված են դրական նշանով, իսկ նվազեցումները` փակագծերում)
A8: Բաժին | B8: Խումբ | C8: Դաս | D8: Ծրագիր | E8: Միջոցառում | G8: Առաջին եռամսյակ | H8: Առաջին կիսամյակ | I8: Ինն ամիս | J8: Տարի
F9: ԸՆԴԱՄԵՆԸ | G9: =G11+G62 -> 0 | H9: =H11+H62 -> 0 | I9: =I11+I62 -> 0 | J9: =J11+J62 -> 0
F10: այդ թվում՝
F11: ՀՀ տարածքային կառավարման և ենթակառուցվածքների նախարարություն | G11: 119282 | H11: 119282 | I11: 119282 | J11: 119282
F12: այդ թվում`
A13: 04 | F13: ՏՆՏԵՍԱԿԱՆ ՀԱՐԱԲԵՐՈՒԹՅՈՒՆՆԵՐ | G13: 18163 | H13: 18163 | I13: 18163 | J13: 18163
F14: այդ թվում`
B15: 09 | F15: Տնտեսական հարաբերություններ (այլ դասերին չպատկանող) | G15: 18163 | H15: 18163 | I15: 18163 | J15: 18163
F16: այդ թվում`
C17: 01 | F17: Տնտեսական հարաբերություններ (այլ դասերին չպատկանող) | G17: 18163 | H17: 18163 | I17: 18163 | J17: 18163
F18: այդ թվում`
F19: ՀՀ տարածքային կառավարման և ենթակառուցվածքների նախարարություն | G19: 18163 | H19: 18163 | I19: 18163 | J19: 18163
F20: այդ թվում`
D21: 1019 | F21: Սոցիալական ներդրումների և տեղական զարգացման ծրագիր | G21: 18163 | H21: 18163 | I21: 18163 | J21: 18163
F22: այդ թվում`
E23: 12004 | F23: Համաշխարհային բանկի աջակցությամբ իրականացվող Սոցիալական ներդրումների և տեղական զարգացման ծրագրի լրացուցիչ ֆինանսավորման վարկի շրջանակներում ՀՀ համայնքային և միջհամայնքային ենթակառուցվածքների որակի, օգտագործման և հասանելիության բարելավում | G23: 18163 | H23: 18163 | I23: 18163 | J23: 18163
F24: այդ թվում` ըստ կատարողների
F25: ՀՀ տարածքային կառավարման և ենթակառուցվածքների նախարարություն | G25: 18163 | H25: 18163 | I25: 18163 | J25: 18163
F26: այդ թվում` բյուջետային ծախսերի տնտեսագիտական դասակարգման հոդվածներ
F27: ԸՆԴԱՄԵՆԸ ԾԱԽՍԵՐ | G27: 18163 | H27: 18163 | I27: 18163 | J27: 18163
F28: ՈՉ ՖԻՆԱՆՍԱԿԱՆ ԱԿՏԻՎՆԵՐԻ ԳԾՈՎ ԾԱԽՍԵՐ | G28: 18163 | H28: 18163 | I28: 18163 | J28: 18163
F29: ՀԻՄՆԱԿԱՆ ՄԻՋՈՑՆԵՐ | G29: 18163 | H29: 18163 | I29: 18163 | J29: 18163
F30: ՇԵՆՔԵՐ ԵՎ ՇԻՆՈՒԹՅՈՒՆՆԵՐ | G30: 18163 | H30: 18163 | I30: 18163 | J30: 18163
F31: - Շենքերի և շինությունների շինարարություն | G31: 18163 | H31: 18163 | I31: 18163 | J31: 18163
A32: 06 | F32: ԲՆԱԿԱՐԱՆԱՅԻՆ ՇԻՆԱՐԱՐՈՒԹՅՈՒՆ ԵՎ ԿՈՄՈՒՆԱԼ ԾԱՌԱՅՈՒԹՅՈՒՆՆԵՐ | G32: 101119 | H32: 101119 | I32: 101119 | J32: 101119
F33: այդ թվում`
B34: 03 | F34: Ջրամատակարարում | G34: 101119 | H34: 101119 | I34: 101119 | J34: 101119
F35: այդ թվում`
C36: 01 | F36: Ջրամատակարարում | G36: 101119 | H36: 101119 | I36: 101119 | J36: 101119
F37: այդ թվում`
F38: ՀՀ տարածքային կառավարման և ենթակառուցվածքների նախարարություն | G38: 101119 | H38: 101119 | I38: 101119 | J38: 101119
F39: այդ թվում`
D40: 1072 | F40: Ջրամատակարարաման և ջրահեռացման բարելավում | G40: 101119 | H40: 101119 | I40: 101119 | J40: 101119
F41: այդ թվում`
...

Sheet 8
A1: Հավելված N 8
A2: ՀՀ կառավարության 2026 թվականի
A3: -ի N -Ն որոշման
A5: ՀԱՅԱՍՏԱՆԻ ՀԱՆՐԱՊԵՏՈՒԹՅԱՆ ԿԱՌԱՎԱՐՈՒԹՅԱՆ ՊԱՀՈՒՍՏԱՅԻՆ ՖՈՆԴԻՑ ԿԱՏԱՐՎՈՂ ՀԱՏԿԱՑՈՒՄԸ
I6: հազար դրամներով
A8: Գործառական դասիչը | D8: Ծրագրային դասիչը | F8: Բյուջետային ծախսերի գործառական դասակարգման բաժինների, խմբերի և դասերի, բյուջետային ծրագրերի միջոցառումների, բյուջետային հատկացումների գլխավոր կարգադրիչների անվանումները | G8: Ցուցանիշների փոփոխությունը (ավելացումները նշված են դրական նշանով, իսկ նվազեցումները՝ փակագծերում)
G9: Առաջին եռամսյակ | H9: Առաջին կիսամյակ | I9: Ինն ամիս | J9: Տարի
A10: Բաժին | B10: Խումբ | C10: Դաս | D10: Ծրագիր | E10: Միջոցառում
F11: ԸՆԴԱՄԵՆԸ ԾԱԽՍԵՐ | G11: =G13+G33 -> #REF! | H11: =H13+H33 -> #REF! | I11: =I13+I33 -> #REF! | J11: =J13+J33 -> #REF!
F12: այդ թվում`
F13: ՀՀ կառավարություն | G13: =G15 -> #REF! | H13: =H15 -> #REF! | I13: =I15 -> #REF! | J13: =J15 -> #REF!
F14: այդ թվում`
A15: 11 | F15: ՀԻՄՆԱԿԱՆ ԲԱԺԻՆՆԵՐԻՆ ՉԴԱՍՎՈՂ ՊԱՀՈՒՍՏԱՅԻՆ ՖՈՆԴԵՐ | G15: =G17 -> #REF! | H15: =H17 -> #REF! | I15: =I17 -> #REF! | J15: =J17 -> #REF!
F16: այդ թվում`
B17: 01 | F17: ՀՀ կառավարության և համայնքների պահուստային ֆոնդ | G17: =G19 -> #REF! | H17: =H19 -> #REF! | I17: =I19 -> #REF! | J17: =J19 -> #REF!
F18: այդ թվում`
C19: 01 | F19: ՀՀ կառավարության պահուստային ֆոնդ | G19: =G21 -> #REF! | H19: =H21 -> #REF! | I19: =I21 -> #REF! | J19: =J21 -> #REF!
F20: այդ թվում`
F21: ՀՀ կառավարություն | G21: =G23 -> #REF! | H21: =H23 -> #REF! | I21: =I23 -> #REF! | J21: =J23 -> #REF!
F22: այդ թվում`
D23: 1139 | F23: ՀՀ կառավարության պահուստային ֆոնդ | G23: =G25 -> #REF! | H23: =H25 -> #REF! | I23: =I25 -> #REF! | J23: =J25 -> #REF!
F24: այդ թվում`
E25: 11001 | F25: ՀՀ կառավարության պահուստային ֆոնդ | G25: =G27 -> #REF! | H25: =H27 -> #REF! | I25: =I27 -> #REF! | J25: =J27 -> #REF!
F26: այդ թվում` ըստ կատարողների
F27: ՀՀ կառավարություն | G27: =G29 -> #REF! | H27: =H29 -> #REF! | I27: =I29 -> #REF! | J27: =J29 -> #REF!
F28: այդ թվում` բյուջետային ծախսերի տնտեսագիտական դասակարգման հոդվածներ
F29: ԸՆԴԱՄԵՆԸ ԾԱԽՍԵՐ | G29: =G30 -> #REF! | H29: =H30 -> #REF! | I29: =I30 -> #REF! | J29: =J30 -> #REF!
F30: ԸՆԹԱՑԻԿ ԾԱԽՍԵՐ | G30: =G31 -> #REF! | H30: =H31 -> #REF! | I30: =I31 -> #REF! | J30: =J31 -> #REF!
F31: ԱՅԼ ԾԱԽՍԵՐ | G31: =G32 -> #REF! | H31: =H32 -> #REF! | I31: =I32 -> #REF! | J31: =J32 -> #REF!
F32: Պահուստային միջոցներ | G32: =-G33 -> #REF! | H32: =-H33 -> #REF! | I32: =-I33 -> #REF! | J32: =-J33 -> #REF!
F33: ՀՀ տարածքային կառավարման և ենթակառուցվածքների նախարարություն | G33: =G71+G35 -> #REF! | H33: =H71+H35 -> #REF! | I33: =I71+I35 -> #REF! | J33: =J71+J35 -> #REF!
F34: այդ թվում`
A35: 04 | F35: ՏՆՏԵՍԱԿԱՆ ՀԱՐԱԲԵՐՈՒԹՅՈՒՆՆԵՐ | G35: =+G37+G54 -> #REF! | H35: =+H37+H54 -> #REF! | I35: =+I37+I54 -> #REF! | J35: =+J37+J54 -> #REF!
F36: այդ թվում`
B37: 02 | F37: Գյուղատնտեսություն, անտառային տնտեսություն, ձկնորսություն և որսորդություն | G37: =G39 -> #REF! | H37: =H39 -> #REF! | I37: =I39 -> #REF! | J37: =J39 -> #REF!
F38: այդ թվում`
C39: 04 | F39: Ոռոգում | G39: =G43+G103 -> #REF! | H39: =H43+H103 -> #REF! | I39: =I43+I103 -> #REF! | J39: =J43+J103 -> #REF!
F40: այդ թվում`
F41: ՀՀ տարածքային կառավարման և ենթակառուցվածքների նախարարություն | G41: =G43 -> #REF! | H41: =H43 -> #REF! | I41: =I43 -> #REF! | J41: =J43 -> #REF!
F42: այդ թվում`
...
