Workbook
Name _tab10: #REF!
Name _tab11: #REF!
Name _tab12: #REF!
Name _tab13: #REF!
Name _tab14: #REF!
Name _tab15: #REF!
Name _tab16: #REF!
Name _tab17: #REF!
Name _tab18: #REF!
Name _tab19: #REF!
Name _tab20: #REF!
Name _tab21: #REF!
Name _tab22: #REF!
Name _tab23: #REF!
Name _tab24: #REF!
Name _tab5: #REF!
Name _tab6: #REF!
Name _tab7: #REF!
Name _tab8: #REF!
Name _tab9: #REF!
Name AgencyCode: #REF!
Name AgencyName: #REF!
Name åû: #REF!
Name davit: #REF!
Name EUR: '[1]1. 2060-Ն 28.12.2024 արտ'!$W$2
Name fff: #REF!
Name Functional1: #REF!
Name ggg: #REF!
Name h: #REF!
Name mas: #REF!
Name mass: #REF!
Name PANature: #REF!
Name par_count: #REF!,#REF!,#REF!,#REF!,#REF!,#REF!,#REF!,#REF!,#REF!,#REF!,#REF!,#REF!,#REF!,#REF!,#REF!
Name par_qual: #REF!,#REF!,#REF!,#REF!,#REF!
Name par_time: #REF!,#REF!,#REF!,#REF!
Name par2.12s: #REF!
Name par2.4s: #REF!,#REF!,#REF!,#REF!,#REF!,#REF!,#REF!,#REF!,#REF!,#REF!,#REF!,#REF!,#REF!,#REF!,#REF!,#REF!
Name par2.5s: #REF!,#REF!
Name par2.6s: #REF!,#REF!,#REF!,#REF!
Name par2.7s: #REF!,#REF!
Name par2.9s: #REF!,#REF!,#REF!,#REF!,#REF!,#REF!,#REF!,#REF!,#REF!,#REF!,#REF!,#REF!,#REF!,#REF!,#REF!,#REF!
Name par4.10s: #REF!,#REF!
Name par4.11d: #REF!,#REF!,#REF!,#REF!,#REF!
Name par4.12d: #REF!
Name par4.13s: #REF!
Name par4.14: #REF!,#REF!,#REF!,#REF!,#REF!,#REF!
Name par4.15: #REF!,#REF!,#REF!
Name par4.16: #REF!,#REF!,#REF!
Name par4.17: #REF!,#REF!,#REF!,#REF!
Name par4.18d: #REF!,#REF!
Name par4.19s: #REF!
Name par4.20f: #REF!
Name par4.21f: #REF!
Name par4.22: #REF!
Name par4.4: #REF!
Name par4.5: #REF!
Name par4.6s: #REF!
Name par4.7s: #REF!
Name par4.8: #REF!,#REF!,#REF!,#REF!,#REF!
Name par4.9: #REF!,#REF!,#REF!,#REF!,#REF!,#REF!

Sheet ..
C1: Հավելված N 1
C2: ՀՀ կառավարության 2025 թվականի
C3: ______________ ի ___Ն որոշման
B5: «ՀԱՅԱՍՏԱՆԻ ՀԱՆՐԱՊԵՏՈՒԹՅԱՆ 2025 ԹՎԱԿԱՆԻ ՊԵՏԱԿԱՆ ԲՅՈՒՋԵԻ ՄԱՍԻՆ» ՕՐԵՆՔԻ N 2 ՀՈԴՎԱԾԻ ԱՂՅՈՒՍԱԿՈՒՄ ԿԱՏԱՐՎՈՂ ՓՈՓՈԽՈՒԹՅՈՒՆՆԵՐԸ
C8: Ցուցանիշների փոփոխությունը (նվազեցումները նշված են փակագծերում)
C9: Տարի
B10: 1. Եկամուտների գծով | C10: =+'...'!D10 -> #REF!
B11: 2. Ծախսերի գծով | C11: =+'2'!J8 -> 0
B12: 3. Դեֆիցիտը (պակասուրդը) | C12: =-C10+C11 -> #REF!

Sheet ...
D1: Հավելված N 2
D2: ՀՀ կառավարության 2025 թվականի
D3: ______________ ի ___Ն որոշման
B5: «ՀԱՅԱՍՏԱՆԻ ՀԱՆՐԱՊԵՏՈՒԹՅԱՆ 2025 ԹՎԱԿԱՆԻ ՊԵՏԱԿԱՆ ԲՅՈՒՋԵԻ ՄԱՍԻՆ» ՕՐԵՆՔԻ N 6 ՀՈԴՎԱԾԻ ԱՂՅՈՒՍԱԿՈՒՄ ԵՎ ՀԱՅԱՍՏԱՆԻ ՀԱՆՐԱՊԵՏՈՒԹՅԱՆ ԿԱՌԱՎԱՐՈՒԹՅԱՆ 2024 ԹՎԱԿԱՆԻ ԴԵԿՏԵՄԲԵՐԻ 27-Ի N 2060-Ն ՈՐՈՇՄԱՆ N 2 ՀԱՎԵԼՎԱԾՈՒՄ ԿԱՏԱՐՎՈՂ ՓՈՓՈԽՈՒԹՅՈՒՆՆԵՐԸ
D7: հազար դրամներով
B8: Եկամտատեսակ | C8: Ցուցանիշների փոփոխությունը (նվազեցումները նշված են փակագծերում)
C9: Ինն ամիս | D9: Տարի
B10: ՊԵՏԱԿԱՆ ԲՅՈՒՋԵԻ ԵԿԱՄՈՒՏՆԵՐ | C10: =+C12 -> #REF! | D10: =+D12 -> #REF!
B11: այդ թվում`
B12: Պաշտոնական դրամաշնորհներ | C12: =+#REF! -> #REF! | D12: =+#REF! -> #REF!

Sheet 1
I1: Հավելված N 1
J2: ՀՀ կառավարության 2026 թվականի
J3: ______________ ի ___Ն որոշման
A5: «ՀԱՅԱUՏԱՆԻ ՀԱՆՐԱՊԵՏՈՒԹՅԱՆ 2026 ԹՎԱԿԱՆԻ ՊԵՏԱԿԱՆ ԲՅՈՒՋԵԻ ՄԱUԻՆ» OՐԵՆՔԻ N 1 ՀԱՎԵԼՎԱԾԻ N 2 ԱՂՅՈՒՍԱԿՈՒՄ ԿԱՏԱՐՎՈՂ ՎԵՐԱԲԱՇԽՈՒՄԸ ԵՎ ՀԱՅԱՍՏԱՆԻ ՀԱՆՐԱՊԵՏՈՒԹՅԱՆ ԿԱՌԱՎԱՐՈՒԹՅԱՆ 2025 ԹՎԱԿԱՆԻ ԴԵԿՏԵՄԲԵՐԻ 25-Ի N 1910-Ն ՈՐՈՇՄԱՆ N 5 ՀԱՎԵԼՎԱԾԻ N 1 ԱՂՅՈՒՍԱԿՈՒՄ ԿԱՏԱՐՎՈՂ ՓՈՓՈԽՈՒԹՅՈՒՆՆԵՐԸ ԵՎ ԼՐԱՑՈՒՄՆԵՐԸ
I6: հազար դրամներով
A7: ԲԳԿ | B7: Ծրագրային դասիչը | D7: ԲԳԿ/Ծրագրի /միջոցառման անվանումը | E7: Ծրագրի նպատակը/Միջոցառման նկարագրությունը | F7: Վերջնական արդյունքի նկարագրությունը/Միջոցառման տեսակը | G7: Ցուցանիշների փոփոխությունը (ավելացումները նշված են դրական նշանով, իսկ նվազեցումները՝ փակագծերում)
G8: Առաջին եռամսյակ | H8: Առաջին կիսամյակ | I8: Ինն ամիս | J8: Տարի
B9: Ծրագիր | C9: Միջոցառում
A10: ԸՆԴԱՄԵՆԸ | G10: 0 | H10: 0 | I10: 0 | J10: 0
A11: ՀՀ տարածքային կառավարման և ենթակառուցվածքների նախարարություն | G11: 0 | H11: 0 | I11: 0 | J11: 0
B12: 1004 | D12: Ոռոգման համակարգի առողջացում | E12: Ոռոգման ծառայությունների հասանելիության և մատչելիության ապահովում | F12: Ոռոգման ջրի մատակարարման արդյունավետության և հասանելիության բարելավում, կորուստների կրճատում | G12: 158850 | H12: 166350 | I12: 56068 | J12: 718
C13: 1004 - 11007 | D13: Գերմանիայի զարգացման վարկերի բանկի աջակցությամբ իրականացվող Ախուրյան գետի ջրային ռեսուրսների ինտեգրացված կառավարում ծրագրի խորհրդատվություն և կառավարում | E13: Գերմանիայի զարգացման վարկերի բանկի աջակցությամբ իրականացվող Ախուրյան գետի ջրային ռեսուրսների ինտեգրացված կառավարում ծրագրի համակարգում և ղեկավարում | F13: Ծառայությունների մատուցում | G13: 4000 | H13: 10000 | I13: 16000 | J13: 22000
C14: 1004 - 11011 | D14: Զարգացման ֆրանսիական գործակալության աջակցությամբ իրականացվող ոռոգման ոլորտի ֆինանսական կայունության և ոռոգման կառավարման կարողությունների բարելավման դրամաշնորհային ծրագրի խորհրդատվություն և կառավարում | E14: Զարգացման ֆրանսիական գործակալության աջակցությամբ իրականացվող ոռոգման ոլորտի ֆինանսական կայունության և ոռոգման կառավարման կարողություննրի բարելավման ծրագրի համակարգում և ղեկավարում | F14: Ծառայությունների մատուցում | G14: 154850 | H14: 156350 | I14: 157350 | J14: 93229.6
C15: 1004 - 12002 | D15: Գերմանիայի զարգացման բանկի աջակցությամբ իրականացվող Ախուրյան գետի ջրային ռեսուրսների ինտեգրված կառավարման փուլ 1 ծրագրով Ջրաձոր գյուղի վերաբնակեցման համար ենթակառուցվածքների և բնակելի տների կառուցում | E15: Գերմանիայի զարգացման բանկի աջակցությամբ իրականացվող Ախուրյան գետի ջրային ռեսուրսների ինտեգրված կառավարման փուլ 1 ծրագիր | F15: Տրանսֆերտների տրամադրում | G15: 0 | H15: 0 | I15: -101119 | J15: -101119
C16: 1004 - 31004 | D16: Գերմանիայի զարգացման վարկերի բանկի աջակցությամբ իրականացվող Ախուրյան գետի ջրային ռեսուրսների ինտեգրված կառավարման ծրագրի շրջանակներում ջրային տնտեսության ենթակառուցվածքների հիմնանորոգում | E16: Գերմանիայի զարգացման վարկերի բանկի աջակցությամբ իրականացվող Ախուրյան գետի ջրային ռեսուրսների ինտեգրված կառավարման ծրագիր | F16: Պետական մարմինների կողմից օգտագործվող ոչ ֆինանսական ակտիվների հետ գործառնություններ | G16: 0 | H16: 0 | I16: -16163 | J16: -13392.6
B17: 1019 | D17: Սոցիալական ներդրումների և տեղական զարգացման ծրագիր | E17: Նպաստել տարածքներում բնակչության նյութական և ոչ նյութական բարեկեցության աճին | F17: Համայնքային և միջհամայնքային ենթակառուցվածքների և որակի հասանելիության բարելավում, ինստիտուցիոնալ և ֆինանասական կարողությունների հզորացում | G17: 18163 | H17: 18163 | I17: 18163 | J17: 18163
C18: 1019 - 12004 | D18: Համաշխարհային բանկի աջակցությամբ իրականացվող Սոցիալական ներդրումների և տեղական զարգացման ծրագրի լրացուցիչ ֆինանսավորման վարկի շրջանակներում ՀՀ համայնքային և միջհամայնքային ենթակառուցվածքների որակի, օգտագործման և հասանելիության բարելավում: | E18: Ջրագծերի, առողջապահության, կրթության օբյեկտների, մշակույթային տների, ծերանոցների, մանկատների, հատուկ դպրոցների, մանկապարտզների և կոյուղու օբյեկտնրի հիմն. և շինարարություն., գույքի և սարքավորումների տրամադրում շահառու ենթածրագրերի համար: | F18: Տրանսֆերտների տրամադրում | G18: 18163 | H18: 18163 | I18: 18163 | J18: 18163
B19: 1049 | D19: Ճանապարհային ցանցի բարելավում | E19: Ճանապարհային ցանցի բարելավում և անվտանգ երթևեկության ապահովում | F19: Ճանապարհների ծածկի որակի և փոխադրումների արդյունավետության բարելավում, ճանապարհների վիճակով պայմանավորված պատահարների նվազում | G19: 0 | H19: 0 | I19: 0 | J19: 0
C20: 1049 - 11012 | D20: Կայունացման և զարգացման Եվրասիական հիմնադրամի աջակցությամբ իրականացվող Հյուսիս-հարավ միջանցքի Քաջարան Ագարակ 32 կմ հատվածի կառուցման համակարգում և կառավարում | E20: Խորհրդատվական ծառայություններ, Ֆինանսական աուդիտ և պահպանման ծախսեր | F20: Ծառայությունների մատուցում | G20: 0 | H20: 200000 | I20: 200000 | J20: 200000
C21: 1049 - 11016 | D21: Ասիական զարգացման բանկի աջակցությամբ իրականացվող Հյուսիս-հարավ ճանապարհային միջանցքի զարգացման ծրագրի Սիսիան-Քաջարան 60կմ-ի Հյուսիսային ենթահատվածի համակարգում և կառավարում | E21: Խորհրդատվական ծառայություններ և պահպանման ծախսեր | F21: Ծառայությունների մատուցում | G21: 0 | H21: -200000 | I21: -200000 | J21: -200000
B22: 1072 | D22: Ջրամատակարարաման և ջրահեռացման բարելավում | E22: Ջրամատակարարման ծառայությունների հասանելիության և մատչելիության ապահովում | F22: Խմելու ջրի մատակարարման և ջրահեռացման համակարգի բարելավում, կորուստների կրճատում | G22: -73731 | H22: -75231 | I22: -74231 | J22: -18881
C23: 1072 - 12001 | D23: Գերմանիայի զարգացման և Եվրոպական միության հարևանության ներդրումային բանկի աջակցությամբ իրականացվող ջրամատակարարման և ջրահեռացման ենթակառուցվածքների դրամաշնորհային ծրագիր` երրորդ փուլ | E23: 579 գյուղական բնակավայրերից ընտրված որոշ համայնքների ջրամատակարարման և ջրահեռացման համակարգերի հատվածների հրատապ վերականգնման աշխատանքների իրականացում ինչպես նաև՛ Արմավիրի կեղտաջրերի մաքրման կայանի կառուցում | F23: Տրանսֆերտների տրամադրում | G23: -174850 | H23: -176350 | I23: -175350 | J23: -120000
C24: 1072 - 12004 | D24: Մաքրման կայանների պահպանություն | E24: Մաքրման կայանների պահպանության նպատակով համապատասխան ծառայությունների ձեռքբերում | F24: Տրանսֆերտների տրամադրում | G24: 5125.9 | H24: 5125.9 | I24: 5125.9 | J24: 5125.9
C25: 1072 - 31015 | D25: Ջրամատակարարման և ջրահեռացման համակարգերի հիմնանորոգում որոշ վայրերում | E25: Ջրամատակարարման և ջրահեռացման համակարգի հիմնանորոգման աշխատանքների ձեռքբերում | F25: Տրանսֆերտների տրամադրում | G25: 95993.1 | H25: 95993.1 | I25: 95993.1 | J25: 95993.1
B26: 1167 | D26: Էլեկտրաէներգետիկ համակարգի զարգացման ծրագիր | E26: Նպաստել էլեկտրաէներգետիկ համակարգի հուսալիության բարձրացմանը և էլեկտրաէներգիայի անխափան մատակարարման ապահովմանը | F26: Հուսալի և անվտանգ էլեկտրամատակարարման ապահովում | G26: -103282 | H26: -109282 | I26: 0 | J26: 0
C27: 1167 - 11007 | D27: Հայաստանի Հանրապետությունում նոր ատոմային էներգաբլոկի (էներգաբլոկների) կառուցման ծրագրի կառավարում | E27: Հայաստանի Հանրապետությունում նոր ատոմային էներգաբլոկի (էներգաբլոկների) կառուցման աշխատանքների նախապատրաստում և իրականացում | F27: Ծառայությունների մատուցում | G27: -103282 | H27: -109282 | I27: 0 | J27: 0
A28: ՀՀ կառավարություն | G28: 0 | H28: 0 | I28: 0 | J28: 0
B29: 1139 | D29: ՀՀ կառավարության պահուստային ֆոնդ | E29: Պետական բյուջեում չկանխատեսված, ինչպես նաեւ բյուջետային երաշխիքների ապահովման ծախսերի ֆինանսավորման ապահովում | F29: Պահուստային ֆոնդի կառավարման արդյունավետության և թափանցիկության ապահովում | G29: 0 | H29: 0 | I29: 0 | J29: 0
C30: 1139 - 11001 | D30: ՀՀ կառավարության պահուստային ֆոնդ | E30: ՀՀ պետական բյուջեում նախատեսված ելքերի լրացուցիչ ֆինանսավորման, պետական բյուջեում չկանխատեսված ելքերի, ինչպես նաև բյուջետային երաշխիքների ապահովման ելքերի ֆինանսավորման ապահովում | F30: Ծառայությունների մատուցում | G30: 119282 | H30: 119282 | I30: 119282 | J30: 119282
C31: 1139 - 11001 | D31: ՀՀ կառավարության պահուստային ֆոնդ | E31: ՀՀ պետական բյուջեում նախատեսված ելքերի լրացուցիչ ֆինանսավորման, պետական բյուջեում չկանխատեսված ելքերի, ինչպես նաև բյուջետային երաշխիքների ապահովման ելքերի ֆինանսավորման ապահովում | F31: Ծառայությունների մատուցում | G31: -119282 | H31: -119282 | I31: -119282 | J31: -119282
C34: ՀԱՅԱՍՏԱՆԻ ՀԱՆՐԱՊԵՏՈՒԹՅԱՆ ՎԱՐՉԱՊԵՏԻ ԱՇԽԱՏԱԿԱԶՄԻ ՂԵԿԱՎԱՐ՝ | E34: Ա.ՀԱՐՈՒԹՅՈՒՆՅԱՆ

Sheet 2
A1: Հավելված N 2
A2: ՀՀ կառավարության 2026 թվականի
A3: -ի N -Ն որոշման
A4: ՀԱՅԱՍՏԱՆԻ ՀԱՆՐԱՊԵՏՈՒԹՅԱՆ ԿԱՌԱՎԱՐՈՒԹՅԱՆ 2025 ԹՎԱԿԱՆԻ ԴԵԿՏԵՄԲԵՐԻ 25-Ի N 1910-Ն ՈՐՈՇՄԱՆ N 3 ԵՎ N 4 ՀԱՎԵԼՎԱԾՆԵՐՈՒՄ ԿԱՏԱՐՎՈՂ ՓՈՓՈԽՈՒԹՅՈՒՆՆԵՐԸ ԵՎ ԼՐԱՑՈՒՄՆԵՐԸ
I5: հազար դրամներով
A6: Գործառական դասիչը | D6: Ծրագրային դասիչը | F6: Բյուջետային ծախսերի գործառական դասակարգման բաժինների, խմբերի և դասերի, բյուջետային ծրագրերի միջոցառումների, բյուջետային հատկացումների գլխավոր կարգադրիչների անվանումները | G6: Ցուցանիշների փոփոխությունը (ավելացումները նշված են դրական նշանով, իսկ նվազեցումները՝ փակագծերում)
A7: Բաժին | B7: Խումբ | C7: Դաս | D7: Ծրագիր | E7: Միջոցառում | G7: Առաջին եռամսյակ | H7: Առաջին կիսամյակ | I7: Ինն ամիս | J7: Տարի
F8: ԸՆԴԱՄԵՆԸ ԾԱԽՍԵՐ | G8: =G10+G166 -> 0 | H8: =H10+H166 -> 0 | I8: =I10+I166 -> 0 | J8: =J10+J166 -> 0
F9: այդ թվում`
F10: ՀՀ տարածքային կառավարման և ենթակառուցվածքների նախարարություն | G10: =G12+G127 -> 0 | H10: =H12+H127 -> 0 | I10: =I12+I127 -> 0 | J10: =J12+J127 -> 0
F11: այդ թվում`
A12: 04 | F12: ՏՆՏԵՍԱԿԱՆ ՀԱՐԱԲԵՐՈՒԹՅՈՒՆՆԵՐ | G12: 73731 | H12: 75231 | I12: 74231 | J12: 18881
F13: այդ թվում`
B14: 02 | F14: Գյուղատնտեսություն, անտառային տնտեսություն, ձկնորսություն և որսորդություն | G14: 158850 | H14: 166350 | I14: 56068 | J14: 718
F15: այդ թվում`
C16: 04 | F16: Ոռոգում | G16: 158850 | H16: 166350 | I16: 56068 | J16: 718
F17: այդ թվում`
F18: ՀՀ տարածքային կառավարման և ենթակառուցվածքների նախարարություն | G18: 158850 | H18: 166350 | I18: 56068 | J18: 718
F19: այդ թվում`
D20: 1004 | F20: Ոռոգման համակարգի առողջացում | G20: 158850 | H20: 166350 | I20: 56068 | J20: 718
F21: այդ թվում`
E22: 11007 | F22: Գերմանիայի զարգացման վարկերի բանկի աջակցությամբ իրականացվող Ախուրյան գետի ջրային ռեսուրսների ինտեգրացված կառավարում ծրագրի խորհրդատվություն և կառավարում | G22: 4000 | H22: 10000 | I22: 16000 | J22: 22000
F23: այդ թվում` ըստ կատարողների
F24: ՀՀ տարածքային կառավարման և ենթակառուցվածքների նախարարության ջրային կոմիտե | G24: 4000 | H24: 10000 | I24: 16000 | J24: 22000
F25: այդ թվում` բյուջետային ծախսերի տնտեսագիտական դասակարգման հոդվածներ
F26: ԸՆԴԱՄԵՆԸ ԾԱԽՍԵՐ | G26: 4000 | H26: 10000 | I26: 16000 | J26: 22000
F27: ԸՆԹԱՑԻԿ ԾԱԽՍԵՐ | G27: 4000 | H27: 10000 | I27: 16000 | J27: 22000
F28: ԱՅԼ ԾԱԽՍԵՐ | G28: 4000 | H28: 10000 | I28: 16000 | J28: 22000
F29: Այլ ծախսեր | G29: 4000 | H29: 10000 | I29: 16000 | J29: 22000
E30: 11010 | F30: Գերմանիայի զարգացման վարկերի բանկի աջակցությամբ իրականացվող Ախուրյան գետի ջրային ռեսուրսների ինտեգրացված կառավարում փուլ 1 ծրագրով Ջրաձոր գյուղի վերաբնակեցման գործողությունների խորհրդատվություն և կառավարում | G30: 0 | H30: 0 | I30: 0 | J30: 0
F31: այդ թվում` ըստ կատարողների | H31: 0 | I31: 0 | J31: 0
F32: ՀՀ տարածքային կառավարման և ենթակառուցվածքների նախարարության ջրային կոմիտե | G32: 0 | H32: 0 | I32: 0 | J32: 0
F33: այդ թվում` բյուջետային ծախսերի տնտեսագիտական դասակարգման հոդվածներ | G33: 0 | H33: 0 | I33: 0 | J33: 0
F34: ԸՆԴԱՄԵՆԸ ԾԱԽՍԵՐ | G34: 0 | H34: 0 | I34: 0 | J34: 0
F35: ԸՆԹԱՑԻԿ ԾԱԽՍԵՐ | G35: 0 | H35: 0 | I35: 0 | J35: 0
F36: ԴՐԱՄԱՇՆՈՐՀՆԵՐ | G36: -23175 | H36: -23175 | I36: -23175 | J36: -23175
F37: Ընթացիկ դրամաշնորհներ պետական հատվածի այլ մակարդակներին | G37: -23175 | H37: -23175 | I37: -23175 | J37: -23175
F38: - Այլ ընթացիկ դրամաշնորհներ | G38: -23175 | H38: -23175 | I38: -23175 | J38: -23175
F39: ԱՅԼ ԾԱԽՍԵՐ | G39: 23175 | H39: 23175 | I39: 23175 | J39: 23175
F40: Այլ ծախսեր | G40: 23175 | H40: 23175 | I40: 23175 | J40: 23175
E41: 11011 | F41: Զարգացման ֆրանսիական գործակալության աջակցությամբ իրականացվող ոռոգման ոլորտի ֆինանսական կայունության և ոռոգման կառավարման կարողությունների բարելավման դրամաշնորհային ծրագրի խորհրդատվություն և կառավարում | G41: 154850 | H41: 156350 | I41: 157350 | J41: 93229.6
F42: այդ թվում` ըստ կատարողների
F43: ՀՀ տարածքային կառավարման և ենթակառուցվածքների նախարարության ջրային կոմիտե | G43: 154850 | H43: 156350 | I43: 157350 | J43: 93229.6
F44: այդ թվում` բյուջետային ծախսերի տնտեսագիտական դասակարգման հոդվածներ
F45: ԸՆԴԱՄԵՆԸ ԾԱԽՍԵՐ | G45: 154850 | H45: 156350 | I45: 157350 | J45: 93229.6
F46: ԸՆԹԱՑԻԿ ԾԱԽՍԵՐ | G46: 154850 | H46: 156350 | I46: 157350 | J46: 93229.6
F47: ԱՅԼ ԾԱԽՍԵՐ | G47: 154850 | H47: 156350 | I47: 157350 | J47: 93229.6
F48: Այլ ծախսեր | G48: 154850 | H48: 156350 | I48: 157350 | J48: 93229.6
E49: 12002 | F49: Գերմանիայի զարգացման բանկի աջակցությամբ իրականացվող Ախուրյան գետի ջրային ռեսուրսների ինտեգրված կառավարման փուլ 1 ծրագրով Ջրաձոր գյուղի վերաբնակեցման համար ենթակառուցվածքների և բնակելի տների կառուցում | G49: 0 | H49: 0 | I49: -101119 | J49: -101119
F50: այդ թվում` ըստ կատարողների
F51: ՀՀ տարածքային կառավարման և ենթակառուցվածքների նախարարության ջրային կոմիտե | G51: 0 | H51: 0 | I51: -101119 | J51: -101119
F52: այդ թվում` բյուջետային ծախսերի տնտեսագիտական դասակարգման հոդվածներ
F53: ԸՆԴԱՄԵՆԸ ԾԱԽՍԵՐ | G53: 0 | H53: 0 | I53: -101119 | J53: -101119
F54: ՈՉ ՖԻՆԱՆՍԱԿԱՆ ԱԿՏԻՎՆԵՐԻ ԳԾՈՎ ԾԱԽՍԵՐ | G54: 0 | H54: 0 | I54: -101119 | J54: -101119
F55: ՀԻՄՆԱԿԱՆ ՄԻՋՈՑՆԵՐ | G55: 0 | H55: 0 | I55: -101119 | J55: -101119
F56: ՇԵՆՔԵՐ ԵՎ ՇԻՆՈՒԹՅՈՒՆՆԵՐ | G56: 0 | H56: 0 | I56: -101119 | J56: -101119
F57: - Շենքերի և շինությունների շինարարություն | G57: 0 | H57: 0 | I57: -101119 | J57: -101119
E58: 31004 | F58: Գերմանիայի զարգացման վարկերի բանկի աջակցությամբ իրականացվող Ախուրյան գետի ջրային ռեսուրսների ինտեգրված կառավարման ծրագրի շրջանակներում ջրային տնտեսության ենթակառուցվածքների հիմնանորոգում | G58: 0 | H58: 0 | I58: -16163 | J58: -13392.6
F59: այդ թվում` ըստ կատարողների
F60: ՀՀ տարածքային կառավարման և ենթակառուցվածքների նախարարության ջրային կոմիտե | G60: 0 | H60: 0 | I60: -16163 | J60: -13392.6
F61: այդ թվում` բյուջետային ծախսերի տնտեսագիտական դասակարգման հոդվածներ
F62: ԸՆԴԱՄԵՆԸ ԾԱԽՍԵՐ | G62: 0 | H62: 0 | I62: -16163 | J62: -13392.6
F63: ՈՉ ՖԻՆԱՆՍԱԿԱՆ ԱԿՏԻՎՆԵՐԻ ԳԾՈՎ ԾԱԽՍԵՐ | G63: 0 | H63: 0 | I63: -16163 | J63: -13392.6
F64: ՀԻՄՆԱԿԱՆ ՄԻՋՈՑՆԵՐ | G64: 0 | H64: 0 | I64: -16163 | J64: -13392.6
F65: ՇԵՆՔԵՐ ԵՎ ՇԻՆՈՒԹՅՈՒՆՆԵՐ | G65: 0 | H65: 0 | I65: -16163 | J65: -13392.6
F66: - Շենքերի և շինությունների շինարարություն | G66: 0 | H66: 0 | I66: -16163 | J66: -13392.6
B67: 03 | F67: Վառելիք և էներգետիկա | G67: -103282 | H67: -109282 | I67: 0 | J67: 0
F68: այդ թվում`
C69: 05 | F69: Էլեկտրաէներգիա | G69: -103282 | H69: -109282 | I69: 0 | J69: 0
F70: այդ թվում`
F71: ՀՀ տարածքային կառավարման և ենթակառուցվածքների նախարարություն | G71: -103282 | H71: -109282 | I71: 0 | J71: 0
F72: այդ թվում`
D73: 1167 | F73: Էլեկտրաէներգետիկ համակարգի զարգացման ծրագիր | G73: -103282 | H73: -109282 | I73: 0 | J73: 0
F74: այդ թվում`
E75: 11007 | F75: Հայաստանի Հանրապետությունում նոր ատոմային էներգաբլոկի (էներգաբլոկների) կառուցման ծրագրի կառավարում | G75: -103282 | H75: -109282 | I75: 0 | J75: 0
F76: այդ թվում` ըստ կատարողների | G76: 0
F77: ՀՀ տարածքային կառավարման և ենթակառուցվածքների նախարարություն | G77: -103282 | H77: -109282 | I77: 0 | J77: 0
F78: այդ թվում` բյուջետային ծախսերի տնտեսագիտական դասակարգման հոդվածներ
F79: ԸՆԴԱՄԵՆԸ ԾԱԽՍԵՐ | G79: -103282 | H79: -109282 | I79: 0 | J79: 0
F80: ԸՆԹԱՑԻԿ ԾԱԽՍԵՐ | G80: -103282 | H80: -109282 | I80: 0 | J80: 0
F81: ԴՐԱՄԱՇՆՈՐՀՆԵՐ | G81: -103282 | H81: -109282 | I81: 0 | J81: 0
F82: Ընթացիկ դրամաշնորհներ պետական հատվածի այլ մակարդակներին | G82: -103282 | H82: -109282 | I82: 0 | J82: 0
F83: - Այլ ընթացիկ դրամաշնորհներ | G83: -103282 | H83: -109282 | I83: 0 | J83: 0
B84: 05 | F84: Տրանսպորտ | G84: 0 | H84: 0 | I84: 0 | J84: 0
F85: այդ թվում`
C86: 01 | F86: Ճանապարհային տրանսպորտ | G86: 0 | H86: 0 | I86: 0 | J86: 0
F87: այդ թվում`
F88: ՀՀ տարածքային կառավարման և ենթակառուցվածքների նախարարություն | G88: 0 | H88: 0 | I88: 0 | J88: 0
F89: այդ թվում`
D90: 1049 | F90: Ճանապարհային ցանցի բարելավում | G90: 0 | H90: 0 | I90: 0 | J90: 0
F91: այդ թվում`
E92: 11012 | F92: Կայունացման և զարգացման Եվրասիական հիմնադրամի աջակցությամբ իրականացվող Հյուսիս-հարավ միջանցքի Քաջարան Ագարակ 32 կմ հատվածի կառուցման համակարգում և կառավարում | G92: 0 | H92: 200000 | I92: 200000 | J92: 200000
F93: այդ թվում` ըստ կատարողների
F94: ՀՀ տարածքային կառավարման և ենթակառուցվածքների նախարարություն | G94: 0 | H94: 200000 | I94: 200000 | J94: 200000
F95: այդ թվում` բյուջետային ծախսերի տնտեսագիտական դասակարգման հոդվածներ
F96: ԸՆԴԱՄԵՆԸ ԾԱԽՍԵՐ | G96: 0 | H96: 200000 | I96: 200000 | J96: 200000
F97: ԸՆԹԱՑԻԿ ԾԱԽՍԵՐ | G97: 0 | H97: 200000 | I97: 200000 | J97: 200000
F98: ԴՐԱՄԱՇՆՈՐՀՆԵՐ | G98: 0 | H98: 200000 | I98: 200000 | J98: 200000
F99: Կապիտալ դրամաշնորհներ պետական հատվածի այլ մակարդակներին | G99: 0 | H99: 200000 | I99: 200000 | J99: 200000
F100: - Այլ կապիտալ դրամաշնորհներ | G100: 0 | H100: 200000 | I100: 200000 | J100: 200000
...

Sheet 3
O1: Հավելված N 3
M2: ՀՀ կառավարության 2026 թվականի
M3: ______________ ի ___Ն որոշման
A5: «ՀԱՅԱUՏԱՆԻ ՀԱՆՐԱՊԵՏՈՒԹՅԱՆ 2025 ԹՎԱԿԱՆԻ ՊԵՏԱԿԱՆ ԲՅՈՒՋԵԻ ՄԱUԻՆ» OՐԵՆՔԻ N 1 ՀԱՎԵԼՎԱԾԻ N 4 ԱՂՅՈՒՍԱԿՈՒՄ ԵՎ ՀԱՅԱՍՏԱՆԻ ՀԱՆՐԱՊԵՏՈՒԹՅԱՆ ԿԱՌԱՎԱՐՈՒԹՅԱՆ 2025 ԹՎԱԿԱՆԻ ԴԵԿՏԵՄԲԵՐԻ 25-Ի N 1910-Ն ՈՐՈՇՄԱՆ N 5 ՀԱՎԵԼՎԱԾԻ N 3 ԱՂՅՈՒՍԱԿՈՒՄ ԿԱՏԱՐՎՈՂ ՓՈՓՈԽՈՒԹՅՈՒՆԸ ԵՎ ԼՐԱՑՈՒՄԸ
N6: հազար դրամներով
A7: Ծրագրային դասիչը | C7: Բյուջետային գլխավոր կարգադրիչների, ծրագրերի և միջոցառումների անվանումները | D7: Ցուցանիշների փոփոխությունը (ավելացումները նշված են դրական նշանով, իսկ նվազեցումները` փակագծերում)
D8: Առաջին եռամսյակ | G8: Առաջին կիսամյակ | J8: Ինն ամիս | M8: Տարի
D9: Ընդամենը | E9: այդ թվում` | G9: Ընդամենը | H9: այդ թվում` | J9: Ընդամենը | K9: այդ թվում` | M9: Ընդամենը | N9: այդ թվում`
A10: Ծրագիր | B10: Միջոցառում | E10: Վարկային միջոցներ | F10: Համաֆինան սավորում | H10: Վարկային միջոցներ | I10: Համաֆինան սավորում | K10: Վարկային միջոցներ | L10: Համաֆինան սավորում | N10: Վարկային միջոցներ | O10: Համաֆինան սավորում
C11: ԸՆԴԱՄԵՆԸ | D11: 22163 | E11: 0 | F11: 22163 | G11: 28163 | H11: 0 | I11: 28163 | J11: -83119 | K11: 0 | L11: -83119 | M11: -74348.6 | N11: 0 | O11: -74348.6
C12: այդ թվում`
C13: ԸՆԹԱՑԻԿ ԾԱԽՍԵՐ | D13: 4000 | E13: 0 | F13: 4000 | G13: 10000 | H13: 0 | I13: 10000 | J13: 16000 | K13: 0 | L13: 16000 | M13: 22000 | N13: 0 | O13: 22000
C14: ՈՉ ՖԻՆԱՆՍԱԿԱՆ ԱԿՏԻՎՆԵՐԻ ԳԾՈՎ ԾԱԽՍԵՐ | D14: 18163 | E14: 0 | F14: 18163 | G14: 18163 | H14: 0 | I14: 18163 | J14: -99119 | K14: 0 | L14: -99119 | M14: -96348.6 | N14: 0 | O14: -96348.6
C15: ՀՀ ՏԱՐԱԾՔԱՅԻՆ ԿԱՌԱՎԱՐՄԱՆ ԵՎ ԵՆԹԱԿԱՌՈՒՑՎԱԾՔՆԵՐԻ ՆԱԽԱՐԱՐՈՒԹՅՈՒՆ | D15: 22163 | E15: 0 | F15: 22163 | G15: 28163 | H15: 0 | I15: 28163 | J15: -83119 | K15: 0 | L15: -83119 | M15: -74348.6 | N15: 0 | O15: -74348.6
A16: 1004 | C16: Ոռոգման համակարգի առողջացում | D16: 4000 | E16: 0 | F16: 4000 | G16: 10000 | H16: 0 | I16: 10000 | J16: -101282 | K16: 0 | L16: -101282 | M16: -92511.6 | N16: 0 | O16: -92511.6
C17: այդ թվում`
B18: 11007 | C18: Գերմանիայի զարգացման վարկերի բանկի աջակցությամբ իրականացվող Ախուրյան գետի ջրային ռեսուրսների ինտեգրացված կառավարում ծրագրի խորհրդատվություն և կառավարում | D18: 4000 | E18: 0 | F18: 4000 | G18: 10000 | H18: 0 | I18: 10000 | J18: 16000 | K18: 0 | L18: 16000 | M18: 22000 | N18: 0 | O18: 22000
C19: այդ թվում` ըստ կատարողների
C20: ՀՀ տարածքային կառավարման և ենթակառուցվածքների նախարարության ջրային կոմիտե | D20: 4000 | E20: 0 | F20: 4000 | G20: 10000 | H20: 0 | I20: 10000 | J20: 16000 | K20: 0 | L20: 16000 | M20: 22000 | N20: 0 | O20: 22000
C21: այդ թվում` բյուջետային ծախսերի տնտեսագիտական դասակարգման հոդվածներ
C22: ԸՆԴԱՄԵՆԸ ԾԱԽՍԵՐ | D22: 4000 | E22: 0 | F22: 4000 | G22: 10000 | H22: 0 | I22: 10000 | J22: 16000 | K22: 0 | L22: 16000 | M22: 22000 | N22: 0 | O22: 22000
C23: ԸՆԹԱՑԻԿ ԾԱԽՍԵՐ | D23: 4000 | E23: 0 | F23: 4000 | G23: 10000 | H23: 0 | I23: 10000 | J23: 16000 | K23: 0 | L23: 16000 | M23: 22000 | N23: 0 | O23: 22000
C24: ԱՅԼ ԾԱԽՍԵՐ | D24: 4000 | E24: 0 | F24: 4000 | G24: 10000 | H24: 0 | I24: 10000 | J24: 16000 | K24: 0 | L24: 16000 | M24: 22000 | N24: 0 | O24: 22000
C25: Այլ ծախսեր | D25: 4000 | E25: 0 | F25: 4000 | G25: 10000 | H25: 0 | I25: 10000 | J25: 16000 | K25: 0 | L25: 16000 | M25: 22000 | N25: 0 | O25: 22000
B26: 11010 | C26: Գերմանիայի զարգացման վարկերի բանկի աջակցությամբ իրականացվող Ախուրյան գետի ջրային ռեսուրսների ինտեգրացված կառավարում փուլ 1 ծրագրով Ջրաձոր գյուղի վերաբնակեցման գործողությունների խորհրդատվություն և կառավարում | D26: 0 | F26: 0 | G26: 0 | I26: 0 | J26: 0 | L26: 0 | M26: 0 | O26: 0
C27: այդ թվում` ըստ կատարողների | D27: 0 | G27: 0 | J27: 0 | M27: 0
C28: ՀՀ տարածքային կառավարման և ենթակառուցվածքների նախարարության ջրային կոմիտե | D28: 0 | F28: 0 | G28: 0 | I28: 0 | J28: 0 | L28: 0 | M28: 0 | O28: 0
C29: այդ թվում` բյուջետային ծախսերի տնտեսագիտական դասակարգման հոդվածներ
C30: ԸՆԴԱՄԵՆԸ ԾԱԽՍԵՐ | D30: 0 | E30: 0 | F30: 0 | G30: 0 | H30: 0 | I30: 0 | J30: 0 | K30: 0 | L30: 0 | M30: 0 | N30: 0 | O30: 0
C31: ԸՆԹԱՑԻԿ ԾԱԽՍԵՐ | D31: 0 | E31: 0 | F31: 0 | G31: 0 | H31: 0 | I31: 0 | J31: 0 | K31: 0 | L31: 0 | M31: 0 | N31: 0 | O31: 0
C32: ԴՐԱՄԱՇՆՈՐՀՆԵՐ | D32: -23175 | E32: 0 | F32: -23175 | G32: -23175 | H32: 0 | I32: -23175 | J32: -23175 | K32: 0 | L32: -23175 | M32: -23175 | N32: 0 | O32: -23175
C33: Ընթացիկ դրամաշնորհներ պետական հատվածի այլ մակարդակներին | D33: -23175 | E33: 0 | F33: -23175 | G33: -23175 | H33: 0 | I33: -23175 | J33: -23175 | K33: 0 | L33: -23175 | M33: -23175 | N33: 0 | O33: -23175
C34: - Այլ ընթացիկ դրամաշնորհներ | D34: -23175 | E34: 0 | F34: -23175 | G34: -23175 | H34: 0 | I34: -23175 | J34: -23175 | K34: 0 | L34: -23175 | M34: -23175 | N34: 0 | O34: -23175
C35: ԱՅԼ ԾԱԽՍԵՐ | D35: 23175 | E35: 0 | F35: 23175 | G35: 23175 | H35: 0 | I35: 23175 | J35: 23175 | K35: 0 | L35: 23175 | M35: 23175 | N35: 0 | O35: 23175
C36: Այլ ծախսեր | D36: 23175 | E36: 0 | F36: 23175 | G36: 23175 | H36: 0 | I36: 23175 | J36: 23175 | K36: 0 | L36: 23175 | M36: 23175 | N36: 0 | O36: 23175
B37: 12002 | C37: Գերմանիայի զարգացման բանկի աջակցությամբ իրականացվող Ախուրյան գետի ջրային ռեսուրսների ինտեգրված կառավարման փուլ 1 ծրագրով Ջրաձոր գյուղի վերաբնակեցման համար ենթակառուցվածքների և բնակելի տների կառուցում | D37: 0 | E37: 0 | F37: 0 | G37: 0 | H37: 0 | I37: 0 | J37: -101119 | K37: 0 | L37: -101119 | M37: -101119 | N37: 0 | O37: -101119
C38: այդ թվում` ըստ կատարողների
C39: ՀՀ տարածքային կառավարման և ենթակառուցվածքների նախարարության ջրային կոմիտե | D39: 0 | E39: 0 | F39: 0 | G39: 0 | H39: 0 | I39: 0 | J39: -101119 | K39: 0 | L39: -101119 | M39: -101119 | N39: 0 | O39: -101119
C40: այդ թվում` բյուջետային ծախսերի տնտեսագիտական դասակարգման հոդվածներ
C41: ԸՆԴԱՄԵՆԸ ԾԱԽՍԵՐ | D41: 0 | E41: 0 | F41: 0 | G41: 0 | H41: 0 | I41: 0 | J41: -101119 | K41: 0 | L41: -101119 | M41: -101119 | N41: 0 | O41: -101119
C42: ՈՉ ՖԻՆԱՆՍԱԿԱՆ ԱԿՏԻՎՆԵՐԻ ԳԾՈՎ ԾԱԽՍԵՐ | D42: 0 | E42: 0 | F42: 0 | G42: 0 | H42: 0 | I42: 0 | J42: -101119 | K42: 0 | L42: -101119 | M42: -101119 | N42: 0 | O42: -101119
C43: ՀԻՄՆԱԿԱՆ ՄԻՋՈՑՆԵՐ | D43: 0 | E43: 0 | F43: 0 | G43: 0 | H43: 0 | I43: 0 | J43: -101119 | K43: 0 | L43: -101119 | M43: -101119 | N43: 0 | O43: -101119
C44: ՇԵՆՔԵՐ ԵՎ ՇԻՆՈՒԹՅՈՒՆՆԵՐ | D44: 0 | E44: 0 | F44: 0 | G44: 0 | H44: 0 | I44: 0 | J44: -101119 | K44: 0 | L44: -101119 | M44: -101119 | N44: 0 | O44: -101119
C45: - Շենքերի և շինությունների շինարարություն | D45: 0 | G45: 0 | J45: -101119 | K45: 0 | L45: -101119 | M45: -101119 | N45: 0 | O45: -101119
B46: 31004 | C46: Գերմանիայի զարգացման վարկերի բանկի աջակցությամբ իրականացվող Ախուրյան գետի ջրային ռեսուրսների ինտեգրված կառավարման ծրագրի շրջանակներում ջրային տնտեսության ենթակառուցվածքների հիմնանորոգում | D46: 0 | E46: 0 | F46: 0 | G46: 0 | H46: 0 | I46: 0 | J46: -16163 | K46: 0 | L46: -16163 | M46: -13392.6 | N46: 0 | O46: -13392.6
C47: այդ թվում` ըստ կատարողների
C48: ՀՀ տարածքային կառավարման և ենթակառուցվածքների նախարարության ջրային կոմիտե | D48: 0 | E48: 0 | F48: 0 | G48: 0 | H48: 0 | I48: 0 | J48: -16163 | K48: 0 | L48: -16163 | M48: -13392.6 | N48: 0 | O48: -13392.6
C49: այդ թվում` բյուջետային ծախսերի տնտեսագիտական դասակարգման հոդվածներ
C50: ԸՆԴԱՄԵՆԸ ԾԱԽՍԵՐ | D50: 0 | E50: 0 | F50: 0 | G50: 0 | H50: 0 | I50: 0 | J50: -16163 | K50: 0 | L50: -16163 | M50: -13392.6 | N50: 0 | O50: -13392.6
C51: ՈՉ ՖԻՆԱՆՍԱԿԱՆ ԱԿՏԻՎՆԵՐԻ ԳԾՈՎ ԾԱԽՍԵՐ | D51: 0 | E51: 0 | F51: 0 | G51: 0 | H51: 0 | I51: 0 | J51: -16163 | K51: 0 | L51: -16163 | M51: -13392.6 | N51: 0 | O51: -13392.6
C52: ՀԻՄՆԱԿԱՆ ՄԻՋՈՑՆԵՐ | D52: 0 | E52: 0 | F52: 0 | G52: 0 | H52: 0 | I52: 0 | J52: -16163 | K52: 0 | L52: -16163 | M52: -13392.6 | N52: 0 | O52: -13392.6
C53: ՇԵՆՔԵՐ ԵՎ ՇԻՆՈՒԹՅՈՒՆՆԵՐ | D53: 0 | E53: 0 | F53: 0 | G53: 0 | H53: 0 | I53: 0 | J53: -16163 | K53: 0 | L53: -16163 | M53: -13392.6 | N53: 0 | O53: -13392.6
C54: - Շենքերի և շինությունների շինարարություն | D54: 0 | G54: 0 | J54: -16163 | L54: -16163 | M54: -13392.6 | N54: 0 | O54: -13392.6
A55: 1019 | C55: Սոցիալական ներդրումների և տեղական զարգացման ծրագիր | D55: 18163 | E55: 0 | F55: 18163 | G55: 18163 | H55: 0 | I55: 18163 | J55: 18163 | K55: 0 | L55: 18163 | M55: 18163 | N55: 0 | O55: 18163
C56: այդ թվում`
B57: 12004 | C57: Համաշխարհային բանկի աջակցությամբ իրականացվող Սոցիալական ներդրումների և տեղական զարգացման ծրագրի լրացուցիչ ֆինանսավորման վարկի շրջանակներում ՀՀ համայնքային և միջհամայնքային ենթակառուցվածքների որակի, օգտագործման և հասանելիության բարելավում | D57: 18163 | E57: 0 | F57: 18163 | G57: 18163 | H57: 0 | I57: 18163 | J57: 18163 | K57: 0 | L57: 18163 | M57: 18163 | N57: 0 | O57: 18163
C58: այդ թվում` ըստ կատարողների
C59: ՀՀ տարածքային կառավարման և ենթակառուցվածքների նախարարություն | D59: 18163 | E59: 0 | F59: 18163 | G59: 18163 | H59: 0 | I59: 18163 | J59: 18163 | K59: 0 | L59: 18163 | M59: 18163 | N59: 0 | O59: 18163
C60: այդ թվում` բյուջետային ծախսերի տնտեսագիտական դասակարգման հոդվածներ
C61: ԸՆԴԱՄԵՆԸ ԾԱԽՍԵՐ | D61: 18163 | E61: 0 | F61: 18163 | G61: 18163 | H61: 0 | I61: 18163 | J61: 18163 | K61: 0 | L61: 18163 | M61: 18163 | N61: 0 | O61: 18163
C62: ՈՉ ՖԻՆԱՆՍԱԿԱՆ ԱԿՏԻՎՆԵՐԻ ԳԾՈՎ ԾԱԽՍԵՐ | D62: 18163 | E62: 0 | F62: 18163 | G62: 18163 | H62: 0 | I62: 18163 | J62: 18163 | K62: 0 | L62: 18163 | M62: 18163 | N62: 0 | O62: 18163
C63: ՀԻՄՆԱԿԱՆ ՄԻՋՈՑՆԵՐ | D63: 18163 | E63: 0 | F63: 18163 | G63: 18163 | H63: 0 | I63: 18163 | J63: 18163 | K63: 0 | L63: 18163 | M63: 18163 | N63: 0 | O63: 18163
C64: ՇԵՆՔԵՐ ԵՎ ՇԻՆՈՒԹՅՈՒՆՆԵՐ | D64: 18163 | E64: 0 | F64: 18163 | G64: 18163 | H64: 0 | I64: 18163 | J64: 18163 | K64: 0 | L64: 18163 | M64: 18163 | N64: 0 | O64: 18163
C65: - Շենքերի և շինությունների շինարարություն | D65: 18163 | E65: 0 | F65: 18163 | G65: 18163 | H65: 0 | I65: 18163 | J65: 18163 | K65: 0 | L65: 18163 | M65: 18163 | N65: 0 | O65: 18163
A66: 1049 | C66: Ճանապարհային ցանցի բարելավում | D66: 0 | E66: 0 | F66: 0 | G66: 0 | H66: 0 | I66: 0 | J66: 0 | K66: 0 | L66: 0 | M66: 0 | N66: 0 | O66: 0
C67: այդ թվում`
B68: 11012 | C68: Կայունացման և զարգացման Եվրասիական հիմնադրամի աջակցությամբ իրականացվող Հյուսիս-հարավ միջանցքի Քաջարան Ագարակ 32 կմ հատվածի կառուցման համակարգում և կառավարում | D68: 0 | E68: 0 | F68: 0 | G68: 200000 | H68: 0 | I68: 200000 | J68: 200000 | K68: 0 | L68: 200000 | M68: 200000 | N68: 0 | O68: 200000
C69: այդ թվում` ըստ կատարողների | G69: 0 | I69: 0 | L69: 0 | M69: 0 | O69: 0
C70: ՀՀ տարածքային կառավարման և ենթակառուցվածքների նախարարություն | D70: 0 | E70: 0 | F70: 0 | G70: 200000 | H70: 0 | I70: 200000 | J70: 200000 | K70: 0 | L70: 200000 | M70: 200000 | N70: 0 | O70: 200000
C71: այդ թվում` բյուջետային ծախսերի տնտեսագիտական դասակարգման հոդվածներ | G71: 0 | I71: 0 | L71: 0 | M71: 0 | O71: 0
C72: ԸՆԴԱՄԵՆԸ ԾԱԽՍԵՐ | D72: 0 | E72: 0 | F72: 0 | G72: 200000 | H72: 0 | I72: 200000 | J72: 200000 | K72: 0 | L72: 200000 | M72: 200000 | N72: 0 | O72: 200000
C73: ԸՆԹԱՑԻԿ ԾԱԽՍԵՐ | D73: 0 | E73: 0 | F73: 0 | G73: 200000 | H73: 0 | I73: 200000 | J73: 200000 | K73: 0 | L73: 200000 | M73: 200000 | N73: 0 | O73: 200000
C74: ԴՐԱՄԱՇՆՈՐՀՆԵՐ | D74: 0 | E74: 0 | F74: 0 | G74: 200000 | H74: 0 | I74: 200000 | J74: 200000 | K74: 0 | L74: 200000 | M74: 200000 | N74: 0 | O74: 200000
C75: Կապիտալ դրամաշնորհներ պետական հատվածի այլ մակարդակներին | D75: 0 | E75: 0 | F75: 0 | G75: 200000 | H75: 0 | I75: 200000 | J75: 200000 | K75: 0 | L75: 200000 | M75: 200000 | N75: 0 | O75: 200000
C76: - Այլ կապիտալ դրամաշնորհներ | D76: 0 | E76: 0 | F76: 0 | G76: 200000 | H76: 0 | I76: 200000 | J76: 200000 | K76: 0 | L76: 200000 | M76: 200000 | N76: 0 | O76: 200000
B77: 11016 | C77: Ասիական զարգացման բանկի աջակցությամբ իրականացվող Հյուսիս-հարավ ճանապարհային միջանցքի զարգացման ծրագրի Սիսիան-Քաջարան 60կմ-ի Հյուսիսային ենթահատվածի համակարգում և կառավարում | D77: 0 | E77: 0 | F77: 0 | G77: -200000 | H77: 0 | I77: -200000 | J77: -200000 | K77: 0 | L77: -200000 | M77: -200000 | N77: 0 | O77: -200000
C78: այդ թվում` ըստ կատարողների
C79: ՀՀ տարածքային կառավարման և ենթակառուցվածքների նախարարություն | D79: 0 | E79: 0 | F79: 0 | G79: -200000 | H79: 0 | I79: -200000 | J79: -200000 | K79: 0 | L79: -200000 | M79: -200000 | N79: 0 | O79: -200000
C80: այդ թվում` բյուջետային ծախսերի տնտեսագիտական դասակարգման հոդվածներ
C81: ԸՆԴԱՄԵՆԸ ԾԱԽՍԵՐ | D81: 0 | E81: 0 | F81: 0 | G81: -200000 | H81: 0 | I81: -200000 | J81: -200000 | K81: 0 | L81: -200000 | M81: -200000 | N81: 0 | O81: -200000
C82: ԸՆԹԱՑԻԿ ԾԱԽՍԵՐ | D82: 0 | E82: 0 | F82: 0 | G82: -200000 | H82: 0 | I82: -200000 | J82: -200000 | K82: 0 | L82: -200000 | M82: -200000 | N82: 0 | O82: -200000
C83: ԴՐԱՄԱՇՆՈՐՀՆԵՐ | D83: 0 | E83: 0 | F83: 0 | G83: -200000 | H83: 0 | I83: -200000 | J83: -200000 | K83: 0 | L83: -200000 | M83: -200000 | N83: 0 | O83: -200000
C84: Կապիտալ դրամաշնորհներ պետական հատվածի այլ մակարդակներին | D84: 0 | E84: 0 | F84: 0 | G84: -200000 | H84: 0 | I84: -200000 | J84: -200000 | K84: 0 | L84: -200000 | M84: -200000 | N84: 0 | O84: -200000
C85: - Այլ կապիտալ դրամաշնորհներ | D85: 0 | E85: 0 | F85: 0 | G85: -200000 | H85: 0 | I85: -200000 | J85: -200000 | K85: 0 | L85: -200000 | M85: -200000 | N85: 0 | O85: -200000
C88: ՀԱՅԱՍՏԱՆԻ ՀԱՆՐԱՊԵՏՈՒԹՅԱՆ ՎԱՐՉԱՊԵՏԻ ԱՇԽԱՏԱԿԱԶՄԻ ՂԵԿԱՎԱՐ՝ | E88: Ա.ՀԱՐՈՒԹՅՈՒՆՅԱՆ

Sheet 4
O1: Հավելված N 4
M2: ՀՀ կառավարության 2026 թվականի
M3: ______________ ի ___Ն որոշման
A5: «ՀԱՅԱUՏԱՆԻ ՀԱՆՐԱՊԵՏՈՒԹՅԱՆ 2025 ԹՎԱԿԱՆԻ ՊԵՏԱԿԱՆ ԲՅՈՒՋԵԻ ՄԱUԻՆ» OՐԵՆՔԻ N 1 ՀԱՎԵԼՎԱԾԻ N 5 ԱՂՅՈՒՍԱԿՈՒՄ ԵՎ ՀԱՅԱՍՏԱՆԻ ՀԱՆՐԱՊԵՏՈՒԹՅԱՆ ԿԱՌԱՎԱՐՈՒԹՅԱՆ 2025 ԹՎԱԿԱՆԻ ԴԵԿՏԵՄԲԵՐԻ 25-Ի N 1910-Ն ՈՐՈՇՄԱՆ N 5 ՀԱՎԵԼՎԱԾԻ N 4 ԱՂՅՈՒՍԱԿՈՒՄ ԿԱՏԱՐՎՈՂ ՓՈՓՈԽՈՒԹՅՈՒՆՆԵՐԸ ԵՎ ԼՐԱՑՈՒՄՆԵՐԸ
N6: հազար դրամներով
A7: Ծրագրային դասիչը | C7: Բյուջետային գլխավոր կարգադրիչների, ծրագրերի և միջոցառումների անվանումները | D7: Ցուցանիշների փոփոխությունը (ավելացումները նշված են դրական նշանով, իսկ նվազեցումները` փակագծերում)
D8: Առաջին եռամսյակ | E8: այդ թվում` | G8: Առաջին կիսամյակ | J8: Ինն ամիս | M8: Տարի
D9: Ընդամենը | E9: այդ թվում` | G9: Ընդամենը | H9: այդ թվում` | J9: Ընդամենը | K9: այդ թվում` | M9: Ընդամենը | N9: այդ թվում`
A10: Ծրագիր | B10: Միջոցառում | E10: Դրամաշնորհային միջոցներ | F10: Համաֆինանսավորում | H10: Դրամաշնորհային միջոցներ | I10: Համաֆինանսավորում | K10: Դրամաշնորհային միջոցներ | L10: Համաֆինանսավորում | N10: Դրամաշնորհային միջոցներ | O10: Համաֆինանսավորում
C11: ԸՆԴԱՄԵՆԸ | D11: -20000 | E11: 0 | F11: -20000 | G11: -20000 | H11: 0 | I11: -20000 | J11: -18000 | K11: 0 | L11: -18000 | M11: -26770.4 | N11: 0 | O11: -26770.4
C12: այդ թվում`
C13: ԸՆԹԱՑԻԿ ԾԱԽՍԵՐ | D13: 154850 | E13: 154850 | F13: 0 | G13: 156350 | H13: 154850 | I13: 1500 | J13: 157350 | K13: 154850 | L13: 2500 | M13: 93229.6 | N13: 100000 | O13: -6770.4
C14: ՈՉ ՖԻՆԱՆՍԱԿԱՆ ԱԿՏԻՎՆԵՐԻ ԳԾՈՎ ԾԱԽՍԵՐ | D14: -174850 | E14: -154850 | F14: -20000 | G14: -176350 | H14: -154850 | I14: -21500 | J14: -175350 | K14: -154850 | L14: -20500 | M14: -120000 | N14: -100000 | O14: -20000
C15: ՀՀ ՏԱՐԱԾՔԱՅԻՆ ԿԱՌԱՎԱՐՄԱՆ ԵՎ ԵՆԹԱԿԱՌՈՒՑՎԱԾՔՆԵՐԻ ՆԱԽԱՐԱՐՈՒԹՅՈՒՆ | D15: -20000 | E15: 0 | F15: -20000 | G15: -20000 | H15: 0 | I15: -20000 | J15: -18000 | K15: 0 | L15: -18000 | M15: -26770.4 | N15: 0 | O15: -26770.4
A16: 1004 | C16: Ոռոգման համակարգի առողջացում | D16: 154850 | E16: 154850 | F16: 0 | G16: 156350 | H16: 154850 | I16: 1500 | J16: 157350 | K16: 154850 | L16: 2500 | M16: 93229.6 | N16: 100000 | O16: -6770.4
C17: այդ թվում`
B18: 11011 | C18: Զարգացման ֆրանսիական գործակալության աջակցությամբ իրականացվող ոռոգման ոլորտի ֆինանսական կայունության և ոռոգման կառավարման կարողությունների բարելավման դրամաշնորհային ծրագրի խորհրդատվություն և կառավարում | D18: 154850 | E18: 154850 | F18: 0 | G18: 156350 | H18: 154850 | I18: 1500 | J18: 157350 | K18: 154850 | L18: 2500 | M18: 93229.6 | N18: 100000 | O18: -6770.4
C19: այդ թվում` ըստ կատարողների
C20: ՀՀ տարածքային կառավարման և ենթակառուցվածքների նախարարության ջրային կոմիտե | D20: 154850 | E20: 154850 | F20: 0 | G20: 156350 | H20: 154850 | I20: 1500 | J20: 157350 | K20: 154850 | L20: 2500 | M20: 93229.6 | N20: 100000 | O20: -6770.4
C21: այդ թվում` բյուջետային ծախսերի տնտեսագիտական դասակարգման հոդվածներ
C22: ԸՆԴԱՄԵՆԸ ԾԱԽՍԵՐ | D22: 154850 | E22: 154850 | F22: 0 | G22: 156350 | H22: 154850 | I22: 1500 | J22: 157350 | K22: 154850 | L22: 2500 | M22: 93229.6 | N22: 100000 | O22: -6770.4
C23: ԸՆԹԱՑԻԿ ԾԱԽՍԵՐ | D23: 154850 | E23: 154850 | F23: 0 | G23: 156350 | H23: 154850 | I23: 1500 | J23: 157350 | K23: 154850 | L23: 2500 | M23: 93229.6 | N23: 100000 | O23: -6770.4
C24: ԱՅԼ ԾԱԽՍԵՐ | D24: 154850 | E24: 154850 | F24: 0 | G24: 156350 | H24: 154850 | I24: 1500 | J24: 157350 | K24: 154850 | L24: 2500 | M24: 93229.6 | N24: 100000 | O24: -6770.4
C25: Այլ ծախսեր | D25: 154850 | E25: 154850 | F25: 0 | G25: 156350 | H25: 154850 | I25: 1500 | J25: 157350 | K25: 154850 | L25: 2500 | M25: 93229.6 | N25: 100000 | O25: -6770.4
A26: 1072 | C26: Ջրամատակարարաման և ջրահեռացման բարելավում | D26: -174850 | E26: -154850 | F26: -20000 | G26: -176350 | H26: -154850 | I26: -21500 | J26: -175350 | K26: -154850 | L26: -20500 | M26: -120000 | N26: -100000 | O26: -20000
C27: այդ թվում`
B28: 12001 | C28: Գերմանիայի զարգացման և Եվրոպական միության հարևանության ներդրումային բանկի աջակցությամբ իրականացվող ջրամատակարարման և ջրահեռացման ենթակառուցվածքների դրամաշնորհային ծրագիր` երրորդ փուլ | D28: -174850 | E28: -154850 | F28: -20000 | G28: -176350 | H28: -154850 | I28: -21500 | J28: -175350 | K28: -154850 | L28: -20500 | M28: -120000 | N28: -100000 | O28: -20000
C29: այդ թվում` ըստ կատարողների
C30: ՀՀ տարածքային կառավարման և ենթակառուցվածքների նախարարության ջրային կոմիտե | D30: -174850 | E30: -154850 | F30: -20000 | G30: -176350 | H30: -154850 | I30: -21500 | J30: -175350 | K30: -154850 | L30: -20500 | M30: -120000 | N30: -100000 | O30: -20000
C31: այդ թվում` բյուջետային ծախսերի տնտեսագիտական դասակարգման հոդվածներ
C32: ԸՆԴԱՄԵՆԸ ԾԱԽՍԵՐ | D32: -174850 | E32: -154850 | F32: -20000 | G32: -176350 | H32: -154850 | I32: -21500 | J32: -175350 | K32: -154850 | L32: -20500 | M32: -120000 | N32: -100000 | O32: -20000
C33: ՈՉ ՖԻՆԱՆՍԱԿԱՆ ԱԿՏԻՎՆԵՐԻ ԳԾՈՎ ԾԱԽՍԵՐ | D33: -174850 | E33: -154850 | F33: -20000 | G33: -176350 | H33: -154850 | I33: -21500 | J33: -175350 | K33: -154850 | L33: -20500 | M33: -120000 | N33: -100000 | O33: -20000
C34: ՀԻՄՆԱԿԱՆ ՄԻՋՈՑՆԵՐ | D34: -174850 | E34: -154850 | F34: -20000 | G34: -176350 | H34: -154850 | I34: -21500 | J34: -237350 | K34: -204850 | L34: -32500 | M34: -223500 | N34: -187000 | O34: -36500
C35: ՇԵՆՔԵՐ ԵՎ ՇԻՆՈՒԹՅՈՒՆՆԵՐ | D35: -174850 | E35: -154850 | F35: -20000 | G35: -176350 | H35: -154850 | I35: -21500 | J35: -237350 | K35: -204850 | L35: -32500 | M35: -223500 | N35: -187000 | O35: -36500
C36: - Շենքերի և շինությունների շինարարություն | D36: -174850 | E36: -154850 | F36: -20000 | G36: -176350 | H36: -154850 | I36: -21500 | J36: -237350 | K36: -204850 | L36: -32500 | M36: -223500 | N36: -187000 | O36: -36500
C37: ԱՅԼ ՀԻՄՆԱԿԱՆ ՄԻՋՈՑՆԵՐ | D37: 0 | E37: 0 | F37: 0 | G37: 0 | H37: 0 | I37: 0 | J37: 62000 | K37: 50000 | L37: 12000 | M37: 103500 | N37: 87000 | O37: 16500
C38: - Նախագծահետազոտական ծախսեր | D38: 0 | E38: 0 | F38: 0 | G38: 0 | H38: 0 | I38: 0 | J38: 62000 | K38: 50000 | L38: 12000 | M38: 103500 | N38: 87000 | O38: 16500
C41: ՀԱՅԱՍՏԱՆԻ ՀԱՆՐԱՊԵՏՈՒԹՅԱՆ ՎԱՐՉԱՊԵՏԻ ԱՇԽԱՏԱԿԱԶՄԻ ՂԵԿԱՎԱՐ՝ | E41: Ա.ՀԱՐՈՒԹՅՈՒՆՅԱՆ

Sheet 5.
H1: Հավելված N 5
H2: ՀՀ կառավարության 2026 թվականի
B3: -ի N -Ն որոշման
B6: ՀԱՅԱՍՏԱՆԻ ՀԱՆՐԱՊԵՏՈՒԹՅԱՆ ԿԱՌԱՎԱՐՈՒԹՅԱՆ 2025 ԹՎԱԿԱՆԻ ԴԵԿՏԵՄԲԵՐԻ 25-Ի N 1910-Ն ՈՐՈՇՄԱՆ N 5 ՀԱՎԵԼՎԱԾԻ N 7 ԱՂՅՈՒՍԱԿՈՒՄ ԿԱՏԱՐՎՈՂ ԼՐԱՑՈՒՄՆԵՐԸ
H8: հազար դրամներով
B9: Ծրագրային դասիչ | D9: Բյուջետային հատկացումների գլխավոր կարգադրիչների, ծրագրերի, միջոցառումների, ծախսային ուղղությունների անվանումները | G9: Միջոցառումները կատարող պետական մարմինների և դրամաշնորհ ստացող տնտեսվարող սուբյեկտների անվանումները | H9: Ցուցանիշների փոփոխությունը (ավելացումները նշված են դրական նշանով)
B10: Ծրագիր | C10: Միջոցառում | H10: Տարի
B11: 1 | C11: 2 | D11: 3 | G11: 4 | H11: 5
B12: ՀՀ տարածքային կառավարման և ենթակառուցվածքների նախարարություն | H12: 101119
B13: 1072 | C13: Ջրամատակարարաման և ջրահեռացման բարելավում | H13: 101119
C14: 12004 | D14: Մաքրման կայանների պահպանություն | G14: ՀՀ տարածքային կառավարման և ենթակառուցվածքների նախարարություն | H14: 5125.9
G15: Հայաստանի տարածքային զարգացման հիմնադրամ | H15: 5125.9
C16: 31015 | D16: Ջրամատակարարման և ջրահեռացման համակարգերի հիմնանորոգում որոշ վայրերում | G16: ՀՀ տարածքային կառավարման և ենթակառուցվածքների նախարարություն | H16: 95993.1
G17: Հայաստանի տարածքային զարգացման հիմնադրամ | H17: 95993.1

Sheet 6.
B1: Հավելված N 6
B2: ՀՀ կառավարության 2026 թվականի
B3: -ի N -Ն որոշման
B5: ՀԱՅԱՍՏԱՆԻ ՀԱՆՐԱՊԵՏՈՒԹՅԱՆ ԿԱՌԱՎԱՐՈՒԹՅԱՆ 2025 ԹՎԱԿԱՆԻ ԴԵԿՏԵՄԲԵՐԻ 25-Ի N 1910-Ն ՈՐՈՇՄԱՆ N 9 ՀԱՎԵԼՎԱԾՈՒՄ ԿԱՏԱՐՎՈՂ ՓՈՓՈԽՈՒԹՅՈՒՆՆԵՐԸ ԵՎ ԼՐԱՑՈՒՄՆԵՐԸ
N6: հազար դրամներով
B7: ԲԳԿ | C7: Ծրագիր | E7: Միջոցառում | I7: Իրականացնողը/ ակտիվն օգտագործողը/ շահառուի ընտրության չափորոշիչը | J7: Արդյունքային չափորոշիչը | K7: Ցուցանիշների փոփոխությունը (ավելացումները նշված են դրական նշանով, իսկ նվազեցումները՝ փակագծերում)
C8: Դասիչը | D8: Անվա-նումը | E8: Դասիչը | F8: Անվա-նումը | G8: Նկարագրու-թյունը | H8: Տեսակը | K8: Առաջին եռամսյակ | L8: Առաջին կիսամյակ | M8: Ինն ամիս | N8: Տարի
B9: ԸՆԴԱՄԵՆԸ | K9: 0 | L9: 0 | M9: 0 | N9: 0 | P9: =+M9-'2'!I8 -> 0 | Q9: =+N9-'2'!J8 -> 0
B10: ՀՀ տարածքային կառավարման և ենթակառուցվածքների նախարարություն | K10: 0 | L10: 0 | M10: 0 | N10: 0
C11: 1004 | D11: Ոռոգման համակարգի առողջացում | K11: 158850 | L11: 166350 | M11: 56068 | N11: 718 | P11: =+'2'!I20 -> 56068 | Q11: =+'2'!J20 -> 718
E12: 1004 - 11007 | F12: Գերմանիայի զարգացման վարկերի բանկի աջակցությամբ իրականացվող Ախուրյան գետի ջրային ռեսուրսների ինտեգրացված կառավարում ծրագրի խորհրդատվություն և կառավարում | K12: 4000 | L12: 10000 | M12: 16000 | N12: 22000
G13: Գերմանիայի զարգացման վարկերի բանկի աջակցությամբ իրականացվող Ախուրյան գետի ջրային ռեսուրսների ինտեգրացված կառավարում ծրագրի համակարգում և ղեկավարում
H14: Ծառայությունների մատուցում
I15: Ծառայությունը մատուցողի անվանումը` Մասնագիտացված միավոր
J16: Կառավարվող/վերահսկվող խորհրդատվական պայմանագրերի քանակը, հատ | L16: 1 | N16: 1
E17: 1004 - 11011 | F17: Զարգացման ֆրանսիական գործակալության աջակցությամբ իրականացվող ոռոգման ոլորտի ֆինանսական կայունության և ոռոգման կառավարման կարողությունների բարելավման դրամաշնորհային ծրագրի խորհրդատվություն և կառավարում | K17: ='1'!G14 -> 154850 | L17: ='1'!H14 -> 156350 | M17: ='1'!I14 -> 157350 | N17: ='1'!J14 -> 93229.6
G18: Զարգացման ֆրանսիական գործակալության աջակցությամբ իրականացվող ոռոգման ոլորտի ֆինանսական կայունության և ոռոգման կառավարման կարողություննրի բարելավման ծրագրի համակարգում և ղեկավարում
H19: Ծառայությունների մատուցում
I20: Ծառայությունը մատուցողի անվանումը` Մասնագիտացված միավոր
E21: 1004 - 12002 | F21: Գերմանիայի զարգացման բանկի աջակցությամբ իրականացվող Ախուրյան գետի ջրային ռեսուրսների ինտեգրված կառավարման փուլ 1 ծրագրով Ջրաձոր գյուղի վերաբնակեցման համար ենթակառուցվածքների և բնակելի տների կառուցում | K21: ='1'!G15 -> 0 | L21: ='1'!H15 -> 0 | M21: ='1'!I15 -> -101119 | N21: ='1'!J15 -> -101119
G22: Գերմանիայի զարգացման բանկի աջակցությամբ իրականացվող Ախուրյան գետի ջրային ռեսուրսների ինտեգրված կառավարման փուլ 1 ծրագիր
H23: Տրանսֆերտների տրամադրում
I24: Շահառուների ընտրության չափորոշիչները` Տրանսֆերտների տրամադրում
E25: 1004 - 31004 | F25: Գերմանիայի զարգացման վարկերի բանկի աջակցությամբ իրականացվող Ախուրյան գետի ջրային ռեսուրսների ինտեգրված կառավարման ծրագրի շրջանակներում ջրային տնտեսության ենթակառուցվածքների հիմնանորոգում | K25: ='1'!G16 -> 0 | L25: ='1'!H16 -> 0 | M25: ='1'!I16 -> -16163 | N25: ='1'!J16 -> -13392.6
G26: Գերմանիայի զարգացման վարկերի բանկի աջակցությամբ իրականացվող Ախուրյան գետի ջրային ռեսուրսների ինտեգրված կառավարման ծրագիր
H27: Պետական մարմինների կողմից օգտագործվող ոչ ֆինանսական ակտիվների հետ գործառնություններ
I28: Ակտիվն օգտագործող կազմակերպության անվանումը` Մասնագիտացված միավոր
C29: 1019 | D29: Սոցիալական ներդրումների և տեղական զարգացման ծրագիր | K29: =K30 -> 18163 | L29: =L30 -> 18163 | M29: =M30 -> 18163 | N29: =N30 -> 18163
E30: 1019 - 12004 | F30: Համաշխարհային բանկի աջակցությամբ իրականացվող Սոցիալական ներդրումների և տեղական զարգացման ծրագրի լրացուցիչ ֆինանսավորման վարկի շրջանակներում ՀՀ համայնքային և միջհամայնքային ենթակառուցվածքների որակի, օգտագործման և հասանելիության բարելավում | K30: ='1'!G18 -> 18163 | L30: ='1'!H18 -> 18163 | M30: ='1'!I18 -> 18163 | N30: ='1'!J18 -> 18163
G31: Ջրագծերի, առողջապահության, կրթության օբյեկտների, մշակույթային տների, ծերանոցների, մանկատների, հատուկ դպրոցների, մանկապարտզների և կոյուղու օբյեկտների հիմն. և շինարարություն., գույքի և սարքավորումների տրամադրում շահառու ենթածրագրերի համար
H32: Տրանսֆերտների տրամադրում
I33: Շահառուների ընտրության չափորոշիչները` Մասնագիտացված միավոր
C34: 1049 | D34: Ճանապարհային ցանցի բարելավում | K34: 0 | L34: 0 | M34: 0 | N34: 0
E35: 1049 - 11012 | F35: Կայունացման և զարգացման Եվրասիական հիմնադրամի աջակցությամբ իրականացվող Հյուսիս-հարավ միջանցքի Քաջարան Ագարակ 32 կմ հատվածի կառուցման համակարգում և կառավարում | K35: 0 | L35: 200000 | M35: 200000 | N35: 200000
G36: Խորհրդատվական ծառայություններ, Ֆինանսական աուդիտ և պահպանման ծախսեր
H37: Ծառայությունների մատուցում
I38: Ծառայությունը մատուցողի անվանումը` Մասնագիտացված միավոր
J39: Ուղղիչ գործողությունների պլան, հատ | L39: 1 | N39: 1
E40: 1049 - 11016 | F40: Ասիական զարգացման բանկի աջակցությամբ իրականացվող Հյուսիս-հարավ ճանապարհային միջանցքի զարգացման ծրագրի Սիսիան-Քաջարան 60կմ-ի Հյուսիսային ենթահատվածի համակարգում և կառավարում | K40: ='2'!G101 -> 0 | L40: ='2'!H101 -> -200000 | M40: ='2'!I101 -> -200000 | N40: ='2'!J101 -> -200000
G41: Խորհրդատվական ծառայություններ և պահպանման ծախսեր
H42: Ծառայությունների մատուցում
I43: Ծառայությունը մատուցողի անվանումը` Մասնագիտացված միավոր
J44: Հողերի օտարման ավարտվծության աստիճան, տոկոս | L44: ='7'!K37 -> -9.4 | N44: ='7'!M37 -> -9.4
C45: 1072 | D45: Ջրամատակարարաման և ջրահեռացման բարելավում | K45: =K46+K51+K56 -> -73731 | L45: =L46+L51+L56 -> -75231 | M45: =M46+M51+M56 -> -74231 | N45: =N46+N51+N56 -> -18881
E46: 1072 - 12001 | F46: Գերմանիայի զարգացման և Եվրոպական միության հարևանության ներդրումային բանկի աջակցությամբ իրականացվող ջրամատակարարման և ջրահեռացման ենթակառուցվածքների դրամաշնորհային ծրագիր` երրորդ փուլ | K46: ='1'!G23 -> -174850 | L46: ='1'!H23 -> -176350 | M46: ='1'!I23 -> -175350 | N46: ='1'!J23 -> -120000
G47: 579 գյուղական բնակավայրերից ընտրված որոշ համայնքների ջրամատակարարման և ջրահեռացման համակարգերի հատվածների հրատապ վերականգնման աշխատանքների իրականացում ինչպես նաև՛ Արմավիրի կեղտաջրերի մաքրման կայանի կառուցում
H48: Տրանսֆերտների տրամադրում
I49: Շահառուների ընտրության չափորոշիչները` Մասնագիտացված միավոր
J50: Նորոգվող ջրագծերի երկարություն, կմ | L50: -1 | N50: -1
E51: 1072 - 12004 | F51: Մաքրման կայանների պահպանություն | K51: ='1'!G24 -> 5125.9 | L51: ='1'!H24 -> 5125.9 | M51: ='1'!I24 -> 5125.9 | N51: ='1'!J24 -> 5125.9
G52: Մաքրման կայանների պահպանության նպատակով համապատասխան ծառայությունների ձեռքբերում
H53: Տրանսֆերտների տրամադրում
I54: Շահառուների ընտրության չափորոշիչները` Մասնագիտացված միավոր
J55: Կառավարվող/վերահսկվող խորհրդատվական պայմանագրերի քանակ, հատ | L55: 1 | N55: 1
E56: 1072 - 31015 | F56: Ջրամատակարարման և ջրահեռացման համակարգերի հիմնանորոգում որոշ վայրերում | K56: ='1'!G25 -> 95993.1 | L56: ='1'!H25 -> 95993.1 | M56: ='1'!I25 -> 95993.1 | N56: ='1'!J25 -> 95993.1
G57: Ջրամատակարարման և ջրահեռացման համակարգի հիմնանորոգման աշխատանքների ձեռքբերում
H58: Տրանսֆերտների տրամադրում
I59: Շահառուների ընտրության չափորոշիչները` Մասնագիտացված միավոր
J60: Կառուցվող ջրամատակարարման համակարգի երկարությունը, կմ | L60: 1 | N60: 1
C61: 1167 | D61: Էլեկտրաէներգետիկ համակարգի զարգացման ծրագիր | K61: =K62 -> -103282 | L61: =L62 -> -109282 | M61: =M62 -> 0 | N61: =N62 -> 0
E62: 1167 - 11007 | F62: Հայաստանի Հանրապետությունում նոր ատոմային էներգաբլոկի (էներգաբլոկների) կառուցման ծրագրի կառավարում | K62: ='1'!G27 -> -103282 | L62: ='1'!H27 -> -109282 | M62: ='1'!I27 -> 0 | N62: ='1'!J27 -> 0
G63: Հայաստանի Հանրապետությունում նոր ատոմային էներգաբլոկի (էներգաբլոկների) կառուցման աշխատանքների նախապատրաստում և իրականացում
H64: Ծառայությունների մատուցում
I65: Ծառայությունը մատուցողի անվանումը` «Նոր ատոմային էներգաբլոկի կառուցում» ՓԲԸ
B66: ՀՀ կառավարություն | K66: =K68+K72 -> 0 | L66: =L68+L72 -> 0 | M66: =M68+M72 -> 0 | N66: =N68+N72 -> 0
C67: 1139 | D67: ՀՀ կառավարության պահուստային ֆոնդ | K67: 0 | L67: 0 | M67: 0 | N67: 0
E68: 1139 - 11001 | F68: ՀՀ կառավարության պահուստային ֆոնդ | K68: =-K72 -> 119282 | L68: =-L72 -> 119282 | M68: =-M72 -> 119282 | N68: =-N72 -> 119282
G69: ՀՀ պետական բյուջեում նախատեսված ելքերի լրացուցիչ ֆինանսավորման, պետական բյուջեում չկանխատեսված ելքերի, ինչպես նաև բյուջետային երաշխիքների ապահովման ելքերի ֆինանսավորման ապահովում
H70: Ծառայությունների մատուցում
I71: Ծառայությունը մատուցողի անվանումը` ՀՀ կառավարություն
E72: 1139 - 11001 | F72: ՀՀ կառավարության պահուստային ֆոնդ | K72: ='2'!G186 -> -119282 | L72: ='2'!H186 -> -119282 | M72: ='2'!I186 -> -119282 | N72: ='2'!J186 -> -119282
G73: ՀՀ պետական բյուջեում նախատեսված ելքերի լրացուցիչ ֆինանսավորման, պետական բյուջեում չկանխատեսված ելքերի, ինչպես նաև բյուջետային երաշխիքների ապահովման ելքերի ֆինանսավորման ապահովում
H74: Ծառայությունների մատուցում
I75: Ծառայությունը մատուցողի անվանումը` ՀՀ կառավարություն
C78: ՀԱՅԱՍՏԱՆԻ ՀԱՆՐԱՊԵՏՈՒԹՅԱՆ ՎԱՐՉԱՊԵՏԻ ԱՇԽԱՏԱԿԱԶՄԻ ՂԵԿԱՎԱՐ՝ | F78: Ա.ՀԱՐՈՒԹՅՈՒՆՅԱՆ

Sheet 7
A1: Հավելված N 7
A2: ՀՀ կառավարության 2026 թվականի
A3: -ի N -Ն որոշման
A5: ՀԱՅԱՍՏԱՆԻ ՀԱՆՐԱՊԵՏՈՒԹՅԱՆ ԿԱՌԱՎԱՐՈՒԹՅԱՆ 2025 ԹՎԱԿԱՆԻ ԴԵԿՏԵՄԲԵՐԻ 25-Ի N 1910-Ն ՈՐՈՇՄԱՆ N 9.1 ՀԱՎԵԼՎԱԾՈՒՄ ԿԱՏԱՐՎՈՂ ՓՈՓՈԽՈՒԹՅՈՒՆՆԵՐԸ ԵՎ ԼՐԱՑՈՒՄՆԵՐԸ
M6: հազար դրամներով
A7: ԲՍԿ | B7: Ծրագիր | D7: Միջոցառում | H7: Իրականացնողը/ ակտիվն օգտագործողը/ շահառուի ընտրության չափորոշիչը | I7: Արդյունքային չափորոշիչը | J7: Ցուցանիշների փոփոխությունը (ավելացումները նշված են դրական նշանով, իսկ նվազեցումները՝ փակագծերում)
B8: Դասիչը | C8: Անվանումը | D8: Դասիչը | E8: Անվանումը | F8: Նկարագրությունը | G8: Տեսակը | J8: Առաջին եռամսյակ | K8: Առաջին կիսամյակ | L8: Ինն ամիս | M8: Տարի
A9: ԸՆԴԱՄԵՆԸ | J9: 0 | K9: 0 | L9: 0 | M9: 0 | O9: =+L9-'6.'!M9 -> 0 | P9: =+M9-'6.'!N9 -> 0
A10: ՀՀ տարածքային կառավարման և ենթակառուցվածքների նախարարություն | J10: 16000 | K10: 10000 | L10: 119282 | M10: 119282
B11: 1019 | C11: Սոցիալական ներդրումների և տեղական զարգացման ծրագիր | J11: 18163 | K11: 18163 | L11: 18163 | M11: 18163
D12: 1019 - 12004 | E12: Համաշխարհային բանկի աջակցությամբ իրականացվող Սոցիալական ներդրումների և տեղական զարգացման ծրագրի լրացուցիչ ֆինանսավորման վարկի շրջանակներում ՀՀ համայնքային և միջհամայնքային ենթակառուցվածքների որակի, օգտագործման և հասանելիության բարելավում | J12: 18163 | K12: 18163 | L12: 18163 | M12: 18163
F13: Ջրագծերի, առողջապահության, կրթության օբյեկտների, մշակույթային տների, ծերանոցների, մանկատների, հատուկ դպրոցների, մանկապարտզների և կոյուղու օբյեկտների հիմն. և շինարարություն., գույքի և սարքավորումների տրամադրում շահառու ենթածրագրերի համար
G14: Տրանսֆերտների տրամադրում
H15: Շահառուների ընտրության չափորոշիչները` Մասնագիտացված միավոր
B16: 1072 | C16: Ջրամատակարարաման և ջրահեռացման բարելավում | J16: =J17+J22 -> 101119 | K16: =K17+K22 -> 101119 | L16: =L17+L22 -> 101119 | M16: =M17+M22 -> 101119
D17: 1072 - 12004 | E17: Մաքրման կայանների պահպանություն | J17: ='6.'!K51 -> 5125.9 | K17: ='6.'!L51 -> 5125.9 | L17: ='6.'!M51 -> 5125.9 | M17: ='6.'!N51 -> 5125.9
F18: Մաքրման կայանների պահպանության նպատակով համապատասխան ծառայությունների ձեռքբերում
G19: Տրանսֆերտների տրամադրում
H20: Շահառուների ընտրության չափորոշիչները` Մասնագիտացված միավոր
I21: Կառավարվող/վերահսկվող խորհրդատվական պայմանագրերի քանակ, հատ | K21: 1 | M21: 1
D22: 1072 - 31015 | E22: Ջրամատակարարման և ջրահեռացման համակարգերի հիմնանորոգում որոշ վայրերում | J22: ='2'!G157 -> 95993.1 | K22: ='2'!H157 -> 95993.1 | L22: ='2'!I157 -> 95993.1 | M22: ='2'!J157 -> 95993.1
F23: Ջրամատակարարման և ջրահեռացման համակարգի հիմնանորոգման աշխատանքների ձեռքբերում
G24: Տրանսֆերտների տրամադրում
H25: Շահառուների ընտրության չափորոշիչները` Մասնագիտացված միավոր
I26: Կառուցվող ջրամատակարարման համակարգի երկարությունը, կմ | K26: 1 | M26: 1
B27: 1049 | C27: Ճանապարհային ցանցի բարելավում | J27: =J28+J33 -> 0 | K27: =K28+K33 -> 0 | L27: =L28+L33 -> 0 | M27: =M28+M33 -> 0
D28: 1049 - 11012 | E28: Կայունացման և զարգացման Եվրասիական հիմնադրամի աջակցությամբ իրականացվող Հյուսիս-հարավ միջանցքի Քաջարան Ագարակ 32 կմ հատվածի կառուցման համակարգում և կառավարում | J28: ='2'!G92 -> 0 | K28: ='2'!H92 -> 200000 | L28: ='2'!I92 -> 200000 | M28: ='2'!J92 -> 200000
F29: Խորհրդատվական ծառայություններ, Ֆինանսական աուդիտ և պահպանման ծախսեր
G30: Ծառայությունների մատուցում
H31: Ծառայությունը մատուցողի անվանումը` Մասնագիտացված միավոր
I32: Ուղղիչ գործողությունների պլան, հատ | K32: 1 | M32: 1
D33: 1049 - 11016 | E33: Ասիական զարգացման բանկի աջակցությամբ իրականացվող Հյուսիս-հարավ ճանապարհային միջանցքի զարգացման ծրագրի Սիսիան-Քաջարան 60կմ-ի Հյուսիսային ենթահատվածի համակարգում և կառավարում | J33: ='6.'!K40 -> 0 | K33: ='6.'!L40 -> -200000 | L33: ='6.'!M40 -> -200000 | M33: ='6.'!N40 -> -200000
F34: Խորհրդատվական ծառայություններ և պահպանման ծախսեր
G35: Ծառայությունների մատուցում
H36: Ծառայությունը մատուցողի անվանումը` Մասնագիտացված միավոր
I37: Հողերի օտարման ավարտվծության աստիճան, տոկոս | K37: -9.4 | M37: =K37 -> -9.4
B38: 1167 | C38: Էլեկտրաէներգետիկ համակարգի զարգացման ծրագիր | J38: -103282 | K38: -109282 | L38: 0 | M38: 0
D39: 1167 - 11007 | E39: Հայաստանի Հանրապետությունում նոր ատոմային էներգաբլոկի (էներգաբլոկների) կառուցման ծրագրի կառավարում | J39: -103282 | K39: -109282 | L39: 0 | M39: 0
F40: Հայաստանի Հանրապետությունում նոր ատոմային էներգաբլոկի (էներգաբլոկների) կառուցման աշխատանքների նախապատրաստում և իրականացում
G41: Ծառայությունների մատուցում
H42: Ծառայությունը մատուցողի անվանումը` «Նոր ատոմային էներգաբլոկի կառուցում» ՓԲԸ
A43: ՀՀ տարածքային կառավարման և ենթակառուցվածքների նախարարության ջրային կոմիտե | J43: -16000 | K43: -10000 | L43: -119282 | M43: -119282
B44: 1004 | C44: Ոռոգման համակարգի առողջացում | J44: 158850 | K44: 166350 | L44: 56068 | M44: 718 | O44: =+'2'!#REF! -> #REF! | P44: =+'2'!#REF! -> #REF!
D45: 1004 - 11007 | E45: Գերմանիայի զարգացման վարկերի բանկի աջակցությամբ իրականացվող Ախուրյան գետի ջրային ռեսուրսների ինտեգրացված կառավարում ծրագրի խորհրդատվություն և կառավարում | J45: 4000 | K45: 10000 | L45: 16000 | M45: 22000 | O45: =+#REF!-#REF! -> #REF! | P45: =+#REF!-#REF! -> #REF!
F46: Գերմանիայի զարգացման վարկերի բանկի աջակցությամբ իրականացվող Ախուրյան գետի ջրային ռեսուրսների ինտեգրացված կառավարում ծրագրի համակարգում և ղեկավարում
G47: Ծառայությունների մատուցում
H48: Ծառայությունը մատուցողի անվանումը` Մասնագիտացված միավոր
I49: Կառավարվող/վերահսկվող խորհրդատվական պայմանագրերի քանակը, հատ | K49: 1 | M49: 1 | O49: =+#REF!-#REF! -> #REF! | P49: =+#REF!-#REF! -> #REF!
D50: 1004 - 11011 | E50: Զարգացման ֆրանսիական գործակալության աջակցությամբ իրականացվող ոռոգման ոլորտի ֆինանսական կայունության և ոռոգման կառավարման կարողությունների բարելավման դրամաշնորհային ծրագրի խորհրդատվություն և կառավարում | J50: ='6.'!K17 -> 154850 | K50: ='6.'!L17 -> 156350 | L50: ='6.'!M17 -> 157350 | M50: ='6.'!N17 -> 93229.6
F51: Զարգացման ֆրանսիական գործակալության աջակցությամբ իրականացվող ոռոգման ոլորտի ֆինանսական կայունության և ոռոգման կառավարման կարողություննրի բարելավման ծրագրի համակարգում և ղեկավարում
G52: Ծառայությունների մատուցում
H53: Ծառայությունը մատուցողի անվանումը` Մասնագիտացված միավոր
D54: 1004 - 12002 | E54: Գերմանիայի զարգացման բանկի աջակցությամբ իրականացվող Ախուրյան գետի ջրային ռեսուրսների ինտեգրված կառավարման փուլ 1 ծրագրով Ջրաձոր գյուղի վերաբնակեցման համար ենթակառուցվածքների և բնակելի տների կառուցում | J54: ='6.'!K21 -> 0 | K54: ='6.'!L21 -> 0 | L54: ='6.'!M21 -> -101119 | M54: ='6.'!N21 -> -101119
F55: Գերմանիայի զարգացման բանկի աջակցությամբ իրականացվող Ախուրյան գետի ջրային ռեսուրսների ինտեգրված կառավարման փուլ 1 ծրագիր
G56: Տրանսֆերտների տրամադրում
H57: Շահառուների ընտրության չափորոշիչները` Տրանսֆերտների տրամադրում
D58: 1004 - 31004 | E58: Գերմանիայի զարգացման վարկերի բանկի աջակցությամբ իրականացվող Ախուրյան գետի ջրային ռեսուրսների ինտեգրված կառավարման ծրագրի շրջանակներում ջրային տնտեսության ենթակառուցվածքների հիմնանորոգում | J58: ='6.'!K25 -> 0 | K58: ='6.'!L25 -> 0 | L58: ='6.'!M25 -> -16163 | M58: ='6.'!N25 -> -13392.6
F59: Գերմանիայի զարգացման վարկերի բանկի աջակցությամբ իրականացվող Ախուրյան գետի ջրային ռեսուրսների ինտեգրված կառավարման ծրագիր
G60: Պետական մարմինների կողմից օգտագործվող ոչ ֆինանսական ակտիվների հետ գործառնություններ
H61: Ակտիվն օգտագործող կազմակերպության անվանումը` Մասնագիտացված միավոր
B62: 1072 | C62: Ջրամատակարարաման և ջրահեռացման բարելավում | J62: -174850 | K62: -176350 | L62: -175350 | M62: -120000
D63: 1072 - 12001 | E63: Գերմանիայի զարգացման և Եվրոպական միության հարևանության ներդրումային բանկի աջակցությամբ իրականացվող ջրամատակարարման և ջրահեռացման ենթակառուցվածքների դրամաշնորհային ծրագիր` երրորդ փուլ | J63: -174850 | K63: -176350 | L63: -175350 | M63: -120000
F64: 579 գյուղական բնակավայրերից ընտրված որոշ համայնքների ջրամատակարարման և ջրահեռացման համակարգերի հատվածների հրատապ վերականգնման աշխատանքների իրականացում ինչպես նաև՛ Արմավիրի կեղտաջրերի մաքրման կայանի կառուցում
G65: Տրանսֆերտների տրամադրում
H66: Շահառուների ընտրության չափորոշիչները` Մասնագիտացված միավոր
I67: Նորոգվող ջրագծերի երկարություն, կմ | K67: -1 | M67: -1
A68: ՀՀ կառավարություն | J68: =J69 -> 0 | K68: =K69 -> 0 | L68: =L69 -> 0 | M68: =M69 -> 0
B69: 1139 | C69: ՀՀ կառավարության պահուստային ֆոնդ | J69: =J70+J74 -> 0 | K69: =K70+K74 -> 0 | L69: =L70+L74 -> 0 | M69: =M70+M74 -> 0
D70: 1139 - 11001 | E70: ՀՀ կառավարության պահուստային ֆոնդ | J70: ='2'!G178 -> 119282 | K70: ='2'!H178 -> 119282 | L70: ='2'!I178 -> 119282 | M70: ='2'!J178 -> 119282
F71: ՀՀ պետական բյուջեում նախատեսված ելքերի լրացուցիչ ֆինանսավորման, պետական բյուջեում չկանխատեսված ելքերի, ինչպես նաև բյուջետային երաշխիքների ապահովման ելքերի ֆինանսավորման ապահովում
G72: Ծառայությունների մատուցում
H73: Ծառայությունը մատուցողի անվանումը` ՀՀ կառավարություն
D74: 1139 - 11001 | E74: ՀՀ կառավարության պահուստային ֆոնդ | J74: ='2'!G186 -> -119282 | K74: ='2'!H186 -> -119282 | L74: ='2'!I186 -> -119282 | M74: ='2'!J186 -> -119282
F75: ՀՀ պետական բյուջեում նախատեսված ելքերի լրացուցիչ ֆինանսավորման, պետական բյուջեում չկանխատեսված ելքերի, ինչպես նաև բյուջետային երաշխիքների ապահովման ելքերի ֆինանսավորման ապահովում
G76: Ծառայությունների մատուցում
H77: Ծառայությունը մատուցողի անվանումը` ՀՀ կառավարություն
A80: ՀԱՅԱՍՏԱՆԻ ՀԱՆՐԱՊԵՏՈՒԹՅԱՆ ՎԱՐՉԱՊԵՏԻ ԱՇԽԱՏԱԿԱԶՄԻ ՂԵԿԱՎԱՐ՝ | D80: Ա.ՀԱՐՈՒԹՅՈՒՆՅԱՆ

Sheet 8.
J1: Հավելված N 8
F2: ՀՀ կառավարության 2026 թվականի
J3: N ------------ -Ն որոշման
A4: ՀԱՅԱՍՏԱՆԻ ՀԱՆՐԱՊԵՏՈՒԹՅԱՆ 2026 ԹՎԱԿԱՆԻ ՊԵՏԱԿԱՆ ԲՅՈՒՋԵՈՎ ՆԱԽԱՏԵՍՎԱԾ՝ ՀԱՅԱՍՏԱՆԻ ՀԱՆՐԱՊԵՏՈՒԹՅԱՆ ԿԱՌԱՎԱՐՈՒԹՅԱՆ ՊԱՀՈՒՍՏԱՅԻՆ ՖՈՆԴԻՑ ՀԱՏԿԱՑՈՒՄՆԵՐ ԿԱՏԱՐԵԼՈՒ ՎԵՐԱԲԵՐՅԱԼ
J6: հազար դրամներով
A7: Գործառական դասիչը | D7: Ծրագրային դասիչը | F7: Բյուջետային հատկացումների գլխավոր կարգադրիչների, ծրագրերի, միջոցառումների և միջոցառումները կատարող պետական մարմինների անվանումները | G7: Ցուցանիշների փոփոխությունը (ավելացումները նշված են դրական նշանով, իսկ նվազեցումները` փակագծերում)
A8: Բաժին | B8: Խումբ | C8: Դաս | D8: Ծրագիր | E8: Միջոցառում | G8: Առաջին եռամսյակ | H8: Առաջին կիսամյակ | I8: Ինն ամիս | J8: Տարի
F9: ԸՆԴԱՄԵՆԸ | G9: =G11+G62 -> 0 | H9: =H11+H62 -> 0 | I9: =I11+I62 -> 0 | J9: =J11+J62 -> 0
F10: այդ թվում՝
F11: ՀՀ տարածքային կառավարման և ենթակառուցվածքների նախարարություն | G11: 119282 | H11: 119282 | I11: 119282 | J11: 119282
F12: այդ թվում`
A13: 04 | F13: ՏՆՏԵՍԱԿԱՆ ՀԱՐԱԲԵՐՈՒԹՅՈՒՆՆԵՐ | G13: 18163 | H13: 18163 | I13: 18163 | J13: 18163
F14: այդ թվում`
B15: 09 | F15: Տնտեսական հարաբերություններ (այլ դասերին չպատկանող) | G15: 18163 | H15: 18163 | I15: 18163 | J15: 18163
F16: այդ թվում`
C17: 01 | F17: Տնտեսական հարաբերություններ (այլ դասերին չպատկանող) | G17: 18163 | H17: 18163 | I17: 18163 | J17: 18163
F18: այդ թվում`
F19: ՀՀ տարածքային կառավարման և ենթակառուցվածքների նախարարություն | G19: 18163 | H19: 18163 | I19: 18163 | J19: 18163
F20: այդ թվում`
D21: 1019 | F21: Սոցիալական ներդրումների և տեղական զարգացման ծրագիր | G21: 18163 | H21: 18163 | I21: 18163 | J21: 18163
F22: այդ թվում`
E23: 12004 | F23: Համաշխարհային բանկի աջակցությամբ իրականացվող Սոցիալական ներդրումների և տեղական զարգացման ծրագրի լրացուցիչ ֆինանսավորման վարկի շրջանակներում ՀՀ համայնքային և միջհամայնքային ենթակառուցվածքների որակի, օգտագործման և հասանելիության բարելավում | G23: 18163 | H23: 18163 | I23: 18163 | J23: 18163
F24: այդ թվում` ըստ կատարողների
F25: ՀՀ տարածքային կառավարման և ենթակառուցվածքների նախարարություն | G25: 18163 | H25: 18163 | I25: 18163 | J25: 18163
F26: այդ թվում` բյուջետային ծախսերի տնտեսագիտական դասակարգման հոդվածներ
F27: ԸՆԴԱՄԵՆԸ ԾԱԽՍԵՐ | G27: 18163 | H27: 18163 | I27: 18163 | J27: 18163
F28: ՈՉ ՖԻՆԱՆՍԱԿԱՆ ԱԿՏԻՎՆԵՐԻ ԳԾՈՎ ԾԱԽՍԵՐ | G28: 18163 | H28: 18163 | I28: 18163 | J28: 18163
F29: ՀԻՄՆԱԿԱՆ ՄԻՋՈՑՆԵՐ | G29: 18163 | H29: 18163 | I29: 18163 | J29: 18163
F30: ՇԵՆՔԵՐ ԵՎ ՇԻՆՈՒԹՅՈՒՆՆԵՐ | G30: 18163 | H30: 18163 | I30: 18163 | J30: 18163
F31: - Շենքերի և շինությունների շինարարություն | G31: 18163 | H31: 18163 | I31: 18163 | J31: 18163
A32: 06 | F32: ԲՆԱԿԱՐԱՆԱՅԻՆ ՇԻՆԱՐԱՐՈՒԹՅՈՒՆ ԵՎ ԿՈՄՈՒՆԱԼ ԾԱՌԱՅՈՒԹՅՈՒՆՆԵՐ | G32: 101119 | H32: 101119 | I32: 101119 | J32: 101119
F33: այդ թվում`
B34: 03 | F34: Ջրամատակարարում | G34: 101119 | H34: 101119 | I34: 101119 | J34: 101119
F35: այդ թվում`
C36: 01 | F36: Ջրամատակարարում | G36: 101119 | H36: 101119 | I36: 101119 | J36: 101119
F37: այդ թվում`
F38: ՀՀ տարածքային կառավարման և ենթակառուցվածքների նախարարություն | G38: 101119 | H38: 101119 | I38: 101119 | J38: 101119
F39: այդ թվում`
D40: 1072 | F40: Ջրամատակարարաման և ջրահեռացման բարելավում | G40: 101119 | H40: 101119 | I40: 101119 | J40: 101119
F41: այդ թվում`
E42: 12004 | F42: Մաքրման կայանների պահպանություն | G42: 5125.9 | H42: 5125.9 | I42: 5125.9 | J42: 5125.9
F43: այդ թվում` ըստ կատարողների
F44: ՀՀ տարածքային կառավարման և ենթակառուցվածքների նախարարություն | G44: 5125.9 | H44: 5125.9 | I44: 5125.9 | J44: 5125.9
F45: այդ թվում` բյուջետային ծախսերի տնտեսագիտական դասակարգման հոդվածներ
F46: ԸՆԴԱՄԵՆԸ ԾԱԽՍԵՐ | G46: 5125.9 | H46: 5125.9 | I46: 5125.9 | J46: 5125.9
F47: ԸՆԹԱՑԻԿ ԾԱԽՍԵՐ | G47: 5125.9 | H47: 5125.9 | I47: 5125.9 | J47: 5125.9
F48: ԴՐԱՄԱՇՆՈՐՀՆԵՐ | G48: 5125.9 | H48: 5125.9 | I48: 5125.9 | J48: 5125.9
F49: Ընթացիկ դրամաշնորհներ պետական հատվածի այլ մակարդակներին | G49: 5125.9 | H49: 5125.9 | I49: 5125.9 | J49: 5125.9
F50: - Այլ ընթացիկ դրամաշնորհներ | G50: 5125.9 | H50: 5125.9 | I50: 5125.9 | J50: 5125.9
E51: 31015 | F51: Ջրամատակարարման և ջրահեռացման համակարգերի հիմնանորոգում որոշ վայրերում | G51: 95993.1 | H51: 95993.1 | I51: 95993.1 | J51: 95993.1
F52: այդ թվում` ըստ կատարողների
F53: ՀՀ տարածքային կառավարման և ենթակառուցվածքների նախարարություն | G53: 95993.1 | H53: 95993.1 | I53: 95993.1 | J53: 95993.1
F54: այդ թվում` բյուջետային ծախսերի տնտեսագիտական դասակարգման հոդվածներ
F55: ԸՆԴԱՄԵՆԸ ԾԱԽՍԵՐ | G55: 95993.1 | H55: 95993.1 | I55: 95993.1 | J55: 95993.1
F56: ԸՆԹԱՑԻԿ ԾԱԽՍԵՐ | G56: 95993.1 | H56: 95993.1 | I56: 95993.1 | J56: 95993.1
F57: ԴՐԱՄԱՇՆՈՐՀՆԵՐ | G57: 95993.1 | H57: 95993.1 | I57: 95993.1 | J57: 95993.1
F58: Կապիտալ դրամաշնորհներ պետական հատվածի այլ մակարդակներին | G58: 95993.1 | H58: 95993.1 | I58: 95993.1 | J58: 95993.1
F59: - Այլ կապիտալ դրամաշնորհներ | G59: 95993.1 | H59: 95993.1 | I59: 95993.1 | J59: 95993.1
F60: ՀՀ կառավարություն | G60: -119282 | H60: -119282 | I60: -119282 | J60: -119282
F61: այդ թվում`
A62: 11 | F62: ՀԻՄՆԱԿԱՆ ԲԱԺԻՆՆԵՐԻՆ ՉԴԱՍՎՈՂ ՊԱՀՈՒՍՏԱՅԻՆ ՖՈՆԴԵՐ | G62: -119282 | H62: -119282 | I62: -119282 | J62: -119282
F63: այդ թվում`
B64: 01 | F64: ՀՀ կառավարության և համայնքների պահուստային ֆոնդ | G64: -119282 | H64: -119282 | I64: -119282 | J64: -119282
F65: այդ թվում`
C66: 01 | F66: ՀՀ կառավարության պահուստային ֆոնդ | G66: -119282 | H66: -119282 | I66: -119282 | J66: -119282
F67: այդ թվում`
F68: ՀՀ կառավարություն | G68: -119282 | H68: -119282 | I68: -119282 | J68: -119282
F69: այդ թվում`
D70: 1139 | F70: ՀՀ կառավարության պահուստային ֆոնդ | G70: -119282 | H70: -119282 | I70: -119282 | J70: -119282
F71: այդ թվում`
E72: 11001 | F72: ՀՀ կառավարության պահուստային ֆոնդ | G72: -119282 | H72: -119282 | I72: -119282 | J72: -119282
F73: այդ թվում` ըստ կատարողների
F74: ՀՀ կառավարություն | G74: -119282 | H74: -119282 | I74: -119282 | J74: -119282
F75: այդ թվում` բյուջետային ծախսերի տնտեսագիտական դասակարգման հոդվածների
F76: ԸՆԴԱՄԵՆԸ ԾԱԽՍԵՐ | G76: -119282 | H76: -119282 | I76: -119282 | J76: -119282
F77: ԸՆԹԱՑԻԿ ԾԱԽՍԵՐ | G77: -119282 | H77: -119282 | I77: -119282 | J77: -119282
F78: ԱՅԼ ԾԱԽՍԵՐ | G78: -119282 | H78: -119282 | I78: -119282 | J78: -119282
F79: Պահուստային միջոցներ | G79: -119282 | H79: -119282 | I79: -119282 | J79: -119282
B82: ՀԱՅԱՍՏԱՆԻ ՀԱՆՐԱՊԵՏՈՒԹՅԱՆ
B83: ՎԱՐՉԱՊԵՏԻ ԱՇԽԱՏԱԿԱԶՄԻ
C84: ՂԵԿԱՎԱՐ ՝ Ա. ՀԱՐՈՒԹՅՈՒՆՅԱՆ

Sheet 8
A1: Հավելված N 8
A2: ՀՀ կառավարության 2026 թվականի
A3: -ի N -Ն որոշման
A5: ՀԱՅԱՍՏԱՆԻ ՀԱՆՐԱՊԵՏՈՒԹՅԱՆ ԿԱՌԱՎԱՐՈՒԹՅԱՆ ՊԱՀՈՒՍՏԱՅԻՆ ՖՈՆԴԻՑ ԿԱՏԱՐՎՈՂ ՀԱՏԿԱՑՈՒՄԸ
I6: հազար դրամներով
A8: Գործառական դասիչը | D8: Ծրագրային դասիչը | F8: Բյուջետային ծախսերի գործառական դասակարգման բաժինների, խմբերի և դասերի, բյուջետային ծրագրերի միջոցառումների, բյուջետային հատկացումների գլխավոր կարգադրիչների անվանումները | G8: Ցուցանիշների փոփոխությունը (ավելացումները նշված են դրական նշանով, իսկ նվազեցումները՝ փակագծերում)
G9: Առաջին եռամսյակ | H9: Առաջին կիսամյակ | I9: Ինն ամիս | J9: Տարի
A10: Բաժին | B10: Խումբ | C10: Դաս | D10: Ծրագիր | E10: Միջոցառում
F11: ԸՆԴԱՄԵՆԸ ԾԱԽՍԵՐ | G11: =G13+G33 -> #REF! | H11: =H13+H33 -> #REF! | I11: =I13+I33 -> #REF! | J11: =J13+J33 -> #REF!
F12: այդ թվում`
F13: ՀՀ կառավարություն | G13: =G15 -> #REF! | H13: =H15 -> #REF! | I13: =I15 -> #REF! | J13: =J15 -> #REF!
F14: այդ թվում`
A15: 11 | F15: ՀԻՄՆԱԿԱՆ ԲԱԺԻՆՆԵՐԻՆ ՉԴԱՍՎՈՂ ՊԱՀՈՒՍՏԱՅԻՆ ՖՈՆԴԵՐ | G15: =G17 -> #REF! | H15: =H17 -> #REF! | I15: =I17 -> #REF! | J15: =J17 -> #REF!
F16: այդ թվում`
B17: 01 | F17: ՀՀ կառավարության և համայնքների պահուստային ֆոնդ | G17: =G19 -> #REF! | H17: =H19 -> #REF! | I17: =I19 -> #REF! | J17: =J19 -> #REF!
F18: այդ թվում`
C19: 01 | F19: ՀՀ կառավարության պահուստային ֆոնդ | G19: =G21 -> #REF! | H19: =H21 -> #REF! | I19: =I21 -> #REF! | J19: =J21 -> #REF!
F20: այդ թվում`
F21: ՀՀ կառավարություն | G21: =G23 -> #REF! | H21: =H23 -> #REF! | I21: =I23 -> #REF! | J21: =J23 -> #REF!
F22: այդ թվում`
D23: 1139 | F23: ՀՀ կառավարության պահուստային ֆոնդ | G23: =G25 -> #REF! | H23: =H25 -> #REF! | I23: =I25 -> #REF! | J23: =J25 -> #REF!
F24: այդ թվում`
E25: 11001 | F25: ՀՀ կառավարության պահուստային ֆոնդ | G25: =G27 -> #REF! | H25: =H27 -> #REF! | I25: =I27 -> #REF! | J25: =J27 -> #REF!
F26: այդ թվում` ըստ կատարողների
F27: ՀՀ կառավարություն | G27: =G29 -> #REF! | H27: =H29 -> #REF! | I27: =I29 -> #REF! | J27: =J29 -> #REF!
F28: այդ թվում` բյուջետային ծախսերի տնտեսագիտական դասակարգման հոդվածներ
F29: ԸՆԴԱՄԵՆԸ ԾԱԽՍԵՐ | G29: =G30 -> #REF! | H29: =H30 -> #REF! | I29: =I30 -> #REF! | J29: =J30 -> #REF!
F30: ԸՆԹԱՑԻԿ ԾԱԽՍԵՐ | G30: =G31 -> #REF! | H30: =H31 -> #REF! | I30: =I31 -> #REF! | J30: =J31 -> #REF!
F31: ԱՅԼ ԾԱԽՍԵՐ | G31: =G32 -> #REF! | H31: =H32 -> #REF! | I31: =I32 -> #REF! | J31: =J32 -> #REF!
F32: Պահուստային միջոցներ | G32: =-G33 -> #REF! | H32: =-H33 -> #REF! | I32: =-I33 -> #REF! | J32: =-J33 -> #REF!
F33: ՀՀ տարածքային կառավարման և ենթակառուցվածքների նախարարություն | G33: =G71+G35 -> #REF! | H33: =H71+H35 -> #REF! | I33: =I71+I35 -> #REF! | J33: =J71+J35 -> #REF!
F34: այդ թվում`
A35: 04 | F35: ՏՆՏԵՍԱԿԱՆ ՀԱՐԱԲԵՐՈՒԹՅՈՒՆՆԵՐ | G35: =+G37+G54 -> #REF! | H35: =+H37+H54 -> #REF! | I35: =+I37+I54 -> #REF! | J35: =+J37+J54 -> #REF!
F36: այդ թվում`
B37: 02 | F37: Գյուղատնտեսություն, անտառային տնտեսություն, ձկնորսություն և որսորդություն | G37: =G39 -> #REF! | H37: =H39 -> #REF! | I37: =I39 -> #REF! | J37: =J39 -> #REF!
F38: այդ թվում`
C39: 04 | F39: Ոռոգում | G39: =G43+G103 -> #REF! | H39: =H43+H103 -> #REF! | I39: =I43+I103 -> #REF! | J39: =J43+J103 -> #REF!
F40: այդ թվում`
F41: ՀՀ տարածքային կառավարման և ենթակառուցվածքների նախարարություն | G41: =G43 -> #REF! | H41: =H43 -> #REF! | I41: =I43 -> #REF! | J41: =J43 -> #REF!
F42: այդ թվում`
D43: 1004 | F43: Ոռոգման համակարգի առողջացում | G43: =+G45 -> #REF! | H43: =+H45 -> #REF! | I43: =+I45 -> #REF! | J43: =+J45 -> #REF!
F44: այդ թվում`
E45: =+'2'!#REF! -> #REF! | F45: =+'2'!#REF! -> #REF! | G45: =+G47 -> #REF! | H45: =+H47 -> #REF! | I45: =+I47 -> #REF! | J45: =+J47 -> #REF!
F46: այդ թվում` ըստ կատարողների
F47: ՀՀ տարածքային կառավարման և ենթակառուցվածքների նախարարության ջրային կոմիտե | G47: =+G49 -> #REF! | H47: =+H49 -> #REF! | I47: =+I49 -> #REF! | J47: =+J49 -> #REF!
F48: այդ թվում` բյուջետային ծախսերի տնտեսագիտական դասակարգման հոդվածներ
F49: ԸՆԴԱՄԵՆԸ ԾԱԽՍԵՐ | G49: =+G50 -> #REF! | H49: =+H50 -> #REF! | I49: =+I50 -> #REF! | J49: =+J50 -> #REF!
F50: ՈՉ ՖԻՆԱՆՍԱԿԱՆ ԱԿՏԻՎՆԵՐԻ ԳԾՈՎ ԾԱԽՍԵՐ | G50: =+G51 -> #REF! | H50: =+H51 -> #REF! | I50: =+I51 -> #REF! | J50: =+J51 -> #REF!
F51: ՀԻՄՆԱԿԱՆ ՄԻՋՈՑՆԵՐ | G51: =+G52 -> #REF! | H51: =+H52 -> #REF! | I51: =+I52 -> #REF! | J51: =+J52 -> #REF!
F52: ՇԵՆՔԵՐ ԵՎ ՇԻՆՈՒԹՅՈՒՆՆԵՐ | G52: =+G53 -> #REF! | H52: =+H53 -> #REF! | I52: =+I53 -> #REF! | J52: =+J53 -> #REF!
F53: - Շենքերի և շինությունների շինարարություն | G53: =+'3'!#REF! -> #REF! | H53: =+'3'!#REF! -> #REF! | I53: =+'3'!#REF! -> #REF! | J53: =+'3'!#REF! -> #REF!
B54: 09 | F54: Տնտեսական հարաբերություններ (այլ դասերին չպատկանող) | G54: =+G56 -> #REF! | H54: =+H56 -> #REF! | I54: =+I56 -> #REF! | J54: =+J56 -> #REF!
F55: այդ թվում`
C56: 01 | F56: Տնտեսական հարաբերություններ (այլ դասերին չպատկանող) | G56: =+G58 -> #REF! | H56: =+H58 -> #REF! | I56: =+I58 -> #REF! | J56: =+J58 -> #REF!
F57: այդ թվում`
F58: ՀՀ տարածքային կառավարման և ենթակառուցվածքների նախարարություն | G58: =+G60 -> #REF! | H58: =+H60 -> #REF! | I58: =+I60 -> #REF! | J58: =+J60 -> #REF!
F59: այդ թվում`
D60: =+'3'!#REF! -> #REF! | F60: =+'3'!#REF! -> #REF! | G60: =+G62 -> #REF! | H60: =+H62 -> #REF! | I60: =+I62 -> #REF! | J60: =+J62 -> #REF!
F61: այդ թվում`
E62: =+'3'!#REF! -> #REF! | F62: =+'3'!#REF! -> #REF! | G62: =+G64 -> #REF! | H62: =+H64 -> #REF! | I62: =+I64 -> #REF! | J62: =+J64 -> #REF!
F63: այդ թվում` ըստ կատարողների
F64: ՀՀ տարածքային կառավարման և ենթակառուցվածքների նախարարություն | G64: =+G66 -> #REF! | H64: =+H66 -> #REF! | I64: =+I66 -> #REF! | J64: =+J66 -> #REF!
F65: այդ թվում` բյուջետային ծախսերի տնտեսագիտական դասակարգման հոդվածներ
F66: ԸՆԴԱՄԵՆԸ ԾԱԽՍԵՐ | G66: =+G67 -> #REF! | H66: =+H67 -> #REF! | I66: =+I67 -> #REF! | J66: =+J67 -> #REF!
F67: ՈՉ ՖԻՆԱՆՍԱԿԱՆ ԱԿՏԻՎՆԵՐԻ ԳԾՈՎ ԾԱԽՍԵՐ | G67: =+G68 -> #REF! | H67: =+H68 -> #REF! | I67: =+I68 -> #REF! | J67: =+J68 -> #REF!
F68: ՀԻՄՆԱԿԱՆ ՄԻՋՈՑՆԵՐ | G68: =+G69 -> #REF! | H68: =+H69 -> #REF! | I68: =+I69 -> #REF! | J68: =+J69 -> #REF!
F69: ՇԵՆՔԵՐ ԵՎ ՇԻՆՈՒԹՅՈՒՆՆԵՐ | G69: =+G70 -> #REF! | H69: =+H70 -> #REF! | I69: =+I70 -> #REF! | J69: =+J70 -> #REF!
F70: - Շենքերի և շինությունների շինարարություն | G70: =+'3'!#REF! -> #REF! | H70: =+'3'!#REF! -> #REF! | I70: =+'3'!#REF! -> #REF! | J70: =+'3'!#REF! -> #REF!
A71: 06 | F71: ԲՆԱԿԱՐԱՆԱՅԻՆ ՇԻՆԱՐԱՐՈՒԹՅՈՒՆ ԵՎ ԿՈՄՈՒՆԱԼ ԾԱՌԱՅՈՒԹՅՈՒՆՆԵՐ | G71: =G73 -> #REF! | H71: =H73 -> #REF! | I71: =I73 -> #REF! | J71: =J73 -> #REF!
F72: այդ թվում`
B73: 03 | F73: Ջրամատակարարում | G73: =G75 -> #REF! | H73: =H75 -> #REF! | I73: =I75 -> #REF! | J73: =J75 -> #REF!
F74: այդ թվում`
C75: 01 | F75: Ջրամատակարարում | G75: =G79+G113 -> #REF! | H75: =H79+H113 -> #REF! | I75: =I79+I113 -> #REF! | J75: =J79+J113 -> #REF!
F76: այդ թվում`
F77: =F91 -> #REF! | G77: =G79 -> #REF! | H77: =H79 -> #REF! | I77: =I79 -> #REF! | J77: =J79 -> #REF!
F78: այդ թվում`
D79: 1072 | F79: Ջրամատակարարաման և ջրահեռացման բարելավում | G79: =+G81+G89 -> #REF! | H79: =+H81+H89 -> #REF! | I79: =+I81+I89 -> #REF! | J79: =+J81+J89 -> #REF!
F80: այդ թվում`
E81: =+#REF! -> #REF! | F81: =+#REF! -> #REF! | G81: =G83 -> #REF! | H81: =H83 -> #REF! | I81: =I83 -> #REF! | J81: =J83 -> #REF!
F82: այդ թվում` ըստ կատարողների
F83: ՀՀ տարածքային կառավարման և ենթակառուցվածքների նախարարություն | G83: =G85 -> #REF! | H83: =H85 -> #REF! | I83: =I85 -> #REF! | J83: =J85 -> #REF!
F84: այդ թվում` բյուջետային ծախսերի տնտեսագիտական դասակարգման հոդվածներ
F85: ԸՆԴԱՄԵՆԸ ԾԱԽՍԵՐ | G85: =G86 -> #REF! | H85: =H86 -> #REF! | I85: =I86 -> #REF! | J85: =J86 -> #REF!
F86: ԸՆԹԱՑԻԿ ԾԱԽՍԵՐ | G86: =G87 -> #REF! | H86: =H87 -> #REF! | I86: =I87 -> #REF! | J86: =J87 -> #REF!
F87: ԱՅԼ ԾԱԽՍԵՐ | G87: =G88 -> #REF! | H87: =H88 -> #REF! | I87: =I88 -> #REF! | J87: =J88 -> #REF!
F88: Այլ ծախսեր | G88: =+#REF! -> #REF! | H88: =+G88 -> #REF! | I88: =+H88 -> #REF! | J88: =+#REF! -> #REF!
E89: =+#REF! -> #REF! | F89: =+#REF! -> #REF! | G89: =G91 -> #REF! | H89: =H91 -> #REF! | I89: =I91 -> #REF! | J89: =J91 -> #REF!
F90: այդ թվում` ըստ կատարողների
F91: =+#REF! -> #REF! | G91: =G93 -> #REF! | H91: =H93 -> #REF! | I91: =I93 -> #REF! | J91: =J93 -> #REF!
F92: այդ թվում` բյուջետային ծախսերի տնտեսագիտական դասակարգման հոդվածներ
F93: ԸՆԴԱՄԵՆԸ ԾԱԽՍԵՐ | G93: =G94 -> #REF! | H93: =H94 -> #REF! | I93: =I94 -> #REF! | J93: =J94 -> #REF!
F94: ԸՆԹԱՑԻԿ ԾԱԽՍԵՐ | G94: =G95 -> #REF! | H94: =H95 -> #REF! | I94: =I95 -> #REF! | J94: =J95 -> #REF!
F95: ԴՐԱՄԱՇՆՈՐՀՆԵՐ | G95: =G97 -> #REF! | H95: =H97 -> #REF! | I95: =I97 -> #REF! | J95: =+J96 -> #REF!
F96: Կապիտալ դրամաշնորհներ պետական հատվածի այլ մակարդակներին | G96: =+G97 -> #REF! | H96: =+H97 -> #REF! | I96: =+I97 -> #REF! | J96: =+J97 -> #REF!
F97: - Այլ կապիտալ դրամաշնորհներ | G97: =+#REF! -> #REF! | H97: =+G97 -> #REF! | I97: =+H97 -> #REF! | J97: =+#REF! -> #REF!
