Workbook
Name \A: #REF!
Name _tab10: #REF!
Name _tab11: #REF!
Name _tab12: #REF!
Name _tab13: #REF!
Name _tab14: #REF!
Name _tab15: #REF!
Name _tab16: #REF!
Name _tab17: #REF!
Name _tab18: #REF!
Name _tab19: #REF!
Name _tab20: #REF!
Name _tab21: #REF!
Name _tab22: #REF!
Name _tab23: #REF!
Name _tab24: #REF!
Name _tab5: #REF!
Name _tab6: #REF!
Name _tab7: #REF!
Name _tab8: #REF!
Name _tab9: #REF!
Name aaaa: #REF!
Name aaaaa: #REF!
Name AgencyCode: #REF!
Name AgencyName: #REF!
Name ampop_krchat: #REF!
Name Armata: #REF!
Name asd: #REF!
Name åû: #REF!
Name BOP: #REF!
Name BOPfoot: #REF!
Name davit: #REF!
Name DebtCG: '[1]Fis-Debt'!#REF!
Name DebtGG: #REF!
Name fff: #REF!
Name Functional1: #REF!
Name ggg: #REF!
Name h: #REF!
Name Hav: #REF!,#REF!
Name mas: #REF!
Name mass: #REF!
Name MonExo: #REF!
Name MonGrow: [2]BM!#REF!
Name PANature: #REF!
Name par_count: #REF!,#REF!,#REF!,#REF!,#REF!,#REF!,#REF!,#REF!,#REF!,#REF!,#REF!,#REF!,#REF!,#REF!,#REF!
Name par_qual: #REF!,#REF!,#REF!,#REF!,#REF!
Name par_time: #REF!,#REF!,#REF!,#REF!
Name par2.12s: #REF!
Name par2.4s: #REF!,#REF!,#REF!,#REF!,#REF!,#REF!,#REF!,#REF!,#REF!,#REF!,#REF!,#REF!,#REF!,#REF!,#REF!,#REF!
Name par2.5s: #REF!,#REF!
Name par2.6s: #REF!,#REF!,#REF!,#REF!
Name par2.7s: #REF!,#REF!
Name par2.9s: #REF!,#REF!,#REF!,#REF!,#REF!,#REF!,#REF!,#REF!,#REF!,#REF!,#REF!,#REF!,#REF!,#REF!,#REF!,#REF!
Name par4.10s: #REF!,#REF!
Name par4.11d: #REF!,#REF!,#REF!,#REF!,#REF!
Name par4.12d: #REF!
Name par4.13s: #REF!
Name par4.14: #REF!,#REF!,#REF!,#REF!,#REF!,#REF!
Name par4.15: #REF!,#REF!,#REF!
Name par4.16: #REF!,#REF!,#REF!

Sheet 1
J1: Հավելված N 1
I2: ՀՀ կառավարության 2026 թվականի N -Ն որոշման
A3: «ՀԱՅԱՍՏԱՆԻ ՀԱՆՐԱՊԵՏՈՒԹՅԱՆ 2026 ԹՎԱԿԱՆԻ ՊԵՏԱԿԱՆ ԲՅՈՒՋԵԻ ՄԱՍԻՆ» ՀԱՅԱՍՏԱՆԻ ՀԱՆՐԱՊԵՏՈՒԹՅԱՆ ՕՐԵՆՔԻ N 1 ՀԱՎԵԼՎԱԾԻ N2 ԱՂՅՈՒՍԱԿՈՒՄ ԿԱՏԱՐՎՈՂ ՎԵՐԱԲԱՇԽՈՒՄԸ ԵՎ ՀԱՅԱՍՏԱՆԻ ՀԱՆՐԱՊԵՏՈՒԹՅԱՆ ԿԱՌԱՎԱՐՈՒԹՅԱՆ 2025 ԹՎԱԿԱՆԻ ԴԵԿՏԵՄԲԵՐԻ 25-Ի N 1910-Ն ՈՐՈՇՄԱՆ N 5 ՀԱՎԵԼՎԱԾԻ N1 ԱՂՅՈՒՍԱԿՈՒՄ ԿԱՏԱՐՎՈՂ ՓՈՓՈԽՈՒԹՅՈՒՆՆԵՐԸ ԵՎ ԼՐԱՑՈՒՄՆԵՐԸ
I4: հազար դրամներով
A5: ԲԳԿ | B5: Ծրագրային դասիչը | D5: ԲԳԿ/Ծրագրի /միջոցառման անվանումը | E5: Ծրագրի նպատակը/Միջոցառման նկարագրությունը | F5: Վերջնական արդյունքի նկարագրությունը/Միջոցառման տեսակը | G5: Ցուցանիշների փոփոխությունը (ավելացումները՝ դրական նշանով, իսկ նվազեցումները` փակագծերում)
B6: Ծրագիր | C6: Միջոցառում | G6: Առաջին եռամսյակ | H6: Առաջին կիսամյակ | I6: Ինն ամիս | J6: Տարի
A7: ԸՆԴԱՄԵՆԸ | H7: =+H8+H12 -> 0 | I7: =+I8+I12 -> 0 | J7: =+J8+J12 -> 0
A8: Հանրային հեռարձակողի խորհուրդ | G8: =+G9 -> 0 | H8: =+H9 -> 0 | I8: =+I9 -> 0 | J8: =+J9 -> 0
B9: 1042 | D9: Ռադիո և հեռուստահաղորդումների հեռարձակում | E9: Ապահովել բազմազան տեղեկատվական, ճանաչողական, կրթական, ժամանցային հեռուստատեսային և ռադիո հաղորդումների արտադրություն և հեռարձակում | F9: Բազմազան տեղեկատվական, ճանաչողական, կրթական, ժամանցային հեռուստատեսային և ռադիո հաղորդումների արտադրության և հեռարձակման ապահովում | G9: =+G11+G10 -> 0 | H9: =+H11+H10 -> 0 | I9: =+I11+I10 -> 0 | J9: =+J11+J10 -> 0
C10: 1042 - 11005 | D10: Կրթական-մշակութային ուղղվածության հեռուստատեսային ծառայություններ | E10: Կրթական-մշակութային ուղղվածության հաղորդումների պատրաստում և հեռարձակում | F10: Ծառայությունների մատուցում | G10: -22000 | H10: =+G10 -> -22000 | I10: =+H10 -> -22000 | J10: =+I10 -> -22000
C11: 1042 - 12004 | D11: «Հոգևոր-մշակութային հանրային հեռուստաընկերություն» փակ բաժնետիրական ընկերության լուծարման գործընթացի կազմակերպման հետ կապված անհրաժեշտ ծախսերի իրականացում | E11: «Հոգևոր-մշակութային հանրային հեռուստաընկերություն» փակ բաժնետիրական ընկերության աշխատողների աշխատավարձերի (այդ թվում՝ վերջնահաշվարկի), արձակման նպաստների վճարում և ընկերության պարտավորությունների մարում, ինչպես նաև լուծարման գործընթացի կազմակերպման հետ կապված անհրաժեշտ այլ ծախսերի իրականացում | F11: Տրանսֆերտների տրամադրում | G11: =+-G10 -> 22000 | H11: =+G11 -> 22000 | I11: =+H11 -> 22000 | J11: =+I11 -> 22000
A12: ՀՀ կառավարություն | G12: =+G13+G15 -> 0 | H12: =+H13+H15 -> 0 | I12: =+I13+I15 -> 0 | J12: =+J13+J15 -> 0
B13: 1139 | D13: ՀՀ կառավարության պահուստային ֆոնդ | E13: Պետական բյուջեում չկանխատեսված, ինչպես նաեւ բյուջետային երաշխիքների ապահովման ծախսերի ֆինանսավորման ապահովում | F13: Պահուստային ֆոնդի կառավարման արդյունավետության և թափանցիկության ապահովում | G13: =+G14 -> 22000 | H13: =+H14 -> 22000 | I13: =+I14 -> 22000 | J13: =+J14 -> 22000
C14: 1139 - 11001 | D14: ՀՀ կառավարության պահուստային ֆոնդ | E14: ՀՀ պետական բյուջեում նախատեսված ելքերի լրացուցիչ ֆինանսավորման, պետական բյուջեում չկանխատեսված ելքերի, ինչպես նաև բյուջետային երաշխիքների ապահովման ելքերի ֆինանսավորման ապահովում | F14: Ծառայությունների մատուցում | G14: =-G10 -> 22000 | H14: =-H10 -> 22000 | I14: =-I10 -> 22000 | J14: =-J10 -> 22000
B15: 1139 | D15: ՀՀ կառավարության պահուստային ֆոնդ | E15: Պետական բյուջեում չկանխատեսված, ինչպես նաեւ բյուջետային երաշխիքների ապահովման ծախսերի ֆինանսավորման ապահովում | F15: Պահուստային ֆոնդի կառավարման արդյունավետության և թափանցիկության ապահովում | G15: =-G11 -> -22000 | H15: =-H11 -> -22000 | I15: =-I11 -> -22000 | J15: =-J11 -> -22000
C16: 1139 - 11001 | D16: ՀՀ կառավարության պահուստային ֆոնդ | E16: ՀՀ պետական բյուջեում նախատեսված ելքերի լրացուցիչ ֆինանսավորման, պետական բյուջեում չկանխատեսված ելքերի, ինչպես նաև բյուջետային երաշխիքների ապահովման ելքերի ֆինանսավորման ապահովում | F16: Ծառայությունների մատուցում | G16: =-G13-G12 -> -22000 | H16: =-H13-H12 -> -22000 | I16: =-I13-I12 -> -22000 | J16: =-J13-J12 -> -22000

Sheet 2
I1: Հավելված N2
F2: ՀՀ կառավարության 2026 թվականի N -Ն որոշման
A3: ՀԱՅԱՍՏԱՆԻ ՀԱՆՐԱՊԵՏՈՒԹՅԱՆ ԿԱՌԱՎԱՐՈՒԹՅԱՆ 2025 ԹՎԱԿԱՆԻ ԴԵԿՏԵՄԲԵՐԻ 25-Ի N 1910-Ն ՈՐՈՇՄԱՆ N 3 ԵՎ 4 ՀԱՎԵԼՎԱԾՆԵՐՈՒՄ ԿԱՏԱՐՎՈՂ ՓՈՓՈԽՈՒԹՅՈՒՆՆԵՐԸ ԵՎ ԼՐԱՑՈՒՄՆԵՐԸ
I4: հազար դրամներով
A5: Գործառական դասիչը | D5: Ծրագրային դասիչը | F5: Բյուջետային ծախսերի գործառական դասակարգման բաժինների, խմբերի և դասերի, բյուջետային ծրագրերի միջոցառումների, բյուջետային հատկացումների գլխավոր կարգադրիչների անվանումները | G5: Ցուցանիշների փոփոխությունը (ավելացումները՝ դրական նշանով, իսկ նվազեցումները` փակագծերում)
J6: Տարի
A7: Բաժին | B7: Խումբ | C7: Դաս | D7: Ծրագիր | E7: Միջոցա ռում | G7: Առաջին եռամսյակ | H7: Առաջին կիսամյակ | I7: Ինն ամիս
F8: ԸՆԴԱՄԵՆԸ ԾԱԽՍԵՐ | G8: =+G9+G37 -> 0 | H8: =+H9+H37 -> 0 | I8: =+I9+I37 -> 0 | J8: =+J9+J37 -> 0
A9: 08 | F9: ՀԱՆԳԻՍՏ, ՄՇԱԿՈՒՅԹ ԵՎ ԿՐՈՆ | G9: =+G11 -> 0 | H9: =+H11 -> 0 | I9: =+I11 -> 0 | J9: =+J11 -> 0
F10: այդ թվում`
B11: 03 | F11: Ռադիո և հեռուստահաղորդումների հեռարձակման և հրատարակչական ծառայություններ | G11: =+G13 -> 0 | H11: =+H13 -> 0 | I11: =+I13 -> 0 | J11: =+J13 -> 0
F12: այդ թվում`
C13: 01 | F13: Հեռուստառադիոհաղորդումներ | G13: =+G17 -> 0 | H13: =+H17 -> 0 | I13: =+I17 -> 0 | J13: =+J17 -> 0
F14: այդ թվում`
F15: Հանրային հեռարձակողի խորհուրդ | G15: =+G17 -> 0 | H15: =+H17 -> 0 | I15: =+I17 -> 0 | J15: =+J17 -> 0
F16: այդ թվում՝
D17: 1042 | F17: Ռադիո և հեռուստահաղորդումների հեռարձակում | G17: =+G28+G19 -> 0 | H17: =+H28+H19 -> 0 | I17: =+I28+I19 -> 0 | J17: =+J28+J19 -> 0
F18: այդ թվում՝
E19: 11005 | F19: =+'1'!D10 -> Կրթական-մշակութային ուղղվածության հեռուստատեսային ծառայություններ | G19: =+G21 -> -22000 | H19: =+H21 -> -22000 | I19: =+I21 -> -22000 | J19: =+J21 -> -22000
F20: այդ թվում` ըստ կատարողների
F21: Հանրային հեռարձակողի խորհուրդ | G21: =+G23 -> -22000 | H21: =+H23 -> -22000 | I21: =+I23 -> -22000 | J21: =+J23 -> -22000
F22: այդ թվում` բյուջետային ծախսերի տնտեսագիտական դասակարգման հոդվածներ
F23: ԸՆԴԱՄԵՆԸ ԾԱԽՍԵՐ | G23: =+G25 -> -22000 | H23: =+H25 -> -22000 | I23: =+I25 -> -22000 | J23: =+J25 -> -22000
F24: ԸՆԹԱՑԻԿ ԾԱԽՍԵՐ | G24: =G25 -> -22000 | H24: =H25 -> -22000 | I24: =I25 -> -22000 | J24: =J25 -> -22000
F25: ԾԱՌԱՅՈՒԹՅՈՒՆՆԵՐԻ ԵՎ ԱՊՐԱՆՔՆԵՐԻ ՁԵՌՔԲԵՐՈՒՄ | G25: =G26 -> -22000 | H25: =H26 -> -22000 | I25: =I26 -> -22000 | J25: =J26 -> -22000
F26: Պայմանագրային այլ ծառայությունների ձեռքբերում | G26: =G27 -> -22000 | H26: =H27 -> -22000 | I26: =I27 -> -22000 | J26: =J27 -> -22000
F27: - Տեղեկատվական ծառայություններ | G27: =+'1'!G10 -> -22000 | H27: =+'1'!H10 -> -22000 | I27: =+'1'!I10 -> -22000 | J27: =+'1'!J10 -> -22000
E28: 12004 | F28: ='1'!D11 -> «Հոգևոր-մշակութային հանրային հեռուստաընկերություն» փակ բաժնետիրական ընկերության լուծարման գործընթացի կազմակերպման հետ կապված անհրաժեշտ ծախսերի իրականացում | G28: =+G30 -> 22000 | H28: =+H30 -> 22000 | I28: =+I30 -> 22000 | J28: =+J30 -> 22000
F29: այդ թվում` ըստ կատարողների
F30: Հանրային հեռարձակողի խորհուրդ | G30: =+G32 -> 22000 | H30: =+H32 -> 22000 | I30: =+I32 -> 22000 | J30: =+J32 -> 22000
F31: այդ թվում` բյուջետային ծախսերի տնտեսագիտական դասակարգման հոդվածներ
F32: ԸՆԴԱՄԵՆԸ ԾԱԽՍԵՐ | G32: =+G34 -> 22000 | H32: =+H34 -> 22000 | I32: =+I34 -> 22000 | J32: =+J34 -> 22000
F33: ԸՆԹԱՑԻԿ ԾԱԽՍԵՐ | G33: =G34 -> 22000 | H33: =H34 -> 22000 | I33: =I34 -> 22000 | J33: =J34 -> 22000
F34: ԴՐԱՄԱՇՆՈՐՀՆԵՐ | G34: =G35 -> 22000 | H34: =H35 -> 22000 | I34: =I35 -> 22000 | J34: =J35 -> 22000
F35: Ընթացիկ դրամաշնորհներ պետական հատվածի այլ մակարդակներին | G35: =G36 -> 22000 | H35: =H36 -> 22000 | I35: =I36 -> 22000 | J35: =J36 -> 22000
F36: - Ընթացիկ դրամաշնորհներ պետական և համայնքների առևտրային կազմակերպություններին | G36: ='1'!G11 -> 22000 | H36: ='1'!H11 -> 22000 | I36: =H36 -> 22000 | J36: =I36 -> 22000
A37: 11 | F37: ՀԻՄՆԱԿԱՆ ԲԱԺԻՆՆԵՐԻՆ ՉԴԱՍՎՈՂ ՊԱՀՈՒՍՏԱՅԻՆ ՖՈՆԴԵՐ | G37: =+G39 -> 0 | H37: =+H39 -> 0 | I37: =+I39 -> 0 | J37: =+J39 -> 0
F38: այդ թվում`
B39: 01 | F39: ՀՀ կառավարության պահուստային ֆոնդ | G39: =+G41 -> 0 | H39: =+H41 -> 0 | I39: =+I41 -> 0 | J39: =+J41 -> 0
F40: այդ թվում`
...

Sheet 3
G1: Հավելված N 3
F2: ՀՀ կառավարության 2026 թվականի N -Ն որոշման
A3: ՀԱՅԱՍՏԱՆԻ ՀԱՆՐԱՊԵՏՈՒԹՅԱՆ ԿԱՌԱՎԱՐՈՒԹՅԱՆ 2025 ԹՎԱԿԱՆԻ ԴԵԿՏԵՄԲԵՐԻ 25-Ի N 1910-Ն ՈՐՈՇՄԱՆ N 5 ՀԱՎԵԼՎԱԾԻ 7-ՐԴ ԱՂՅՈՒՍԱԿՈՒՄ ԿԱՏԱՐՎՈՂ ՓՈՓՈԽՈՒԹՅՈՒՆՆԵՐԸ ԵՎ ԼՐԱՑՈՒՄՆԵՐԸ
G4: հազար դրամներով
A5: Ծրագրային դասիչ | C5: Բյուջետային հատկացումների գլխավոր կարգադրիչների, ծրագրերի, միջոցառումների, ծախսային ուղղությունների անվանումները | F5: Միջոցառումները կատարող պետական մարմինների և դրամաշնորհ ստացող տնտեսվարող սուբյեկտների անվանումները | G5: Տարի
G6: Ցուցանիշների փոփոխությունը (ավելացումները նշված են դրական նշանով)
A7: Ծրագիր | B7: Միջոցառում
A8: 1 | B8: 2 | C8: 3 | F8: 4 | G8: 5
A9: Հանրային հեռարձակողի խորհուրդ
A10: 1042 | B10: Ռադիո և հեռուստահաղորդումների հեռարձակում | G10: =SUM(G11) -> 22000
B11: ='2'!E28 -> 12004 | C11: ='2'!F28 -> «Հոգևոր-մշակութային հանրային հեռուստաընկերություն» փակ բաժնետիրական ընկերության լուծարման գործընթացի կազմակերպման հետ կապված անհրաժեշտ ծախսերի իրականացում | F11: Հանրային հեռարձակողի խորհուրդ | G11: =+G12 -> 22000
F12: «Հոգևոր-մշակութային հանրային հեռուստաընկերություն» ՓԲԸ | G12: ='2'!J36 -> 22000

Sheet 4
J1: Հավելված N 4
I2: ՀՀ կառավարության 2026 թվականի N -Ն որոշման
A5: ՀԱՅԱՍՏԱՆԻ ՀԱՆՐԱՊԵՏՈՒԹՅԱՆ ԿԱՌԱՎԱՐՈՒԹՅԱՆ 2025 ԹՎԱԿԱՆԻ ԴԵԿՏԵՄԲԵՐԻ 25-Ի N 1910-Ն ՈՐՈՇՄԱՆ N 9 ՀԱՎԵԼՎԱԾՈՒՄ ԿԱՏԱՐՎՈՂ ՓՈՓՈԽՈՒԹՅՈՒՆՆԵՐԸ ԵՎ ԼՐԱՑՈՒՄՆԵՐԸ
L6: հազար դրամներով
A7: ԲԳԿ | B7: Ծրագիր | D7: Միջոցառում | H7: Իրականացնողը/ ակտիվն օգտագործողը/ շահառուի ընտրության չափորոշիչը | I7: Արդյունքային չափորոշիչը | J7: Ցուցանիշների փոփոխությունը (ավելացումները նշված են դրական նշանով, իսկ նվազեցումները՝ փակագծերում)
B8: Դասիչը | C8: Անվանումը | D8: Դասիչը | E8: Անվանումը | F8: Նկարագրությունը | G8: Տեսակը | J8: Առաջին եռամսյակ | K8: Առաջին կիսամյակ | L8: Ինն ամիս | M8: Տարի
A9: ԸՆԴԱՄԵՆԸ | J9: =+J11+J23 -> 0 | K9: =+K11+K23 -> 0 | L9: =+L11+L23 -> 0 | M9: =+M11+M23 -> 0
A10: Հանրային հեռարձակողի խորհուրդ | J10: =+J11 -> 0 | K10: =+K11 -> 0 | L10: =+L11 -> 0 | M10: =+M11 -> 0
B11: 1042 | C11: Ռադիո և հեռուստահաղորդումների հեռարձակում | J11: =+J12+J17 -> 0 | K11: =+K12+K17 -> 0 | L11: =+L12+L17 -> 0 | M11: =+M12+M17 -> 0
D12: 1042 - 11005 | E12: Կրթական-մշակութային ուղղվածության հեռուստատեսային ծառայություններ | J12: =+'1'!G10 -> -22000 | K12: =+'1'!H10 -> -22000 | L12: =+'1'!I10 -> -22000 | M12: =+'1'!J10 -> -22000
F13: Կրթական-մշակութային ուղղվածության հաղորդումների պատրաստում և հեռարձակում
G14: Ծառայությունների մատուցում
H15: Ծառայությունը մատուցողի անվանումը` «Գնումների մասին» ՀՀ օրենքի համաձայն ընտրված կազմակերպություն
I16: «Տեսալսողական մեդիայի մասին» ՀՀ օրենքի պահանջներին համապատասխան հեռուստահաղորդումների հեռարձակում, ժամ | K16: -4344 | M16: -8760
D17: =+'1'!C11 -> 1042 - 12004 | E17: ='1'!D11 -> «Հոգևոր-մշակութային հանրային հեռուստաընկերություն» փակ բաժնետիրական ընկերության լուծարման գործընթացի կազմակերպման հետ կապված անհրաժեշտ ծախսերի իրականացում | J17: =+'1'!G11 -> 22000 | K17: =+'1'!H11 -> 22000 | L17: =+'1'!I11 -> 22000 | M17: =+'1'!J11 -> 22000
F18: ='1'!E11 -> «Հոգևոր-մշակութային հանրային հեռուստաընկերություն» փակ բաժնետիրական ընկերության աշխատողների աշխատավարձերի (այդ թվում՝ վերջնահաշվարկի), արձակման նպաստների վճարում և ընկերության պարտավորությունների մարում, ինչպես նաև լուծարման գործընթացի կազմակերպման հետ կապված անհրաժեշտ այլ ծախսերի իրականացում
G19: Տրանսֆերտների տրամադրում
H20: «Հոգևոր-մշակութային հանրային հեռուստաընկերություն» ՓԲԸ
H21: Դրամաշնորհային պայմանագրերի թիվը | M21: 1
A22: ՀՀ կառավարություն | J22: =+J23 -> 0 | K22: =+K23 -> 0 | L22: =+L23 -> 0 | M22: =+M23 -> 0
B23: 1139 | C23: ՀՀ կառավարության պահուստային ֆոնդ | J23: =+J24+J28 -> 0 | K23: =+K24+K28 -> 0 | L23: =+L24+L28 -> 0 | M23: =+M24+M28 -> 0
D24: 1139 - 11001 | E24: ՀՀ կառավարության պահուստային ֆոնդ | J24: =+'2'!G45 -> 22000 | K24: =+'2'!H45 -> 22000 | L24: =+'2'!I45 -> 22000 | M24: =+'2'!J45 -> 22000
F25: ՀՀ պետական բյուջեում նախատեսված ելքերի լրացուցիչ ֆինանսավորման, պետական բյուջեում չկանխատեսված ելքերի, ինչպես նաև բյուջետային երաշխիքների ապահովման ելքերի ֆինանսավորման ապահովում
G26: Ծառայությունների մատուցում
H27: Ծառայությունը մատուցողի անվանումը` ՀՀ կառավարություն
D28: 1139 - 11001 | E28: ՀՀ կառավարության պահուստային ֆոնդ | J28: =+'2'!G55 -> -22000 | K28: =+'2'!H55 -> -22000 | L28: =+'2'!I55 -> -22000 | M28: =+'2'!J55 -> -22000
F29: ՀՀ պետական բյուջեում նախատեսված ելքերի լրացուցիչ ֆինանսավորման, պետական բյուջեում չկանխատեսված ելքերի, ինչպես նաև բյուջետային երաշխիքների ապահովման ելքերի ֆինանսավորման ապահովում
G30: Ծառայությունների մատուցում
H31: Ծառայությունը մատուցողի անվանումը` ՀՀ կառավարություն

Sheet 5
L1: Հավելված N 5
K2: ՀՀ կառավարության 2026 թվականի N -Ն որոշման
A5: ՀԱՅԱՍՏԱՆԻ ՀԱՆՐԱՊԵՏՈՒԹՅԱՆ ԿԱՌԱՎԱՐՈՒԹՅԱՆ 2025 ԹՎԱԿԱՆԻ ԴԵԿՏԵՄԲԵՐԻ 25-Ի N 1910-Ն ՈՐՈՇՄԱՆ N 9.1 ՀԱՎԵԼՎԱԾՈՒՄ ԿԱՏԱՐՎՈՂ ՓՈՓՈԽՈՒԹՅՈՒՆՆԵՐԸ ԵՎ ԼՐԱՑՈՒՄՆԵՐԸ
L6: հազար դրամներով
A7: ԲՍԿ | B7: Ծրագիր | D7: Միջոցառում | H7: Իրականացնողը/ ակտիվն օգտագործողը/ շահառուի ընտրության չափորոշիչը | I7: Արդյունքային չափորոշիչը | J7: Ցուցանիշների փոփոխությունը (ավելացումները՝ դրական նշանով, իսկ նվազեցումները՝ փակագծերում)
B8: Դասիչը | C8: Անվանումը | D8: Դասիչը | E8: Անվանումը | F8: Նկարագրությունը | G8: Տեսակը | J8: Առաջին եռամսյակ | K8: Առաջին կիսամյակ | L8: Ինն ամիս | M8: Տարի
A9: ԸՆԴԱՄԵՆԸ | J9: =J11+J23 -> 0 | K9: =K11+K23 -> 0 | L9: =L11+L23 -> 0 | M9: =M11+M23 -> 0
A10: Հանրային հեռարձակողի խորհուրդ | J10: =+J11 -> 0 | K10: =+K11 -> 0 | L10: =+L11 -> 0 | M10: =+M11 -> 0
B11: 1042 | C11: Ռադիո և հեռուստահաղորդումների հեռարձակում | J11: =+J12+J17 -> 0 | K11: =+K12+K17 -> 0 | L11: =+L12+L17 -> 0 | M11: =+M12+M17 -> 0
D12: 1042 - 11005 | E12: Կրթական-մշակութային ուղղվածության հեռուստատեսային ծառայություններ | J12: =+'1'!G10 -> -22000 | K12: =+'1'!H10 -> -22000 | L12: =+'1'!I10 -> -22000 | M12: =+'1'!J10 -> -22000
F13: Կրթական-մշակութային ուղղվածության հաղորդումների պատրաստում և հեռարձակում
G14: Ծառայությունների մատուցում
H15: Ծառայությունը մատուցողի անվանումը` «Գնումների մասին» ՀՀ օրենքի համաձայն ընտրված կազմակերպություն
I16: «Տեսալսողական մեդիայի մասին» ՀՀ օրենքի պահանջներին համապատասխան հեռուստահաղորդումների հեռարձակում, ժամ | J16: =+'4'!J16 | K16: =+'4'!K16 -> -4344 | L16: =+'4'!L16 | M16: =+'4'!M16 -> -8760
D17: ='4'!D17 -> 1042 - 12004 | E17: =+'4'!E17:I17 -> «Հոգևոր-մշակութային հանրային հեռուստաընկերություն» փակ բաժնետիրական ընկերության լուծարման գործընթացի կազմակերպման հետ կապված անհրաժեշտ ծախսերի իրականացում | J17: =+'1'!G11 -> 22000 | K17: =+'1'!H11 -> 22000 | L17: =+'1'!I11 -> 22000 | M17: =+'1'!J11 -> 22000
F18: =+'4'!F18:M18 -> «Հոգևոր-մշակութային հանրային հեռուստաընկերություն» փակ բաժնետիրական ընկերության աշխատողների աշխատավարձերի (այդ թվում՝ վերջնահաշվարկի), արձակման նպաստների վճարում և ընկերության պարտավորությունների մարում, ինչպես նաև լուծարման գործընթացի կազմակերպման հետ կապված անհրաժեշտ այլ ծախսերի իրականացում
G19: =+'4'!G19 -> Տրանսֆերտների տրամադրում
H20: =+'4'!H20 -> «Հոգևոր-մշակութային հանրային հեռուստաընկերություն» ՓԲԸ
H21: =+'4'!H21:I21 -> Դրամաշնորհային պայմանագրերի թիվը | M21: 1
A22: ՀՀ կառավարություն | J22: =+J23 -> 0 | K22: =+K23 -> 0 | L22: =+L23 -> 0 | M22: =+M23 -> 0
B23: 1139 | C23: ՀՀ կառավարության պահուստային ֆոնդ | J23: =J24+J28 -> 0 | K23: =K24+K28 -> 0 | L23: =L24+L28 -> 0 | M23: =M24+M28 -> 0
D24: ='4'!D24 -> 1139 - 11001 | E24: ՀՀ կառավարության պահուստային ֆոնդ | J24: =+'2'!G45 -> 22000 | K24: =+'2'!H45 -> 22000 | L24: =+'2'!I45 -> 22000 | M24: =+'2'!J45 -> 22000
F25: ՀՀ պետական բյուջեում նախատեսված ելքերի լրացուցիչ ֆինանսավորման, պետական բյուջեում չկանխատեսված ելքերի, ինչպես նաև բյուջետային երաշխիքների ապահովման ելքերի ֆինանսավորման ապահովում
G26: Ծառայությունների մատուցում
H27: Ծառայությունը մատուցողի անվանումը` ՀՀ կառավարություն
D28: ='4'!D28 -> 1139 - 11001 | E28: ՀՀ կառավարության պահուստային ֆոնդ | J28: =+'2'!G55 -> -22000 | K28: =+'2'!H55 -> -22000 | L28: =+'2'!I55 -> -22000 | M28: =+'2'!J55 -> -22000
F29: ՀՀ պետական բյուջեում նախատեսված ելքերի լրացուցիչ ֆինանսավորման, պետական բյուջեում չկանխատեսված ելքերի, ինչպես նաև բյուջետային երաշխիքների ապահովման ելքերի ֆինանսավորման ապահովում
G30: Ծառայությունների մատուցում
H31: Ծառայությունը մատուցողի անվանումը` ՀՀ կառավարություն

Sheet 6
F1: Հավելված 6 ՀՀ կառավարության 2026 թվականի ____________ի N _____-Ն որոշման
A3: ՀԱՅԱՍՏԱՆԻ ՀԱՆՐԱՊԵՏՈՒԹՅԱՆ ԿԱՌԱՎԱՐՈՒԹՅԱՆ 2025 ԹՎԱԿԱՆԻ ԴԵԿՏԵՄԲԵՐԻ 25-Ի N 1910-Ն ՈՐՈՇՄԱՆ N 10 ՀԱՎԵԼՎԱԾՈՒՄ ԿԱՏԱՐՎՈՂ ՓՈՓՈԽՈՒԹՅՈՒՆԸ
A5: Գնման առարկայի | E5: Գնման ձևը (ընթացակարգը) | F5: Չափի միավորը | G5: Ցուցանիշների փոփոխությունները (ավելացումները նշված են դրական նշանով)
A6: Միջանցիկ կոդը` ըստ CPV դասակարգման | B6: անվանումը | G6: Միավորի գինը (ՀՀ դրամ) | H6: Քանակը | I6: Գումարը (հազար դրամով)
A7: 1 | B7: 2 | E7: 3 | F7: 4 | G7: 5 | H7: 6 | I7: 7
A8: Հանրային հեռարձակողի խորհուրդ | I8: =+I10 -> -22000
A9: Բաժին N 08 | B9: Խումբ N 03 | C9: Դաս N 01 | D9: Հեռուստառադիոհաղորդումներ | I9: =+I10 -> -22000
A10: 1042 11005 | B10: Կրթական-մշակութային ուղղվածության հեռուստատեսային ծառայություններ | I10: =+I11 -> -22000
B11: ՄԱՍ III. ԾԱՌԱՅՈՒԹՅՈՒՆՆԵՐ | I11: =+I12 -> -22000
A12: 92221100-1 | B12: հեռուստատեսային արտադրանքի հետ կապված ծառայություններ | E12: ՄԱ | F12: դրամ | I12: =+'5'!M12 -> -22000
