Workbook

Sheet 1
H1: Հավելված N 1
H2: ՀՀ կառավարության 2025 թվականի
H3: ______________ ի ___Ն որոշման
B5: ՀԱՅԱՍՏԱՆԻ ՀԱՆՐԱՊԵՏՈՒԹՅԱՆ ԿԱՌԱՎԱՐՈՒԹՅԱՆ 2024 ԹՎԱԿԱՆԻ ԴԵԿՏԵՄԲԵՐԻ 27-Ի N 2060-Ն ՈՐՈՇՄԱՆ NN 3 ԵՎ 4 ՀԱՎԵԼՎԱԾՆԵՐՈՒՄ ԿԱՏԱՐՎՈՂ ՓՈՓՈԽՈՒԹՅՈՒՆՆԵՐԸ ԵՎ ԼՐԱՑՈՒՄՆԵՐԸ
H7: հազար դրամներով
B8: Գործառական դասիչը | E8: Ծրագրային դասիչը | G8: Բյուջետային հատկացումների գլխավոր կարգադրիչների, ծրագրերի, միջոցառումների և միջոցառումները կատարող պետական մարմինների անվանումները | H8: Ցուցանիշների փոփոխությունը (ավելացումները նշված են դրական նշանով, իսկ նվազեցումները` փակագծերում)
B9: Բաժին | C9: Խումբ | D9: Դաս | E9: Ծրագիր | F9: Միջոցառում | H9: Տարի
G10: ԸՆԴԱՄԵՆԸ | H10: =H12 -> 0
G11: այդ թվում`
G12: ՀՀ տարածքային կառավարման և ենթակառուցվածքների նախարարություն | H12: =H14 -> 0
G13: այդ թվում`
B14: 04 | G14: ՏՆՏԵՍԱԿԱՆ ՀԱՐԱԲԵՐՈՒԹՅՈՒՆՆԵՐ | H14: =H16 -> 0
G15: այդ թվում`
C16: 05 | G16: ՏՐԱՆՍՊՈՐՏ | H16: =H18 -> 0
G17: այդ թվում`
D18: 01 | G18: Ճանապարհային տրանսպորտ | H18: =H20 -> 0
G19: այդ թվում`
G20: ՀՀ տարածքային կառավարման և ենթակառուցվածքների նախարարություն | H20: =H22 -> 0
G21: այդ թվում`
E22: 1049 | G22: Ճանապարհային ցանցի բարելավում | H22: 0
G23: այդ թվում`
F24: 21001 | G24: Պետական նշանակության ավտոճանապարհների հիմնանորոգում | H24: =H26 -> 0
G25: այդ թվում` ըստ կատարողների
G26: ՀՀ տարածքային կառավարման և ենթակառուցվածքների նախարարություն | H26: =H28 -> 0
G27: այդ թվում`բյուջետային ծախսերի տնտեսագիտական դասակարգման հոդվածներ
G28: ԸՆԴԱՄԵՆԸ ԾԱԽՍԵՐ | H28: =H29 -> 0
G29: ՈՉ ՖԻՆԱՆՍԱԿԱՆ ԱԿՏԻՎՆԵՐԻ ԳԾՈՎ ԾԱԽՍԵՐ | H29: =H30 -> 0
G30: ՀԻՄՆԱԿԱՆ ՄԻՋՈՑՆԵՐ | H30: =H31 -> 0
G31: ՇԵՆՔԵՐ ԵՎ ՇԻՆՈՒԹՅՈՒՆՆԵՐ | H31: =H32 -> 0
G32: - Շենքերի և շինությունների կապիտալ վերանորոգում | H32: ='2'!G14 -> 0
F33: 21002 | G33: Տրանսպորտային օբյեկտների հիմնանորոգում | H33: =H35 -> 0
G34: այդ թվում` ըստ կատարողների
G35: ՀՀ տարածքային կառավարման և ենթակառուցվածքների նախարարություն | H35: =H37 -> 0
G36: այդ թվում`բյուջետային ծախսերի տնտեսագիտական դասակարգման հոդվածներ
G37: ԸՆԴԱՄԵՆԸ ԾԱԽՍԵՐ | H37: =H38 -> 0
G38: ՈՉ ՖԻՆԱՆՍԱԿԱՆ ԱԿՏԻՎՆԵՐԻ ԳԾՈՎ ԾԱԽՍԵՐ | H38: =H39 -> 0
G39: ՀԻՄՆԱԿԱՆ ՄԻՋՈՑՆԵՐ | H39: =H40+H42 -> 0
G40: ՇԵՆՔԵՐ ԵՎ ՇԻՆՈՒԹՅՈՒՆՆԵՐ | H40: =H41 -> -6600
G41: - Շենքերի և շինությունների կապիտալ վերանորոգում | H41: ='2'!G37 -> -6600
G42: ԱՅԼ ՀԻՄՆԱԿԱՆ ՄԻՋՈՑՆԵՐ | H42: =H43 -> 6600
G43: - Նախագծահետազոտական ծախսեր | H43: ='2'!H37 -> 6600
D47: ՀԱՅԱՍՏԱՆԻ ՀԱՆՐԱՊԵՏՈՒԹՅԱՆ ՎԱՐՉԱՊԵՏԻ ԱՇԽԱՏԱԿԱԶՄԻ ՂԵԿԱՎԱՐ՝ | G47: Ա.ՀԱՐՈՒԹՅՈՒՆՅԱՆ

Sheet 2
I1: Հավելված N 2
I2: ՀՀ կառավարության 2025 թվականի
I3: ______________ ի ___Ն որոշման
B5: «ՀԱՅԱՍՏԱՆԻ ՀԱՆՐԱՊԵՏՈՒԹՅԱՆ 2025 ԹՎԱԿԱՆԻ ՊԵՏԱԿԱՆ ԲՅՈՒՋԵԻ ՄԱՍԻՆ» ՕՐԵՆՔԻ N 1 ՀԱՎԵԼՎԱԾԻ N 3 ԱՂՅՈՒՍԱԿՈՒՄ ԿԱՏԱՐՎՈՂ ՓՈՓՈԽՈՒԹՅՈՒՆՆԵՐԸ ԵՎ ԼՐԱՑՈՒՄՆԵՐԸ
H6: հազար դրամներով
B7: Ծրագրային դասիչ | D7: Բյուջետային գլխավոր կարգադրիչների, ծրագրերի, միջոցառումների և ուղղությունների անվանումները | E7: Ցուցանիշների փոփոխությունը (ավելացումները նշված են դրական նշանով, իսկ նվազեցումները` փակագծերում)
E8: Ընդամենը, | F8: այդ թվում՝
B9: Ծրագիր | C9: Միջոցառում | F9: Կառուցման աշխատանքներ | G9: Վերակառուցման, վերանորոգման և վերականգնման աշխատանքներ | H9: Նախագծահե- տազոտական, գեոդեզիա- քարտեզագրական աշխատանքներ | I9: Ոչ ֆինանսական այլ ակտիվների ձեռքբերում
D10: ԸՆԴԱՄԵՆԸ | E10: 0 | F10: =+F12 -> 0 | G10: =+G12 -> -6600 | H10: =+H12 -> 6600 | I10: =+I12 -> 0
D11: այդ թվում՝
D12: ՀՀ ՏԱՐԱԾՔԱՅԻՆ ԿԱՌԱՎԱՐՄԱՆ ԵՎ ԵՆԹԱԿԱՌՈՒՑՎԱԾՔՆԵՐԻ ՆԱԽԱՐԱՐՈՒԹՅՈՒՆ | E12: 0 | F12: =F14+F37 -> 0 | G12: =G14+G37 -> -6600 | H12: =H14+H37 -> 6600 | I12: =I14+I37 -> 0
D13: այդ թվում`
B14: 1049 | C14: 21001 | D14: Պետական նշանակության ավտոճանապարհների հիմնանորոգում | E14: =+F14+G14+H14+I14 -> 0 | F14: =+F16+F25+F21 -> 0 | G14: =+G16+G25+G21 -> 0 | H14: =+H16+H25+H21 -> 0 | I14: =+I16+I25+I21 -> 0
D15: այդ թվում`
C16: 1 | D16: Միջպետական նշանակության ավտոճանապարհներ, այդ թվում | E16: =+F16+G16+H16+I16 -> -31970 | F16: =F17+F18+F19+F20 -> 0 | G16: =G17+G18+G19+G20 -> -31970 | H16: =H17+H18+H19+H20 -> 0 | I16: =I17+I18+I19+I20 -> 0
D17: Մ-1, Երևան-Գյումրի-ՀՀ սահման միջպետական նշանակության ավտոճանապարհի կմ130+100-կմ134+500 հատվածի հիմնանորոգում | E17: =+F17+G17+H17+I17 -> -14003.5 | F17: 0 | G17: -14003.5 | H17: 0 | I17: 0
D18: /Մ-2/-Տաթև-Աղվանի-/Մ-2/(Սյունիք) միջպետական նշանակության ավտոճանապարհի կմ0+000-կմ19+500 հատվածի հիմնանորոգում | E18: =+F18+G18+H18+I18 -> 923.5 | F18: 0 | G18: 923.5 | H18: 0 | I18: 0
D19: Մ-2,Երևան-Երասխ-Նորավան- Տաթև-Կապան-Մեղրի-ՀՀ սահման ավտոճանապարհի կմ336+550 - կմ338+350 հատվածի հիմնանորոգում | E19: =+F19+G19+H19+I19 -> -19684.2 | F19: 0 | G19: -19684.2 | H19: 0 | I19: 0
D20: Մ-10, Սևան-Մարտունի-Գետափ-/Մ-2/ միջպետական նշանակության ավտոճանապարհի (ներկայիս՝ Հ-79, /Մ-10/ - Գեղհովիտ – Քարագլուխ - /Մ-2/ հանրապետական նշանակության ավտոճանապարհի) կմ66+000-կմ79+060 հատվածի հիմնանորոգում | E20: =+F20+G20+H20+I20 -> 794.2 | F20: 0 | G20: 794.2 | H20: 0 | I20: 0
C21: 2 | D21: Հանրապետական նշանակության ավտոճանապարհներ, այդ թվում | E21: =F21+G21+H21+I21 -> -64569.7 | F21: =F22+F23+F24 -> 0 | G21: =G22+G23+G24 -> -64569.7 | H21: =H22+H23+H24 -> 0 | I21: =I22+I23+I24 -> 0
D22: Հ-31,/Մ-1/ - Վարդաղբյուր – Տաշիր - /Մ-3/ կմ0+000-կմ5+000 հատվածի հիմնանորոգում | E22: =F22+G22+H22+I22 -> -12050.5 | F22: 0 | G22: -12050.5 | H22: 0 | I22: 0
D23: Հ-36, /Մ-4/ (Իջևան) - Նավուր - Բերդ - Այգեպար հանրապետական նշանակության ավտոճանապարհի կմ 5+600-կմ 42+100 հատվածի հիմնանորոգում | E23: =F23+G23+H23+I23 -> -178087.2 | F23: 0 | G23: -178087.2 | H23: 0 | I23: 0
D24: Մ-2, Երևան-Երասխ-Նորավան- Տաթև-Կապան-Մեղրի-ՀՀ սահման միջպետական նշանակության ավտոճանապարհի (նախկին՝ Հ-46, /Մ-2/-Տաթև-Աղվանի-/Մ-2/(Սյունիք) հանրապետական նշանակության ավտոճանապարհի կմ37+500-կմ55+000) կմ260+200 - կմ277+700 հատվածի հիմնանորոգում | E24: =F24+G24+H24+I24 -> 125568 | F24: 0 | G24: 125568 | H24: 0 | I24: 0
C25: 3 | D25: Մարզային նշանակության ավտոճանապարհներ, այդ թվում | E25: =+F25+G25+H25+I25 -> 96539.7 | F25: =SUM(F26:F36) -> 0 | G25: =SUM(G26:G36) -> 96539.7 | H25: =SUM(H26:H36) -> 0 | I25: =SUM(I26:I36) -> 0
D26: Տ-1-33,Կոշ(Տ-1-8)-Վերին Սասունիկ-Լեռնարոտ տեղական նշանակության ավտոճանապարհի կմ0+000-կմ9+500 հատվածի հիմնանորոգում | E26: =+F26+G26+H26+I26 -> -458468.2 | F26: 0 | G26: -458468.2 | H26: 0 | I26: 0
D27: Տ-2-50, Հ-10/(Վանաշեն)-Այգավան-Եղեգնավան - /Հ-11/ մարզային նշնակության ավտոճանապարհի կմ0+000 - կմ2+500 հատվածի հիմնանորոգում | E27: =+F27+G27+H27+I27 -> -23874.3 | F27: 0 | G27: -23874.3 | H27: 0 | I27: 0
D28: Տ-3-8,/Մ-5/-Մայիսյան/Տ-3-47/ տեղական նշանակության ավտոճանապարհի կմ 0+000-կմ 0+800 հատվածի հիմնանորոգում | E28: =+F28+G28+H28+I28 -> 85912.8 | F28: 0 | G28: 85912.8 | H28: 0 | I28: 0
D29: Տ-3-19, Արևիկ(Տ-3-50)-/Հ-15/(Տանձուտ) ավտոճանապարհի կմ0+000 - կմ3+400 հատվածի հիմնանորոգում | E29: =+F29+G29+H29+I29 -> -11156.8 | F29: 0 | G29: -11156.8 | H29: 0 | I29: 0
D30: Վաղարշապատ քաղաքի Դանղյան փողոցի 300մ հատվածի և Տ-3-26,Վաղարշապատ-Արտիմետ-Խորոնք-Առատաշեն-Տարոնիկ-/Հ-76/ տեղական նշանակության ավտոճանապարհի կմ0+000-կմ1+605 հատվածի հիմնանորոգում | E30: =+F30+G30+H30+I30 -> 65858.3 | F30: 0 | G30: 65858.3 | H30: 0 | I30: 0
D31: ՀՀ Լոռու մարզի դեպի «Թեժ լեռ» հանգստյան տուն տանող ճանապարհի հիմնանորոգում | E31: =+F31+G31+H31+I31 -> 80981.3 | F31: 0 | G31: 80981.3 | H31: 0 | I31: 0
D32: Տ-6-18,/Տ-6-44/ - Երևանի սահման տեղական նշանակության ավտոճանապարհի կմ 0+000-կմ 1+100 հատվածի հիմնանորոգում | E32: =+F32+G32+H32+I32 -> 9837.1 | F32: 0 | G32: 9837.1 | H32: 0 | I32: 0
D33: Կոտայքի մարզի Հրազդան համայնքի Հրազդան քաղաքի դեպի Կաքավաձոր թաղամաս տանող ճանապարհի հիմնանորոգում | E33: =+F33+G33+H33+I33 -> -10433.2 | F33: 0 | G33: -10433.2 | H33: 0 | I33: 0
D34: Տ-10-9, /Հ-36/ - Չինչին (Տ-10-38) ավտոճանապարհի կմ0+000 - կմ10+000 հատվածի հիմնանորոգում | E34: =+F34+G34+H34+I34 -> 51345.8 | F34: 0 | G34: 51345.8 | H34: 0 | I34: 0
D35: Մ-2, Երևան-Երասխ-Նորավան- Տաթև-Կապան-Մեղրի-ՀՀ սահման միջպետական նշանակության ավտոճանապարհի (նախկին՝ Տ-8-93, Լծեն-Տաթև ավտոճանապարհի) կմ227+858 - կմ247+747 հատվածի վերակառուցում | E35: =+F35+G35+H35+I35 -> 383514 | F35: 0 | G35: 383514 | H35: 0 | I35: 0
D36: Տ-8-93, Լծեն-Տաթև ավտոճանապարհի վերակառուցում (Քարաթափման կանխարգելիչ միջոցառումներ) | E36: =+F36+G36+H36+I36 -> -76977.1 | F36: 0 | G36: -76977.1 | H36: 0 | I36: 0
B37: 1049 | C37: 21002 | D37: Տրանսպորտային օբյեկտների հիմնանորոգում | E37: =F37+G37+H37+I37 -> 0 | F37: =F41+F39+F40 -> 0 | G37: =G41+G39+G40 -> -6600 | H37: =H41+H39+H40 -> 6600 | I37: =I41+I39+I40 -> 0
D38: այդ թվում`
D39: Մ-6 ավտոճանապարհը Ախթալա բնակավայրի հետ կապող պողպատե ֆերմաներով L=39մ թռիչքային կառուցվածքով 2-րդ կամրջի կառուցում | E39: =F39+G39+H39+I39 -> -3974.5 | F39: 0 | G39: -3974.5 | H39: =I39 -> 0 | I39: 0
D40: Մ-6,Վանաձոր (Մ-3 հատման կետ) – Ալավերդի - ՀՀ սահման միջպետական նշանակության ավտոճանապարհի 53-րդ կմ-ում (քաղաք Ալավերդի, Էնգելս թաղամասում) վերգետնյա հետիոտնային անցումի կառուցում | E40: =F40+G40+H40+I40 -> -36307 | F40: 0 | G40: -36307 | H40: 0 | I40: 0
D41: Տ-2-13, Արգավանդ-Հայանիստ-Հովտաշատ-Արմավիրի մարզի սահման տեղական նշանակության ավտոճանապարհի կմ 8+600-ում գտնվող կամուրջի վերակառուցում | E41: =F41+G41+H41+I41 -> 40281.5 | F41: 0 | G41: 33681.5 | H41: 6600 | I41: 0
D43: ՀԱՅԱՍՏԱՆԻ ՀԱՆՐԱՊԵՏՈՒԹՅԱՆ ՎԱՐՉԱՊԵՏԻ ԱՇԽԱՏԱԿԱԶՄԻ ՂԵԿԱՎԱՐ՝ | G43: Ա.ՀԱՐՈՒԹՅՈՒՆՅԱՆ

Sheet 3
E1: Հավելված N 3
E2: ՀՀ կառավարության 2025 թվականի
E3: ______________ ի ___Ն որոշման
A5: ՀԱՅԱՍՏԱՆԻ ՀԱՆՐԱՊԵՏՈՒԹՅԱՆ ԿԱՌԱՎԱՐՈՒԹՅԱՆ 2024 ԹՎԱԿԱՆԻ ԴԵԿՏԵՄԲԵՐԻ 27-Ի N 2060-Ն ՈՐՈՇՄԱՆ N 5 ՀԱՎԵԼՎԱԾԻ N 2 ԱՂՅՈՒՍԱԿՈՒՄ ԿԱՏԱՐՎՈՂ ՓՈՓՈԽՈՒԹՅՈՒՆՆԵՐԸ ԵՎ ԼՐԱՑՈՒՄՆԵՐԸ
E7: հազար դրամներով
B8: Ծրագրային դասիչը | D8: Հատկացումների տրամադրման նպատակները և բյուջետային գլխավոր կարգադրիչների, ծրագրերի, միջոցառումների և կատարող պետական մարմնի անվանումները | E8: Ցուցանիշների փոփոխությունը (ավելացումները նշված են դրական նշանով, իսկ նվազեցումները` փակագծերում)
B9: Ծրագիր | C9: Միջոցառում | E9: Տարի
D10: ԸՆԴԱՄԵՆԸ | E10: =E12 -> 0
D11: այդ թվում՝
D12: ՀՀ ՏԱՐԱԾՔԱՅԻՆ ԿԱՌԱՎԱՐՄԱՆ ԵՎ ԵՆԹԱԿԱՌՈՒՑՎԱԾՔՆԵՐԻ ՆԱԽԱՐԱՐՈՒԹՅՈՒՆ | E12: =E14+E39 -> 0
D13: այդ թվում`
B14: 1049 | C14: 21001 | D14: Պետական նշանակության ավտոճանապարհների հիմնանորոգում | E14: =E16 -> 0
D15: այդ թվում` ըստ կատարողների
D16: ՀՀ տարածքային կառավարման և ենթակառուցվածքների նախարարություն | E16: =E18+E23+E27 -> 0
D17: այդ թվում՝ ըստ ուղղությունների
C18: 1 | D18: ='[1]1'!C16 -> Միջպետական նշանակության ավտոճանապարհներ, այդ թվում | E18: =E19+E20+E21+E22 -> -31970
D19: Մ-1, Երևան-Գյումրի-ՀՀ սահման միջպետական նշանակության ավտոճանապարհի կմ130+100-կմ134+500 հատվածի հիմնանորոգում | E19: ='2'!E17 -> -14003.5
D20: /Մ-2/-Տաթև-Աղվանի-/Մ-2/(Սյունիք) միջպետական նշանակության ավտոճանապարհի կմ0+000-կմ19+500 հատվածի հիմնանորոգում | E20: ='2'!E18 -> 923.5
D21: Մ-2,Երևան-Երասխ-Նորավան- Տաթև-Կապան-Մեղրի-ՀՀ սահման ավտոճանապարհի կմ336+550 - կմ338+350 հատվածի հիմնանորոգում | E21: ='2'!E19 -> -19684.2
D22: Մ-10, Սևան-Մարտունի-Գետափ-/Մ-2/ միջպետական նշանակության ավտոճանապարհի (ներկայիս՝ Հ-79, /Մ-10/ - Գեղհովիտ – Քարագլուխ - /Մ-2/ հանրապետական նշանակության ավտոճանապարհի) կմ66+000-կմ79+060 հատվածի հիմնանորոգում | E22: ='2'!E20 -> 794.2
C23: 2 | D23: ='[1]1'!C26 -> Հանրապետական նշանակության ավտոճանապարհներ, այդ թվում | E23: =E24+E25+E26 -> -64569.7
D24: Հ-31,/Մ-1/ - Վարդաղբյուր – Տաշիր - /Մ-3/ կմ0+000-կմ5+000 հատվածի հիմնանորոգում | E24: ='2'!E22 -> -12050.5
D25: Հ-36, /Մ-4/ (Իջևան) - Նավուր - Բերդ - Այգեպար հանրապետական նշանակության ավտոճանապարհի կմ 5+600-կմ 42+100 հատվածի հիմնանորոգում | E25: ='2'!E23 -> -178087.2
D26: Մ-2, Երևան-Երասխ-Նորավան- Տաթև-Կապան-Մեղրի-ՀՀ սահման միջպետական նշանակության ավտոճանապարհի (նախկին՝ Հ-46, /Մ-2/-Տաթև-Աղվանի-/Մ-2/(Սյունիք) հանրապետական նշանակության ավտոճանապարհի կմ37+500-կմ55+000) կմ260+200 - կմ277+700 հատվածի հիմնանորոգում | E26: ='2'!E24 -> 125568
C27: 3 | D27: Մարզային նշանակության ավտոճանապարհներ, այդ թվում | E27: =SUM(E28:E38) -> 96539.7
D28: Տ-1-33,Կոշ(Տ-1-8)-Վերին Սասունիկ-Լեռնարոտ տեղական նշանակության ավտոճանապարհի կմ0+000-կմ9+500 հատվածի հիմնանորոգում | E28: ='2'!E26 -> -458468.2
D29: Տ-2-50, Հ-10/(Վանաշեն)-Այգավան-Եղեգնավան - /Հ-11/ մարզային նշնակության ավտոճանապարհի կմ0+000 - կմ2+500 հատվածի հիմնանորոգում | E29: ='2'!E27 -> -23874.3
D30: Տ-3-8,/Մ-5/-Մայիսյան/Տ-3-47/ տեղական նշանակության ավտոճանապարհի կմ 0+000-կմ 0+800 հատվածի հիմնանորոգում | E30: ='2'!E28 -> 85912.8
D31: Տ-3-19, Արևիկ(Տ-3-50)-/Հ-15/(Տանձուտ) ավտոճանապարհի կմ0+000 - կմ3+400 հատվածի հիմնանորոգում | E31: ='2'!E29 -> -11156.8
D32: Վաղարշապատ քաղաքի Դանղյան փողոցի 300մ հատվածի և Տ-3-26,Վաղարշապատ-Արտիմետ-Խորոնք-Առատաշեն-Տարոնիկ-/Հ-76/ տեղական նշանակության ավտոճանապարհի կմ0+000-կմ1+605 հատվածի հիմնանորոգում | E32: ='2'!E30 -> 65858.3
D33: ՀՀ Լոռու մարզի դեպի «Թեժ լեռ» հանգստյան տուն տանող ճանապարհի հիմնանորոգում | E33: ='2'!E31 -> 80981.3
D34: Տ-6-18,/Տ-6-44/ - Երևանի սահման տեղական նշանակության ավտոճանապարհի կմ 0+000-կմ 1+100 հատվածի հիմնանորոգում | E34: ='2'!E32 -> 9837.1
D35: Կոտայքի մարզի Հրազդան համայնքի Հրազդան քաղաքի դեպի Կաքավաձոր թաղամաս տանող ճանապարհի հիմնանորոգում | E35: ='2'!E33 -> -10433.2
D36: Տ-10-9, /Հ-36/ - Չինչին (Տ-10-38) ավտոճանապարհի կմ0+000 - կմ10+000 հատվածի հիմնանորոգում | E36: ='2'!E34 -> 51345.8
D37: Մ-2, Երևան-Երասխ-Նորավան- Տաթև-Կապան-Մեղրի-ՀՀ սահման միջպետական նշանակության ավտոճանապարհի (նախկին՝ Տ-8-93, Լծեն-Տաթև ավտոճանապարհի) կմ227+858 - կմ247+747 հատվածի վերակառուցում | E37: ='2'!E35 -> 383514
D38: Տ-8-93, Լծեն-Տաթև ավտոճանապարհի վերակառուցում (Քարաթափման կանխարգելիչ միջոցառումներ) | E38: ='2'!E36 -> -76977.1
B39: 1049 | C39: 21002 | D39: Տրանսպորտային օբյեկտների հիմնանորոգում | E39: =E41 -> 0
D40: այդ թվում` ըստ կատարողների
D41: ՀՀ տարածքային կառավարման և ենթակառուցվածքների նախարարություն | E41: =E43+E45+E44 -> 0
D42: այդ թվում՝ ըստ ուղղությունների
D43: Մ-6 ավտոճանապարհը Ախթալա բնակավայրի հետ կապող պողպատե ֆերմաներով L=39մ թռիչքային կառուցվածքով 2-րդ կամրջի կառուցում | E43: ='2'!E39 -> -3974.5
D44: Մ-6,Վանաձոր (Մ-3 հատման կետ) – Ալավերդի - ՀՀ սահման միջպետական նշանակության ավտոճանապարհի 53-րդ կմ-ում (քաղաք Ալավերդի, Էնգելս թաղամասում) վերգետնյա հետիոտնային անցումի կառուցում | E44: ='2'!E40 -> -36307
D45: Տ-2-13, Արգավանդ-Հայանիստ-Հովտաշատ-Արմավիրի մարզի սահման տեղական նշանակության ավտոճանապարհի կմ 8+600-ում գտնվող կամուրջի վերակառուցում | E45: 40281.5
D49: ՀԱՅԱՍՏԱՆԻ ՀԱՆՐԱՊԵՏՈՒԹՅԱՆ ՎԱՐՉԱՊԵՏԻ ԱՇԽԱՏԱԿԱԶՄԻ ՂԵԿԱՎԱՐ՝ | E49: Ա.ՀԱՐՈՒԹՅՈՒՆՅԱՆ

Sheet 4.
K1: Հավելված N 4
K2: ՀՀ կառավարության 2025 թվականի
K3: ______________ ի ___Ն որոշման
B5: ՀԱՅԱՍՏԱՆԻ ՀԱՆՐԱՊԵՏՈՒԹՅԱՆ ԿԱՌԱՎԱՐՈՒԹՅԱՆ 2024 ԹՎԱԿԱՆԻ ԴԵԿՏԵՄԲԵՐԻ 27-Ի № 2060-Ն ՈՐՈՇՄԱՆ № 9 ՀԱՎԵԼՎԱԾԻ ԱՂՅՈՒՍԱԿՆԵՐՈՒՄ ԿԱՏԱՐՎՈՂ ՓՈՓՈԽՈՒԹՅՈՒՆՆԵՐԸ ԵՎ ԼՐԱՑՈՒՄՆԵՐԸ
K7: հազար դրամներով
B8: ԲԳԿ | C8: Ծրագիր | E8: Միջոցառում | I8: Իրականացնողը/ ակտիվն օգտագործողը/ շահառուի ընտրության չափորոշիչը | J8: Արդյունքային չափորոշիչը | K8: Ցուցանիշների փոփոխությունը (ավելացումները նշված են դրական նշանով
C9: Դասիչը | D9: Անվանումը | E9: Դասիչը | F9: Անվանումը | G9: Նկարագրությունը | H9: Տեսակը | K9: Տարի
B10: ԸՆԴԱՄԵՆԸ | K10: =K11 -> 0
B11: ՀՀ տարածքային կառավարման և ենթակառուցվածքների նախարարություն | K11: =K12 -> 0
C12: 1049 | D12: Ճանապարհային ցանցի բարելավում | K12: =K13+K19 -> 0
E13: 1049 - 21001 | F13: Պետական նշանակության ավտոճանապարհների հիմնանորոգում | K13: ='3'!E14 -> 0
G14: Միջպետական, հանրապետական և մարզային նշանակության ավտոճոնապարհների քայքայված ծածկի վերանորոգում, մաշված ծածկի փոխարինում
H15: Հանրության կողմից անմիջականորեն օգտագործվող ակտիվների հետ կապված միջոցառումներ
I16: Միջոցառումն իրականացնողի անվանումը` Մասնագիտացված միավոր
J17: Պետական նշանակության ավտոճանապարհներ, կիլոմետր | K17: =K18 -> 1.1
J18: Մարզային նշանակության ավտոճանապարհներ, կիլոմետր | K18: 1.1
E19: 1049 - 21002 | F19: Տրանսպորտային օբյեկտների հիմնանորոգում | K19: ='3'!E39 -> 0
G20: Ավտոմոբիլային ճանապարհների վրա գտնվող կամուրջների հիմնանորոգում
H21: Հանրության կողմից անմիջականորեն օգտագործվող ակտիվների հետ կապված միջոցառումներ
I22: Միջոցառումն իրականացնողի անվանումը` Մասնագիտացված միավոր
J23: Հիմնանորոգվող տրանսպորտային օբյեկտների թիվը, այդ թվում | K23: 1
D26: ՀԱՅԱՍՏԱՆԻ ՀԱՆՐԱՊԵՏՈՒԹՅԱՆ
D27: ՎԱՐՉԱՊԵՏԻ ԱՇԽԱՏԱԿԱԶՄԻ
E28: ՂԵԿԱՎԱՐ ՝ Ա. ՀԱՐՈՒԹՅՈՒՆՅԱՆ

Sheet 5.
K1: Հավելված N 5
K2: ՀՀ կառավարության 2025 թվականի
K3: ______________ ի ___Ն որոշման
B5: ՀԱՅԱՍՏԱՆԻ ՀԱՆՐԱՊԵՏՈՒԹՅԱՆ ԿԱՌԱՎԱՐՈՒԹՅԱՆ 2024 ԹՎԱԿԱՆԻ ԴԵԿՏԵՄԲԵՐԻ 27-Ի № 2060-Ն ՈՐՈՇՄԱՆ № 9.1 ՀԱՎԵԼՎԱԾԻ ԱՂՅՈՒՍԱԿՆԵՐՈՒՄ ԿԱՏԱՐՎՈՂ ՓՈՓՈԽՈՒԹՅՈՒՆՆԵՐԸ ԵՎ ԼՐԱՑՈՒՄՆԵՐԸ
K6: հազար դրամներով
B7: ԲՍԿ | C7: Ծրագիր | E7: Միջոցառում | I7: Իրականացնողը/ ակտիվն օգտագործողը/ շահառուի ընտրության չափորոշիչը | J7: Արդյունքային չափորոշիչը | K7: Ցուցանիշների փոփոխությունը (ավելացումները նշված են դրական նշանով, իսկ նվազեցումները` փակագծերում)
C8: Դասիչը | D8: Անվանումը | E8: Դասիչը | F8: Անվանումը | G8: Նկարագրությունը | H8: Տեսակը | K8: Տարի
B9: ԸՆԴԱՄԵՆԸ | K9: =K10 -> 0
B10: ՀՀ տարածքային կառավարման և ենթակառուցվածքների նախարարություն | K10: =K11 -> 0
C11: 1049 | D11: Ճանապարհային ցանցի բարելավում | K11: =K12+K18 -> 0
E12: 1049 - 21001 | F12: Պետական նշանակության ավտոճանապարհների հիմնանորոգում | K12: ='3'!E14 -> 0
G13: Միջպետական, հանրապետական և մարզային նշանակության ավտոճոնապարհների քայքայված ծածկի վերանորոգում, մաշված ծածկի փոխարինում
H14: Հանրության կողմից անմիջականորեն օգտագործվող ակտիվների հետ կապված միջոցառումներ
I15: Միջոցառումն իրականացնողի անվանումը` Մասնագիտացված միավոր
J16: Պետական նշանակության ավտոճանապարհներ, կիլոմետր | K16: =K17 -> 1.1
J17: Մարզային նշանակության ավտոճանապարհներ, կիլոմետր | K17: 1.1
E18: 1049 - 21002 | F18: Տրանսպորտային օբյեկտների հիմնանորոգում | K18: ='2'!E37 -> 0
G19: Ավտոմոբիլային ճանապարհների վրա գտնվող կամուրջների հիմնանորոգում
H20: Հանրության կողմից անմիջականորեն օգտագործվող ակտիվների հետ կապված միջոցառումներ
I21: Միջոցառումն իրականացնողի անվանումը` Մասնագիտացված միավոր
J22: Հիմնանորոգվող տրանսպորտային օբյեկտների թիվը, այդ թվում | K22: 1
D26: ՀԱՅԱՍՏԱՆԻ ՀԱՆՐԱՊԵՏՈՒԹՅԱՆ
D27: ՎԱՐՉԱՊԵՏԻ ԱՇԽԱՏԱԿԱԶՄԻ
E28: ՂԵԿԱՎԱՐ ՝ Ա. ՀԱՐՈՒԹՅՈՒՆՅԱՆ

Sheet 6
I1: Հավելված N6
I2: ՀՀ կառավարության 2025 թվականի
I3: ______________ ի ___Ն որոշման
C5: ՀԱՅԱՍՏԱՆԻ ՀԱՆՐԱՊԵՏՈՒԹՅԱՆ ԿԱՌԱՎԱՐՈՒԹՅԱՆ 2024 ԹՎԱԿԱՆԻ ԴԵԿՏԵՄԲԵՐԻ 27-Ի N 2060-Ն ՈՐՈՇՄԱՆ N 10 ՀԱՎԵԼՎԱԾՈՒՄ ԿԱՏԱՐՎՈՂ ՓՈՓՈԽՈՒԹՅՈՒՆՆԵՐԸ ԵՎ ԼՐԱՑՈՒՄՆԵՐԸ
C7: Կոդը | D7: Անվանումը | E7: Գնման ձևը | F7: Չափման միավորը | G7: Միավորի գինը | H7: Ցուցանիշների փոփոխությունը (ավելացումները նշված են դրական նշանով, իսկ նվազեցումները` փակագծերում)
H8: Քանակը | I8: Գումարը (հազար դրամով)
C9: ՀՀ տարածքային կառավարման և ենթակառուցվածքների նախարարություն | I9: =+I10 -> -501216.56
C10: Բաժին N 04 | D10: Խումբ N 05 | E10: Դաս N 01 | F10: Ճանապարհային տրանսպորտ | I10: =+I11+I40 -> -501216.56
C11: 1049 21001 | D11: Պետական նշանակության ավտոճանապարհների հիմնանորոգում | I11: =I12+I27 -> -501216.56
D12: ՄԱՍ II. ԱՇԽԱՏԱՆՔՆԵՐ | I12: =SUM(I13:I26) -> -508576.97
C13: 45231177/522 | D13: ճանապարհների վերանորոգման աշխատանքներ | E13: ԲՄ | F13: դրամ | I13: -14003.5
C14: 45231177/527 | D14: ճանապարհների վերանորոգման աշխատանքներ | E14: ԲՄ | F14: դրամ | I14: -19684.2
C15: 45231177/528 | D15: ճանապարհների վերանորոգման աշխատանքներ | E15: ԲՄ | F15: դրամ | I15: -12050.5
C16: 45231177/58 | D16: ճանապարհների վերանորոգման աշխատանքներ | E16: ՀԲՄ | F16: դրամ | I16: ='3'!E25 -> -178087.2
C17: 45231177/10 | D17: ճանապարհների վերանորոգման աշխատանքներ | E17: ԲՄ | F17: դրամ | I17: -452872.1
C18: 45231177/530 | D18: ճանապարհների վերանորոգման աշխատանքներ | E18: ԲՄ | F18: դրամ | I18: -23874.3
C19: 45231177/596 | D19: ճանապարհների վերանորոգման աշխատանքներ | E19: ՀԲՄ | F19: դրամ | G19: 84777642 | H19: 1 | I19: =+H19*G19/1000 -> 84777.642
C20: 45231177/12 | D20: ճանապարհների վերանորոգման աշխատանքներ | E20: ԲՄ | F20: դրամ | I20: -11156.8
C21: 45231177/594 | D21: ճանապարհների վերանորոգման աշխատանքներ | E21: ՀԲՄ | F21: դրամ | G21: 65251386 | H21: 1 | I21: =+H21*G21/1000 -> 65251.386
C22: 45231177/595 | D22: ճանապարհների վերանորոգման աշխատանքներ | E22: ՀԲՄ | F22: դրամ | G22: 79350000 | H22: 1 | I22: =+H22*G22/1000 -> 79350
C23: 45231177/561 | D23: ճանապարհների վերանորոգման աշխատանքներ | E23: ՀԲՄ | F23: դրամ | G23: 9837100 | H23: 1 | I23: =+H23*G23/1000 -> 9837.1
C24: 45231177/56 | D24: ճանապարհների վերանորոգման աշխատանքներ | E24: ԲՄ | F24: դրամ | I24: -10433.2
C25: 45231177/92 | D25: ճանապարհների վերանորոգման աշխատանքներ | E25: ՀԲՄ | F25: դրամ | G25: 51345800 | H25: 1 | I25: =+H25*G25/1000 -> 51345.8
C26: 45231177/64 | D26: ճանապարհների վերանորոգման աշխատանքներ | E26: ՀՄԱ | F26: դրամ | I26: -76977.1
C27: ՄԱՍ III. ԾԱՌԱՅՈՒԹՅՈՒՆՆԵՐ | I27: =SUM(I28:I39) -> 7360.41
C28: 71351540/84 | D28: տեխնիկական հսկողության ծառայություններ | E28: ԲՄ | F28: դրամ | G28: 923500 | H28: 1 | I28: =+H28*G28/1000 -> 923.5
C29: 71351540/ | D29: տեխնիկական հսկողության ծառայություններ | E29: ԳՀ | F29: դրամ | G29: 794200 | H29: 1 | I29: =+H29*G29/1000 -> 794.2
C30: 71351540/10 | D30: տեխնիկական հսկողության ծառայություններ | E30: ԲՄ | F30: դրամ | I30: -1988.2
C31: 71351540/599 | D31: տեխնիկական հսկողության ծառայություններ | E31: ՀԲՄ | F31: դրամ | G31: 470000 | H31: 1 | I31: =+H31*G31/1000 -> 470
C32: 71351540/597 | D32: տեխնիկական հսկողության ծառայություններ | E32: ՀԲՄ | F32: դրամ | G32: 208693 | H32: 1 | I32: =+H32*G32/1000 -> 208.693
C33: 71351540/598 | D33: տեխնիկական հսկողության ծառայություններ | E33: ՀԲՄ | F33: դրամ | G33: 960000 | H33: 1 | I33: =+H33*G33/1000 -> 960
C34: 98111140/ | D34: հեղինակային հսկողության ծառայություններ | E34: ՄԱ | F34: դրամ | G34: 6522600 | H34: 1 | I34: =+H34*G34/1000 -> 6522.6
C35: 98111140/10 | D35: հեղինակային հսկողության ծառայություններ | E35: ՄԱ | F35: դրամ | I35: -3604.9
C36: 98111140/ | D36: հեղինակային հսկողության ծառայություններ | E36: ՄԱ | F36: դրամ | G36: 665154 | H36: 1 | I36: =+H36*G36/1000 -> 665.154
C37: 98111140/ | D37: հեղինակային հսկողության ծառայություններ | E37: ՄԱ | F37: դրամ | G37: 398139 | H37: 1 | I37: =+H37*G37/1000 -> 398.139
C38: 98111140/ | D38: հեղինակային հսկողության ծառայություններ | E38: ՄԱ | F38: դրամ | G38: 671224 | H38: 1 | I38: =+H38*G38/1000 -> 671.224
C39: 98111140/ | D39: հեղինակային հսկողության ծառայություններ | E39: ՄԱ | F39: դրամ | G39: 1340000 | H39: 1 | I39: =+H39*G39/1000 -> 1340
C40: 1049 21002 | D40: Տրանսպորտային օբյեկտների հիմնանորոգում | I40: =I41+I45 -> 0
C41: ՄԱՍ II ԱՇԽԱՏԱՆՔՆԵՐ | I41: =+I42+I44+I43 -> -7433.608
C42: 45221117/ | D42: կամուրջների վերանորոգման շինարարական աշխատանքներեր | E42: ՀՄԱ | F42: դրամ | G42: 32847811 | H42: 1 | I42: =+H42*G42/1000 -> 32847.811
C43: 45221100/4 | D43: կամուրջների վերանորոգման շինարարական աշխատանքներեր | E43: ԲՄ | F43: դրամ | I43: -36306.919
C44: 45221100/2 | D44: կամուրջների վերանորոգման շինարարական աշխատանքներեր | E44: ՀՄԱ | F44: դրամ | I44: ='2'!E39 -> -3974.5
C45: ՄԱՍ III. ԾԱՌԱՅՈՒԹՅՈՒՆՆԵՐ | I45: =SUM(I46:I49) -> 7433.608
C46: 71351540/ | D46: տեխնիկական հսկողության ծառայություններ | E46: ՀՄԱ | F46: դրամ | G46: 641237 | H46: 1 | I46: =+H46*G46/1000 -> 641.237
C47: 98111140/ | D47: հեղինակային հսկողության ծառայություններ | E47: ՄԱ | F47: դրամ | G47: 192371 | H47: 1 | I47: =+H47*G47/1000 -> 192.371
C48: 71241200/ | D48: նախագծերի պատրաստում, ծախսերի գնահատում | E48: ՀՄԱ | F48: դրամ | G48: 6000000 | H48: 1 | I48: =+H48*G48/1000 -> 6000
C49: 50531140/ | D49: փորձաքննության ծառայություններ | E49: ՀՄԱ | F49: դրամ | G49: 600000 | H49: 1 | I49: =+H49*G49/1000 -> 600
C51: ՀԱՅԱՍՏԱՆԻ ՀԱՆՐԱՊԵՏՈՒԹՅԱՆ
C52: ՎԱՐՉԱՊԵՏԻ ԱՇԽԱՏԱԿԱԶՄԻ
D53: ՂԵԿԱՎԱՐ ՝ Ա. ՀԱՐՈՒԹՅՈՒՆՅԱՆ
