Workbook

Sheet 1
F1: Հավելված N 1
F2: ՀՀ կառավարության 2025 թվականի
F3: __________ ի ___Ն որոշման
A4: «ՀԱՅԱՍՏԱՆԻ ՀԱՆՐԱՊԵՏՈՒԹՅԱՆ 2025 ԹՎԱԿԱՆԻ ՊԵՏԱԿԱՆ ԲՅՈՒՋԵԻ ՄԱՍԻՆ» ՕՐԵՆՔԻ N 1 ՀԱՎԵԼՎԱԾԻ N 2 ԱՂՅՈՒՍԱԿՈՒՄ ԿԱՏԱՐՎՈՂ ՎԵՐԱԲԱՇԽՈՒՄԸ ԵՎ ՀԱՅԱՍՏԱՆԻ ՀԱՆՐԱՊԵՏՈՒԹՅԱՆ ԿԱՌԱՎԱՐՈՒԹՅԱՆ 2024 ԹՎԱԿԱՆԻ ԴԵԿՏԵՄԲԵՐԻ 27-Ի N 2060-Ն ՈՐՈՇՄԱՆ N 5 ՀԱՎԵԼՎԱԾԻ N 1 ԱՂՅՈՒՍԱԿՈՒՄ ԿԱՏԱՐՎՈՂ ՓՈՓՈԽՈՒԹՅՈՒՆՆԵՐԸ
F5: հազար դրամներով
A6: ԲԳԿ | B6: Ծրագրային դասիչը | D6: ԲԳԿ/Ծրագրի /միջոցառման անվանումը | E6: Ծրագրի նպատակը/Միջոցառման նկարագրությունը | F6: Վերջնական արդյունքի նկարագրությունը/Միջոցառման տեսակը | G6: Ցուցանիշների փոփոխություն (ավելացումները նշված են դրական նշանով, իսկ նվազեցումները՝ փակագծերում)
B7: Ծրագիր | C7: Միջոցառում | G7: Տարի
A8: ԸՆԴԱՄԵՆԸ | G8: =G9 -> -2.6375346e-11
A9: ՀՀ կրթության , գիտության, մշակույթի և սպորտի նախարարություն | G9: =G10+G13 -> -2.6375346e-11
B10: 1146 | D10: Հանրակրթության ծրագիր | E10: Ապահովել անվճար և որակյալ հանրակրթություն | F10: Մտավոր, հոգևոր, ֆիզիկական և սոցիալական ունակությունների համակողմանի ու ներդաշնակ զարգացմամբ, հայրենասիրության, պետականության և մարդասիրության ոգով դաստիրակված, պատշաճ վարքով և վարվելակերպով անձի ձևավորում | G10: =G11+G12 -> -6704.2
C11: 1146 - 12015 | D11: ՀՀ պետական հանրակրթական բոլոր ուսումնական հաստատություններում ԲՏՃՄ ոլորտի (բացառությամբ մաթեմատիկայի) դասավանդող ուսուցիչների համար վարձատրության բարձրացված հստակ չափաքանակի սահմանում | E11: ՀՀ պետական հանրակրթական բոլոր ուսումնական հաստատություններում ԲՏՃՄ ոլորտի (բացառությամբ մաթեմատիկայի) դասավանդող ուսուցիչներին հավելավճարի տրամադրում | F11: Տրանսֆերտների տրամադրում | G11: ='4'!J11 -> 85870.7
C12: 1146 - 12016 | D12: ՀՀ գյուղական բնակավայրերում մինչև 100 աշակերտ ունեցող պետական ուսումնական հաստատություններում դասավանդող ուսուցիչներին հավելավճարի սահմանում | E12: ՀՀ գյուղական բնակավայրերում մինչև 100 աշակերտ ունեցող պետական ուսումնական հաստատություններում դասավանդող ուսուցիչներին հավելավճարի տրամադրում | F12: Տրանսֆերտների տրամադրում | G12: ='4'!J16 -> -92574.9
B13: 1148 | D13: Արտադպրոցական դաստիարակության ծրագիր | E13: Նպաստել հանրակրթական ուսուցման համակարգում ընդգրկված երեխաների ֆիզիկական, հոգևոր և գեղագիտական զարգացմանը, բնապահպանական և կիրառական գիտելիքների ձեռքբերմանը | F13: Ստեղծել պայմաններ սովորողների ազատ ժամանացի կազմակերպան միջոցով նրանց հետաքրքրությունների բացահայտման, ձևավորման և զարգացման համար | G13: =G14+G15 -> 6704.2
C14: 1148 - 11001 | D14: Արտադպրոցական դաստիարակություն | E14: Արվեստի, երաժշտության, սպորտի դասընթացներ մարզադպրոցներում , ստեղծագործական և արտադպրոցական դաստիարակության այլ կենտրոններում | F14: Ծառայությունների մատուցում | G14: ='4'!J22 -> 5916
C15: 1148 - 12002 | D15: Կամավոր ատեստավորման նոր համակարգի ներդրում՛ ուղղված արտադպրոցական ուսումնական հաստատությունների մանկավարժական աշխատողների որակի բարձրացմանը | E15: Արտադպրոցական հաստատություններում դասավանդող մանկավարժական աշխատողների կամավոր ատեստավորման համակարգի մշակում և ներդրում | F15: Տրանսֆերտների տրամադրում | G15: ='4'!J26 -> 788.2

Sheet 2
F1: Հավելված N 2
F2: ՀՀ կառավարության 2025 թվականի
F3: ______________ ի ___Ն որոշման
A4: ՀԱՅԱՍՏԱՆԻ ՀԱՆՐԱՊԵՏՈՒԹՅԱՆ ԿԱՌԱՎԱՐՈՒԹՅԱՆ 2024 ԹՎԱԿԱՆԻ ԴԵԿՏԵՄԲԵՐԻ 27-Ի N 2060-Ն ՈՐՈՇՄԱՆ N 3 ԵՎ N 4 ՀԱՎԵԼՎԱԾՆԵՐՈՒՄ ԿԱՏԱՐՎՈՂ ՓՈՓՈԽՈՒԹՅՈՒՆՆԵՐԸ
F5: հազար դրամներով
A6: Գործառական դասիչը | D6: Ծրագրային դասիչը | F6: Բյուջետային ծախսերի գործառական դասակարգման բաժինների, խմբերի և դասերի, բյուջետային ծրագրերի միջոցառումների, բյուջետային հատկացումների գլխավոր կարգադրիչների անվանումները | G6: Ցուցանիշների փոփոխություն (ավելացումները նշված են դրական նշանով, իսկ նվազեցումները՝ փակագծերում)
A7: Բաժին | B7: Խումբ | C7: Դաս | D7: Ծրագիր | E7: Միջոցառում | G7: Տարի
F8: ԸՆԴԱՄԵՆԸ | G8: =G10 -> -1.1823431e-11
F9: այդ թվում`
F10: ՀՀ կրթության , գիտության, մշակույթի և սպորտի նախարարություն | G10: =G12 -> -1.1823431e-11
F11: այդ թվում`
A12: 09 | F12: ԿՐԹՈՒԹՅՈՒՆ | G12: =G14+G185 -> -1.1823431e-11
F13: այդ թվում`
B14: 02 | F14: Միջնակարգ ընդհանուր կրթություն | G14: =G16 -> -6704.2
F15: այդ թվում`
C16: 01 | F16: Հիմնական ընդհանուր կրթություն | G16: =G18 -> -6704.2
F17: այդ թվում`
D18: 1146 | F18: Հանրակրթության ծրագիր | G18: =G20+G113 -> -6704.2
F19: այդ թվում`
E20: 12015 | F20: ՀՀ պետական հանրակրթական բոլոր ուսումնական հաստատություններում ԲՏՃՄ ոլորտի (բացառությամբ մաթեմատիկայի) դասավանդող ուսուցիչների համար վարձատրության բարձրացված հստակ չափաքանակի սահմանում | G20: =G22+G29+G36+G43+G50+G57+G64+G71+G78+G85+G92+G99+G106 -> 85870.7
F21: այդ թվում` ըստ կատարողների
F22: ՀՀ տարածքային կառավարման և ենթակառուցվածքների նախարարություն | G22: =G24 -> -34956.6
F23: այդ թվում` բյուջետային ծախսերի տնտեսագիտական դասակարգման հոդվածներ
F24: ԸՆԴԱՄԵՆԸ ԾԱԽՍԵՐ | G24: =G25 -> -34956.6
F25: ԸՆԹԱՑԻԿ ԾԱԽՍԵՐ | G25: =G26 -> -34956.6
F26: ՍՈՑԻԱԼԱԿԱՆ ՆՊԱՍՏՆԵՐ ԵՎ ԿԵՆՍԱԹՈՇԱԿՆԵՐ | G26: =G27 -> -34956.6
F27: Սոցիալական օգնության դրամական արտահայտությամբ նպաստներ (բյուջեից) | G27: =G28 -> -34956.6
F28: - Այլ նպաստներ բյուջեից | G28: ='5'!J11 -> -34956.6
F29: ՀՀ կրթության , գիտության, մշակույթի և սպորտի նախարարություն | G29: =G31 -> 5484.3
F30: այդ թվում` բյուջետային ծախսերի տնտեսագիտական դասակարգման հոդվածներ
F31: ԸՆԴԱՄԵՆԸ ԾԱԽՍԵՐ | G31: =G32 -> 5484.3
F32: ԸՆԹԱՑԻԿ ԾԱԽՍԵՐ | G32: =G33 -> 5484.3
F33: ՍՈՑԻԱԼԱԿԱՆ ՆՊԱՍՏՆԵՐ ԵՎ ԿԵՆՍԱԹՈՇԱԿՆԵՐ | G33: =G34 -> 5484.3
F34: Սոցիալական օգնության դրամական արտահայտությամբ նպաստներ (բյուջեից) | G34: =G35 -> 5484.3
F35: - Այլ նպաստներ բյուջեից | G35: ='5'!J17 -> 5484.3
F36: ՀՀ պաշտպանության նախարարություն | G36: =G38 -> 1870.7
F37: այդ թվում` բյուջետային ծախսերի տնտեսագիտական դասակարգման հոդվածներ
F38: ԸՆԴԱՄԵՆԸ ԾԱԽՍԵՐ | G38: =G39 -> 1870.7
F39: ԸՆԹԱՑԻԿ ԾԱԽՍԵՐ | G39: =G40 -> 1870.7
F40: ՍՈՑԻԱԼԱԿԱՆ ՆՊԱՍՏՆԵՐ ԵՎ ԿԵՆՍԱԹՈՇԱԿՆԵՐ | G40: =G41 -> 1870.7
F41: Սոցիալական օգնության դրամական արտահայտությամբ նպաստներ (բյուջեից) | G41: =G42 -> 1870.7
F42: - Այլ նպաստներ բյուջեից | G42: ='5'!J29 -> 1870.7
F43: ՀՀ Արագածոտնի մարզպետի աշխատակազմ | G43: =G45 -> 16866.9
F44: այդ թվում` բյուջետային ծախսերի տնտեսագիտական դասակարգման հոդվածներ
F45: ԸՆԴԱՄԵՆԸ ԾԱԽՍԵՐ | G45: =G46 -> 16866.9
F46: ԸՆԹԱՑԻԿ ԾԱԽՍԵՐ | G46: =G47 -> 16866.9
F47: ՍՈՑԻԱԼԱԿԱՆ ՆՊԱՍՏՆԵՐ ԵՎ ԿԵՆՍԱԹՈՇԱԿՆԵՐ | G47: =G48 -> 16866.9
F48: Սոցիալական օգնության դրամական արտահայտությամբ նպաստներ (բյուջեից) | G48: =G49 -> 16866.9
F49: - Այլ նպաստներ բյուջեից | G49: ='5'!J36 -> 16866.9
F50: ՀՀ Արարատի մարզպետի աշխատակազմ | G50: =G52 -> 34665.8
F51: այդ թվում` բյուջետային ծախսերի տնտեսագիտական դասակարգման հոդվածներ
F52: ԸՆԴԱՄԵՆԸ ԾԱԽՍԵՐ | G52: =G53 -> 34665.8
F53: ԸՆԹԱՑԻԿ ԾԱԽՍԵՐ | G53: =G54 -> 34665.8
F54: ՍՈՑԻԱԼԱԿԱՆ ՆՊԱՍՏՆԵՐ ԵՎ ԿԵՆՍԱԹՈՇԱԿՆԵՐ | G54: =G55 -> 34665.8
F55: Սոցիալական օգնության դրամական արտահայտությամբ նպաստներ (բյուջեից) | G55: =G56 -> 34665.8
F56: - Այլ նպաստներ բյուջեից | G56: ='5'!J48 -> 34665.8
F57: ՀՀ Արմավիրի մարզպետի աշխատակազմ | G57: =G59 -> 17585.2
F58: այդ թվում` բյուջետային ծախսերի տնտեսագիտական դասակարգման հոդվածներ
F59: ԸՆԴԱՄԵՆԸ ԾԱԽՍԵՐ | G59: =G60 -> 17585.2
F60: ԸՆԹԱՑԻԿ ԾԱԽՍԵՐ | G60: =G61 -> 17585.2
F61: ՍՈՑԻԱԼԱԿԱՆ ՆՊԱՍՏՆԵՐ ԵՎ ԿԵՆՍԱԹՈՇԱԿՆԵՐ | G61: =G62 -> 17585.2
F62: Սոցիալական օգնության դրամական արտահայտությամբ նպաստներ (բյուջեից) | G62: =G63 -> 17585.2
F63: - Այլ նպաստներ բյուջեից | G63: ='5'!J60 -> 17585.2
F64: ՀՀ Գեղարքունիքի մարզպետի աշխատակազմ | G64: =G66 -> 24522.6
F65: այդ թվում` բյուջետային ծախսերի տնտեսագիտական դասակարգման հոդվածներ
F66: ԸՆԴԱՄԵՆԸ ԾԱԽՍԵՐ | G66: =G67 -> 24522.6
F67: ԸՆԹԱՑԻԿ ԾԱԽՍԵՐ | G67: =G68 -> 24522.6
F68: ՍՈՑԻԱԼԱԿԱՆ ՆՊԱՍՏՆԵՐ ԵՎ ԿԵՆՍԱԹՈՇԱԿՆԵՐ | G68: =G69 -> 24522.6
F69: Սոցիալական օգնության դրամական արտահայտությամբ նպաստներ (բյուջեից) | G69: =G70 -> 24522.6
F70: - Այլ նպաստներ բյուջեից | G70: ='5'!J72 -> 24522.6
F71: ՀՀ Լոռու մարզպետի աշխատակազմ | G71: =G73 -> 16272.2
F72: այդ թվում` բյուջետային ծախսերի տնտեսագիտական դասակարգման հոդվածներ
F73: ԸՆԴԱՄԵՆԸ ԾԱԽՍԵՐ | G73: =G74 -> 16272.2
F74: ԸՆԹԱՑԻԿ ԾԱԽՍԵՐ | G74: =G75 -> 16272.2
F75: ՍՈՑԻԱԼԱԿԱՆ ՆՊԱՍՏՆԵՐ ԵՎ ԿԵՆՍԱԹՈՇԱԿՆԵՐ | G75: =G76 -> 16272.2
F76: Սոցիալական օգնության դրամական արտահայտությամբ նպաստներ (բյուջեից) | G76: =G77 -> 16272.2
F77: - Այլ նպաստներ բյուջեից | G77: ='5'!J84 -> 16272.2
F78: ՀՀ Կոտայքի մարզպետի աշխատակազմ | G78: =G80 -> 9761.1
F79: այդ թվում` բյուջետային ծախսերի տնտեսագիտական դասակարգման հոդվածներ
F80: ԸՆԴԱՄԵՆԸ ԾԱԽՍԵՐ | G80: =G81 -> 9761.1
F81: ԸՆԹԱՑԻԿ ԾԱԽՍԵՐ | G81: =G82 -> 9761.1
F82: ՍՈՑԻԱԼԱԿԱՆ ՆՊԱՍՏՆԵՐ ԵՎ ԿԵՆՍԱԹՈՇԱԿՆԵՐ | G82: =G83 -> 9761.1
F83: Սոցիալական օգնության դրամական արտահայտությամբ նպաստներ (բյուջեից) | G83: =G84 -> 9761.1
F84: - Այլ նպաստներ բյուջեից | G84: ='5'!J96 -> 9761.1
F85: ՀՀ Շիրակի մարզպետի աշխատակազմ | G85: =G87 -> 26198.6
F86: այդ թվում` բյուջետային ծախսերի տնտեսագիտական դասակարգման հոդվածներ
F87: ԸՆԴԱՄԵՆԸ ԾԱԽՍԵՐ | G87: =G88 -> 26198.6
F88: ԸՆԹԱՑԻԿ ԾԱԽՍԵՐ | G88: =G89 -> 26198.6
F89: ՍՈՑԻԱԼԱԿԱՆ ՆՊԱՍՏՆԵՐ ԵՎ ԿԵՆՍԱԹՈՇԱԿՆԵՐ | G89: =G90 -> 26198.6
F90: Սոցիալական օգնության դրամական արտահայտությամբ նպաստներ (բյուջեից) | G90: =G91 -> 26198.6
F91: - Այլ նպաստներ բյուջեից | G91: ='5'!J108 -> 26198.6
F92: ՀՀ Սյունիքի մարզպետի աշխատակազմ | G92: =G94 -> -25960.4
F93: այդ թվում` բյուջետային ծախսերի տնտեսագիտական դասակարգման հոդվածներ
F94: ԸՆԴԱՄԵՆԸ ԾԱԽՍԵՐ | G94: =G95 -> -25960.4
F95: ԸՆԹԱՑԻԿ ԾԱԽՍԵՐ | G95: =G96 -> -25960.4
F96: ՍՈՑԻԱԼԱԿԱՆ ՆՊԱՍՏՆԵՐ ԵՎ ԿԵՆՍԱԹՈՇԱԿՆԵՐ | G96: =G97 -> -25960.4
F97: Սոցիալական օգնության դրամական արտահայտությամբ նպաստներ (բյուջեից) | G97: =G98 -> -25960.4
F98: - Այլ նպաստներ բյուջեից | G98: ='5'!J120 -> -25960.4
F99: ՀՀ Վայոց ձորի մարզպետի աշխատակազմ | G99: =G101 -> 1730.2
F100: այդ թվում` բյուջետային ծախսերի տնտեսագիտական դասակարգման հոդվածներ
...

Sheet 3
C1: Հավելված N 3
C2: ՀՀ կառավարության 2025 թվականի
C3: ______________ ի ___Ն որոշման
A5: ՀԱՅԱՍՏԱՆԻ ՀԱՆՐԱՊԵՏՈՒԹՅԱՆ ԿԱՌԱՎԱՐՈՒԹՅԱՆ 2024 ԹՎԱԿԱՆԻ ԴԵԿՏԵՄԲԵՐԻ 27-Ի N 2060-Ն ՈՐՈՇՄԱՆ N 8 ՀԱՎԵԼՎԱԾՈՒՄ ԿԱՏԱՐՎՈՂ ՓՈՓՈԽՈՒԹՅՈՒՆՆԵՐԸ
C6: հազար դրամներով
A7: Ծրագրային դասիչը | C7: Ծրագրերի, միջոցառումների անվանումները | D7: Ցուցանիշների փոփոխություն (ավելացումները նշված են դրական նշանով)
A8: Ծրագիր | B8: Միջոցառում
C9: ԸՆԴԱՄԵՆԸ ԾԱԽՍԵՐ | D9: =D11 -> -34956.6
C10: այդ թվում՝
A11: 1146 | C11: Հանրակրթության ծրագիր | D11: =SUM(D12:D12) -> -34956.6
B12: 12015 | C12: ՀՀ պետական հանրակրթական բոլոր ուսումնական հաստատություններում ԲՏՃՄ ոլորտի (բացառությամբ մաթեմատիկայի) դասավանդող ուսուցիչների համար վարձատրության բարձրացված հստակ չափաքանակի սահմանում | D12: ='5'!J9 -> -34956.6

Sheet 4
I1: Հավելված N 4
I2: ՀՀ կառավարության 2025 թվականի
I3: ______________ ի ___Ն որոշման
A4: ՀԱՅԱՍՏԱՆԻ ՀԱՆՐԱՊԵՏՈՒԹՅԱՆ ԿԱՌԱՎԱՐՈՒԹՅԱՆ 2024 ԹՎԱԿԱՆԻ ԴԵԿՏԵՄԲԵՐԻ 27-Ի N 2060-Ն ՈՐՈՇՄԱՆ N 9 ՀԱՎԵԼՎԱԾՈՒՄ ԿԱՏԱՐՎՈՂ ՓՈՓՈԽՈՒԹՅՈՒՆՆԵՐԸ
A6: ԲԳԿ | B6: Ծրագիր | D6: Միջոցառում | H6: Իրականացնողը/ ակտիվն օգտագործողը/ շահառուի ընտրության չափորոշիչը | I6: Արդյունքային չափորոշիչը | J6: Ցուցանիշների փոփոխություն (ավելացումները նշված են դրական նշանով, իսկ նվազեցումները՝ փակագծերում)
B7: Դասիչը | C7: Անվանումը | D7: Դասիչը | E7: Անվանումը | F7: Նկարագրությունը | G7: Տեսակը | J7: Տարի
A8: ԸՆԴԱՄԵՆԸ | J8: =J9 -> -2.6375346e-11
A9: ՀՀ կրթության , գիտության, մշակույթի և սպորտի նախարարություն | J9: =J10+J21 -> -2.6375346e-11
B10: 1146 | C10: Հանրակրթության ծրագիր | J10: =+J11+J16 -> -6704.2
D11: 1146 - 12015 | E11: ՀՀ պետական հանրակրթական բոլոր ուսումնական հաստատություններում ԲՏՃՄ ոլորտի (բացառությամբ մաթեմատիկայի) դասավանդող ուսուցիչների համար վարձատրության բարձրացված հստակ չափաքանակի սահմանում | J11: ='5'!J144+'5'!J132+'5'!J120+'5'!J108+'5'!J96+'5'!J84+'5'!J72+'5'!J60+'5'!J48+'5'!J36+'5'!J29+'5'!J17+'5'!J11 -> 85870.7
F12: ՀՀ պետական հանրակրթական բոլոր ուսումնական հաստատություններում ԲՏՃՄ ոլորտի (բացառությամբ մաթեմատիկայի) դասավանդող ուսուցիչներին հավելավճարի տրամադրում
G13: Տրանսֆերտների տրամադրում
H14: Շահառուների ընտրության չափորոշիչները` ԲՏՃՄ ոլորտի (բացառությամբ մաթեմատիկական առարկաների) դասավանդող ուսուցիչներ (ՀՀ ԿԳՄՍ նախարարի 16.08.2023թ. N108-Ն հրաման)
I15: ՀՀ բոլոր ուսումնական հաստատություններում ԲՏՃՄ առարկաներ դասավանդող ուսուցիչների թիվը | J15: ='5'!J15+'5'!J21+'5'!J33+'5'!J40+'5'!J52+'5'!J64+'5'!J76+'5'!J88+'5'!J100+'5'!J112+'5'!J124+'5'!J136+'5'!J148 -> 203
D16: 1146 - 12016 | E16: ՀՀ գյուղական բնակավայրերում մինչև 100 աշակերտ ունեցող պետական ուսումնական հաստատություններում դասավանդող ուսուցիչներին հավելավճարի սահմանում | J16: ='5'!J22+'5'!J41+'5'!J53+'5'!J65+'5'!J77+'5'!J89+'5'!J101+'5'!J113+'5'!J125+'5'!J137+'5'!J149 -> -92574.9
F17: ՀՀ գյուղական բնակավայրերում մինչև 100 աշակերտ ունեցող պետական ուսումնական հաստատություններում դասավանդող ուսուցիչներին հավելավճարի տրամադրում
G18: Տրանսֆերտների տրամադրում
H19: Շահառուների ընտրության չափորոշիչները` ՀՀ գյուղական բնակավայրերում մինչև 100 սովորող ունեցող պետական ուսումնական հաստատություններում դասավանդող ուսուցիչներ (ՀՀ ԿԳՄՍ նախարարի 07.08.2023թ. N103-Ն հրաման)
I20: Մինչև 100 աշակերտ ունեցող դպրոցներում ուսուցիչների թիվը | J20: ='5'!J26+'5'!J45+'5'!J57+'5'!J69+'5'!J81+'5'!J93+'5'!J105+'5'!J117+'5'!J129+'5'!J141+'5'!J153 -> -20
B21: 1148 | C21: Արտադպրոցական դաստիարակության ծրագիր | J21: =J22+J26 -> 6704.2
D22: 1148 - 11001 | E22: Արտադպրոցական դաստիարակություն | J22: ='5'!J156 -> 5916
F23: Արվեստի, երաժշտության, սպորտի դասընթացներ մարզադպրոցներում , ստեղծագործական և արտադպրոցական դաստիարակության այլ կենտրոններում
G24: Ծառայությունների մատուցում
H25: Ծառայությունը մատուցողի անվանումը` Մասնագիտացված կազմակերպություններ
D26: 1148 - 12002 | E26: Կամավոր ատեստավորման նոր համակարգի ներդրում՛ ուղղված արտադպրոցական ուսումնական հաստատությունների մանկավարժական աշխատողների որակի բարձրացմանը | J26: ='5'!J160 -> 788.2
F27: Արտադպրոցական հաստատություններում դասավանդող մանկավարժական աշխատողների կամավոր ատեստավորման համակարգի մշակում և ներդրում
G28: Տրանսֆերտների տրամադրում
H29: Շահառուների ընտրության չափորոշիչները` Շահառուների ընտրության չափորոշիչները սահմանված են ԿԳՄՍ նախարարի հրամանով
I30: Կամավոր ատեստավորման արդյունքում ընթացիկ տարում հավելավճար ստացած մանկավարժների թիվը, մարդ | J30: ='5'!J164 -> -13
I31: Կամավոր ատեստավորման արդյունքում հավելավճար ստացած արտադպրոցական ուսումնական հաստատությունների մանկավարժական աշխատողների ընդհանուր թվաքանակը | J31: ='5'!J165 -> -13

Sheet 5
I1: Հավելված N 5
I2: ՀՀ կառավարության 2025 թվականի
I3: ______________ ի ___Ն որոշման
A4: ՀԱՅԱՍՏԱՆԻ ՀԱՆՐԱՊԵՏՈՒԹՅԱՆ ԿԱՌԱՎԱՐՈՒԹՅԱՆ 2024 ԹՎԱԿԱՆԻ ԴԵԿՏԵՄԲԵՐԻ 27-Ի N 2060-Ն ՈՐՈՇՄԱՆ N 9.1 ՀԱՎԵԼՎԱԾՈՒՄ ԿԱՏԱՐՎՈՂ ՓՈՓՈԽՈՒԹՅՈՒՆՆԵՐԸ
J5: հազար դրամներով
A6: ԲՍԿ | B6: Ծրագիր | D6: Միջոցառում | H6: Իրականացնողը/ ակտիվն օգտագործողը/ շահառուի ընտրության չափորոշիչը | I6: Արդյունքային չափորոշիչը | J6: Ցուցանիշների փոփոխություն (ավելացումները նշված են դրական նշանով, իսկ նվազեցումները՝ փակագծերում)
B7: Դասիչը | C7: Անվանումը | D7: Դասիչը | E7: Անվանումը | F7: Նկարագրությունը | G7: Տեսակը | J7: Տարի
A8: ԸՆԴԱՄԵՆԸ | J8: =J9+J16+J27+J34+J46+J58+J70+J82+J94+J106+J118+J130+J142+J154 -> 0
A9: ՀՀ տարածքային կառավարման և ենթակառուցվածքների նախարարություն | J9: =J10 -> -34956.6
B10: 1146 | C10: Հանրակրթության ծրագիր | J10: =J11 -> -34956.6
D11: 1146 - 12015 | E11: ՀՀ պետական հանրակրթական բոլոր ուսումնական հաստատություններում ԲՏՃՄ ոլորտի (բացառությամբ մաթեմատիկայի) դասավանդող ուսուցիչների համար վարձատրության բարձրացված հստակ չափաքանակի սահմանում | J11: =-63180.6+28224 -> -34956.6
F12: ՀՀ պետական հանրակրթական բոլոր ուսումնական հաստատություններում ԲՏՃՄ ոլորտի (բացառությամբ մաթեմատիկայի) դասավանդող ուսուցիչներին հավելավճարի տրամադրում
G13: Տրանսֆերտների տրամադրում
H14: Շահառուների ընտրության չափորոշիչները` ԲՏՃՄ ոլորտի (բացառությամբ մաթեմատիկական առարկաների) դասավանդող ուսուցիչներ (ՀՀ ԿԳՄՍ նախարարի 16.08.2023թ. N108-Ն հրաման)
I15: ՀՀ բոլոր ուսումնական հաստատություններում ԲՏՃՄ առարկաներ դասավանդող ուսուցիչների թիվը | J15: 249
A16: ՀՀ կրթության, գիտության, մշակույթի և սպորտի նախարարություն | J16: =J17+J22 -> 477.3
D17: 1146 - 12015 | E17: ՀՀ պետական հանրակրթական բոլոր ուսումնական հաստատություններում ԲՏՃՄ ոլորտի (բացառությամբ մաթեմատիկայի) դասավանդող ուսուցիչների համար վարձատրության բարձրացված հստակ չափաքանակի սահմանում | J17: 5484.3
F18: ՀՀ պետական հանրակրթական բոլոր ուսումնական հաստատություններում ԲՏՃՄ ոլորտի (բացառությամբ մաթեմատիկայի) դասավանդող ուսուցիչներին հավելավճարի տրամադրում
G19: Տրանսֆերտների տրամադրում
H20: Շահառուների ընտրության չափորոշիչները` ԲՏՃՄ ոլորտի (բացառությամբ մաթեմատիկական առարկաների) դասավանդող ուսուցիչներ (ՀՀ ԿԳՄՍ նախարարի 16.08.2023թ. N108-Ն հրաման)
I21: ՀՀ բոլոր ուսումնական հաստատություններում ԲՏՃՄ առարկաներ դասավանդող ուսուցիչների թիվը | J21: -4
D22: 1146 - 12016 | E22: ՀՀ գյուղական բնակավայրերում մինչև 100 աշակերտ ունեցող պետական ուսումնական հաստատություններում դասավանդող ուսուցիչներին հավելավճարի սահմանում | J22: -5007
F23: ՀՀ գյուղական բնակավայրերում մինչև 100 աշակերտ ունեցող պետական ուսումնական հաստատություններում դասավանդող ուսուցիչներին հավելավճարի տրամադրում
G24: Տրանսֆերտների տրամադրում
H25: Շահառուների ընտրության չափորոշիչները` ՀՀ գյուղական բնակավայրերում մինչև 100 սովորող ունեցող պետական ուսումնական հաստատություններում դասավանդող ուսուցիչներ (ՀՀ ԿԳՄՍ նախարարի 07.08.2023թ. N103-Ն հրաման)
I26: Մինչև 100 աշակերտ ունեցող դպրոցներում ուսուցիչների թիվը | J26: -2
A27: ՀՀ պաշտպանության նախարարություն | J27: =J28 -> 1870.7
B28: 1146 | C28: Հանրակրթության ծրագիր | J28: =J29 -> 1870.7
D29: 1146 - 12015 | E29: ՀՀ պետական հանրակրթական բոլոր ուսումնական հաստատություններում ԲՏՃՄ ոլորտի (բացառությամբ մաթեմատիկայի) դասավանդող ուսուցիչների համար վարձատրության բարձրացված հստակ չափաքանակի սահմանում | J29: 1870.7
F30: ՀՀ պետական հանրակրթական բոլոր ուսումնական հաստատություններում ԲՏՃՄ ոլորտի (բացառությամբ մաթեմատիկայի) դասավանդող ուսուցիչներին հավելավճարի տրամադրում
G31: Տրանսֆերտների տրամադրում
H32: Շահառուների ընտրության չափորոշիչները` ԲՏՃՄ ոլորտի (բացառությամբ մաթեմատիկական առարկաների) դասավանդող ուսուցիչներ (ՀՀ ԿԳՄՍ նախարարի 16.08.2023թ. N108-Ն հրաման)
I33: ՀՀ բոլոր ուսումնական հաստատություններում ԲՏՃՄ առարկաներ դասավանդող ուսուցիչների թիվը | J33: -3
A34: ՀՀ Արագածոտնի մարզպետի աշխատակազմ | J34: =J35 -> 26843.4
B35: 1146 | C35: Հանրակրթության ծրագիր | J35: =J36+J41 -> 26843.4
D36: 1146 - 12015 | E36: ՀՀ պետական հանրակրթական բոլոր ուսումնական հաստատություններում ԲՏՃՄ ոլորտի (բացառությամբ մաթեմատիկայի) դասավանդող ուսուցիչների համար վարձատրության բարձրացված հստակ չափաքանակի սահմանում | J36: 16866.9
F37: ՀՀ պետական հանրակրթական բոլոր ուսումնական հաստատություններում ԲՏՃՄ ոլորտի (բացառությամբ մաթեմատիկայի) դասավանդող ուսուցիչներին հավելավճարի տրամադրում
G38: Տրանսֆերտների տրամադրում
H39: Շահառուների ընտրության չափորոշիչները` ԲՏՃՄ ոլորտի (բացառությամբ մաթեմատիկական առարկաների) դասավանդող ուսուցիչներ (ՀՀ ԿԳՄՍ նախարարի 16.08.2023թ. N108-Ն հրաման)
I40: ՀՀ բոլոր ուսումնական հաստատություններում ԲՏՃՄ առարկաներ դասավանդող ուսուցիչների թիվը | J40: -135
D41: 1146 - 12016 | E41: ՀՀ գյուղական բնակավայրերում մինչև 100 աշակերտ ունեցող պետական ուսումնական հաստատություններում դասավանդող ուսուցիչներին հավելավճարի սահմանում | J41: 9976.5
F42: ՀՀ գյուղական բնակավայրերում մինչև 100 աշակերտ ունեցող պետական ուսումնական հաստատություններում դասավանդող ուսուցիչներին հավելավճարի տրամադրում
G43: Տրանսֆերտների տրամադրում
H44: Շահառուների ընտրության չափորոշիչները` ՀՀ գյուղական բնակավայրերում մինչև 100 սովորող ունեցող պետական ուսումնական հաստատություններում դասավանդող ուսուցիչներ (ՀՀ ԿԳՄՍ նախարարի 07.08.2023թ. N103-Ն հրաման)
I45: Մինչև 100 աշակերտ ունեցող դպրոցներում ուսուցիչների թիվը | J45: 53
A46: ՀՀ Արարատի մարզպետի աշխատակազմ | J46: =J47 -> 26186.9
B47: 1146 | C47: Հանրակրթության ծրագիր | J47: =J48+J53 -> 26186.9
D48: 1146 - 12015 | E48: ՀՀ պետական հանրակրթական բոլոր ուսումնական հաստատություններում ԲՏՃՄ ոլորտի (բացառությամբ մաթեմատիկայի) դասավանդող ուսուցիչների համար վարձատրության բարձրացված հստակ չափաքանակի սահմանում | J48: 34665.8
F49: ՀՀ պետական հանրակրթական բոլոր ուսումնական հաստատություններում ԲՏՃՄ ոլորտի (բացառությամբ մաթեմատիկայի) դասավանդող ուսուցիչներին հավելավճարի տրամադրում
G50: Տրանսֆերտների տրամադրում
H51: Շահառուների ընտրության չափորոշիչները` ԲՏՃՄ ոլորտի (բացառությամբ մաթեմատիկական առարկաների) դասավանդող ուսուցիչներ (ՀՀ ԿԳՄՍ նախարարի 16.08.2023թ. N108-Ն հրաման)
I52: ՀՀ բոլոր ուսումնական հաստատություններում ԲՏՃՄ առարկաներ դասավանդող ուսուցիչների թիվը | J52: 148
D53: 1146 - 12016 | E53: ՀՀ գյուղական բնակավայրերում մինչև 100 աշակերտ ունեցող պետական ուսումնական հաստատություններում դասավանդող ուսուցիչներին հավելավճարի սահմանում | J53: -8478.9
F54: ՀՀ գյուղական բնակավայրերում մինչև 100 աշակերտ ունեցող պետական ուսումնական հաստատություններում դասավանդող ուսուցիչներին հավելավճարի տրամադրում
G55: Տրանսֆերտների տրամադրում
H56: Շահառուների ընտրության չափորոշիչները` ՀՀ գյուղական բնակավայրերում մինչև 100 սովորող ունեցող պետական ուսումնական հաստատություններում դասավանդող ուսուցիչներ (ՀՀ ԿԳՄՍ նախարարի 07.08.2023թ. N103-Ն հրաման)
I57: Մինչև 100 աշակերտ ունեցող դպրոցներում ուսուցիչների թիվը | J57: -29
A58: ՀՀ Արմավիրի մարզպետի աշխատակազմ | J58: =J59 -> -3760.4
B59: 1146 | C59: Հանրակրթության ծրագիր | J59: =J60+J65 -> -3760.4
D60: 1146 - 12015 | E60: ՀՀ պետական հանրակրթական բոլոր ուսումնական հաստատություններում ԲՏՃՄ ոլորտի (բացառությամբ մաթեմատիկայի) դասավանդող ուսուցիչների համար վարձատրության բարձրացված հստակ չափաքանակի սահմանում | J60: 17585.2
F61: ՀՀ պետական հանրակրթական բոլոր ուսումնական հաստատություններում ԲՏՃՄ ոլորտի (բացառությամբ մաթեմատիկայի) դասավանդող ուսուցիչներին հավելավճարի տրամադրում
G62: Տրանսֆերտների տրամադրում
H63: Շահառուների ընտրության չափորոշիչները` ԲՏՃՄ ոլորտի (բացառությամբ մաթեմատիկական առարկաների) դասավանդող ուսուցիչներ (ՀՀ ԿԳՄՍ նախարարի 16.08.2023թ. N108-Ն հրաման)
I64: ՀՀ բոլոր ուսումնական հաստատություններում ԲՏՃՄ առարկաներ դասավանդող ուսուցիչների թիվը | J64: 128
D65: 1146 - 12016 | E65: ՀՀ գյուղական բնակավայրերում մինչև 100 աշակերտ ունեցող պետական ուսումնական հաստատություններում դասավանդող ուսուցիչներին հավելավճարի սահմանում | J65: -21345.6
F66: ՀՀ գյուղական բնակավայրերում մինչև 100 աշակերտ ունեցող պետական ուսումնական հաստատություններում դասավանդող ուսուցիչներին հավելավճարի տրամադրում
G67: Տրանսֆերտների տրամադրում
H68: Շահառուների ընտրության չափորոշիչները` ՀՀ գյուղական բնակավայրերում մինչև 100 սովորող ունեցող պետական ուսումնական հաստատություններում դասավանդող ուսուցիչներ (ՀՀ ԿԳՄՍ նախարարի 07.08.2023թ. N103-Ն հրաման)
I69: Մինչև 100 աշակերտ ունեցող դպրոցներում ուսուցիչների թիվը | J69: -36
A70: ՀՀ Գեղարքունիքի մարզպետի աշխատակազմ | J70: =J71 -> 2983.1
B71: 1146 | C71: Հանրակրթության ծրագիր | J71: =J72+J77 -> 2983.1
D72: 1146 - 12015 | E72: ՀՀ պետական հանրակրթական բոլոր ուսումնական հաստատություններում ԲՏՃՄ ոլորտի (բացառությամբ մաթեմատիկայի) դասավանդող ուսուցիչների համար վարձատրության բարձրացված հստակ չափաքանակի սահմանում | J72: 24522.6
F73: ՀՀ պետական հանրակրթական բոլոր ուսումնական հաստատություններում ԲՏՃՄ ոլորտի (բացառությամբ մաթեմատիկայի) դասավանդող ուսուցիչներին հավելավճարի տրամադրում
G74: Տրանսֆերտների տրամադրում
H75: Շահառուների ընտրության չափորոշիչները` ԲՏՃՄ ոլորտի (բացառությամբ մաթեմատիկական առարկաների) դասավանդող ուսուցիչներ (ՀՀ ԿԳՄՍ նախարարի 16.08.2023թ. N108-Ն հրաման)
I76: ՀՀ բոլոր ուսումնական հաստատություններում ԲՏՃՄ առարկաներ դասավանդող ուսուցիչների թիվը | J76: 9
D77: 1146 - 12016 | E77: ՀՀ գյուղական բնակավայրերում մինչև 100 աշակերտ ունեցող պետական ուսումնական հաստատություններում դասավանդող ուսուցիչներին հավելավճարի սահմանում | J77: -21539.5
F78: ՀՀ գյուղական բնակավայրերում մինչև 100 աշակերտ ունեցող պետական ուսումնական հաստատություններում դասավանդող ուսուցիչներին հավելավճարի տրամադրում
G79: Տրանսֆերտների տրամադրում
H80: Շահառուների ընտրության չափորոշիչները` ՀՀ գյուղական բնակավայրերում մինչև 100 սովորող ունեցող պետական ուսումնական հաստատություններում դասավանդող ուսուցիչներ (ՀՀ ԿԳՄՍ նախարարի 07.08.2023թ. N103-Ն հրաման)
I81: Մինչև 100 աշակերտ ունեցող դպրոցներում ուսուցիչների թիվը | J81: -18
A82: ՀՀ Լոռու մարզպետի աշխատակազմ | J82: =J83 -> 17320.4
B83: 1146 | C83: Հանրակրթության ծրագիր | J83: =J84+J89 -> 17320.4
D84: 1146 - 12015 | E84: ՀՀ պետական հանրակրթական բոլոր ուսումնական հաստատություններում ԲՏՃՄ ոլորտի (բացառությամբ մաթեմատիկայի) դասավանդող ուսուցիչների համար վարձատրության բարձրացված հստակ չափաքանակի սահմանում | J84: 16272.2
F85: ՀՀ պետական հանրակրթական բոլոր ուսումնական հաստատություններում ԲՏՃՄ ոլորտի (բացառությամբ մաթեմատիկայի) դասավանդող ուսուցիչներին հավելավճարի տրամադրում
G86: Տրանսֆերտների տրամադրում
H87: Շահառուների ընտրության չափորոշիչները` ԲՏՃՄ ոլորտի (բացառությամբ մաթեմատիկական առարկաների) դասավանդող ուսուցիչներ (ՀՀ ԿԳՄՍ նախարարի 16.08.2023թ. N108-Ն հրաման)
I88: ՀՀ բոլոր ուսումնական հաստատություններում ԲՏՃՄ առարկաներ դասավանդող ուսուցիչների թիվը | J88: 18
D89: 1146 - 12016 | E89: ՀՀ գյուղական բնակավայրերում մինչև 100 աշակերտ ունեցող պետական ուսումնական հաստատություններում դասավանդող ուսուցիչներին հավելավճարի սահմանում | J89: 1048.2
F90: ՀՀ գյուղական բնակավայրերում մինչև 100 աշակերտ ունեցող պետական ուսումնական հաստատություններում դասավանդող ուսուցիչներին հավելավճարի տրամադրում
G91: Տրանսֆերտների տրամադրում
H92: Շահառուների ընտրության չափորոշիչները` ՀՀ գյուղական բնակավայրերում մինչև 100 սովորող ունեցող պետական ուսումնական հաստատություններում դասավանդող ուսուցիչներ (ՀՀ ԿԳՄՍ նախարարի 07.08.2023թ. N103-Ն հրաման)
I93: Մինչև 100 աշակերտ ունեցող դպրոցներում ուսուցիչների թիվը | J93: 12
A94: ՀՀ Կոտայքի մարզպետի աշխատակազմ | J94: =J95 -> 2392.1
B95: 1146 | C95: Հանրակրթության ծրագիր | J95: =J96+J101 -> 2392.1
D96: 1146 - 12015 | E96: ՀՀ պետական հանրակրթական բոլոր ուսումնական հաստատություններում ԲՏՃՄ ոլորտի (բացառությամբ մաթեմատիկայի) դասավանդող ուսուցիչների համար վարձատրության բարձրացված հստակ չափաքանակի սահմանում | J96: 9761.1
F97: ՀՀ պետական հանրակրթական բոլոր ուսումնական հաստատություններում ԲՏՃՄ ոլորտի (բացառությամբ մաթեմատիկայի) դասավանդող ուսուցիչներին հավելավճարի տրամադրում
G98: Տրանսֆերտների տրամադրում
H99: Շահառուների ընտրության չափորոշիչները` ԲՏՃՄ ոլորտի (բացառությամբ մաթեմատիկական առարկաների) դասավանդող ուսուցիչներ (ՀՀ ԿԳՄՍ նախարարի 16.08.2023թ. N108-Ն հրաման)
I100: ՀՀ բոլոր ուսումնական հաստատություններում ԲՏՃՄ առարկաներ դասավանդող ուսուցիչների թիվը | J100: 78
...
