Workbook

Sheet 1
F1: Հավելված N 1
F2: ՀՀ կառավարության 2025 թվականի
F3: __________ ի ___Ն որոշման
A4: «ՀԱՅԱՍՏԱՆԻ ՀԱՆՐԱՊԵՏՈՒԹՅԱՆ 2025 ԹՎԱԿԱՆԻ ՊԵՏԱԿԱՆ ԲՅՈՒՋԵԻ ՄԱՍԻՆ» ՕՐԵՆՔԻ N 1 ՀԱՎԵԼՎԱԾԻ N 2 ԱՂՅՈՒՍԱԿՈՒՄ ԿԱՏԱՐՎՈՂ ՎԵՐԱԲԱՇԽՈՒՄԸ ԵՎ ՀԱՅԱՍՏԱՆԻ ՀԱՆՐԱՊԵՏՈՒԹՅԱՆ ԿԱՌԱՎԱՐՈՒԹՅԱՆ 2024 ԹՎԱԿԱՆԻ ԴԵԿՏԵՄԲԵՐԻ 27-Ի N 2060-Ն ՈՐՈՇՄԱՆ N 5 ՀԱՎԵԼՎԱԾԻ N 1 ԱՂՅՈՒՍԱԿՈՒՄ ԿԱՏԱՐՎՈՂ ՓՈՓՈԽՈՒԹՅՈՒՆՆԵՐԸ
F5: հազար դրամներով
A6: ԲԳԿ | B6: Ծրագրային դասիչը | D6: ԲԳԿ/Ծրագրի /միջոցառման անվանումը | E6: Ծրագրի նպատակը/Միջոցառման նկարագրությունը | F6: Վերջնական արդյունքի նկարագրությունը/Միջոցառման տեսակը | G6: Ցուցանիշների փոփոխություն (ավելացումները նշված են դրական նշանով, իսկ նվազեցումները՝ փակագծերում)
B7: Ծրագիր | C7: Միջոցառում | G7: Տարի
A8: ԸՆԴԱՄԵՆԸ | G8: =G9 -> -2.6375346e-11
A9: ՀՀ կրթության , գիտության, մշակույթի և սպորտի նախարարություն | G9: =G10+G13 -> -2.6375346e-11
B10: 1146 | D10: Հանրակրթության ծրագիր | E10: Ապահովել անվճար և որակյալ հանրակրթություն | F10: Մտավոր, հոգևոր, ֆիզիկական և սոցիալական ունակությունների համակողմանի ու ներդաշնակ զարգացմամբ, հայրենասիրության, պետականության և մարդասիրության ոգով դաստիրակված, պատշաճ վարքով և վարվելակերպով անձի ձևավորում | G10: =G11+G12 -> -6704.2
C11: 1146 - 12015 | D11: ՀՀ պետական հանրակրթական բոլոր ուսումնական հաստատություններում ԲՏՃՄ ոլորտի (բացառությամբ մաթեմատիկայի) դասավանդող ուսուցիչների համար վարձատրության բարձրացված հստակ չափաքանակի սահմանում | E11: ՀՀ պետական հանրակրթական բոլոր ուսումնական հաստատություններում ԲՏՃՄ ոլորտի (բացառությամբ մաթեմատիկայի) դասավանդող ուսուցիչներին հավելավճարի տրամադրում | F11: Տրանսֆերտների տրամադրում | G11: ='4'!J11 -> 85870.7
C12: 1146 - 12016 | D12: ՀՀ գյուղական բնակավայրերում մինչև 100 աշակերտ ունեցող պետական ուսումնական հաստատություններում դասավանդող ուսուցիչներին հավելավճարի սահմանում | E12: ՀՀ գյուղական բնակավայրերում մինչև 100 աշակերտ ունեցող պետական ուսումնական հաստատություններում դասավանդող ուսուցիչներին հավելավճարի տրամադրում | F12: Տրանսֆերտների տրամադրում | G12: ='4'!J16 -> -92574.9
B13: 1148 | D13: Արտադպրոցական դաստիարակության ծրագիր | E13: Նպաստել հանրակրթական ուսուցման համակարգում ընդգրկված երեխաների ֆիզիկական, հոգևոր և գեղագիտական զարգացմանը, բնապահպանական և կիրառական գիտելիքների ձեռքբերմանը | F13: Ստեղծել պայմաններ սովորողների ազատ ժամանացի կազմակերպան միջոցով նրանց հետաքրքրությունների բացահայտման, ձևավորման և զարգացման համար | G13: =G14+G15 -> 6704.2
C14: 1148 - 11001 | D14: Արտադպրոցական դաստիարակություն | E14: Արվեստի, երաժշտության, սպորտի դասընթացներ մարզադպրոցներում , ստեղծագործական և արտադպրոցական դաստիարակության այլ կենտրոններում | F14: Ծառայությունների մատուցում | G14: ='4'!J22 -> 5916
C15: 1148 - 12002 | D15: Կամավոր ատեստավորման նոր համակարգի ներդրում՛ ուղղված արտադպրոցական ուսումնական հաստատությունների մանկավարժական աշխատողների որակի բարձրացմանը | E15: Արտադպրոցական հաստատություններում դասավանդող մանկավարժական աշխատողների կամավոր ատեստավորման համակարգի մշակում և ներդրում | F15: Տրանսֆերտների տրամադրում | G15: ='4'!J26 -> 788.2

Sheet 2
F1: Հավելված N 2
F2: ՀՀ կառավարության 2025 թվականի
F3: ______________ ի ___Ն որոշման
A4: ՀԱՅԱՍՏԱՆԻ ՀԱՆՐԱՊԵՏՈՒԹՅԱՆ ԿԱՌԱՎԱՐՈՒԹՅԱՆ 2024 ԹՎԱԿԱՆԻ ԴԵԿՏԵՄԲԵՐԻ 27-Ի N 2060-Ն ՈՐՈՇՄԱՆ N 3 ԵՎ N 4 ՀԱՎԵԼՎԱԾՆԵՐՈՒՄ ԿԱՏԱՐՎՈՂ ՓՈՓՈԽՈՒԹՅՈՒՆՆԵՐԸ
F5: հազար դրամներով
A6: Գործառական դասիչը | D6: Ծրագրային դասիչը | F6: Բյուջետային ծախսերի գործառական դասակարգման բաժինների, խմբերի և դասերի, բյուջետային ծրագրերի միջոցառումների, բյուջետային հատկացումների գլխավոր կարգադրիչների անվանումները | G6: Ցուցանիշների փոփոխություն (ավելացումները նշված են դրական նշանով, իսկ նվազեցումները՝ փակագծերում)
A7: Բաժին | B7: Խումբ | C7: Դաս | D7: Ծրագիր | E7: Միջոցառում | G7: Տարի
F8: ԸՆԴԱՄԵՆԸ | G8: =G10 -> -1.1823431e-11
F9: այդ թվում`
F10: ՀՀ կրթության , գիտության, մշակույթի և սպորտի նախարարություն | G10: =G12 -> -1.1823431e-11
F11: այդ թվում`
A12: 09 | F12: ԿՐԹՈՒԹՅՈՒՆ | G12: =G14+G185 -> -1.1823431e-11
F13: այդ թվում`
B14: 02 | F14: Միջնակարգ ընդհանուր կրթություն | G14: =G16 -> -6704.2
F15: այդ թվում`
C16: 01 | F16: Հիմնական ընդհանուր կրթություն | G16: =G18 -> -6704.2
F17: այդ թվում`
D18: 1146 | F18: Հանրակրթության ծրագիր | G18: =G20+G113 -> -6704.2
F19: այդ թվում`
E20: 12015 | F20: ՀՀ պետական հանրակրթական բոլոր ուսումնական հաստատություններում ԲՏՃՄ ոլորտի (բացառությամբ մաթեմատիկայի) դասավանդող ուսուցիչների համար վարձատրության բարձրացված հստակ չափաքանակի սահմանում | G20: =G22+G29+G36+G43+G50+G57+G64+G71+G78+G85+G92+G99+G106 -> 85870.7
F21: այդ թվում` ըստ կատարողների
F22: ՀՀ տարածքային կառավարման և ենթակառուցվածքների նախարարություն | G22: =G24 -> -34956.6
F23: այդ թվում` բյուջետային ծախսերի տնտեսագիտական դասակարգման հոդվածներ
F24: ԸՆԴԱՄԵՆԸ ԾԱԽՍԵՐ | G24: =G25 -> -34956.6
F25: ԸՆԹԱՑԻԿ ԾԱԽՍԵՐ | G25: =G26 -> -34956.6
F26: ՍՈՑԻԱԼԱԿԱՆ ՆՊԱՍՏՆԵՐ ԵՎ ԿԵՆՍԱԹՈՇԱԿՆԵՐ | G26: =G27 -> -34956.6
F27: Սոցիալական օգնության դրամական արտահայտությամբ նպաստներ (բյուջեից) | G27: =G28 -> -34956.6
F28: - Այլ նպաստներ բյուջեից | G28: ='5'!J11 -> -34956.6
F29: ՀՀ կրթության , գիտության, մշակույթի և սպորտի նախարարություն | G29: =G31 -> 5484.3
F30: այդ թվում` բյուջետային ծախսերի տնտեսագիտական դասակարգման հոդվածներ
F31: ԸՆԴԱՄԵՆԸ ԾԱԽՍԵՐ | G31: =G32 -> 5484.3
F32: ԸՆԹԱՑԻԿ ԾԱԽՍԵՐ | G32: =G33 -> 5484.3
F33: ՍՈՑԻԱԼԱԿԱՆ ՆՊԱՍՏՆԵՐ ԵՎ ԿԵՆՍԱԹՈՇԱԿՆԵՐ | G33: =G34 -> 5484.3
F34: Սոցիալական օգնության դրամական արտահայտությամբ նպաստներ (բյուջեից) | G34: =G35 -> 5484.3
F35: - Այլ նպաստներ բյուջեից | G35: ='5'!J17 -> 5484.3
F36: ՀՀ պաշտպանության նախարարություն | G36: =G38 -> 1870.7
F37: այդ թվում` բյուջետային ծախսերի տնտեսագիտական դասակարգման հոդվածներ
F38: ԸՆԴԱՄԵՆԸ ԾԱԽՍԵՐ | G38: =G39 -> 1870.7
F39: ԸՆԹԱՑԻԿ ԾԱԽՍԵՐ | G39: =G40 -> 1870.7
F40: ՍՈՑԻԱԼԱԿԱՆ ՆՊԱՍՏՆԵՐ ԵՎ ԿԵՆՍԱԹՈՇԱԿՆԵՐ | G40: =G41 -> 1870.7
...

Sheet 3
C1: Հավելված N 3
C2: ՀՀ կառավարության 2025 թվականի
C3: ______________ ի ___Ն որոշման
A5: ՀԱՅԱՍՏԱՆԻ ՀԱՆՐԱՊԵՏՈՒԹՅԱՆ ԿԱՌԱՎԱՐՈՒԹՅԱՆ 2024 ԹՎԱԿԱՆԻ ԴԵԿՏԵՄԲԵՐԻ 27-Ի N 2060-Ն ՈՐՈՇՄԱՆ N 8 ՀԱՎԵԼՎԱԾՈՒՄ ԿԱՏԱՐՎՈՂ ՓՈՓՈԽՈՒԹՅՈՒՆՆԵՐԸ
C6: հազար դրամներով
A7: Ծրագրային դասիչը | C7: Ծրագրերի, միջոցառումների անվանումները | D7: Ցուցանիշների փոփոխություն (ավելացումները նշված են դրական նշանով)
A8: Ծրագիր | B8: Միջոցառում
C9: ԸՆԴԱՄԵՆԸ ԾԱԽՍԵՐ | D9: =D11 -> -34956.6
C10: այդ թվում՝
A11: 1146 | C11: Հանրակրթության ծրագիր | D11: =SUM(D12:D12) -> -34956.6
B12: 12015 | C12: ՀՀ պետական հանրակրթական բոլոր ուսումնական հաստատություններում ԲՏՃՄ ոլորտի (բացառությամբ մաթեմատիկայի) դասավանդող ուսուցիչների համար վարձատրության բարձրացված հստակ չափաքանակի սահմանում | D12: ='5'!J9 -> -34956.6

Sheet 4
I1: Հավելված N 4
I2: ՀՀ կառավարության 2025 թվականի
I3: ______________ ի ___Ն որոշման
A4: ՀԱՅԱՍՏԱՆԻ ՀԱՆՐԱՊԵՏՈՒԹՅԱՆ ԿԱՌԱՎԱՐՈՒԹՅԱՆ 2024 ԹՎԱԿԱՆԻ ԴԵԿՏԵՄԲԵՐԻ 27-Ի N 2060-Ն ՈՐՈՇՄԱՆ N 9 ՀԱՎԵԼՎԱԾՈՒՄ ԿԱՏԱՐՎՈՂ ՓՈՓՈԽՈՒԹՅՈՒՆՆԵՐԸ
A6: ԲԳԿ | B6: Ծրագիր | D6: Միջոցառում | H6: Իրականացնողը/ ակտիվն օգտագործողը/ շահառուի ընտրության չափորոշիչը | I6: Արդյունքային չափորոշիչը | J6: Ցուցանիշների փոփոխություն (ավելացումները նշված են դրական նշանով, իսկ նվազեցումները՝ փակագծերում)
B7: Դասիչը | C7: Անվանումը | D7: Դասիչը | E7: Անվանումը | F7: Նկարագրությունը | G7: Տեսակը | J7: Տարի
A8: ԸՆԴԱՄԵՆԸ | J8: =J9 -> -2.6375346e-11
A9: ՀՀ կրթության , գիտության, մշակույթի և սպորտի նախարարություն | J9: =J10+J21 -> -2.6375346e-11
B10: 1146 | C10: Հանրակրթության ծրագիր | J10: =+J11+J16 -> -6704.2
D11: 1146 - 12015 | E11: ՀՀ պետական հանրակրթական բոլոր ուսումնական հաստատություններում ԲՏՃՄ ոլորտի (բացառությամբ մաթեմատիկայի) դասավանդող ուսուցիչների համար վարձատրության բարձրացված հստակ չափաքանակի սահմանում | J11: ='5'!J144+'5'!J132+'5'!J120+'5'!J108+'5'!J96+'5'!J84+'5'!J72+'5'!J60+'5'!J48+'5'!J36+'5'!J29+'5'!J17+'5'!J11 -> 85870.7
F12: ՀՀ պետական հանրակրթական բոլոր ուսումնական հաստատություններում ԲՏՃՄ ոլորտի (բացառությամբ մաթեմատիկայի) դասավանդող ուսուցիչներին հավելավճարի տրամադրում
G13: Տրանսֆերտների տրամադրում
H14: Շահառուների ընտրության չափորոշիչները` ԲՏՃՄ ոլորտի (բացառությամբ մաթեմատիկական առարկաների) դասավանդող ուսուցիչներ (ՀՀ ԿԳՄՍ նախարարի 16.08.2023թ. N108-Ն հրաման)
I15: ՀՀ բոլոր ուսումնական հաստատություններում ԲՏՃՄ առարկաներ դասավանդող ուսուցիչների թիվը | J15: ='5'!J15+'5'!J21+'5'!J33+'5'!J40+'5'!J52+'5'!J64+'5'!J76+'5'!J88+'5'!J100+'5'!J112+'5'!J124+'5'!J136+'5'!J148 -> 203
D16: 1146 - 12016 | E16: ՀՀ գյուղական բնակավայրերում մինչև 100 աշակերտ ունեցող պետական ուսումնական հաստատություններում դասավանդող ուսուցիչներին հավելավճարի սահմանում | J16: ='5'!J22+'5'!J41+'5'!J53+'5'!J65+'5'!J77+'5'!J89+'5'!J101+'5'!J113+'5'!J125+'5'!J137+'5'!J149 -> -92574.9
F17: ՀՀ գյուղական բնակավայրերում մինչև 100 աշակերտ ունեցող պետական ուսումնական հաստատություններում դասավանդող ուսուցիչներին հավելավճարի տրամադրում
G18: Տրանսֆերտների տրամադրում
H19: Շահառուների ընտրության չափորոշիչները` ՀՀ գյուղական բնակավայրերում մինչև 100 սովորող ունեցող պետական ուսումնական հաստատություններում դասավանդող ուսուցիչներ (ՀՀ ԿԳՄՍ նախարարի 07.08.2023թ. N103-Ն հրաման)
I20: Մինչև 100 աշակերտ ունեցող դպրոցներում ուսուցիչների թիվը | J20: ='5'!J26+'5'!J45+'5'!J57+'5'!J69+'5'!J81+'5'!J93+'5'!J105+'5'!J117+'5'!J129+'5'!J141+'5'!J153 -> -20
B21: 1148 | C21: Արտադպրոցական դաստիարակության ծրագիր | J21: =J22+J26 -> 6704.2
D22: 1148 - 11001 | E22: Արտադպրոցական դաստիարակություն | J22: ='5'!J156 -> 5916
F23: Արվեստի, երաժշտության, սպորտի դասընթացներ մարզադպրոցներում , ստեղծագործական և արտադպրոցական դաստիարակության այլ կենտրոններում
G24: Ծառայությունների մատուցում
H25: Ծառայությունը մատուցողի անվանումը` Մասնագիտացված կազմակերպություններ
D26: 1148 - 12002 | E26: Կամավոր ատեստավորման նոր համակարգի ներդրում՛ ուղղված արտադպրոցական ուսումնական հաստատությունների մանկավարժական աշխատողների որակի բարձրացմանը | J26: ='5'!J160 -> 788.2
F27: Արտադպրոցական հաստատություններում դասավանդող մանկավարժական աշխատողների կամավոր ատեստավորման համակարգի մշակում և ներդրում
G28: Տրանսֆերտների տրամադրում
H29: Շահառուների ընտրության չափորոշիչները` Շահառուների ընտրության չափորոշիչները սահմանված են ԿԳՄՍ նախարարի հրամանով
I30: Կամավոր ատեստավորման արդյունքում ընթացիկ տարում հավելավճար ստացած մանկավարժների թիվը, մարդ | J30: ='5'!J164 -> -13
I31: Կամավոր ատեստավորման արդյունքում հավելավճար ստացած արտադպրոցական ուսումնական հաստատությունների մանկավարժական աշխատողների ընդհանուր թվաքանակը | J31: ='5'!J165 -> -13

Sheet 5
I1: Հավելված N 5
I2: ՀՀ կառավարության 2025 թվականի
I3: ______________ ի ___Ն որոշման
A4: ՀԱՅԱՍՏԱՆԻ ՀԱՆՐԱՊԵՏՈՒԹՅԱՆ ԿԱՌԱՎԱՐՈՒԹՅԱՆ 2024 ԹՎԱԿԱՆԻ ԴԵԿՏԵՄԲԵՐԻ 27-Ի N 2060-Ն ՈՐՈՇՄԱՆ N 9.1 ՀԱՎԵԼՎԱԾՈՒՄ ԿԱՏԱՐՎՈՂ ՓՈՓՈԽՈՒԹՅՈՒՆՆԵՐԸ
J5: հազար դրամներով
A6: ԲՍԿ | B6: Ծրագիր | D6: Միջոցառում | H6: Իրականացնողը/ ակտիվն օգտագործողը/ շահառուի ընտրության չափորոշիչը | I6: Արդյունքային չափորոշիչը | J6: Ցուցանիշների փոփոխություն (ավելացումները նշված են դրական նշանով, իսկ նվազեցումները՝ փակագծերում)
B7: Դասիչը | C7: Անվանումը | D7: Դասիչը | E7: Անվանումը | F7: Նկարագրությունը | G7: Տեսակը | J7: Տարի
A8: ԸՆԴԱՄԵՆԸ | J8: =J9+J16+J27+J34+J46+J58+J70+J82+J94+J106+J118+J130+J142+J154 -> 0
A9: ՀՀ տարածքային կառավարման և ենթակառուցվածքների նախարարություն | J9: =J10 -> -34956.6
B10: 1146 | C10: Հանրակրթության ծրագիր | J10: =J11 -> -34956.6
D11: 1146 - 12015 | E11: ՀՀ պետական հանրակրթական բոլոր ուսումնական հաստատություններում ԲՏՃՄ ոլորտի (բացառությամբ մաթեմատիկայի) դասավանդող ուսուցիչների համար վարձատրության բարձրացված հստակ չափաքանակի սահմանում | J11: =-63180.6+28224 -> -34956.6
F12: ՀՀ պետական հանրակրթական բոլոր ուսումնական հաստատություններում ԲՏՃՄ ոլորտի (բացառությամբ մաթեմատիկայի) դասավանդող ուսուցիչներին հավելավճարի տրամադրում
G13: Տրանսֆերտների տրամադրում
H14: Շահառուների ընտրության չափորոշիչները` ԲՏՃՄ ոլորտի (բացառությամբ մաթեմատիկական առարկաների) դասավանդող ուսուցիչներ (ՀՀ ԿԳՄՍ նախարարի 16.08.2023թ. N108-Ն հրաման)
I15: ՀՀ բոլոր ուսումնական հաստատություններում ԲՏՃՄ առարկաներ դասավանդող ուսուցիչների թիվը | J15: 249
A16: ՀՀ կրթության, գիտության, մշակույթի և սպորտի նախարարություն | J16: =J17+J22 -> 477.3
D17: 1146 - 12015 | E17: ՀՀ պետական հանրակրթական բոլոր ուսումնական հաստատություններում ԲՏՃՄ ոլորտի (բացառությամբ մաթեմատիկայի) դասավանդող ուսուցիչների համար վարձատրության բարձրացված հստակ չափաքանակի սահմանում | J17: 5484.3
F18: ՀՀ պետական հանրակրթական բոլոր ուսումնական հաստատություններում ԲՏՃՄ ոլորտի (բացառությամբ մաթեմատիկայի) դասավանդող ուսուցիչներին հավելավճարի տրամադրում
G19: Տրանսֆերտների տրամադրում
H20: Շահառուների ընտրության չափորոշիչները` ԲՏՃՄ ոլորտի (բացառությամբ մաթեմատիկական առարկաների) դասավանդող ուսուցիչներ (ՀՀ ԿԳՄՍ նախարարի 16.08.2023թ. N108-Ն հրաման)
I21: ՀՀ բոլոր ուսումնական հաստատություններում ԲՏՃՄ առարկաներ դասավանդող ուսուցիչների թիվը | J21: -4
D22: 1146 - 12016 | E22: ՀՀ գյուղական բնակավայրերում մինչև 100 աշակերտ ունեցող պետական ուսումնական հաստատություններում դասավանդող ուսուցիչներին հավելավճարի սահմանում | J22: -5007
F23: ՀՀ գյուղական բնակավայրերում մինչև 100 աշակերտ ունեցող պետական ուսումնական հաստատություններում դասավանդող ուսուցիչներին հավելավճարի տրամադրում
G24: Տրանսֆերտների տրամադրում
H25: Շահառուների ընտրության չափորոշիչները` ՀՀ գյուղական բնակավայրերում մինչև 100 սովորող ունեցող պետական ուսումնական հաստատություններում դասավանդող ուսուցիչներ (ՀՀ ԿԳՄՍ նախարարի 07.08.2023թ. N103-Ն հրաման)
I26: Մինչև 100 աշակերտ ունեցող դպրոցներում ուսուցիչների թիվը | J26: -2
A27: ՀՀ պաշտպանության նախարարություն | J27: =J28 -> 1870.7
B28: 1146 | C28: Հանրակրթության ծրագիր | J28: =J29 -> 1870.7
D29: 1146 - 12015 | E29: ՀՀ պետական հանրակրթական բոլոր ուսումնական հաստատություններում ԲՏՃՄ ոլորտի (բացառությամբ մաթեմատիկայի) դասավանդող ուսուցիչների համար վարձատրության բարձրացված հստակ չափաքանակի սահմանում | J29: 1870.7
F30: ՀՀ պետական հանրակրթական բոլոր ուսումնական հաստատություններում ԲՏՃՄ ոլորտի (բացառությամբ մաթեմատիկայի) դասավանդող ուսուցիչներին հավելավճարի տրամադրում
G31: Տրանսֆերտների տրամադրում
H32: Շահառուների ընտրության չափորոշիչները` ԲՏՃՄ ոլորտի (բացառությամբ մաթեմատիկական առարկաների) դասավանդող ուսուցիչներ (ՀՀ ԿԳՄՍ նախարարի 16.08.2023թ. N108-Ն հրաման)
I33: ՀՀ բոլոր ուսումնական հաստատություններում ԲՏՃՄ առարկաներ դասավանդող ուսուցիչների թիվը | J33: -3
A34: ՀՀ Արագածոտնի մարզպետի աշխատակազմ | J34: =J35 -> 26843.4
B35: 1146 | C35: Հանրակրթության ծրագիր | J35: =J36+J41 -> 26843.4
D36: 1146 - 12015 | E36: ՀՀ պետական հանրակրթական բոլոր ուսումնական հաստատություններում ԲՏՃՄ ոլորտի (բացառությամբ մաթեմատիկայի) դասավանդող ուսուցիչների համար վարձատրության բարձրացված հստակ չափաքանակի սահմանում | J36: 16866.9
F37: ՀՀ պետական հանրակրթական բոլոր ուսումնական հաստատություններում ԲՏՃՄ ոլորտի (բացառությամբ մաթեմատիկայի) դասավանդող ուսուցիչներին հավելավճարի տրամադրում
G38: Տրանսֆերտների տրամադրում
H39: Շահառուների ընտրության չափորոշիչները` ԲՏՃՄ ոլորտի (բացառությամբ մաթեմատիկական առարկաների) դասավանդող ուսուցիչներ (ՀՀ ԿԳՄՍ նախարարի 16.08.2023թ. N108-Ն հրաման)
I40: ՀՀ բոլոր ուսումնական հաստատություններում ԲՏՃՄ առարկաներ դասավանդող ուսուցիչների թիվը | J40: -135
...
