Workbook
Name a: #REF!
Name a: #REF!
Name a: #REF!
Name AgencyCode: #REF!
Name AgencyCode: #REF!
Name AgencyCode: #REF!
Name AgencyCode: #REF!
Name AgencyCode: #REF!
Name AgencyCode: #REF!
Name AgencyName: #REF!
Name AgencyName: #REF!
Name AgencyName: #REF!
Name åû: #REF!
Name åû: #REF!
Name davit: #REF!
Name davit: #REF!
Name Functional1: #REF!
Name Functional1: #REF!
Name Functional1: #REF!
Name ggg: #REF!
Name ggg: #REF!
Name hav: #REF!
Name hav: #REF!
Name mas: #REF!
Name mas: #REF!
Name mass: #REF!
Name mass: #REF!
Name PANature: #REF!
Name PANature: #REF!
Name PANature: #REF!
Name PAType: #REF!
Name PAType: #REF!
Name PAType: #REF!
Name Performance2: #REF!
Name Performance2: #REF!
Name Performance2: #REF!
Name PerformanceType: #REF!
Name PerformanceType: #REF!
Name PerformanceType: #REF!
Name x: #REF!
Name x: #REF!
Name Հավելված: #REF!
Name Հավելված: #REF!
Name Հավելված10: #REF!
Name Հավելված10: #REF!
Name Հավելված11: #REF!
Name Հավելված11: #REF!
Name Հավելված20: #REF!
Name Հավելված20: #REF!
Name Հավելված9: #REF!
Name Հավելված9: #REF!
Name Մաս: #REF!
Name Մաս: #REF!
Name շախմատիստ: #REF!
Name շախմատիստ: #REF!
Name վֆյգյգ: #REF!
Name վֆյգյգ: #REF!

Sheet Հավելված N 1
F1: Հավելված N 1
F2: ՀՀ կառավարության 2025 թվականի
F3: ______________ ի ___Ն որոշման
A6: «ՀԱՅԱUՏԱՆԻ ՀԱՆՐԱՊԵՏՈՒԹՅԱՆ 2025 ԹՎԱԿԱՆԻ ՊԵՏԱԿԱՆ ԲՅՈՒՋԵԻ ՄԱUԻՆ» ՀԱՅԱUՏԱՆԻ ՀԱՆՐԱՊԵՏՈՒԹՅԱՆ OՐԵՆՔԻ N 1 ՀԱՎԵԼՎԱԾԻ N 2 ԱՂՅՈՒՍԱԿՈՒՄ ԿԱՏԱՐՎՈՂ ՎԵՐԱԲԱՇԽՈՒՄԸ ԵՎ ՀԱՅԱՍՏԱՆԻ ՀԱՆՐԱՊԵՏՈՒԹՅԱՆ ԿԱՌԱՎԱՐՈՒԹՅԱՆ 2024 ԹՎԱԿԱՆԻ ԴԵԿՏԵՄԲԵՐԻ 27-Ի N 2060-Ն ՈՐՈՇՄԱՆ N 5 ՀԱՎԵԼՎԱԾԻ N 1 ԱՂՅՈՒՍԱԿՈՒՄ ԿԱՏԱՐՎՈՂ ՓՈՓՈԽՈՒԹՅՈՒՆՆԵՐԸ ԵՎ ԼՐԱՑՈՒՄՆԵՐԸ
G9: հազ. դրամներով
A10: ԲԳԿ | B10: Ծրագրային դասիչը | D10: ԲԳԿ/Ծրագրի /միջոցառման անվանումը | E10: Ծրագրի նպատակը/Միջոցառման նկարագրությունը | F10: Վերջնական արդյունքի նկարագրությունը/Միջոցառման տեսակը | G10: Ցուցանիշների փոփոխությունը (ավելացումները նշված են դրական նշանով, իսկ նվազեցումները փակագծերում)
G11: Տարի
B12: Ծրագիր | C12: Միջոցառում
A13: ԸՆԴԱՄԵՆԸ | G13: =+G15 -> 0
A14: այդ թվում՝
A15: ՀՀ ԿՐԹՈՒԹՅԱՆ, ԳԻՏՈՒԹՅԱՆ, ՄՇԱԿՈՒՅԹԻ ԵՎ ՍՊՈՐՏԻ ՆԱԽԱՐԱՐՈՒԹՅՈՒՆ | G15: =+G16 -> 0
B16: 1236 | D16: Հանրակրթական և նախադպրոցական հաստատությունների հիմնում, կառուցում, բարելավում | E16: Առնվազն 300 դպրոցի և 500 մանկապարտեզի կառուցման, վերակառուցման, հիմնանորոգման ծրագրերի իրականացում ՀՀ պետական բյուջեի միջոցների շրջանակներում | F16: Կրթական միջավայրի բարելավում | G16: =SUM(G17:G22) -> 0
C17: 1236 - 32001 | D17: Մանկապարտեզների նոր շենքերի կառուցում | E17: Նախադպրոցական կրթության հասանելիության ապահովման նպատակով՛ մանկապարտեզների հիմնում, նոր շենքերի (մասնաշենքերի), ներառյալ՛ ,Մոդուլայինե տիպի շենքերի կառուցում և նախագծում | F17: Այլ պետական կազմակերպությունների կողմից օգտագործվող ոչ ֆինանսական ակտիվների հետ գործառնություններ | G17: =+'Հավելված N 2'!G34 -> 53757.6
C18: 1236 - 32002 | D18: Մանկապարտեզների շենքերի վերակառուցում, հիմնանորոգում | E18: Նախադպրոցական կրթության հասանելիության ապահովման նպատակով՛ մանկապարտեզների շենքերի (մասնաշենքերի), վերակառուցում, հիմնանորոգում և նախագծում | F18: Այլ պետական կազմակերպությունների կողմից օգտագործվող ոչ ֆինանսական ակտիվների հետ գործառնություններ | G18: =+'Հավելված N 2'!G35 -> -496845.7
C19: 1236 - 32003 | D19: Հանրակրթական դպրոցների նոր շենքերի կառուցում | E19: ՀՀ մարզերում կրթական որակյալ ծառայությունների հասանելիության ապահովման ծրագրի շրջանակներում հանրակրթական և նախադպրոցական կրթության հասանելիության ապահովման նպատակով կրթական կենտրոնների կառուցում | F19: Այլ պետական կազմակերպությունների կողմից օգտագործվող ոչ ֆինանսական ակտիվների հետ գործառնություններ | G19: =+'Հավելված N 2'!G52 -> -1415375.3
C20: 1236 - 32004 | D20: Հանրակրթական դպրոցների շենքերի վերակառուցում, հիմնանորոգում | E20: Դպրոցական պարտադիր կրթության հասանելիության ապահովման նպատակով՛ հանրակրթական դպրոցների շենքերի (մասնաշենքերի), վերակառուցում, հիմնանորոգում և նախագծում | F20: Այլ պետական կազմակերպությունների կողմից օգտագործվող ոչ ֆինանսական ակտիվների հետ գործառնություններ | G20: =+'Հավելված N 2'!G68 -> 1828007.2
C21: 1236 - 32005 | D21: Կրթահամալիրների կառուցում | E21: ՀՀ մարզերում կրթական որակյալ ծառայությունների հասանելիության ապահովման ծրագրի շրջանակներում հանրակրթական և նախադպրոցական կրթության հասանելիության ապահովման նպատակով կրթական կենտրոնների կառուցում | F21: Այլ պետական կազմակերպությունների կողմից օգտագործվող ոչ ֆինանսական ակտիվների հետ գործառնություններ | G21: =+'Հավելված N 2'!G84 -> -471572.3
C22: 1236 - 32006 | D22: Հանրակրթական դպրոցների, մանկապարտեզների և կրթահամալիրների գույքով և տեխնիկայով ապահովում | E22: Կրթական ժամանակակից նորմերին և կրթական չափորոշիչներին համապատասխան ուսուցման ծրագրերն իրականացնելու նպատակով հանրակրթական և նախադպրոցական հաստատությունների համար գույքի և տեխնիկայի ձեռքբերում | F22: Այլ պետական կազմակերպությունների կողմից օգտագործվող ոչ ֆինանսական ակտիվների հետ գործառնություններ | G22: =+'Հավելված N 2'!G93 -> 502028.5

Sheet Հավելված N 2
F1: Հավելված N 2
F2: ՀՀ կառավարության 2025 թվականի
F3: ______________ ի ___Ն որոշման
A7: ՀԱՅԱՍՏԱՆԻ ՀԱՆՐԱՊԵՏՈՒԹՅԱՆ ԿԱՌԱՎԱՐՈՒԹՅԱՆ 2024 ԹՎԱԿԱՆԻ ԴԵԿՏԵՄԲԵՐԻ 27-Ի N 2060-Ն ՈՐՈՇՄԱՆ N 3 ԵՎ N 4 ՀԱՎԵԼՎԱԾՆԵՐՈՒՄ ԿԱՏԱՐՎՈՂ ՓՈՓՈԽՈՒԹՅՈՒՆՆԵՐԸ ԵՎ ԼՐԱՑՈՒՄՆԵՐԸ
G10: հազ. դրամներով
A11: Գործառական դասիչը | D11: Ծրագրային դասիչը | F11: Բյուջետային հատկացումների գլխավոր կարգադրիչների, ծրագրերի, միջոցառումների և միջոցառումները կատարող պետական մարմինների անվանումները | G11: Ցուցանիշների փոփոխությունը (ավելացումները նշված են դրական նշանով, իսկ նվազեցումները՝ փակագծերում)
A12: Բաժին | B12: Խումբ | C12: Դաս | D12: Ծրագիր | E12: Միջոցառում | G12: Տարի
F13: ԸՆԴԱՄԵՆԸ | G13: =+G15 -> 0
F14: այդ թվում՝
F15: ՀՀ ԿՐԹՈՒԹՅԱՆ, ԳԻՏՈՒԹՅԱՆ, ՄՇԱԿՈՒՅԹԻ ԵՎ ՍՊՈՐՏԻ ՆԱԽԱՐԱՐՈՒԹՅՈՒՆ | G15: =+G16 -> 0
A16: 09 | F16: ԿՐԹՈՒԹՅՈՒՆ | G16: =+G18+G44 -> 0
F17: այդ թվում`
B18: 01 | F18: Նախադպրոցական և տարրական ընդհանուր կրթություն | G18: =+G20 -> -443088.1
F19: այդ թվում`
C20: 01 | F20: Նախադպրոցական կրթություն | G20: =+G22 -> -443088.1
F21: այդ թվում`
F22: ՀՀ կրթության, գիտության, մշակույթի և սպորտի նախարարություն | G22: =+G24 -> -443088.1
F23: այդ թվում`
D24: 1236 | E24: Հանրակրթական և նախադպրոցական հաստատությունների հիմնում, կառուցում, բարելավում | G24: =+G26+G35 -> -443088.1
F25: այդ թվում`
E26: 32001 | F26: Մանկապարտեզների նոր շենքերի կառուցում | G26: =+G28 -> 53757.6
F27: այդ թվում` ըստ կատարողների
F28: ՀՀ քաղաքաշինության կոմիտե | G28: =+G30 -> 53757.6
F29: այդ թվում՝ բյուջետային ծախսերի տնտեսագիտական դասակարգման հոդվածներ
F30: ԸՆԴԱՄԵՆԸ ԾԱԽՍԵՐ | G30: =G31 -> 53757.6
F31: ՈՉ ՖԻՆԱՆՍԱԿԱՆ ԱԿՏԻՎՆԵՐԻ ԳԾՈՎ ԾԱԽՍԵՐ | G31: =+G32 -> 53757.6
F32: ՀԻՄՆԱԿԱՆ ՄԻՋՈՑՆԵՐ | G32: =+G33 -> 53757.6
F33: ՇԵՆՔԵՐ ԵՎ ՇԻՆՈՒԹՅՈՒՆՆԵՐ | G33: =+G34 -> 53757.6
F34: - Շենքերի և շինությունների շինարարություն | G34: =+'Հավելված N 4'!E17 -> 53757.6
E35: 32002 | F35: Մանկապարտեզների շենքերի վերակառուցում, հիմնանորոգում | G35: =+G37 -> -496845.7
F36: այդ թվում` ըստ կատարողների
F37: ՀՀ կառավարություն | G37: =+G39 -> -496845.7
F38: այդ թվում՝ բյուջետային ծախսերի տնտեսագիտական դասակարգման հոդվածներ
F39: ԸՆԴԱՄԵՆԸ ԾԱԽՍԵՐ | G39: =G40 -> -496845.7
F40: ՈՉ ՖԻՆԱՆՍԱԿԱՆ ԱԿՏԻՎՆԵՐԻ ԳԾՈՎ ԾԱԽՍԵՐ | G40: =+G41 -> -496845.7
F41: ՀԻՄՆԱԿԱՆ ՄԻՋՈՑՆԵՐ | G41: =+G42 -> -496845.7
F42: ՇԵՆՔԵՐ ԵՎ ՇԻՆՈՒԹՅՈՒՆՆԵՐ | G42: =+G43 -> -496845.7
F43: - Շենքերի և շինությունների կապիտալ վերանորոգում | G43: =+'Հավելված N 4'!E23 -> -496845.7
B44: 02 | F44: Միջնակարգ ընդհանուր կրթություն | G44: =+G46 -> 443088.1
F45: այդ թվում`
...

Sheet Հավելված N 3
F1: Հավելված N 3
F2: ՀՀ կառավարության 2025 թվականի
F3: ______________ ի ___Ն որոշման
A5: «ՀԱՅԱUՏԱՆԻ ՀԱՆՐԱՊԵՏՈՒԹՅԱՆ 2025 ԹՎԱԿԱՆԻ ՊԵՏԱԿԱՆ ԲՅՈՒՋԵԻ ՄԱUԻՆ» ՀԱՅԱUՏԱՆԻ ՀԱՆՐԱՊԵՏՈՒԹՅԱՆ OՐԵՆՔԻ N 1 ՀԱՎԵԼՎԱԾԻ N 3 ԱՂՅՈՒՍԱԿՈՒՄ ԿԱՏԱՐՎՈՂ ՓՈՓՈԽՈՒԹՅՈՒՆՆԵՐԸ ԵՎ ԼՐԱՑՈՒՄՆԵՐԸ
G8: հազ. դրամներով
A9: Ծրագրային դասիչ | C9: Բյուջետային գլխավոր կարգադրիչների, ծրագրերի, միջոցառումների, միջոցառումները կատարող պետական մարմինների և ուղղությունների անվանումները | D9: Ընդամենը | E9: Ցուցանիշների փոփոխությունը (ավելացումները նշված են դրական նշանով, իսկ նվազեցումները՝ փակագծերում)
A10: Ծրագիր | B10: Միջոցառում | E10: Կառուցման աշխատանքներ | F10: Վերակառուցման, վերանորոգման և վերականգնման աշխատանքներ | G10: Նախագծահե- տազոտական, գեոդեզիա- քարտեզագրա- կան աշխա- տանքներ | H10: Ոչ ֆինանսական այլ ակտիվների ձեռքբերում
C11: ԸՆԴԱՄԵՆԸ | D11: =ROUND(SUM(E11:H11),1) -> -9080 | E11: =+E13 -> -1833190 | F11: =+F13 -> 1322081.5 | G11: =+G13 -> 0 | H11: =+H13 -> 502028.5
C12: այդ թվում՝
C13: ՀՀ ԿՐԹՈՒԹՅԱՆ, ԳԻՏՈՒԹՅԱՆ, ՄՇԱԿՈՒՅԹԻ ԵՎ ՍՊՈՐՏԻ ՆԱԽԱՐԱՐՈՒԹՅՈՒՆ | D13: =ROUND(SUM(E13:H13),1) -> -9080 | E13: =+E15+E19+E22+E49+E105+E127 -> -1833190 | F13: =+F15+F19+F22+F49+F105+F127 -> 1322081.5 | G13: =+G15+G19+G22+G49+G105+G127 -> 0 | H13: =+H15+H19+H22+H49+H105+H127 -> 502028.5
C14: այդ թվում`
A15: 1236 | B15: 32001 | C15: Մանկապարտեզների նոր շենքերի կառուցում | D15: =SUM(E15:H15) -> 53757.6 | E15: =+E17 -> 53757.6 | F15: =+F17 -> 0 | G15: =+G17 -> 0 | H15: =+H17 -> 0
C16: այդ թվում`
C17: ՀՀ Արմավիրի մարզ | D17: =SUM(E17:H17) -> 53757.6 | E17: =+E18 -> 53757.6 | F17: =+F18 -> 0 | G17: =+G18 -> 0 | H17: =+H18 -> 0
C18: ՀՀ Արմավիրի մարզի Նորավան համայնքում «Մոդուլային» տիպի 144 տեղ հզորությամբ մսուր-մանկապարտեզ | D18: =+E18+F18+G18+H18 -> 53757.6 | E18: =+'Հավելված N 7'!I105+'Հավելված N 7'!I107+'Հավելված N 7'!I108 -> 53757.6
A19: 1236 | B19: 32002 | C19: Մանկապարտեզների շենքերի վերակառուցում, հիմնանորոգում | D19: =SUM(E19:H19) -> -496845.7 | E19: =+E21 -> 0 | F19: =+F21 -> -496845.7 | G19: =+G21 -> 0 | H19: =+H21 -> 0
C20: այդ թվում`
C21: Մանկապարտեզների շենքերի վերակառուցում, հիմնանորոգում | D21: =SUM(E21:H21) -> -496845.7 | E21: 0 | F21: =-562813.2+252556-186588.5 -> -496845.7 | G21: 0 | H21: 0
A22: 1236 | B22: 32003 | C22: Հանրակրթական դպրոցների նոր շենքերի կառուցում | D22: =SUM(E22:H22) -> -1415375.3 | E22: =+E24+E25+E27+E30+E32+E35+E38+E42+E47 -> -1415375.3 | F22: =+F24+F25+F27+F30+F32+F35+F38+F42+F47 -> 0 | G22: =+G24+G25+G27+G30+G32+G35+G38+G42+G47 -> 0 | H22: =+H24+H25+H27+H30+H32+H35+H38+H42+H47 -> 0
C23: այդ թվում`
C24: Հանրակրթական դպրոցների նոր շենքերի կառուցում | D24: =SUM(E24:H24) -> -494153.8 | E24: -494153.8 | F24: =SUM(F27:F28) -> 0 | G24: =SUM(G27:G28) -> 0 | H24: =SUM(H27:H28) -> 0
C25: ՀՀ Արագածոտնի մարզ | D25: =SUM(E25:H25) -> 36394.1 | E25: =SUM(E26:E26) -> 36394.1 | F25: =SUM(F26:F26) -> 0 | G25: =SUM(G26:G26) -> 0 | H25: =SUM(H26:H26) -> 0
C26: «Գառնահովիտի միջնակարգ դպրոց» ՊՈԱԿ | D26: =+E26+F26+G26+H26 -> 36394.1 | E26: =+'Հավելված N 7'!I112 -> 36394.1
C27: ՀՀ Արարատի մարզ | D27: =SUM(E27:H27) -> -9317.7 | E27: =SUM(E28:E29) -> -9317.7 | F27: =SUM(F28:F29) -> 0 | G27: =SUM(G28:G29) -> 0 | H27: =SUM(H28:H29) -> 0
C28: Գետազատ բնակավայրի միջնակարգ դպրոց | D28: =+E28+F28+G28+H28 -> -50000 | E28: =+'Հավելված N 7'!I17 -> -50000
C29: «Սիսավանի միջնակարգ դպրոց» ՊՈԱԿ | D29: =+E29+F29+G29+H29 -> 40682.3 | E29: =+'Հավելված N 7'!I18 -> 40682.3
C30: ՀՀ Արմավիրի մարզ | D30: =SUM(E30:H30) -> -311137.5 | E30: =SUM(E31:E31) -> -311137.5 | F30: =SUM(F31:F31) -> 0 | G30: =SUM(G31:G31) -> 0 | H30: =SUM(H31:H31) -> 0
C31: «Վաղարշապատի հ. 1 հիմնական դպրոց» ՊՈԱԿ | D31: =+E31+F31+G31+H31 -> -311137.5 | E31: =+'Հավելված N 7'!I19+'Հավելված N 7'!I32+'Հավելված N 7'!I33 -> -311137.5
C32: ՀՀ Գեղարքունիքի մարզ | D32: =SUM(E32:H32) -> 50000 | E32: =SUM(E33:E34) -> 50000 | F32: =SUM(F33:F34) -> 0 | G32: =SUM(G33:G34) -> 0 | H32: =SUM(H33:H34) -> 0
C33: գ. Ծովինարի Արծրուն Խաչատրյանի անվ. միջնակարգ դպրոց | D33: =+E33+F33+G33+H33 -> -30000 | E33: =+'Հավելված N 7'!I20 -> -30000
C34: ք. Գավառի թիվ 5 հիմնական դպրոց | D34: =+E34+F34+G34+H34 -> 80000 | E34: =+'Հավելված N 7'!I21 -> 80000
C35: ՀՀ Լոռու մարզ | D35: =SUM(E35:H35) -> -110883.3 | E35: =SUM(E36:E37) -> -110883.3 | F35: =SUM(F36:F37) -> 0 | G35: =SUM(G36:G37) -> 0 | H35: =SUM(H36:H37) -> 0
C36: ք. Տաշիրի միջնակարգ դպրոց (ք. Տաշիրի թիվ 1 հիմնական դպրոցի տեղակայման վայրում) | D36: =+E36+F36+G36+H36 -> -63000 | E36: =+'Հավելված N 7'!I22 -> -63000
C37: գ. Աքորու միջնակարգ դպրոց | D37: =+E37+F37+G37+H37 -> -47883.3 | E37: =+'Հավելված N 7'!I23 -> -47883.3
C38: ՀՀ Կոտայքի մարզ | D38: =SUM(E38:H38) -> 0 | E38: =SUM(E39:E41) -> 0 | F38: =SUM(F39:F41) -> 0 | G38: =SUM(G39:G41) -> 0 | H38: =SUM(H39:H41) -> 0
C39: Զառ բնակավայրի միջնակարգ դպրոց | D39: =+E39+F39+G39+H39 -> -43000 | E39: =+'Հավելված N 7'!I24 -> -43000
C40: Գեղադիր բնակավայրի միջնակարգ դպրոց | D40: =+E40+F40+G40+H40 -> 20000 | E40: =+'Հավելված N 7'!I25 -> 20000
C41: Լեռնանիստ բնակավայրի միջնակարգ դպրոց | D41: =+E41+F41+G41+H41 -> 23000 | E41: =+'Հավելված N 7'!I26 -> 23000
C42: ՀՀ Սյունիքի մարզ | D42: =SUM(E42:H42) -> -258206.4 | E42: =SUM(E43:E46) -> -258206.4 | F42: =SUM(F43:F45) -> 0 | G42: =SUM(G43:G45) -> 0 | H42: =SUM(H43:H45) -> 0
C43: գ. Խոտի միջնակարգ դպրոց | D43: =+E43+F43+G43+H43 -> -68879.4 | E43: =+'Հավելված N 7'!I27 -> -68879.4
...

Sheet Հավելված N 4
D1: Հավելված N 4
D2: ՀՀ կառավարության 2025 թվականի
D3: ______________ ի ___Ն որոշման
B6: ՀԱՅԱՍՏԱՆԻ ՀԱՆՐԱՊԵՏՈՒԹՅԱՆ ԿԱՌԱՎԱՐՈՒԹՅԱՆ 2024 ԹՎԱԿԱՆԻ ԴԵԿՏԵՄԲԵՐԻ 27-Ի N 2060-Ն ՈՐՈՇՄԱՆ N 5 ՀԱՎԵԼՎԱԾԻ N 2 ԱՂՅՈՒՍԱԿՈՒՄ ԿԱՏԱՐՎՈՂ ՓՈՓՈԽՈՒԹՅՈՒՆՆԵՐԸ ԵՎ ԼՐԱՑՈՒՄՆԵՐԸ
E8: հազ. դրամներով
B9: Ծրագրային դասիչ | D9: Բյուջետային գլխավոր կարգադրիչների, ծրագրերի, միջոցառումների, միջոցառումները կատարող պետական մարմինների և ուղղությունների անվանումները | E9: Ցուցանիշների փոփոխությունը (ավելացումները նշված են դրական նշանով, իսկ նվազեցումները՝ փակագծերում)
B10: Ծրագիր | C10: Միջոցառում | E10: Տարի
D11: ԸՆԴԱՄԵՆԸ | E11: =+E13 -> -9080
D12: այդ թվում՝
D13: ՀՀ ԿՐԹՈՒԹՅԱՆ, ԳԻՏՈՒԹՅԱՆ, ՄՇԱԿՈՒՅԹԻ ԵՎ ՍՊՈՐՏԻ ՆԱԽԱՐԱՐՈՒԹՅՈՒՆ | E13: =+E15+E21+E24+E56+E114+E138 -> -9080
D14: այդ թվում՝
B15: 1236 | C15: 32001 | D15: Մանկապարտեզների նոր շենքերի կառուցում | E15: =+E17 -> 53757.6
D16: այդ թվում` ըստ կատարողների
D17: ՀՀ քաղաքաշինության կոմիտե | E17: =+E19 -> 53757.6
D18: այդ թվում՝ ըստ ուղղությունների
D19: ՀՀ Արմավիրի մարզ | E19: =+E20 -> 53757.6
D20: =+'Հավելված N 3'!C18 -> ՀՀ Արմավիրի մարզի Նորավան համայնքում «Մոդուլային» տիպի 144 տեղ հզորությամբ մսուր-մանկապարտեզ | E20: =+'Հավելված N 3'!D18 -> 53757.6
B21: 1236 | C21: 32002 | D21: Մանկապարտեզների շենքերի վերակառուցում, հիմնանորոգում | E21: =+E23 -> -496845.7
D22: այդ թվում` ըստ կատարողների
D23: ՀՀ կառավարություն | E23: =+'Հավելված N 3'!D21 -> -496845.7
B24: 1236 | C24: 32003 | D24: Հանրակրթական դպրոցների նոր շենքերի կառուցում | E24: =+E26+E50 -> -1415375.3
D25: այդ թվում` ըստ կատարողների
D26: ՀՀ կրթության, գիտության, մշակույթի և սպորտի նախարարություն | E26: =SUM(E28,E29,E32,E34,E37,E40,E44,E48) -> -1381769.4
D27: այդ թվում՝ ըստ ուղղությունների
D28: Հանրակրթական դպրոցների նոր շենքերի կառուցում | E28: =+'Հավելված N 3'!D24 -> -494153.8
D29: ՀՀ Արարատի մարզ | E29: =SUM(E30:E31) -> -9317.7
D30: =+'Հավելված N 3'!C28 -> Գետազատ բնակավայրի միջնակարգ դպրոց | E30: =+'Հավելված N 3'!D28 -> -50000
D31: =+'Հավելված N 3'!C29 -> «Սիսավանի միջնակարգ դպրոց» ՊՈԱԿ | E31: =+'Հավելված N 3'!D29 -> 40682.3
D32: ՀՀ Արմավիրի մարզ | E32: =+E33 -> -311137.5
D33: =+'Հավելված N 3'!C31 -> «Վաղարշապատի հ. 1 հիմնական դպրոց» ՊՈԱԿ | E33: =+'Հավելված N 3'!D31 -> -311137.5
D34: ՀՀ Գեղարքունիքի մարզ | E34: =SUM(E35:E36) -> 50000
D35: =+'Հավելված N 3'!C33 -> գ. Ծովինարի Արծրուն Խաչատրյանի անվ. միջնակարգ դպրոց | E35: =+'Հավելված N 3'!D33 -> -30000
D36: =+'Հավելված N 3'!C34 -> ք. Գավառի թիվ 5 հիմնական դպրոց | E36: =+'Հավելված N 3'!D34 -> 80000
D37: ՀՀ Լոռու մարզ | E37: =SUM(E38:E39) -> -110883.3
D38: =+'Հավելված N 3'!C36 -> ք. Տաշիրի միջնակարգ դպրոց (ք. Տաշիրի թիվ 1 հիմնական դպրոցի տեղակայման վայրում) | E38: =+'Հավելված N 3'!D36 -> -63000
D39: =+'Հավելված N 3'!C37 -> գ. Աքորու միջնակարգ դպրոց | E39: =+'Հավելված N 3'!D37 -> -47883.3
D40: ՀՀ Կոտայքի մարզ | E40: =SUM(E41:E43) -> 0
D41: =+'Հավելված N 3'!C39 -> Զառ բնակավայրի միջնակարգ դպրոց | E41: =+'Հավելված N 3'!D39 -> -43000
D42: =+'Հավելված N 3'!C40 -> Գեղադիր բնակավայրի միջնակարգ դպրոց | E42: =+'Հավելված N 3'!D40 -> 20000
D43: =+'Հավելված N 3'!C41 -> Լեռնանիստ բնակավայրի միջնակարգ դպրոց | E43: =+'Հավելված N 3'!D41 -> 23000
...

Sheet Հավելված N 5
I1: Հավելված N 5
I2: ՀՀ կառավարության 2025 թվականի
I3: ______________ ի ___Ն որոշման
A6: ՀԱՅԱՍՏԱՆԻ ՀԱՆՐԱՊԵՏՈՒԹՅԱՆ ԿԱՌԱՎԱՐՈՒԹՅԱՆ 2024 ԹՎԱԿԱՆԻ ԴԵԿՏԵՄԲԵՐԻ 27-Ի N 2060-Ն ՈՐՈՇՄԱՆ N 9 ՀԱՎԵԼՎԱԾՈՒՄ ԿԱՏԱՐՎՈՂ ՓՈՓՈԽՈՒԹՅՈՒՆՆԵՐԸ ԵՎ ԼՐԱՑՈՒՄՆԵՐԸ
J8: հազար դրամներով
A9: ԲԳԿ | B9: Ծրագիր | D9: Միջոցառում | H9: Իրականացնողը/ ակտիվն օգտագործողը/ շահառուի ընտրության չափորոշիչը | I9: Արդյունքային չափորոշիչը | J9: Ցուցանիշների փոփոխությունը (ավելացումները նշված են դրական նշանով, իսկ նվազեցումները՝ փակագծերում)
B10: Դասիչը | C10: Անվանումը | D10: Դասիչը | E10: Անվանումը | F10: Նկարագրությունը | G10: Տեսակը | J10: Տարի
A11: ԸՆԴԱՄԵՆԸ | J11: =+J13 -> 0
A12: այդ թվում՝
A13: ՀՀ ԿՐԹՈՒԹՅԱՆ, ԳԻՏՈՒԹՅԱՆ, ՄՇԱԿՈԻՅԹԻ ԵՎ ՍՊՈՐՏԻ ՆԱԽԱՐԱՐՈՒԹՅՈՒՆ | J13: =+J14 -> 0
B14: 1236 | C14: Հանրակրթական և նախադպրոցական հաստատությունների հիմնում, կառուցում, բարելավում | J14: =+J15+J19+J23+J27+J31+J35 -> 0
D15: 1236 - 32001 | E15: Մանկապարտեզների նոր շենքերի կառուցում | J15: =+'Հավելված N 1'!G17 -> 53757.6
F16: Նախադպրոցական կրթության հասանելիության ապահովման նպատակով՛ մանկապարտեզների հիմնում, նոր շենքերի (մասնաշենքերի), ներառյալ՛ ,Մոդուլայինե տիպի շենքերի կառուցում և նախագծում
G17: Այլ պետական կազմակերպությունների կողմից օգտագործվող ոչ ֆինանսական ակտիվների հետ գործառնություններ
H18: Շահառուների ընտրության չափորոշիչները` Նախադպրոցական կրթություն իրականացնող ուսումնական հաստատություններ
D19: 1236 - 32002 | E19: Մանկապարտեզների շենքերի վերակառուցում, հիմնանորոգում | J19: =+'Հավելված N 1'!G18 -> -496845.7
F20: Նախադպրոցական կրթության հասանելիության ապահովման նպատակով՛ մանկապարտեզների շենքերի (մասնաշենքերի), վերակառուցում, հիմնանորոգում և նախագծում
G21: Այլ պետական կազմակերպությունների կողմից օգտագործվող ոչ ֆինանսական ակտիվների հետ գործառնություններ
H22: Շահառուների ընտրության չափորոշիչները` Նախադպրոցական կրթություն իրականացնող ուսումնական հաստատություններ
D23: 1236 - 32003 | E23: Հանրակրթական դպրոցների նոր շենքերի կառուցում | J23: =+'Հավելված N 1'!G19 -> -1415375.3
F24: ՀՀ մարզերում կրթական որակյալ ծառայությունների հասանելիության ապահովման ծրագրի շրջանակներում հանրակրթական և նախադպրոցական կրթության հասանելիության ապահովման նպատակով կրթական կենտրոնների կառուցում
G25: Այլ պետական կազմակերպությունների կողմից օգտագործվող ոչ ֆինանսական ակտիվների հետ գործառնություններ
H26: Ակտիվն օգտագործող կազմակերպությունների անվանումները` Հանրակրթական դպրոցներ
D27: 1236 - 32004 | E27: Հանրակրթական դպրոցների շենքերի վերակառուցում, հիմնանորոգում | J27: =+'Հավելված N 1'!G20 -> 1828007.2
F28: Դպրոցական պարտադիր կրթության հասանելիության ապահովման նպատակով՛ հանրակրթական դպրոցների շենքերի (մասնաշենքերի), վերակառուցում, հիմնանորոգում և նախագծում
G29: Այլ պետական կազմակերպությունների կողմից օգտագործվող ոչ ֆինանսական ակտիվների հետ գործառնություններ
H30: Ակտիվն օգտագործող կազմակերպությունների անվանումները` Հանրակրթական դպրոցներ
D31: 1236 - 32005 | E31: Կրթահամալիրների կառուցում | J31: =+'Հավելված N 1'!G21 -> -471572.3
F32: ՀՀ մարզերում կրթական որակյալ ծառայությունների հասանելիության ապահովման ծրագրի շրջանակներում հանրակրթական և նախադպրոցական կրթության հասանելիության ապահովման նպատակով կրթական կենտրոնների կառուցում
G33: Այլ պետական կազմակերպությունների կողմից օգտագործվող ոչ ֆինանսական ակտիվների հետ գործառնություններ
H34: Ակտիվն օգտագործող կազմակերպությունների անվանումները` Ստեղծվող կրթահամալիրներ
D35: 1236 - 32006 | E35: Հանրակրթական դպրոցների, մանկապարտեզների և կրթահամալիրների գույքով և տեխնիկայով ապահովում | J35: =+'Հավելված N 1'!G22 -> 502028.5
F36: Կրթական ժամանակակից նորմերին և կրթական չափորոշիչներին համապատասխան ուսուցման ծրագրերն իրականացնելու նպատակով հանրակրթական և նախադպրոցական հաստատությունների համար գույքի և տեխնիկայի ձեռքբերում
G37: Այլ պետական կազմակերպությունների կողմից օգտագործվող ոչ ֆինանսական ակտիվների հետ գործառնություններ
H38: Ակտիվն օգտագործող կազմակերպությունների անվանումները` Հանրակրթական դպրոցներ, մանկապարտեզներ և կրթահամալիրներ

Sheet Հավելված N 6
I1: Հավելված N 6
I2: ՀՀ կառավարության 2025 թվականի
I3: ______________ ի ___Ն որոշման
A6: ՀԱՅԱՍՏԱՆԻ ՀԱՆՐԱՊԵՏՈՒԹՅԱՆ ԿԱՌԱՎԱՐՈՒԹՅԱՆ 2024 ԹՎԱԿԱՆԻ ԴԵԿՏԵՄԲԵՐԻ 27-Ի N 2060-Ն ՈՐՈՇՄԱՆ N 9.1 ՀԱՎԵԼՎԱԾՈՒՄ ԿԱՏԱՐՎՈՂ ՓՈՓՈԽՈՒԹՅՈՒՆՆԵՐԸ ԵՎ ԼՐԱՑՈՒՄՆԵՐԸ
J8: հազար դրամներով
A9: ԲՍԿ | B9: Ծրագիր | D9: Միջոցառում | H9: Իրականացնողը/ ակտիվն օգտագործողը/ շահառուի ընտրության չափորոշիչը | I9: Արդյունքային չափորոշիչը | J9: Ցուցանիշների փոփոխությունը (ավելացումները նշված են դրական նշանով, իսկ նվազեցումները՝ փակագծերում)
B10: Դասիչը | C10: Անվանումը | D10: Դասիչը | E10: Անվանումը | F10: Նկարագրությունը | G10: Տեսակը | J10: Տարի
A11: ԸՆԴԱՄԵՆԸ | J11: =+J13+J32+J47+J54 -> 0
A12: այդ թվում՝
A13: ՀՀ ԿՐԹՈՒԹՅԱՆ, ԳԻՏՈՒԹՅԱՆ, ՄՇԱԿՈԻՅԹԻ ԵՎ ՍՊՈՐՏԻ ՆԱԽԱՐԱՐՈՒԹՅՈՒՆ | J13: =+J14 -> 465459.8
B14: 1236 | C14: Հանրակրթական և նախադպրոցական հաստատությունների հիմնում, կառուցում, բարելավում | J14: =+J15+J19+J23+J27 -> 465459.8
D15: 1236 - 32003 | E15: Հանրակրթական դպրոցների նոր շենքերի կառուցում | J15: =+'Հավելված N 2'!G54 -> -1381769.4
F16: ՀՀ մարզերում կրթական որակյալ ծառայությունների հասանելիության ապահովման ծրագրի շրջանակներում հանրակրթական և նախադպրոցական կրթության հասանելիության ապահովման նպատակով կրթական կենտրոնների կառուցում
G17: Այլ պետական կազմակերպությունների կողմից օգտագործվող ոչ ֆինանսական ակտիվների հետ գործառնություններ
H18: Ակտիվն օգտագործող կազմակերպությունների անվանումները` Հանրակրթական դպրոցներ
D19: 1236 - 32004 | E19: Հանրակրթական դպրոցների շենքերի վերակառուցում, հիմնանորոգում | J19: =+'Հավելված N 2'!G70 -> 1818927.2
F20: Դպրոցական պարտադիր կրթության հասանելիության ապահովման նպատակով՛ հանրակրթական դպրոցների շենքերի (մասնաշենքերի), վերակառուցում, հիմնանորոգում և նախագծում
G21: Այլ պետական կազմակերպությունների կողմից օգտագործվող ոչ ֆինանսական ակտիվների հետ գործառնություններ
H22: Ակտիվն օգտագործող կազմակերպությունների անվանումները` Հանրակրթական դպրոցներ
D23: 1236 - 32005 | E23: Կրթահամալիրների կառուցում | J23: =+'Հավելված N 2'!G86 -> -471572.3
F24: ՀՀ մարզերում կրթական որակյալ ծառայությունների հասանելիության ապահովման ծրագրի շրջանակներում հանրակրթական և նախադպրոցական կրթության հասանելիության ապահովման նպատակով կրթական կենտրոնների կառուցում
G25: Այլ պետական կազմակերպությունների կողմից օգտագործվող ոչ ֆինանսական ակտիվների հետ գործառնություններ
H26: Ակտիվն օգտագործող կազմակերպությունների անվանումները` Հանրակրթական դպրոցներ, մանկապարտեզներ և կրթահամալիրներ
D27: 1236 - 32006 | E27: Հանրակրթական դպրոցների, մանկապարտեզների և կրթահամալիրների գույքով և տեխնիկայով ապահովում | J27: =+'Հավելված N 2'!G95 -> 499874.3
F28: Կրթական ժամանակակից նորմերին և կրթական չափորոշիչներին համապատասխան ուսուցման ծրագրերն իրականացնելու նպատակով հանրակրթական և նախադպրոցական հաստատությունների համար գույքի և տեխնիկայի ձեռքբերում
G29: Այլ պետական կազմակերպությունների կողմից օգտագործվող ոչ ֆինանսական ակտիվների հետ գործառնություններ
H30: Ակտիվն օգտագործող կազմակերպությունների անվանումները` Հանրակրթական դպրոցներ, մանկապարտեզներ և կրթահամալիրներ
A32: ՀՀ ՔԱՂԱՔԱՇԻՆՈՒԹՅԱՆ ԿՈՄԻՏԵ | J32: =+J33 -> 29231.7
B33: 1236 | C33: Հանրակրթական և նախադպրոցական հաստատությունների հիմնում, կառուցում, բարելավում | J33: =+J34+J38+J42 -> 29231.7
D34: 1236 - 32001 | E34: Մանկապարտեզների նոր շենքերի կառուցում | J34: =+'Հավելված N 2'!G28 -> 53757.6
F35: Նախադպրոցական կրթության հասանելիության ապահովման նպատակով՛ մանկապարտեզների հիմնում, նոր շենքերի (մասնաշենքերի), ներառյալ՛ ,Մոդուլայինե տիպի շենքերի կառուցում և նախագծում
G36: Այլ պետական կազմակերպությունների կողմից օգտագործվող ոչ ֆինանսական ակտիվների հետ գործառնություններ
H37: Շահառուների ընտրության չափորոշիչները` Նախադպրոցական կրթություն իրականացնող ուսումնական հաստատություններ
D38: 1236 - 32003 | E38: Հանրակրթական դպրոցների նոր շենքերի կառուցում | J38: =+'Հավելված N 2'!G61 -> -33605.9
F39: ՀՀ մարզերում կրթական որակյալ ծառայությունների հասանելիության ապահովման ծրագրի շրջանակներում հանրակրթական և նախադպրոցական կրթության հասանելիության ապահովման նպատակով կրթական կենտրոնների կառուցում
G40: Այլ պետական կազմակերպությունների կողմից օգտագործվող ոչ ֆինանսական ակտիվների հետ գործառնություններ
H41: Ակտիվն օգտագործող կազմակերպությունների անվանումները` Հանրակրթական դպրոցներ
D42: 1236 - 32004 | E42: Հանրակրթական դպրոցների շենքերի վերակառուցում, հիմնանորոգում | J42: =+'Հավելված N 2'!G77 -> 9080
F43: Դպրոցական պարտադիր կրթության հասանելիության ապահովման նպատակով՛ հանրակրթական դպրոցների շենքերի (մասնաշենքերի), վերակառուցում, հիմնանորոգում և նախագծում
G44: Այլ պետական կազմակերպությունների կողմից օգտագործվող ոչ ֆինանսական ակտիվների հետ գործառնություններ
...

Sheet Հավելված N 7
H1: Հավելված N 7
H2: ՀՀ կառավարության 2025 թվականի
H3: ______________ ի ___Ն որոշման
A6: ՀԱՅԱՍՏԱՆԻ ՀԱՆՐԱՊԵՏՈՒԹՅԱՆ ԿԱՌԱՎԱՐՈՒԹՅԱՆ 2024 ԹՎԱԿԱՆԻ ԴԵԿՏԵՄԲԵՐԻ 27-Ի N 2060-Ն N 10 ՀԱՎԵԼՎԱԾՈՒՄ ԿԱՏԱՐՎՈՂ ՓՈՓՈԽՈՒԹՅՈՒՆՆԵՐԸ ԵՎ ԼՐԱՑՈՒՄՆԵՐԸ
A10: Կոդը | B10: Անվանումը | E10: Գնման ձևը | F10: Չափման միավորը | G10: Միավորի գինը | H10: Ցուցանիշների փոփոխությունը (ավելացումները նշված են դրական նշանով, իսկ նվազեցումները՝ փակագծերում)
H11: Քանակը | I11: Գումարը (հազար դրամ)
A12: 1 | B12: 2 | E12: 3 | F12: 4 | G12: 5 | H12: 6 | I12: 7
A13: ՀՀ կրթության, գիտության, մշակույթի և սպորտի նախարարություն | I13: =+I14 -> 959613.6
A14: Բաժին N 09 | B14: Խումբ N 02 | C14: Դաս N 01 | D14: Հիմնական ընդհանուր կրթություն | I14: =+I15+I34+I80+I97 -> 959613.6
A15: 1236-32003 | B15: Հանրակրթական դպրոցների նոր շենքերի կառուցում | I15: =+I16+I31 -> -887615.6
B16: ՄԱՍ II. ԱՇԽԱՏԱՆՔՆԵՐ | I16: =SUM(I17:I30) -> -880007.7
A17: 45211229-63 | B17: շինարարական աշխատանքներ դպրոցների համար | E17: ՀԲՄ | F17: դրամ | I17: -50000
A18: 45221142-2 | B18: ընդհանուր շինարարական աշխատանքներ | E18: ԲՄ | F18: դրամ | I18: 40682.3
A19: 45221142-3 | B19: ընդհանուր շինարարական աշխատանքներ | E19: ԲՄ | F19: դրամ | I19: -303529.6
A20: 45211229-73 | B20: շինարարական աշխատանքներ դպրոցների համար | E20: ՀԲՄ | F20: դրամ | I20: -30000
A21: 45211229-74 | B21: շինարարական աշխատանքներ դպրոցների համար | E21: ՀԲՄ | F21: դրամ | I21: 80000
A22: 45211229-77 | B22: շինարարական աշխատանքներ դպրոցների համար | E22: ՀԲՄ | F22: դրամ | I22: -63000
A23: 45211229-79 | B23: շինարարական աշխատանքներ դպրոցների համար | E23: ՀԲՄ | F23: դրամ | I23: -47883.3
A24: 45211229-83 | B24: շինարարական աշխատանքներ դպրոցների համար | E24: ՀԲՄ | F24: դրամ | I24: -43000
A25: 45211229-84 | B25: շինարարական աշխատանքներ դպրոցների համար | E25: ՀԲՄ | F25: դրամ | I25: 20000
A26: 45211229-90 | B26: շինարարական աշխատանքներ դպրոցների համար | E26: ՀԲՄ | F26: դրամ | I26: 23000
A27: 45211229-104 | B27: շինարարական աշխատանքներ դպրոցների համար | E27: ՀԲՄ | F27: դրամ | I27: -68879.4
A28: 45211229-102 | B28: շինարարական աշխատանքներ դպրոցների համար | E28: ՀԲՄ | F28: դրամ | I28: -84027
... A30: 45211229-112 | B30: շինարարական աշխատանքներ դպրոցների համար | E30: ՀԲՄ | F30: դրամ | I30: -318070.7
B31: ՄԱՍ III. ԾԱՌԱՅՈՒԹՅՈՒՆՆԵՐ | I31: =SUM(I32:I33) -> -7607.9
A32: 71351540-32 | B32: տեխնիկական հսկողության ծառայություններ | E32: ԲՄ | F32: դրամ | I32: -5971.8
A33: 98111140-22 | B33: հեղինակային հսկողության ծառայություններ | E33: ՄԱ | F33: դրամ | I33: -1636.1
A34: 1236-32004 | B34: Հանրակրթական դպրոցների շենքերի վերակառուցում, հիմնանորոգում | I34: =+I35 -> 1818927.2
B35: ՄԱՍ II. ԱՇԽԱՏԱՆՔՆԵՐ | I35: =SUM(I36:I79) -> 1818927.2
A36: 45211229-705 | B36: շինարարական աշխատանքներ դպրոցների համար | E36: ՀԲՄ | F36: դրամ | I36: 57883.6
A37: 45211229-743 | B37: շինարարական աշխատանքներ դպրոցների համար | E37: ՀԲՄ | F37: դրամ | I37: 18021.2
A38: 45211229-746 | B38: շինարարական աշխատանքներ դպրոցների համար | E38: ՀԲՄ | F38: դրամ | I38: 50000
A39: 45211229-745 | B39: շինարարական աշխատանքներ դպրոցների համար | E39: ՀԲՄ | F39: դրամ | I39: 29650.1
A40: 45211229-175 | B40: շինարարական աշխատանքներ դպրոցների համար | E40: ՀԲՄ | F40: դրամ | I40: 64488.8
A41: 45211229-802 | B41: շինարարական աշխատանքներ դպրոցների համար | E41: ՀԲՄ | F41: դրամ | I41: 90000
A42: 45211229-803 | B42: շինարարական աշխատանքներ դպրոցների համար | E42: ՀԲՄ | F42: դրամ | I42: 50000
A43: 45211229-734 | B43: շինարարական աշխատանքներ դպրոցների համար | E43: ՀԲՄ | F43: դրամ | I43: 40000
A44: 45211229-741 | B44: շինարարական աշխատանքներ դպրոցների համար | E44: ՀԲՄ | F44: դրամ | I44: 23267
A45: 45211229-750 | B45: շինարարական աշխատանքներ դպրոցների համար | E45: ՀԲՄ | F45: դրամ | I45: 100000
A46: 45211229-780 | B46: շինարարական աշխատանքներ դպրոցների համար | E46: ՀԲՄ | F46: դրամ | I46: 25500
...
