Workbook
Name a: #REF!
Name a: #REF!
Name a: #REF!
Name AgencyCode: #REF!
Name AgencyCode: #REF!
Name AgencyCode: #REF!
Name AgencyCode: #REF!
Name AgencyCode: #REF!
Name AgencyCode: #REF!
Name AgencyName: #REF!
Name AgencyName: #REF!
Name AgencyName: #REF!
Name åû: #REF!
Name åû: #REF!
Name davit: #REF!
Name davit: #REF!
Name Functional1: #REF!
Name Functional1: #REF!
Name Functional1: #REF!
Name ggg: #REF!
Name ggg: #REF!
Name hav: #REF!
Name hav: #REF!
Name mas: #REF!
Name mas: #REF!
Name mass: #REF!
Name mass: #REF!
Name PANature: #REF!
Name PANature: #REF!
Name PANature: #REF!
Name PAType: #REF!
Name PAType: #REF!
Name PAType: #REF!
Name Performance2: #REF!
Name Performance2: #REF!
Name Performance2: #REF!
Name PerformanceType: #REF!
Name PerformanceType: #REF!
Name PerformanceType: #REF!
Name x: #REF!
Name x: #REF!
Name Հավելված: #REF!
Name Հավելված: #REF!
Name Հավելված10: #REF!
Name Հավելված10: #REF!
Name Հավելված11: #REF!
Name Հավելված11: #REF!
Name Հավելված20: #REF!
Name Հավելված20: #REF!
Name Հավելված9: #REF!
Name Հավելված9: #REF!
Name Մաս: #REF!
Name Մաս: #REF!
Name շախմատիստ: #REF!
Name շախմատիստ: #REF!
Name վֆյգյգ: #REF!
Name վֆյգյգ: #REF!

Sheet Հավելված N 1
F1: Հավելված N 1
F2: ՀՀ կառավարության 2025 թվականի
F3: ______________ ի ___Ն որոշման
A6: «ՀԱՅԱUՏԱՆԻ ՀԱՆՐԱՊԵՏՈՒԹՅԱՆ 2025 ԹՎԱԿԱՆԻ ՊԵՏԱԿԱՆ ԲՅՈՒՋԵԻ ՄԱUԻՆ» ՀԱՅԱUՏԱՆԻ ՀԱՆՐԱՊԵՏՈՒԹՅԱՆ OՐԵՆՔԻ N 1 ՀԱՎԵԼՎԱԾԻ N 2 ԱՂՅՈՒՍԱԿՈՒՄ ԿԱՏԱՐՎՈՂ ՎԵՐԱԲԱՇԽՈՒՄԸ ԵՎ ՀԱՅԱՍՏԱՆԻ ՀԱՆՐԱՊԵՏՈՒԹՅԱՆ ԿԱՌԱՎԱՐՈՒԹՅԱՆ 2024 ԹՎԱԿԱՆԻ ԴԵԿՏԵՄԲԵՐԻ 27-Ի N 2060-Ն ՈՐՈՇՄԱՆ N 5 ՀԱՎԵԼՎԱԾԻ N 1 ԱՂՅՈՒՍԱԿՈՒՄ ԿԱՏԱՐՎՈՂ ՓՈՓՈԽՈՒԹՅՈՒՆՆԵՐԸ ԵՎ ԼՐԱՑՈՒՄՆԵՐԸ
G9: հազ. դրամներով
A10: ԲԳԿ | B10: Ծրագրային դասիչը | D10: ԲԳԿ/Ծրագրի /միջոցառման անվանումը | E10: Ծրագրի նպատակը/Միջոցառման նկարագրությունը | F10: Վերջնական արդյունքի նկարագրությունը/Միջոցառման տեսակը | G10: Ցուցանիշների փոփոխությունը (ավելացումները նշված են դրական նշանով, իսկ նվազեցումները փակագծերում)
G11: Տարի
B12: Ծրագիր | C12: Միջոցառում
A13: ԸՆԴԱՄԵՆԸ | G13: =+G15 -> 0
A14: այդ թվում՝
A15: ՀՀ ԿՐԹՈՒԹՅԱՆ, ԳԻՏՈՒԹՅԱՆ, ՄՇԱԿՈՒՅԹԻ ԵՎ ՍՊՈՐՏԻ ՆԱԽԱՐԱՐՈՒԹՅՈՒՆ | G15: =+G16 -> 0
B16: 1236 | D16: Հանրակրթական և նախադպրոցական հաստատությունների հիմնում, կառուցում, բարելավում | E16: Առնվազն 300 դպրոցի և 500 մանկապարտեզի կառուցման, վերակառուցման, հիմնանորոգման ծրագրերի իրականացում ՀՀ պետական բյուջեի միջոցների շրջանակներում | F16: Կրթական միջավայրի բարելավում | G16: =SUM(G17:G22) -> 0
C17: 1236 - 32001 | D17: Մանկապարտեզների նոր շենքերի կառուցում | E17: Նախադպրոցական կրթության հասանելիության ապահովման նպատակով՛ մանկապարտեզների հիմնում, նոր շենքերի (մասնաշենքերի), ներառյալ՛ ,Մոդուլայինե տիպի շենքերի կառուցում և նախագծում | F17: Այլ պետական կազմակերպությունների կողմից օգտագործվող ոչ ֆինանսական ակտիվների հետ գործառնություններ | G17: =+'Հավելված N 2'!G34 -> 53757.6
C18: 1236 - 32002 | D18: Մանկապարտեզների շենքերի վերակառուցում, հիմնանորոգում | E18: Նախադպրոցական կրթության հասանելիության ապահովման նպատակով՛ մանկապարտեզների շենքերի (մասնաշենքերի), վերակառուցում, հիմնանորոգում և նախագծում | F18: Այլ պետական կազմակերպությունների կողմից օգտագործվող ոչ ֆինանսական ակտիվների հետ գործառնություններ | G18: =+'Հավելված N 2'!G35 -> -496845.7
C19: 1236 - 32003 | D19: Հանրակրթական դպրոցների նոր շենքերի կառուցում | E19: ՀՀ մարզերում կրթական որակյալ ծառայությունների հասանելիության ապահովման ծրագրի շրջանակներում հանրակրթական և նախադպրոցական կրթության հասանելիության ապահովման նպատակով կրթական կենտրոնների կառուցում | F19: Այլ պետական կազմակերպությունների կողմից օգտագործվող ոչ ֆինանսական ակտիվների հետ գործառնություններ | G19: =+'Հավելված N 2'!G52 -> -1415375.3
C20: 1236 - 32004 | D20: Հանրակրթական դպրոցների շենքերի վերակառուցում, հիմնանորոգում | E20: Դպրոցական պարտադիր կրթության հասանելիության ապահովման նպատակով՛ հանրակրթական դպրոցների շենքերի (մասնաշենքերի), վերակառուցում, հիմնանորոգում և նախագծում | F20: Այլ պետական կազմակերպությունների կողմից օգտագործվող ոչ ֆինանսական ակտիվների հետ գործառնություններ | G20: =+'Հավելված N 2'!G68 -> 1828007.2
C21: 1236 - 32005 | D21: Կրթահամալիրների կառուցում | E21: ՀՀ մարզերում կրթական որակյալ ծառայությունների հասանելիության ապահովման ծրագրի շրջանակներում հանրակրթական և նախադպրոցական կրթության հասանելիության ապահովման նպատակով կրթական կենտրոնների կառուցում | F21: Այլ պետական կազմակերպությունների կողմից օգտագործվող ոչ ֆինանսական ակտիվների հետ գործառնություններ | G21: =+'Հավելված N 2'!G84 -> -471572.3
C22: 1236 - 32006 | D22: Հանրակրթական դպրոցների, մանկապարտեզների և կրթահամալիրների գույքով և տեխնիկայով ապահովում | E22: Կրթական ժամանակակից նորմերին և կրթական չափորոշիչներին համապատասխան ուսուցման ծրագրերն իրականացնելու նպատակով հանրակրթական և նախադպրոցական հաստատությունների համար գույքի և տեխնիկայի ձեռքբերում | F22: Այլ պետական կազմակերպությունների կողմից օգտագործվող ոչ ֆինանսական ակտիվների հետ գործառնություններ | G22: =+'Հավելված N 2'!G93 -> 502028.5

Sheet Հավելված N 2
F1: Հավելված N 2
F2: ՀՀ կառավարության 2025 թվականի
F3: ______________ ի ___Ն որոշման
A7: ՀԱՅԱՍՏԱՆԻ ՀԱՆՐԱՊԵՏՈՒԹՅԱՆ ԿԱՌԱՎԱՐՈՒԹՅԱՆ 2024 ԹՎԱԿԱՆԻ ԴԵԿՏԵՄԲԵՐԻ 27-Ի N 2060-Ն ՈՐՈՇՄԱՆ N 3 ԵՎ N 4 ՀԱՎԵԼՎԱԾՆԵՐՈՒՄ ԿԱՏԱՐՎՈՂ ՓՈՓՈԽՈՒԹՅՈՒՆՆԵՐԸ ԵՎ ԼՐԱՑՈՒՄՆԵՐԸ
G10: հազ. դրամներով
A11: Գործառական դասիչը | D11: Ծրագրային դասիչը | F11: Բյուջետային հատկացումների գլխավոր կարգադրիչների, ծրագրերի, միջոցառումների և միջոցառումները կատարող պետական մարմինների անվանումները | G11: Ցուցանիշների փոփոխությունը (ավելացումները նշված են դրական նշանով, իսկ նվազեցումները՝ փակագծերում)
A12: Բաժին | B12: Խումբ | C12: Դաս | D12: Ծրագիր | E12: Միջոցառում | G12: Տարի
F13: ԸՆԴԱՄԵՆԸ | G13: =+G15 -> 0
F14: այդ թվում՝
F15: ՀՀ ԿՐԹՈՒԹՅԱՆ, ԳԻՏՈՒԹՅԱՆ, ՄՇԱԿՈՒՅԹԻ ԵՎ ՍՊՈՐՏԻ ՆԱԽԱՐԱՐՈՒԹՅՈՒՆ | G15: =+G16 -> 0
A16: 09 | F16: ԿՐԹՈՒԹՅՈՒՆ | G16: =+G18+G44 -> 0
F17: այդ թվում`
B18: 01 | F18: Նախադպրոցական և տարրական ընդհանուր կրթություն | G18: =+G20 -> -443088.1
F19: այդ թվում`
C20: 01 | F20: Նախադպրոցական կրթություն | G20: =+G22 -> -443088.1
F21: այդ թվում`
F22: ՀՀ կրթության, գիտության, մշակույթի և սպորտի նախարարություն | G22: =+G24 -> -443088.1
F23: այդ թվում`
D24: 1236 | E24: Հանրակրթական և նախադպրոցական հաստատությունների հիմնում, կառուցում, բարելավում | G24: =+G26+G35 -> -443088.1
F25: այդ թվում`
E26: 32001 | F26: Մանկապարտեզների նոր շենքերի կառուցում | G26: =+G28 -> 53757.6
F27: այդ թվում` ըստ կատարողների
F28: ՀՀ քաղաքաշինության կոմիտե | G28: =+G30 -> 53757.6
F29: այդ թվում՝ բյուջետային ծախսերի տնտեսագիտական դասակարգման հոդվածներ
F30: ԸՆԴԱՄԵՆԸ ԾԱԽՍԵՐ | G30: =G31 -> 53757.6
F31: ՈՉ ՖԻՆԱՆՍԱԿԱՆ ԱԿՏԻՎՆԵՐԻ ԳԾՈՎ ԾԱԽՍԵՐ | G31: =+G32 -> 53757.6
F32: ՀԻՄՆԱԿԱՆ ՄԻՋՈՑՆԵՐ | G32: =+G33 -> 53757.6
F33: ՇԵՆՔԵՐ ԵՎ ՇԻՆՈՒԹՅՈՒՆՆԵՐ | G33: =+G34 -> 53757.6
F34: - Շենքերի և շինությունների շինարարություն | G34: =+'Հավելված N 4'!E17 -> 53757.6
E35: 32002 | F35: Մանկապարտեզների շենքերի վերակառուցում, հիմնանորոգում | G35: =+G37 -> -496845.7
F36: այդ թվում` ըստ կատարողների
F37: ՀՀ կառավարություն | G37: =+G39 -> -496845.7
F38: այդ թվում՝ բյուջետային ծախսերի տնտեսագիտական դասակարգման հոդվածներ
F39: ԸՆԴԱՄԵՆԸ ԾԱԽՍԵՐ | G39: =G40 -> -496845.7
F40: ՈՉ ՖԻՆԱՆՍԱԿԱՆ ԱԿՏԻՎՆԵՐԻ ԳԾՈՎ ԾԱԽՍԵՐ | G40: =+G41 -> -496845.7
F41: ՀԻՄՆԱԿԱՆ ՄԻՋՈՑՆԵՐ | G41: =+G42 -> -496845.7
F42: ՇԵՆՔԵՐ ԵՎ ՇԻՆՈՒԹՅՈՒՆՆԵՐ | G42: =+G43 -> -496845.7
F43: - Շենքերի և շինությունների կապիտալ վերանորոգում | G43: =+'Հավելված N 4'!E23 -> -496845.7
B44: 02 | F44: Միջնակարգ ընդհանուր կրթություն | G44: =+G46 -> 443088.1
F45: այդ թվում`
C46: 01 | F46: Հիմնական ընդհանուր կրթություն | G46: =+G48 -> 443088.1
F47: այդ թվում`
F48: ՀՀ կրթության, գիտության, մշակույթի և սպորտի նախարարություն | G48: =+G50 -> 443088.1
F49: այդ թվում`
D50: 1236 | E50: Հանրակրթական և նախադպրոցական հաստատությունների հիմնում, կառուցում, բարելավում | G50: =+G52+G68+G84+G93 -> 443088.1
F51: այդ թվում`
E52: 32003 | F52: Հանրակրթական դպրոցների նոր շենքերի կառուցում | G52: =+G54+G61 -> -1415375.3
F53: այդ թվում` ըստ կատարողների
F54: ՀՀ կրթության, գիտության, մշակույթի և սպորտի նախարարություն | G54: =+G56 -> -1381769.4
F55: այդ թվում՝ բյուջետային ծախսերի տնտեսագիտական դասակարգման հոդվածներ
F56: ԸՆԴԱՄԵՆԸ ԾԱԽՍԵՐ | G56: =G57 -> -1381769.4
F57: ՈՉ ՖԻՆԱՆՍԱԿԱՆ ԱԿՏԻՎՆԵՐԻ ԳԾՈՎ ԾԱԽՍԵՐ | G57: =+G58 -> -1381769.4
F58: ՀԻՄՆԱԿԱՆ ՄԻՋՈՑՆԵՐ | G58: =+G59 -> -1381769.4
F59: ՇԵՆՔԵՐ ԵՎ ՇԻՆՈՒԹՅՈՒՆՆԵՐ | G59: =+G60 -> -1381769.4
F60: - Շենքերի և շինությունների շինարարություն | G60: =+'Հավելված N 4'!E26 -> -1381769.4
F61: ՀՀ քաղաքաշինության կոմիտե | G61: =+G63 -> -33605.9
F62: այդ թվում՝ բյուջետային ծախսերի տնտեսագիտական դասակարգման հոդվածներ
F63: ԸՆԴԱՄԵՆԸ ԾԱԽՍԵՐ | G63: =G64 -> -33605.9
F64: ՈՉ ՖԻՆԱՆՍԱԿԱՆ ԱԿՏԻՎՆԵՐԻ ԳԾՈՎ ԾԱԽՍԵՐ | G64: =+G65 -> -33605.9
F65: ՀԻՄՆԱԿԱՆ ՄԻՋՈՑՆԵՐ | G65: =+G66 -> -33605.9
F66: ՇԵՆՔԵՐ ԵՎ ՇԻՆՈՒԹՅՈՒՆՆԵՐ | G66: =+'Հավելված N 2'!G67 -> -33605.9
F67: - Շենքերի և շինությունների շինարարություն | G67: =+'Հավելված N 4'!E50 -> -33605.9
E68: 32004 | F68: Հանրակրթական դպրոցների շենքերի վերակառուցում, հիմնանորոգում | G68: =+G70+G77 -> 1828007.2
F69: այդ թվում` ըստ կատարողների
F70: ՀՀ կրթության, գիտության, մշակույթի և սպորտի նախարարություն | G70: =+G72 -> 1818927.2
F71: այդ թվում՝ բյուջետային ծախսերի տնտեսագիտական դասակարգման հոդվածներ
F72: ԸՆԴԱՄԵՆԸ ԾԱԽՍԵՐ | G72: =G73 -> 1818927.2
F73: ՈՉ ՖԻՆԱՆՍԱԿԱՆ ԱԿՏԻՎՆԵՐԻ ԳԾՈՎ ԾԱԽՍԵՐ | G73: =+G74 -> 1818927.2
F74: ՀԻՄՆԱԿԱՆ ՄԻՋՈՑՆԵՐ | G74: =+G75 -> 1818927.2
F75: ՇԵՆՔԵՐ ԵՎ ՇԻՆՈՒԹՅՈՒՆՆԵՐ | G75: =+G76 -> 1818927.2
F76: - Շենքերի և շինությունների կապիտալ վերանորոգում | G76: =+'Հավելված N 4'!E58 -> 1818927.2
F77: ՀՀ քաղաքաշինության կոմիտե | G77: =+G79 -> 9080
F78: այդ թվում՝ բյուջետային ծախսերի տնտեսագիտական դասակարգման հոդվածներ
F79: ԸՆԴԱՄԵՆԸ ԾԱԽՍԵՐ | G79: =+G80 -> 9080
F80: ԸՆԹԱՑԻԿ ԾԱԽՍԵՐ | G80: =+G81 -> 9080
F81: ԾԱՌԱՅՈՒԹՅՈՒՆՆԵՐԻ ԵՎ ԱՊՐԱՆՔՆԵՐԻ ՁԵՌՔԲԵՐՈՒՄ | G81: =+G82 -> 9080
F82: ԱՅԼ ՄԱՍՆԱԳԻՏԱԿԱՆ ԾԱՌԱՅՈՒԹՅՈՒՆՆԵՐԻ ՁԵՌՔ ԲԵՐՈՒՄ | G82: =+G83 -> 9080
F83: - Մասնագիտական ծառայություններ | G83: =+'Հավելված N 7'!I115 -> 9080
E84: 32005 | F84: Կրթահամալիրների կառուցում | G84: =+G86 -> -471572.3
F85: այդ թվում` ըստ կատարողների
F86: ՀՀ կրթության, գիտության, մշակույթի և սպորտի նախարարություն | G86: =+G88 -> -471572.3
F87: այդ թվում՝ բյուջետային ծախսերի տնտեսագիտական դասակարգման հոդվածներ
F88: ԸՆԴԱՄԵՆԸ ԾԱԽՍԵՐ | G88: =G89 -> -471572.3
F89: ՈՉ ՖԻՆԱՆՍԱԿԱՆ ԱԿՏԻՎՆԵՐԻ ԳԾՈՎ ԾԱԽՍԵՐ | G89: =+G90 -> -471572.3
F90: ՀԻՄՆԱԿԱՆ ՄԻՋՈՑՆԵՐ | G90: =+G91 -> -471572.3
F91: ՇԵՆՔԵՐ ԵՎ ՇԻՆՈՒԹՅՈՒՆՆԵՐ | G91: =+G92 -> -471572.3
F92: - Շենքերի և շինությունների շինարարություն | G92: =+'Հավելված N 4'!E116 -> -471572.3
E93: 32006 | F93: Հանրակրթական դպրոցների, մանկապարտեզների և կրթահամալիրների գույքով և տեխնիկայով ապահովում | G93: =+G95+G102 -> 502028.5
F94: այդ թվում` ըստ կատարողների
F95: ՀՀ կրթության, գիտության, մշակույթի և սպորտի նախարարություն | G95: =+G97 -> 499874.3
F96: այդ թվում՝ բյուջետային ծախսերի տնտեսագիտական դասակարգման հոդվածներ
F97: ԸՆԴԱՄԵՆԸ ԾԱԽՍԵՐ | G97: =G98 -> 499874.3
F98: ՈՉ ՖԻՆԱՆՍԱԿԱՆ ԱԿՏԻՎՆԵՐԻ ԳԾՈՎ ԾԱԽՍԵՐ | G98: =+G99 -> 499874.3
F99: ՀԻՄՆԱԿԱՆ ՄԻՋՈՑՆԵՐ | G99: =+G100 -> 499874.3
F100: ՄԵՔԵՆԱՆԵՐ ԵՎ ՍԱՐՔԱՎՈՐՈՒՄՆԵՐ | G100: =+G101 -> 499874.3
F101: - Այլ մեքենաներ և սարքավորումներ | G101: =+'Հավելված N 4'!E140 -> 499874.3
F102: ՀՀ Արարատի մարզպետի աշխատակազմ | G102: =+G104 -> 2154.2
F103: այդ թվում՝ բյուջետային ծախսերի տնտեսագիտական դասակարգման հոդվածներ
F104: ԸՆԴԱՄԵՆԸ ԾԱԽՍԵՐ | G104: =G105 -> 2154.2
F105: ՈՉ ՖԻՆԱՆՍԱԿԱՆ ԱԿՏԻՎՆԵՐԻ ԳԾՈՎ ԾԱԽՍԵՐ | G105: =+G106 -> 2154.2
...

Sheet Հավելված N 3
F1: Հավելված N 3
F2: ՀՀ կառավարության 2025 թվականի
F3: ______________ ի ___Ն որոշման
A5: «ՀԱՅԱUՏԱՆԻ ՀԱՆՐԱՊԵՏՈՒԹՅԱՆ 2025 ԹՎԱԿԱՆԻ ՊԵՏԱԿԱՆ ԲՅՈՒՋԵԻ ՄԱUԻՆ» ՀԱՅԱUՏԱՆԻ ՀԱՆՐԱՊԵՏՈՒԹՅԱՆ OՐԵՆՔԻ N 1 ՀԱՎԵԼՎԱԾԻ N 3 ԱՂՅՈՒՍԱԿՈՒՄ ԿԱՏԱՐՎՈՂ ՓՈՓՈԽՈՒԹՅՈՒՆՆԵՐԸ ԵՎ ԼՐԱՑՈՒՄՆԵՐԸ
G8: հազ. դրամներով
A9: Ծրագրային դասիչ | C9: Բյուջետային գլխավոր կարգադրիչների, ծրագրերի, միջոցառումների, միջոցառումները կատարող պետական մարմինների և ուղղությունների անվանումները | D9: Ընդամենը | E9: Ցուցանիշների փոփոխությունը (ավելացումները նշված են դրական նշանով, իսկ նվազեցումները՝ փակագծերում)
A10: Ծրագիր | B10: Միջոցառում | E10: Կառուցման աշխատանքներ | F10: Վերակառուցման, վերանորոգման և վերականգնման աշխատանքներ | G10: Նախագծահե- տազոտական, գեոդեզիա- քարտեզագրա- կան աշխա- տանքներ | H10: Ոչ ֆինանսական այլ ակտիվների ձեռքբերում
C11: ԸՆԴԱՄԵՆԸ | D11: =ROUND(SUM(E11:H11),1) -> -9080 | E11: =+E13 -> -1833190 | F11: =+F13 -> 1322081.5 | G11: =+G13 -> 0 | H11: =+H13 -> 502028.5
C12: այդ թվում՝
C13: ՀՀ ԿՐԹՈՒԹՅԱՆ, ԳԻՏՈՒԹՅԱՆ, ՄՇԱԿՈՒՅԹԻ ԵՎ ՍՊՈՐՏԻ ՆԱԽԱՐԱՐՈՒԹՅՈՒՆ | D13: =ROUND(SUM(E13:H13),1) -> -9080 | E13: =+E15+E19+E22+E49+E105+E127 -> -1833190 | F13: =+F15+F19+F22+F49+F105+F127 -> 1322081.5 | G13: =+G15+G19+G22+G49+G105+G127 -> 0 | H13: =+H15+H19+H22+H49+H105+H127 -> 502028.5
C14: այդ թվում`
A15: 1236 | B15: 32001 | C15: Մանկապարտեզների նոր շենքերի կառուցում | D15: =SUM(E15:H15) -> 53757.6 | E15: =+E17 -> 53757.6 | F15: =+F17 -> 0 | G15: =+G17 -> 0 | H15: =+H17 -> 0
C16: այդ թվում`
C17: ՀՀ Արմավիրի մարզ | D17: =SUM(E17:H17) -> 53757.6 | E17: =+E18 -> 53757.6 | F17: =+F18 -> 0 | G17: =+G18 -> 0 | H17: =+H18 -> 0
C18: ՀՀ Արմավիրի մարզի Նորավան համայնքում «Մոդուլային» տիպի 144 տեղ հզորությամբ մսուր-մանկապարտեզ | D18: =+E18+F18+G18+H18 -> 53757.6 | E18: =+'Հավելված N 7'!I105+'Հավելված N 7'!I107+'Հավելված N 7'!I108 -> 53757.6
A19: 1236 | B19: 32002 | C19: Մանկապարտեզների շենքերի վերակառուցում, հիմնանորոգում | D19: =SUM(E19:H19) -> -496845.7 | E19: =+E21 -> 0 | F19: =+F21 -> -496845.7 | G19: =+G21 -> 0 | H19: =+H21 -> 0
C20: այդ թվում`
C21: Մանկապարտեզների շենքերի վերակառուցում, հիմնանորոգում | D21: =SUM(E21:H21) -> -496845.7 | E21: 0 | F21: =-562813.2+252556-186588.5 -> -496845.7 | G21: 0 | H21: 0
A22: 1236 | B22: 32003 | C22: Հանրակրթական դպրոցների նոր շենքերի կառուցում | D22: =SUM(E22:H22) -> -1415375.3 | E22: =+E24+E25+E27+E30+E32+E35+E38+E42+E47 -> -1415375.3 | F22: =+F24+F25+F27+F30+F32+F35+F38+F42+F47 -> 0 | G22: =+G24+G25+G27+G30+G32+G35+G38+G42+G47 -> 0 | H22: =+H24+H25+H27+H30+H32+H35+H38+H42+H47 -> 0
C23: այդ թվում`
C24: Հանրակրթական դպրոցների նոր շենքերի կառուցում | D24: =SUM(E24:H24) -> -494153.8 | E24: -494153.8 | F24: =SUM(F27:F28) -> 0 | G24: =SUM(G27:G28) -> 0 | H24: =SUM(H27:H28) -> 0
C25: ՀՀ Արագածոտնի մարզ | D25: =SUM(E25:H25) -> 36394.1 | E25: =SUM(E26:E26) -> 36394.1 | F25: =SUM(F26:F26) -> 0 | G25: =SUM(G26:G26) -> 0 | H25: =SUM(H26:H26) -> 0
C26: «Գառնահովիտի միջնակարգ դպրոց» ՊՈԱԿ | D26: =+E26+F26+G26+H26 -> 36394.1 | E26: =+'Հավելված N 7'!I112 -> 36394.1
C27: ՀՀ Արարատի մարզ | D27: =SUM(E27:H27) -> -9317.7 | E27: =SUM(E28:E29) -> -9317.7 | F27: =SUM(F28:F29) -> 0 | G27: =SUM(G28:G29) -> 0 | H27: =SUM(H28:H29) -> 0
C28: Գետազատ բնակավայրի միջնակարգ դպրոց | D28: =+E28+F28+G28+H28 -> -50000 | E28: =+'Հավելված N 7'!I17 -> -50000
C29: «Սիսավանի միջնակարգ դպրոց» ՊՈԱԿ | D29: =+E29+F29+G29+H29 -> 40682.3 | E29: =+'Հավելված N 7'!I18 -> 40682.3
C30: ՀՀ Արմավիրի մարզ | D30: =SUM(E30:H30) -> -311137.5 | E30: =SUM(E31:E31) -> -311137.5 | F30: =SUM(F31:F31) -> 0 | G30: =SUM(G31:G31) -> 0 | H30: =SUM(H31:H31) -> 0
C31: «Վաղարշապատի հ. 1 հիմնական դպրոց» ՊՈԱԿ | D31: =+E31+F31+G31+H31 -> -311137.5 | E31: =+'Հավելված N 7'!I19+'Հավելված N 7'!I32+'Հավելված N 7'!I33 -> -311137.5
C32: ՀՀ Գեղարքունիքի մարզ | D32: =SUM(E32:H32) -> 50000 | E32: =SUM(E33:E34) -> 50000 | F32: =SUM(F33:F34) -> 0 | G32: =SUM(G33:G34) -> 0 | H32: =SUM(H33:H34) -> 0
C33: գ. Ծովինարի Արծրուն Խաչատրյանի անվ. միջնակարգ դպրոց | D33: =+E33+F33+G33+H33 -> -30000 | E33: =+'Հավելված N 7'!I20 -> -30000
C34: ք. Գավառի թիվ 5 հիմնական դպրոց | D34: =+E34+F34+G34+H34 -> 80000 | E34: =+'Հավելված N 7'!I21 -> 80000
C35: ՀՀ Լոռու մարզ | D35: =SUM(E35:H35) -> -110883.3 | E35: =SUM(E36:E37) -> -110883.3 | F35: =SUM(F36:F37) -> 0 | G35: =SUM(G36:G37) -> 0 | H35: =SUM(H36:H37) -> 0
C36: ք. Տաշիրի միջնակարգ դպրոց (ք. Տաշիրի թիվ 1 հիմնական դպրոցի տեղակայման վայրում) | D36: =+E36+F36+G36+H36 -> -63000 | E36: =+'Հավելված N 7'!I22 -> -63000
C37: գ. Աքորու միջնակարգ դպրոց | D37: =+E37+F37+G37+H37 -> -47883.3 | E37: =+'Հավելված N 7'!I23 -> -47883.3
C38: ՀՀ Կոտայքի մարզ | D38: =SUM(E38:H38) -> 0 | E38: =SUM(E39:E41) -> 0 | F38: =SUM(F39:F41) -> 0 | G38: =SUM(G39:G41) -> 0 | H38: =SUM(H39:H41) -> 0
C39: Զառ բնակավայրի միջնակարգ դպրոց | D39: =+E39+F39+G39+H39 -> -43000 | E39: =+'Հավելված N 7'!I24 -> -43000
C40: Գեղադիր բնակավայրի միջնակարգ դպրոց | D40: =+E40+F40+G40+H40 -> 20000 | E40: =+'Հավելված N 7'!I25 -> 20000
C41: Լեռնանիստ բնակավայրի միջնակարգ դպրոց | D41: =+E41+F41+G41+H41 -> 23000 | E41: =+'Հավելված N 7'!I26 -> 23000
C42: ՀՀ Սյունիքի մարզ | D42: =SUM(E42:H42) -> -258206.4 | E42: =SUM(E43:E46) -> -258206.4 | F42: =SUM(F43:F45) -> 0 | G42: =SUM(G43:G45) -> 0 | H42: =SUM(H43:H45) -> 0
C43: գ. Խոտի միջնակարգ դպրոց | D43: =+E43+F43+G43+H43 -> -68879.4 | E43: =+'Հավելված N 7'!I27 -> -68879.4
C44: «ք. Կապանի թիվ 6 հիմնական դպրոց» ՊՈԱԿ | D44: =+E44+F44+G44+H44 -> -84027 | E44: =+'Հավելված N 7'!I28 -> -84027
C45: գ․ Տաթևի միջնակարգ դպրոց | D45: =+E45+F45+G45+H45 -> -35300 | E45: =+'Հավելված N 7'!I29 -> -35300
C46: «Դարբասի միջնակարգ դպրոց» ՊՈԱԿ | D46: =+E46+F46+G46+H46 -> -70000 | E46: =+'Հավելված N 7'!I113 -> -70000
C47: ՀՀ Տավուշի մարզ | D47: =SUM(E47:H47) -> -318070.7 | E47: =SUM(E48:E48) -> -318070.7 | F47: =SUM(F48:F48) -> 0 | G47: =SUM(G48:G48) -> 0 | H47: =SUM(H48:H48) -> 0
C48: գ. Աղավնավանքի միջնակարգ դպրոց | D48: =+E48+F48+G48+H48 -> -318070.7 | E48: =+'Հավելված N 7'!I30 -> -318070.7
A49: 1236 | B49: 32004 | C49: Հանրակրթական դպրոցների շենքերի վերակառուցում, հիմնանորոգում | D49: =SUM(E49:H49) -> 1818927.2 | E49: =+E51+E56+E58+E67+E71+E81+E88+E98+E100+E103 -> 0 | F49: =+F51+F56+F58+F67+F71+F81+F88+F98+F100+F103 -> 1818927.2 | G49: =+G51+G56+G58+G67+G71+G81+G88+G98+G100+G103 -> 0 | H49: =+H51+H56+H58+H67+H71+H81+H88+H98+H100+H103 -> 0
C50: այդ թվում`
C51: ՀՀ Արագածոտնի մարզ | D51: =SUM(E51:H51) -> 155554.9 | E51: =SUM(E52:E55) -> 0 | F51: =SUM(F52:F55) -> 155554.9 | G51: =SUM(G52:G55) -> 0 | H51: =SUM(H52:H55) -> 0
C52: Մաստարայի միջնակարգ դպրոց | D52: =+E52+F52+G52+H52 -> 57883.6 | F52: =+'Հավելված N 7'!I36 -> 57883.6
C53: Թալինի ավագ դպրոց | D53: =+E53+F53+G53+H53 -> 18021.2 | F53: =+'Հավելված N 7'!I37 -> 18021.2
C54: Բազմաղբյուրի միջնակարգ դպրոց | D54: =+E54+F54+G54+H54 -> 50000 | F54: =+'Հավելված N 7'!I38 -> 50000
C55: Արագածի թիվ 2 միջնակարգ դպրոց | D55: =+E55+F55+G55+H55 -> 29650.1 | F55: =+'Հավելված N 7'!I39 -> 29650.1
C56: ՀՀ Արարատի մարզ | D56: =SUM(E56:H56) -> 64488.8 | E56: =+E57 -> 0 | F56: =+F57 -> 64488.8 | G56: =+G57 -> 0 | H56: =+H57 -> 0
C57: «Վարդաշենի միջնակարգ դպրոց» ՊՈԱԿ | D57: =+E57+F57+G57+H57 -> 64488.8 | F57: =+'Հավելված N 7'!I40 -> 64488.8
C58: ՀՀ Արմավիրի մարզ | D58: =SUM(E58:H58) -> 474941.8 | E58: =SUM(E59:E66) -> 0 | F58: =SUM(F59:F66) -> 474941.8 | G58: =SUM(G59:G66) -> 0 | H58: =SUM(H59:H66) -> 0
C59: Նորապատի միջնակարգ դպրոց | D59: =+E59+F59+G59+H59 -> 90000 | F59: =+'Հավելված N 7'!I41 -> 90000
C60: Այգեվանի Մ․ խորենացու անվան միջնակարգ դպրոց | D60: =+E60+F60+G60+H60 -> 50000 | F60: =+'Հավելված N 7'!I42 -> 50000
C61: Քարակերտի թիվ 2 միջնակարգ դպրոց | D61: =+E61+F61+G61+H61 -> 40000 | F61: =+'Հավելված N 7'!I43 -> 40000
C62: Ալաշկերտի Հ․ Քոչարի անվան միջնակարգ դպրոց | D62: =+E62+F62+G62+H62 -> 100000 | F62: =+'Հավելված N 7'!I45 -> 100000
C63: Նորավանի միջնակարգ դպրոց | D63: =+E63+F63+G63+H63 -> 25500 | F63: =+'Հավելված N 7'!I46 -> 25500
C64: Արմավիրի Վ․ Բախշյանի անվան թիվ 2 հիմնական դպրոց | D64: =+E64+F64+G64+H64 -> 23267 | F64: =+'Հավելված N 7'!I44 -> 23267
C65: Ծիածանի միջնակարգ դպրոց | D65: =+E65+F65+G65+H65 -> 100000 | F65: =+'Հավելված N 7'!I47 -> 100000
C66: Նորակերտի միջնակարգ դպրոց | D66: =+E66+F66+G66+H66 -> 46174.8 | F66: =+'Հավելված N 7'!I48 -> 46174.8
C67: ՀՀ Գեղարքունիքի մարզ | D67: =SUM(E67:H67) -> 0 | E67: =SUM(E68:E70) -> 0 | F67: =SUM(F68:F70) -> 0 | G67: =SUM(G68:G70) -> 0 | H67: =SUM(H68:H70) -> 0
C68: Ծակքարի միջնակարգ դպրոց | D68: =+E68+F68+G68+H68 -> -97700 | F68: =+'Հավելված N 7'!I49 -> -97700
C69: Ծովագյուղի միջնակարգ դպրոց | D69: =+E69+F69+G69+H69 -> 47700 | F69: =+'Հավելված N 7'!I50 -> 47700
C70: Կարճաղբյուրի Ա.Գրիգորյանի անվան միջնակարգ դպրոց | D70: =+E70+F70+G70+H70 -> 50000 | F70: =+'Հավելված N 7'!I51 -> 50000
C71: ՀՀ Լոռու մարզ | D71: =SUM(E71:H71) -> 65340.7 | E71: =SUM(E72:E80) -> 0 | F71: =SUM(F72:F80) -> 65340.7 | G71: =SUM(G72:G80) -> 0 | H71: =SUM(H72:H80) -> 0
C72: «ք. Վանաձորի Ա.Մաթևոսյանի անվան թիվ 8 հիմնական դպրոց» ՊՈԱԿ | D72: =+E72+F72+G72+H72 -> -23950 | F72: =+'Հավելված N 7'!I52 -> -23950
C73: «ք. Վանաձորի Խ.Աբովյանի անվան թիվ 9 հիմնական դպրոց» ՊՈԱԿ | D73: =+E73+F73+G73+H73 -> -10161 | F73: =+'Հավելված N 7'!I53 -> -10161
C74: Ծաղկաբերի Դ. Մարտիրոսյանի անվան միջնակարգ դպրոց | D74: =+E74+F74+G74+H74 -> -1334.5 | F74: =+'Հավելված N 7'!I54 -> -1334.5
C75: Լուսաղբյուրի միջնակարգ դպրոց | D75: =+E75+F75+G75+H75 -> -35000 | F75: =+'Հավելված N 7'!I55 -> -35000
C76: ք. Վանաձորի Ծովակալ Իսակովի անվան թիվ 23 հիմնական դպրոց | D76: =+E76+F76+G76+H76 -> 4000 | F76: =+'Հավելված N 7'!I56 -> 4000
C77: Գյուլագարակի միջնակարգ դպրոց | D77: =+E77+F77+G77+H77 -> 2028.2 | F77: =+'Հավելված N 7'!I57 -> 2028.2
C78: Ախթալայի թիվ 2 միջնակարգ դպրոց | D78: =+E78+F78+G78+H78 -> 38440 | F78: =+'Հավելված N 7'!I58 -> 38440
C79: ք. Վանաձորի Մաթեմատիկայի և բնագիտական առարկաների խորացված ուսուցմամբ հատուկ դպրոց | D79: =+E79+F79+G79+H79 -> 7487.9 | F79: =+'Հավելված N 7'!I59 -> 7487.9
C80: Լեռնանցքի միջնակարգ դպրոց | D80: =+E80+F80+G80+H80 -> 83830.1 | F80: =+'Հավելված N 7'!I60 -> 83830.1
C81: ՀՀ Կոտայքի մարզ | D81: =SUM(E81:H81) -> 388545.7 | E81: =SUM(E82:E87) -> 0 | F81: =SUM(F82:F87) -> 388545.7 | G81: =SUM(G82:G87) -> 0 | H81: =SUM(H82:H87) -> 0
C82: Ծաղկաձորի միջնակարգ դպրոց | D82: =+E82+F82+G82+H82 -> 100000 | F82: =+'Հավելված N 7'!I61 -> 100000
C83: Հրազդանի Խ.Աբովյանի թիվ 1 ավագ դպրոց | D83: =+E83+F83+G83+H83 -> 54220 | F83: =+'Հավելված N 7'!I62 -> 54220
C84: Մրգաշենի միջնակարգ դպրոց | D84: =+E84+F84+G84+H84 -> 48634.3 | F84: =+'Հավելված N 7'!I63 -> 48634.3
C85: Ձորաղբյուրի Վ․ Կարապետյանի անվան միջնակարգ դպրոց | D85: =+E85+F85+G85+H85 -> 15964.8 | F85: =+'Հավելված N 7'!I64 -> 15964.8
C86: Քաղսիի միջնակարգ դպրոց | D86: =+E86+F86+G86+H86 -> 100000 | F86: =+'Հավելված N 7'!I65 -> 100000
C87: Գառնու թիվ 2 ավագ դպրոց | D87: =+E87+F87+G87+H87 -> 69726.6 | F87: =+'Հավելված N 7'!I66 -> 69726.6
C88: ՀՀ Շիրակի մարզ | D88: =SUM(E88:H88) -> 548457 | E88: =SUM(E89:E97) -> 0 | F88: =SUM(F89:F97) -> 548457 | G88: =SUM(G89:G97) -> 0 | H88: =SUM(H89:H97) -> 0
C89: «ք․ Գյումրու թիվ 32 հիմնական դպրոց» ՊՈԱԿ | D89: =+E89+F89+G89+H89 -> 30990.1 | F89: =+'Հավելված N 7'!I67 -> 30990.1
C90: «ք․ Գյումրու թիվ 23 հիմնական դպրոց» ՊՈԱԿ | D90: =+E90+F90+G90+H90 -> 1709.5 | F90: =+'Հավելված N 7'!I68 -> 1709.5
C91: «ք․ Գյումրու թիվ 41 հիմնական դպրոց» ՊՈԱԿ | D91: =+E91+F91+G91+H91 -> 121691.1 | F91: =+'Հավելված N 7'!I69 -> 121691.1
C92: Գյումրու թիվ 45 միջնակարգ դպրոց | D92: =+E92+F92+G92+H92 -> 92335.3 | F92: =+'Հավելված N 7'!I70 -> 92335.3
C93: Գյումրու թիվ 7 հիմնական դպրոց | D93: =+E93+F93+G93+H93 -> 81824.9 | F93: =+'Հավելված N 7'!I71 -> 81824.9
C94: Լեռնակերտի միջնակարգ դպրոց | D94: =+E94+F94+G94+H94 -> 16523.6 | F94: =+'Հավելված N 7'!I72 -> 16523.6
C95: Գյումրու թիվ 30 հիմնական դպրոց | D95: =+E95+F95+G95+H95 -> 27497.5 | F95: =+'Հավելված N 7'!I73 -> 27497.5
C96: Վահրամաբերդի Հ. Մկրտչյանի անվան միջնակարգ դպրոց | D96: =+E96+F96+G96+H96 -> 132941.9 | F96: =+'Հավելված N 7'!I74 -> 132941.9
C97: Աշոցքի միջնակարգ դպրոց | D97: =+E97+F97+G97+H97 -> 42943.1 | F97: =+'Հավելված N 7'!I75 -> 42943.1
C98: ՀՀ Սյունիքի մարզ | D98: =SUM(E98:H98) -> 29314.6 | E98: =SUM(E99:E99) -> 0 | F98: =SUM(F99:F99) -> 29314.6 | G98: =SUM(G99:G99) -> 0 | H98: =SUM(H99:H99) -> 0
C99: Սիսիանի թիվ 4 հիմնական դպրոց | D99: =+E99+F99+G99+H99 -> 29314.6 | F99: =+'Հավելված N 7'!I76 -> 29314.6
C100: ՀՀ Վայոց Ձորի մարզ | D100: =SUM(E100:H100) -> 59922.2 | E100: =SUM(E101:E102) -> 0 | F100: =SUM(F101:F102) -> 59922.2 | G100: =SUM(G101:G102) -> 0 | H100: =SUM(H101:H102) -> 0
C101: Ջերմուկի Մ․ Գորկու անվան թիվ 1 հիմնական դպրոց | D101: =+E101+F101+G101+H101 -> 29667.6 | F101: =+'Հավելված N 7'!I77 -> 29667.6
C102: Մալիշկայի Մ․ Լոմոնոսովի անվան միջնակարգ դպրոց | D102: =+E102+F102+G102+H102 -> 30254.6 | F102: =+'Հավելված N 7'!I78 -> 30254.6
C103: ՀՀ Տավուշի մարզ | D103: =SUM(E103:H103) -> 32361.5 | E103: =+E104 -> 0 | F103: =+F104 -> 32361.5 | G103: =+G104 -> 0 | H103: =+H104 -> 0
...

Sheet Հավելված N 4
D1: Հավելված N 4
D2: ՀՀ կառավարության 2025 թվականի
D3: ______________ ի ___Ն որոշման
B6: ՀԱՅԱՍՏԱՆԻ ՀԱՆՐԱՊԵՏՈՒԹՅԱՆ ԿԱՌԱՎԱՐՈՒԹՅԱՆ 2024 ԹՎԱԿԱՆԻ ԴԵԿՏԵՄԲԵՐԻ 27-Ի N 2060-Ն ՈՐՈՇՄԱՆ N 5 ՀԱՎԵԼՎԱԾԻ N 2 ԱՂՅՈՒՍԱԿՈՒՄ ԿԱՏԱՐՎՈՂ ՓՈՓՈԽՈՒԹՅՈՒՆՆԵՐԸ ԵՎ ԼՐԱՑՈՒՄՆԵՐԸ
E8: հազ. դրամներով
B9: Ծրագրային դասիչ | D9: Բյուջետային գլխավոր կարգադրիչների, ծրագրերի, միջոցառումների, միջոցառումները կատարող պետական մարմինների և ուղղությունների անվանումները | E9: Ցուցանիշների փոփոխությունը (ավելացումները նշված են դրական նշանով, իսկ նվազեցումները՝ փակագծերում)
B10: Ծրագիր | C10: Միջոցառում | E10: Տարի
D11: ԸՆԴԱՄԵՆԸ | E11: =+E13 -> -9080
D12: այդ թվում՝
D13: ՀՀ ԿՐԹՈՒԹՅԱՆ, ԳԻՏՈՒԹՅԱՆ, ՄՇԱԿՈՒՅԹԻ ԵՎ ՍՊՈՐՏԻ ՆԱԽԱՐԱՐՈՒԹՅՈՒՆ | E13: =+E15+E21+E24+E56+E114+E138 -> -9080
D14: այդ թվում՝
B15: 1236 | C15: 32001 | D15: Մանկապարտեզների նոր շենքերի կառուցում | E15: =+E17 -> 53757.6
D16: այդ թվում` ըստ կատարողների
D17: ՀՀ քաղաքաշինության կոմիտե | E17: =+E19 -> 53757.6
D18: այդ թվում՝ ըստ ուղղությունների
D19: ՀՀ Արմավիրի մարզ | E19: =+E20 -> 53757.6
D20: =+'Հավելված N 3'!C18 -> ՀՀ Արմավիրի մարզի Նորավան համայնքում «Մոդուլային» տիպի 144 տեղ հզորությամբ մսուր-մանկապարտեզ | E20: =+'Հավելված N 3'!D18 -> 53757.6
B21: 1236 | C21: 32002 | D21: Մանկապարտեզների շենքերի վերակառուցում, հիմնանորոգում | E21: =+E23 -> -496845.7
D22: այդ թվում` ըստ կատարողների
D23: ՀՀ կառավարություն | E23: =+'Հավելված N 3'!D21 -> -496845.7
B24: 1236 | C24: 32003 | D24: Հանրակրթական դպրոցների նոր շենքերի կառուցում | E24: =+E26+E50 -> -1415375.3
D25: այդ թվում` ըստ կատարողների
D26: ՀՀ կրթության, գիտության, մշակույթի և սպորտի նախարարություն | E26: =SUM(E28,E29,E32,E34,E37,E40,E44,E48) -> -1381769.4
D27: այդ թվում՝ ըստ ուղղությունների
D28: Հանրակրթական դպրոցների նոր շենքերի կառուցում | E28: =+'Հավելված N 3'!D24 -> -494153.8
D29: ՀՀ Արարատի մարզ | E29: =SUM(E30:E31) -> -9317.7
D30: =+'Հավելված N 3'!C28 -> Գետազատ բնակավայրի միջնակարգ դպրոց | E30: =+'Հավելված N 3'!D28 -> -50000
D31: =+'Հավելված N 3'!C29 -> «Սիսավանի միջնակարգ դպրոց» ՊՈԱԿ | E31: =+'Հավելված N 3'!D29 -> 40682.3
D32: ՀՀ Արմավիրի մարզ | E32: =+E33 -> -311137.5
D33: =+'Հավելված N 3'!C31 -> «Վաղարշապատի հ. 1 հիմնական դպրոց» ՊՈԱԿ | E33: =+'Հավելված N 3'!D31 -> -311137.5
D34: ՀՀ Գեղարքունիքի մարզ | E34: =SUM(E35:E36) -> 50000
D35: =+'Հավելված N 3'!C33 -> գ. Ծովինարի Արծրուն Խաչատրյանի անվ. միջնակարգ դպրոց | E35: =+'Հավելված N 3'!D33 -> -30000
D36: =+'Հավելված N 3'!C34 -> ք. Գավառի թիվ 5 հիմնական դպրոց | E36: =+'Հավելված N 3'!D34 -> 80000
D37: ՀՀ Լոռու մարզ | E37: =SUM(E38:E39) -> -110883.3
D38: =+'Հավելված N 3'!C36 -> ք. Տաշիրի միջնակարգ դպրոց (ք. Տաշիրի թիվ 1 հիմնական դպրոցի տեղակայման վայրում) | E38: =+'Հավելված N 3'!D36 -> -63000
D39: =+'Հավելված N 3'!C37 -> գ. Աքորու միջնակարգ դպրոց | E39: =+'Հավելված N 3'!D37 -> -47883.3
D40: ՀՀ Կոտայքի մարզ | E40: =SUM(E41:E43) -> 0
D41: =+'Հավելված N 3'!C39 -> Զառ բնակավայրի միջնակարգ դպրոց | E41: =+'Հավելված N 3'!D39 -> -43000
D42: =+'Հավելված N 3'!C40 -> Գեղադիր բնակավայրի միջնակարգ դպրոց | E42: =+'Հավելված N 3'!D40 -> 20000
D43: =+'Հավելված N 3'!C41 -> Լեռնանիստ բնակավայրի միջնակարգ դպրոց | E43: =+'Հավելված N 3'!D41 -> 23000
D44: ՀՀ Սյունիքի մարզ | E44: =SUM(E45:E47) -> -188206.4
D45: =+'Հավելված N 3'!C43 -> գ. Խոտի միջնակարգ դպրոց | E45: =+'Հավելված N 3'!D43 -> -68879.4
D46: =+'Հավելված N 3'!C44 -> «ք. Կապանի թիվ 6 հիմնական դպրոց» ՊՈԱԿ | E46: =+'Հավելված N 3'!D44 -> -84027
D47: =+'Հավելված N 3'!C45 -> գ․ Տաթևի միջնակարգ դպրոց | E47: =+'Հավելված N 3'!D45 -> -35300
D48: ՀՀ Տավուշի մարզ | E48: =SUM(E49:E49) -> -318070.7
D49: =+'Հավելված N 3'!C48 -> գ. Աղավնավանքի միջնակարգ դպրոց | E49: =+'Հավելված N 3'!D48 -> -318070.7
D50: ՀՀ քաղաքաշինության կոմիտե | E50: =+E52+E54 -> -33605.9
D51: այդ թվում՝ ըստ ուղղությունների
D52: ՀՀ Արագածոտնի մարզ | E52: =SUM(E53:E53) -> 36394.1
D53: =+'Հավելված N 3'!C26 -> «Գառնահովիտի միջնակարգ դպրոց» ՊՈԱԿ | E53: =+'Հավելված N 3'!D26 -> 36394.1
D54: ՀՀ Սյունիքի մարզ | E54: =SUM(E55:E55) -> -70000
D55: =+'Հավելված N 3'!C46 -> «Դարբասի միջնակարգ դպրոց» ՊՈԱԿ | E55: =+'Հավելված N 3'!D46 -> -70000
B56: 1236 | C56: 32004 | D56: Հանրակրթական դպրոցների շենքերի վերակառուցում, հիմնանորոգում | E56: =+E58 -> 1818927.2
D57: այդ թվում` ըստ կատարողների
D58: ՀՀ կրթության, գիտության, մշակույթի և սպորտի նախարարություն | E58: =+E60+E65+E67+E76+E80+E90+E97+E107+E109+E112 -> 1818927.2
D59: այդ թվում՝ ըստ ուղղությունների
D60: ՀՀ Արագածոտնի մարզ | E60: =SUM(E61:E64) -> 155554.9
D61: =+'Հավելված N 3'!C52 -> Մաստարայի միջնակարգ դպրոց | E61: =+'Հավելված N 3'!D52 -> 57883.6
D62: =+'Հավելված N 3'!C53 -> Թալինի ավագ դպրոց | E62: =+'Հավելված N 3'!D53 -> 18021.2
D63: =+'Հավելված N 3'!C54 -> Բազմաղբյուրի միջնակարգ դպրոց | E63: =+'Հավելված N 3'!D54 -> 50000
D64: =+'Հավելված N 3'!C55 -> Արագածի թիվ 2 միջնակարգ դպրոց | E64: =+'Հավելված N 3'!D55 -> 29650.1
D65: ՀՀ Արարատի մարզ | E65: =+E66 -> 64488.8
D66: =+'Հավելված N 3'!C57 -> «Վարդաշենի միջնակարգ դպրոց» ՊՈԱԿ | E66: =+'Հավելված N 3'!D57 -> 64488.8
D67: ՀՀ Արմավիրի մարզ | E67: =SUM(E68:E75) -> 474941.8
D68: =+'Հավելված N 3'!C59 -> Նորապատի միջնակարգ դպրոց | E68: =+'Հավելված N 3'!D59 -> 90000
D69: =+'Հավելված N 3'!C60 -> Այգեվանի Մ․ խորենացու անվան միջնակարգ դպրոց | E69: =+'Հավելված N 3'!D60 -> 50000
D70: =+'Հավելված N 3'!C61 -> Քարակերտի թիվ 2 միջնակարգ դպրոց | E70: =+'Հավելված N 3'!D61 -> 40000
D71: =+'Հավելված N 3'!C62 -> Ալաշկերտի Հ․ Քոչարի անվան միջնակարգ դպրոց | E71: =+'Հավելված N 3'!D62 -> 100000
D72: =+'Հավելված N 3'!C63 -> Նորավանի միջնակարգ դպրոց | E72: =+'Հավելված N 3'!D63 -> 25500
D73: =+'Հավելված N 3'!C64 -> Արմավիրի Վ․ Բախշյանի անվան թիվ 2 հիմնական դպրոց | E73: =+'Հավելված N 3'!D64 -> 23267
D74: =+'Հավելված N 3'!C65 -> Ծիածանի միջնակարգ դպրոց | E74: =+'Հավելված N 3'!D65 -> 100000
D75: =+'Հավելված N 3'!C66 -> Նորակերտի միջնակարգ դպրոց | E75: =+'Հավելված N 3'!D66 -> 46174.8
D76: ՀՀ Գեղարքունիքի մարզ | E76: =SUM(E77:E79) -> 0
D77: =+'Հավելված N 3'!C68 -> Ծակքարի միջնակարգ դպրոց | E77: =+'Հավելված N 3'!D68 -> -97700
D78: =+'Հավելված N 3'!C69 -> Ծովագյուղի միջնակարգ դպրոց | E78: =+'Հավելված N 3'!D69 -> 47700
D79: =+'Հավելված N 3'!C70 -> Կարճաղբյուրի Ա.Գրիգորյանի անվան միջնակարգ դպրոց | E79: =+'Հավելված N 3'!D70 -> 50000
D80: ՀՀ Լոռու մարզ | E80: =SUM(E81:E89) -> 65340.7
D81: =+'Հավելված N 3'!C72 -> «ք. Վանաձորի Ա.Մաթևոսյանի անվան թիվ 8 հիմնական դպրոց» ՊՈԱԿ | E81: =+'Հավելված N 3'!D72 -> -23950
D82: =+'Հավելված N 3'!C73 -> «ք. Վանաձորի Խ.Աբովյանի անվան թիվ 9 հիմնական դպրոց» ՊՈԱԿ | E82: =+'Հավելված N 3'!D73 -> -10161
D83: =+'Հավելված N 3'!C74 -> Ծաղկաբերի Դ. Մարտիրոսյանի անվան միջնակարգ դպրոց | E83: =+'Հավելված N 3'!D74 -> -1334.5
D84: =+'Հավելված N 3'!C75 -> Լուսաղբյուրի միջնակարգ դպրոց | E84: =+'Հավելված N 3'!D75 -> -35000
D85: =+'Հավելված N 3'!C76 -> ք. Վանաձորի Ծովակալ Իսակովի անվան թիվ 23 հիմնական դպրոց | E85: =+'Հավելված N 3'!D76 -> 4000
D86: =+'Հավելված N 3'!C77 -> Գյուլագարակի միջնակարգ դպրոց | E86: =+'Հավելված N 3'!D77 -> 2028.2
D87: =+'Հավելված N 3'!C78 -> Ախթալայի թիվ 2 միջնակարգ դպրոց | E87: =+'Հավելված N 3'!D78 -> 38440
D88: =+'Հավելված N 3'!C79 -> ք. Վանաձորի Մաթեմատիկայի և բնագիտական առարկաների խորացված ուսուցմամբ հատուկ դպրոց | E88: =+'Հավելված N 3'!D79 -> 7487.9
D89: =+'Հավելված N 3'!C80 -> Լեռնանցքի միջնակարգ դպրոց | E89: =+'Հավելված N 3'!D80 -> 83830.1
D90: ՀՀ Կոտայքի մարզ | E90: =SUM(E91:E96) -> 388545.7
D91: =+'Հավելված N 3'!C82 -> Ծաղկաձորի միջնակարգ դպրոց | E91: =+'Հավելված N 3'!D82 -> 100000
D92: =+'Հավելված N 3'!C83 -> Հրազդանի Խ.Աբովյանի թիվ 1 ավագ դպրոց | E92: =+'Հավելված N 3'!D83 -> 54220
D93: =+'Հավելված N 3'!C84 -> Մրգաշենի միջնակարգ դպրոց | E93: =+'Հավելված N 3'!D84 -> 48634.3
D94: =+'Հավելված N 3'!C85 -> Ձորաղբյուրի Վ․ Կարապետյանի անվան միջնակարգ դպրոց | E94: =+'Հավելված N 3'!D85 -> 15964.8
D95: =+'Հավելված N 3'!C86 -> Քաղսիի միջնակարգ դպրոց | E95: =+'Հավելված N 3'!D86 -> 100000
D96: =+'Հավելված N 3'!C87 -> Գառնու թիվ 2 ավագ դպրոց | E96: =+'Հավելված N 3'!D87 -> 69726.6
D97: ՀՀ Շիրակի մարզ | E97: =SUM(E98:E106) -> 548457
D98: =+'Հավելված N 3'!C89 -> «ք․ Գյումրու թիվ 32 հիմնական դպրոց» ՊՈԱԿ | E98: =+'Հավելված N 3'!D89 -> 30990.1
D99: =+'Հավելված N 3'!C90 -> «ք․ Գյումրու թիվ 23 հիմնական դպրոց» ՊՈԱԿ | E99: =+'Հավելված N 3'!D90 -> 1709.5
D100: =+'Հավելված N 3'!C91 -> «ք․ Գյումրու թիվ 41 հիմնական դպրոց» ՊՈԱԿ | E100: =+'Հավելված N 3'!D91 -> 121691.1
D101: =+'Հավելված N 3'!C92 -> Գյումրու թիվ 45 միջնակարգ դպրոց | E101: =+'Հավելված N 3'!D92 -> 92335.3
D102: =+'Հավելված N 3'!C93 -> Գյումրու թիվ 7 հիմնական դպրոց | E102: =+'Հավելված N 3'!D93 -> 81824.9
D103: =+'Հավելված N 3'!C94 -> Լեռնակերտի միջնակարգ դպրոց | E103: =+'Հավելված N 3'!D94 -> 16523.6
...

Sheet Հավելված N 5
I1: Հավելված N 5
I2: ՀՀ կառավարության 2025 թվականի
I3: ______________ ի ___Ն որոշման
A6: ՀԱՅԱՍՏԱՆԻ ՀԱՆՐԱՊԵՏՈՒԹՅԱՆ ԿԱՌԱՎԱՐՈՒԹՅԱՆ 2024 ԹՎԱԿԱՆԻ ԴԵԿՏԵՄԲԵՐԻ 27-Ի N 2060-Ն ՈՐՈՇՄԱՆ N 9 ՀԱՎԵԼՎԱԾՈՒՄ ԿԱՏԱՐՎՈՂ ՓՈՓՈԽՈՒԹՅՈՒՆՆԵՐԸ ԵՎ ԼՐԱՑՈՒՄՆԵՐԸ
J8: հազար դրամներով
A9: ԲԳԿ | B9: Ծրագիր | D9: Միջոցառում | H9: Իրականացնողը/ ակտիվն օգտագործողը/ շահառուի ընտրության չափորոշիչը | I9: Արդյունքային չափորոշիչը | J9: Ցուցանիշների փոփոխությունը (ավելացումները նշված են դրական նշանով, իսկ նվազեցումները՝ փակագծերում)
B10: Դասիչը | C10: Անվանումը | D10: Դասիչը | E10: Անվանումը | F10: Նկարագրությունը | G10: Տեսակը | J10: Տարի
A11: ԸՆԴԱՄԵՆԸ | J11: =+J13 -> 0
A12: այդ թվում՝
A13: ՀՀ ԿՐԹՈՒԹՅԱՆ, ԳԻՏՈՒԹՅԱՆ, ՄՇԱԿՈԻՅԹԻ ԵՎ ՍՊՈՐՏԻ ՆԱԽԱՐԱՐՈՒԹՅՈՒՆ | J13: =+J14 -> 0
B14: 1236 | C14: Հանրակրթական և նախադպրոցական հաստատությունների հիմնում, կառուցում, բարելավում | J14: =+J15+J19+J23+J27+J31+J35 -> 0
D15: 1236 - 32001 | E15: Մանկապարտեզների նոր շենքերի կառուցում | J15: =+'Հավելված N 1'!G17 -> 53757.6
F16: Նախադպրոցական կրթության հասանելիության ապահովման նպատակով՛ մանկապարտեզների հիմնում, նոր շենքերի (մասնաշենքերի), ներառյալ՛ ,Մոդուլայինե տիպի շենքերի կառուցում և նախագծում
G17: Այլ պետական կազմակերպությունների կողմից օգտագործվող ոչ ֆինանսական ակտիվների հետ գործառնություններ
H18: Շահառուների ընտրության չափորոշիչները` Նախադպրոցական կրթություն իրականացնող ուսումնական հաստատություններ
D19: 1236 - 32002 | E19: Մանկապարտեզների շենքերի վերակառուցում, հիմնանորոգում | J19: =+'Հավելված N 1'!G18 -> -496845.7
F20: Նախադպրոցական կրթության հասանելիության ապահովման նպատակով՛ մանկապարտեզների շենքերի (մասնաշենքերի), վերակառուցում, հիմնանորոգում և նախագծում
G21: Այլ պետական կազմակերպությունների կողմից օգտագործվող ոչ ֆինանսական ակտիվների հետ գործառնություններ
H22: Շահառուների ընտրության չափորոշիչները` Նախադպրոցական կրթություն իրականացնող ուսումնական հաստատություններ
D23: 1236 - 32003 | E23: Հանրակրթական դպրոցների նոր շենքերի կառուցում | J23: =+'Հավելված N 1'!G19 -> -1415375.3
F24: ՀՀ մարզերում կրթական որակյալ ծառայությունների հասանելիության ապահովման ծրագրի շրջանակներում հանրակրթական և նախադպրոցական կրթության հասանելիության ապահովման նպատակով կրթական կենտրոնների կառուցում
G25: Այլ պետական կազմակերպությունների կողմից օգտագործվող ոչ ֆինանսական ակտիվների հետ գործառնություններ
H26: Ակտիվն օգտագործող կազմակերպությունների անվանումները` Հանրակրթական դպրոցներ
D27: 1236 - 32004 | E27: Հանրակրթական դպրոցների շենքերի վերակառուցում, հիմնանորոգում | J27: =+'Հավելված N 1'!G20 -> 1828007.2
F28: Դպրոցական պարտադիր կրթության հասանելիության ապահովման նպատակով՛ հանրակրթական դպրոցների շենքերի (մասնաշենքերի), վերակառուցում, հիմնանորոգում և նախագծում
G29: Այլ պետական կազմակերպությունների կողմից օգտագործվող ոչ ֆինանսական ակտիվների հետ գործառնություններ
H30: Ակտիվն օգտագործող կազմակերպությունների անվանումները` Հանրակրթական դպրոցներ
D31: 1236 - 32005 | E31: Կրթահամալիրների կառուցում | J31: =+'Հավելված N 1'!G21 -> -471572.3
F32: ՀՀ մարզերում կրթական որակյալ ծառայությունների հասանելիության ապահովման ծրագրի շրջանակներում հանրակրթական և նախադպրոցական կրթության հասանելիության ապահովման նպատակով կրթական կենտրոնների կառուցում
G33: Այլ պետական կազմակերպությունների կողմից օգտագործվող ոչ ֆինանսական ակտիվների հետ գործառնություններ
H34: Ակտիվն օգտագործող կազմակերպությունների անվանումները` Ստեղծվող կրթահամալիրներ
D35: 1236 - 32006 | E35: Հանրակրթական դպրոցների, մանկապարտեզների և կրթահամալիրների գույքով և տեխնիկայով ապահովում | J35: =+'Հավելված N 1'!G22 -> 502028.5
F36: Կրթական ժամանակակից նորմերին և կրթական չափորոշիչներին համապատասխան ուսուցման ծրագրերն իրականացնելու նպատակով հանրակրթական և նախադպրոցական հաստատությունների համար գույքի և տեխնիկայի ձեռքբերում
G37: Այլ պետական կազմակերպությունների կողմից օգտագործվող ոչ ֆինանսական ակտիվների հետ գործառնություններ
H38: Ակտիվն օգտագործող կազմակերպությունների անվանումները` Հանրակրթական դպրոցներ, մանկապարտեզներ և կրթահամալիրներ

Sheet Հավելված N 6
I1: Հավելված N 6
I2: ՀՀ կառավարության 2025 թվականի
I3: ______________ ի ___Ն որոշման
A6: ՀԱՅԱՍՏԱՆԻ ՀԱՆՐԱՊԵՏՈՒԹՅԱՆ ԿԱՌԱՎԱՐՈՒԹՅԱՆ 2024 ԹՎԱԿԱՆԻ ԴԵԿՏԵՄԲԵՐԻ 27-Ի N 2060-Ն ՈՐՈՇՄԱՆ N 9.1 ՀԱՎԵԼՎԱԾՈՒՄ ԿԱՏԱՐՎՈՂ ՓՈՓՈԽՈՒԹՅՈՒՆՆԵՐԸ ԵՎ ԼՐԱՑՈՒՄՆԵՐԸ
J8: հազար դրամներով
A9: ԲՍԿ | B9: Ծրագիր | D9: Միջոցառում | H9: Իրականացնողը/ ակտիվն օգտագործողը/ շահառուի ընտրության չափորոշիչը | I9: Արդյունքային չափորոշիչը | J9: Ցուցանիշների փոփոխությունը (ավելացումները նշված են դրական նշանով, իսկ նվազեցումները՝ փակագծերում)
B10: Դասիչը | C10: Անվանումը | D10: Դասիչը | E10: Անվանումը | F10: Նկարագրությունը | G10: Տեսակը | J10: Տարի
A11: ԸՆԴԱՄԵՆԸ | J11: =+J13+J32+J47+J54 -> 0
A12: այդ թվում՝
A13: ՀՀ ԿՐԹՈՒԹՅԱՆ, ԳԻՏՈՒԹՅԱՆ, ՄՇԱԿՈԻՅԹԻ ԵՎ ՍՊՈՐՏԻ ՆԱԽԱՐԱՐՈՒԹՅՈՒՆ | J13: =+J14 -> 465459.8
B14: 1236 | C14: Հանրակրթական և նախադպրոցական հաստատությունների հիմնում, կառուցում, բարելավում | J14: =+J15+J19+J23+J27 -> 465459.8
D15: 1236 - 32003 | E15: Հանրակրթական դպրոցների նոր շենքերի կառուցում | J15: =+'Հավելված N 2'!G54 -> -1381769.4
F16: ՀՀ մարզերում կրթական որակյալ ծառայությունների հասանելիության ապահովման ծրագրի շրջանակներում հանրակրթական և նախադպրոցական կրթության հասանելիության ապահովման նպատակով կրթական կենտրոնների կառուցում
G17: Այլ պետական կազմակերպությունների կողմից օգտագործվող ոչ ֆինանսական ակտիվների հետ գործառնություններ
H18: Ակտիվն օգտագործող կազմակերպությունների անվանումները` Հանրակրթական դպրոցներ
D19: 1236 - 32004 | E19: Հանրակրթական դպրոցների շենքերի վերակառուցում, հիմնանորոգում | J19: =+'Հավելված N 2'!G70 -> 1818927.2
F20: Դպրոցական պարտադիր կրթության հասանելիության ապահովման նպատակով՛ հանրակրթական դպրոցների շենքերի (մասնաշենքերի), վերակառուցում, հիմնանորոգում և նախագծում
G21: Այլ պետական կազմակերպությունների կողմից օգտագործվող ոչ ֆինանսական ակտիվների հետ գործառնություններ
H22: Ակտիվն օգտագործող կազմակերպությունների անվանումները` Հանրակրթական դպրոցներ
D23: 1236 - 32005 | E23: Կրթահամալիրների կառուցում | J23: =+'Հավելված N 2'!G86 -> -471572.3
F24: ՀՀ մարզերում կրթական որակյալ ծառայությունների հասանելիության ապահովման ծրագրի շրջանակներում հանրակրթական և նախադպրոցական կրթության հասանելիության ապահովման նպատակով կրթական կենտրոնների կառուցում
G25: Այլ պետական կազմակերպությունների կողմից օգտագործվող ոչ ֆինանսական ակտիվների հետ գործառնություններ
H26: Ակտիվն օգտագործող կազմակերպությունների անվանումները` Հանրակրթական դպրոցներ, մանկապարտեզներ և կրթահամալիրներ
D27: 1236 - 32006 | E27: Հանրակրթական դպրոցների, մանկապարտեզների և կրթահամալիրների գույքով և տեխնիկայով ապահովում | J27: =+'Հավելված N 2'!G95 -> 499874.3
F28: Կրթական ժամանակակից նորմերին և կրթական չափորոշիչներին համապատասխան ուսուցման ծրագրերն իրականացնելու նպատակով հանրակրթական և նախադպրոցական հաստատությունների համար գույքի և տեխնիկայի ձեռքբերում
G29: Այլ պետական կազմակերպությունների կողմից օգտագործվող ոչ ֆինանսական ակտիվների հետ գործառնություններ
H30: Ակտիվն օգտագործող կազմակերպությունների անվանումները` Հանրակրթական դպրոցներ, մանկապարտեզներ և կրթահամալիրներ
A32: ՀՀ ՔԱՂԱՔԱՇԻՆՈՒԹՅԱՆ ԿՈՄԻՏԵ | J32: =+J33 -> 29231.7
B33: 1236 | C33: Հանրակրթական և նախադպրոցական հաստատությունների հիմնում, կառուցում, բարելավում | J33: =+J34+J38+J42 -> 29231.7
D34: 1236 - 32001 | E34: Մանկապարտեզների նոր շենքերի կառուցում | J34: =+'Հավելված N 2'!G28 -> 53757.6
F35: Նախադպրոցական կրթության հասանելիության ապահովման նպատակով՛ մանկապարտեզների հիմնում, նոր շենքերի (մասնաշենքերի), ներառյալ՛ ,Մոդուլայինե տիպի շենքերի կառուցում և նախագծում
G36: Այլ պետական կազմակերպությունների կողմից օգտագործվող ոչ ֆինանսական ակտիվների հետ գործառնություններ
H37: Շահառուների ընտրության չափորոշիչները` Նախադպրոցական կրթություն իրականացնող ուսումնական հաստատություններ
D38: 1236 - 32003 | E38: Հանրակրթական դպրոցների նոր շենքերի կառուցում | J38: =+'Հավելված N 2'!G61 -> -33605.9
F39: ՀՀ մարզերում կրթական որակյալ ծառայությունների հասանելիության ապահովման ծրագրի շրջանակներում հանրակրթական և նախադպրոցական կրթության հասանելիության ապահովման նպատակով կրթական կենտրոնների կառուցում
G40: Այլ պետական կազմակերպությունների կողմից օգտագործվող ոչ ֆինանսական ակտիվների հետ գործառնություններ
H41: Ակտիվն օգտագործող կազմակերպությունների անվանումները` Հանրակրթական դպրոցներ
D42: 1236 - 32004 | E42: Հանրակրթական դպրոցների շենքերի վերակառուցում, հիմնանորոգում | J42: =+'Հավելված N 2'!G77 -> 9080
F43: Դպրոցական պարտադիր կրթության հասանելիության ապահովման նպատակով՛ հանրակրթական դպրոցների շենքերի (մասնաշենքերի), վերակառուցում, հիմնանորոգում և նախագծում
G44: Այլ պետական կազմակերպությունների կողմից օգտագործվող ոչ ֆինանսական ակտիվների հետ գործառնություններ
H45: Ակտիվն օգտագործող կազմակերպությունների անվանումները` Հանրակրթական դպրոցներ
A47: ՀՀ ԱՐԱՐԱՏԻ ՄԱՐԶՊԵՏԻ ԱՇԽԱՏԱԿԱԶՄ | J47: =+J48 -> 2154.2
B48: 1236 | C48: Հանրակրթական և նախադպրոցական հաստատությունների հիմնում, կառուցում, բարելավում | J48: =+J49 -> 2154.2
D49: 1236 - 32006 | E49: Հանրակրթական դպրոցների, մանկապարտեզների և կրթահամալիրների գույքով և տեխնիկայով ապահովում | J49: =+'Հավելված N 2'!G102 -> 2154.2
F50: Կրթական ժամանակակից նորմերին և կրթական չափորոշիչներին համապատասխան ուսուցման ծրագրերն իրականացնելու նպատակով հանրակրթական և նախադպրոցական հաստատությունների համար գույքի և տեխնիկայի ձեռքբերում
G51: Այլ պետական կազմակերպությունների կողմից օգտագործվող ոչ ֆինանսական ակտիվների հետ գործառնություններ
H52: Ակտիվն օգտագործող կազմակերպությունների անվանումները` Հանրակրթական դպրոցներ, մանկապարտեզներ և կրթահամալիրներ
A54: ՀՀ ԿԱՌԱՎԱՐՈՒԹՅՈՒՆ | J54: =+J55 -> -496845.7
B55: 1236 | C55: Հանրակրթական և նախադպրոցական հաստատությունների հիմնում, կառուցում, բարելավում | J55: =+J56 -> -496845.7
D56: 1236 - 32002 | E56: Մանկապարտեզների շենքերի վերակառուցում, հիմնանորոգում | J56: =+'Հավելված N 2'!G37 -> -496845.7
F57: Նախադպրոցական կրթության հասանելիության ապահովման նպատակով՛ մանկապարտեզների շենքերի (մասնաշենքերի), վերակառուցում, հիմնանորոգում և նախագծում
G58: Այլ պետական կազմակերպությունների կողմից օգտագործվող ոչ ֆինանսական ակտիվների հետ գործառնություններ
H59: Շահառուների ընտրության չափորոշիչները` Նախադպրոցական կրթություն իրականացնող ուսումնական հաստատություններ

Sheet Հավելված N 7
H1: Հավելված N 7
H2: ՀՀ կառավարության 2025 թվականի
H3: ______________ ի ___Ն որոշման
A6: ՀԱՅԱՍՏԱՆԻ ՀԱՆՐԱՊԵՏՈՒԹՅԱՆ ԿԱՌԱՎԱՐՈՒԹՅԱՆ 2024 ԹՎԱԿԱՆԻ ԴԵԿՏԵՄԲԵՐԻ 27-Ի N 2060-Ն N 10 ՀԱՎԵԼՎԱԾՈՒՄ ԿԱՏԱՐՎՈՂ ՓՈՓՈԽՈՒԹՅՈՒՆՆԵՐԸ ԵՎ ԼՐԱՑՈՒՄՆԵՐԸ
A10: Կոդը | B10: Անվանումը | E10: Գնման ձևը | F10: Չափման միավորը | G10: Միավորի գինը | H10: Ցուցանիշների փոփոխությունը (ավելացումները նշված են դրական նշանով, իսկ նվազեցումները՝ փակագծերում)
H11: Քանակը | I11: Գումարը (հազար դրամ)
A12: 1 | B12: 2 | E12: 3 | F12: 4 | G12: 5 | H12: 6 | I12: 7
A13: ՀՀ կրթության, գիտության, մշակույթի և սպորտի նախարարություն | I13: =+I14 -> 959613.6
A14: Բաժին N 09 | B14: Խումբ N 02 | C14: Դաս N 01 | D14: Հիմնական ընդհանուր կրթություն | I14: =+I15+I34+I80+I97 -> 959613.6
A15: 1236-32003 | B15: Հանրակրթական դպրոցների նոր շենքերի կառուցում | I15: =+I16+I31 -> -887615.6
B16: ՄԱՍ II. ԱՇԽԱՏԱՆՔՆԵՐ | I16: =SUM(I17:I30) -> -880007.7
A17: 45211229-63 | B17: շինարարական աշխատանքներ դպրոցների համար | E17: ՀԲՄ | F17: դրամ | I17: -50000
A18: 45221142-2 | B18: ընդհանուր շինարարական աշխատանքներ | E18: ԲՄ | F18: դրամ | I18: 40682.3
A19: 45221142-3 | B19: ընդհանուր շինարարական աշխատանքներ | E19: ԲՄ | F19: դրամ | I19: -303529.6
A20: 45211229-73 | B20: շինարարական աշխատանքներ դպրոցների համար | E20: ՀԲՄ | F20: դրամ | I20: -30000
A21: 45211229-74 | B21: շինարարական աշխատանքներ դպրոցների համար | E21: ՀԲՄ | F21: դրամ | I21: 80000
A22: 45211229-77 | B22: շինարարական աշխատանքներ դպրոցների համար | E22: ՀԲՄ | F22: դրամ | I22: -63000
A23: 45211229-79 | B23: շինարարական աշխատանքներ դպրոցների համար | E23: ՀԲՄ | F23: դրամ | I23: -47883.3
A24: 45211229-83 | B24: շինարարական աշխատանքներ դպրոցների համար | E24: ՀԲՄ | F24: դրամ | I24: -43000
A25: 45211229-84 | B25: շինարարական աշխատանքներ դպրոցների համար | E25: ՀԲՄ | F25: դրամ | I25: 20000
A26: 45211229-90 | B26: շինարարական աշխատանքներ դպրոցների համար | E26: ՀԲՄ | F26: դրամ | I26: 23000
A27: 45211229-104 | B27: շինարարական աշխատանքներ դպրոցների համար | E27: ՀԲՄ | F27: դրամ | I27: -68879.4
A28: 45211229-102 | B28: շինարարական աշխատանքներ դպրոցների համար | E28: ՀԲՄ | F28: դրամ | I28: -84027
... A30: 45211229-112 | B30: շինարարական աշխատանքներ դպրոցների համար | E30: ՀԲՄ | F30: դրամ | I30: -318070.7
B31: ՄԱՍ III. ԾԱՌԱՅՈՒԹՅՈՒՆՆԵՐ | I31: =SUM(I32:I33) -> -7607.9
A32: 71351540-32 | B32: տեխնիկական հսկողության ծառայություններ | E32: ԲՄ | F32: դրամ | I32: -5971.8
A33: 98111140-22 | B33: հեղինակային հսկողության ծառայություններ | E33: ՄԱ | F33: դրամ | I33: -1636.1
A34: 1236-32004 | B34: Հանրակրթական դպրոցների շենքերի վերակառուցում, հիմնանորոգում | I34: =+I35 -> 1818927.2
B35: ՄԱՍ II. ԱՇԽԱՏԱՆՔՆԵՐ | I35: =SUM(I36:I79) -> 1818927.2
A36: 45211229-705 | B36: շինարարական աշխատանքներ դպրոցների համար | E36: ՀԲՄ | F36: դրամ | I36: 57883.6
A37: 45211229-743 | B37: շինարարական աշխատանքներ դպրոցների համար | E37: ՀԲՄ | F37: դրամ | I37: 18021.2
A38: 45211229-746 | B38: շինարարական աշխատանքներ դպրոցների համար | E38: ՀԲՄ | F38: դրամ | I38: 50000
A39: 45211229-745 | B39: շինարարական աշխատանքներ դպրոցների համար | E39: ՀԲՄ | F39: դրամ | I39: 29650.1
A40: 45211229-175 | B40: շինարարական աշխատանքներ դպրոցների համար | E40: ՀԲՄ | F40: դրամ | I40: 64488.8
A41: 45211229-802 | B41: շինարարական աշխատանքներ դպրոցների համար | E41: ՀԲՄ | F41: դրամ | I41: 90000
A42: 45211229-803 | B42: շինարարական աշխատանքներ դպրոցների համար | E42: ՀԲՄ | F42: դրամ | I42: 50000
A43: 45211229-734 | B43: շինարարական աշխատանքներ դպրոցների համար | E43: ՀԲՄ | F43: դրամ | I43: 40000
A44: 45211229-741 | B44: շինարարական աշխատանքներ դպրոցների համար | E44: ՀԲՄ | F44: դրամ | I44: 23267
A45: 45211229-750 | B45: շինարարական աշխատանքներ դպրոցների համար | E45: ՀԲՄ | F45: դրամ | I45: 100000
A46: 45211229-780 | B46: շինարարական աշխատանքներ դպրոցների համար | E46: ՀԲՄ | F46: դրամ | I46: 25500
A47: 45211229-810 | B47: շինարարական աշխատանքներ դպրոցների համար | E47: ՀԲՄ | F47: դրամ | I47: 100000
... A79: 45211229-723 | B79: շինարարական աշխատանքներ դպրոցների համար | E79: ՀԲՄ | F79: դրամ | I79: 32361.5
A80: 1236-32005 | B80: Կրթահամալիրների կառուցում | I80: =+I81 -> -471572.3
B81: ՄԱՍ II. ԱՇԽԱՏԱՆՔՆԵՐ | I81: =SUM(I82:I96) -> -471572.3
A82: 45211229-138 | B82: շինարարական աշխատանքներ դպրոցների համար | E82: ՀԲՄ | F82: դրամ | I82: -20000
A83: 45211229-139 | B83: շինարարական աշխատանքներ դպրոցների համար | E83: ՀԲՄ | F83: դրամ | I83: 20000
A84: 45211229-144 | B84: շինարարական աշխատանքներ դպրոցների համար | E84: ՀԲՄ | F84: դրամ | I84: -30000
A85: 45211229-146 | B85: շինարարական աշխատանքներ դպրոցների համար | E85: ՀԲՄ | F85: դրամ | I85: -30000
A86: 45211229-147 | B86: շինարարական աշխատանքներ դպրոցների համար | E86: ՀԲՄ | F86: դրամ | I86: -50000
A87: 45211229-150 | B87: շինարարական աշխատանքներ դպրոցների համար | E87: ՀԲՄ | F87: դրամ | I87: -35000
A88: 45211229-151 | B88: շինարարական աշխատանքներ դպրոցների համար | E88: ՀԲՄ | F88: դրամ | I88: -15894.8
A89: 45211229-156 | B89: շինարարական աշխատանքներ դպրոցների համար | E89: ՀԲՄ | F89: դրամ | I89: -60000
A90: 45211229-157 | B90: շինարարական աշխատանքներ դպրոցների համար | E90: ՀԲՄ | F90: դրամ | I90: -179415.4
A91: 45211229-164 | B91: շինարարական աշխատանքներ դպրոցների համար | E91: ՀԲՄ | F91: դրամ | I91: -41212.5
A92: 45211229-165 | B92: շինարարական աշխատանքներ դպրոցների համար | E92: ՀԲՄ | F92: դրամ | I92: 12100
A93: 45211229-159 | B93: շինարարական աշխատանքներ դպրոցների համար | E93: ՀԲՄ | F93: դրամ | I93: 22126.3
... A96: 45211229-168 | B96: շինարարական աշխատանքներ դպրոցների համար | E96: ՀԲՄ | F96: դրամ | I96: -50000
A97: 1236-32006 | B97: Հանրակրթական դպրոցների, մանկապարտեզների և կրթահամալիրների գույքով և տեխնիկայով ապահովում | I97: =+I98 -> 499874.3
B98: ՄԱՍ I. ԱՊՐԱՆՔՆԵՐ | I98: =+I99 -> 499874.3
A99: 39161110 | B99: դպրոցական կահույք | E99: ԲՄ | F99: լրակազմ | G99: 49987430 | H99: 10 | I99: =+H99*G99/1000 -> 499874.3
A101: ՀՀ քաղաքաշինության կոմիտե | I101: =+I102+I109 -> 29231.7
A102: Բաժին N 09 | B102: Խումբ N 01 | C102: Դաս N 01 | D102: Նախադպրոցական կրթություն | I102: =+I103 -> 53757.6
A103: 1236-32001 | B103: Մանկապարտեզների նոր շենքերի կառուցում | I103: =+I104+I106 -> 53757.6
B104: ՄԱՍ II. ԱՇԽԱՏԱՆՔՆԵՐ | I104: =+I105 -> 51729.7
A105: 45221142-3 | B105: ընդհանուր շինարարական աշխատանքներ | E105: ԲՄ | F105: դրամ | I105: 51729.7
B106: ՄԱՍ III. ԾԱՌԱՅՈՒԹՅՈՒՆՆԵՐ | I106: =SUM(I107:I108) -> 2027.9
A107: 71351540-3 | B107: տեխնիկական հսկողության ծառայություններ | E107: ԳՀ | F107: դրամ | I107: 1730.4
A108: 98111140-3 | B108: հեղինակային հսկողության ծառայություններ | E108: ՄԱ | F108: դրամ | I108: 297.5
A109: Բաժին N 09 | B109: Խումբ N 02 | C109: Դաս N 01 | D109: Հիմնական ընդհանուր կրթություն | I109: =+I110+I114 -> -24525.9
A110: 1236-32003 | B110: Հանրակրթական դպրոցների նոր շենքերի կառուցում | I110: =+I111 -> -33605.9
B111: ՄԱՍ II. ԱՇԽԱՏԱՆՔՆԵՐ | I111: =SUM(I112:I113) -> -33605.9
A112: 45211231-519 | B112: միջնակարգ դպրոցների կառուցման աշխատանքներ | E112: ՀՄԱ | F112: դրամ | I112: 36394.1
A113: 45211231-517 | B113: միջնակարգ դպրոցների կառուցման աշխատանքներ | E113: ՀՄԱ | F113: դրամ | I113: -70000
A114: 1236-32004 | B114: Հանրակրթական դպրոցների շենքերի վերակառուցում, հիմնանորոգում | I114: =+I115 -> 9080
B115: ՄԱՍ III. ԾԱՌԱՅՈՒԹՅՈՒՆՆԵՐ | I115: =SUM(I116:I119) -> 9080
A116: 71621100-506 | B116: տեխնիկական վերլուծության և խրհրդատվության ծառայություններ | E116: ՀՄԱ | F116: դրամ | I116: 4464.4
A117: 71621100-507 | B117: տեխնիկական վերլուծության և խրհրդատվության ծառայություններ | E117: ՀՄԱ | F117: դրամ | I117: -1625
A118: 71621100-508 | B118: տեխնիկական վերլուծության և խրհրդատվության ծառայություններ | E118: ՀՄԱ | F118: դրամ | I118: 3585.1
A119: 71621100-510 | B119: տեխնիկական վերլուծության և խրհրդատվության ծառայություններ | E119: ՀՄԱ | F119: դրամ | I119: 2655.5
A121: ՀՀ Արարատի մարզպետի աշխատակազմ | I121: =+I122 -> 2154.2
A122: Բաժին N 09 | B122: Խումբ N 02 | C122: Դաս N 01 | D122: Հիմնական ընդհանուր կրթություն | I122: =+I123 -> 2154.2
A123: 1236-32006 | B123: Հանրակրթական դպրոցների, մանկապարտեզների և կրթահամալիրների գույքով և տեխնիկայով ապահովում | I123: =+I124 -> 2154.2
B124: ՄԱՍ I. ԱՊՐԱՆՔՆԵՐ | I124: =SUM(I125:I129) -> 2154.2
A125: 39141260-502 | B125: զգեստապահարաններ | C125: զգեստապահարաններ | D125: զգեստապահարաններ | E125: ԷԱՃ | F125: հատ | G125: 84000 | H125: 6 | I125: =+ROUND(H125*G125/1000,1) -> 504
A126: 39141120-509 | B126: դարակներով պահարաններ | C126: դարակներով պահարաններ | D126: դարակներով պահարաններ | E126: ԷԱՃ | F126: հատ | G126: 55500 | H126: 8 | I126: =+ROUND(H126*G126/1000,1) -> 444
A127: 32331300-503 | B127: ձայներիզների նվագարկիչներ | C127: ձայներիզների նվագարկիչներ | D127: ձայներիզների նվագարկիչներ | E127: ԷԱՃ | F127: հատ | G127: 197400 | H127: 1 | I127: =+ROUND(H127*G127/1000,1) -> 197.4
A128: 39121200-503 | B128: սեղաններ | C128: սեղաններ | D128: սեղաններ | E128: ԷԱՃ | F128: հատ | G128: 118800 | H128: 1 | I128: =+ROUND(H128*G128/1000,1) -> 118.8
A129: 39713100-501 | B129: սպասք լվացող սարքեր | C129: սպասք լվացող սարքեր | D129: սպասք լվացող սարքեր | E129: ԷԱՃ | F129: հատ | G129: 889999.2 | H129: 1 | I129: =+ROUND(H129*G129/1000,1) -> 890
