Workbook

Sheet 1
G1: Հավելված N 1
E2: ՀՀ կառավարության 2025 թվականի
E3: -----------------ի N -----------Ն որոշման
A5: «ՀԱՅԱՍՏԱՆԻ ՀԱՆՐԱՊԵՏՈՒԹՅԱՆ 2025 ԹՎԱԿԱՆԻ ՊԵՏԱԿԱՆ ԲՅՈՒՋԵԻ ՄԱՍԻՆ» ՕՐԵՆՔԻ N 1 ՀԱՎԵԼՎԱԾԻ N 2 ԱՂՅՈՒՍԱԿՈՒՄ ԿԱՏԱՐՎՈՂ ՎԵՐԱԲԱՇԽՈՒՄԸ ԵՎ ՀԱՅԱՍՏԱՆԻ ՀԱՆՐԱՊԵՏՈՒԹՅԱՆ ԿԱՌԱՎԱՐՈՒԹՅԱՆ 2024 ԹՎԱԿԱՆԻ ԴԵԿՏԵՄԲԵՐԻ 27-Ի N 2060-Ն ՈՐՈՇՄԱՆ N 5 ՀԱՎԵԼՎԱԾԻ N 1 ԱՂՅՈՒՍԱԿՈՒՄ ԿԱՏԱՐՎՈՂ ՓՈՓՈԽՈՒԹՅՈՒՆՆԵՐԸ ԵՎ ԼՐԱՑՈՒՄՆԵՐԸ
G6: հազար դրամներով
A7: ԲԳԿ | B7: Ծրագրային դասիչը | D7: ԲԳԿ/Ծրագրի /միջոցառման անվանումը | E7: Ծրագրի նպատակը/Միջոցառման նկարագրույունը | F7: Վերջնական արդյունքի նկարագրությունը/Միջոցառման տեսակը | G7: Ցուցանիշների փոփոխությունները ավելացումները նշված են դրական նշանով, իսկ նվազեցումները՝ փակագծերում
B8: Ծրագիր | C8: Միջոցառում | G8: Տարի
A9: ԸՆԴԱՄԵՆԸ | G9: =G10 -> 0
A10: ՀՀ աշխատանքի և սոցիալական հարցերի նախարարություն | G10: =G11+G13 -> 0
B11: 1088 | D11: Զբաղվածության ծրագիր | E11: Բնակչության կայուն և ժամանակավոր զբաղվածության ապահովմանը միտված պայմանների ստեղծում | F11: Կայուն և ժամանակավոր զբաղվածների թվաքանակի աճ | G11: =G12 -> 278200
C12: 1088-12024 | D12: Անհուսալի վարկային դասով դասակարգված վարկային պարտավորություն(ներ) ունեցող աշխատաշուկայից (ֆորմալ զբաղվածությունից) դուրս մնացած կամ մասնակի ֆորմալ զբաղվածություն ունեցող անձանց աջակցություն | E12: Աջակցել աշխատաշուկայից (ֆորմալ զբաղվածությունից) դուրս մնացածներին կամ մասնակի ֆորմալ զբաղվածություն ունեցողներին, որոնք ունեն անհուսալի վարկային դասով դասակարգված վարկային պարտավորություն(ներ)՝ վերականգնելու իրենց տնտեսական ակտիվությունն աշխատաշուկա վերադառնալու միջոցով | F12: Տրանսֆերտների տրամադրում | G12: 278200
B13: 1011 | D13: Անապահով և կյանքի դժվարին իրավիճակում սոցիալական խմբերին աջակցություն | E13: Օժանդակել անապահով ընտանիքների կենսամակարդակի բարձրացմանը | F13: Աղքատության մեղմում և ծայրահեղ աղքատության կրճատում | G13: =G14 -> -278200
C14: 1011 - 12001 | D14: Ընտանիքի կենսամակարդակի բարձրացմանն ուղղված նպաստներ | E14: Ընտանիքների անապահովության գնահատման համակարգում հաշվառված, անապահով ճանաչված ընտանիքներին նպաստի, սոցիալական նպաստի և հրատապ օգնության տրամադրում | F14: Տրանսֆերտների տրամադրում | G14: -278200

Sheet 2
G1: Հավելված N 2
F2: ՀՀ կառավարության 2025 թվականի
F3: -----------------ի N -----------Ն որոշման
A5: ՀԱՅԱՍՏԱՆԻ ՀԱՆՐԱՊԵՏՈՒԹՅԱՆ ԿԱՌԱՎԱՐՈՒԹՅԱՆ 2024 ԹՎԱԿԱՆԻ ԴԵԿՏԵՄԲԵՐԻ 27-Ի N 2060-Ն ՈՐՈՇՄԱՆ N N 3 ԵՎ 4 ՀԱՎԵԼՎԱԾՆԵՐՈՒՄ ԿԱՏԱՐՎՈՂ ՓՈՓՈԽՈՒԹՅՈՒՆՆԵՐԸ ԵՎ ԼՐԱՑՈՒՄՆԵՐԸ
G6: հազար դրամներով
A7: Գործառական դասիչը | D7: Ծրագրային դասիչը | F7: Բյուջետային ծախսերի գործառական դասակարգման բաժինների, խմբերի և դասերի, բյուջետային ծրագրերի միջոցառումների, բյուջետային հատկացումների գլխավոր կարգադրիչների անվանումները | G7: Ցուցանիշների փոփոխությունները ավելացումները նշված են դրական նշանով, իսկ նվազեցումները՝ փակագծերում
A8: Բաժինը | B8: Խումբը | C8: Դասը | D8: Ծրագիր | E8: Միջոցառում | G8: Տարի
F9: ԸՆԴԱՄԵՆԸ ԾԱԽՍԵՐ | G9: =G11 -> 0
F10: այդ թվում`
F11: ՀՀ աշխատանքի և սոցիալական հարցերի նախարարություն | G11: =G13 -> 0
F12: այդ թվում՝
A13: 10 | F13: ՍՈՑԻԱԼԱԿԱՆ ՊԱՇՏՊԱՆՈՒԹՅՈՒՆ | G13: =G15+G31 -> 0
F14: այդ թվում՝
B15: 05 | F15: Գործազրկություն | G15: =G17 -> 278200
F16: այդ թվում՝
C17: 01 | F17: Գործազրկություն | G17: =G19 -> 278200
F18: այդ թվում՝
F19: ՀՀ աշխատանքի և սոցիալական հարցերի նախարարություն | G19: =G21 -> 278200
F20: այդ թվում՝
D21: ='1'!B11 -> 1088 | F21: ='1'!D11 -> Զբաղվածության ծրագիր | G21: =G23 -> 278200
F22: այդ թվում`
E23: 12024 | F23: ='1'!D12 -> Անհուսալի վարկային դասով դասակարգված վարկային պարտավորություն(ներ) ունեցող աշխատաշուկայից (ֆորմալ զբաղվածությունից) դուրս մնացած կամ մասնակի ֆորմալ զբաղվածություն ունեցող անձանց աջակցություն | G23: =G25 -> 278200
F24: այդ թվում` ըստ կատարողների
F25: ՀՀ աշխատանքի և սոցիալական հարցերի նախարարության միասնական սոցիալական ծառայություն | G25: =G27 -> 278200
F26: ԸՆԴԱՄԵՆԸ ԾԱԽՍԵՐ
F27: ԸՆԹԱՑԻԿ ԾԱԽՍԵՐ | G27: =G28 -> 278200
F28: ՍՈՑԻԱԼԱԿԱՆ ՆՊԱՍՏՆԵՐ ԵՎ ԿԵՆՍԱԹՈՇԱԿՆԵՐ | G28: =G29 -> 278200
F29: Սոցիալական օգնության դրամական արտահայտությամբ նպաստներ (բյուջեից) | G29: =G30 -> 278200
F30: - Այլ նպաստներ բյուջեից | G30: ='1'!G12 -> 278200
B31: 04 | F31: Ընտանիքի անդամներ և զավակներ | G31: =G33 -> -278200
F32: այդ թվում՝
C33: 01 | F33: Ընտանիքի անդամներ և զավակներ | G33: =G35 -> -278200
F34: այդ թվում՝
F35: ՀՀ աշխատանքի և սոցիալական հարցերի նախարարություն | G35: =G36 -> -278200
F36: այդ թվում՝ | G36: =G37 -> -278200
D37: ='1'!B13 -> 1011 | F37: ='1'!D13 -> Անապահով և կյանքի դժվարին իրավիճակում սոցիալական խմբերին աջակցություն | G37: =G39 -> -278200
F38: այդ թվում`
E39: 12001 | F39: ='1'!D14 -> Ընտանիքի կենսամակարդակի բարձրացմանն ուղղված նպաստներ | G39: =G41 -> -278200
F40: այդ թվում` ըստ կատարողների
F41: ՀՀ աշխատանքի և սոցիալական հարցերի նախարարության միասնական սոցիալական ծառայություն | G41: =G43 -> -278200
F42: այդ թվում` բյուջետային ծախսերի տնտեսագիտական դասակարգման հոդվածներ
F43: ԸՆԴԱՄԵՆԸ ԾԱԽՍԵՐ | G43: =G44 -> -278200
F44: ԸՆԹԱՑԻԿ ԾԱԽՍԵՐ | G44: =G45 -> -278200
F45: ՍՈՑԻԱԼԱԿԱՆ ՆՊԱՍՏՆԵՐ ԵՎ ԿԵՆՍԱԹՈՇԱԿՆԵՐ | G45: =G46 -> -278200
F46: Սոցիալական օգնության դրամական արտահայտությամբ նպաստներ (բյուջեից) | G46: =G47 -> -278200
F47: - Երեխաների կամ ընտանեկան նպաստներ բյուջեից | G47: ='1'!G14 -> -278200

Sheet 3
J1: Հավելված N 3
J2: ՀՀ կառավարության 2025 թվականի
J3: -----------------ի N -----------Ն որոշման
A6: ՀԱՅԱՍՏԱՆԻ ՀԱՆՐԱՊԵՏՈՒԹՅԱՆ ԿԱՌԱՎԱՐՈՒԹՅԱՆ 2024 ԹՎԱԿԱՆԻ ԴԵԿՏԵՄԲԵՐԻ 27-Ի N 2060-Ն ՈՐՈՇՄԱՆ N 9 ՀԱՎԵԼՎԱԾՈՒՄ ԿԱՏԱՐՎՈՂ ՓՈՓՈԽՈՒԹՅՈՒՆՆԵՐԸ ԵՎ ԼՐԱՑՈՒՄՆԵՐԸ
J8: հազար դրամներով
A9: ԲԳԿ | B9: Ծրագիր | D9: Միջոցառում | H9: Իրականացնողը/ ակտիվն օգտագործողը/ շահառուի ընտրության չափորոշիչը | I9: Արդյունքային չափորոշիչը | J9: Ցուցանիշների փոփոխությունները ավելացումները նշված են դրական նշանով, իսկ նվազեցումները՝ փակագծերում
B10: Դասիչը | C10: Անվանումը | D10: Դասիչը | E10: Անվանումը | F10: Նկարագրությունը | G10: Տեսակը | J10: Տարի
A11: ԸՆԴԱՄԵՆԸ | J11: =J12 -> 0
A12: ՀՀ աշխատանքի և սոցիալական հարցերի նախարարություն | J12: =J13+J22 -> 0
B13: ='1'!B11 -> 1088 | C13: ='1'!D11 -> Զբաղվածության ծրագիր | J13: =J14 -> 278200
D14: ='1'!C12 -> 1088-12024 | E14: ='1'!D12 -> Անհուսալի վարկային դասով դասակարգված վարկային պարտավորություն(ներ) ունեցող աշխատաշուկայից (ֆորմալ զբաղվածությունից) դուրս մնացած կամ մասնակի ֆորմալ զբաղվածություն ունեցող անձանց աջակցություն | J14: ='1'!G12 -> 278200
F15: ='1'!E12 -> Աջակցել աշխատաշուկայից (ֆորմալ զբաղվածությունից) դուրս մնացածներին կամ մասնակի ֆորմալ զբաղվածություն ունեցողներին, որոնք ունեն անհուսալի վարկային դասով դասակարգված վարկային պարտավորություն(ներ)՝ վերականգնելու իրենց տնտեսական ակտիվությունն աշխատաշուկա վերադառնալու միջոցով
G16: Տրանսֆերտների տրամադրում
H17: Ծառայությունը մատուցողի անվանումը` կազմակերպություններ
I18: Անհուսալի դասով դասակարգված վարկային պարտավորություն ունեցող անձանց թվաքանակ, այդ թվում | J18: 0
I19: ֆորմալ զբաղվածություն ձեռք բերած | J19: 1117
B22: ='1'!B13 -> 1011 | C22: ='1'!D13 -> Անապահով և կյանքի դժվարին իրավիճակում սոցիալական խմբերին աջակցություն | J22: =J23 -> -278200
D23: ='1'!C14 -> 1011 - 12001 | E23: ='1'!D14 -> Ընտանիքի կենսամակարդակի բարձրացմանն ուղղված նպաստներ | J23: ='1'!G14 -> -278200
F24: ='1'!E14 -> Ընտանիքների անապահովության գնահատման համակարգում հաշվառված, անապահով ճանաչված ընտանիքներին նպաստի, սոցիալական նպաստի և հրատապ օգնության տրամադրում
G25: ='1'!F14 -> Տրանսֆերտների տրամադրում
H26: Շահառուների ընտրության չափորոշիչները` Ընտանիքների անապահովության գնահատման համակարգում հաշվառված ընտանիք (ընտանիքի անապահովության միավորի հիման վրա)
I27: Ընտանիքի կենսամակարդակի բարձրացմանն ուղղված նպաստներ ստացող ընտանիքների միջին թիվ, հատ, այդ թվում՛ | J27: -692
I28: Նպաստ ստացող անդամների միջին թիվ, այդ թվում՛ | J28: -1380

Sheet 4
J1: Հավելված N 4
J2: ՀՀ կառավարության 2025 թվականի
J3: -----------------ի N -----------Ն որոշման
A6: ՀԱՅԱՍՏԱՆԻ ՀԱՆՐԱՊԵՏՈՒԹՅԱՆ ԿԱՌԱՎԱՐՈՒԹՅԱՆ 2024 ԹՎԱԿԱՆԻ ԴԵԿՏԵՄԲԵՐԻ 27-Ի N 2060-Ն ՈՐՈՇՄԱՆ N 9.1 ՀԱՎԵԼՎԱԾՈՒՄ ԿԱՏԱՐՎՈՂ ՓՈՓՈԽՈՒԹՅՈՒՆՆԵՐԸ ԵՎ ԼՐԱՑՈՒՄՆԵՐԸ
J8: հազար դրամներով
A9: ԲՍԿ | B9: Ծրագիր | D9: Միջոցառում | H9: Իրականացնողը/ ակտիվն օգտագործողը/ շահառուի ընտրության չափորոշիչը | I9: Արդյունքային չափորոշիչը | J9: Ցուցանիշների փոփոխությունները ավելացումները նշված են դրական նշանով, իսկ նվազեցումները՝ փակագծերում
B10: Դասիչը | C10: Անվանումը | D10: Դասիչը | E10: Անվանումը | F10: Նկարագրությունը | G10: Տեսակը | J10: Տարի
A11: ԸՆԴԱՄԵՆԸ | J11: =J12 -> 0
A12: ՀՀ աշխատանքի և սոցիալական հարցերի նախարարության միասնական սոցիալական ծառայություն | J12: =J13+J21 -> 0
B13: ='3'!B13 -> 1088 | C13: ='3'!C13:I13 -> Զբաղվածության ծրագիր | J13: ='3'!J13 -> 278200
D14: ='3'!D14 -> 1088-12024 | E14: ='3'!E14:I14 -> Անհուսալի վարկային դասով դասակարգված վարկային պարտավորություն(ներ) ունեցող աշխատաշուկայից (ֆորմալ զբաղվածությունից) դուրս մնացած կամ մասնակի ֆորմալ զբաղվածություն ունեցող անձանց աջակցություն | J14: ='3'!J14 -> 278200
F15: ='3'!F15:J15 -> Աջակցել աշխատաշուկայից (ֆորմալ զբաղվածությունից) դուրս մնացածներին կամ մասնակի ֆորմալ զբաղվածություն ունեցողներին, որոնք ունեն անհուսալի վարկային դասով դասակարգված վարկային պարտավորություն(ներ)՝ վերականգնելու իրենց տնտեսական ակտիվությունն աշխատաշուկա վերադառնալու միջոցով
G16: ='3'!G16:J16 -> Տրանսֆերտների տրամադրում
H17: ='3'!H17:J17 -> Ծառայությունը մատուցողի անվանումը` կազմակերպություններ
I18: ='3'!I18 -> Անհուսալի դասով դասակարգված վարկային պարտավորություն ունեցող անձանց թվաքանակ, այդ թվում | J18: ='3'!J18 -> 0
I19: ='3'!I19 -> ֆորմալ զբաղվածություն ձեռք բերած | J19: ='3'!J19 -> 1117
B21: ='3'!B22 -> 1011 | C21: ='3'!C22:I22 -> Անապահով և կյանքի դժվարին իրավիճակում սոցիալական խմբերին աջակցություն | J21: =J22 -> -278200
D22: ='3'!D23 -> 1011 - 12001 | E22: ='3'!E23:I23 -> Ընտանիքի կենսամակարդակի բարձրացմանն ուղղված նպաստներ | J22: ='1'!G13 -> -278200
F23: ='3'!F24:J24 -> Ընտանիքների անապահովության գնահատման համակարգում հաշվառված, անապահով ճանաչված ընտանիքներին նպաստի, սոցիալական նպաստի և հրատապ օգնության տրամադրում
G24: ='3'!G25:J25 -> Տրանսֆերտների տրամադրում
H25: ='3'!H26:J26 -> Շահառուների ընտրության չափորոշիչները` Ընտանիքների անապահովության գնահատման համակարգում հաշվառված ընտանիք (ընտանիքի անապահովության միավորի հիման վրա)
I26: ='3'!I27 -> Ընտանիքի կենսամակարդակի բարձրացմանն ուղղված նպաստներ ստացող ընտանիքների միջին թիվ, հատ, այդ թվում՛ | J26: ='3'!J27 -> -692
I27: ='3'!I28 -> Նպաստ ստացող անդամների միջին թիվ, այդ թվում՛ | J27: ='3'!J28 -> -1380
