Workbook
Name a: #REF!
Name a: #REF!
Name a: #REF!
Name AgencyCode: #REF!
Name AgencyCode: #REF!
Name AgencyCode: #REF!
Name AgencyCode: #REF!
Name AgencyCode: #REF!
Name AgencyCode: #REF!
Name AgencyName: #REF!
Name AgencyName: #REF!
Name AgencyName: #REF!
Name åû: #REF!
Name åû: #REF!
Name davit: #REF!
Name davit: #REF!
Name Functional1: #REF!
Name Functional1: #REF!
Name Functional1: #REF!
Name ggg: #REF!
Name ggg: #REF!
Name hav: #REF!
Name hav: #REF!
Name mas: #REF!
Name mas: #REF!
Name mass: #REF!
Name mass: #REF!
Name PANature: #REF!
Name PANature: #REF!
Name PANature: #REF!
Name PAType: #REF!
Name PAType: #REF!
Name PAType: #REF!
Name Performance2: #REF!
Name Performance2: #REF!
Name Performance2: #REF!
Name PerformanceType: #REF!
Name PerformanceType: #REF!
Name PerformanceType: #REF!
Name x: #REF!
Name x: #REF!
Name Հավելված: #REF!
Name Հավելված: #REF!
Name Հավելված10: #REF!
Name Հավելված10: #REF!
Name Հավելված11: #REF!
Name Հավելված11: #REF!
Name Հավելված20: #REF!
Name Հավելված20: #REF!
Name Հավելված9: #REF!
Name Հավելված9: #REF!
Name Մաս: #REF!
Name Մաս: #REF!
Name շախմատիստ: #REF!
Name շախմատիստ: #REF!
Name վֆյգյգ: #REF!
Name վֆյգյգ: #REF!

Sheet Հավելված N 1
F1: Հավելված N 1
F2: ՀՀ կառավարության 2025 թվականի
F3: ______________ ի ___Ն որոշման
A6: «ՀԱՅԱUՏԱՆԻ ՀԱՆՐԱՊԵՏՈՒԹՅԱՆ 2025 ԹՎԱԿԱՆԻ ՊԵՏԱԿԱՆ ԲՅՈՒՋԵԻ ՄԱUԻՆ» ՀԱՅԱUՏԱՆԻ ՀԱՆՐԱՊԵՏՈՒԹՅԱՆ OՐԵՆՔԻ N 1 ՀԱՎԵԼՎԱԾԻ N 2 ԱՂՅՈՒՍԱԿՈՒՄ ԿԱՏԱՐՎՈՂ ՎԵՐԱԲԱՇԽՈՒՄԸ ԵՎ ՀԱՅԱՍՏԱՆԻ ՀԱՆՐԱՊԵՏՈՒԹՅԱՆ ԿԱՌԱՎԱՐՈՒԹՅԱՆ 2024 ԹՎԱԿԱՆԻ ԴԵԿՏԵՄԲԵՐԻ 27-Ի N 2060-Ն ՈՐՈՇՄԱՆ N 5 ՀԱՎԵԼՎԱԾԻ N 1 ԱՂՅՈՒՍԱԿՈՒՄ ԿԱՏԱՐՎՈՂ ՓՈՓՈԽՈՒԹՅՈՒՆՆԵՐԸ ԵՎ ԼՐԱՑՈՒՄՆԵՐԸ
G9: հազ. դրամներով
A10: ԲԳԿ | B10: Ծրագրային դասիչը | D10: ԲԳԿ/Ծրագրի /միջոցառման անվանումը | E10: Ծրագրի նպատակը/Միջոցառման նկարագրությունը | F10: Վերջնական արդյունքի նկարագրությունը/Միջոցառման տեսակը | G10: Ցուցանիշների փոփոխությունը (ավելացումները նշված են դրական նշանով, իսկ նվազեցումները փակագծերում)
G11: Տարի
B12: Ծրագիր | C12: Միջոցառում
A13: ԸՆԴԱՄԵՆԸ | G13: =+G15+G32 -> 0
A14: այդ թվում՝
A15: ՀՀ ԿՐԹՈՒԹՅԱՆ, ԳԻՏՈՒԹՅԱՆ, ՄՇԱԿՈՒՅԹԻ ԵՎ ՍՊՈՐՏԻ ՆԱԽԱՐԱՐՈՒԹՅՈՒՆ | G15: =+G16+G19+G23+G26 -> -5000
B16: 1045 | D16: Մասնագիտական կրթության և ուսուցման ծրագիր | E16: Աշխատաշուկայի արդի պահանջներին համապատասխան արհեստագործական և միջին մասնագիտական կրթության որակավորում ունեցող մասնագետների պատրաստում, կրթության մատչելիության ապահովում: | F16: Արհեստագործական և միջին մասնագիտական կրթության գրավչության բարձրացում, մատչելի և մրցունակ արհեստագործական և միջին մասնագիտական կրթության ապահովում | G16: =SUM(G17:G18) -> -281665.2
C17: 1045 - 32001 | D17: Մասնագիտական ուսումնական հաստատությունների շենքային պայմանների բարելավում | E17: Մասնագիտական ուսումնական հաստատությունների շենքերի հիմնանորոգման և նախագծման (շինարարական աշխատանքներ, ջեռուցման համակարգի ստեղծում, ներքին հարդարում, տարածքի բարեկարգում) աշխատանքների իրականացում | F17: Այլ պետական կազմակերպությունների կողմից օգտագործվող ոչ ֆինանսական ակտիվների հետ գործառնություններ | G17: =+'Հավելված N 2'!G111 -> -223820
C18: 1045 - 32005 | D18: Մասնագիտական ուսումնական հաստատությունների շենքերի կառուցում | E18: Մասնագիտական ուսումնական հաստատությունների շենքերի (մասնաշենքերի) կառուցման և նախագծման աշխատանքների իրականացում | F18: Այլ պետական կազմակերպությունների կողմից օգտագործվող ոչ ֆինանսական ակտիվների հետ գործառնություններ | G18: =+'Հավելված N 2'!G122 -> -57845.2
B19: 1163 | D19: Մասսայական սպորտ | E19: Բնակչության շրջանում առողջ ապրելակերպի արմատավորում, անհատի բազմակողմանի ու ներդաշնակ զարգացման գործում ֆիզիկական կուլտուրայի և սպորտի դերի բարձրացում | F19: Սպորտի նկատմամբ հետաքրքրվածության և մասնակցության ընդլայնում | G19: =SUM(G20:G22) -> -655054.6
C20: 1163 - 12001 | D20: Աջակցություն համայնքներին մարզական հաստատությունների շենքային պայմանների բարելավման համար | E20: Համայնքային ենթակայության մարզական հաստատությունների վերանորոգում և կառուցում | F20: Տրանսֆերտների տրամադրում | G20: =+'Հավելված N 2'!G133 -> -240000
C21: 1163 - 32001 | D21: Մարզական օբյեկտների շինարարություն | E21: Մարզական օբյեկտների շենքերի (մասնաշենքերի) կառուցում (համաշինարարական աշխատանքներ, ջեռուցման համակարգի իրականացում, ներքին հարդարում, տարածքի բարեկարգում) և նախագծում | F21: Այլ պետական կազմակերպությունների կողմից օգտագործվող ոչ ֆինանսական ակտիվների հետ գործառնություններ | G21: =+'Հավելված N 2'!G142 -> -334754.6
C22: 1163 - 32002 | D22: Մարզական օբյեկտների հիմնանորոգում | E22: Մարզական օբյեկտների շենքերի (մասնաշենքերի) հիմնանորոգում (համաշինարարական աշխատանքներ, ջեռուցման համակարգի իրականացում, ներքին հարդարում, տարածքի բարեկարգում) և նախագծում | F22: Այլ պետական կազմակերպությունների կողմից օգտագործվող ոչ ֆինանսական ակտիվների հետ գործառնություններ | G22: =+'Հավելված N 2'!G153 -> -80300
B23: 1183 | D23: Ապահով դպրոց | E23: Դպրոցներին սպառնացող աղետների ռիսկի կառավարման կարողությունների հզորացում, դպրոցի անձնակազմի և աշակերտների անվտանգության ապահովման մակարդակի բարձրացում՛ կիրառելով ներառական և երեխայակենտրոն մոտեցում | F23: Դպրոցական միջավայրի բարելավում | G23: =SUM(G24:G25) -> -306694.9
C24: 1183 - 32007 | D24: Հանրակրթական կրթություն իրականացնող ուսումնական հաստատությունների նոր մարզադահլիճների կառուցում | E24: Հանրակրթական ուսուցում իրականացնող ուսումնական հաստատությունների նոր մարզադահլիճների կառուցման նախագծանախահաշվային փաստաթղթերի մշակում | F24: Այլ պետական կազմակերպությունների կողմից օգտագործվող ոչ ֆինանսական ակտիվների հետ գործառնություններ | G24: =+'Հավելված N 2'!G164 -> -5085
C25: 1183 - 32009 | D25: Հանրակրթական կրթություն իրականացնող ուսումնական հաստատությունների մարզադահլիճների վերակառուցում | E25: Հանրակրթական ուսուցում իրականացնող ուսումնական հաստատությունների մարզադահլիճների վերակառուցման նախագծանախահաշվային փաստաթղթերի մշակում | F25: Այլ պետական կազմակերպությունների կողմից օգտագործվող ոչ ֆինանսական ակտիվների հետ գործառնություններ | G25: =+'Հավելված N 2'!G173 -> -301609.9
B26: 1236 | D26: Հանրակրթական և նախադպրոցական հաստատությունների հիմնում, կառուցում, բարելավում | E26: Առնվազն 300 դպրոցի և 500 մանկապարտեզի կառուցման, վերակառուցման, հիմնանորոգման ծրագրերի իրականացում ՀՀ պետական բյուջեի միջոցների շրջանակներում | F26: Կրթական միջավայրի բարելավում | G26: =SUM(G27:G30) -> 1238414.7
C27: 1236 - 32001 | D27: Մանկապարտեզների նոր շենքերի կառուցում | E27: Նախադպրոցական կրթության հասանելիության ապահովման նպատակով՛ մանկապարտեզների հիմնում, նոր շենքերի (մասնաշենքերի), ներառյալ՛ ,Մոդուլայինե տիպի շենքերի կառուցում և նախագծում | F27: Այլ պետական կազմակերպությունների կողմից օգտագործվող ոչ ֆինանսական ակտիվների հետ գործառնություններ | G27: =+'Հավելված N 2'!G26 -> -84876.8
C28: 1236 - 32003 | D28: Հանրակրթական դպրոցների նոր շենքերի կառուցում | E28: ՀՀ մարզերում կրթական որակյալ ծառայությունների հասանելիության ապահովման ծրագրի շրջանակներում հանրակրթական և նախադպրոցական կրթության հասանելիության ապահովման նպատակով կրթական կենտրոնների կառուցում | F28: Այլ պետական կազմակերպությունների կողմից օգտագործվող ոչ ֆինանսական ակտիվների հետ գործառնություններ | G28: =+'Հավելված N 2'!G45 -> 1234864.3
C29: 1236 - 32004 | D29: Հանրակրթական դպրոցների շենքերի վերակառուցում, հիմնանորոգում | E29: Դպրոցական պարտադիր կրթության հասանելիության ապահովման նպատակով՛ հանրակրթական դպրոցների շենքերի (մասնաշենքերի), վերակառուցում, հիմնանորոգում և նախագծում | F29: Այլ պետական կազմակերպությունների կողմից օգտագործվող ոչ ֆինանսական ակտիվների հետ գործառնություններ | G29: =+'Հավելված N 2'!G63 -> 4330397.9
C30: 1236 - 32005 | D30: Կրթահամալիրների կառուցում | E30: ՀՀ մարզերում կրթական որակյալ ծառայությունների հասանելիության ապահովման ծրագրի շրջանակներում հանրակրթական և նախադպրոցական կրթության հասանելիության ապահովման նպատակով կրթական կենտրոնների կառուցում | F30: Այլ պետական կազմակերպությունների կողմից օգտագործվող ոչ ֆինանսական ակտիվների հետ գործառնություններ | G30: =+'Հավելված N 2'!G85 -> -4241970.7
A32: ՀՀ ՔԱՂԱՔԱՇԻՆՈՒԹՅԱՆ ԿՈՄԻՏԵ | G32: =+G33 -> 5000
B33: 1103 | D33: Քաղաքաշինության և ճարտարապետության բնագավառում պետական քաղաքականության իրականացում և կանոնակարգում | E33: Քաղաքաշինության և ճարտարապետության բնագավառում պետական քաղաքականության մշակմանն աջակցություն և իրականացման ապահովում | F33: Քաղաքաշինության գործունեության կանոնակարգում, քաղաքաշինական տեղեկատվական համակարգի ձևավորում և քաղաքաշինության բնագավառում պետական ծրագրերի իրականացման ապահովում | G33: =+G34 -> 5000
C34: 1103 - 11001 | D34: Քաղաքաշինության և ճարտարապետության բնագավառում պետական քաղաքականության մշակման, իրականացման, համակարգման, պլանավորման, մոնիտորինգի, կապիտալ ծրագրերի կատարման, պետական գնումների իրականացման ծառայություն | E34: Քաղաքաշինության և ճարտարապետության բնագավառում քաղաքականության մշակում, կատարման համակարգում, պլանավորում, իրականացում, մոնիտորինգ, լիցենզավորում, հաշվետվողականություն, աուդիտ, պետական գնումների իրականացում, հասարակությանը ոլորտի ծրագրերի իրազեկում | F34: Ծառայությունների մատուցում | G34: =+'Հավելված N 2'!G192 -> 5000

Sheet Հավելված N 2
F1: Հավելված N 2
F2: ՀՀ կառավարության 2025 թվականի
F3: ______________ ի ___Ն որոշման
A7: ՀԱՅԱՍՏԱՆԻ ՀԱՆՐԱՊԵՏՈՒԹՅԱՆ ԿԱՌԱՎԱՐՈՒԹՅԱՆ 2024 ԹՎԱԿԱՆԻ ԴԵԿՏԵՄԲԵՐԻ 27-Ի N 2060-Ն ՈՐՈՇՄԱՆ N 3 ԵՎ N 4 ՀԱՎԵԼՎԱԾՆԵՐՈՒՄ ԿԱՏԱՐՎՈՂ ՓՈՓՈԽՈՒԹՅՈՒՆՆԵՐԸ ԵՎ ԼՐԱՑՈՒՄՆԵՐԸ
G10: հազ. դրամներով
A11: Գործառական դասիչը | D11: Ծրագրային դասիչը | F11: Բյուջետային հատկացումների գլխավոր կարգադրիչների, ծրագրերի, միջոցառումների և միջոցառումները կատարող պետական մարմինների անվանումները | G11: Ցուցանիշների փոփոխությունը (ավելացումները նշված են դրական նշանով, իսկ նվազեցումները՝ փակագծերում)
A12: Բաժին | B12: Խումբ | C12: Դաս | D12: Ծրագիր | E12: Միջոցառում | G12: Տարի
F13: ԸՆԴԱՄԵՆԸ | G13: =+ROUND(G15+G183,1) -> 0
F14: այդ թվում՝
F15: ՀՀ ԿՐԹՈՒԹՅԱՆ, ԳԻՏՈՒԹՅԱՆ, ՄՇԱԿՈՒՅԹԻ ԵՎ ՍՊՈՐՏԻ ՆԱԽԱՐԱՐՈՒԹՅՈՒՆ | G15: =+G16 -> -5000
A16: 09 | F16: ԿՐԹՈՒԹՅՈՒՆ | G16: =+G18+G37+G103 -> -5000
F17: այդ թվում`
B18: 01 | F18: Նախադպրոցական և տարրական ընդհանուր կրթություն | G18: =+G20 -> -84876.8
F19: այդ թվում`
C20: 01 | F20: Նախադպրոցական կրթություն | G20: =+G22 -> -84876.8
F21: այդ թվում`
F22: ՀՀ կրթության, գիտության, մշակույթի և սպորտի նախարարություն | G22: =+G24 -> -84876.8
F23: այդ թվում`
D24: 1236 | E24: Հանրակրթական և նախադպրոցական հաստատությունների հիմնում, կառուցում, բարելավում | G24: =+G26 -> -84876.8
F25: այդ թվում`
E26: 32001 | F26: Մանկապարտեզների նոր շենքերի կառուցում | G26: =+G28 -> -84876.8
F27: այդ թվում` ըստ կատարողների
F28: ՀՀ քաղաքաշինության կոմիտե | G28: =+G30 -> -84876.8
F29: այդ թվում՝ բյուջետային ծախսերի տնտեսագիտական դասակարգման հոդվածներ
F30: ԸՆԴԱՄԵՆԸ ԾԱԽՍԵՐ | G30: =G31 -> -84876.8
F31: ՈՉ ՖԻՆԱՆՍԱԿԱՆ ԱԿՏԻՎՆԵՐԻ ԳԾՈՎ ԾԱԽՍԵՐ | G31: =+G32 -> -84876.8
F32: ՀԻՄՆԱԿԱՆ ՄԻՋՈՑՆԵՐ | G32: =+G33+G35 -> -84876.8
F33: ՇԵՆՔԵՐ ԵՎ ՇԻՆՈՒԹՅՈՒՆՆԵՐ | G33: =+G34 -> -85490
F34: - Շենքերի և շինությունների շինարարություն | G34: =+'Հավելված N 4'!E78-'Հավելված N 3'!G64 -> -85490
F35: ԱՅԼ ՀԻՄՆԱԿԱՆ ՄԻՋՈՑՆԵՐ | G35: =+G36 -> 613.2
F36: - Նախագծահետազոտական ծախսեր | G36: =+'Հավելված N 4'!E78-'Հավելված N 3'!E64 -> 613.2
B37: 02 | F37: Միջնակարգ ընդհանուր կրթություն | G37: =+G39 -> 1323291.5
F38: այդ թվում`
C39: 01 | F39: Հիմնական ընդհանուր կրթություն | G39: =+G41 -> 1323291.5
F40: այդ թվում`
F41: ՀՀ կրթության, գիտության, մշակույթի և սպորտի նախարարություն | G41: =+G43 -> 1323291.5
F42: այդ թվում`
D43: 1236 | E43: Հանրակրթական և նախադպրոցական հաստատությունների հիմնում, կառուցում, բարելավում | G43: =+G45+G63+G85 -> 1323291.5
F44: այդ թվում`
E45: 32003 | F45: Հանրակրթական դպրոցների նոր շենքերի կառուցում | G45: =+G47+G54 -> 1234864.3
F46: այդ թվում` ըստ կատարողների
F47: ՀՀ կրթության, գիտության, մշակույթի և սպորտի նախարարություն | G47: =+G49 -> 1857281.3
F48: այդ թվում՝ բյուջետային ծախսերի տնտեսագիտական դասակարգման հոդվածներ
F49: ԸՆԴԱՄԵՆԸ ԾԱԽՍԵՐ | G49: =G50 -> 1857281.3
F50: ՈՉ ՖԻՆԱՆՍԱԿԱՆ ԱԿՏԻՎՆԵՐԻ ԳԾՈՎ ԾԱԽՍԵՐ | G50: =+G51 -> 1857281.3
F51: ՀԻՄՆԱԿԱՆ ՄԻՋՈՑՆԵՐ | G51: =+G52 -> 1857281.3
F52: ՇԵՆՔԵՐ ԵՎ ՇԻՆՈՒԹՅՈՒՆՆԵՐ | G52: =+G53 -> 1857281.3
F53: - Շենքերի և շինությունների շինարարություն | G53: =+'Հավելված N 4'!E98 -> 1857281.3
F54: ՀՀ քաղաքաշինության կոմիտե | G54: =+G56 -> -622417
F55: այդ թվում՝ բյուջետային ծախսերի տնտեսագիտական դասակարգման հոդվածներ
F56: ԸՆԴԱՄԵՆԸ ԾԱԽՍԵՐ | G56: =G57 -> -622417
F57: ՈՉ ՖԻՆԱՆՍԱԿԱՆ ԱԿՏԻՎՆԵՐԻ ԳԾՈՎ ԾԱԽՍԵՐ | G57: =+G58 -> -622417
F58: ՀԻՄՆԱԿԱՆ ՄԻՋՈՑՆԵՐ | G58: =+G59+G61 -> -622417
F59: ՇԵՆՔԵՐ ԵՎ ՇԻՆՈՒԹՅՈՒՆՆԵՐ | G59: =+'Հավելված N 2'!G60 -> -643499
F60: - Շենքերի և շինությունների շինարարություն | G60: =+'Հավելված N 4'!E127-'Հավելված N 3'!G82 -> -643499
F61: ԱՅԼ ՀԻՄՆԱԿԱՆ ՄԻՋՈՑՆԵՐ | G61: =+'Հավելված N 2'!G62 -> 21082
F62: - Նախագծահետազոտական ծախսեր | G62: =+'Հավելված N 3'!G82 -> 21082
E63: 32004 | F63: Հանրակրթական դպրոցների շենքերի վերակառուցում, հիմնանորոգում | G63: =+G65+G72 -> 4330397.9
F64: այդ թվում` ըստ կատարողների
F65: ՀՀ կրթության, գիտության, մշակույթի և սպորտի նախարարություն | G65: =+G67 -> 4112288.8
F66: այդ թվում՝ բյուջետային ծախսերի տնտեսագիտական դասակարգման հոդվածներ
F67: ԸՆԴԱՄԵՆԸ ԾԱԽՍԵՐ | G67: =G68 -> 4112288.8
F68: ՈՉ ՖԻՆԱՆՍԱԿԱՆ ԱԿՏԻՎՆԵՐԻ ԳԾՈՎ ԾԱԽՍԵՐ | G68: =+G69 -> 4112288.8
F69: ՀԻՄՆԱԿԱՆ ՄԻՋՈՑՆԵՐ | G69: =+G70 -> 4112288.8
F70: ՇԵՆՔԵՐ ԵՎ ՇԻՆՈՒԹՅՈՒՆՆԵՐ | G70: =+G71 -> 4112288.8
F71: - Շենքերի և շինությունների կապիտալ վերանորոգում | G71: =+'Հավելված N 4'!E149 -> 4112288.8
F72: ՀՀ քաղաքաշինության կոմիտե | G72: =+G74 -> 218109.1
F73: այդ թվում՝ բյուջետային ծախսերի տնտեսագիտական դասակարգման հոդվածներ
F74: ԸՆԴԱՄԵՆԸ ԾԱԽՍԵՐ | G74: =G75+G79 -> 218109.1
F75: ԸՆԹԱՑԻԿ ԾԱԽՍԵՐ | G75: =+G76 -> 3443.2
F76: ԾԱՌԱՅՈՒԹՅՈՒՆՆԵՐԻ ԵՎ ԱՊՐԱՆՔՆԵՐԻ ՁԵՌՔԲԵՐՈՒՄ | G76: =+G77 -> 3443.2
F77: ԱՅԼ ՄԱՍՆԱԳԻՏԱԿԱՆ ԾԱՌԱՅՈՒԹՅՈՒՆՆԵՐԻ ՁԵՌՔ ԲԵՐՈՒՄ | G77: =+G78 -> 3443.2
F78: - Մասնագիտական ծառայություններ | G78: =+'Հավելված N 7'!I144 -> 3443.2
F79: ՈՉ ՖԻՆԱՆՍԱԿԱՆ ԱԿՏԻՎՆԵՐԻ ԳԾՈՎ ԾԱԽՍԵՐ | G79: =+G80 -> 214665.9
F80: ՀԻՄՆԱԿԱՆ ՄԻՋՈՑՆԵՐ | G80: =+G81+G83 -> 214665.9
F81: ՇԵՆՔԵՐ ԵՎ ՇԻՆՈՒԹՅՈՒՆՆԵՐ | G81: =+G82 -> 214895.9
F82: - Շենքերի և շինությունների կապիտալ վերանորոգում | G82: =+'Հավելված N 4'!E161-'Հավելված N 3'!G124 -> 214895.9
F83: ԱՅԼ ՀԻՄՆԱԿԱՆ ՄԻՋՈՑՆԵՐ | G83: =+'Հավելված N 2'!G84 -> -230
F84: - Նախագծահետազոտական ծախսեր | G84: =+'Հավելված N 3'!G124 -> -230
E85: 32005 | F85: Կրթահամալիրների կառուցում | G85: =+G87+G94 -> -4241970.7
F86: այդ թվում` ըստ կատարողների
F87: ՀՀ կրթության, գիտության, մշակույթի և սպորտի նախարարություն | G87: =+G89 -> -2064801.8
F88: այդ թվում՝ բյուջետային ծախսերի տնտեսագիտական դասակարգման հոդվածներ
F89: ԸՆԴԱՄԵՆԸ ԾԱԽՍԵՐ | G89: =G90 -> -2064801.8
F90: ՈՉ ՖԻՆԱՆՍԱԿԱՆ ԱԿՏԻՎՆԵՐԻ ԳԾՈՎ ԾԱԽՍԵՐ | G90: =+G91 -> -2064801.8
F91: ՀԻՄՆԱԿԱՆ ՄԻՋՈՑՆԵՐ | G91: =+G92 -> -2064801.8
F92: ՇԵՆՔԵՐ ԵՎ ՇԻՆՈՒԹՅՈՒՆՆԵՐ | G92: =+G93 -> -2064801.8
F93: - Շենքերի և շինությունների շինարարություն | G93: =+'Հավելված N 4'!E182 -> -2064801.8
F94: ՀՀ քաղաքաշինության կոմիտե | G94: =+G96 -> -2177168.9
F95: այդ թվում՝ բյուջետային ծախսերի տնտեսագիտական դասակարգման հոդվածներ
F96: ԸՆԴԱՄԵՆԸ ԾԱԽՍԵՐ | G96: =G97 -> -2177168.9
F97: ՈՉ ՖԻՆԱՆՍԱԿԱՆ ԱԿՏԻՎՆԵՐԻ ԳԾՈՎ ԾԱԽՍԵՐ | G97: =+G98 -> -2177168.9
F98: ՀԻՄՆԱԿԱՆ ՄԻՋՈՑՆԵՐ | G98: =+G99+G101 -> -2177168.9
F99: ՇԵՆՔԵՐ ԵՎ ՇԻՆՈՒԹՅՈՒՆՆԵՐ | G99: =+'Հավելված N 2'!G100 -> -2170168.9
F100: - Շենքերի և շինությունների շինարարություն | G100: =+'Հավելված N 4'!E224-'Հավելված N 3'!G152 -> -2170168.9
F101: ԱՅԼ ՀԻՄՆԱԿԱՆ ՄԻՋՈՑՆԵՐ | G101: =+'Հավելված N 2'!G102 -> -7000
F102: - Նախագծահետազոտական ծախսեր | G102: =+'Հավելված N 3'!G152 -> -7000
B103: 06 | F103: Կրթությանը տրամադրվող օժանդակ ծառայություններ | G103: =+G105 -> -1243414.7
F104: այդ թվում`
C105: 01 | F105: Կրթությանը տրամադրվող օժանդակ ծառայություններ | G105: =+G107 -> -1243414.7
...

Sheet Հավելված N 3
F1: Հավելված N 3
F2: ՀՀ կառավարության 2025 թվականի
F3: ______________ ի ___Ն որոշման
A5: «ՀԱՅԱUՏԱՆԻ ՀԱՆՐԱՊԵՏՈՒԹՅԱՆ 2025 ԹՎԱԿԱՆԻ ՊԵՏԱԿԱՆ ԲՅՈՒՋԵԻ ՄԱUԻՆ» ՀԱՅԱUՏԱՆԻ ՀԱՆՐԱՊԵՏՈՒԹՅԱՆ OՐԵՆՔԻ N 1 ՀԱՎԵԼՎԱԾԻ N 3 ԱՂՅՈՒՍԱԿՈՒՄ ԿԱՏԱՐՎՈՂ ՓՈՓՈԽՈՒԹՅՈՒՆՆԵՐԸ ԵՎ ԼՐԱՑՈՒՄՆԵՐԸ
G8: հազ. դրամներով
A9: Ծրագրային դասիչ | C9: Բյուջետային գլխավոր կարգադրիչների, ծրագրերի, միջոցառումների, միջոցառումները կատարող պետական մարմինների և ուղղությունների անվանումները | D9: Ընդամենը | E9: Ցուցանիշների փոփոխությունը (ավելացումները նշված են դրական նշանով, իսկ նվազեցումները՝ փակագծերում)
A10: Ծրագիր | B10: Միջոցառում | E10: Կառուցման աշխատանքներ | F10: Վերակառուցման, վերանորոգման և վերականգնման աշխատանքներ | G10: Նախագծահե- տազոտական, գեոդեզիա- քարտեզագրա- կան աշխա- տանքներ | H10: Ոչ ֆինանսական այլ ակտիվների ձեռքբերում
C11: ԸՆԴԱՄԵՆԸ | D11: =ROUND(SUM(E11:H11),1) -> -8443.2 | E11: =+E13 -> -3699403.6 | F11: =+F13 -> 3715554.8 | G11: =+G13 -> -24594.4 | H11: =+H13 -> 0
C12: այդ թվում՝
C13: ՀՀ ԿՐԹՈՒԹՅԱՆ, ԳԻՏՈՒԹՅԱՆ, ՄՇԱԿՈՒՅԹԻ ԵՎ ՍՊՈՐՏԻ ՆԱԽԱՐԱՐՈՒԹՅՈՒՆ | D13: =ROUND(SUM(E13:H13),1) -> -8443.2 | E13: =+E15+E21+E29+E33+E48+E52+E56+E64+E82+E124+E152 -> -3699403.6 | F13: =+F15+F21+F29+F33+F48+F52+F56+F64+F82+F124+F152 -> 3715554.8 | G13: =+G15+G21+G29+G33+G48+G52+G56+G64+G82+G124+G152 -> -24594.4 | H13: =+H15+H21+H29+H33+H48+H52+H56+H64+H82+H124+H152 -> 0
C14: այդ թվում`
A15: 1045 | B15: 32001 | C15: Մասնագիտական ուսումնական հաստատությունների շենքային պայմանների բարելավում | D15: =SUM(E15:H15) -> -223820 | E15: =+E17+E19 -> 0 | F15: =+F17+F19 -> -229720 | G15: =+G17+G19 -> 5900 | H15: =+H17+H19 -> 0
C16: այդ թվում`
C17: ՀՀ Արարատի մարզ | D17: =SUM(E17:H17) -> -24320 | E17: =+E18 -> 0 | F17: =+F18 -> -24320 | G17: =+G18 -> 0 | H17: =+H18 -> 0
C18: «Մասիսի պետական գյուղատնտեսական քոլեջ» ՊՈԱԿ | D18: =+E18+F18+G18+H18 -> -24320 | F18: =+'Հավելված N 7'!I175+'Հավելված N 7'!I178+'Հավելված N 7'!I180 -> -24320
C19: ՀՀ Կոտայքի մարզ | D19: =SUM(E19:H19) -> -199500 | E19: =+E20 -> 0 | F19: =+F20 -> -205400 | G19: =+G20 -> 5900 | H19: =+H20 -> 0
C20: «Նոր Գեղիի ակադեմիկոս Գ. Աղաջանյանի անվան պետական գյուղատնտեսական քոլեջ» ՊՈԱԿ | D20: =+E20+F20+G20+H20 -> -199500 | F20: =+'Հավելված N 7'!I176+'Հավելված N 7'!I179+'Հավելված N 7'!I181 -> -205400 | G20: =+'Հավելված N 7'!I182 -> 5900
A21: 1045 | B21: 32005 | C21: Մասնագիտական ուսումնական հաստատությունների շենքերի կառուցում | D21: =SUM(E21:H21) -> -57845.2 | E21: =+E23+E25+E27 -> -57845.2 | F21: =+F23+F25+F27 -> 0 | G21: =+G23+G25+G27 -> 0 | H21: =+H23+H25+H27 -> 0
C22: այդ թվում`
C23: ՀՀ Գեղարքունիքի մարզ | D23: =SUM(E23:H23) -> 62154.8 | E23: =+E24 -> 62154.8 | F23: =+F24 -> 0 | G23: =+G24 -> 0 | H23: =+H24 -> 0
C24: «Գավառի ակադեմիկոս Ա. Թամամշևի անվան պետական գյուղատնտեսական քոլեջ» ՊՈԱԿ | D24: =+E24+F24+G24+H24 -> 62154.8 | E24: =+'Հավելված N 7'!I186+'Հավելված N 7'!I189+'Հավելված N 7'!I190 -> 62154.8
C25: ՀՀ Սյունիքի մարզ | D25: =SUM(E25:H25) -> -70000 | E25: =+E26 -> -70000 | F25: =+F26 -> 0 | G25: =+G26 -> 0 | H25: =+H26 -> 0
C26: «Գորիսի պրոֆեսոր Խ. Երիցյանի անվան պետական գյուղատնտեսական քոլեջ» ՊՈԱԿ | D26: =+E26+F26+G26+H26 -> -70000 | E26: =+'Հավելված N 7'!I187 -> -70000
C27: ՀՀ Տավուշի մարզ | D27: =SUM(E27:H27) -> -50000 | E27: =+E28 -> -50000 | F27: =+F28 -> 0 | G27: =+G28 -> 0 | H27: =+H28 -> 0
C28: «Նոյեմբերյանի պետական քոլեջ» ՊՈԱԿ | D28: =+E28+F28+G28+H28 -> -50000 | E28: =+'Հավելված N 7'!I185 -> -50000
A29: 1163 | B29: 12001 | C29: Աջակցություն համայնքներին մարզական հաստատությունների շենքային պայմանների բարելավման համար | D29: =SUM(E29:H29) -> -240000 | E29: =+E31 -> -240000 | F29: =+F31 -> 0 | G29: =+G31 -> 0 | H29: =+H31 -> 0
C30: այդ թվում`
C31: ՀՀ Շիրակի մարզ | D31: =SUM(E31:H31) -> -240000 | E31: =+E32 -> -240000 | F31: =+F32 -> 0 | G31: =+G32 -> 0 | H31: =+H32 -> 0
C32: Արթուր Ալեքսանյանի անվան նոր սպորտային համալիր | D32: =+E32+F32+G32+H32 -> -240000 | E32: =+'Հավելված N 7'!I193 -> -240000
A33: 1163 | B33: 32001 | C33: Մարզական օբյեկտների շինարարություն | D33: =SUM(E33:H33) -> -334754.6 | E33: =+E35+E39+E42+E44+E46 -> -294880 | F33: =+F35+F39+F42+F44+F46 -> 0 | G33: =+G35+G39+G42+G44+G46 -> -39874.6 | H33: =+H35+H39+H42+H44+H46 -> 0
C34: այդ թվում`
C35: Երևան քաղաք | D35: =SUM(E35:H35) -> -245456.1 | E35: =SUM(E36:E38) -> -244880 | F35: =SUM(F36:F38) -> 0 | G35: =SUM(G36:G38) -> -576.1 | H35: =SUM(H36:H38) -> 0
C36: Հեծանվային սպորտի և Հրանտ Շահինյանի անվան սպորտային, գեղարվեստական մարմնամարզության և ակրոբատիկայի օլիմպիական մանկապատանեկան մարզադպրոցներ | D36: =+E36+F36+G36+H36 -> -112000 | E36: =+'Հավելված N 7'!I196+'Հավելված N 7'!I201+'Հավելված N 7'!I203 -> -112000
C37: Արթուր Աբրահամի անվան մարզահամալիր | D37: =+E37+F37+G37+H37 -> -83300 | E37: =+'Հավելված N 7'!I197+'Հավելված N 7'!I202+'Հավելված N 7'!I204 -> -82880 | G37: =+'Հավելված N 7'!I215 -> -420
C38: «Երևանի օլիմպիական հերթափոխի պետական մարզական քոլեջ» ՊՈԱԿ (բռնցքամարտի և ձյուդոյի մարզադահլիճ) | D38: =+E38+F38+G38+H38 -> -50156.1 | E38: =+'Հավելված N 7'!I198 -> -50000 | G38: =+'Հավելված N 7'!I205+'Հավելված N 7'!I211 -> -156.1
C39: ՀՀ Արագածոտնի մարզ | D39: =SUM(E39:H39) -> -61741.6 | E39: =SUM(E40:E41) -> -50000 | F39: =SUM(F40:F41) -> 0 | G39: =SUM(G40:G41) -> -11741.6 | H39: =SUM(H40:H41) -> 0
C40: Ալագյազ համայնքում Մալխաս և Ռոման Ամոյանների անվան նոր մարզադպրոց | D40: =+E40+F40+G40+H40 -> -52556.1 | E40: =+'Հավելված N 7'!I199 -> -50000 | G40: =+'Հավելված N 7'!I206+'Հավելված N 7'!I212 -> -2556.1
C41: Մարզական համալիր Աշտարակում | D41: =+E41+F41+G41+H41 -> -9185.5 | G41: =+'Հավելված N 7'!I208+'Հավելված N 7'!I214 -> -9185.5
C42: ՀՀ Արարատի մարզ | D42: =SUM(E42:H42) -> -9185.7 | E42: =+E43 -> 0 | F42: =+F43 -> 0 | G42: =+G43 -> -9185.7 | H42: =+H43 -> 0
C43: Մարզական համալիր Արարատում | D43: =+E43+F43+G43+H43 -> -9185.7 | G43: =+'Հավելված N 7'!I209+'Հավելված N 7'!I216 -> -9185.7
C44: ՀՀ Արմավիրի մարզ | D44: =SUM(E44:H44) -> -9185.5 | E44: =+E45 -> 0 | F44: =+F45 -> 0 | G44: =+G45 -> -9185.5 | H44: =+H45 -> 0
C45: Մարզական համալիր Արմավիրում | D45: =+E45+F45+G45+H45 -> -9185.5 | G45: =+'Հավելված N 7'!I207+'Հավելված N 7'!I213 -> -9185.5
C46: ՀՀ Վայոց Ձորի մարզ | D46: =SUM(E46:H46) -> -9185.7 | E46: =+E47 -> 0 | F46: =+F47 -> 0 | G46: =+G47 -> -9185.7 | H46: =+H47 -> 0
C47: Մարզական համալիր Եղեգնաձորում | D47: =+E47+F47+G47+H47 -> -9185.7 | G47: =+'Հավելված N 7'!I210+'Հավելված N 7'!I217 -> -9185.7
A48: 1163 | B48: 32002 | C48: Մարզական օբյեկտների հիմնանորոգում | D48: =SUM(E48:H48) -> -80300 | E48: =+E50 -> 0 | F48: =+F50 -> -80300 | G48: =+G50 -> 0 | H48: =+H50 -> 0
C49: այդ թվում`
C50: Երևան քաղաք | D50: =SUM(E50:H50) -> -80300 | E50: =+E51 -> 0 | F50: =+F51 -> -80300 | G50: =+G51 -> 0 | H50: =+H51 -> 0
C51: «Երևանի օլիմպիական հերթափոխի պետական մարզական քոլեջ» ՊՈԱԿ | D51: =+E51+F51+G51+H51 -> -80300 | F51: =+'Հավելված N 7'!I220+'Հավելված N 7'!I222+'Հավելված N 7'!I223 -> -80300
A52: 1183 | B52: 32007 | C52: Հանրակրթական կրթություն իրականացնող ուսումնական հաստատությունների նոր մարզադահլիճների կառուցում | D52: =SUM(E52:H52) -> -5085 | E52: =+E54 -> 0 | F52: =+F54 -> 0 | G52: =+G54 -> -5085 | H52: =+H54 -> 0
C53: այդ թվում`
C54: ՀՀ Կոտայքի մարզ | D54: =SUM(E54:H54) -> -5085 | E54: =+E55 -> 0 | F54: =+F55 -> 0 | G54: =+G55 -> -5085 | H54: =+H55 -> 0
C55: «Հրազդանի Խ. Աբովյանի անվան թիվ 1 ավագ դպրոց»ՊՈԱԿ | D55: =+E55+F55+G55+H55 -> -5085 | G55: =+'Հավելված N 7'!I226+'Հավելված N 7'!I227 -> -5085
A56: 1183 | B56: 32009 | C56: Հանրակրթական կրթություն իրականացնող ուսումնական հաստատությունների մարզադահլիճների վերակառուցում | D56: =SUM(E56:H56) -> -301609.9 | E56: =+E58+E60+E62 -> 0 | F56: =+F58+F60+F62 -> -301609.9 | G56: =+G58+G60+G62 -> 0 | H56: =+H58+H60+H62 -> 0
C57: այդ թվում`
C58: Երևան քաղաք | D58: =SUM(E58:H58) -> -47333.7 | E58: =+E59 -> 0 | F58: =+F59 -> -47333.7 | G58: =+G59 -> 0 | H58: =+H59 -> 0
C59: «Երևանի Վ. Թեքեյանի անվան թիվ 92 հիմնական դպրոց» ՊՈԱԿ | D59: =+E59+F59+G59+H59 -> -47333.7 | F59: =+'Հավելված N 7'!I230 -> -47333.7
C60: ՀՀ Շիրակի մարզ | D60: =SUM(E60:H60) -> -127138.1 | E60: =+E61 -> 0 | F60: =+F61 -> -127138.1 | G60: =+G61 -> 0 | H60: =+H61 -> 0
C61: «ք. Մարալիկի թիվ 1 միջնակարգ դպրոց» ՊՈԱԿ | D61: =+E61+F61+G61+H61 -> -127138.1 | F61: =+'Հավելված N 7'!I231+'Հավելված N 7'!I234+'Հավելված N 7'!I236 -> -127138.1
C62: ՀՀ Սյունիքի մարզ | D62: =SUM(E62:H62) -> -127138.1 | E62: =+E63 -> 0 | F62: =+F63 -> -127138.1 | G62: =+G63 -> 0 | H62: =+H63 -> 0
C63: «ք. Գորիսի Ա.Բակունցի անվան թիվ 1 ավագ դպրոց»ՊՈԱԿ | D63: =+E63+F63+G63+H63 -> -127138.1 | F63: =+'Հավելված N 7'!I232+'Հավելված N 7'!I235+'Հավելված N 7'!I237 -> -127138.1
A64: 1236 | B64: 32001 | C64: Մանկապարտեզների նոր շենքերի կառուցում | D64: =SUM(E64:H64) -> -84876.8 | E64: =+E66+E71+E74+E77+E80 -> -85490 | F64: =+F66+F71+F74+F77+F80 -> 0 | G64: =+G66+G71+G74+G77+G80 -> 613.2 | H64: =+H66+H71+H74+H77+H80 -> 0
C65: այդ թվում`
C66: ՀՀ Արագածոտնի մարզ | D66: =SUM(E66:H66) -> 20645.8 | E66: =SUM(E67:E70) -> 20645.8 | F66: =SUM(F67:F70) -> 0 | G66: =SUM(G67:G70) -> 0 | H66: =SUM(H67:H70) -> 0
C67: Ապարան համայնքի Մելիքգյուղ բնակավայրում 75 տեղ հզորությամբ մանկապարտեզ | D67: =+E67+F67+G67+H67 -> -55000 | E67: =+'Հավելված N 7'!I83 -> -55000
C68: Թալին համայնքի Կաքավաձոր բնակավայրում 75 տեղ հզորությամբ մանկապարտեզ | D68: =+E68+F68+G68+H68 -> 25000 | E68: =+'Հավելված N 7'!I84 -> 25000
C69: Թալին համայնքի Ոսկեթաս բնակավայրում 75 տեղ հզորությամբ մանկապարտեզ | D69: =+E69+F69+G69+H69 -> 110645.8 | E69: =+'Հավելված N 7'!I85+'Հավելված N 7'!I93 -> 110645.8
C70: Ծաղկահովիտ համայնքի Ծիլքար բնակավայրում 75 տեղ հզորությամբ մանկապարտեզ | D70: =+E70+F70+G70+H70 -> -60000 | E70: =+'Հավելված N 7'!I86 -> -60000
C71: ՀՀ Արմավիրի մարզ | D71: =SUM(E71:H71) -> 253.2 | E71: =SUM(E72:E73) -> 0 | F71: =SUM(F72:F73) -> 0 | G71: =SUM(G72:G73) -> 253.2 | H71: =SUM(H72:H73) -> 0
C72: ՀՀ Արմավիրի մարզի Գետաշեն համայնքում «Մոդուլային» տիպի 144 տեղ հզորությամբ մսուր-մանկապարտեզ | D72: =+E72+F72+G72+H72 -> 157.2 | G72: =+'Հավելված N 7'!I101 -> 157.2
C73: ՀՀ Արմավիրի մարզի Լենուղի համայնքում «Մոդուլային» տիպի 144 տեղ հզորությամբ մսուր-մանկապարտեզ | D73: =+E73+F73+G73+H73 -> 96 | G73: =+'Հավելված N 7'!I102 -> 96
C74: ՀՀ Լոռու մարզ | D74: =SUM(E74:H74) -> 19830.1 | E74: =SUM(E75:E76) -> 19710.1 | F74: =SUM(F75:F76) -> 0 | G74: =SUM(G75:G76) -> 120 | H74: =SUM(H75:H76) -> 0
C75: ՀՀ Լոռու մարզի Գոգարան համայնքում «Մոդուլային» տիպի 144 տեղ հզորությամբ մսուր-մանկապարտեզ | D75: =+E75+F75+G75+H75 -> -103880 | E75: =+'Հավելված N 7'!I87+'Հավելված N 7'!I94 -> -104000 | G75: =+'Հավելված N 7'!I103 -> 120
C76: ՀՀ Լոռու մարզի Լեռնավան համայնքում «Մոդուլային» տիպի 144 տեղ հզորությամբ մսուր-մանկապարտեզ | D76: =+E76+F76+G76+H76 -> 123710.1 | E76: =+'Հավելված N 7'!I88+'Հավելված N 7'!I95+'Հավելված N 7'!I98 -> 123710.1
C77: ՀՀ Շիրակի մարզ | D77: =SUM(E77:H77) -> -121860 | E77: =SUM(E78:E79) -> -122100 | F77: =SUM(F78:F79) -> 0 | G77: =SUM(G78:G79) -> 240 | H77: =SUM(H78:H79) -> 0
C78: ՀՀ Շիրակի մարզի Արթիկ համայնքում «Մոդուլային» տիպի 144 տեղ հզորությամբ մսուր-մանկապարտեզ | D78: =+E78+F78+G78+H78 -> -71580 | E78: =+'Հավելված N 7'!I89+'Հավելված N 7'!I96+'Հավելված N 7'!I99 -> -71700 | G78: =+'Հավելված N 7'!I104 -> 120
C79: ՀՀ Շիրակի մարզի Արևշատ համայնքում «Մոդուլային» տիպի 144 տեղ հզորությամբ մսուր-մանկապարտեզ | D79: =+E79+F79+G79+H79 -> -50280 | E79: =+'Հավելված N 7'!I90+'Հավելված N 7'!I97+'Հավելված N 7'!I100 -> -50400 | G79: =+'Հավելված N 7'!I105 -> 120
C80: ՀՀ Վայոց Ձորի մարզ | D80: =SUM(E80:H80) -> -3745.9 | E80: =+E81 -> -3745.9 | F80: =+F81 -> 0 | G80: =+G81 -> 0 | H80: =+H81 -> 0
C81: ՀՀ Վայոց ձորի մարզի Եղեգիս համայնքի Շատին բնակավայրում «Մոդուլային» տիպի 250 տեղ հզորությամբ մսուր-մանկապարտեզ | D81: =+E81+F81+G81+H81 -> -3745.9 | E81: =+'Հավելված N 7'!I91 -> -3745.9
A82: 1236 | B82: 32003 | C82: Հանրակրթական դպրոցների նոր շենքերի կառուցում | D82: =SUM(E82:H82) -> 1234864.3 | E82: =+E84+E85+E88+E91+E95+E97+E102+E107+E110+E118 -> 1213782.3 | F82: =+F84+F85+F88+F91+F95+F97+F102+F107+F110+F118 -> 0 | G82: =+G84+G85+G88+G91+G95+G97+G102+G107+G110+G118 -> 21082 | H82: =+H84+H85+H88+H91+H95+H97+H102+H107+H110+H118 -> 0
C83: այդ թվում`
C84: Հանրակրթական դպրոցների նոր շենքերի կառուցում | D84: =SUM(E84:H84) -> 3778100.2 | E84: =-1899.8+(3800000-15000-5000) -> 3778100.2 | F84: =+F107 -> 0 | G84: =+G107 -> 0 | H84: =+H107 -> 0
C85: Երևան քաղաք | D85: =SUM(E85:H85) -> 194.5 | E85: =SUM(E86:E87) -> -5695.5 | F85: =SUM(F86:F87) -> 0 | G85: =SUM(G86:G87) -> 5890 | H85: =SUM(H86:H87) -> 0
C86: «Երևանի թիվ 109 ավագ դպրոց» ՊՈԱԿ | D86: =+E86+F86+G86+H86 -> -5695.5 | E86: =+'Հավելված N 7'!I109 -> -5695.5
C87: «Երևանի Վ. Թեքեյանի անվան թիվ 92 հիմնական դպրոց» ՊՈԱԿ | D87: =+E87+F87+G87+H87 -> 5890 | G87: =+'Հավելված N 7'!I122 -> 5890
C88: ՀՀ Արարատի մարզ | D88: =SUM(E88:H88) -> -135861.7 | E88: =SUM(E89:E90) -> -135861.7 | F88: =SUM(F89:F90) -> 0 | G88: =SUM(G89:G90) -> 0 | H88: =SUM(H89:H90) -> 0
C89: «Վեդիի ավագ դպրոց» ՊՈԱԿ | D89: =+E89+F89+G89+H89 -> -20432 | E89: =+'Հավելված N 7'!I17 -> -20432
C90: Գետազատ բնակավայրի միջնակարգ դպրոց | D90: =+E90+F90+G90+H90 -> -115429.7 | E90: =+'Հավելված N 7'!I18 -> -115429.7
C91: ՀՀ Արմավիրի մարզ | D91: =SUM(E91:H91) -> -25981.8 | E91: =SUM(E92:E94) -> -34981.8 | F91: =SUM(F92:F94) -> 0 | G91: =SUM(G92:G94) -> 9000 | H91: =SUM(H92:H94) -> 0
C92: ք. Վաղարշապատի Վ.Ռշտունու անվ. թիվ 11 հիմնական դպրոց | D92: =+E92+F92+G92+H92 -> -34981.8 | E92: =+'Հավելված N 7'!I19 -> -34981.8
C93: «Ջանֆիդայի Է. Դաշտոյանի անվան միջնակարգ դպրոց» ՊՈԱԿ | D93: =+E93+F93+G93+H93 -> 5000 | G93: =+'Հավելված N 7'!I123 -> 5000
C94: «Փշատավանի միջնակարգ դպրոց» ՊՈԱԿ | D94: =+E94+F94+G94+H94 -> 4000 | G94: =+'Հավելված N 7'!I124 -> 4000
C95: ՀՀ Գեղարքունիքի մարզ | D95: =SUM(E95:H95) -> -139738.8 | E95: =+E96 -> -139738.8 | F95: =+F96 -> 0 | G95: =+G96 -> 0 | H95: =+H96 -> 0
C96: գ. Ծովինարի Արծրուն Խաչատրյանի անվ. միջնակարգ դպրոց | D96: =+E96+F96+G96+H96 -> -139738.8 | E96: =+'Հավելված N 7'!I20 -> -139738.8
C97: ՀՀ Լոռու մարզ | D97: =SUM(E97:H97) -> -450172.2 | E97: =SUM(E98:E101) -> -450172.2 | F97: =SUM(F98:F101) -> 0 | G97: =SUM(G98:G101) -> 0 | H97: =SUM(H98:H101) -> 0
C98: գ. Արևածագի Կ․ Մելիքսեթյանի անվան միջնակարգ դպրոց | D98: =+E98+F98+G98+H98 -> -121309.8 | E98: =+'Հավելված N 7'!I21 -> -121309.8
C99: գ. Օձունի թիվ 2 միջնակարգ դպրոց | D99: =+E99+F99+G99+H99 -> -97158.4 | E99: =+'Հավելված N 7'!I22 -> -97158.4
C100: ք. Տաշիրի միջնակարգ դպրոց (ք. Տաշիրի թիվ 1 հիմնական դպրոցի տեղակայման վայրում) | D100: =+E100+F100+G100+H100 -> -33441.9 | E100: =+'Հավելված N 7'!I23 -> -33441.9
C101: ք. Սպիտակի թիվ 8 միջնակարգ դպրոց | D101: =+E101+F101+G101+H101 -> -198262.1 | E101: =+'Հավելված N 7'!I24 -> -198262.1
C102: ՀՀ Կոտայքի մարզ | D102: =SUM(E102:H102) -> -332660.5 | E102: =SUM(E103:E106) -> -332660.5 | F102: =SUM(F103:F106) -> 0 | G102: =SUM(G103:G106) -> 0 | H102: =SUM(H103:H106) -> 0
C103: Մայակովսկի բնակավայրի միջնակարգ դպրոց | D103: =+E103+F103+G103+H103 -> -42500 | E103: =+'Հավելված N 7'!I25 -> -42500
...

Sheet Հավելված N 4
D1: Հավելված N 4
D2: ՀՀ կառավարության 2025 թվականի
D3: ______________ ի ___Ն որոշման
B6: ՀԱՅԱՍՏԱՆԻ ՀԱՆՐԱՊԵՏՈՒԹՅԱՆ ԿԱՌԱՎԱՐՈՒԹՅԱՆ 2024 ԹՎԱԿԱՆԻ ԴԵԿՏԵՄԲԵՐԻ 27-Ի N 2060-Ն ՈՐՈՇՄԱՆ N 5 ՀԱՎԵԼՎԱԾԻ N 2 ԱՂՅՈՒՍԱԿՈՒՄ ԿԱՏԱՐՎՈՂ ՓՈՓՈԽՈՒԹՅՈՒՆՆԵՐԸ ԵՎ ԼՐԱՑՈՒՄՆԵՐԸ
E8: հազ. դրամներով
B9: Ծրագրային դասիչ | D9: Բյուջետային գլխավոր կարգադրիչների, ծրագրերի, միջոցառումների, միջոցառումները կատարող պետական մարմինների և ուղղությունների անվանումները | E9: Ցուցանիշների փոփոխությունը (ավելացումները նշված են դրական նշանով, իսկ նվազեցումները՝ փակագծերում)
B10: Ծրագիր | C10: Միջոցառում | E10: Տարի
D11: ՀՀ ԿՐԹՈՒԹՅԱՆ, ԳԻՏՈՒԹՅԱՆ, ՄՇԱԿՈՒՅԹԻ ԵՎ ՍՊՈՐՏԻ ՆԱԽԱՐԱՐՈՒԹՅՈՒՆ | E11: =+E13+E21+E31+E37+E54+E60+E66+E76+E96+E147+E180 -> -8443.2
D12: այդ թվում՝
B13: 1045 | C13: 32001 | D13: Մասնագիտական ուսումնական հաստատությունների շենքային պայմանների բարելավում | E13: =+E15 -> -223820
D14: այդ թվում` ըստ կատարողների
D15: ՀՀ քաղաքաշինության կոմիտե | E15: =+E17+E19 -> -223820
D16: այդ թվում՝ ըստ ուղղությունների
D17: ՀՀ Արարատի մարզ | E17: =+E18 -> -24320
D18: =+'Հավելված N 3'!C18 -> «Մասիսի պետական գյուղատնտեսական քոլեջ» ՊՈԱԿ | E18: =+'Հավելված N 3'!D18 -> -24320
D19: ՀՀ Կոտայքի մարզ | E19: =+E20 -> -199500
D20: =+'Հավելված N 3'!C20 -> «Նոր Գեղիի ակադեմիկոս Գ. Աղաջանյանի անվան պետական գյուղատնտեսական քոլեջ» ՊՈԱԿ | E20: =+'Հավելված N 3'!D20 -> -199500
B21: 1045 | C21: 32005 | D21: Մասնագիտական ուսումնական հաստատությունների շենքերի կառուցում | E21: =+E23 -> -57845.2
D22: այդ թվում` ըստ կատարողների
D23: ՀՀ քաղաքաշինության կոմիտե | E23: =+E25+E27+E29 -> -57845.2
D24: այդ թվում՝ ըստ ուղղությունների
D25: ՀՀ Գեղարքունիքի մարզ | E25: =+E26 -> 62154.8
D26: =+'Հավելված N 3'!C24 -> «Գավառի ակադեմիկոս Ա. Թամամշևի անվան պետական գյուղատնտեսական քոլեջ» ՊՈԱԿ | E26: =+'Հավելված N 3'!D24 -> 62154.8
D27: ՀՀ Սյունիքի մարզ | E27: =+E28 -> -70000
D28: =+'Հավելված N 3'!C26 -> «Գորիսի պրոֆեսոր Խ. Երիցյանի անվան պետական գյուղատնտեսական քոլեջ» ՊՈԱԿ | E28: =+'Հավելված N 3'!D26 -> -70000
D29: ՀՀ Տավուշի մարզ | E29: =+E30 -> -50000
D30: =+'Հավելված N 3'!C28 -> «Նոյեմբերյանի պետական քոլեջ» ՊՈԱԿ | E30: =+'Հավելված N 3'!D28 -> -50000
B31: 1163 | C31: 12001 | D31: Աջակցություն համայնքներին մարզական հաստատությունների շենքային պայմանների բարելավման համար | E31: =+E33 -> -240000
D32: այդ թվում` ըստ կատարողների
D33: ՀՀ քաղաքաշինության կոմիտե | E33: =+E35 -> -240000
D34: այդ թվում՝ ըստ ուղղությունների
D35: ՀՀ Շիրակի մարզ | E35: =+E36 -> -240000
D36: =+'Հավելված N 3'!C32 -> Արթուր Ալեքսանյանի անվան նոր սպորտային համալիր | E36: =+'Հավելված N 3'!D32 -> -240000
B37: 1163 | C37: 32001 | D37: Մարզական օբյեկտների շինարարություն | E37: =+E39 -> -334754.6
D38: այդ թվում` ըստ կատարողների
D39: ՀՀ քաղաքաշինության կոմիտե | E39: =+E41+E45+E48+E50+E52 -> -334754.6
D40: այդ թվում՝ ըստ ուղղությունների
D41: Երևան քաղաք | E41: =SUM(E42:E44) -> -245456.1
D42: =+'Հավելված N 3'!C36 -> Հեծանվային սպորտի և Հրանտ Շահինյանի անվան սպորտային, գեղարվեստական մարմնամարզության և ակրոբատիկայի օլիմպիական մանկապատանեկան մարզադպրոցներ | E42: =+'Հավելված N 3'!D36 -> -112000
D43: =+'Հավելված N 3'!C37 -> Արթուր Աբրահամի անվան մարզահամալիր | E43: =+'Հավելված N 3'!D37 -> -83300
D44: =+'Հավելված N 3'!C38 -> «Երևանի օլիմպիական հերթափոխի պետական մարզական քոլեջ» ՊՈԱԿ (բռնցքամարտի և ձյուդոյի մարզադահլիճ) | E44: =+'Հավելված N 3'!D38 -> -50156.1
D45: ՀՀ Արագածոտնի մարզ | E45: =SUM(E46:E47) -> -61741.6
D46: =+'Հավելված N 3'!C40 -> Ալագյազ համայնքում Մալխաս և Ռոման Ամոյանների անվան նոր մարզադպրոց | E46: =+'Հավելված N 3'!D40 -> -52556.1
D47: =+'Հավելված N 3'!C41 -> Մարզական համալիր Աշտարակում | E47: =+'Հավելված N 3'!D41 -> -9185.5
D48: ՀՀ Արարատի մարզ | E48: =+E49 -> -9185.7
D49: =+'Հավելված N 3'!C43 -> Մարզական համալիր Արարատում | E49: =+'Հավելված N 3'!D43 -> -9185.7
D50: ՀՀ Արմավիրի մարզ | E50: =+E51 -> -9185.5
D51: =+'Հավելված N 3'!C45 -> Մարզական համալիր Արմավիրում | E51: =+'Հավելված N 3'!D45 -> -9185.5
D52: ՀՀ Վայոց Ձորի մարզ | E52: =+E53 -> -9185.7
D53: =+'Հավելված N 3'!C47 -> Մարզական համալիր Եղեգնաձորում | E53: =+'Հավելված N 3'!D47 -> -9185.7
B54: 1163 | C54: 32002 | D54: Մարզական օբյեկտների հիմնանորոգում | E54: =+E56 -> -80300
D55: այդ թվում` ըստ կատարողների
D56: ՀՀ քաղաքաշինության կոմիտե | E56: =+E58 -> -80300
D57: այդ թվում՝ ըստ ուղղությունների
D58: Երևան քաղաք | E58: =+E59 -> -80300
D59: =+'Հավելված N 3'!C51 -> «Երևանի օլիմպիական հերթափոխի պետական մարզական քոլեջ» ՊՈԱԿ | E59: =+'Հավելված N 3'!D51 -> -80300
B60: 1183 | C60: 32007 | D60: Հանրակրթական կրթություն իրականացնող ուսումնական հաստատությունների նոր մարզադահլիճների կառուցում | E60: =+E62 -> -5085
D61: այդ թվում` ըստ կատարողների
D62: ՀՀ քաղաքաշինության կոմիտե | E62: =+E64 -> -5085
D63: այդ թվում՝ ըստ ուղղությունների
D64: ՀՀ Կոտայքի մարզ | E64: =+E65 -> -5085
D65: =+'Հավելված N 3'!C55 -> «Հրազդանի Խ. Աբովյանի անվան թիվ 1 ավագ դպրոց»ՊՈԱԿ | E65: =+'Հավելված N 3'!D55 -> -5085
B66: 1183 | C66: 32009 | D66: Հանրակրթական կրթություն իրականացնող ուսումնական հաստատությունների մարզադահլիճների վերակառուցում | E66: =+E68 -> -301609.9
D67: այդ թվում` ըստ կատարողների
D68: ՀՀ քաղաքաշինության կոմիտե | E68: =+E70+E72+E74 -> -301609.9
D69: այդ թվում՝ ըստ ուղղությունների
D70: Երևան քաղաք | E70: =+E71 -> -47333.7
D71: =+'Հավելված N 3'!C59 -> «Երևանի Վ. Թեքեյանի անվան թիվ 92 հիմնական դպրոց» ՊՈԱԿ | E71: =+'Հավելված N 3'!D59 -> -47333.7
D72: ՀՀ Շիրակի մարզ | E72: =+E73 -> -127138.1
D73: =+'Հավելված N 3'!C61 -> «ք. Մարալիկի թիվ 1 միջնակարգ դպրոց» ՊՈԱԿ | E73: =+'Հավելված N 3'!D61 -> -127138.1
D74: ՀՀ Սյունիքի մարզ | E74: =+E75 -> -127138.1
D75: =+'Հավելված N 3'!C63 -> «ք. Գորիսի Ա.Բակունցի անվան թիվ 1 ավագ դպրոց»ՊՈԱԿ | E75: =+'Հավելված N 3'!D63 -> -127138.1
B76: 1236 | C76: 32001 | D76: Մանկապարտեզների նոր շենքերի կառուցում | E76: =+E78 -> -84876.8
D77: այդ թվում` ըստ կատարողների
D78: ՀՀ քաղաքաշինության կոմիտե | E78: =+E80+E85+E88+E91+E94 -> -84876.8
D79: այդ թվում՝ ըստ ուղղությունների
D80: ՀՀ Արագածոտնի մարզ | E80: =SUM(E81:E84) -> 20645.8
D81: =+'Հավելված N 3'!C67 -> Ապարան համայնքի Մելիքգյուղ բնակավայրում 75 տեղ հզորությամբ մանկապարտեզ | E81: =+'Հավելված N 3'!D67 -> -55000
D82: =+'Հավելված N 3'!C68 -> Թալին համայնքի Կաքավաձոր բնակավայրում 75 տեղ հզորությամբ մանկապարտեզ | E82: =+'Հավելված N 3'!D68 -> 25000
D83: =+'Հավելված N 3'!C69 -> Թալին համայնքի Ոսկեթաս բնակավայրում 75 տեղ հզորությամբ մանկապարտեզ | E83: =+'Հավելված N 3'!D69 -> 110645.8
D84: =+'Հավելված N 3'!C70 -> Ծաղկահովիտ համայնքի Ծիլքար բնակավայրում 75 տեղ հզորությամբ մանկապարտեզ | E84: =+'Հավելված N 3'!D70 -> -60000
D85: ՀՀ Արմավիրի մարզ | E85: =SUM(E86:E87) -> 253.2
D86: =+'Հավելված N 3'!C72 -> ՀՀ Արմավիրի մարզի Գետաշեն համայնքում «Մոդուլային» տիպի 144 տեղ հզորությամբ մսուր-մանկապարտեզ | E86: =+'Հավելված N 3'!D72 -> 157.2
D87: =+'Հավելված N 3'!C73 -> ՀՀ Արմավիրի մարզի Լենուղի համայնքում «Մոդուլային» տիպի 144 տեղ հզորությամբ մսուր-մանկապարտեզ | E87: =+'Հավելված N 3'!D73 -> 96
D88: ՀՀ Լոռու մարզ | E88: =SUM(E89:E90) -> 19830.1
D89: =+'Հավելված N 3'!C75 -> ՀՀ Լոռու մարզի Գոգարան համայնքում «Մոդուլային» տիպի 144 տեղ հզորությամբ մսուր-մանկապարտեզ | E89: =+'Հավելված N 3'!D75 -> -103880
D90: =+'Հավելված N 3'!C76 -> ՀՀ Լոռու մարզի Լեռնավան համայնքում «Մոդուլային» տիպի 144 տեղ հզորությամբ մսուր-մանկապարտեզ | E90: =+'Հավելված N 3'!D76 -> 123710.1
D91: ՀՀ Շիրակի մարզ | E91: =SUM(E92:E93) -> -121860
D92: =+'Հավելված N 3'!C78 -> ՀՀ Շիրակի մարզի Արթիկ համայնքում «Մոդուլային» տիպի 144 տեղ հզորությամբ մսուր-մանկապարտեզ | E92: =+'Հավելված N 3'!D78 -> -71580
D93: =+'Հավելված N 3'!C79 -> ՀՀ Շիրակի մարզի Արևշատ համայնքում «Մոդուլային» տիպի 144 տեղ հզորությամբ մսուր-մանկապարտեզ | E93: =+'Հավելված N 3'!D79 -> -50280
D94: ՀՀ Վայոց Ձորի մարզ | E94: =+E95 -> -3745.9
D95: =+'Հավելված N 3'!C81 -> ՀՀ Վայոց ձորի մարզի Եղեգիս համայնքի Շատին բնակավայրում «Մոդուլային» տիպի 250 տեղ հզորությամբ մսուր-մանկապարտեզ | E95: =+'Հավելված N 3'!D81 -> -3745.9
B96: 1236 | C96: 32003 | D96: Հանրակրթական դպրոցների նոր շենքերի կառուցում | E96: =+E98+E127 -> 1234864.3
D97: այդ թվում` ըստ կատարողների
D98: ՀՀ կրթության, գիտության, մշակույթի և սպորտի նախարարություն | E98: =+E100+E101+E104+E106+E108+E113+E118+E120+E124 -> 1857281.3
D99: այդ թվում՝ ըստ ուղղությունների
D100: Հանրակրթական դպրոցների նոր շենքերի կառուցում | E100: =3800000-15000-5000 -> 3780000
D101: ՀՀ Արարատի մարզ | E101: =SUM(E102:E103) -> -135861.7
D102: =+'Հավելված N 3'!C89 -> «Վեդիի ավագ դպրոց» ՊՈԱԿ | E102: =+'Հավելված N 3'!D89 -> -20432
D103: =+'Հավելված N 3'!C90 -> Գետազատ բնակավայրի միջնակարգ դպրոց | E103: =+'Հավելված N 3'!D90 -> -115429.7
...

Sheet Հավելված N 5
I1: Հավելված N 5
I2: ՀՀ կառավարության 2025 թվականի
I3: ______________ ի ___Ն որոշման
A6: ՀԱՅԱՍՏԱՆԻ ՀԱՆՐԱՊԵՏՈՒԹՅԱՆ ԿԱՌԱՎԱՐՈՒԹՅԱՆ 2024 ԹՎԱԿԱՆԻ ԴԵԿՏԵՄԲԵՐԻ 27-Ի N 2060-Ն ՈՐՈՇՄԱՆ N 9 ՀԱՎԵԼՎԱԾՈՒՄ ԿԱՏԱՐՎՈՂ ՓՈՓՈԽՈՒԹՅՈՒՆՆԵՐԸ ԵՎ ԼՐԱՑՈՒՄՆԵՐԸ
J8: հազար դրամներով
A9: ԲԳԿ | B9: Ծրագիր | D9: Միջոցառում | H9: Իրականացնողը/ ակտիվն օգտագործողը/ շահառուի ընտրության չափորոշիչը | I9: Արդյունքային չափորոշիչը | J9: Ցուցանիշների փոփոխությունը (ավելացումները նշված են դրական նշանով, իսկ նվազեցումները՝ փակագծերում)
B10: Դասիչը | C10: Անվանումը | D10: Դասիչը | E10: Անվանումը | F10: Նկարագրությունը | G10: Տեսակը | J10: Տարի
A11: ԸՆԴԱՄԵՆԸ | J11: =+J13+J75 -> 0
A12: այդ թվում՝
A13: ՀՀ ԿՐԹՈՒԹՅԱՆ, ԳԻՏՈՒԹՅԱՆ, ՄՇԱԿՈԻՅԹԻ ԵՎ ՍՊՈՐՏԻ ՆԱԽԱՐԱՐՈՒԹՅՈՒՆ | J13: =+J14+J26+J42+J54 -> -5000
B14: 1045 | C14: Մասնագիտական կրթության և ուսուցման ծրագիր | J14: =+J15+J20 -> -281665.2
D15: 1045 - 32001 | E15: Մասնագիտական ուսումնական հաստատությունների շենքային պայմանների բարելավում | J15: =+'Հավելված N 1'!G17 -> -223820
F16: Մասնագիտական ուսումնական հաստատությունների շենքերի հիմնանորոգման և նախագծման (շինարարական աշխատանքներ, ջեռուցման համակարգի ստեղծում, ներքին հարդարում, տարածքի բարեկարգում) աշխատանքների իրականացում
G17: Այլ պետական կազմակերպությունների կողմից օգտագործվող ոչ ֆինանսական ակտիվների հետ գործառնություններ
H18: Ակտիվն օգտագործող կազմակերպությունների անվանումները` Մասնագիտական ուսումնական հաստատություններ
I19: Հիմնանորոգվող մասնագիտական ուսումնական հաստատությունների քանակ, հատ | J19: -1
D20: 1045 - 32005 | E20: Մասնագիտական ուսումնական հաստատությունների շենքերի կառուցում | J20: =+'Հավելված N 1'!G18 -> -57845.2
F21: Մասնագիտական ուսումնական հաստատությունների շենքերի (մասնաշենքերի) կառուցման և նախագծման աշխատանքների իրականացում
G22: Այլ պետական կազմակերպությունների կողմից օգտագործվող ոչ ֆինանսական ակտիվների հետ գործառնություններ
H23: Ակտիվն օգտագործող կազմակերպությունների անվանումները` Մասնագիտական ուսումնական հաստատություններ
I24: Կառուցվող մասնագիտական ուսումնական հաստատությունների քանակ, հատ | J24: -1
B26: 1163 | C26: Մասսայական սպորտ | J26: =+J27+J31+J37 -> -655054.6
D27: 1163 - 12001 | E27: Աջակցություն համայնքներին մարզական հաստատությունների շենքային պայմանների բարելավման համար | J27: =+'Հավելված N 1'!G20 -> -240000
F28: Համայնքային ենթակայության մարզական հաստատությունների վերանորոգում և կառուցում
G29: Տրանսֆերտների տրամադրում
H30: Շահառուների ընտրության չափորոշիչները` ՀՀ համայնքների ենթակայության մարզական հաստատությունների շենքային պայմանների բարելավման անհրաժեշտությունը
D31: 1163 - 32001 | E31: Մարզական օբյեկտների շինարարություն | J31: =+'Հավելված N 1'!G21 -> -334754.6
F32: Մարզական օբյեկտների շենքերի (մասնաշենքերի) կառուցում (համաշինարարական աշխատանքներ, ջեռուցման համակարգի իրականացում, ներքին հարդարում, տարածքի բարեկարգում) և նախագծում
G33: Այլ պետական կազմակերպությունների կողմից օգտագործվող ոչ ֆինանսական ակտիվների հետ գործառնություններ
H34: Ակտիվն օգտագործող կազմակերպության անվանումը` Մարզական հաստատություններ
I35: Կառուցման ենթակա օբյյեկտների թիվ, հատ | J35: -2
I36: Նախագծանախահաշվային փաստաթղթերի քանակ, հատ | J36: -4
D37: 1163 - 32002 | E37: Մարզական օբյեկտների հիմնանորոգում | J37: =+'Հավելված N 1'!G22 -> -80300
F38: Մարզական օբյեկտների շենքերի (մասնաշենքերի) հիմնանորոգում (համաշինարարական աշխատանքներ, ջեռուցման համակարգի իրականացում, ներքին հարդարում, տարածքի բարեկարգում) և նախագծում
G39: Այլ պետական կազմակերպությունների կողմից օգտագործվող ոչ ֆինանսական ակտիվների հետ գործառնություններ
H40: Ակտիվն օգտագործող կազմակերպության անվանումը` Մարզական հաստատություններ
B42: 1183 | C42: Ապահով դպրոց | J42: =+J43+J48 -> -306694.9
D43: 1183 - 32007 | E43: Հանրակրթական կրթություն իրականացնող ուսումնական հաստատությունների նոր մարզադահլիճների կառուցում | J43: =+'Հավելված N 1'!G24 -> -5085
F44: Հանրակրթական ուսուցում իրականացնող ուսումնական հաստատությունների նոր մարզադահլիճների կառուցման նախագծանախահաշվային փաստաթղթերի մշակում
G45: Այլ պետական կազմակերպությունների կողմից օգտագործվող ոչ ֆինանսական ակտիվների հետ գործառնություններ
H46: Ակտիվն օգտագործող կազմակերպությունների անվանումները` Հանրակրթական դպրոցներ
I47: Նախագծանախահաշվային փաստաթղթերի քանակ, հատ | J47: -1
D48: 1183 - 32009 | E48: Հանրակրթական կրթություն իրականացնող ուսումնական հաստատությունների մարզադահլիճների վերակառուցում | J48: =+'Հավելված N 1'!G25 -> -301609.9
F49: Հանրակրթական ուսուցում իրականացնող ուսումնական հաստատությունների նոր մարզադահլիճների կառուցման նախագծանախահաշվային փաստաթղթերի մշակում
G50: Այլ պետական կազմակերպությունների կողմից օգտագործվող ոչ ֆինանսական ակտիվների հետ գործառնություններ
H51: Ակտիվն օգտագործող կազմակերպությունների անվանումները` Հանրակրթական դպրոցներ
I52: հիմնանորոգվող ուսումնական հաստատությունների քանակ, հատ | J52: -2
B54: 1236 | C54: Հանրակրթական և նախադպրոցական հաստատությունների հիմնում, կառուցում, բարելավում | J54: =+J55+J60+J65+J69 -> 1238414.7
D55: 1236 - 32001 | E55: Մանկապարտեզների նոր շենքերի կառուցում | J55: =+'Հավելված N 1'!G27 -> -84876.8
F56: Նախադպրոցական կրթության հասանելիության ապահովման նպատակով՛ մանկապարտեզների հիմնում, նոր շենքերի (մասնաշենքերի), ներառյալ՛ ,Մոդուլայինե տիպի շենքերի կառուցում և նախագծում
G57: Այլ պետական կազմակերպությունների կողմից օգտագործվող ոչ ֆինանսական ակտիվների հետ գործառնություններ
H58: Շահառուների ընտրության չափորոշիչները` Նախադպրոցական կրթություն իրականացնող ուսումնական հաստատություններ
I59: Կառուցվող մանկապարտեզների քանակ, հատ | J59: -1
D60: 1236 - 32003 | E60: Հանրակրթական դպրոցների նոր շենքերի կառուցում | J60: =+'Հավելված N 1'!G28 -> 1234864.3
F61: ՀՀ մարզերում կրթական որակյալ ծառայությունների հասանելիության ապահովման ծրագրի շրջանակներում հանրակրթական և նախադպրոցական կրթության հասանելիության ապահովման նպատակով կրթական կենտրոնների կառուցում
G62: Այլ պետական կազմակերպությունների կողմից օգտագործվող ոչ ֆինանսական ակտիվների հետ գործառնություններ
H63: Ակտիվն օգտագործող կազմակերպությունների անվանումները` Հանրակրթական դպրոցներ
I64: ՀՀ-ում կրթական որակյալ ծառայությունների հասանելիության ապահովման ծրագրի շրջանակներում կառուցվող ոչ մոդուլային դպրոցների թիվը, հատ | J64: -1
D65: 1236 - 32004 | E65: Հանրակրթական դպրոցների շենքերի վերակառուցում, հիմնանորոգում | J65: =+'Հավելված N 1'!G29 -> 4330397.9
F66: Դպրոցական պարտադիր կրթության հասանելիության ապահովման նպատակով՛ հանրակրթական դպրոցների շենքերի (մասնաշենքերի), վերակառուցում, հիմնանորոգում և նախագծում
G67: Այլ պետական կազմակերպությունների կողմից օգտագործվող ոչ ֆինանսական ակտիվների հետ գործառնություններ
H68: Ակտիվն օգտագործող կազմակերպությունների անվանումները` Հանրակրթական դպրոցներ
D69: 1236 - 32005 | E69: Կրթահամալիրների կառուցում | J69: =+'Հավելված N 1'!G30 -> -4241970.7
F70: ՀՀ մարզերում կրթական որակյալ ծառայությունների հասանելիության ապահովման ծրագրի շրջանակներում հանրակրթական և նախադպրոցական կրթության հասանելիության ապահովման նպատակով կրթական կենտրոնների կառուցում
G71: Այլ պետական կազմակերպությունների կողմից օգտագործվող ոչ ֆինանսական ակտիվների հետ գործառնություններ
H72: Ակտիվն օգտագործող կազմակերպությունների անվանումները` Հանրակրթական դպրոցներ, մանկապարտեզներ և կրթահամալիրներ
I73: Նախագծանախահաշվային փաստաթղթերի քանակ, հատ | J73: -1
A75: ՀՀ ՔԱՂԱՔԱՇԻՆՈՒԹՅԱՆ ԿՈՄԻՏԵ | J75: =+J76 -> 5000
B76: 1103 | C76: Քաղաքաշինության և ճարտարապետության բնագավառում պետական քաղաքականության իրականացում և կանոնակարգում | J76: =+J77 -> 5000
D77: 1103 - 11001 | E77: Քաղաքաշինության և ճարտարապետության բնագավառում պետական քաղաքականության մշակման, իրականացման, համակարգման, պլանավորման, մոնիտորինգի, կապիտալ ծրագրերի կատարման, պետական գնումների իրականացման ծառայություն | J77: =+'Հավելված N 1'!G34 -> 5000
F78: Քաղաքաշինության և ճարտարապետության բնագավառում քաղաքականության մշակում, կատարման համակարգում, պլանավորում, իրականացում, մոնիտորինգ, լիցենզավորում, հաշվետվողականություն, աուդիտ, պետական գնումների իրականացում, հասարակությանը ոլորտի ծրագրերի իրազեկում
G79: Ծառայությունների մատուցում
H80: Ծառայությունը մատուցողի անվանումը` ՀՀ քաղաքաշինության կոմիտե

Sheet Հավելված N 6
I1: Հավելված N 6
I2: ՀՀ կառավարության 2025 թվականի
I3: ______________ ի ___Ն որոշման
A6: ՀԱՅԱՍՏԱՆԻ ՀԱՆՐԱՊԵՏՈՒԹՅԱՆ ԿԱՌԱՎԱՐՈՒԹՅԱՆ 2024 ԹՎԱԿԱՆԻ ԴԵԿՏԵՄԲԵՐԻ 27-Ի N 2060-Ն ՈՐՈՇՄԱՆ N 9.1 ՀԱՎԵԼՎԱԾՈՒՄ ԿԱՏԱՐՎՈՂ ՓՈՓՈԽՈՒԹՅՈՒՆՆԵՐԸ ԵՎ ԼՐԱՑՈՒՄՆԵՐԸ
J8: հազար դրամներով
A9: ԲՍԿ | B9: Ծրագիր | D9: Միջոցառում | H9: Իրականացնողը/ ակտիվն օգտագործողը/ շահառուի ընտրության չափորոշիչը | I9: Արդյունքային չափորոշիչը | J9: Ցուցանիշների փոփոխությունը (ավելացումները նշված են դրական նշանով, իսկ նվազեցումները՝ փակագծերում)
B10: Դասիչը | C10: Անվանումը | D10: Դասիչը | E10: Անվանումը | F10: Նկարագրությունը | G10: Տեսակը | J10: Տարի
A11: ԸՆԴԱՄԵՆԸ | J11: =+J13+J28 -> 0
A12: այդ թվում՝
A13: ՀՀ ԿՐԹՈՒԹՅԱՆ, ԳԻՏՈՒԹՅԱՆ, ՄՇԱԿՈԻՅԹԻ ԵՎ ՍՊՈՐՏԻ ՆԱԽԱՐԱՐՈՒԹՅՈՒՆ | J13: =+J14 -> 3904768.3
B14: 1236 | C14: Հանրակրթական և նախադպրոցական հաստատությունների հիմնում, կառուցում, բարելավում | J14: =+J15+J19+J23 -> 3904768.3
D15: 1236 - 32003 | E15: Հանրակրթական դպրոցների նոր շենքերի կառուցում | J15: =+'Հավելված N 2'!G47 -> 1857281.3
F16: ՀՀ մարզերում կրթական որակյալ ծառայությունների հասանելիության ապահովման ծրագրի շրջանակներում հանրակրթական և նախադպրոցական կրթության հասանելիության ապահովման նպատակով կրթական կենտրոնների կառուցում
G17: Այլ պետական կազմակերպությունների կողմից օգտագործվող ոչ ֆինանսական ակտիվների հետ գործառնություններ
H18: Ակտիվն օգտագործող կազմակերպությունների անվանումները` Հանրակրթական դպրոցներ
D19: 1236 - 32004 | E19: Հանրակրթական դպրոցների շենքերի վերակառուցում, հիմնանորոգում | J19: =+'Հավելված N 2'!G65 -> 4112288.8
F20: Դպրոցական պարտադիր կրթության հասանելիության ապահովման նպատակով՛ հանրակրթական դպրոցների շենքերի (մասնաշենքերի), վերակառուցում, հիմնանորոգում և նախագծում
G21: Այլ պետական կազմակերպությունների կողմից օգտագործվող ոչ ֆինանսական ակտիվների հետ գործառնություններ
H22: Ակտիվն օգտագործող կազմակերպությունների անվանումները` Հանրակրթական դպրոցներ
D23: 1236 - 32005 | E23: Կրթահամալիրների կառուցում | J23: =+'Հավելված N 2'!G87 -> -2064801.8
F24: ՀՀ մարզերում կրթական որակյալ ծառայությունների հասանելիության ապահովման ծրագրի շրջանակներում հանրակրթական և նախադպրոցական կրթության հասանելիության ապահովման նպատակով կրթական կենտրոնների կառուցում
G25: Այլ պետական կազմակերպությունների կողմից օգտագործվող ոչ ֆինանսական ակտիվների հետ գործառնություններ
H26: Ակտիվն օգտագործող կազմակերպությունների անվանումները` Հանրակրթական դպրոցներ, մանկապարտեզներ և կրթահամալիրներ
A28: ՀՀ ՔԱՂԱՔԱՇԻՆՈՒԹՅԱՆ ԿՈՄԻՏԵ | J28: =+J29+J41+J47+J63+J75 -> -3904768.3
B29: 1045 | C29: Մասնագիտական կրթության և ուսուցման ծրագիր | J29: =+J30+J35 -> -281665.2
D30: 1045 - 32001 | E30: Մասնագիտական ուսումնական հաստատությունների շենքային պայմանների բարելավում | J30: =+'Հավելված N 2'!G113 -> -223820
F31: Մասնագիտական ուսումնական հաստատությունների շենքերի հիմնանորոգման և նախագծման (շինարարական աշխատանքներ, ջեռուցման համակարգի ստեղծում, ներքին հարդարում, տարածքի բարեկարգում) աշխատանքների իրականացում
G32: Այլ պետական կազմակերպությունների կողմից օգտագործվող ոչ ֆինանսական ակտիվների հետ գործառնություններ
H33: Ակտիվն օգտագործող կազմակերպությունների անվանումները` Մասնագիտական ուսումնական հաստատություններ
I34: Հիմնանորոգվող մասնագիտական ուսումնական հաստատությունների քանակ, հատ | J34: -1
D35: 1045 - 32005 | E35: Մասնագիտական ուսումնական հաստատությունների շենքերի կառուցում | J35: =+'Հավելված N 2'!G124 -> -57845.2
F36: Մասնագիտական ուսումնական հաստատությունների շենքերի (մասնաշենքերի) կառուցման և նախագծման աշխատանքների իրականացում
G37: Այլ պետական կազմակերպությունների կողմից օգտագործվող ոչ ֆինանսական ակտիվների հետ գործառնություններ
H38: Ակտիվն օգտագործող կազմակերպությունների անվանումները` Մասնագիտական ուսումնական հաստատություններ
I39: Կառուցվող մասնագիտական ուսումնական հաստատությունների քանակ, հատ | J39: -1
B41: 1103 | C41: Քաղաքաշինության և ճարտարապետության բնագավառում պետական քաղաքականության իրականացում և կանոնակարգում | J41: =+J42 -> 5000
D42: 1103 - 11001 | E42: Քաղաքաշինության և ճարտարապետության բնագավառում պետական քաղաքականության մշակման, իրականացման, համակարգման, պլանավորման, մոնիտորինգի, կապիտալ ծրագրերի կատարման, պետական գնումների իրականացման ծառայություն | J42: =+'Հավելված N 2'!G194 -> 5000
F43: Քաղաքաշինության և ճարտարապետության բնագավառում քաղաքականության մշակում, կատարման համակարգում, պլանավորում, իրականացում, մոնիտորինգ, լիցենզավորում, հաշվետվողականություն, աուդիտ, պետական գնումների իրականացում, հասարակությանը ոլորտի ծրագրերի իրազեկում
G44: Ծառայությունների մատուցում
H45: Ծառայությունը մատուցողի անվանումը` ՀՀ քաղաքաշինության կոմիտե
B47: 1163 | C47: Մասսայական սպորտ | J47: =+J48+J52+J58 -> -655054.6
D48: 1163 - 12001 | E48: Աջակցություն համայնքներին մարզական հաստատությունների շենքային պայմանների բարելավման համար | J48: =+'Հավելված N 2'!G135 -> -240000
F49: Համայնքային ենթակայության մարզական հաստատությունների վերանորոգում և կառուցում
G50: Տրանսֆերտների տրամադրում
H51: Շահառուների ընտրության չափորոշիչները` ՀՀ համայնքների ենթակայության մարզական հաստատությունների շենքային պայմանների բարելավման անհրաժեշտությունը
D52: 1163 - 32001 | E52: Մարզական օբյեկտների շինարարություն | J52: =+'Հավելված N 2'!G144 -> -334754.6
F53: Մարզական օբյեկտների շենքերի (մասնաշենքերի) կառուցում (համաշինարարական աշխատանքներ, ջեռուցման համակարգի իրականացում, ներքին հարդարում, տարածքի բարեկարգում) և նախագծում
G54: Այլ պետական կազմակերպությունների կողմից օգտագործվող ոչ ֆինանսական ակտիվների հետ գործառնություններ
H55: Ակտիվն օգտագործող կազմակերպության անվանումը` Մարզական հաստատություններ
I56: Կառուցման ենթակա օբյյեկտների թիվ, հատ | J56: -2
I57: Նախագծանախահաշվային փաստաթղթերի քանակ, հատ | J57: -4
D58: 1163 - 32002 | E58: Մարզական օբյեկտների հիմնանորոգում | J58: =+'Հավելված N 2'!G155 -> -80300
F59: Մարզական օբյեկտների շենքերի (մասնաշենքերի) հիմնանորոգում (համաշինարարական աշխատանքներ, ջեռուցման համակարգի իրականացում, ներքին հարդարում, տարածքի բարեկարգում) և նախագծում
G60: Այլ պետական կազմակերպությունների կողմից օգտագործվող ոչ ֆինանսական ակտիվների հետ գործառնություններ
H61: Ակտիվն օգտագործող կազմակերպության անվանումը` Մարզական հաստատություններ
B63: 1183 | C63: Ապահով դպրոց | J63: =+J64+J69 -> -306694.9
D64: 1183 - 32007 | E64: Հանրակրթական կրթություն իրականացնող ուսումնական հաստատությունների նոր մարզադահլիճների կառուցում | J64: =+'Հավելված N 2'!G166 -> -5085
F65: Հանրակրթական ուսուցում իրականացնող ուսումնական հաստատությունների նոր մարզադահլիճների կառուցման նախագծանախահաշվային փաստաթղթերի մշակում
G66: Այլ պետական կազմակերպությունների կողմից օգտագործվող ոչ ֆինանսական ակտիվների հետ գործառնություններ
H67: Ակտիվն օգտագործող կազմակերպությունների անվանումները` Հանրակրթական դպրոցներ
I68: Նախագծանախահաշվային փաստաթղթերի քանակ, հատ | J68: -1
D69: 1183 - 32009 | E69: Հանրակրթական կրթություն իրականացնող ուսումնական հաստատությունների մարզադահլիճների վերակառուցում | J69: =+'Հավելված N 2'!G175 -> -301609.9
F70: Հանրակրթական ուսուցում իրականացնող ուսումնական հաստատությունների նոր մարզադահլիճների կառուցման նախագծանախահաշվային փաստաթղթերի մշակում
G71: Այլ պետական կազմակերպությունների կողմից օգտագործվող ոչ ֆինանսական ակտիվների հետ գործառնություններ
H72: Ակտիվն օգտագործող կազմակերպությունների անվանումները` Հանրակրթական դպրոցներ
I73: հիմնանորոգվող ուսումնական հաստատությունների քանակ, հատ | J73: -2
B75: 1236 | C75: Հանրակրթական և նախադպրոցական հաստատությունների հիմնում, կառուցում, բարելավում | J75: =+J76+J81+J86+J90 -> -2666353.6
D76: 1236 - 32001 | E76: Մանկապարտեզների նոր շենքերի կառուցում | J76: =+'Հավելված N 2'!G28 -> -84876.8
F77: Նախադպրոցական կրթության հասանելիության ապահովման նպատակով՛ մանկապարտեզների հիմնում, նոր շենքերի (մասնաշենքերի), ներառյալ՛ ,Մոդուլայինե տիպի շենքերի կառուցում և նախագծում
G78: Այլ պետական կազմակերպությունների կողմից օգտագործվող ոչ ֆինանսական ակտիվների հետ գործառնություններ
H79: Շահառուների ընտրության չափորոշիչները` Նախադպրոցական կրթություն իրականացնող ուսումնական հաստատություններ
I80: Կառուցվող մանկապարտեզների քանակ, հատ | J80: -1
D81: 1236 - 32003 | E81: Հանրակրթական դպրոցների նոր շենքերի կառուցում | J81: =+'Հավելված N 2'!G54 -> -622417
F82: ՀՀ մարզերում կրթական որակյալ ծառայությունների հասանելիության ապահովման ծրագրի շրջանակներում հանրակրթական և նախադպրոցական կրթության հասանելիության ապահովման նպատակով կրթական կենտրոնների կառուցում
G83: Այլ պետական կազմակերպությունների կողմից օգտագործվող ոչ ֆինանսական ակտիվների հետ գործառնություններ
H84: Ակտիվն օգտագործող կազմակերպությունների անվանումները` Հանրակրթական դպրոցներ
I85: ՀՀ-ում կրթական որակյալ ծառայությունների հասանելիության ապահովման ծրագրի շրջանակներում կառուցվող ոչ մոդուլային դպրոցների թիվը, հատ | J85: -1
D86: 1236 - 32004 | E86: Հանրակրթական դպրոցների շենքերի վերակառուցում, հիմնանորոգում | J86: =+'Հավելված N 2'!G72 -> 218109.1
F87: Դպրոցական պարտադիր կրթության հասանելիության ապահովման նպատակով՛ հանրակրթական դպրոցների շենքերի (մասնաշենքերի), վերակառուցում, հիմնանորոգում և նախագծում
G88: Այլ պետական կազմակերպությունների կողմից օգտագործվող ոչ ֆինանսական ակտիվների հետ գործառնություններ
H89: Ակտիվն օգտագործող կազմակերպությունների անվանումները` Հանրակրթական դպրոցներ
D90: 1236 - 32005 | E90: Կրթահամալիրների կառուցում | J90: =+'Հավելված N 2'!G94 -> -2177168.9
F91: ՀՀ մարզերում կրթական որակյալ ծառայությունների հասանելիության ապահովման ծրագրի շրջանակներում հանրակրթական և նախադպրոցական կրթության հասանելիության ապահովման նպատակով կրթական կենտրոնների կառուցում
G92: Այլ պետական կազմակերպությունների կողմից օգտագործվող ոչ ֆինանսական ակտիվների հետ գործառնություններ
H93: Ակտիվն օգտագործող կազմակերպությունների անվանումները` Հանրակրթական դպրոցներ, մանկապարտեզներ և կրթահամալիրներ
I94: Նախագծանախահաշվային փաստաթղթերի քանակ, հատ | J94: -1

Sheet Հավելված N 7
H1: Հավելված N 7
H2: ՀՀ կառավարության 2025 թվականի
H3: ______________ ի ___Ն որոշման
A6: ՀԱՅԱՍՏԱՆԻ ՀԱՆՐԱՊԵՏՈՒԹՅԱՆ ԿԱՌԱՎԱՐՈՒԹՅԱՆ 2024 ԹՎԱԿԱՆԻ ԴԵԿՏԵՄԲԵՐԻ 27-Ի N 2060-Ն N 10 ՀԱՎԵԼՎԱԾՈՒՄ ԿԱՏԱՐՎՈՂ ՓՈՓՈԽՈՒԹՅՈՒՆՆԵՐԸ ԵՎ ԼՐԱՑՈՒՄՆԵՐԸ
A10: Կոդը | B10: Անվանումը | E10: Գնման ձևը | F10: Չափման միավորը | G10: Միավորի գինը | H10: Ցուցանիշների փոփոխությունը (ավելացումները նշված են դրական նշանով, իսկ նվազեցումները՝ փակագծերում)
H11: Քանակը | I11: Գումարը (հազար դրամ)
A12: 1 | B12: 2 | E12: 3 | F12: 4 | G12: 5 | H12: 6 | I12: 7
A13: ՀՀ կրթության, գիտության, մշակույթի և սպորտի նախարարություն | I13: =+I14 -> -5625656.6
A14: Բաժին N 09 | B14: Խումբ N 02 | C14: Դաս N 01 | D14: Հիմնական ընդհանուր կրթություն | I14: =+I15+I35+I42 -> -5625656.6
A15: 1236-32003 | B15: Հանրակրթական դպրոցների նոր շենքերի կառուցում | I15: =+I16 -> -1922718.7
B16: ՄԱՍ II. ԱՇԽԱՏԱՆՔՆԵՐ | I16: =SUM(I17:I34) -> -1922718.7
A17: 45211229-62 | B17: շինարարական աշխատանքներ դպրոցների համար | E17: ՀԲՄ | F17: դրամ | I17: -20432 | J17: Վեդի
A18: 45211229-63 | B18: շինարարական աշխատանքներ դպրոցների համար | E18: ՀԲՄ | F18: դրամ | I18: -115429.7 | J18: Գետազատ
A19: 45211229-72 | B19: շինարարական աշխատանքներ դպրոցների համար | E19: ՀԲՄ | F19: դրամ | I19: -34981.8 | J19: Վաղարշապատի 11
A20: 45211229-73 | B20: շինարարական աշխատանքներ դպրոցների համար | E20: ՀԲՄ | F20: դրամ | I20: -139738.8 | J20: Ծովինար
A21: 45211229-75 | B21: շինարարական աշխատանքներ դպրոցների համար | E21: ՀԲՄ | F21: դրամ | I21: -121309.8 | J21: Արևածագ
A22: 45211229-76 | B22: շինարարական աշխատանքներ դպրոցների համար | E22: ՀԲՄ | F22: դրամ | I22: -97158.4 | J22: Օձուն
A23: 45211229-77 | B23: շինարարական աշխատանքներ դպրոցների համար | E23: ՀԲՄ | F23: դրամ | I23: -33441.9 | J23: Տաշիր
A24: 45211229-78 | B24: շինարարական աշխատանքներ դպրոցների համար | E24: ՀԲՄ | F24: դրամ | I24: -198262.1 | J24: Սպիտակի 8
A25: 45211229-86 | B25: շինարարական աշխատանքներ դպրոցների համար | E25: ՀԲՄ | F25: դրամ | I25: -42500 | J25: Մայակովսկի
A26: 45211229-87 | B26: շինարարական աշխատանքներ դպրոցների համար | E26: ՀԲՄ | F26: դրամ | I26: -190480 | J26: Կոտայք և Նոր Գյուղ
A27: 45211229-88 | B27: շինարարական աշխատանքներ դպրոցների համար | E27: ՀԲՄ | F27: դրամ | I27: -74339 | J27: Արգել
A28: 45211229-90 | B28: շինարարական աշխատանքներ դպրոցների համար | E28: ՀԲՄ | F28: դրամ | I28: -25341.5 | J28: Լեռնանիստ
... A34: 45211229-112 | B34: շինարարական աշխատանքներ դպրոցների համար | E34: ՀԲՄ | F34: դրամ | I34: -45072.7 | J34: Աղավնավանք
A35: 1236-32004 | B35: Հանրակրթական դպրոցների շենքերի վերակառուցում, հիմնանորոգում | I35: =+I36 -> -138136.1
B36: ՄԱՍ II. ԱՇԽԱՏԱՆՔՆԵՐ | I36: =SUM(I37:I41) -> -138136.1
A37: 45211229-791 | B37: շինարարական աշխատանքներ դպրոցների համար | E37: ՀԲՄ | F37: դրամ | I37: -16065.3 | J37: Երևանի 101
A38: 45211229-769 | B38: շինարարական աշխատանքներ դպրոցների համար | E38: ՀԲՄ | F38: դրամ | I38: -16392.7 | J38: Ծաղկաբեր
A39: 45211229-185 | B39: շինարարական աշխատանքներ դպրոցների համար | E39: ՀԲՄ | F39: դրամ | I39: -19030 | J39: Գյումրու 28
A40: 45211229-187 | B40: շինարարական աշխատանքներ դպրոցների համար | E40: ՀԲՄ | F40: դրամ | I40: -37709.2 | J40: Գյումրու 28
A41: 45211229-727 | B41: շինարարական աշխատանքներ դպրոցների համար | E41: ՀԲՄ | F41: դրամ | I41: -48938.9 | J41: Տավուշ
A42: 1236-32005 | B42: Կրթահամալիրների կառուցում | I42: =+I43 -> -3564801.8
B43: ՄԱՍ II. ԱՇԽԱՏԱՆՔՆԵՐ | I43: =SUM(I44:I73) -> -3564801.8
A44: 45211229-127 | B44: շինարարական աշխատանքներ դպրոցների համար | E44: ՀԲՄ | F44: դրամ | I44: -136769.4 | J44: Ճարճակիս
A45: 45211229-130 | B45: շինարարական աշխատանքներ դպրոցների համար | E45: ՀԲՄ | F45: դրամ | I45: -81602 | J45: Լուսաշող
A46: 45211229-131 | B46: շինարարական աշխատանքներ դպրոցների համար | E46: ՀԲՄ | F46: դրամ | I46: -202230 | J46: Նոր Կյուրին
A47: 45211229-133 | B47: շինարարական աշխատանքներ դպրոցների համար | E47: ՀԲՄ | F47: դրամ | I47: -148282.2 | J47: Արևաբույր
A48: 45211229-135 | B48: շինարարական աշխատանքներ դպրոցների համար | E48: ՀԲՄ | F48: դրամ | I48: -158000 | J48: Վարդանաշեն
A49: 45211229-138 | B49: շինարարական աշխատանքներ դպրոցների համար | E49: ՀԲՄ | F49: դրամ | I49: -64510 | J49: Շատվան
A50: 45211229-141 | B50: շինարարական աշխատանքներ դպրոցների համար | E50: ՀԲՄ | F50: դրամ | I50: -50682.5 | J50: Փոքր Մասրիկ
A51: 45211229-142 | B51: շինարարական աշխատանքներ դպրոցների համար | E51: ՀԲՄ | F51: դրամ | I51: -77945 | J51: Մաքենիս
A52: 45211229-144 | B52: շինարարական աշխատանքներ դպրոցների համար | E52: ՀԲՄ | F52: դրամ | I52: -190125.6 | J52: Հարթագյուղ
A53: 45211229-146 | B53: շինարարական աշխատանքներ դպրոցների համար | E53: ՀԲՄ | F53: դրամ | I53: -197611 | J53: Լոռու Նորաշեն
A54: 45211229-147 | B54: շինարարական աշխատանքներ դպրոցների համար | E54: ՀԲՄ | F54: դրամ | I54: -208767 | J54: Լորուտ
A55: 45211229-148 | B55: շինարարական աշխատանքներ դպրոցների համար | E55: ՀԲՄ | F55: դրամ | I55: -89416 | J55: Ալավերդի
... A73: 45211229-172 | B73: շինարարական աշխատանքներ դպրոցների համար | E73: ՀԲՄ | F73: դրամ | I73: -24282.3 | J73: Տավուշի Նորաշեն
A75: ՀՀ քաղաքաշինության կոմիտե | I75: =+I76+I80+I106+I172 -> -3902868.5
A76: Բաժին N 06 | B76: Խումբ N 06 | C76: Դաս N 01 | D76: Բնակարանային շինարարության և կոմունալ ծառայություններ (այլ դասերին չպատկանող) | I76: =+I77 -> 5000
A77: 1103-11001 | B77: Քաղաքաշինության և ճարտարապետության բնագավառում պետական քաղաքականության մշակման, իրականացման, համակարգման, պլանավորման, մոնիտորինգի, կապիտալ ծրագրերի կատարման, պետական գնումների իրականացման ծառայություն | I77: =+I78 -> 5000
B78: ՄԱՍ III. ԾԱՌԱՅՈՒԹՅՈՒՆՆԵՐ | I78: =+I79 -> 5000
A79: 71311340 | B79: շինարարության հետ կապված խորհրդատվական ծառայություններ | E79: ԳՀ | F79: դրամ | G79: 5000000 | H79: 1 | I79: =+ROUNDUP(H79*G79/1000,1) -> 5000
A80: Բաժին N 09 | B80: Խումբ N 01 | C80: Դաս N 01 | D80: Նախադպրոցական կրթություն | I80: =+I81 -> -84876.8
A81: 1236-32001 | B81: Մանկապարտեզների նոր շենքերի կառուցում | I81: =+I82+I92 -> -84876.8
B82: ՄԱՍ II. ԱՇԽԱՏԱՆՔՆԵՐ | I82: =SUM(I83:I91) -> -84559
A83: 45221142-520 | B83: ընդհանուր շինարարական աշխատանքներ | E83: ԲՄ | F83: դրամ | I83: -55000 | J83: Մելիքգյուղ
A84: 45221142-521 | B84: ընդհանուր շինարարական աշխատանքներ | E84: ԲՄ | F84: դրամ | I84: 25000 | J84: Կաքավաձոր
A85: 45221142-522 | B85: ընդհանուր շինարարական աշխատանքներ | E85: ԲՄ | F85: դրամ | I85: 109323.7 | J85: Ոսկեթաս
A86: 45221142-523 | B86: ընդհանուր շինարարական աշխատանքներ | E86: ԲՄ | F86: դրամ | I86: -60000 | J86: Ծիլքար
A87: 45221142-537 | B87: ընդհանուր շինարարական աշխատանքներ | E87: ՀԲՄ | F87: դրամ | I87: -100000 | J87: Գոգարան
A88: 45221142-7 | B88: ընդհանուր շինարարական աշխատանքներ | E88: ԲՄ | F88: դրամ | I88: 119863.2 | J88: Լեռնավան
A89: 45221142-539 | B89: ընդհանուր շինարարական աշխատանքներ | E89: ՀԲՄ | F89: դրամ | I89: -70000 | J89: Արթիկ
A90: 45221142-538 | B90: ընդհանուր շինարարական աշխատանքներ | E90: ՀԲՄ | F90: դրամ | I90: -50000 | J90: Արևշատ
A91: 45221142-12 | B91: ընդհանուր շինարարական աշխատանքներ | E91: ԲՄ | F91: դրամ | G91: 3745900 | H91: -1 | I91: =+ROUNDDOWN(H91*G91/1000,1) -> -3745.9 | J91: Շատին
B92: ՄԱՍ III. ԾԱՌԱՅՈՒԹՅՈՒՆՆԵՐ | I92: =SUM(I93:I105) -> -317.8
A93: 71351540-524 | B93: տեխնիկական հսկողության ծառայություններ | E93: ԳՀ | F93: դրամ | I93: 1322.1 | J93: Ոսկեթաս
A94: 71351540-6 | B94: տեխնիկական հսկողության ծառայություններ | E94: ԳՀ | F94: դրամ | I94: -4000 | J94: Գոգարան
A95: 71351540-7 | B95: տեխնիկական հսկողության ծառայություններ | E95: ԳՀ | F95: դրամ | I95: 3199 | J95: Լեռնավան
A96: 71351540-10 | B96: տեխնիկական հսկողության ծառայություններ | E96: ԳՀ | F96: դրամ | I96: -1500 | J96: Արթիկ
A97: 71351540-11 | B97: տեխնիկական հսկողության ծառայություններ | E97: ԳՀ | F97: դրամ | I97: -200 | J97: Արևշատ
A98: 98111140-7 | B98: հեղինակային հսկողության ծառայություններ | E98: ՄԱ | F98: դրամ | I98: 647.9 | J98: Լեռնավան
A99: 98111140-10 | B99: հեղինակային հսկողության ծառայություններ | E99: ՄԱ | F99: դրամ | I99: -200 | J99: Արթիկ
A100: 98111140-11 | B100: հեղինակային հսկողության ծառայություններ | E100: ՄԱ | F100: դրամ | I100: -200 | J100: Արևշատ
A101: 50531140 | B101: փորձաքննության ծառայություններ | E101: ԳՀ | F101: դրամ | G101: 157126 | H101: 1 | I101: =+ROUNDUP(H101*G101/1000,1) -> 157.2 | J101: Գետաշեն
A102: 50531140 | B102: փորձաքննության ծառայություններ | E102: ԳՀ | F102: դրամ | G102: 96000 | H102: 1 | I102: =+ROUNDUP(H102*G102/1000,1) -> 96 | J102: Լենուղի
A103: 50531140 | B103: փորձաքննության ծառայություններ | E103: ԳՀ | F103: դրամ | G103: 120000 | H103: 1 | I103: =+ROUNDUP(H103*G103/1000,1) -> 120 | J103: Գոգարան
A104: 50531140 | B104: փորձաքննության ծառայություններ | E104: ԳՀ | F104: դրամ | G104: 120000 | H104: 1 | I104: =+ROUNDUP(H104*G104/1000,1) -> 120 | J104: Արթիկ
A105: 50531140 | B105: փորձաքննության ծառայություններ | E105: ԳՀ | F105: դրամ | G105: 120000 | H105: 1 | I105: =+ROUNDUP(H105*G105/1000,1) -> 120 | J105: Արևշատ
A106: Բաժին N 09 | B106: Խումբ N 02 | C106: Դաս N 01 | D106: Հիմնական ընդհանուր կրթություն | I106: =+I107+I126+I145 -> -2579577
A107: 1236-32003 | B107: Հանրակրթական դպրոցների նոր շենքերի կառուցում | I107: =+I108+I117 -> -620517.2
B108: ՄԱՍ II. ԱՇԽԱՏԱՆՔՆԵՐ | I108: =SUM(I109:I116) -> -627399.2
A109: 45221142-1 | B109: ընդհանուր շինարարական աշխատանքներ | E109: ԲՄ | F109: դրամ | G109: 5695500 | H109: -1 | I109: =+ROUNDDOWN(H109*G109/1000,1) -> -5695.5 | J109: Երևանի 109
A110: 45211231-516 | B110: միջնակարգ դպրոցների կառուցման աշխատանքներ | E110: ՀԲՄ | F110: դրամ | I110: -55000 | J110: Բերդաշեն
A111: 45221142-5 | B111: ընդհանուր շինարարական աշխատանքներ | E111: ՀԲՄ | F111: դրամ | I111: -245000 | J111: Անգեղակոթ
A112: 45221142-6 | B112: ընդհանուր շինարարական աշխատանքներ | E112: ՀԲՄ | F112: դրամ | I112: -150000 | J112: Բռնակոթ
A113: 45211231-12 | B113: միջնակարգ դպրոցների կառուցման աշխատանքներ | E113: ՀՄԱ | F113: դրամ | I113: 64601 | J113: Հարժիս
A114: 45221142-8 | B114: ընդհանուր շինարարական աշխատանքներ | E114: ՀԲՄ | F114: դրամ | I114: -216304.7 | J114: Կոռնիձոր
A115: 45211231-13 | B115: միջնակարգ դպրոցների կառուցման աշխատանքներ | E115: ՀՄԱ | F115: դրամ | I115: -50000 | J115: Դովեղ
A116: 45221142-530 | B116: ընդհանուր շինարարական աշխատանքներ | E116: ԲՄ | F116: դրամ | I116: 30000 | J116: Նավուր
B117: ՄԱՍ III. ԾԱՌԱՅՈՒԹՅՈՒՆՆԵՐ | I117: =SUM(I118:I125) -> 6882
A118: 71351540-9 | B118: տեխնիկական հսկողության ծառայություններ | E118: ԳՀ | F118: դրամ | I118: -6000 | J118: Անգեղակոթ
A119: 71351540-10 | B119: տեխնիկական հսկողության ծառայություններ | E119: ԳՀ | F119: դրամ | I119: -3000 | J119: Բռնակոթ
A120: 71351540-12 | B120: տեխնիկական հսկողության ծառայություններ | E120: ԳՀ | F120: դրամ | I120: -5000 | J120: Կոռնիձոր
A121: 98111140-2 | B121: հեղինակային հսկողության ծառայություններ | E121: ՄԱ | F121: դրամ | I121: =-200 -> -200 | J121: Բերդաշեն
A122: 71241200-522 | B122: նախագծերի պատրաստում, ծախսերի գնահատում | E122: ԲՄ | F122: դրամ | G122: 5890000 | H122: 1 | I122: =+ROUNDUP(H122*G122/1000,1) -> 5890 | J122: Երևանի 92
A123: 71241200-505 | B123: նախագծերի պատրաստում, ծախսերի գնահատում | E123: ԲՄ | F123: դրամ | G123: 5000000 | H123: 1 | I123: =+ROUNDUP(H123*G123/1000,1) -> 5000 | J123: Ջանֆիդա
A124: 71241200-514 | B124: նախագծերի պատրաստում, ծախսերի գնահատում | E124: ԲՄ | F124: դրամ | G124: 4000000 | H124: 1 | I124: =+ROUNDUP(H124*G124/1000,1) -> 4000 | J124: Փշատավան
A125: 71241200-528 | B125: նախագծերի պատրաստում, ծախսերի գնահատում | E125: ԲՄ | F125: դրամ | G125: 6192000 | H125: 1 | I125: =+ROUNDUP(H125*G125/1000,1) -> 6192 | J125: Իջևան
A126: 1236-32004 | B126: Հանրակրթական դպրոցների շենքերի վերակառուցում, հիմնանորոգում | I126: =+I127+I140 -> 218109.1
B127: ՄԱՍ II. ԱՇԽԱՏԱՆՔՆԵՐ | I127: =SUM(I128:I139) -> 217623
A128: 45611100-1 | B128: կրթական օբյեկտների հիմնանորոգում | E128: ԲՄ | F128: դրամ | G128: 163275100 | H128: -1 | I128: =+ROUNDDOWN(H128*G128/1000,1) -> -163275.1 | J128: Երևանի 22
...
