Workbook
Name a: #REF!
Name a: #REF!
Name a: #REF!
Name AgencyCode: #REF!
Name AgencyCode: #REF!
Name AgencyCode: #REF!
Name AgencyCode: #REF!
Name AgencyCode: #REF!
Name AgencyCode: #REF!
Name AgencyName: #REF!
Name AgencyName: #REF!
Name AgencyName: #REF!
Name åû: #REF!
Name åû: #REF!
Name davit: #REF!
Name davit: #REF!
Name Functional1: #REF!
Name Functional1: #REF!
Name Functional1: #REF!
Name ggg: #REF!
Name ggg: #REF!
Name hav: #REF!
Name hav: #REF!
Name mas: #REF!
Name mas: #REF!
Name mass: #REF!
Name mass: #REF!
Name PANature: #REF!
Name PANature: #REF!
Name PANature: #REF!
Name PAType: #REF!
Name PAType: #REF!
Name PAType: #REF!
Name Performance2: #REF!
Name Performance2: #REF!
Name Performance2: #REF!
Name PerformanceType: #REF!
Name PerformanceType: #REF!
Name PerformanceType: #REF!
Name x: #REF!
Name x: #REF!
Name Հավելված: #REF!
Name Հավելված: #REF!
Name Հավելված10: #REF!
Name Հավելված10: #REF!
Name Հավելված11: #REF!
Name Հավելված11: #REF!
Name Հավելված20: #REF!
Name Հավելված20: #REF!
Name Հավելված9: #REF!
Name Հավելված9: #REF!
Name Մաս: #REF!
Name Մաս: #REF!
Name շախմատիստ: #REF!
Name շախմատիստ: #REF!
Name վֆյգյգ: #REF!
Name վֆյգյգ: #REF!

Sheet Հավելված N 1
F1: Հավելված N 1
F2: ՀՀ կառավարության 2025 թվականի
F3: ______________ ի ___Ն որոշման
A6: «ՀԱՅԱUՏԱՆԻ ՀԱՆՐԱՊԵՏՈՒԹՅԱՆ 2025 ԹՎԱԿԱՆԻ ՊԵՏԱԿԱՆ ԲՅՈՒՋԵԻ ՄԱUԻՆ» ՀԱՅԱUՏԱՆԻ ՀԱՆՐԱՊԵՏՈՒԹՅԱՆ OՐԵՆՔԻ N 1 ՀԱՎԵԼՎԱԾԻ N 2 ԱՂՅՈՒՍԱԿՈՒՄ ԿԱՏԱՐՎՈՂ ՎԵՐԱԲԱՇԽՈՒՄԸ ԵՎ ՀԱՅԱՍՏԱՆԻ ՀԱՆՐԱՊԵՏՈՒԹՅԱՆ ԿԱՌԱՎԱՐՈՒԹՅԱՆ 2024 ԹՎԱԿԱՆԻ ԴԵԿՏԵՄԲԵՐԻ 27-Ի N 2060-Ն ՈՐՈՇՄԱՆ N 5 ՀԱՎԵԼՎԱԾԻ N 1 ԱՂՅՈՒՍԱԿՈՒՄ ԿԱՏԱՐՎՈՂ ՓՈՓՈԽՈՒԹՅՈՒՆՆԵՐԸ ԵՎ ԼՐԱՑՈՒՄՆԵՐԸ
G9: հազ. դրամներով
A10: ԲԳԿ | B10: Ծրագրային դասիչը | D10: ԲԳԿ/Ծրագրի /միջոցառման անվանումը | E10: Ծրագրի նպատակը/Միջոցառման նկարագրությունը | F10: Վերջնական արդյունքի նկարագրությունը/Միջոցառման տեսակը | G10: Ցուցանիշների փոփոխությունը (ավելացումները նշված են դրական նշանով, իսկ նվազեցումները փակագծերում)
G11: Տարի
B12: Ծրագիր | C12: Միջոցառում
A13: ԸՆԴԱՄԵՆԸ | G13: =+G15+G32 -> 0
A14: այդ թվում՝
A15: ՀՀ ԿՐԹՈՒԹՅԱՆ, ԳԻՏՈՒԹՅԱՆ, ՄՇԱԿՈՒՅԹԻ ԵՎ ՍՊՈՐՏԻ ՆԱԽԱՐԱՐՈՒԹՅՈՒՆ | G15: =+G16+G19+G23+G26 -> -5000
B16: 1045 | D16: Մասնագիտական կրթության և ուսուցման ծրագիր | E16: Աշխատաշուկայի արդի պահանջներին համապատասխան արհեստագործական և միջին մասնագիտական կրթության որակավորում ունեցող մասնագետների պատրաստում, կրթության մատչելիության ապահովում: | F16: Արհեստագործական և միջին մասնագիտական կրթության գրավչության բարձրացում, մատչելի և մրցունակ արհեստագործական և միջին մասնագիտական կրթության ապահովում | G16: =SUM(G17:G18) -> -281665.2
C17: 1045 - 32001 | D17: Մասնագիտական ուսումնական հաստատությունների շենքային պայմանների բարելավում | E17: Մասնագիտական ուսումնական հաստատությունների շենքերի հիմնանորոգման և նախագծման (շինարարական աշխատանքներ, ջեռուցման համակարգի ստեղծում, ներքին հարդարում, տարածքի բարեկարգում) աշխատանքների իրականացում | F17: Այլ պետական կազմակերպությունների կողմից օգտագործվող ոչ ֆինանսական ակտիվների հետ գործառնություններ | G17: =+'Հավելված N 2'!G111 -> -223820
C18: 1045 - 32005 | D18: Մասնագիտական ուսումնական հաստատությունների շենքերի կառուցում | E18: Մասնագիտական ուսումնական հաստատությունների շենքերի (մասնաշենքերի) կառուցման և նախագծման աշխատանքների իրականացում | F18: Այլ պետական կազմակերպությունների կողմից օգտագործվող ոչ ֆինանսական ակտիվների հետ գործառնություններ | G18: =+'Հավելված N 2'!G122 -> -57845.2
B19: 1163 | D19: Մասսայական սպորտ | E19: Բնակչության շրջանում առողջ ապրելակերպի արմատավորում, անհատի բազմակողմանի ու ներդաշնակ զարգացման գործում ֆիզիկական կուլտուրայի և սպորտի դերի բարձրացում | F19: Սպորտի նկատմամբ հետաքրքրվածության և մասնակցության ընդլայնում | G19: =SUM(G20:G22) -> -655054.6
C20: 1163 - 12001 | D20: Աջակցություն համայնքներին մարզական հաստատությունների շենքային պայմանների բարելավման համար | E20: Համայնքային ենթակայության մարզական հաստատությունների վերանորոգում և կառուցում | F20: Տրանսֆերտների տրամադրում | G20: =+'Հավելված N 2'!G133 -> -240000
C21: 1163 - 32001 | D21: Մարզական օբյեկտների շինարարություն | E21: Մարզական օբյեկտների շենքերի (մասնաշենքերի) կառուցում (համաշինարարական աշխատանքներ, ջեռուցման համակարգի իրականացում, ներքին հարդարում, տարածքի բարեկարգում) և նախագծում | F21: Այլ պետական կազմակերպությունների կողմից օգտագործվող ոչ ֆինանսական ակտիվների հետ գործառնություններ | G21: =+'Հավելված N 2'!G142 -> -334754.6
C22: 1163 - 32002 | D22: Մարզական օբյեկտների հիմնանորոգում | E22: Մարզական օբյեկտների շենքերի (մասնաշենքերի) հիմնանորոգում (համաշինարարական աշխատանքներ, ջեռուցման համակարգի իրականացում, ներքին հարդարում, տարածքի բարեկարգում) և նախագծում | F22: Այլ պետական կազմակերպությունների կողմից օգտագործվող ոչ ֆինանսական ակտիվների հետ գործառնություններ | G22: =+'Հավելված N 2'!G153 -> -80300
B23: 1183 | D23: Ապահով դպրոց | E23: Դպրոցներին սպառնացող աղետների ռիսկի կառավարման կարողությունների հզորացում, դպրոցի անձնակազմի և աշակերտների անվտանգության ապահովման մակարդակի բարձրացում՛ կիրառելով ներառական և երեխայակենտրոն մոտեցում | F23: Դպրոցական միջավայրի բարելավում | G23: =SUM(G24:G25) -> -306694.9
C24: 1183 - 32007 | D24: Հանրակրթական կրթություն իրականացնող ուսումնական հաստատությունների նոր մարզադահլիճների կառուցում | E24: Հանրակրթական ուսուցում իրականացնող ուսումնական հաստատությունների նոր մարզադահլիճների կառուցման նախագծանախահաշվային փաստաթղթերի մշակում | F24: Այլ պետական կազմակերպությունների կողմից օգտագործվող ոչ ֆինանսական ակտիվների հետ գործառնություններ | G24: =+'Հավելված N 2'!G164 -> -5085
C25: 1183 - 32009 | D25: Հանրակրթական կրթություն իրականացնող ուսումնական հաստատությունների մարզադահլիճների վերակառուցում | E25: Հանրակրթական ուսուցում իրականացնող ուսումնական հաստատությունների մարզադահլիճների վերակառուցման նախագծանախահաշվային փաստաթղթերի մշակում | F25: Այլ պետական կազմակերպությունների կողմից օգտագործվող ոչ ֆինանսական ակտիվների հետ գործառնություններ | G25: =+'Հավելված N 2'!G173 -> -301609.9
B26: 1236 | D26: Հանրակրթական և նախադպրոցական հաստատությունների հիմնում, կառուցում, բարելավում | E26: Առնվազն 300 դպրոցի և 500 մանկապարտեզի կառուցման, վերակառուցման, հիմնանորոգման ծրագրերի իրականացում ՀՀ պետական բյուջեի միջոցների շրջանակներում | F26: Կրթական միջավայրի բարելավում | G26: =SUM(G27:G30) -> 1238414.7
C27: 1236 - 32001 | D27: Մանկապարտեզների նոր շենքերի կառուցում | E27: Նախադպրոցական կրթության հասանելիության ապահովման նպատակով՛ մանկապարտեզների հիմնում, նոր շենքերի (մասնաշենքերի), ներառյալ՛ ,Մոդուլայինե տիպի շենքերի կառուցում և նախագծում | F27: Այլ պետական կազմակերպությունների կողմից օգտագործվող ոչ ֆինանսական ակտիվների հետ գործառնություններ | G27: =+'Հավելված N 2'!G26 -> -84876.8
C28: 1236 - 32003 | D28: Հանրակրթական դպրոցների նոր շենքերի կառուցում | E28: ՀՀ մարզերում կրթական որակյալ ծառայությունների հասանելիության ապահովման ծրագրի շրջանակներում հանրակրթական և նախադպրոցական կրթության հասանելիության ապահովման նպատակով կրթական կենտրոնների կառուցում | F28: Այլ պետական կազմակերպությունների կողմից օգտագործվող ոչ ֆինանսական ակտիվների հետ գործառնություններ | G28: =+'Հավելված N 2'!G45 -> 1234864.3
C29: 1236 - 32004 | D29: Հանրակրթական դպրոցների շենքերի վերակառուցում, հիմնանորոգում | E29: Դպրոցական պարտադիր կրթության հասանելիության ապահովման նպատակով՛ հանրակրթական դպրոցների շենքերի (մասնաշենքերի), վերակառուցում, հիմնանորոգում և նախագծում | F29: Այլ պետական կազմակերպությունների կողմից օգտագործվող ոչ ֆինանսական ակտիվների հետ գործառնություններ | G29: =+'Հավելված N 2'!G63 -> 4330397.9
C30: 1236 - 32005 | D30: Կրթահամալիրների կառուցում | E30: ՀՀ մարզերում կրթական որակյալ ծառայությունների հասանելիության ապահովման ծրագրի շրջանակներում հանրակրթական և նախադպրոցական կրթության հասանելիության ապահովման նպատակով կրթական կենտրոնների կառուցում | F30: Այլ պետական կազմակերպությունների կողմից օգտագործվող ոչ ֆինանսական ակտիվների հետ գործառնություններ | G30: =+'Հավելված N 2'!G85 -> -4241970.7
A32: ՀՀ ՔԱՂԱՔԱՇԻՆՈՒԹՅԱՆ ԿՈՄԻՏԵ | G32: =+G33 -> 5000
B33: 1103 | D33: Քաղաքաշինության և ճարտարապետության բնագավառում պետական քաղաքականության իրականացում և կանոնակարգում | E33: Քաղաքաշինության և ճարտարապետության բնագավառում պետական քաղաքականության մշակմանն աջակցություն և իրականացման ապահովում | F33: Քաղաքաշինության գործունեության կանոնակարգում, քաղաքաշինական տեղեկատվական համակարգի ձևավորում և քաղաքաշինության բնագավառում պետական ծրագրերի իրականացման ապահովում | G33: =+G34 -> 5000
C34: 1103 - 11001 | D34: Քաղաքաշինության և ճարտարապետության բնագավառում պետական քաղաքականության մշակման, իրականացման, համակարգման, պլանավորման, մոնիտորինգի, կապիտալ ծրագրերի կատարման, պետական գնումների իրականացման ծառայություն | E34: Քաղաքաշինության և ճարտարապետության բնագավառում քաղաքականության մշակում, կատարման համակարգում, պլանավորում, իրականացում, մոնիտորինգ, լիցենզավորում, հաշվետվողականություն, աուդիտ, պետական գնումների իրականացում, հասարակությանը ոլորտի ծրագրերի իրազեկում | F34: Ծառայությունների մատուցում | G34: =+'Հավելված N 2'!G192 -> 5000

Sheet Հավելված N 2
F1: Հավելված N 2
F2: ՀՀ կառավարության 2025 թվականի
F3: ______________ ի ___Ն որոշման
A7: ՀԱՅԱՍՏԱՆԻ ՀԱՆՐԱՊԵՏՈՒԹՅԱՆ ԿԱՌԱՎԱՐՈՒԹՅԱՆ 2024 ԹՎԱԿԱՆԻ ԴԵԿՏԵՄԲԵՐԻ 27-Ի N 2060-Ն ՈՐՈՇՄԱՆ N 3 ԵՎ N 4 ՀԱՎԵԼՎԱԾՆԵՐՈՒՄ ԿԱՏԱՐՎՈՂ ՓՈՓՈԽՈՒԹՅՈՒՆՆԵՐԸ ԵՎ ԼՐԱՑՈՒՄՆԵՐԸ
G10: հազ. դրամներով
A11: Գործառական դասիչը | D11: Ծրագրային դասիչը | F11: Բյուջետային հատկացումների գլխավոր կարգադրիչների, ծրագրերի, միջոցառումների և միջոցառումները կատարող պետական մարմինների անվանումները | G11: Ցուցանիշների փոփոխությունը (ավելացումները նշված են դրական նշանով, իսկ նվազեցումները՝ փակագծերում)
A12: Բաժին | B12: Խումբ | C12: Դաս | D12: Ծրագիր | E12: Միջոցառում | G12: Տարի
F13: ԸՆԴԱՄԵՆԸ | G13: =+ROUND(G15+G183,1) -> 0
F14: այդ թվում՝
F15: ՀՀ ԿՐԹՈՒԹՅԱՆ, ԳԻՏՈՒԹՅԱՆ, ՄՇԱԿՈՒՅԹԻ ԵՎ ՍՊՈՐՏԻ ՆԱԽԱՐԱՐՈՒԹՅՈՒՆ | G15: =+G16 -> -5000
A16: 09 | F16: ԿՐԹՈՒԹՅՈՒՆ | G16: =+G18+G37+G103 -> -5000
F17: այդ թվում`
B18: 01 | F18: Նախադպրոցական և տարրական ընդհանուր կրթություն | G18: =+G20 -> -84876.8
F19: այդ թվում`
C20: 01 | F20: Նախադպրոցական կրթություն | G20: =+G22 -> -84876.8
F21: այդ թվում`
F22: ՀՀ կրթության, գիտության, մշակույթի և սպորտի նախարարություն | G22: =+G24 -> -84876.8
F23: այդ թվում`
D24: 1236 | E24: Հանրակրթական և նախադպրոցական հաստատությունների հիմնում, կառուցում, բարելավում | G24: =+G26 -> -84876.8
F25: այդ թվում`
E26: 32001 | F26: Մանկապարտեզների նոր շենքերի կառուցում | G26: =+G28 -> -84876.8
F27: այդ թվում` ըստ կատարողների
F28: ՀՀ քաղաքաշինության կոմիտե | G28: =+G30 -> -84876.8
F29: այդ թվում՝ բյուջետային ծախսերի տնտեսագիտական դասակարգման հոդվածներ
F30: ԸՆԴԱՄԵՆԸ ԾԱԽՍԵՐ | G30: =G31 -> -84876.8
F31: ՈՉ ՖԻՆԱՆՍԱԿԱՆ ԱԿՏԻՎՆԵՐԻ ԳԾՈՎ ԾԱԽՍԵՐ | G31: =+G32 -> -84876.8
F32: ՀԻՄՆԱԿԱՆ ՄԻՋՈՑՆԵՐ | G32: =+G33+G35 -> -84876.8
F33: ՇԵՆՔԵՐ ԵՎ ՇԻՆՈՒԹՅՈՒՆՆԵՐ | G33: =+G34 -> -85490
F34: - Շենքերի և շինությունների շինարարություն | G34: =+'Հավելված N 4'!E78-'Հավելված N 3'!G64 -> -85490
F35: ԱՅԼ ՀԻՄՆԱԿԱՆ ՄԻՋՈՑՆԵՐ | G35: =+G36 -> 613.2
F36: - Նախագծահետազոտական ծախսեր | G36: =+'Հավելված N 4'!E78-'Հավելված N 3'!E64 -> 613.2
B37: 02 | F37: Միջնակարգ ընդհանուր կրթություն | G37: =+G39 -> 1323291.5
F38: այդ թվում`
C39: 01 | F39: Հիմնական ընդհանուր կրթություն | G39: =+G41 -> 1323291.5
F40: այդ թվում`
F41: ՀՀ կրթության, գիտության, մշակույթի և սպորտի նախարարություն | G41: =+G43 -> 1323291.5
F42: այդ թվում`
D43: 1236 | E43: Հանրակրթական և նախադպրոցական հաստատությունների հիմնում, կառուցում, բարելավում | G43: =+G45+G63+G85 -> 1323291.5
F44: այդ թվում`
E45: 32003 | F45: Հանրակրթական դպրոցների նոր շենքերի կառուցում | G45: =+G47+G54 -> 1234864.3
...

Sheet Հավելված N 3
F1: Հավելված N 3
F2: ՀՀ կառավարության 2025 թվականի
F3: ______________ ի ___Ն որոշման
A5: «ՀԱՅԱUՏԱՆԻ ՀԱՆՐԱՊԵՏՈՒԹՅԱՆ 2025 ԹՎԱԿԱՆԻ ՊԵՏԱԿԱՆ ԲՅՈՒՋԵԻ ՄԱUԻՆ» ՀԱՅԱUՏԱՆԻ ՀԱՆՐԱՊԵՏՈՒԹՅԱՆ OՐԵՆՔԻ N 1 ՀԱՎԵԼՎԱԾԻ N 3 ԱՂՅՈՒՍԱԿՈՒՄ ԿԱՏԱՐՎՈՂ ՓՈՓՈԽՈՒԹՅՈՒՆՆԵՐԸ ԵՎ ԼՐԱՑՈՒՄՆԵՐԸ
G8: հազ. դրամներով
A9: Ծրագրային դասիչ | C9: Բյուջետային գլխավոր կարգադրիչների, ծրագրերի, միջոցառումների, միջոցառումները կատարող պետական մարմինների և ուղղությունների անվանումները | D9: Ընդամենը | E9: Ցուցանիշների փոփոխությունը (ավելացումները նշված են դրական նշանով, իսկ նվազեցումները՝ փակագծերում)
A10: Ծրագիր | B10: Միջոցառում | E10: Կառուցման աշխատանքներ | F10: Վերակառուցման, վերանորոգման և վերականգնման աշխատանքներ | G10: Նախագծահե- տազոտական, գեոդեզիա- քարտեզագրա- կան աշխա- տանքներ | H10: Ոչ ֆինանսական այլ ակտիվների ձեռքբերում
C11: ԸՆԴԱՄԵՆԸ | D11: =ROUND(SUM(E11:H11),1) -> -8443.2 | E11: =+E13 -> -3699403.6 | F11: =+F13 -> 3715554.8 | G11: =+G13 -> -24594.4 | H11: =+H13 -> 0
C12: այդ թվում՝
C13: ՀՀ ԿՐԹՈՒԹՅԱՆ, ԳԻՏՈՒԹՅԱՆ, ՄՇԱԿՈՒՅԹԻ ԵՎ ՍՊՈՐՏԻ ՆԱԽԱՐԱՐՈՒԹՅՈՒՆ | D13: =ROUND(SUM(E13:H13),1) -> -8443.2 | E13: =+E15+E21+E29+E33+E48+E52+E56+E64+E82+E124+E152 -> -3699403.6 | F13: =+F15+F21+F29+F33+F48+F52+F56+F64+F82+F124+F152 -> 3715554.8 | G13: =+G15+G21+G29+G33+G48+G52+G56+G64+G82+G124+G152 -> -24594.4 | H13: =+H15+H21+H29+H33+H48+H52+H56+H64+H82+H124+H152 -> 0
C14: այդ թվում`
A15: 1045 | B15: 32001 | C15: Մասնագիտական ուսումնական հաստատությունների շենքային պայմանների բարելավում | D15: =SUM(E15:H15) -> -223820 | E15: =+E17+E19 -> 0 | F15: =+F17+F19 -> -229720 | G15: =+G17+G19 -> 5900 | H15: =+H17+H19 -> 0
C16: այդ թվում`
C17: ՀՀ Արարատի մարզ | D17: =SUM(E17:H17) -> -24320 | E17: =+E18 -> 0 | F17: =+F18 -> -24320 | G17: =+G18 -> 0 | H17: =+H18 -> 0
C18: «Մասիսի պետական գյուղատնտեսական քոլեջ» ՊՈԱԿ | D18: =+E18+F18+G18+H18 -> -24320 | F18: =+'Հավելված N 7'!I175+'Հավելված N 7'!I178+'Հավելված N 7'!I180 -> -24320
C19: ՀՀ Կոտայքի մարզ | D19: =SUM(E19:H19) -> -199500 | E19: =+E20 -> 0 | F19: =+F20 -> -205400 | G19: =+G20 -> 5900 | H19: =+H20 -> 0
C20: «Նոր Գեղիի ակադեմիկոս Գ. Աղաջանյանի անվան պետական գյուղատնտեսական քոլեջ» ՊՈԱԿ | D20: =+E20+F20+G20+H20 -> -199500 | F20: =+'Հավելված N 7'!I176+'Հավելված N 7'!I179+'Հավելված N 7'!I181 -> -205400 | G20: =+'Հավելված N 7'!I182 -> 5900
A21: 1045 | B21: 32005 | C21: Մասնագիտական ուսումնական հաստատությունների շենքերի կառուցում | D21: =SUM(E21:H21) -> -57845.2 | E21: =+E23+E25+E27 -> -57845.2 | F21: =+F23+F25+F27 -> 0 | G21: =+G23+G25+G27 -> 0 | H21: =+H23+H25+H27 -> 0
C22: այդ թվում`
C23: ՀՀ Գեղարքունիքի մարզ | D23: =SUM(E23:H23) -> 62154.8 | E23: =+E24 -> 62154.8 | F23: =+F24 -> 0 | G23: =+G24 -> 0 | H23: =+H24 -> 0
C24: «Գավառի ակադեմիկոս Ա. Թամամշևի անվան պետական գյուղատնտեսական քոլեջ» ՊՈԱԿ | D24: =+E24+F24+G24+H24 -> 62154.8 | E24: =+'Հավելված N 7'!I186+'Հավելված N 7'!I189+'Հավելված N 7'!I190 -> 62154.8
C25: ՀՀ Սյունիքի մարզ | D25: =SUM(E25:H25) -> -70000 | E25: =+E26 -> -70000 | F25: =+F26 -> 0 | G25: =+G26 -> 0 | H25: =+H26 -> 0
C26: «Գորիսի պրոֆեսոր Խ. Երիցյանի անվան պետական գյուղատնտեսական քոլեջ» ՊՈԱԿ | D26: =+E26+F26+G26+H26 -> -70000 | E26: =+'Հավելված N 7'!I187 -> -70000
C27: ՀՀ Տավուշի մարզ | D27: =SUM(E27:H27) -> -50000 | E27: =+E28 -> -50000 | F27: =+F28 -> 0 | G27: =+G28 -> 0 | H27: =+H28 -> 0
C28: «Նոյեմբերյանի պետական քոլեջ» ՊՈԱԿ | D28: =+E28+F28+G28+H28 -> -50000 | E28: =+'Հավելված N 7'!I185 -> -50000
A29: 1163 | B29: 12001 | C29: Աջակցություն համայնքներին մարզական հաստատությունների շենքային պայմանների բարելավման համար | D29: =SUM(E29:H29) -> -240000 | E29: =+E31 -> -240000 | F29: =+F31 -> 0 | G29: =+G31 -> 0 | H29: =+H31 -> 0
C30: այդ թվում`
C31: ՀՀ Շիրակի մարզ | D31: =SUM(E31:H31) -> -240000 | E31: =+E32 -> -240000 | F31: =+F32 -> 0 | G31: =+G32 -> 0 | H31: =+H32 -> 0
C32: Արթուր Ալեքսանյանի անվան նոր սպորտային համալիր | D32: =+E32+F32+G32+H32 -> -240000 | E32: =+'Հավելված N 7'!I193 -> -240000
A33: 1163 | B33: 32001 | C33: Մարզական օբյեկտների շինարարություն | D33: =SUM(E33:H33) -> -334754.6 | E33: =+E35+E39+E42+E44+E46 -> -294880 | F33: =+F35+F39+F42+F44+F46 -> 0 | G33: =+G35+G39+G42+G44+G46 -> -39874.6 | H33: =+H35+H39+H42+H44+H46 -> 0
C34: այդ թվում`
C35: Երևան քաղաք | D35: =SUM(E35:H35) -> -245456.1 | E35: =SUM(E36:E38) -> -244880 | F35: =SUM(F36:F38) -> 0 | G35: =SUM(G36:G38) -> -576.1 | H35: =SUM(H36:H38) -> 0
C36: Հեծանվային սպորտի և Հրանտ Շահինյանի անվան սպորտային, գեղարվեստական մարմնամարզության և ակրոբատիկայի օլիմպիական մանկապատանեկան մարզադպրոցներ | D36: =+E36+F36+G36+H36 -> -112000 | E36: =+'Հավելված N 7'!I196+'Հավելված N 7'!I201+'Հավելված N 7'!I203 -> -112000
C37: Արթուր Աբրահամի անվան մարզահամալիր | D37: =+E37+F37+G37+H37 -> -83300 | E37: =+'Հավելված N 7'!I197+'Հավելված N 7'!I202+'Հավելված N 7'!I204 -> -82880 | G37: =+'Հավելված N 7'!I215 -> -420
C38: «Երևանի օլիմպիական հերթափոխի պետական մարզական քոլեջ» ՊՈԱԿ (բռնցքամարտի և ձյուդոյի մարզադահլիճ) | D38: =+E38+F38+G38+H38 -> -50156.1 | E38: =+'Հավելված N 7'!I198 -> -50000 | G38: =+'Հավելված N 7'!I205+'Հավելված N 7'!I211 -> -156.1
C39: ՀՀ Արագածոտնի մարզ | D39: =SUM(E39:H39) -> -61741.6 | E39: =SUM(E40:E41) -> -50000 | F39: =SUM(F40:F41) -> 0 | G39: =SUM(G40:G41) -> -11741.6 | H39: =SUM(H40:H41) -> 0
C40: Ալագյազ համայնքում Մալխաս և Ռոման Ամոյանների անվան նոր մարզադպրոց | D40: =+E40+F40+G40+H40 -> -52556.1 | E40: =+'Հավելված N 7'!I199 -> -50000 | G40: =+'Հավելված N 7'!I206+'Հավելված N 7'!I212 -> -2556.1
C41: Մարզական համալիր Աշտարակում | D41: =+E41+F41+G41+H41 -> -9185.5 | G41: =+'Հավելված N 7'!I208+'Հավելված N 7'!I214 -> -9185.5
C42: ՀՀ Արարատի մարզ | D42: =SUM(E42:H42) -> -9185.7 | E42: =+E43 -> 0 | F42: =+F43 -> 0 | G42: =+G43 -> -9185.7 | H42: =+H43 -> 0
C43: Մարզական համալիր Արարատում | D43: =+E43+F43+G43+H43 -> -9185.7 | G43: =+'Հավելված N 7'!I209+'Հավելված N 7'!I216 -> -9185.7
...

Sheet Հավելված N 4
D1: Հավելված N 4
D2: ՀՀ կառավարության 2025 թվականի
D3: ______________ ի ___Ն որոշման
B6: ՀԱՅԱՍՏԱՆԻ ՀԱՆՐԱՊԵՏՈՒԹՅԱՆ ԿԱՌԱՎԱՐՈՒԹՅԱՆ 2024 ԹՎԱԿԱՆԻ ԴԵԿՏԵՄԲԵՐԻ 27-Ի N 2060-Ն ՈՐՈՇՄԱՆ N 5 ՀԱՎԵԼՎԱԾԻ N 2 ԱՂՅՈՒՍԱԿՈՒՄ ԿԱՏԱՐՎՈՂ ՓՈՓՈԽՈՒԹՅՈՒՆՆԵՐԸ ԵՎ ԼՐԱՑՈՒՄՆԵՐԸ
E8: հազ. դրամներով
B9: Ծրագրային դասիչ | D9: Բյուջետային գլխավոր կարգադրիչների, ծրագրերի, միջոցառումների, միջոցառումները կատարող պետական մարմինների և ուղղությունների անվանումները | E9: Ցուցանիշների փոփոխությունը (ավելացումները նշված են դրական նշանով, իսկ նվազեցումները՝ փակագծերում)
B10: Ծրագիր | C10: Միջոցառում | E10: Տարի
D11: ՀՀ ԿՐԹՈՒԹՅԱՆ, ԳԻՏՈՒԹՅԱՆ, ՄՇԱԿՈՒՅԹԻ ԵՎ ՍՊՈՐՏԻ ՆԱԽԱՐԱՐՈՒԹՅՈՒՆ | E11: =+E13+E21+E31+E37+E54+E60+E66+E76+E96+E147+E180 -> -8443.2
D12: այդ թվում՝
B13: 1045 | C13: 32001 | D13: Մասնագիտական ուսումնական հաստատությունների շենքային պայմանների բարելավում | E13: =+E15 -> -223820
D14: այդ թվում` ըստ կատարողների
D15: ՀՀ քաղաքաշինության կոմիտե | E15: =+E17+E19 -> -223820
D16: այդ թվում՝ ըստ ուղղությունների
D17: ՀՀ Արարատի մարզ | E17: =+E18 -> -24320
D18: =+'Հավելված N 3'!C18 -> «Մասիսի պետական գյուղատնտեսական քոլեջ» ՊՈԱԿ | E18: =+'Հավելված N 3'!D18 -> -24320
D19: ՀՀ Կոտայքի մարզ | E19: =+E20 -> -199500
D20: =+'Հավելված N 3'!C20 -> «Նոր Գեղիի ակադեմիկոս Գ. Աղաջանյանի անվան պետական գյուղատնտեսական քոլեջ» ՊՈԱԿ | E20: =+'Հավելված N 3'!D20 -> -199500
B21: 1045 | C21: 32005 | D21: Մասնագիտական ուսումնական հաստատությունների շենքերի կառուցում | E21: =+E23 -> -57845.2
D22: այդ թվում` ըստ կատարողների
D23: ՀՀ քաղաքաշինության կոմիտե | E23: =+E25+E27+E29 -> -57845.2
D24: այդ թվում՝ ըստ ուղղությունների
D25: ՀՀ Գեղարքունիքի մարզ | E25: =+E26 -> 62154.8
D26: =+'Հավելված N 3'!C24 -> «Գավառի ակադեմիկոս Ա. Թամամշևի անվան պետական գյուղատնտեսական քոլեջ» ՊՈԱԿ | E26: =+'Հավելված N 3'!D24 -> 62154.8
D27: ՀՀ Սյունիքի մարզ | E27: =+E28 -> -70000
D28: =+'Հավելված N 3'!C26 -> «Գորիսի պրոֆեսոր Խ. Երիցյանի անվան պետական գյուղատնտեսական քոլեջ» ՊՈԱԿ | E28: =+'Հավելված N 3'!D26 -> -70000
D29: ՀՀ Տավուշի մարզ | E29: =+E30 -> -50000
D30: =+'Հավելված N 3'!C28 -> «Նոյեմբերյանի պետական քոլեջ» ՊՈԱԿ | E30: =+'Հավելված N 3'!D28 -> -50000
B31: 1163 | C31: 12001 | D31: Աջակցություն համայնքներին մարզական հաստատությունների շենքային պայմանների բարելավման համար | E31: =+E33 -> -240000
D32: այդ թվում` ըստ կատարողների
D33: ՀՀ քաղաքաշինության կոմիտե | E33: =+E35 -> -240000
D34: այդ թվում՝ ըստ ուղղությունների
D35: ՀՀ Շիրակի մարզ | E35: =+E36 -> -240000
D36: =+'Հավելված N 3'!C32 -> Արթուր Ալեքսանյանի անվան նոր սպորտային համալիր | E36: =+'Հավելված N 3'!D32 -> -240000
B37: 1163 | C37: 32001 | D37: Մարզական օբյեկտների շինարարություն | E37: =+E39 -> -334754.6
D38: այդ թվում` ըստ կատարողների
D39: ՀՀ քաղաքաշինության կոմիտե | E39: =+E41+E45+E48+E50+E52 -> -334754.6
D40: այդ թվում՝ ըստ ուղղությունների
D41: Երևան քաղաք | E41: =SUM(E42:E44) -> -245456.1
D42: =+'Հավելված N 3'!C36 -> Հեծանվային սպորտի և Հրանտ Շահինյանի անվան սպորտային, գեղարվեստական մարմնամարզության և ակրոբատիկայի օլիմպիական մանկապատանեկան մարզադպրոցներ | E42: =+'Հավելված N 3'!D36 -> -112000
D43: =+'Հավելված N 3'!C37 -> Արթուր Աբրահամի անվան մարզահամալիր | E43: =+'Հավելված N 3'!D37 -> -83300
...

Sheet Հավելված N 5
I1: Հավելված N 5
I2: ՀՀ կառավարության 2025 թվականի
I3: ______________ ի ___Ն որոշման
A6: ՀԱՅԱՍՏԱՆԻ ՀԱՆՐԱՊԵՏՈՒԹՅԱՆ ԿԱՌԱՎԱՐՈՒԹՅԱՆ 2024 ԹՎԱԿԱՆԻ ԴԵԿՏԵՄԲԵՐԻ 27-Ի N 2060-Ն ՈՐՈՇՄԱՆ N 9 ՀԱՎԵԼՎԱԾՈՒՄ ԿԱՏԱՐՎՈՂ ՓՈՓՈԽՈՒԹՅՈՒՆՆԵՐԸ ԵՎ ԼՐԱՑՈՒՄՆԵՐԸ
J8: հազար դրամներով
A9: ԲԳԿ | B9: Ծրագիր | D9: Միջոցառում | H9: Իրականացնողը/ ակտիվն օգտագործողը/ շահառուի ընտրության չափորոշիչը | I9: Արդյունքային չափորոշիչը | J9: Ցուցանիշների փոփոխությունը (ավելացումները նշված են դրական նշանով, իսկ նվազեցումները՝ փակագծերում)
B10: Դասիչը | C10: Անվանումը | D10: Դասիչը | E10: Անվանումը | F10: Նկարագրությունը | G10: Տեսակը | J10: Տարի
A11: ԸՆԴԱՄԵՆԸ | J11: =+J13+J75 -> 0
A12: այդ թվում՝
A13: ՀՀ ԿՐԹՈՒԹՅԱՆ, ԳԻՏՈՒԹՅԱՆ, ՄՇԱԿՈԻՅԹԻ ԵՎ ՍՊՈՐՏԻ ՆԱԽԱՐԱՐՈՒԹՅՈՒՆ | J13: =+J14+J26+J42+J54 -> -5000
B14: 1045 | C14: Մասնագիտական կրթության և ուսուցման ծրագիր | J14: =+J15+J20 -> -281665.2
D15: 1045 - 32001 | E15: Մասնագիտական ուսումնական հաստատությունների շենքային պայմանների բարելավում | J15: =+'Հավելված N 1'!G17 -> -223820
F16: Մասնագիտական ուսումնական հաստատությունների շենքերի հիմնանորոգման և նախագծման (շինարարական աշխատանքներ, ջեռուցման համակարգի ստեղծում, ներքին հարդարում, տարածքի բարեկարգում) աշխատանքների իրականացում
G17: Այլ պետական կազմակերպությունների կողմից օգտագործվող ոչ ֆինանսական ակտիվների հետ գործառնություններ
H18: Ակտիվն օգտագործող կազմակերպությունների անվանումները` Մասնագիտական ուսումնական հաստատություններ
I19: Հիմնանորոգվող մասնագիտական ուսումնական հաստատությունների քանակ, հատ | J19: -1
D20: 1045 - 32005 | E20: Մասնագիտական ուսումնական հաստատությունների շենքերի կառուցում | J20: =+'Հավելված N 1'!G18 -> -57845.2
F21: Մասնագիտական ուսումնական հաստատությունների շենքերի (մասնաշենքերի) կառուցման և նախագծման աշխատանքների իրականացում
G22: Այլ պետական կազմակերպությունների կողմից օգտագործվող ոչ ֆինանսական ակտիվների հետ գործառնություններ
H23: Ակտիվն օգտագործող կազմակերպությունների անվանումները` Մասնագիտական ուսումնական հաստատություններ
I24: Կառուցվող մասնագիտական ուսումնական հաստատությունների քանակ, հատ | J24: -1
B26: 1163 | C26: Մասսայական սպորտ | J26: =+J27+J31+J37 -> -655054.6
D27: 1163 - 12001 | E27: Աջակցություն համայնքներին մարզական հաստատությունների շենքային պայմանների բարելավման համար | J27: =+'Հավելված N 1'!G20 -> -240000
F28: Համայնքային ենթակայության մարզական հաստատությունների վերանորոգում և կառուցում
G29: Տրանսֆերտների տրամադրում
H30: Շահառուների ընտրության չափորոշիչները` ՀՀ համայնքների ենթակայության մարզական հաստատությունների շենքային պայմանների բարելավման անհրաժեշտությունը
D31: 1163 - 32001 | E31: Մարզական օբյեկտների շինարարություն | J31: =+'Հավելված N 1'!G21 -> -334754.6
F32: Մարզական օբյեկտների շենքերի (մասնաշենքերի) կառուցում (համաշինարարական աշխատանքներ, ջեռուցման համակարգի իրականացում, ներքին հարդարում, տարածքի բարեկարգում) և նախագծում
G33: Այլ պետական կազմակերպությունների կողմից օգտագործվող ոչ ֆինանսական ակտիվների հետ գործառնություններ
H34: Ակտիվն օգտագործող կազմակերպության անվանումը` Մարզական հաստատություններ
I35: Կառուցման ենթակա օբյյեկտների թիվ, հատ | J35: -2
I36: Նախագծանախահաշվային փաստաթղթերի քանակ, հատ | J36: -4
D37: 1163 - 32002 | E37: Մարզական օբյեկտների հիմնանորոգում | J37: =+'Հավելված N 1'!G22 -> -80300
F38: Մարզական օբյեկտների շենքերի (մասնաշենքերի) հիմնանորոգում (համաշինարարական աշխատանքներ, ջեռուցման համակարգի իրականացում, ներքին հարդարում, տարածքի բարեկարգում) և նախագծում
G39: Այլ պետական կազմակերպությունների կողմից օգտագործվող ոչ ֆինանսական ակտիվների հետ գործառնություններ
H40: Ակտիվն օգտագործող կազմակերպության անվանումը` Մարզական հաստատություններ
B42: 1183 | C42: Ապահով դպրոց | J42: =+J43+J48 -> -306694.9
D43: 1183 - 32007 | E43: Հանրակրթական կրթություն իրականացնող ուսումնական հաստատությունների նոր մարզադահլիճների կառուցում | J43: =+'Հավելված N 1'!G24 -> -5085
F44: Հանրակրթական ուսուցում իրականացնող ուսումնական հաստատությունների նոր մարզադահլիճների կառուցման նախագծանախահաշվային փաստաթղթերի մշակում
G45: Այլ պետական կազմակերպությունների կողմից օգտագործվող ոչ ֆինանսական ակտիվների հետ գործառնություններ
...

Sheet Հավելված N 6
I1: Հավելված N 6
I2: ՀՀ կառավարության 2025 թվականի
I3: ______________ ի ___Ն որոշման
A6: ՀԱՅԱՍՏԱՆԻ ՀԱՆՐԱՊԵՏՈՒԹՅԱՆ ԿԱՌԱՎԱՐՈՒԹՅԱՆ 2024 ԹՎԱԿԱՆԻ ԴԵԿՏԵՄԲԵՐԻ 27-Ի N 2060-Ն ՈՐՈՇՄԱՆ N 9.1 ՀԱՎԵԼՎԱԾՈՒՄ ԿԱՏԱՐՎՈՂ ՓՈՓՈԽՈՒԹՅՈՒՆՆԵՐԸ ԵՎ ԼՐԱՑՈՒՄՆԵՐԸ
J8: հազար դրամներով
A9: ԲՍԿ | B9: Ծրագիր | D9: Միջոցառում | H9: Իրականացնողը/ ակտիվն օգտագործողը/ շահառուի ընտրության չափորոշիչը | I9: Արդյունքային չափորոշիչը | J9: Ցուցանիշների փոփոխությունը (ավելացումները նշված են դրական նշանով, իսկ նվազեցումները՝ փակագծերում)
B10: Դասիչը | C10: Անվանումը | D10: Դասիչը | E10: Անվանումը | F10: Նկարագրությունը | G10: Տեսակը | J10: Տարի
A11: ԸՆԴԱՄԵՆԸ | J11: =+J13+J28 -> 0
A12: այդ թվում՝
A13: ՀՀ ԿՐԹՈՒԹՅԱՆ, ԳԻՏՈՒԹՅԱՆ, ՄՇԱԿՈԻՅԹԻ ԵՎ ՍՊՈՐՏԻ ՆԱԽԱՐԱՐՈՒԹՅՈՒՆ | J13: =+J14 -> 3904768.3
B14: 1236 | C14: Հանրակրթական և նախադպրոցական հաստատությունների հիմնում, կառուցում, բարելավում | J14: =+J15+J19+J23 -> 3904768.3
D15: 1236 - 32003 | E15: Հանրակրթական դպրոցների նոր շենքերի կառուցում | J15: =+'Հավելված N 2'!G47 -> 1857281.3
F16: ՀՀ մարզերում կրթական որակյալ ծառայությունների հասանելիության ապահովման ծրագրի շրջանակներում հանրակրթական և նախադպրոցական կրթության հասանելիության ապահովման նպատակով կրթական կենտրոնների կառուցում
G17: Այլ պետական կազմակերպությունների կողմից օգտագործվող ոչ ֆինանսական ակտիվների հետ գործառնություններ
H18: Ակտիվն օգտագործող կազմակերպությունների անվանումները` Հանրակրթական դպրոցներ
D19: 1236 - 32004 | E19: Հանրակրթական դպրոցների շենքերի վերակառուցում, հիմնանորոգում | J19: =+'Հավելված N 2'!G65 -> 4112288.8
F20: Դպրոցական պարտադիր կրթության հասանելիության ապահովման նպատակով՛ հանրակրթական դպրոցների շենքերի (մասնաշենքերի), վերակառուցում, հիմնանորոգում և նախագծում
G21: Այլ պետական կազմակերպությունների կողմից օգտագործվող ոչ ֆինանսական ակտիվների հետ գործառնություններ
H22: Ակտիվն օգտագործող կազմակերպությունների անվանումները` Հանրակրթական դպրոցներ
D23: 1236 - 32005 | E23: Կրթահամալիրների կառուցում | J23: =+'Հավելված N 2'!G87 -> -2064801.8
F24: ՀՀ մարզերում կրթական որակյալ ծառայությունների հասանելիության ապահովման ծրագրի շրջանակներում հանրակրթական և նախադպրոցական կրթության հասանելիության ապահովման նպատակով կրթական կենտրոնների կառուցում
G25: Այլ պետական կազմակերպությունների կողմից օգտագործվող ոչ ֆինանսական ակտիվների հետ գործառնություններ
H26: Ակտիվն օգտագործող կազմակերպությունների անվանումները` Հանրակրթական դպրոցներ, մանկապարտեզներ և կրթահամալիրներ
A28: ՀՀ ՔԱՂԱՔԱՇԻՆՈՒԹՅԱՆ ԿՈՄԻՏԵ | J28: =+J29+J41+J47+J63+J75 -> -3904768.3
B29: 1045 | C29: Մասնագիտական կրթության և ուսուցման ծրագիր | J29: =+J30+J35 -> -281665.2
D30: 1045 - 32001 | E30: Մասնագիտական ուսումնական հաստատությունների շենքային պայմանների բարելավում | J30: =+'Հավելված N 2'!G113 -> -223820
F31: Մասնագիտական ուսումնական հաստատությունների շենքերի հիմնանորոգման և նախագծման (շինարարական աշխատանքներ, ջեռուցման համակարգի ստեղծում, ներքին հարդարում, տարածքի բարեկարգում) աշխատանքների իրականացում
G32: Այլ պետական կազմակերպությունների կողմից օգտագործվող ոչ ֆինանսական ակտիվների հետ գործառնություններ
H33: Ակտիվն օգտագործող կազմակերպությունների անվանումները` Մասնագիտական ուսումնական հաստատություններ
I34: Հիմնանորոգվող մասնագիտական ուսումնական հաստատությունների քանակ, հատ | J34: -1
D35: 1045 - 32005 | E35: Մասնագիտական ուսումնական հաստատությունների շենքերի կառուցում | J35: =+'Հավելված N 2'!G124 -> -57845.2
F36: Մասնագիտական ուսումնական հաստատությունների շենքերի (մասնաշենքերի) կառուցման և նախագծման աշխատանքների իրականացում
G37: Այլ պետական կազմակերպությունների կողմից օգտագործվող ոչ ֆինանսական ակտիվների հետ գործառնություններ
H38: Ակտիվն օգտագործող կազմակերպությունների անվանումները` Մասնագիտական ուսումնական հաստատություններ
I39: Կառուցվող մասնագիտական ուսումնական հաստատությունների քանակ, հատ | J39: -1
B41: 1103 | C41: Քաղաքաշինության և ճարտարապետության բնագավառում պետական քաղաքականության իրականացում և կանոնակարգում | J41: =+J42 -> 5000
D42: 1103 - 11001 | E42: Քաղաքաշինության և ճարտարապետության բնագավառում պետական քաղաքականության մշակման, իրականացման, համակարգման, պլանավորման, մոնիտորինգի, կապիտալ ծրագրերի կատարման, պետական գնումների իրականացման ծառայություն | J42: =+'Հավելված N 2'!G194 -> 5000
F43: Քաղաքաշինության և ճարտարապետության բնագավառում քաղաքականության մշակում, կատարման համակարգում, պլանավորում, իրականացում, մոնիտորինգ, լիցենզավորում, հաշվետվողականություն, աուդիտ, պետական գնումների իրականացում, հասարակությանը ոլորտի ծրագրերի իրազեկում
G44: Ծառայությունների մատուցում
H45: Ծառայությունը մատուցողի անվանումը` ՀՀ քաղաքաշինության կոմիտե
...

Sheet Հավելված N 7
H1: Հավելված N 7
H2: ՀՀ կառավարության 2025 թվականի
H3: ______________ ի ___Ն որոշման
A6: ՀԱՅԱՍՏԱՆԻ ՀԱՆՐԱՊԵՏՈՒԹՅԱՆ ԿԱՌԱՎԱՐՈՒԹՅԱՆ 2024 ԹՎԱԿԱՆԻ ԴԵԿՏԵՄԲԵՐԻ 27-Ի N 2060-Ն N 10 ՀԱՎԵԼՎԱԾՈՒՄ ԿԱՏԱՐՎՈՂ ՓՈՓՈԽՈՒԹՅՈՒՆՆԵՐԸ ԵՎ ԼՐԱՑՈՒՄՆԵՐԸ
A10: Կոդը | B10: Անվանումը | E10: Գնման ձևը | F10: Չափման միավորը | G10: Միավորի գինը | H10: Ցուցանիշների փոփոխությունը (ավելացումները նշված են դրական նշանով, իսկ նվազեցումները՝ փակագծերում)
H11: Քանակը | I11: Գումարը (հազար դրամ)
A12: 1 | B12: 2 | E12: 3 | F12: 4 | G12: 5 | H12: 6 | I12: 7
A13: ՀՀ կրթության, գիտության, մշակույթի և սպորտի նախարարություն | I13: =+I14 -> -5625656.6
A14: Բաժին N 09 | B14: Խումբ N 02 | C14: Դաս N 01 | D14: Հիմնական ընդհանուր կրթություն | I14: =+I15+I35+I42 -> -5625656.6
A15: 1236-32003 | B15: Հանրակրթական դպրոցների նոր շենքերի կառուցում | I15: =+I16 -> -1922718.7
B16: ՄԱՍ II. ԱՇԽԱՏԱՆՔՆԵՐ | I16: =SUM(I17:I34) -> -1922718.7
A17: 45211229-62 | B17: շինարարական աշխատանքներ դպրոցների համար | E17: ՀԲՄ | F17: դրամ | I17: -20432 | J17: Վեդի
A18: 45211229-63 | B18: շինարարական աշխատանքներ դպրոցների համար | E18: ՀԲՄ | F18: դրամ | I18: -115429.7 | J18: Գետազատ
A19: 45211229-72 | B19: շինարարական աշխատանքներ դպրոցների համար | E19: ՀԲՄ | F19: դրամ | I19: -34981.8 | J19: Վաղարշապատի 11
A20: 45211229-73 | B20: շինարարական աշխատանքներ դպրոցների համար | E20: ՀԲՄ | F20: դրամ | I20: -139738.8 | J20: Ծովինար
A21: 45211229-75 | B21: շինարարական աշխատանքներ դպրոցների համար | E21: ՀԲՄ | F21: դրամ | I21: -121309.8 | J21: Արևածագ
A22: 45211229-76 | B22: շինարարական աշխատանքներ դպրոցների համար | E22: ՀԲՄ | F22: դրամ | I22: -97158.4 | J22: Օձուն
A23: 45211229-77 | B23: շինարարական աշխատանքներ դպրոցների համար | E23: ՀԲՄ | F23: դրամ | I23: -33441.9 | J23: Տաշիր
A24: 45211229-78 | B24: շինարարական աշխատանքներ դպրոցների համար | E24: ՀԲՄ | F24: դրամ | I24: -198262.1 | J24: Սպիտակի 8
A25: 45211229-86 | B25: շինարարական աշխատանքներ դպրոցների համար | E25: ՀԲՄ | F25: դրամ | I25: -42500 | J25: Մայակովսկի
A26: 45211229-87 | B26: շինարարական աշխատանքներ դպրոցների համար | E26: ՀԲՄ | F26: դրամ | I26: -190480 | J26: Կոտայք և Նոր Գյուղ
A27: 45211229-88 | B27: շինարարական աշխատանքներ դպրոցների համար | E27: ՀԲՄ | F27: դրամ | I27: -74339 | J27: Արգել
A28: 45211229-90 | B28: շինարարական աշխատանքներ դպրոցների համար | E28: ՀԲՄ | F28: դրամ | I28: -25341.5 | J28: Լեռնանիստ
... A34: 45211229-112 | B34: շինարարական աշխատանքներ դպրոցների համար | E34: ՀԲՄ | F34: դրամ | I34: -45072.7 | J34: Աղավնավանք
A35: 1236-32004 | B35: Հանրակրթական դպրոցների շենքերի վերակառուցում, հիմնանորոգում | I35: =+I36 -> -138136.1
B36: ՄԱՍ II. ԱՇԽԱՏԱՆՔՆԵՐ | I36: =SUM(I37:I41) -> -138136.1
A37: 45211229-791 | B37: շինարարական աշխատանքներ դպրոցների համար | E37: ՀԲՄ | F37: դրամ | I37: -16065.3 | J37: Երևանի 101
A38: 45211229-769 | B38: շինարարական աշխատանքներ դպրոցների համար | E38: ՀԲՄ | F38: դրամ | I38: -16392.7 | J38: Ծաղկաբեր
A39: 45211229-185 | B39: շինարարական աշխատանքներ դպրոցների համար | E39: ՀԲՄ | F39: դրամ | I39: -19030 | J39: Գյումրու 28
A40: 45211229-187 | B40: շինարարական աշխատանքներ դպրոցների համար | E40: ՀԲՄ | F40: դրամ | I40: -37709.2 | J40: Գյումրու 28
A41: 45211229-727 | B41: շինարարական աշխատանքներ դպրոցների համար | E41: ՀԲՄ | F41: դրամ | I41: -48938.9 | J41: Տավուշ
A42: 1236-32005 | B42: Կրթահամալիրների կառուցում | I42: =+I43 -> -3564801.8
B43: ՄԱՍ II. ԱՇԽԱՏԱՆՔՆԵՐ | I43: =SUM(I44:I73) -> -3564801.8
A44: 45211229-127 | B44: շինարարական աշխատանքներ դպրոցների համար | E44: ՀԲՄ | F44: դրամ | I44: -136769.4 | J44: Ճարճակիս
A45: 45211229-130 | B45: շինարարական աշխատանքներ դպրոցների համար | E45: ՀԲՄ | F45: դրամ | I45: -81602 | J45: Լուսաշող
A46: 45211229-131 | B46: շինարարական աշխատանքներ դպրոցների համար | E46: ՀԲՄ | F46: դրամ | I46: -202230 | J46: Նոր Կյուրին
A47: 45211229-133 | B47: շինարարական աշխատանքներ դպրոցների համար | E47: ՀԲՄ | F47: դրամ | I47: -148282.2 | J47: Արևաբույր
A48: 45211229-135 | B48: շինարարական աշխատանքներ դպրոցների համար | E48: ՀԲՄ | F48: դրամ | I48: -158000 | J48: Վարդանաշեն
A49: 45211229-138 | B49: շինարարական աշխատանքներ դպրոցների համար | E49: ՀԲՄ | F49: դրամ | I49: -64510 | J49: Շատվան
A50: 45211229-141 | B50: շինարարական աշխատանքներ դպրոցների համար | E50: ՀԲՄ | F50: դրամ | I50: -50682.5 | J50: Փոքր Մասրիկ
...
