Workbook
Name _tab10: #REF!
Name _tab10: #REF!
Name _tab10: #REF!
Name _tab10: #REF!
Name _tab10: #REF!
Name _tab11: #REF!
Name _tab11: #REF!
Name _tab11: #REF!
Name _tab11: #REF!
Name _tab11: #REF!
Name _tab12: #REF!
Name _tab12: #REF!
Name _tab12: #REF!
Name _tab12: #REF!
Name _tab12: #REF!
Name _tab13: #REF!
Name _tab13: #REF!
Name _tab13: #REF!
Name _tab13: #REF!
Name _tab13: #REF!
Name _tab14: #REF!
Name _tab14: #REF!
Name _tab14: #REF!
Name _tab14: #REF!
Name _tab14: #REF!
Name _tab15: #REF!
Name _tab15: #REF!
Name _tab15: #REF!
Name _tab15: #REF!
Name _tab15: #REF!
Name _tab16: #REF!
Name _tab16: #REF!
Name _tab16: #REF!
Name _tab16: #REF!
Name _tab16: #REF!
Name _tab17: #REF!
Name _tab17: #REF!
Name _tab17: #REF!
Name _tab17: #REF!
Name _tab17: #REF!
Name _tab18: #REF!
Name _tab18: #REF!
Name _tab18: #REF!
Name _tab18: #REF!
Name _tab18: #REF!
Name _tab19: #REF!
Name _tab19: #REF!
Name _tab19: #REF!
Name _tab19: #REF!
Name _tab19: #REF!
Name _tab20: #REF!
Name _tab20: #REF!
Name _tab20: #REF!
Name _tab20: #REF!
Name _tab20: #REF!
Name _tab21: #REF!
Name _tab21: #REF!
Name _tab21: #REF!
Name _tab21: #REF!
Name _tab21: #REF!

Sheet ՕՀ-1 Ա 2 և Հ-5 Ա-1
H1: Հավելված N 1
H2: ='Հ-3 և Հ-4'!H2 -> ՀՀ կառավարության 2025 թվականի
H3: ='Հ-3 և Հ-4'!H3 -> ______________ ի N ___ -Ն որոշման
B5: «ՀԱՅԱՍՏԱՆԻ ՀԱՆՐԱՊԵՏՈՒԹՅԱՆ 2025 ԹՎԱԿԱՆԻ ՊԵՏԱԿԱՆ ԲՅՈՒՋԵԻ ՄԱՍԻՆ» ՀԱՅԱՍՏԱՆԻ ՀԱՆՐԱՊԵՏՈՒԹՅԱՆ ՕՐԵՆՔԻ N 1 ՀԱՎԵԼՎԱԾԻ N 2 ԱՂՅՈՒՍԱԿՈՒՄ
B6: ԿԱՏԱՐՎՈՂ ՎԵՐԱԲԱՇԽՈՒՄԸ ԵՎ ՀԱՅԱՍՏԱՆԻ ՀԱՆՐԱՊԵՏՈՒԹՅԱՆ ԿԱՌԱՎԱՐՈՒԹՅԱՆ 2024 ԹՎԱԿԱՆԻ ԴԵԿՏԵՄԲԵՐԻ 27-Ի N 2060-Ն ՈՐՈՇՄԱՆ
B7: N 5 ՀԱՎԵԼՎԱԾԻ N 1 ԱՂՅՈՒՍԱԿՈՒՄ ԿԱՏԱՐՎՈՂ ՓՈՓՈԽՈՒԹՅՈՒՆՆԵՐԸ
H8: հազար դրամ
B9: ԲԳԿ | C9: Ծրագրային դասիչը | E9: ԲԳԿ/Ծրագրի /միջոցառման անվանումը | F9: Ծրագրի նպատակը/ Միջոցառման նկարագրությունը | G9: Վերջնական արդյունքի նկարագրությունը/ Միջոցառման տեսակը | H9: Ցուցանիշների փոփոխությունը (ավելացումները նշված են դրական նշանով, իսկ նվազեցումները՝ փակագծերում)
C10: ծրագիր | D10: միջոցառում | H10: տարի
B11: ԸՆԴԱՄԵՆԸ | H11: =H18+H12 -> 0
B12: ՀՀ բարձր տեխնոլոգիական արդյունաբերության նախարարություն | H12: =+H13+H15 -> -7000000
C13: 1043 | E13: Բարձր տեխնոլոգիական արդյունաբերության էկոհամակարգի և շուկայի զարգացման ծրագիր | F13: Բարձր տեխնոլոգիաների ենթակառուցվածքների բարելավում | G13: Բարձր տեխնոլոգիաների ոլորտի աճ | H13: =H14 -> -3800000
D14: 1043 - 11018 | E14: Պետական աջակցություն տեղեկատվական տեխնոլոգիաների ոլորտում գործունեություն իրականացնող առևտրային կազմակերպություններին և անհատ ձեռնարկատերերին | F14: Տեղեկատվական տեխնոլոգիաների ոլորտում գործունեություն իրականացնող առևտրային կազմակերպություններին և անհատ ձեռնարկատերերին պետական աջակցության տրամադրում | G14: Ծառայությունների մատուցում | H14: -3800000
C15: 1220 | E15: Ռազմարդյունաբերության համալիրի զարգացում | F15: Նոր արտադրությունների հիմնում, ներկրման և արտադրության մեխանիզմի ստեղծում | G15: Ռազմարդյունաբերության համալիրի զարգացում | H15: =H16+H17 -> -3200000
D16: 1220 - 11001 | E16: Ռազմական նշանակության հատուկ գիտահետազոտական և փորձակոնստրուկտորական աշխատանքներ | F16: ՀՀ պաշտպանության և անվտանգության համակարգերի ապահովման և նոր նմուշների ստեղծման նպատակով գիտահետազոտական և փորձակոնստրուկտորական աշխատանքների իրականացում | G16: Ծառայությունների մատուցում | H16: -1800000
D17: 1220 - 11003 | E17: Փորձանմուշների արտադրություն | F17: Զորային և պետական փորձարկումների համար նախատեսված ռազմարդյունաբերական փորձանմուշների համար անհրաժեշտ հումքի, նյութերի, բաղկացուցիչների արտադրության կազմակերպում | G17: Ծառայությունների մատուցում | H17: -1400000
B18: ՀՀ պաշտպանության նախարարություն | H18: =H19 -> 7000000
C19: 1169 | E19: ՀՀ պաշտպանության ապահովում | F19: ՀՀ ԶՈւ ռազմավարական ծավալումն ապահովող մարտական պատրաստականության պահպանում, արտաքին թշնամուց ՀՀ պետական սահմանների պաշտպանության ապահովում | G19: ՀՀ ԶՈւ ռազմավարական ծավալումն ապահովող մարտական պատրաստականության պահպանում | H19: =SUM(H20:H20) -> 7000000
D20: 1169 - 11001 | E20: Ռազմական կարիքների բավարարում | F20: Ընթացիկ գործունեության ապահովման գործողություններ | G20: Ծառայությունների մատուցում | H20: =+'Հ-3 և Հ-4'!H65 -> 7000000

Sheet Հ-3 և Հ-4
H1: Հավելված N 2
H2: ՀՀ կառավարության 2025 թվականի
H3: ______________ ի N ___ -Ն որոշման
B5: ՀԱՅԱՍՏԱՆԻ ՀԱՆՐԱՊԵՏՈՒԹՅԱՆ ԿԱՌԱՎԱՐՈՒԹՅԱՆ 2024 ԹՎԱԿԱՆԻ ԴԵԿՏԵՄԲԵՐԻ 27-Ի N 2060-Ն ՈՐՈՇՄԱՆ
B6: N 3 և N 4 ՀԱՎԵԼՎԱԾՆԵՐՈՒՄ ԿԱՏԱՐՎՈՂ ՓՈՓՈԽՈՒԹՅՈՒՆՆԵՐԸ
H7: հազար դրամ
B8: Գործառական դասիչը | E8: Ծրագրային դասիչը | G8: Բյուջետային ծախսերի գործառական դասակարգման բաժինների, խմբերի և դասերի, բյուջետային ծրագրերի միջոցառումների, բյուջետային հատկացումների գլխավոր կարգադրիչների անվանումները | H8: Ցուցանիշների փոփոխությունը (ավելացումները նշված են դրական նշանով, իսկ նվազեցումները՝ փակագծերում)
B9: բաժին | C9: խումբ | D9: դաս | E9: ծրագիր | F9: միջոցա-ռում | H9: տարի
G10: ԸՆԴԱՄԵՆԸ ԾԱԽՍԵՐ | H10: =H55+H12 -> 0
G11: այդ թվում`
G12: ՀՀ բարձր տեխնոլոգիական արդյունաբերության նախարարություն | H12: -7000000 | I12: -7000000
G13: այդ թվում`
B14: 01 | G14: ԸՆԴՀԱՆՈՒՐ ԲՆՈՒՅԹԻ ՀԱՆՐԱՅԻՆ ԾԱՌԱՅՈՒԹՅՈՒՆՆԵՐ | H14: -3800000 | I14: -3800000
G15: այդ թվում`
C16: 03 | G16: Ընդհանուր բնույթի ծառայություններ | H16: -3800000 | I16: -3800000
G17: այդ թվում`
D18: 02 | G18: Ծրագրման և վիճակագրական ընդհանուր ծառայություններ | H18: -3800000 | I18: -3800000
G19: այդ թվում`
E20: 1043 | G20: Բարձր տեխնոլոգիական արդյունաբերության էկոհամակարգի և շուկայի զարգացման ծրագիր | H20: -3800000 | I20: -3800000
G21: այդ թվում`
F22: 11018 | G22: Պետական աջակցություն տեղեկատվական տեխնոլոգիաների ոլորտում գործունեություն իրականացնող առևտրային կազմակերպություններին և անհատ ձեռնարկատերերին | H22: -3800000 | I22: -3800000
G23: այդ թվում` ըստ կատարողների
G24: ՀՀ բարձր տեխնոլոգիական արդյունաբերության նախարարություն | H24: -3800000 | I24: -3800000
G25: այդ թվում` բյուջետային ծախսերի տնտեսագիտական դասակարգման հոդվածներ
G26: ԸՆԴԱՄԵՆԸ ԾԱԽՍԵՐ | H26: -3800000 | I26: -3800000
G27: ԸՆԹԱՑԻԿ ԾԱԽՍԵՐ | H27: -3800000 | I27: -3800000
G28: ԴՐԱՄԱՇՆՈՐՀՆԵՐ | H28: -3800000 | I28: -3800000
G29: Ընթացիկ դրամաշնորհներ պետական հատվածի այլ մակարդակներին | H29: -3800000 | I29: -3800000
G30: - Այլ ընթացիկ դրամաշնորհներ | H30: -3800000 | I30: -3800000
B31: 02 | G31: ՊԱՇՏՊԱՆՈՒԹՅՈՒՆ | H31: -3200000 | I31: -3200000
G32: այդ թվում`
C33: 04 | G33: Հետազոտական և նախագծային աշխատանքներ պաշտպանության ոլորտում | H33: -3200000 | I33: -3200000
G34: այդ թվում`
D35: 01 | G35: Հետազոտական և նախագծային աշխատանքներ պաշտպանության ոլորտում | H35: -3200000 | I35: -3200000
G36: այդ թվում`
E37: 1220 | G37: Ռազմարդյունաբերության համալիրի զարգացում | H37: -3200000 | I37: -3200000
G38: այդ թվում`
F39: 11001 | G39: Ռազմական նշանակության հատուկ գիտահետազոտական և փորձակոնստրուկտորական աշխատանքներ | H39: -1800000 | I39: -1800000
G40: այդ թվում` ըստ կատարողների
G41: ՀՀ բարձր տեխնոլոգիական արդյունաբերության նախարարություն | H41: -1800000 | I41: -1800000
...

Sheet Հ-5 Ա-7
D1: Հավելված N 3
C2: ՀՀ կառավարության 2025 թվականի
C3: ___________ ___-ի N _______ -Ն որոշման
A5: ՀԱՅԱՍՏԱՆԻ ՀԱՆՐԱՊԵՏՈՒԹՅԱՆ ԿԱՌԱՎԱՐՈՒԹՅԱՆ 2024 ԹՎԱԿԱՆԻ ԴԵԿՏԵՄԲԵՐԻ 27-Ի N 2060-Ն ՈՐՈՇՄԱՆ N 5 ՀԱՎԵԼՎԱԾԻ 7 ԱՂՅՈՒՍԱԿՈՒՄ ԿԱՏԱՐՎՈՂ ՓՈՓՈԽՈՒԹՅՈՒՆՆԵՐԸ
G7: հազար դրամներով
A8: Ծրագրային դասիչ | C8: Բյուջետային հատկացումների գլխավոր կարգադրիչների, ծրագրերի, միջոցառումների, ծախսային ուղղությունների անվանումները | F8: Միջոցառումները կատարող պետական մարմինների և դրամաշնորհ ստացող տնտեսվարող սուբյեկտների անվանումները | G8: Ցուցանիշների փոփոխությունները (նվազեցումները նշված են փակագծերում)
A9: ծրագիր | B9: միջոցառում | G9: տարի
A10: 1 | B10: 2 | C10: 3 | F10: 4 | G10: 5
A11: Ընդամենը | G11: =+G12 -> -3800000
A12: ՀՀ բարձր տեխնոլոգիական արդյունաբերության նախարարություն | G12: =SUM(G13) -> -3800000
A13: 1043 | B13: Բարձր տեխնոլոգիական արդյունաբերության էկոհամակարգի և շուկայի զարգացման ծրագիր | G13: =SUM(G14) -> -3800000
B14: 11018 | C14: Պետական աջակցություն տեղեկատվական տեխնոլոգիաների ոլորտում գործունեություն իրականացնող առևտրային կազմակերպություններին և անհատ ձեռնարկատերերին | F14: ՀՀ բարձր տեխնոլոգիական արդյունաբերության նախարարություն | G14: =G15 -> -3800000
F15: Շահառու կազմակերպություններ | G15: -3800000

Sheet Հ-9
K1: Հավելված N 4
K2: ='Հ-3 և Հ-4'!H2 -> ՀՀ կառավարության 2025 թվականի
K3: ='Հ-3 և Հ-4'!H3 -> ______________ ի N ___ -Ն որոշման
B6: =+'Հ-3 և Հ-4'!B5:H5 -> ՀԱՅԱՍՏԱՆԻ ՀԱՆՐԱՊԵՏՈՒԹՅԱՆ ԿԱՌԱՎԱՐՈՒԹՅԱՆ 2024 ԹՎԱԿԱՆԻ ԴԵԿՏԵՄԲԵՐԻ 27-Ի N 2060-Ն ՈՐՈՇՄԱՆ
B7: N 9 ՀԱՎԵԼՎԱԾՈՒՄ ԿԱՏԱՐՎՈՂ ՓՈՓՈԽՈՒԹՅՈՒՆՆԵՐԸ
K8: հազար դրամ
B9: ԲԳԿ | C9: Ծրագիր | E9: Միջոցառում | I9: Իրականացնողը/ ակտիվն օգտագործողը/ շահառուի ընտրության չափորոշիչը | J9: Արդյունքային չափորոշիչը | K9: Ցուցանիշների փոփոխությունը (ավելացումները նշված են դրական նշանով, իսկ նվազեցումները՝ փակագծերում)
C10: դասիչը | D10: անվա-նումը | E10: դասիչը | F10: անվա-նումը | G10: նկարագրու-թյունը | H10: տեսակը | K10: տարի
B11: ԸՆԴԱՄԵՆԸ | K11: =K29+K12 -> 0
B12: ՀՀ բարձր տեխնոլոգիական արդյունաբերության նախարարություն | K12: =SUM(K13+K18) -> -7000000
C13: 1043 | D13: Բարձր տեխնոլոգիական արդյունաբերության էկոհամակարգի և շուկայի զարգացման ծրագիր | K13: =SUM(K14) -> -3800000
E14: 1043 - 11018 | F14: Պետական աջակցություն տեղեկատվական տեխնոլոգիաների ոլորտում գործունեություն իրականացնող առևտրային կազմակերպություններին և անհատ ձեռնարկատերերին | K14: -3800000
G15: Տեղեկատվական տեխնոլոգիաների ոլորտում գործունեություն իրականացնող առևտրային կազմակերպություններին և անհատ ձեռնարկատերերին պետական աջակցության տրամադրում
H16: Ծառայությունների մատուցում
I17: Ծառայությունը մատուցողի անվանումը` ՀՀ բարձր տեխնոլոգիական արդյունաբերության նախարարություն
C18: 1220 | D18: Ռազմարդյունաբերության համալիրի զարգացում | K18: =K19+K24 -> -3200000
E19: 1220 - 11001 | F19: Ռազմական նշանակության հատուկ գիտահետազոտական և փորձակոնստրուկտորական աշխատանքներ | K19: -1800000
G20: ՀՀ պաշտպանության և անվտանգության համակարգերի ապահովման և նոր նմուշների ստեղծման նպատակով գիտահետազոտական և փորձակոնստրուկտորական աշխատանքների իրականացում
H21: Ծառայությունների մատուցում
I22: Ծառայությունը մատուցողի անվանումը` Մասնագիտացված կազմակերպություն
J23: Նոր կնքվող ԳՀՓԿԱ պայմանագրերի քանակը, հատ | K23: -1
E24: 1220 - 11003 | F24: Փորձանմուշների արտադրություն | K24: -1400000
G25: Զորային և պետական փորձարկումների համար նախատեսված ռազմարդյունաբերական փորձանմուշների համար անհրաժեշտ հումքի, նյութերի, բաղկացուցիչների արտադրության կազմակերպում
H26: Ծառայությունների մատուցում
I27: Ծառայությունը մատուցողի անվանումը` Մասնագիտացված կազմակերպություն
I28: Նախագծերի շրջանակում իրականացվող փորձանոմուշների արտադրություն, քանակը, հատ | K28: -3
B29: ՀՀ պաշտպանության նախարարություն | K29: =K30 -> 7000000
C30: 1169 | D30: ՀՀ պաշտպանության ապահովում | K30: =K31 -> 7000000
E31: 1169 - 11001 | F31: Ռազմական կարիքների բավարարում | K31: =+'Հ-3 և Հ-4'!H65 -> 7000000
G32: Ընթացիկ գործունեության ապահովման գործողություններ
H33: Ծառայությունների մատուցում
I34: Ծառայությունը մատուցողի անվանումը` ՀՀ պաշտպանության նախարարություն

Sheet Հ-9.1
K1: Հավելված N 5
K2: ='Հ-3 և Հ-4'!H2 -> ՀՀ կառավարության 2025 թվականի
K3: ='Հ-3 և Հ-4'!H3 -> ______________ ի N ___ -Ն որոշման
B6: =+'Հ-3 և Հ-4'!B5:H5 -> ՀԱՅԱՍՏԱՆԻ ՀԱՆՐԱՊԵՏՈՒԹՅԱՆ ԿԱՌԱՎԱՐՈՒԹՅԱՆ 2024 ԹՎԱԿԱՆԻ ԴԵԿՏԵՄԲԵՐԻ 27-Ի N 2060-Ն ՈՐՈՇՄԱՆ
B7: N 9.1 ՀԱՎԵԼՎԱԾՈՒՄ ԿԱՏԱՐՎՈՂ ՓՈՓՈԽՈՒԹՅՈՒՆՆԵՐԸ
K8: հազար դրամ
B9: ԲՍԿ | C9: Ծրագիր | E9: Միջոցառում | I9: Իրականացնողը/ ակտիվն օգտագործողը/ շահառուի ընտրության չափորոշիչը | J9: Արդյունքային չափորոշիչը | K9: Ցուցանիշների փոփոխությունը (ավելացումները նշված են դրական նշանով, իսկ նվազեցումները՝ փակագծերում)
C10: դասիչը | D10: անվա-նումը | E10: դասիչը | F10: անվա-նումը | G10: նկարագրու-թյունը | H10: տեսակը | K10: տարի
B11: ԸՆԴԱՄԵՆԸ | K11: =K29+K12 -> 0
B12: ՀՀ բարձր տեխնոլոգիական արդյունաբերության նախարարություն | K12: =SUM(K13+K18) -> -7000000
C13: 1043 | D13: Բարձր տեխնոլոգիական արդյունաբերության էկոհամակարգի և շուկայի զարգացման ծրագիր | K13: =SUM(K14) -> -3800000
E14: 1043 - 11018 | F14: Պետական աջակցություն տեղեկատվական տեխնոլոգիաների ոլորտում գործունեություն իրականացնող առևտրային կազմակերպություններին և անհատ ձեռնարկատերերին | K14: -3800000
G15: Տեղեկատվական տեխնոլոգիաների ոլորտում գործունեություն իրականացնող առևտրային կազմակերպություններին և անհատ ձեռնարկատերերին պետական աջակցության տրամադրում
H16: Ծառայությունների մատուցում
I17: Ծառայությունը մատուցողի անվանումը` ՀՀ բարձր տեխնոլոգիական արդյունաբերության նախարարություն
C18: 1220 | D18: Ռազմարդյունաբերության համալիրի զարգացում | K18: =K19+K24 -> -3200000
E19: 1220 - 11001 | F19: Ռազմական նշանակության հատուկ գիտահետազոտական և փորձակոնստրուկտորական աշխատանքներ | K19: -1800000
G20: ՀՀ պաշտպանության և անվտանգության համակարգերի ապահովման և նոր նմուշների ստեղծման նպատակով գիտահետազոտական և փորձակոնստրուկտորական աշխատանքների իրականացում
H21: Ծառայությունների մատուցում
I22: Ծառայությունը մատուցողի անվանումը` Մասնագիտացված կազմակերպություն
J23: Նոր կնքվող ԳՀՓԿԱ պայմանագրերի քանակը, հատ | K23: -1
E24: 1220 - 11003 | F24: Փորձանմուշների արտադրություն | K24: -1400000
G25: Զորային և պետական փորձարկումների համար նախատեսված ռազմարդյունաբերական փորձանմուշների համար անհրաժեշտ հումքի, նյութերի, բաղկացուցիչների արտադրության կազմակերպում
H26: Ծառայությունների մատուցում
I27: Ծառայությունը մատուցողի անվանումը` Մասնագիտացված կազմակերպություն
I28: Նախագծերի շրջանակում իրականացվող փորձանոմուշների արտադրություն, քանակը, հատ | K28: -3
B29: ՀՀ պաշտպանության նախարարություն | K29: =K30 -> 7000000
C30: 1169 | D30: ՀՀ պաշտպանության ապահովում | K30: =K31 -> 7000000
E31: 1169 - 11001 | F31: Ռազմական կարիքների բավարարում | K31: =+'Հ-3 և Հ-4'!H65 -> 7000000
G32: Ընթացիկ գործունեության ապահովման գործողություններ
H33: Ծառայությունների մատուցում
I34: Ծառայությունը մատուցողի անվանումը` ՀՀ պաշտպանության նախարարություն
